Workbook

Sheet Roster
A1: Team # | B1: Team Name | C1: Points | E1: Results
A2: 1 | B2: Bye #1 | E2: 1 | F2: =Chart!M2 -> WINNER OF TOURNAMENT
A3: 2 | B3: Bye #2 | E3: 2 | F3: =IF(Chart!N20=Chart!M19,Chart!M21,IF(Chart!N21=Chart!M19,Chart!M20,"second place")) -> second place
A4: 3 | B4: Bye #3 | E4: 3 | F4: =IF(Chart!B9=Chart!A8,Chart!A10,IF(Chart!B10=Chart!A8,Chart!A9,"third place")) -> third place
A5: 4 | B5: Bye #4 | E5: 4 | F5: =IF(Chart!D8=Chart!C7,Chart!C9,IF(Chart!D9=Chart!C7,Chart!C8,"fourth place")) -> fourth place
A6: 5 | B6: Bye #5 | E6: 5 – 6 | F6: =IF(Chart!F5=Chart!E4,Chart!E6,IF(Chart!F6=Chart!E4,Chart!E5,"fifth & sixth place")) -> fifth & sixth place
A7: 6 | B7: Bye #6 | E7: 5 – 6 | F7: =IF(Chart!F11=Chart!E10,Chart!E12,IF(Chart!F12=Chart!E10,Chart!E11,"fifth & sixth place")) -> fifth & sixth place
A8: 7 | B8: Bye #7 | E8: 7 – 8 | F8: =IF(Chart!H12=Chart!G11,Chart!G13,IF(Chart!H13=Chart!G11,Chart!G12,"seventh & eighth place")) -> seventh & eighth place
A9: 8 | B9: Bye #8 | E9: 7 – 8 | F9: =IF(Chart!H4=Chart!G3,Chart!G5,IF(Chart!H5=Chart!G3,Chart!G4,"seventh & eighth place")) -> seventh & eighth place

Sheet Chart
A1: 3 rd place | C1: 4 th place | E1: 5 & 6 place | G1: 7 & 8 place | I1: 1 | M1: WINNER
I2: =Roster!B2 -> Bye #1 | M2: =IF(N20=M19,M20,IF(N21=M19,M21,"WINNER OF TOURNAMENT")) -> WINNER OF TOURNAMENT
G3: 5 | I3: =Roster!B9 -> Bye #8 | K3: 7
E4: 9 | G4: =IF(J2=I1,I3,IF(J3=I1,I2,"loser of 1")) -> loser of 1 | K4: =IF(J2=I1,I2,IF(J3=I1,I3,"winner of 1")) -> winner of 1
E5: =IF(H4=G3,G4,IF(H5=G3,G5,"winner of 5")) -> winner of 5 | G5: =IF(J6=I5,I7,IF(J7=I5,I6,"loser of 2")) -> loser of 2 | I5: 2 | K5: =IF(J6=I5,I6,IF(J7=I5,I7,"winner of 2")) -> winner of 2
E6: =IF(L12=K11,K13,IF(L13=K11,K12,"loser of 8")) -> loser of 8 | I6: =Roster!B5 -> Bye #4
C7: 12 | I7: =Roster!B6 -> Bye #5 | M7: 11
A8: 13 | C8: =IF(F5=E4,E5,IF(F6=E4,E6,"winner of 9")) -> winner of 9 | M8: =IF(L4=K3,K4,IF(L5=K3,K5,"winner of 7")) -> winner of 7
A9: =IF(D8=C7,C8,IF(D9=C7,C9,"winner of 12")) -> winner of 12 | C9: =IF(F11=E10,E11,IF(F12=E10,E12,"winner of 10")) -> winner of 10 | I9: 3 | M9: =IF(L12=K11,K12,IF(L13=K11,K13,"winner of 8")) -> winner of 8
A10: =IF(N8=M7,M9,IF(N9=M7,M8,"loser of 11")) -> loser of 11 | E10: 10 | I10: =Roster!B4 -> Bye #3
E11: =IF(H12=G11,G12,IF(H13=G11,G13,"winner of 6")) -> winner of 6 | G11: 6 | I11: =Roster!B7 -> Bye #6 | K11: 8
E12: =IF(L4=K3,K5,IF(L5=K3,K4,"loser of 7")) -> loser of 7 | G12: =IF(J10=I9,I11,IF(J11=I9,I10,"loser of 3")) -> loser of 3 | K12: =IF(J10=I9,I10,IF(J11=I9,I11,"winner of 3")) -> winner of 3
G13: =IF(J14=I13,I15,IF(J15=I13,I14,"loser of 4")) -> loser of 4 | I13: 4 | K13: =IF(J14=I13,I14,IF(J15=I13,I15,"winner of 4")) -> winner of 4
I14: =Roster!B3 -> Bye #2
I15: =Roster!B8 -> Bye #7
M18: FINALS
M19: 14
M20: =IF(N8=M7,M8,IF(N9=M7,M9,"winner of 11")) -> winner of 11
M21: =IF(B9=A8,A9,IF(B10=A8,A10,"winner of 13")) -> winner of 13

Sheet Info
B4: 8 team chart – double elimination
B5: For 5-8 teams
B6: Use sheet tabs to navigate to Roster.
B7: Enter team/individual names under team name beginning with team #1.
B8: Points are optional.
B9: After all teams are entered, switch to chart tab.
B10: Match numbers are listed above each match.
B11: It's not necessary to play each match in order, but it helps to run more smoothly.
B12: Enter results of match by entering the match number in the yellow cell to the right of the match winner.
