Workbook

Sheet Setup
A2: Bracket Setup
A5: Rank | B5: 1st Division | D5: How to Use: Enter up to 8 teams per division in the bracket setup area to the left. Make sure to enter teams by rank so they will display correctly on the bracket. Enter scores in the gray boxes on the bracket sheet and it will automatically update the winner
A6: 1 | B6: -
A7: 2 | B7: - | D7: On the bracket sheet, enter the team score into the gray boxes and the bracket will update automatically based on the winner
A8: 3 | B8: -
A9: 4 | B9: -
A10: 5 | B10: -
A11: 6 | B11: -
A12: 7 | B12: -
A13: 8 | B13: -
A15: Rank | B15: 2nd Division
A16: 1 | B16: -
A17: 2 | B17: -
A18: 3 | B18: -
A19: 4 | B19: -
A20: 5 | B20: -
A21: 6 | B21: -
A22: 7 | B22: -
A23: 8 | B23: -

Sheet Bracket
A1: =Setup!B5 -> 1st Division
B2: =""&Setup!A6&" "&Setup!B6&"" -> 1 - | D2: 0
E3: =IF(D2>D4,+(B2),IF(D4>D2,+(B4),"-")) -> - | G3: 0
B4: =""&Setup!A13&" "&Setup!B13&"" -> 8 - | D4: 0
H5: =IF(G3>G7,+(E3),IF(G7>G3,+(E7),"-")) -> - | J5: 0
B6: =""&Setup!A7&" "&Setup!B7&"" -> 2 - | D6: 0
E7: =IF(D6>D8,+(B6),IF(D8>D6,+(B8),"-")) -> - | G7: 0
B8: =""&Setup!A12&" "&Setup!B12&"" -> 7 - | D8: 0
K9: =IF(J5>J13,+(H5),IF(J13>J5,+(H13),"-")) -> - | M9: 0
B10: =""&Setup!A8&" "&Setup!B8&"" -> 3 - | D10: 0
E11: =IF(D10>D12,+(B10),IF(D12>D10,+(B12),"-")) -> - | G11: 0
B12: =""&Setup!A11&" "&Setup!B11&"" -> 6 - | D12: 0
H13: =IF(G11>G15,+(E11),IF(G15>G11,+(E15),"-")) -> - | J13: 0
B14: =""&Setup!A9&" "&Setup!B9&"" -> 4 - | D14: 0
E15: =IF(D14>D16,+(B14),IF(D16>D14,+(B16),"-")) -> - | G15: 0
B16: =""&Setup!A10&" "&Setup!B10&"" -> 5 - | D16: 0
N18: Champion
N19: =IF(M9>M29,+(K9),IF(M29>M9,+(K29),"-")) -> -
A21: =Setup!B15 -> 2nd Division
B22: =""&Setup!A16&" "&Setup!B16&"" -> 1 - | D22: 0
E23: =IF(D22>D24,+(B22),IF(D24>D22,+(B24),"-")) -> - | G23: 0
B24: =""&Setup!A23&" "&Setup!B23&"" -> 8 - | D24: 0
H25: =IF(G23>G27,+(E23),IF(G27>G23,+(E27),"-")) -> - | J25: 0
B26: =""&Setup!A17&" "&Setup!B17&"" -> 2 - | D26: 0
E27: =IF(D26>D28,+(B26),IF(D28>D26,+(B28),"-")) -> - | G27: 0
B28: =""&Setup!A22&" "&Setup!B22&"" -> 7 - | D28: 0
K29: =IF(J25>J33,+(H25),IF(J33>J25,+(H33),"-")) -> - | M29: 0
B30: =""&Setup!A18&" "&Setup!B18&"" -> 3 - | D30: 0
E31: =IF(D30>D32,+(B30),IF(D32>D30,+(B32),"-")) -> - | G31: 0
B32: =""&Setup!A21&" "&Setup!B21&"" -> 6 - | D32: 0
H33: =IF(G31>G35,+(E31),IF(G35>G31,+(E35),"-")) -> - | J33: 0
B34: =""&Setup!A19&" "&Setup!B19&"" -> 4 - | D34: 0
E35: =IF(D34>D36,+(B34),IF(D36>D34,+(B36),"-")) -> - | G35: 0
B36: =""&Setup!A20&" "&Setup!B20&"" -> 5 - | D36: 0
