Workbook

Sheet Year
A1: 2009 | Y1: <--- Change year in A1 for different year.
A2: =DATE($A$1,1,1) -> 39814 | I2: =DATE($A$1,2,1) -> 39845 | Q2: =DATE($A$1,3,1) -> 39873
A3: Sun | B3: Mon | C3: Tue | D3: Wed | E3: Thu | F3: Fri | G3: Sat | I3: Sun | J3: Mon | K3: Tue | L3: Wed | M3: Thu | N3: Fri | O3: Sat | Q3: Sun | R3: Mon | S3: Tue | T3: Wed | U3: Thu | V3: Fri | W3: Sat | Y3: ="Today"&T(_xlfn.ORG.OPENOFFICE.STYLE("Blue")) -> Today | Z3: =TODAY()+_xlfn.ORG.OPENOFFICE.STYLE("Blue") -> 45173
A4: =IF(WEEKDAY(A2)=1,A2+_xlfn.ORG.OPENOFFICE.STYLE(IF(NOT(ISNA(MATCH(_xlfn.ORG.OPENOFFICE.CURRENT(),Holidays!$E$3:$E$33,0))),"Green",IF(NOT(ISNA(MATCH(_xlfn.ORG.OPENOFFICE.CURRENT(),Holidays!$G$3:$G$33,0))),"Magenta","Default"))),""&T(_xlfn.ORG.OPENOFFICE.STYLE("Default"))) | B4: =IF(WEEKDAY(A2)<=2,A2+2-WEEKDAY(A2)+_xlfn.ORG.OPENOFFICE.STYLE(IF(NOT(ISNA(MATCH(_xlfn.ORG.OPENOFFICE.CURRENT(),Holidays!$E$3:$E$33,0))),"Green",IF(NOT(ISNA(MATCH(_xlfn.ORG.OPENOFFICE.CURRENT(),Holidays!$G$3:$G$33,0))),"Magenta","Default"))),""&T(_xlfn.ORG.OPENOFFICE.STYLE("Default"))) | C4: =IF(WEEKDAY(A2)<=3,A2+3-WEEKDAY(A2)+_xlfn.ORG.OPENOFFICE.STYLE(IF(NOT(ISNA(MATCH(_xlfn.ORG.OPENOFFICE.CURRENT(),Holidays!$E$3:$E$33,0))),"Green",IF(NOT(ISNA(MATCH(_xlfn.ORG.OPENOFFICE.CURRENT(),Holidays!$G$3:$G$33,0))),"Magenta","Default"))),""&T(_xlfn.ORG.OPENOFFICE.STYLE("Default"))) | D4: =IF(WEEKDAY(A2)<=4,A2+4-WEEKDAY(A2)+_xlfn.ORG.OPENOFFICE.STYLE(IF(NOT(ISNA(MATCH(_xlfn.ORG.OPENOFFICE.CURRENT(),Holidays!$E$3:$E$33,0))),"Green",IF(NOT(ISNA(MATCH(_xlfn.ORG.OPENOFFICE.CURRENT(),Holidays!$G$3:$G$33,0))),"Magenta","Default"))),""&T(_xlfn.ORG.OPENOFFICE.STYLE("Default"))) | E4: =IF(WEEKDAY(A2)<=5,A2+5-WEEKDAY(A2)+_xlfn.ORG.OPENOFFICE.STYLE(IF(NOT(ISNA(MATCH(_xlfn.ORG.OPENOFFICE.CURRENT(),Holidays!$E$3:$E$33,0))),"Green",IF(NOT(ISNA(MATCH(_xlfn.ORG.OPENOFFICE.CURRENT(),Holidays!$G$3:$G$33,0))),"Magenta","Default"))),""&T(_xlfn.ORG.OPENOFFICE.STYLE("Default"))) -> 39814 | F4: =IF(WEEKDAY(A2)<=6,A2+6-WEEKDAY(A2)+_xlfn.ORG.OPENOFFICE.STYLE(IF(NOT(ISNA(MATCH(_xlfn.ORG.OPENOFFICE.CURRENT(),Holidays!$E$3:$E$33,0))),"Green",IF(NOT(ISNA(MATCH(_xlfn.ORG.OPENOFFICE.CURRENT(),Holidays!$G$3:$G$33,0))),"Magenta","Default"))),""&T(_xlfn.ORG.OPENOFFICE.STYLE("Default"))) -> 39815 | G4: =IF(WEEKDAY(A2)<=7,A2+7-WEEKDAY(A2)+_xlfn.ORG.OPENOFFICE.STYLE(IF(NOT(ISNA(MATCH(_xlfn.ORG.OPENOFFICE.CURRENT(),Holidays!$E$3:$E$33,0))),"Green",IF(NOT(ISNA(MATCH(_xlfn.ORG.OPENOFFICE.CURRENT(),Holidays!$G$3:$G$33,0))),"Magenta","Default"))),""&T(_xlfn.ORG.OPENOFFICE.STYLE("Default"))) -> 39816 | I4: =IF(WEEKDAY(I2)=1,I2+_xlfn.ORG.OPENOFFICE.STYLE(IF(NOT(ISNA(MATCH(_xlfn.ORG.OPENOFFICE.CURRENT(),Holidays!$E$3:$E$33,0))),"Green",IF(NOT(ISNA(MATCH(_xlfn.ORG.OPENOFFICE.CURRENT(),Holidays!$G$3:$G$33,0))),"Magenta","Default"))),""&T(_xlfn.ORG.OPENOFFICE.STYLE("Default"))) -> 39845 | J4: =IF(WEEKDAY(I2)<=2,I2+2-WEEKDAY(I2)+_xlfn.ORG.OPENOFFICE.STYLE(IF(NOT(ISNA(MATCH(_xlfn.ORG.OPENOFFICE.CURRENT(),Holidays!$E$3:$E$33,0))),"Green",IF(NOT(ISNA(MATCH(_xlfn.ORG.OPENOFFICE.CURRENT(),Holidays!$G$3:$G$33,0))),"Magenta","Default"))),""&T(_xlfn.ORG.OPENOFFICE.STYLE("Default"))) -> 39846 | K4: =IF(WEEKDAY(I2)<=3,I2+3-WEEKDAY(I2)+_xlfn.ORG.OPENOFFICE.STYLE(IF(NOT(ISNA(MATCH(_xlfn.ORG.OPENOFFICE.CURRENT(),Holidays!$E$3:$E$33,0))),"Green",IF(NOT(ISNA(MATCH(_xlfn.ORG.OPENOFFICE.CURRENT(),Holidays!$G$3:$G$33,0))),"Magenta","Default"))),""&T(_xlfn.ORG.OPENOFFICE.STYLE("Default"))) -> 39847 | L4: =IF(WEEKDAY(I2)<=4,I2+4-WEEKDAY(I2)+_xlfn.ORG.OPENOFFICE.STYLE(IF(NOT(ISNA(MATCH(_xlfn.ORG.OPENOFFICE.CURRENT(),Holidays!$E$3:$E$33,0))),"Green",IF(NOT(ISNA(MATCH(_xlfn.ORG.OPENOFFICE.CURRENT(),Holidays!$G$3:$G$33,0))),"Magenta","Default"))),""&T(_xlfn.ORG.OPENOFFICE.STYLE("Default"))) -> 39848 | M4: =IF(WEEKDAY(I2)<=5,I2+5-WEEKDAY(I2)+_xlfn.ORG.OPENOFFICE.STYLE(IF(NOT(ISNA(MATCH(_xlfn.ORG.OPENOFFICE.CURRENT(),Holidays!$E$3:$E$33,0))),"Green",IF(NOT(ISNA(MATCH(_xlfn.ORG.OPENOFFICE.CURRENT(),Holidays!$G$3:$G$33,0))),"Magenta","Default"))),""&T(_xlfn.ORG.OPENOFFICE.STYLE("Default"))) -> 39849 | N4: =IF(WEEKDAY(I2)<=6,I2+6-WEEKDAY(I2)+_xlfn.ORG.OPENOFFICE.STYLE(IF(NOT(ISNA(MATCH(_xlfn.ORG.OPENOFFICE.CURRENT(),Holidays!$E$3:$E$33,0))),"Green",IF(NOT(ISNA(MATCH(_xlfn.ORG.OPENOFFICE.CURRENT(),Holidays!$G$3:$G$33,0))),"Magenta","Default"))),""&T(_xlfn.ORG.OPENOFFICE.STYLE("Default"))) -> 39850 | O4: =IF(WEEKDAY(I2)<=7,I2+7-WEEKDAY(I2)+_xlfn.ORG.OPENOFFICE.STYLE(IF(NOT(ISNA(MATCH(_xlfn.ORG.OPENOFFICE.CURRENT(),Holidays!$E$3:$E$33,0))),"Green",IF(NOT(ISNA(MATCH(_xlfn.ORG.OPENOFFICE.CURRENT(),Holidays!$G$3:$G$33,0))),"Magenta","Default"))),""&T(_xlfn.ORG.OPENOFFICE.STYLE("Default"))) -> 39851 | Q4: =IF(WEEKDAY(Q2)=1,Q2+_xlfn.ORG.OPENOFFICE.STYLE(IF(NOT(ISNA(MATCH(_xlfn.ORG.OPENOFFICE.CURRENT(),Holidays!$E$3:$E$33,0))),"Green",IF(NOT(ISNA(MATCH(_xlfn.ORG.OPENOFFICE.CURRENT(),Holidays!$G$3:$G$33,0))),"Magenta","Default"))),""&T(_xlfn.ORG.OPENOFFICE.STYLE("Default"))) -> 39873 | R4: =IF(WEEKDAY(Q2)<=2,Q2+2-WEEKDAY(Q2)+_xlfn.ORG.OPENOFFICE.STYLE(IF(NOT(ISNA(MATCH(_xlfn.ORG.OPENOFFICE.CURRENT(),Holidays!$E$3:$E$33,0))),"Green",IF(NOT(ISNA(MATCH(_xlfn.ORG.OPENOFFICE.CURRENT(),Holidays!$G$3:$G$33,0))),"Magenta","Default"))),""&T(_xlfn.ORG.OPENOFFICE.STYLE("Default"))) -> 39874 | S4: =IF(WEEKDAY(Q2)<=3,Q2+3-WEEKDAY(Q2)+_xlfn.ORG.OPENOFFICE.STYLE(IF(NOT(ISNA(MATCH(_xlfn.ORG.OPENOFFICE.CURRENT(),Holidays!$E$3:$E$33,0))),"Green",IF(NOT(ISNA(MATCH(_xlfn.ORG.OPENOFFICE.CURRENT(),Holidays!$G$3:$G$33,0))),"Magenta","Default"))),""&T(_xlfn.ORG.OPENOFFICE.STYLE("Default"))) -> 39875 | T4: =IF(WEEKDAY(Q2)<=4,Q2+4-WEEKDAY(Q2)+_xlfn.ORG.OPENOFFICE.STYLE(IF(NOT(ISNA(MATCH(_xlfn.ORG.OPENOFFICE.CURRENT(),Holidays!$E$3:$E$33,0))),"Green",IF(NOT(ISNA(MATCH(_xlfn.ORG.OPENOFFICE.CURRENT(),Holidays!$G$3:$G$33,0))),"Magenta","Default"))),""&T(_xlfn.ORG.OPENOFFICE.STYLE("Default"))) -> 39876 | U4: =IF(WEEKDAY(Q2)<=5,Q2+5-WEEKDAY(Q2)+_xlfn.ORG.OPENOFFICE.STYLE(IF(NOT(ISNA(MATCH(_xlfn.ORG.OPENOFFICE.CURRENT(),Holidays!$E$3:$E$33,0))),"Green",IF(NOT(ISNA(MATCH(_xlfn.ORG.OPENOFFICE.CURRENT(),Holidays!$G$3:$G$33,0))),"Magenta","Default"))),""&T(_xlfn.ORG.OPENOFFICE.STYLE("Default"))) -> 39877 | V4: =IF(WEEKDAY(Q2)<=6,Q2+6-WEEKDAY(Q2)+_xlfn.ORG.OPENOFFICE.STYLE(IF(NOT(ISNA(MATCH(_xlfn.ORG.OPENOFFICE.CURRENT(),Holidays!$E$3:$E$33,0))),"Green",IF(NOT(ISNA(MATCH(_xlfn.ORG.OPENOFFICE.CURRENT(),Holidays!$G$3:$G$33,0))),"Magenta","Default"))),""&T(_xlfn.ORG.OPENOFFICE.STYLE("Default"))) -> 39878 | W4: =IF(WEEKDAY(Q2)<=7,Q2+7-WEEKDAY(Q2)+_xlfn.ORG.OPENOFFICE.STYLE(IF(NOT(ISNA(MATCH(_xlfn.ORG.OPENOFFICE.CURRENT(),Holidays!$E$3:$E$33,0))),"Green",IF(NOT(ISNA(MATCH(_xlfn.ORG.OPENOFFICE.CURRENT(),Holidays!$G$3:$G$33,0))),"Magenta","Default"))),""&T(_xlfn.ORG.OPENOFFICE.STYLE("Default"))) -> 39879
A5: =G4+1+_xlfn.ORG.OPENOFFICE.STYLE(IF(NOT(ISNA(MATCH(_xlfn.ORG.OPENOFFICE.CURRENT(),Holidays!$E$3:$E$33,0))),"Green",IF(NOT(ISNA(MATCH(_xlfn.ORG.OPENOFFICE.CURRENT(),Holidays!$G$3:$G$33,0))),"Magenta","Default"))) -> 39817 | B5: =A5+1+_xlfn.ORG.OPENOFFICE.STYLE(IF(NOT(ISNA(MATCH(_xlfn.ORG.OPENOFFICE.CURRENT(),Holidays!$E$3:$E$33,0))),"Green",IF(NOT(ISNA(MATCH(_xlfn.ORG.OPENOFFICE.CURRENT(),Holidays!$G$3:$G$33,0))),"Magenta","Default"))) -> 39818 | C5: =B5+1+_xlfn.ORG.OPENOFFICE.STYLE(IF(NOT(ISNA(MATCH(_xlfn.ORG.OPENOFFICE.CURRENT(),Holidays!$E$3:$E$33,0))),"Green",IF(NOT(ISNA(MATCH(_xlfn.ORG.OPENOFFICE.CURRENT(),Holidays!$G$3:$G$33,0))),"Magenta","Default"))) -> 39819 | D5: =C5+1+_xlfn.ORG.OPENOFFICE.STYLE(IF(NOT(ISNA(MATCH(_xlfn.ORG.OPENOFFICE.CURRENT(),Holidays!$E$3:$E$33,0))),"Green",IF(NOT(ISNA(MATCH(_xlfn.ORG.OPENOFFICE.CURRENT(),Holidays!$G$3:$G$33,0))),"Magenta","Default"))) -> 39820 | E5: =D5+1+_xlfn.ORG.OPENOFFICE.STYLE(IF(NOT(ISNA(MATCH(_xlfn.ORG.OPENOFFICE.CURRENT(),Holidays!$E$3:$E$33,0))),"Green",IF(NOT(ISNA(MATCH(_xlfn.ORG.OPENOFFICE.CURRENT(),Holidays!$G$3:$G$33,0))),"Magenta","Default"))) -> 39821 | F5: =E5+1+_xlfn.ORG.OPENOFFICE.STYLE(IF(NOT(ISNA(MATCH(_xlfn.ORG.OPENOFFICE.CURRENT(),Holidays!$E$3:$E$33,0))),"Green",IF(NOT(ISNA(MATCH(_xlfn.ORG.OPENOFFICE.CURRENT(),Holidays!$G$3:$G$33,0))),"Magenta","Default"))) -> 39822 | G5: =F5+1+_xlfn.ORG.OPENOFFICE.STYLE(IF(NOT(ISNA(MATCH(_xlfn.ORG.OPENOFFICE.CURRENT(),Holidays!$E$3:$E$33,0))),"Green",IF(NOT(ISNA(MATCH(_xlfn.ORG.OPENOFFICE.CURRENT(),Holidays!$G$3:$G$33,0))),"Magenta","Default"))) -> 39823 | I5: =O4+1+_xlfn.ORG.OPENOFFICE.STYLE(IF(NOT(ISNA(MATCH(_xlfn.ORG.OPENOFFICE.CURRENT(),Holidays!$E$3:$E$33,0))),"Green",IF(NOT(ISNA(MATCH(_xlfn.ORG.OPENOFFICE.CURRENT(),Holidays!$G$3:$G$33,0))),"Magenta","Default"))) -> 39852 | J5: =I5+1+_xlfn.ORG.OPENOFFICE.STYLE(IF(NOT(ISNA(MATCH(_xlfn.ORG.OPENOFFICE.CURRENT(),Holidays!$E$3:$E$33,0))),"Green",IF(NOT(ISNA(MATCH(_xlfn.ORG.OPENOFFICE.CURRENT(),Holidays!$G$3:$G$33,0))),"Magenta","Default"))) -> 39853 | K5: =J5+1+_xlfn.ORG.OPENOFFICE.STYLE(IF(NOT(ISNA(MATCH(_xlfn.ORG.OPENOFFICE.CURRENT(),Holidays!$E$3:$E$33,0))),"Green",IF(NOT(ISNA(MATCH(_xlfn.ORG.OPENOFFICE.CURRENT(),Holidays!$G$3:$G$33,0))),"Magenta","Default"))) -> 39854 | L5: =K5+1+_xlfn.ORG.OPENOFFICE.STYLE(IF(NOT(ISNA(MATCH(_xlfn.ORG.OPENOFFICE.CURRENT(),Holidays!$E$3:$E$33,0))),"Green",IF(NOT(ISNA(MATCH(_xlfn.ORG.OPENOFFICE.CURRENT(),Holidays!$G$3:$G$33,0))),"Magenta","Default"))) -> 39855 | M5: =L5+1+_xlfn.ORG.OPENOFFICE.STYLE(IF(NOT(ISNA(MATCH(_xlfn.ORG.OPENOFFICE.CURRENT(),Holidays!$E$3:$E$33,0))),"Green",IF(NOT(ISNA(MATCH(_xlfn.ORG.OPENOFFICE.CURRENT(),Holidays!$G$3:$G$33,0))),"Magenta","Default"))) -> 39856 | N5: =M5+1+_xlfn.ORG.OPENOFFICE.STYLE(IF(NOT(ISNA(MATCH(_xlfn.ORG.OPENOFFICE.CURRENT(),Holidays!$E$3:$E$33,0))),"Green",IF(NOT(ISNA(MATCH(_xlfn.ORG.OPENOFFICE.CURRENT(),Holidays!$G$3:$G$33,0))),"Magenta","Default"))) -> 39857 | O5: =N5+1+_xlfn.ORG.OPENOFFICE.STYLE(IF(NOT(ISNA(MATCH(_xlfn.ORG.OPENOFFICE.CURRENT(),Holidays!$E$3:$E$33,0))),"Green",IF(NOT(ISNA(MATCH(_xlfn.ORG.OPENOFFICE.CURRENT(),Holidays!$G$3:$G$33,0))),"Magenta","Default"))) -> 39858 | Q5: =W4+1+_xlfn.ORG.OPENOFFICE.STYLE(IF(NOT(ISNA(MATCH(_xlfn.ORG.OPENOFFICE.CURRENT(),Holidays!$E$3:$E$33,0))),"Green",IF(NOT(ISNA(MATCH(_xlfn.ORG.OPENOFFICE.CURRENT(),Holidays!$G$3:$G$33,0))),"Magenta","Default"))) -> 39880 | R5: =Q5+1+_xlfn.ORG.OPENOFFICE.STYLE(IF(NOT(ISNA(MATCH(_xlfn.ORG.OPENOFFICE.CURRENT(),Holidays!$E$3:$E$33,0))),"Green",IF(NOT(ISNA(MATCH(_xlfn.ORG.OPENOFFICE.CURRENT(),Holidays!$G$3:$G$33,0))),"Magenta","Default"))) -> 39881 | S5: =R5+1+_xlfn.ORG.OPENOFFICE.STYLE(IF(NOT(ISNA(MATCH(_xlfn.ORG.OPENOFFICE.CURRENT(),Holidays!$E$3:$E$33,0))),"Green",IF(NOT(ISNA(MATCH(_xlfn.ORG.OPENOFFICE.CURRENT(),Holidays!$G$3:$G$33,0))),"Magenta","Default"))) -> 39882 | T5: =S5+1+_xlfn.ORG.OPENOFFICE.STYLE(IF(NOT(ISNA(MATCH(_xlfn.ORG.OPENOFFICE.CURRENT(),Holidays!$E$3:$E$33,0))),"Green",IF(NOT(ISNA(MATCH(_xlfn.ORG.OPENOFFICE.CURRENT(),Holidays!$G$3:$G$33,0))),"Magenta","Default"))) -> 39883 | U5: =T5+1+_xlfn.ORG.OPENOFFICE.STYLE(IF(NOT(ISNA(MATCH(_xlfn.ORG.OPENOFFICE.CURRENT(),Holidays!$E$3:$E$33,0))),"Green",IF(NOT(ISNA(MATCH(_xlfn.ORG.OPENOFFICE.CURRENT(),Holidays!$G$3:$G$33,0))),"Magenta","Default"))) -> 39884 | V5: =U5+1+_xlfn.ORG.OPENOFFICE.STYLE(IF(NOT(ISNA(MATCH(_xlfn.ORG.OPENOFFICE.CURRENT(),Holidays!$E$3:$E$33,0))),"Green",IF(NOT(ISNA(MATCH(_xlfn.ORG.OPENOFFICE.CURRENT(),Holidays!$G$3:$G$33,0))),"Magenta","Default"))) -> 39885 | W5: =V5+1+_xlfn.ORG.OPENOFFICE.STYLE(IF(NOT(ISNA(MATCH(_xlfn.ORG.OPENOFFICE.CURRENT(),Holidays!$E$3:$E$33,0))),"Green",IF(NOT(ISNA(MATCH(_xlfn.ORG.OPENOFFICE.CURRENT(),Holidays!$G$3:$G$33,0))),"Magenta","Default"))) -> 39886 | Y5: =Holidays!$A$2 -> Appointments | Z5: =IF(NOT(ISNA(VLOOKUP(TODAY(),Holidays!$A$3:$B$33,2,0))),VLOOKUP(TODAY(),Holidays!$A$3:$B$33,2,0)&T(_xlfn.ORG.OPENOFFICE.STYLE("Red")),T(_xlfn.ORG.OPENOFFICE.STYLE("Default")))
A6: =G5+1+_xlfn.ORG.OPENOFFICE.STYLE(IF(NOT(ISNA(MATCH(_xlfn.ORG.OPENOFFICE.CURRENT(),Holidays!$E$3:$E$33,0))),"Green",IF(NOT(ISNA(MATCH(_xlfn.ORG.OPENOFFICE.CURRENT(),Holidays!$G$3:$G$33,0))),"Magenta","Default"))) -> 39824 | B6: =A6+1+_xlfn.ORG.OPENOFFICE.STYLE(IF(NOT(ISNA(MATCH(_xlfn.ORG.OPENOFFICE.CURRENT(),Holidays!$E$3:$E$33,0))),"Green",IF(NOT(ISNA(MATCH(_xlfn.ORG.OPENOFFICE.CURRENT(),Holidays!$G$3:$G$33,0))),"Magenta","Default"))) -> 39825 | C6: =B6+1+_xlfn.ORG.OPENOFFICE.STYLE(IF(NOT(ISNA(MATCH(_xlfn.ORG.OPENOFFICE.CURRENT(),Holidays!$E$3:$E$33,0))),"Green",IF(NOT(ISNA(MATCH(_xlfn.ORG.OPENOFFICE.CURRENT(),Holidays!$G$3:$G$33,0))),"Magenta","Default"))) -> 39826 | D6: =C6+1+_xlfn.ORG.OPENOFFICE.STYLE(IF(NOT(ISNA(MATCH(_xlfn.ORG.OPENOFFICE.CURRENT(),Holidays!$E$3:$E$33,0))),"Green",IF(NOT(ISNA(MATCH(_xlfn.ORG.OPENOFFICE.CURRENT(),Holidays!$G$3:$G$33,0))),"Magenta","Default"))) -> 39827 | E6: =D6+1+_xlfn.ORG.OPENOFFICE.STYLE(IF(NOT(ISNA(MATCH(_xlfn.ORG.OPENOFFICE.CURRENT(),Holidays!$E$3:$E$33,0))),"Green",IF(NOT(ISNA(MATCH(_xlfn.ORG.OPENOFFICE.CURRENT(),Holidays!$G$3:$G$33,0))),"Magenta","Default"))) -> 39828 | F6: =E6+1+_xlfn.ORG.OPENOFFICE.STYLE(IF(NOT(ISNA(MATCH(_xlfn.ORG.OPENOFFICE.CURRENT(),Holidays!$E$3:$E$33,0))),"Green",IF(NOT(ISNA(MATCH(_xlfn.ORG.OPENOFFICE.CURRENT(),Holidays!$G$3:$G$33,0))),"Magenta","Default"))) -> 39829 | G6: =F6+1+_xlfn.ORG.OPENOFFICE.STYLE(IF(NOT(ISNA(MATCH(_xlfn.ORG.OPENOFFICE.CURRENT(),Holidays!$E$3:$E$33,0))),"Green",IF(NOT(ISNA(MATCH(_xlfn.ORG.OPENOFFICE.CURRENT(),Holidays!$G$3:$G$33,0))),"Magenta","Default"))) -> 39830 | I6: =O5+1+_xlfn.ORG.OPENOFFICE.STYLE(IF(NOT(ISNA(MATCH(_xlfn.ORG.OPENOFFICE.CURRENT(),Holidays!$E$3:$E$33,0))),"Green",IF(NOT(ISNA(MATCH(_xlfn.ORG.OPENOFFICE.CURRENT(),Holidays!$G$3:$G$33,0))),"Magenta","Default"))) -> 39859 | J6: =I6+1+_xlfn.ORG.OPENOFFICE.STYLE(IF(NOT(ISNA(MATCH(_xlfn.ORG.OPENOFFICE.CURRENT(),Holidays!$E$3:$E$33,0))),"Green",IF(NOT(ISNA(MATCH(_xlfn.ORG.OPENOFFICE.CURRENT(),Holidays!$G$3:$G$33,0))),"Magenta","Default"))) -> 39860 | K6: =J6+1+_xlfn.ORG.OPENOFFICE.STYLE(IF(NOT(ISNA(MATCH(_xlfn.ORG.OPENOFFICE.CURRENT(),Holidays!$E$3:$E$33,0))),"Green",IF(NOT(ISNA(MATCH(_xlfn.ORG.OPENOFFICE.CURRENT(),Holidays!$G$3:$G$33,0))),"Magenta","Default"))) -> 39861 | L6: =K6+1+_xlfn.ORG.OPENOFFICE.STYLE(IF(NOT(ISNA(MATCH(_xlfn.ORG.OPENOFFICE.CURRENT(),Holidays!$E$3:$E$33,0))),"Green",IF(NOT(ISNA(MATCH(_xlfn.ORG.OPENOFFICE.CURRENT(),Holidays!$G$3:$G$33,0))),"Magenta","Default"))) -> 39862 | M6: =L6+1+_xlfn.ORG.OPENOFFICE.STYLE(IF(NOT(ISNA(MATCH(_xlfn.ORG.OPENOFFICE.CURRENT(),Holidays!$E$3:$E$33,0))),"Green",IF(NOT(ISNA(MATCH(_xlfn.ORG.OPENOFFICE.CURRENT(),Holidays!$G$3:$G$33,0))),"Magenta","Default"))) -> 39863 | N6: =M6+1+_xlfn.ORG.OPENOFFICE.STYLE(IF(NOT(ISNA(MATCH(_xlfn.ORG.OPENOFFICE.CURRENT(),Holidays!$E$3:$E$33,0))),"Green",IF(NOT(ISNA(MATCH(_xlfn.ORG.OPENOFFICE.CURRENT(),Holidays!$G$3:$G$33,0))),"Magenta","Default"))) -> 39864 | O6: =N6+1+_xlfn.ORG.OPENOFFICE.STYLE(IF(NOT(ISNA(MATCH(_xlfn.ORG.OPENOFFICE.CURRENT(),Holidays!$E$3:$E$33,0))),"Green",IF(NOT(ISNA(MATCH(_xlfn.ORG.OPENOFFICE.CURRENT(),Holidays!$G$3:$G$33,0))),"Magenta","Default"))) -> 39865 | Q6: =W5+1+_xlfn.ORG.OPENOFFICE.STYLE(IF(NOT(ISNA(MATCH(_xlfn.ORG.OPENOFFICE.CURRENT(),Holidays!$E$3:$E$33,0))),"Green",IF(NOT(ISNA(MATCH(_xlfn.ORG.OPENOFFICE.CURRENT(),Holidays!$G$3:$G$33,0))),"Magenta","Default"))) -> 39887 | R6: =Q6+1+_xlfn.ORG.OPENOFFICE.STYLE(IF(NOT(ISNA(MATCH(_xlfn.ORG.OPENOFFICE.CURRENT(),Holidays!$E$3:$E$33,0))),"Green",IF(NOT(ISNA(MATCH(_xlfn.ORG.OPENOFFICE.CURRENT(),Holidays!$G$3:$G$33,0))),"Magenta","Default"))) -> 39888 | S6: =R6+1+_xlfn.ORG.OPENOFFICE.STYLE(IF(NOT(ISNA(MATCH(_xlfn.ORG.OPENOFFICE.CURRENT(),Holidays!$E$3:$E$33,0))),"Green",IF(NOT(ISNA(MATCH(_xlfn.ORG.OPENOFFICE.CURRENT(),Holidays!$G$3:$G$33,0))),"Magenta","Default"))) -> 39889 | T6: =S6+1+_xlfn.ORG.OPENOFFICE.STYLE(IF(NOT(ISNA(MATCH(_xlfn.ORG.OPENOFFICE.CURRENT(),Holidays!$E$3:$E$33,0))),"Green",IF(NOT(ISNA(MATCH(_xlfn.ORG.OPENOFFICE.CURRENT(),Holidays!$G$3:$G$33,0))),"Magenta","Default"))) -> 39890 | U6: =T6+1+_xlfn.ORG.OPENOFFICE.STYLE(IF(NOT(ISNA(MATCH(_xlfn.ORG.OPENOFFICE.CURRENT(),Holidays!$E$3:$E$33,0))),"Green",IF(NOT(ISNA(MATCH(_xlfn.ORG.OPENOFFICE.CURRENT(),Holidays!$G$3:$G$33,0))),"Magenta","Default"))) -> 39891 | V6: =U6+1+_xlfn.ORG.OPENOFFICE.STYLE(IF(NOT(ISNA(MATCH(_xlfn.ORG.OPENOFFICE.CURRENT(),Holidays!$E$3:$E$33,0))),"Green",IF(NOT(ISNA(MATCH(_xlfn.ORG.OPENOFFICE.CURRENT(),Holidays!$G$3:$G$33,0))),"Magenta","Default"))) -> 39892 | W6: =V6+1+_xlfn.ORG.OPENOFFICE.STYLE(IF(NOT(ISNA(MATCH(_xlfn.ORG.OPENOFFICE.CURRENT(),Holidays!$E$3:$E$33,0))),"Green",IF(NOT(ISNA(MATCH(_xlfn.ORG.OPENOFFICE.CURRENT(),Holidays!$G$3:$G$33,0))),"Magenta","Default"))) -> 39893
A7: =G6+1+_xlfn.ORG.OPENOFFICE.STYLE(IF(NOT(ISNA(MATCH(_xlfn.ORG.OPENOFFICE.CURRENT(),Holidays!$E$3:$E$33,0))),"Green",IF(NOT(ISNA(MATCH(_xlfn.ORG.OPENOFFICE.CURRENT(),Holidays!$G$3:$G$33,0))),"Magenta","Default"))) -> 39831 | B7: =A7+1+_xlfn.ORG.OPENOFFICE.STYLE(IF(NOT(ISNA(MATCH(_xlfn.ORG.OPENOFFICE.CURRENT(),Holidays!$E$3:$E$33,0))),"Green",IF(NOT(ISNA(MATCH(_xlfn.ORG.OPENOFFICE.CURRENT(),Holidays!$G$3:$G$33,0))),"Magenta","Default"))) -> 39832 | C7: =B7+1+_xlfn.ORG.OPENOFFICE.STYLE(IF(NOT(ISNA(MATCH(_xlfn.ORG.OPENOFFICE.CURRENT(),Holidays!$E$3:$E$33,0))),"Green",IF(NOT(ISNA(MATCH(_xlfn.ORG.OPENOFFICE.CURRENT(),Holidays!$G$3:$G$33,0))),"Magenta","Default"))) -> 39833 | D7: =C7+1+_xlfn.ORG.OPENOFFICE.STYLE(IF(NOT(ISNA(MATCH(_xlfn.ORG.OPENOFFICE.CURRENT(),Holidays!$E$3:$E$33,0))),"Green",IF(NOT(ISNA(MATCH(_xlfn.ORG.OPENOFFICE.CURRENT(),Holidays!$G$3:$G$33,0))),"Magenta","Default"))) -> 39834 | E7: =D7+1+_xlfn.ORG.OPENOFFICE.STYLE(IF(NOT(ISNA(MATCH(_xlfn.ORG.OPENOFFICE.CURRENT(),Holidays!$E$3:$E$33,0))),"Green",IF(NOT(ISNA(MATCH(_xlfn.ORG.OPENOFFICE.CURRENT(),Holidays!$G$3:$G$33,0))),"Magenta","Default"))) -> 39835 | F7: =E7+1+_xlfn.ORG.OPENOFFICE.STYLE(IF(NOT(ISNA(MATCH(_xlfn.ORG.OPENOFFICE.CURRENT(),Holidays!$E$3:$E$33,0))),"Green",IF(NOT(ISNA(MATCH(_xlfn.ORG.OPENOFFICE.CURRENT(),Holidays!$G$3:$G$33,0))),"Magenta","Default"))) -> 39836 | G7: =F7+1+_xlfn.ORG.OPENOFFICE.STYLE(IF(NOT(ISNA(MATCH(_xlfn.ORG.OPENOFFICE.CURRENT(),Holidays!$E$3:$E$33,0))),"Green",IF(NOT(ISNA(MATCH(_xlfn.ORG.OPENOFFICE.CURRENT(),Holidays!$G$3:$G$33,0))),"Magenta","Default"))) -> 39837 | I7: =O6+1+_xlfn.ORG.OPENOFFICE.STYLE(IF(NOT(ISNA(MATCH(_xlfn.ORG.OPENOFFICE.CURRENT(),Holidays!$E$3:$E$33,0))),"Green",IF(NOT(ISNA(MATCH(_xlfn.ORG.OPENOFFICE.CURRENT(),Holidays!$G$3:$G$33,0))),"Magenta","Default"))) -> 39866 | J7: =I7+1+_xlfn.ORG.OPENOFFICE.STYLE(IF(NOT(ISNA(MATCH(_xlfn.ORG.OPENOFFICE.CURRENT(),Holidays!$E$3:$E$33,0))),"Green",IF(NOT(ISNA(MATCH(_xlfn.ORG.OPENOFFICE.CURRENT(),Holidays!$G$3:$G$33,0))),"Magenta","Default"))) -> 39867 | K7: =J7+1+_xlfn.ORG.OPENOFFICE.STYLE(IF(NOT(ISNA(MATCH(_xlfn.ORG.OPENOFFICE.CURRENT(),Holidays!$E$3:$E$33,0))),"Green",IF(NOT(ISNA(MATCH(_xlfn.ORG.OPENOFFICE.CURRENT(),Holidays!$G$3:$G$33,0))),"Magenta","Default"))) -> 39868 | L7: =K7+1+_xlfn.ORG.OPENOFFICE.STYLE(IF(NOT(ISNA(MATCH(_xlfn.ORG.OPENOFFICE.CURRENT(),Holidays!$E$3:$E$33,0))),"Green",IF(NOT(ISNA(MATCH(_xlfn.ORG.OPENOFFICE.CURRENT(),Holidays!$G$3:$G$33,0))),"Magenta","Default"))) -> 39869 | M7: =L7+1+_xlfn.ORG.OPENOFFICE.STYLE(IF(NOT(ISNA(MATCH(_xlfn.ORG.OPENOFFICE.CURRENT(),Holidays!$E$3:$E$33,0))),"Green",IF(NOT(ISNA(MATCH(_xlfn.ORG.OPENOFFICE.CURRENT(),Holidays!$G$3:$G$33,0))),"Magenta","Default"))) -> 39870 | N7: =M7+1+_xlfn.ORG.OPENOFFICE.STYLE(IF(NOT(ISNA(MATCH(_xlfn.ORG.OPENOFFICE.CURRENT(),Holidays!$E$3:$E$33,0))),"Green",IF(NOT(ISNA(MATCH(_xlfn.ORG.OPENOFFICE.CURRENT(),Holidays!$G$3:$G$33,0))),"Magenta","Default"))) -> 39871 | O7: =N7+1+_xlfn.ORG.OPENOFFICE.STYLE(IF(NOT(ISNA(MATCH(_xlfn.ORG.OPENOFFICE.CURRENT(),Holidays!$E$3:$E$33,0))),"Green",IF(NOT(ISNA(MATCH(_xlfn.ORG.OPENOFFICE.CURRENT(),Holidays!$G$3:$G$33,0))),"Magenta","Default"))) -> 39872 | Q7: =W6+1+_xlfn.ORG.OPENOFFICE.STYLE(IF(NOT(ISNA(MATCH(_xlfn.ORG.OPENOFFICE.CURRENT(),Holidays!$E$3:$E$33,0))),"Green",IF(NOT(ISNA(MATCH(_xlfn.ORG.OPENOFFICE.CURRENT(),Holidays!$G$3:$G$33,0))),"Magenta","Default"))) -> 39894 | R7: =Q7+1+_xlfn.ORG.OPENOFFICE.STYLE(IF(NOT(ISNA(MATCH(_xlfn.ORG.OPENOFFICE.CURRENT(),Holidays!$E$3:$E$33,0))),"Green",IF(NOT(ISNA(MATCH(_xlfn.ORG.OPENOFFICE.CURRENT(),Holidays!$G$3:$G$33,0))),"Magenta","Default"))) -> 39895 | S7: =R7+1+_xlfn.ORG.OPENOFFICE.STYLE(IF(NOT(ISNA(MATCH(_xlfn.ORG.OPENOFFICE.CURRENT(),Holidays!$E$3:$E$33,0))),"Green",IF(NOT(ISNA(MATCH(_xlfn.ORG.OPENOFFICE.CURRENT(),Holidays!$G$3:$G$33,0))),"Magenta","Default"))) -> 39896 | T7: =S7+1+_xlfn.ORG.OPENOFFICE.STYLE(IF(NOT(ISNA(MATCH(_xlfn.ORG.OPENOFFICE.CURRENT(),Holidays!$E$3:$E$33,0))),"Green",IF(NOT(ISNA(MATCH(_xlfn.ORG.OPENOFFICE.CURRENT(),Holidays!$G$3:$G$33,0))),"Magenta","Default"))) -> 39897 | U7: =T7+1+_xlfn.ORG.OPENOFFICE.STYLE(IF(NOT(ISNA(MATCH(_xlfn.ORG.OPENOFFICE.CURRENT(),Holidays!$E$3:$E$33,0))),"Green",IF(NOT(ISNA(MATCH(_xlfn.ORG.OPENOFFICE.CURRENT(),Holidays!$G$3:$G$33,0))),"Magenta","Default"))) -> 39898 | V7: =U7+1+_xlfn.ORG.OPENOFFICE.STYLE(IF(NOT(ISNA(MATCH(_xlfn.ORG.OPENOFFICE.CURRENT(),Holidays!$E$3:$E$33,0))),"Green",IF(NOT(ISNA(MATCH(_xlfn.ORG.OPENOFFICE.CURRENT(),Holidays!$G$3:$G$33,0))),"Magenta","Default"))) -> 39899 | W7: =V7+1+_xlfn.ORG.OPENOFFICE.STYLE(IF(NOT(ISNA(MATCH(_xlfn.ORG.OPENOFFICE.CURRENT(),Holidays!$E$3:$E$33,0))),"Green",IF(NOT(ISNA(MATCH(_xlfn.ORG.OPENOFFICE.CURRENT(),Holidays!$G$3:$G$33,0))),"Magenta","Default"))) -> 39900 | Y7: =Holidays!$C$2 -> Important Days | Z7: =IF(NOT(ISNA(VLOOKUP(TODAY(),Holidays!$C$3:$D$33,2,0))),VLOOKUP(TODAY(),Holidays!$C$3:$D$33,2,0)&T(_xlfn.ORG.OPENOFFICE.STYLE("Yellow")),T(_xlfn.ORG.OPENOFFICE.STYLE("Default")))
A8: =IF(MONTH(A6+14)=MONTH(A6), A6+14+_xlfn.ORG.OPENOFFICE.STYLE(IF(NOT(ISNA(MATCH(_xlfn.ORG.OPENOFFICE.CURRENT(),Holidays!$E$3:$E$33,0))),"Green",IF(NOT(ISNA(MATCH(_xlfn.ORG.OPENOFFICE.CURRENT(),Holidays!$G$3:$G$33,0))),"Magenta","Default"))), ""&T(_xlfn.ORG.OPENOFFICE.STYLE("Default"))) -> 39838 | B8: =IF(MONTH(B6+14)=MONTH(B6), B6+14+_xlfn.ORG.OPENOFFICE.STYLE(IF(NOT(ISNA(MATCH(_xlfn.ORG.OPENOFFICE.CURRENT(),Holidays!$E$3:$E$33,0))),"Green",IF(NOT(ISNA(MATCH(_xlfn.ORG.OPENOFFICE.CURRENT(),Holidays!$G$3:$G$33,0))),"Magenta","Default"))), ""&T(_xlfn.ORG.OPENOFFICE.STYLE("Default"))) -> 39839 | C8: =IF(MONTH(C6+14)=MONTH(C6), C6+14+_xlfn.ORG.OPENOFFICE.STYLE(IF(NOT(ISNA(MATCH(_xlfn.ORG.OPENOFFICE.CURRENT(),Holidays!$E$3:$E$33,0))),"Green",IF(NOT(ISNA(MATCH(_xlfn.ORG.OPENOFFICE.CURRENT(),Holidays!$G$3:$G$33,0))),"Magenta","Default"))), ""&T(_xlfn.ORG.OPENOFFICE.STYLE("Default"))) -> 39840 | D8: =IF(MONTH(D6+14)=MONTH(D6), D6+14+_xlfn.ORG.OPENOFFICE.STYLE(IF(NOT(ISNA(MATCH(_xlfn.ORG.OPENOFFICE.CURRENT(),Holidays!$E$3:$E$33,0))),"Green",IF(NOT(ISNA(MATCH(_xlfn.ORG.OPENOFFICE.CURRENT(),Holidays!$G$3:$G$33,0))),"Magenta","Default"))), ""&T(_xlfn.ORG.OPENOFFICE.STYLE("Default"))) -> 39841 | E8: =IF(MONTH(E6+14)=MONTH(E6), E6+14+_xlfn.ORG.OPENOFFICE.STYLE(IF(NOT(ISNA(MATCH(_xlfn.ORG.OPENOFFICE.CURRENT(),Holidays!$E$3:$E$33,0))),"Green",IF(NOT(ISNA(MATCH(_xlfn.ORG.OPENOFFICE.CURRENT(),Holidays!$G$3:$G$33,0))),"Magenta","Default"))), ""&T(_xlfn.ORG.OPENOFFICE.STYLE("Default"))) -> 39842 | F8: =IF(MONTH(F6+14)=MONTH(F6), F6+14+_xlfn.ORG.OPENOFFICE.STYLE(IF(NOT(ISNA(MATCH(_xlfn.ORG.OPENOFFICE.CURRENT(),Holidays!$E$3:$E$33,0))),"Green",IF(NOT(ISNA(MATCH(_xlfn.ORG.OPENOFFICE.CURRENT(),Holidays!$G$3:$G$33,0))),"Magenta","Default"))), ""&T(_xlfn.ORG.OPENOFFICE.STYLE("Default"))) -> 39843 | G8: =IF(MONTH(G6+14)=MONTH(G6), G6+14+_xlfn.ORG.OPENOFFICE.STYLE(IF(NOT(ISNA(MATCH(_xlfn.ORG.OPENOFFICE.CURRENT(),Holidays!$E$3:$E$33,0))),"Green",IF(NOT(ISNA(MATCH(_xlfn.ORG.OPENOFFICE.CURRENT(),Holidays!$G$3:$G$33,0))),"Magenta","Default"))), ""&T(_xlfn.ORG.OPENOFFICE.STYLE("Default"))) -> 39844 | I8: =IF(MONTH(I6+14)=MONTH(I6), I6+14+_xlfn.ORG.OPENOFFICE.STYLE(IF(NOT(ISNA(MATCH(_xlfn.ORG.OPENOFFICE.CURRENT(),Holidays!$E$3:$E$33,0))),"Green",IF(NOT(ISNA(MATCH(_xlfn.ORG.OPENOFFICE.CURRENT(),Holidays!$G$3:$G$33,0))),"Magenta","Default"))), ""&T(_xlfn.ORG.OPENOFFICE.STYLE("Default"))) | J8: =IF(MONTH(J6+14)=MONTH(J6), J6+14+_xlfn.ORG.OPENOFFICE.STYLE(IF(NOT(ISNA(MATCH(_xlfn.ORG.OPENOFFICE.CURRENT(),Holidays!$E$3:$E$33,0))),"Green",IF(NOT(ISNA(MATCH(_xlfn.ORG.OPENOFFICE.CURRENT(),Holidays!$G$3:$G$33,0))),"Magenta","Default"))), ""&T(_xlfn.ORG.OPENOFFICE.STYLE("Default"))) | K8: =IF(MONTH(K6+14)=MONTH(K6), K6+14+_xlfn.ORG.OPENOFFICE.STYLE(IF(NOT(ISNA(MATCH(_xlfn.ORG.OPENOFFICE.CURRENT(),Holidays!$E$3:$E$33,0))),"Green",IF(NOT(ISNA(MATCH(_xlfn.ORG.OPENOFFICE.CURRENT(),Holidays!$G$3:$G$33,0))),"Magenta","Default"))), ""&T(_xlfn.ORG.OPENOFFICE.STYLE("Default"))) | L8: =IF(MONTH(L6+14)=MONTH(L6), L6+14+_xlfn.ORG.OPENOFFICE.STYLE(IF(NOT(ISNA(MATCH(_xlfn.ORG.OPENOFFICE.CURRENT(),Holidays!$E$3:$E$33,0))),"Green",IF(NOT(ISNA(MATCH(_xlfn.ORG.OPENOFFICE.CURRENT(),Holidays!$G$3:$G$33,0))),"Magenta","Default"))), ""&T(_xlfn.ORG.OPENOFFICE.STYLE("Default"))) | M8: =IF(MONTH(M6+14)=MONTH(M6), M6+14+_xlfn.ORG.OPENOFFICE.STYLE(IF(NOT(ISNA(MATCH(_xlfn.ORG.OPENOFFICE.CURRENT(),Holidays!$E$3:$E$33,0))),"Green",IF(NOT(ISNA(MATCH(_xlfn.ORG.OPENOFFICE.CURRENT(),Holidays!$G$3:$G$33,0))),"Magenta","Default"))), ""&T(_xlfn.ORG.OPENOFFICE.STYLE("Default"))) | N8: =IF(MONTH(N6+14)=MONTH(N6), N6+14+_xlfn.ORG.OPENOFFICE.STYLE(IF(NOT(ISNA(MATCH(_xlfn.ORG.OPENOFFICE.CURRENT(),Holidays!$E$3:$E$33,0))),"Green",IF(NOT(ISNA(MATCH(_xlfn.ORG.OPENOFFICE.CURRENT(),Holidays!$G$3:$G$33,0))),"Magenta","Default"))), ""&T(_xlfn.ORG.OPENOFFICE.STYLE("Default"))) | O8: =IF(MONTH(O6+14)=MONTH(O6), O6+14+_xlfn.ORG.OPENOFFICE.STYLE(IF(NOT(ISNA(MATCH(_xlfn.ORG.OPENOFFICE.CURRENT(),Holidays!$E$3:$E$33,0))),"Green",IF(NOT(ISNA(MATCH(_xlfn.ORG.OPENOFFICE.CURRENT(),Holidays!$G$3:$G$33,0))),"Magenta","Default"))), ""&T(_xlfn.ORG.OPENOFFICE.STYLE("Default"))) | Q8: =IF(MONTH(Q6+14)=MONTH(Q6), Q6+14+_xlfn.ORG.OPENOFFICE.STYLE(IF(NOT(ISNA(MATCH(_xlfn.ORG.OPENOFFICE.CURRENT(),Holidays!$E$3:$E$33,0))),"Green",IF(NOT(ISNA(MATCH(_xlfn.ORG.OPENOFFICE.CURRENT(),Holidays!$G$3:$G$33,0))),"Magenta","Default"))), ""&T(_xlfn.ORG.OPENOFFICE.STYLE("Default"))) -> 39901 | R8: =IF(MONTH(R6+14)=MONTH(R6), R6+14+_xlfn.ORG.OPENOFFICE.STYLE(IF(NOT(ISNA(MATCH(_xlfn.ORG.OPENOFFICE.CURRENT(),Holidays!$E$3:$E$33,0))),"Green",IF(NOT(ISNA(MATCH(_xlfn.ORG.OPENOFFICE.CURRENT(),Holidays!$G$3:$G$33,0))),"Magenta","Default"))), ""&T(_xlfn.ORG.OPENOFFICE.STYLE("Default"))) -> 39902 | S8: =IF(MONTH(S6+14)=MONTH(S6), S6+14+_xlfn.ORG.OPENOFFICE.STYLE(IF(NOT(ISNA(MATCH(_xlfn.ORG.OPENOFFICE.CURRENT(),Holidays!$E$3:$E$33,0))),"Green",IF(NOT(ISNA(MATCH(_xlfn.ORG.OPENOFFICE.CURRENT(),Holidays!$G$3:$G$33,0))),"Magenta","Default"))), ""&T(_xlfn.ORG.OPENOFFICE.STYLE("Default"))) -> 39903 | T8: =IF(MONTH(T6+14)=MONTH(T6), T6+14+_xlfn.ORG.OPENOFFICE.STYLE(IF(NOT(ISNA(MATCH(_xlfn.ORG.OPENOFFICE.CURRENT(),Holidays!$E$3:$E$33,0))),"Green",IF(NOT(ISNA(MATCH(_xlfn.ORG.OPENOFFICE.CURRENT(),Holidays!$G$3:$G$33,0))),"Magenta","Default"))), ""&T(_xlfn.ORG.OPENOFFICE.STYLE("Default"))) | U8: =IF(MONTH(U6+14)=MONTH(U6), U6+14+_xlfn.ORG.OPENOFFICE.STYLE(IF(NOT(ISNA(MATCH(_xlfn.ORG.OPENOFFICE.CURRENT(),Holidays!$E$3:$E$33,0))),"Green",IF(NOT(ISNA(MATCH(_xlfn.ORG.OPENOFFICE.CURRENT(),Holidays!$G$3:$G$33,0))),"Magenta","Default"))), ""&T(_xlfn.ORG.OPENOFFICE.STYLE("Default"))) | V8: =IF(MONTH(V6+14)=MONTH(V6), V6+14+_xlfn.ORG.OPENOFFICE.STYLE(IF(NOT(ISNA(MATCH(_xlfn.ORG.OPENOFFICE.CURRENT(),Holidays!$E$3:$E$33,0))),"Green",IF(NOT(ISNA(MATCH(_xlfn.ORG.OPENOFFICE.CURRENT(),Holidays!$G$3:$G$33,0))),"Magenta","Default"))), ""&T(_xlfn.ORG.OPENOFFICE.STYLE("Default"))) | W8: =IF(MONTH(W6+14)=MONTH(W6), W6+14+_xlfn.ORG.OPENOFFICE.STYLE(IF(NOT(ISNA(MATCH(_xlfn.ORG.OPENOFFICE.CURRENT(),Holidays!$E$3:$E$33,0))),"Green",IF(NOT(ISNA(MATCH(_xlfn.ORG.OPENOFFICE.CURRENT(),Holidays!$G$3:$G$33,0))),"Magenta","Default"))), ""&T(_xlfn.ORG.OPENOFFICE.STYLE("Default")))
A9: =IF(MONTH(A7+14)=MONTH(A7), A7+14+_xlfn.ORG.OPENOFFICE.STYLE(IF(NOT(ISNA(MATCH(_xlfn.ORG.OPENOFFICE.CURRENT(),Holidays!$E$3:$E$33,0))),"Green",IF(NOT(ISNA(MATCH(_xlfn.ORG.OPENOFFICE.CURRENT(),Holidays!$G$3:$G$33,0))),"Magenta","Default"))), ""&T(_xlfn.ORG.OPENOFFICE.STYLE("Default"))) | B9: =IF(MONTH(B7+14)=MONTH(B7), B7+14+_xlfn.ORG.OPENOFFICE.STYLE(IF(NOT(ISNA(MATCH(_xlfn.ORG.OPENOFFICE.CURRENT(),Holidays!$E$3:$E$33,0))),"Green",IF(NOT(ISNA(MATCH(_xlfn.ORG.OPENOFFICE.CURRENT(),Holidays!$G$3:$G$33,0))),"Magenta","Default"))), ""&T(_xlfn.ORG.OPENOFFICE.STYLE("Default"))) | C9: =IF(MONTH(C7+14)=MONTH(C7), C7+14+_xlfn.ORG.OPENOFFICE.STYLE(IF(NOT(ISNA(MATCH(_xlfn.ORG.OPENOFFICE.CURRENT(),Holidays!$E$3:$E$33,0))),"Green",IF(NOT(ISNA(MATCH(_xlfn.ORG.OPENOFFICE.CURRENT(),Holidays!$G$3:$G$33,0))),"Magenta","Default"))), ""&T(_xlfn.ORG.OPENOFFICE.STYLE("Default"))) | D9: =IF(MONTH(D7+14)=MONTH(D7), D7+14+_xlfn.ORG.OPENOFFICE.STYLE(IF(NOT(ISNA(MATCH(_xlfn.ORG.OPENOFFICE.CURRENT(),Holidays!$E$3:$E$33,0))),"Green",IF(NOT(ISNA(MATCH(_xlfn.ORG.OPENOFFICE.CURRENT(),Holidays!$G$3:$G$33,0))),"Magenta","Default"))), ""&T(_xlfn.ORG.OPENOFFICE.STYLE("Default"))) | E9: =IF(MONTH(E7+14)=MONTH(E7), E7+14+_xlfn.ORG.OPENOFFICE.STYLE(IF(NOT(ISNA(MATCH(_xlfn.ORG.OPENOFFICE.CURRENT(),Holidays!$E$3:$E$33,0))),"Green",IF(NOT(ISNA(MATCH(_xlfn.ORG.OPENOFFICE.CURRENT(),Holidays!$G$3:$G$33,0))),"Magenta","Default"))), ""&T(_xlfn.ORG.OPENOFFICE.STYLE("Default"))) | F9: =IF(MONTH(F7+14)=MONTH(F7), F7+14+_xlfn.ORG.OPENOFFICE.STYLE(IF(NOT(ISNA(MATCH(_xlfn.ORG.OPENOFFICE.CURRENT(),Holidays!$E$3:$E$33,0))),"Green",IF(NOT(ISNA(MATCH(_xlfn.ORG.OPENOFFICE.CURRENT(),Holidays!$G$3:$G$33,0))),"Magenta","Default"))), ""&T(_xlfn.ORG.OPENOFFICE.STYLE("Default"))) | G9: =IF(MONTH(G7+14)=MONTH(G7), G7+14+_xlfn.ORG.OPENOFFICE.STYLE(IF(NOT(ISNA(MATCH(_xlfn.ORG.OPENOFFICE.CURRENT(),Holidays!$E$3:$E$33,0))),"Green",IF(NOT(ISNA(MATCH(_xlfn.ORG.OPENOFFICE.CURRENT(),Holidays!$G$3:$G$33,0))),"Magenta","Default"))), ""&T(_xlfn.ORG.OPENOFFICE.STYLE("Default"))) | I9: =IF(MONTH(I7+14)=MONTH(I7), I7+14+_xlfn.ORG.OPENOFFICE.STYLE(IF(NOT(ISNA(MATCH(_xlfn.ORG.OPENOFFICE.CURRENT(),Holidays!$E$3:$E$33,0))),"Green",IF(NOT(ISNA(MATCH(_xlfn.ORG.OPENOFFICE.CURRENT(),Holidays!$G$3:$G$33,0))),"Magenta","Default"))), ""&T(_xlfn.ORG.OPENOFFICE.STYLE("Default"))) | J9: =IF(MONTH(J7+14)=MONTH(J7), J7+14+_xlfn.ORG.OPENOFFICE.STYLE(IF(NOT(ISNA(MATCH(_xlfn.ORG.OPENOFFICE.CURRENT(),Holidays!$E$3:$E$33,0))),"Green",IF(NOT(ISNA(MATCH(_xlfn.ORG.OPENOFFICE.CURRENT(),Holidays!$G$3:$G$33,0))),"Magenta","Default"))), ""&T(_xlfn.ORG.OPENOFFICE.STYLE("Default"))) | K9: =IF(MONTH(K7+14)=MONTH(K7), K7+14+_xlfn.ORG.OPENOFFICE.STYLE(IF(NOT(ISNA(MATCH(_xlfn.ORG.OPENOFFICE.CURRENT(),Holidays!$E$3:$E$33,0))),"Green",IF(NOT(ISNA(MATCH(_xlfn.ORG.OPENOFFICE.CURRENT(),Holidays!$G$3:$G$33,0))),"Magenta","Default"))), ""&T(_xlfn.ORG.OPENOFFICE.STYLE("Default"))) | L9: =IF(MONTH(L7+14)=MONTH(L7), L7+14+_xlfn.ORG.OPENOFFICE.STYLE(IF(NOT(ISNA(MATCH(_xlfn.ORG.OPENOFFICE.CURRENT(),Holidays!$E$3:$E$33,0))),"Green",IF(NOT(ISNA(MATCH(_xlfn.ORG.OPENOFFICE.CURRENT(),Holidays!$G$3:$G$33,0))),"Magenta","Default"))), ""&T(_xlfn.ORG.OPENOFFICE.STYLE("Default"))) | M9: =IF(MONTH(M7+14)=MONTH(M7), M7+14+_xlfn.ORG.OPENOFFICE.STYLE(IF(NOT(ISNA(MATCH(_xlfn.ORG.OPENOFFICE.CURRENT(),Holidays!$E$3:$E$33,0))),"Green",IF(NOT(ISNA(MATCH(_xlfn.ORG.OPENOFFICE.CURRENT(),Holidays!$G$3:$G$33,0))),"Magenta","Default"))), ""&T(_xlfn.ORG.OPENOFFICE.STYLE("Default"))) | N9: =IF(MONTH(N7+14)=MONTH(N7), N7+14+_xlfn.ORG.OPENOFFICE.STYLE(IF(NOT(ISNA(MATCH(_xlfn.ORG.OPENOFFICE.CURRENT(),Holidays!$E$3:$E$33,0))),"Green",IF(NOT(ISNA(MATCH(_xlfn.ORG.OPENOFFICE.CURRENT(),Holidays!$G$3:$G$33,0))),"Magenta","Default"))), ""&T(_xlfn.ORG.OPENOFFICE.STYLE("Default"))) | O9: =IF(MONTH(O7+14)=MONTH(O7), O7+14+_xlfn.ORG.OPENOFFICE.STYLE(IF(NOT(ISNA(MATCH(_xlfn.ORG.OPENOFFICE.CURRENT(),Holidays!$E$3:$E$33,0))),"Green",IF(NOT(ISNA(MATCH(_xlfn.ORG.OPENOFFICE.CURRENT(),Holidays!$G$3:$G$33,0))),"Magenta","Default"))), ""&T(_xlfn.ORG.OPENOFFICE.STYLE("Default"))) | Q9: =IF(MONTH(Q7+14)=MONTH(Q7), Q7+14+_xlfn.ORG.OPENOFFICE.STYLE(IF(NOT(ISNA(MATCH(_xlfn.ORG.OPENOFFICE.CURRENT(),Holidays!$E$3:$E$33,0))),"Green",IF(NOT(ISNA(MATCH(_xlfn.ORG.OPENOFFICE.CURRENT(),Holidays!$G$3:$G$33,0))),"Magenta","Default"))), ""&T(_xlfn.ORG.OPENOFFICE.STYLE("Default"))) | R9: =IF(MONTH(R7+14)=MONTH(R7), R7+14+_xlfn.ORG.OPENOFFICE.STYLE(IF(NOT(ISNA(MATCH(_xlfn.ORG.OPENOFFICE.CURRENT(),Holidays!$E$3:$E$33,0))),"Green",IF(NOT(ISNA(MATCH(_xlfn.ORG.OPENOFFICE.CURRENT(),Holidays!$G$3:$G$33,0))),"Magenta","Default"))), ""&T(_xlfn.ORG.OPENOFFICE.STYLE("Default"))) | S9: =IF(MONTH(S7+14)=MONTH(S7), S7+14+_xlfn.ORG.OPENOFFICE.STYLE(IF(NOT(ISNA(MATCH(_xlfn.ORG.OPENOFFICE.CURRENT(),Holidays!$E$3:$E$33,0))),"Green",IF(NOT(ISNA(MATCH(_xlfn.ORG.OPENOFFICE.CURRENT(),Holidays!$G$3:$G$33,0))),"Magenta","Default"))), ""&T(_xlfn.ORG.OPENOFFICE.STYLE("Default"))) | T9: =IF(MONTH(T7+14)=MONTH(T7), T7+14+_xlfn.ORG.OPENOFFICE.STYLE(IF(NOT(ISNA(MATCH(_xlfn.ORG.OPENOFFICE.CURRENT(),Holidays!$E$3:$E$33,0))),"Green",IF(NOT(ISNA(MATCH(_xlfn.ORG.OPENOFFICE.CURRENT(),Holidays!$G$3:$G$33,0))),"Magenta","Default"))), ""&T(_xlfn.ORG.OPENOFFICE.STYLE("Default"))) | U9: =IF(MONTH(U7+14)=MONTH(U7), U7+14+_xlfn.ORG.OPENOFFICE.STYLE(IF(NOT(ISNA(MATCH(_xlfn.ORG.OPENOFFICE.CURRENT(),Holidays!$E$3:$E$33,0))),"Green",IF(NOT(ISNA(MATCH(_xlfn.ORG.OPENOFFICE.CURRENT(),Holidays!$G$3:$G$33,0))),"Magenta","Default"))), ""&T(_xlfn.ORG.OPENOFFICE.STYLE("Default"))) | V9: =IF(MONTH(V7+14)=MONTH(V7), V7+14+_xlfn.ORG.OPENOFFICE.STYLE(IF(NOT(ISNA(MATCH(_xlfn.ORG.OPENOFFICE.CURRENT(),Holidays!$E$3:$E$33,0))),"Green",IF(NOT(ISNA(MATCH(_xlfn.ORG.OPENOFFICE.CURRENT(),Holidays!$G$3:$G$33,0))),"Magenta","Default"))), ""&T(_xlfn.ORG.OPENOFFICE.STYLE("Default"))) | W9: =IF(MONTH(W7+14)=MONTH(W7), W7+14+_xlfn.ORG.OPENOFFICE.STYLE(IF(NOT(ISNA(MATCH(_xlfn.ORG.OPENOFFICE.CURRENT(),Holidays!$E$3:$E$33,0))),"Green",IF(NOT(ISNA(MATCH(_xlfn.ORG.OPENOFFICE.CURRENT(),Holidays!$G$3:$G$33,0))),"Magenta","Default"))), ""&T(_xlfn.ORG.OPENOFFICE.STYLE("Default"))) | Y9: =Holidays!$E$2 -> Holidays | Z9: =IF(NOT(ISNA(VLOOKUP(TODAY(),Holidays!$E$3:$F$33,2,0))),VLOOKUP(TODAY(),Holidays!$E$3:$F$33,2,0)&T(_xlfn.ORG.OPENOFFICE.STYLE("Green")),T(_xlfn.ORG.OPENOFFICE.STYLE("Default")))
A10: =DATE($A$1,4,1) -> 39904 | I10: =DATE($A$1,5,1) -> 39934 | Q10: =DATE($A$1,6,1) -> 39965
A11: Sun | B11: Mon | C11: Tue | D11: Wed | E11: Thu | F11: Fri | G11: Sat | I11: Sun | J11: Mon | K11: Tue | L11: Wed | M11: Thu | N11: Fri | O11: Sat | Q11: Sun | R11: Mon | S11: Tue | T11: Wed | U11: Thu | V11: Fri | W11: Sat | Y11: =Holidays!$G$2 -> Events | Z11: =IF(NOT(ISNA(VLOOKUP(TODAY(),Holidays!$G$3:$H$33,2,0))),VLOOKUP(TODAY(),Holidays!$G$3:$H$33,2,0)&T(_xlfn.ORG.OPENOFFICE.STYLE("Magenta")),T(_xlfn.ORG.OPENOFFICE.STYLE("Default")))
A12: =IF(WEEKDAY(A10)=1,A10+_xlfn.ORG.OPENOFFICE.STYLE(IF(NOT(ISNA(MATCH(_xlfn.ORG.OPENOFFICE.CURRENT(),Holidays!$E$3:$E$33,0))),"Green",IF(NOT(ISNA(MATCH(_xlfn.ORG.OPENOFFICE.CURRENT(),Holidays!$G$3:$G$33,0))),"Magenta","Default"))),""&T(_xlfn.ORG.OPENOFFICE.STYLE("Default"))) | B12: =IF(WEEKDAY(A10)<=2,A10+2-WEEKDAY(A10)+_xlfn.ORG.OPENOFFICE.STYLE(IF(NOT(ISNA(MATCH(_xlfn.ORG.OPENOFFICE.CURRENT(),Holidays!$E$3:$E$33,0))),"Green",IF(NOT(ISNA(MATCH(_xlfn.ORG.OPENOFFICE.CURRENT(),Holidays!$G$3:$G$33,0))),"Magenta","Default"))),""&T(_xlfn.ORG.OPENOFFICE.STYLE("Default"))) | C12: =IF(WEEKDAY(A10)<=3,A10+3-WEEKDAY(A10)+_xlfn.ORG.OPENOFFICE.STYLE(IF(NOT(ISNA(MATCH(_xlfn.ORG.OPENOFFICE.CURRENT(),Holidays!$E$3:$E$33,0))),"Green",IF(NOT(ISNA(MATCH(_xlfn.ORG.OPENOFFICE.CURRENT(),Holidays!$G$3:$G$33,0))),"Magenta","Default"))),""&T(_xlfn.ORG.OPENOFFICE.STYLE("Default"))) | D12: =IF(WEEKDAY(A10)<=4,A10+4-WEEKDAY(A10)+_xlfn.ORG.OPENOFFICE.STYLE(IF(NOT(ISNA(MATCH(_xlfn.ORG.OPENOFFICE.CURRENT(),Holidays!$E$3:$E$33,0))),"Green",IF(NOT(ISNA(MATCH(_xlfn.ORG.OPENOFFICE.CURRENT(),Holidays!$G$3:$G$33,0))),"Magenta","Default"))),""&T(_xlfn.ORG.OPENOFFICE.STYLE("Default"))) -> 39904 | E12: =IF(WEEKDAY(A10)<=5,A10+5-WEEKDAY(A10)+_xlfn.ORG.OPENOFFICE.STYLE(IF(NOT(ISNA(MATCH(_xlfn.ORG.OPENOFFICE.CURRENT(),Holidays!$E$3:$E$33,0))),"Green",IF(NOT(ISNA(MATCH(_xlfn.ORG.OPENOFFICE.CURRENT(),Holidays!$G$3:$G$33,0))),"Magenta","Default"))),""&T(_xlfn.ORG.OPENOFFICE.STYLE("Default"))) -> 39905 | F12: =IF(WEEKDAY(A10)<=6,A10+6-WEEKDAY(A10)+_xlfn.ORG.OPENOFFICE.STYLE(IF(NOT(ISNA(MATCH(_xlfn.ORG.OPENOFFICE.CURRENT(),Holidays!$E$3:$E$33,0))),"Green",IF(NOT(ISNA(MATCH(_xlfn.ORG.OPENOFFICE.CURRENT(),Holidays!$G$3:$G$33,0))),"Magenta","Default"))),""&T(_xlfn.ORG.OPENOFFICE.STYLE("Default"))) -> 39906 | G12: =IF(WEEKDAY(A10)<=7,A10+7-WEEKDAY(A10)+_xlfn.ORG.OPENOFFICE.STYLE(IF(NOT(ISNA(MATCH(_xlfn.ORG.OPENOFFICE.CURRENT(),Holidays!$E$3:$E$33,0))),"Green",IF(NOT(ISNA(MATCH(_xlfn.ORG.OPENOFFICE.CURRENT(),Holidays!$G$3:$G$33,0))),"Magenta","Default"))),""&T(_xlfn.ORG.OPENOFFICE.STYLE("Default"))) -> 39907 | I12: =IF(WEEKDAY(I10)=1,I10+_xlfn.ORG.OPENOFFICE.STYLE(IF(NOT(ISNA(MATCH(_xlfn.ORG.OPENOFFICE.CURRENT(),Holidays!$E$3:$E$33,0))),"Green",IF(NOT(ISNA(MATCH(_xlfn.ORG.OPENOFFICE.CURRENT(),Holidays!$G$3:$G$33,0))),"Magenta","Default"))),""&T(_xlfn.ORG.OPENOFFICE.STYLE("Default"))) | J12: =IF(WEEKDAY(I10)<=2,I10+2-WEEKDAY(I10)+_xlfn.ORG.OPENOFFICE.STYLE(IF(NOT(ISNA(MATCH(_xlfn.ORG.OPENOFFICE.CURRENT(),Holidays!$E$3:$E$33,0))),"Green",IF(NOT(ISNA(MATCH(_xlfn.ORG.OPENOFFICE.CURRENT(),Holidays!$G$3:$G$33,0))),"Magenta","Default"))),""&T(_xlfn.ORG.OPENOFFICE.STYLE("Default"))) | K12: =IF(WEEKDAY(I10)<=3,I10+3-WEEKDAY(I10)+_xlfn.ORG.OPENOFFICE.STYLE(IF(NOT(ISNA(MATCH(_xlfn.ORG.OPENOFFICE.CURRENT(),Holidays!$E$3:$E$33,0))),"Green",IF(NOT(ISNA(MATCH(_xlfn.ORG.OPENOFFICE.CURRENT(),Holidays!$G$3:$G$33,0))),"Magenta","Default"))),""&T(_xlfn.ORG.OPENOFFICE.STYLE("Default"))) | L12: =IF(WEEKDAY(I10)<=4,I10+4-WEEKDAY(I10)+_xlfn.ORG.OPENOFFICE.STYLE(IF(NOT(ISNA(MATCH(_xlfn.ORG.OPENOFFICE.CURRENT(),Holidays!$E$3:$E$33,0))),"Green",IF(NOT(ISNA(MATCH(_xlfn.ORG.OPENOFFICE.CURRENT(),Holidays!$G$3:$G$33,0))),"Magenta","Default"))),""&T(_xlfn.ORG.OPENOFFICE.STYLE("Default"))) | M12: =IF(WEEKDAY(I10)<=5,I10+5-WEEKDAY(I10)+_xlfn.ORG.OPENOFFICE.STYLE(IF(NOT(ISNA(MATCH(_xlfn.ORG.OPENOFFICE.CURRENT(),Holidays!$E$3:$E$33,0))),"Green",IF(NOT(ISNA(MATCH(_xlfn.ORG.OPENOFFICE.CURRENT(),Holidays!$G$3:$G$33,0))),"Magenta","Default"))),""&T(_xlfn.ORG.OPENOFFICE.STYLE("Default"))) | N12: =IF(WEEKDAY(I10)<=6,I10+6-WEEKDAY(I10)+_xlfn.ORG.OPENOFFICE.STYLE(IF(NOT(ISNA(MATCH(_xlfn.ORG.OPENOFFICE.CURRENT(),Holidays!$E$3:$E$33,0))),"Green",IF(NOT(ISNA(MATCH(_xlfn.ORG.OPENOFFICE.CURRENT(),Holidays!$G$3:$G$33,0))),"Magenta","Default"))),""&T(_xlfn.ORG.OPENOFFICE.STYLE("Default"))) -> 39934 | O12: =IF(WEEKDAY(I10)<=7,I10+7-WEEKDAY(I10)+_xlfn.ORG.OPENOFFICE.STYLE(IF(NOT(ISNA(MATCH(_xlfn.ORG.OPENOFFICE.CURRENT(),Holidays!$E$3:$E$33,0))),"Green",IF(NOT(ISNA(MATCH(_xlfn.ORG.OPENOFFICE.CURRENT(),Holidays!$G$3:$G$33,0))),"Magenta","Default"))),""&T(_xlfn.ORG.OPENOFFICE.STYLE("Default"))) -> 39935 | Q12: =IF(WEEKDAY(Q10)=1,Q10+_xlfn.ORG.OPENOFFICE.STYLE(IF(NOT(ISNA(MATCH(_xlfn.ORG.OPENOFFICE.CURRENT(),Holidays!$E$3:$E$33,0))),"Green",IF(NOT(ISNA(MATCH(_xlfn.ORG.OPENOFFICE.CURRENT(),Holidays!$G$3:$G$33,0))),"Magenta","Default"))),""&T(_xlfn.ORG.OPENOFFICE.STYLE("Default"))) | R12: =IF(WEEKDAY(Q10)<=2,Q10+2-WEEKDAY(Q10)+_xlfn.ORG.OPENOFFICE.STYLE(IF(NOT(ISNA(MATCH(_xlfn.ORG.OPENOFFICE.CURRENT(),Holidays!$E$3:$E$33,0))),"Green",IF(NOT(ISNA(MATCH(_xlfn.ORG.OPENOFFICE.CURRENT(),Holidays!$G$3:$G$33,0))),"Magenta","Default"))),""&T(_xlfn.ORG.OPENOFFICE.STYLE("Default"))) -> 39965 | S12: =IF(WEEKDAY(Q10)<=3,Q10+3-WEEKDAY(Q10)+_xlfn.ORG.OPENOFFICE.STYLE(IF(NOT(ISNA(MATCH(_xlfn.ORG.OPENOFFICE.CURRENT(),Holidays!$E$3:$E$33,0))),"Green",IF(NOT(ISNA(MATCH(_xlfn.ORG.OPENOFFICE.CURRENT(),Holidays!$G$3:$G$33,0))),"Magenta","Default"))),""&T(_xlfn.ORG.OPENOFFICE.STYLE("Default"))) -> 39966 | T12: =IF(WEEKDAY(Q10)<=4,Q10+4-WEEKDAY(Q10)+_xlfn.ORG.OPENOFFICE.STYLE(IF(NOT(ISNA(MATCH(_xlfn.ORG.OPENOFFICE.CURRENT(),Holidays!$E$3:$E$33,0))),"Green",IF(NOT(ISNA(MATCH(_xlfn.ORG.OPENOFFICE.CURRENT(),Holidays!$G$3:$G$33,0))),"Magenta","Default"))),""&T(_xlfn.ORG.OPENOFFICE.STYLE("Default"))) -> 39967 | U12: =IF(WEEKDAY(Q10)<=5,Q10+5-WEEKDAY(Q10)+_xlfn.ORG.OPENOFFICE.STYLE(IF(NOT(ISNA(MATCH(_xlfn.ORG.OPENOFFICE.CURRENT(),Holidays!$E$3:$E$33,0))),"Green",IF(NOT(ISNA(MATCH(_xlfn.ORG.OPENOFFICE.CURRENT(),Holidays!$G$3:$G$33,0))),"Magenta","Default"))),""&T(_xlfn.ORG.OPENOFFICE.STYLE("Default"))) -> 39968 | V12: =IF(WEEKDAY(Q10)<=6,Q10+6-WEEKDAY(Q10)+_xlfn.ORG.OPENOFFICE.STYLE(IF(NOT(ISNA(MATCH(_xlfn.ORG.OPENOFFICE.CURRENT(),Holidays!$E$3:$E$33,0))),"Green",IF(NOT(ISNA(MATCH(_xlfn.ORG.OPENOFFICE.CURRENT(),Holidays!$G$3:$G$33,0))),"Magenta","Default"))),""&T(_xlfn.ORG.OPENOFFICE.STYLE("Default"))) -> 39969 | W12: =IF(WEEKDAY(Q10)<=7,Q10+7-WEEKDAY(Q10)+_xlfn.ORG.OPENOFFICE.STYLE(IF(NOT(ISNA(MATCH(_xlfn.ORG.OPENOFFICE.CURRENT(),Holidays!$E$3:$E$33,0))),"Green",IF(NOT(ISNA(MATCH(_xlfn.ORG.OPENOFFICE.CURRENT(),Holidays!$G$3:$G$33,0))),"Magenta","Default"))),""&T(_xlfn.ORG.OPENOFFICE.STYLE("Default"))) -> 39970
A13: =G12+1+_xlfn.ORG.OPENOFFICE.STYLE(IF(NOT(ISNA(MATCH(_xlfn.ORG.OPENOFFICE.CURRENT(),Holidays!$E$3:$E$33,0))),"Green",IF(NOT(ISNA(MATCH(_xlfn.ORG.OPENOFFICE.CURRENT(),Holidays!$G$3:$G$33,0))),"Magenta","Default"))) -> 39908 | B13: =A13+1+_xlfn.ORG.OPENOFFICE.STYLE(IF(NOT(ISNA(MATCH(_xlfn.ORG.OPENOFFICE.CURRENT(),Holidays!$E$3:$E$33,0))),"Green",IF(NOT(ISNA(MATCH(_xlfn.ORG.OPENOFFICE.CURRENT(),Holidays!$G$3:$G$33,0))),"Magenta","Default"))) -> 39909 | C13: =B13+1+_xlfn.ORG.OPENOFFICE.STYLE(IF(NOT(ISNA(MATCH(_xlfn.ORG.OPENOFFICE.CURRENT(),Holidays!$E$3:$E$33,0))),"Green",IF(NOT(ISNA(MATCH(_xlfn.ORG.OPENOFFICE.CURRENT(),Holidays!$G$3:$G$33,0))),"Magenta","Default"))) -> 39910 | D13: =C13+1+_xlfn.ORG.OPENOFFICE.STYLE(IF(NOT(ISNA(MATCH(_xlfn.ORG.OPENOFFICE.CURRENT(),Holidays!$E$3:$E$33,0))),"Green",IF(NOT(ISNA(MATCH(_xlfn.ORG.OPENOFFICE.CURRENT(),Holidays!$G$3:$G$33,0))),"Magenta","Default"))) -> 39911 | E13: =D13+1+_xlfn.ORG.OPENOFFICE.STYLE(IF(NOT(ISNA(MATCH(_xlfn.ORG.OPENOFFICE.CURRENT(),Holidays!$E$3:$E$33,0))),"Green",IF(NOT(ISNA(MATCH(_xlfn.ORG.OPENOFFICE.CURRENT(),Holidays!$G$3:$G$33,0))),"Magenta","Default"))) -> 39912 | F13: =E13+1+_xlfn.ORG.OPENOFFICE.STYLE(IF(NOT(ISNA(MATCH(_xlfn.ORG.OPENOFFICE.CURRENT(),Holidays!$E$3:$E$33,0))),"Green",IF(NOT(ISNA(MATCH(_xlfn.ORG.OPENOFFICE.CURRENT(),Holidays!$G$3:$G$33,0))),"Magenta","Default"))) -> 39913 | G13: =F13+1+_xlfn.ORG.OPENOFFICE.STYLE(IF(NOT(ISNA(MATCH(_xlfn.ORG.OPENOFFICE.CURRENT(),Holidays!$E$3:$E$33,0))),"Green",IF(NOT(ISNA(MATCH(_xlfn.ORG.OPENOFFICE.CURRENT(),Holidays!$G$3:$G$33,0))),"Magenta","Default"))) -> 39914 | I13: =O12+1+_xlfn.ORG.OPENOFFICE.STYLE(IF(NOT(ISNA(MATCH(_xlfn.ORG.OPENOFFICE.CURRENT(),Holidays!$E$3:$E$33,0))),"Green",IF(NOT(ISNA(MATCH(_xlfn.ORG.OPENOFFICE.CURRENT(),Holidays!$G$3:$G$33,0))),"Magenta","Default"))) -> 39936 | J13: =I13+1+_xlfn.ORG.OPENOFFICE.STYLE(IF(NOT(ISNA(MATCH(_xlfn.ORG.OPENOFFICE.CURRENT(),Holidays!$E$3:$E$33,0))),"Green",IF(NOT(ISNA(MATCH(_xlfn.ORG.OPENOFFICE.CURRENT(),Holidays!$G$3:$G$33,0))),"Magenta","Default"))) -> 39937 | K13: =J13+1+_xlfn.ORG.OPENOFFICE.STYLE(IF(NOT(ISNA(MATCH(_xlfn.ORG.OPENOFFICE.CURRENT(),Holidays!$E$3:$E$33,0))),"Green",IF(NOT(ISNA(MATCH(_xlfn.ORG.OPENOFFICE.CURRENT(),Holidays!$G$3:$G$33,0))),"Magenta","Default"))) -> 39938 | L13: =K13+1+_xlfn.ORG.OPENOFFICE.STYLE(IF(NOT(ISNA(MATCH(_xlfn.ORG.OPENOFFICE.CURRENT(),Holidays!$E$3:$E$33,0))),"Green",IF(NOT(ISNA(MATCH(_xlfn.ORG.OPENOFFICE.CURRENT(),Holidays!$G$3:$G$33,0))),"Magenta","Default"))) -> 39939 | M13: =L13+1+_xlfn.ORG.OPENOFFICE.STYLE(IF(NOT(ISNA(MATCH(_xlfn.ORG.OPENOFFICE.CURRENT(),Holidays!$E$3:$E$33,0))),"Green",IF(NOT(ISNA(MATCH(_xlfn.ORG.OPENOFFICE.CURRENT(),Holidays!$G$3:$G$33,0))),"Magenta","Default"))) -> 39940 | N13: =M13+1+_xlfn.ORG.OPENOFFICE.STYLE(IF(NOT(ISNA(MATCH(_xlfn.ORG.OPENOFFICE.CURRENT(),Holidays!$E$3:$E$33,0))),"Green",IF(NOT(ISNA(MATCH(_xlfn.ORG.OPENOFFICE.CURRENT(),Holidays!$G$3:$G$33,0))),"Magenta","Default"))) -> 39941 | O13: =N13+1+_xlfn.ORG.OPENOFFICE.STYLE(IF(NOT(ISNA(MATCH(_xlfn.ORG.OPENOFFICE.CURRENT(),Holidays!$E$3:$E$33,0))),"Green",IF(NOT(ISNA(MATCH(_xlfn.ORG.OPENOFFICE.CURRENT(),Holidays!$G$3:$G$33,0))),"Magenta","Default"))) -> 39942 | Q13: =W12+1+_xlfn.ORG.OPENOFFICE.STYLE(IF(NOT(ISNA(MATCH(_xlfn.ORG.OPENOFFICE.CURRENT(),Holidays!$E$3:$E$33,0))),"Green",IF(NOT(ISNA(MATCH(_xlfn.ORG.OPENOFFICE.CURRENT(),Holidays!$G$3:$G$33,0))),"Magenta","Default"))) -> 39971 | R13: =Q13+1+_xlfn.ORG.OPENOFFICE.STYLE(IF(NOT(ISNA(MATCH(_xlfn.ORG.OPENOFFICE.CURRENT(),Holidays!$E$3:$E$33,0))),"Green",IF(NOT(ISNA(MATCH(_xlfn.ORG.OPENOFFICE.CURRENT(),Holidays!$G$3:$G$33,0))),"Magenta","Default"))) -> 39972 | S13: =R13+1+_xlfn.ORG.OPENOFFICE.STYLE(IF(NOT(ISNA(MATCH(_xlfn.ORG.OPENOFFICE.CURRENT(),Holidays!$E$3:$E$33,0))),"Green",IF(NOT(ISNA(MATCH(_xlfn.ORG.OPENOFFICE.CURRENT(),Holidays!$G$3:$G$33,0))),"Magenta","Default"))) -> 39973 | T13: =S13+1+_xlfn.ORG.OPENOFFICE.STYLE(IF(NOT(ISNA(MATCH(_xlfn.ORG.OPENOFFICE.CURRENT(),Holidays!$E$3:$E$33,0))),"Green",IF(NOT(ISNA(MATCH(_xlfn.ORG.OPENOFFICE.CURRENT(),Holidays!$G$3:$G$33,0))),"Magenta","Default"))) -> 39974 | U13: =T13+1+_xlfn.ORG.OPENOFFICE.STYLE(IF(NOT(ISNA(MATCH(_xlfn.ORG.OPENOFFICE.CURRENT(),Holidays!$E$3:$E$33,0))),"Green",IF(NOT(ISNA(MATCH(_xlfn.ORG.OPENOFFICE.CURRENT(),Holidays!$G$3:$G$33,0))),"Magenta","Default"))) -> 39975 | V13: =U13+1+_xlfn.ORG.OPENOFFICE.STYLE(IF(NOT(ISNA(MATCH(_xlfn.ORG.OPENOFFICE.CURRENT(),Holidays!$E$3:$E$33,0))),"Green",IF(NOT(ISNA(MATCH(_xlfn.ORG.OPENOFFICE.CURRENT(),Holidays!$G$3:$G$33,0))),"Magenta","Default"))) -> 39976 | W13: =V13+1+_xlfn.ORG.OPENOFFICE.STYLE(IF(NOT(ISNA(MATCH(_xlfn.ORG.OPENOFFICE.CURRENT(),Holidays!$E$3:$E$33,0))),"Green",IF(NOT(ISNA(MATCH(_xlfn.ORG.OPENOFFICE.CURRENT(),Holidays!$G$3:$G$33,0))),"Magenta","Default"))) -> 39977
A14: =G13+1+_xlfn.ORG.OPENOFFICE.STYLE(IF(NOT(ISNA(MATCH(_xlfn.ORG.OPENOFFICE.CURRENT(),Holidays!$E$3:$E$33,0))),"Green",IF(NOT(ISNA(MATCH(_xlfn.ORG.OPENOFFICE.CURRENT(),Holidays!$G$3:$G$33,0))),"Magenta","Default"))) -> 39915 | B14: =A14+1+_xlfn.ORG.OPENOFFICE.STYLE(IF(NOT(ISNA(MATCH(_xlfn.ORG.OPENOFFICE.CURRENT(),Holidays!$E$3:$E$33,0))),"Green",IF(NOT(ISNA(MATCH(_xlfn.ORG.OPENOFFICE.CURRENT(),Holidays!$G$3:$G$33,0))),"Magenta","Default"))) -> 39916 | C14: =B14+1+_xlfn.ORG.OPENOFFICE.STYLE(IF(NOT(ISNA(MATCH(_xlfn.ORG.OPENOFFICE.CURRENT(),Holidays!$E$3:$E$33,0))),"Green",IF(NOT(ISNA(MATCH(_xlfn.ORG.OPENOFFICE.CURRENT(),Holidays!$G$3:$G$33,0))),"Magenta","Default"))) -> 39917 | D14: =C14+1+_xlfn.ORG.OPENOFFICE.STYLE(IF(NOT(ISNA(MATCH(_xlfn.ORG.OPENOFFICE.CURRENT(),Holidays!$E$3:$E$33,0))),"Green",IF(NOT(ISNA(MATCH(_xlfn.ORG.OPENOFFICE.CURRENT(),Holidays!$G$3:$G$33,0))),"Magenta","Default"))) -> 39918 | E14: =D14+1+_xlfn.ORG.OPENOFFICE.STYLE(IF(NOT(ISNA(MATCH(_xlfn.ORG.OPENOFFICE.CURRENT(),Holidays!$E$3:$E$33,0))),"Green",IF(NOT(ISNA(MATCH(_xlfn.ORG.OPENOFFICE.CURRENT(),Holidays!$G$3:$G$33,0))),"Magenta","Default"))) -> 39919 | F14: =E14+1+_xlfn.ORG.OPENOFFICE.STYLE(IF(NOT(ISNA(MATCH(_xlfn.ORG.OPENOFFICE.CURRENT(),Holidays!$E$3:$E$33,0))),"Green",IF(NOT(ISNA(MATCH(_xlfn.ORG.OPENOFFICE.CURRENT(),Holidays!$G$3:$G$33,0))),"Magenta","Default"))) -> 39920 | G14: =F14+1+_xlfn.ORG.OPENOFFICE.STYLE(IF(NOT(ISNA(MATCH(_xlfn.ORG.OPENOFFICE.CURRENT(),Holidays!$E$3:$E$33,0))),"Green",IF(NOT(ISNA(MATCH(_xlfn.ORG.OPENOFFICE.CURRENT(),Holidays!$G$3:$G$33,0))),"Magenta","Default"))) -> 39921 | I14: =O13+1+_xlfn.ORG.OPENOFFICE.STYLE(IF(NOT(ISNA(MATCH(_xlfn.ORG.OPENOFFICE.CURRENT(),Holidays!$E$3:$E$33,0))),"Green",IF(NOT(ISNA(MATCH(_xlfn.ORG.OPENOFFICE.CURRENT(),Holidays!$G$3:$G$33,0))),"Magenta","Default"))) -> 39943 | J14: =I14+1+_xlfn.ORG.OPENOFFICE.STYLE(IF(NOT(ISNA(MATCH(_xlfn.ORG.OPENOFFICE.CURRENT(),Holidays!$E$3:$E$33,0))),"Green",IF(NOT(ISNA(MATCH(_xlfn.ORG.OPENOFFICE.CURRENT(),Holidays!$G$3:$G$33,0))),"Magenta","Default"))) -> 39944 | K14: =J14+1+_xlfn.ORG.OPENOFFICE.STYLE(IF(NOT(ISNA(MATCH(_xlfn.ORG.OPENOFFICE.CURRENT(),Holidays!$E$3:$E$33,0))),"Green",IF(NOT(ISNA(MATCH(_xlfn.ORG.OPENOFFICE.CURRENT(),Holidays!$G$3:$G$33,0))),"Magenta","Default"))) -> 39945 | L14: =K14+1+_xlfn.ORG.OPENOFFICE.STYLE(IF(NOT(ISNA(MATCH(_xlfn.ORG.OPENOFFICE.CURRENT(),Holidays!$E$3:$E$33,0))),"Green",IF(NOT(ISNA(MATCH(_xlfn.ORG.OPENOFFICE.CURRENT(),Holidays!$G$3:$G$33,0))),"Magenta","Default"))) -> 39946 | M14: =L14+1+_xlfn.ORG.OPENOFFICE.STYLE(IF(NOT(ISNA(MATCH(_xlfn.ORG.OPENOFFICE.CURRENT(),Holidays!$E$3:$E$33,0))),"Green",IF(NOT(ISNA(MATCH(_xlfn.ORG.OPENOFFICE.CURRENT(),Holidays!$G$3:$G$33,0))),"Magenta","Default"))) -> 39947 | N14: =M14+1+_xlfn.ORG.OPENOFFICE.STYLE(IF(NOT(ISNA(MATCH(_xlfn.ORG.OPENOFFICE.CURRENT(),Holidays!$E$3:$E$33,0))),"Green",IF(NOT(ISNA(MATCH(_xlfn.ORG.OPENOFFICE.CURRENT(),Holidays!$G$3:$G$33,0))),"Magenta","Default"))) -> 39948 | O14: =N14+1+_xlfn.ORG.OPENOFFICE.STYLE(IF(NOT(ISNA(MATCH(_xlfn.ORG.OPENOFFICE.CURRENT(),Holidays!$E$3:$E$33,0))),"Green",IF(NOT(ISNA(MATCH(_xlfn.ORG.OPENOFFICE.CURRENT(),Holidays!$G$3:$G$33,0))),"Magenta","Default"))) -> 39949 | Q14: =W13+1+_xlfn.ORG.OPENOFFICE.STYLE(IF(NOT(ISNA(MATCH(_xlfn.ORG.OPENOFFICE.CURRENT(),Holidays!$E$3:$E$33,0))),"Green",IF(NOT(ISNA(MATCH(_xlfn.ORG.OPENOFFICE.CURRENT(),Holidays!$G$3:$G$33,0))),"Magenta","Default"))) -> 39978 | R14: =Q14+1+_xlfn.ORG.OPENOFFICE.STYLE(IF(NOT(ISNA(MATCH(_xlfn.ORG.OPENOFFICE.CURRENT(),Holidays!$E$3:$E$33,0))),"Green",IF(NOT(ISNA(MATCH(_xlfn.ORG.OPENOFFICE.CURRENT(),Holidays!$G$3:$G$33,0))),"Magenta","Default"))) -> 39979 | S14: =R14+1+_xlfn.ORG.OPENOFFICE.STYLE(IF(NOT(ISNA(MATCH(_xlfn.ORG.OPENOFFICE.CURRENT(),Holidays!$E$3:$E$33,0))),"Green",IF(NOT(ISNA(MATCH(_xlfn.ORG.OPENOFFICE.CURRENT(),Holidays!$G$3:$G$33,0))),"Magenta","Default"))) -> 39980 | T14: =S14+1+_xlfn.ORG.OPENOFFICE.STYLE(IF(NOT(ISNA(MATCH(_xlfn.ORG.OPENOFFICE.CURRENT(),Holidays!$E$3:$E$33,0))),"Green",IF(NOT(ISNA(MATCH(_xlfn.ORG.OPENOFFICE.CURRENT(),Holidays!$G$3:$G$33,0))),"Magenta","Default"))) -> 39981 | U14: =T14+1+_xlfn.ORG.OPENOFFICE.STYLE(IF(NOT(ISNA(MATCH(_xlfn.ORG.OPENOFFICE.CURRENT(),Holidays!$E$3:$E$33,0))),"Green",IF(NOT(ISNA(MATCH(_xlfn.ORG.OPENOFFICE.CURRENT(),Holidays!$G$3:$G$33,0))),"Magenta","Default"))) -> 39982 | V14: =U14+1+_xlfn.ORG.OPENOFFICE.STYLE(IF(NOT(ISNA(MATCH(_xlfn.ORG.OPENOFFICE.CURRENT(),Holidays!$E$3:$E$33,0))),"Green",IF(NOT(ISNA(MATCH(_xlfn.ORG.OPENOFFICE.CURRENT(),Holidays!$G$3:$G$33,0))),"Magenta","Default"))) -> 39983 | W14: =V14+1+_xlfn.ORG.OPENOFFICE.STYLE(IF(NOT(ISNA(MATCH(_xlfn.ORG.OPENOFFICE.CURRENT(),Holidays!$E$3:$E$33,0))),"Green",IF(NOT(ISNA(MATCH(_xlfn.ORG.OPENOFFICE.CURRENT(),Holidays!$G$3:$G$33,0))),"Magenta","Default"))) -> 39984
A15: =G14+1+_xlfn.ORG.OPENOFFICE.STYLE(IF(NOT(ISNA(MATCH(_xlfn.ORG.OPENOFFICE.CURRENT(),Holidays!$E$3:$E$33,0))),"Green",IF(NOT(ISNA(MATCH(_xlfn.ORG.OPENOFFICE.CURRENT(),Holidays!$G$3:$G$33,0))),"Magenta","Default"))) -> 39922 | B15: =A15+1+_xlfn.ORG.OPENOFFICE.STYLE(IF(NOT(ISNA(MATCH(_xlfn.ORG.OPENOFFICE.CURRENT(),Holidays!$E$3:$E$33,0))),"Green",IF(NOT(ISNA(MATCH(_xlfn.ORG.OPENOFFICE.CURRENT(),Holidays!$G$3:$G$33,0))),"Magenta","Default"))) -> 39923 | C15: =B15+1+_xlfn.ORG.OPENOFFICE.STYLE(IF(NOT(ISNA(MATCH(_xlfn.ORG.OPENOFFICE.CURRENT(),Holidays!$E$3:$E$33,0))),"Green",IF(NOT(ISNA(MATCH(_xlfn.ORG.OPENOFFICE.CURRENT(),Holidays!$G$3:$G$33,0))),"Magenta","Default"))) -> 39924 | D15: =C15+1+_xlfn.ORG.OPENOFFICE.STYLE(IF(NOT(ISNA(MATCH(_xlfn.ORG.OPENOFFICE.CURRENT(),Holidays!$E$3:$E$33,0))),"Green",IF(NOT(ISNA(MATCH(_xlfn.ORG.OPENOFFICE.CURRENT(),Holidays!$G$3:$G$33,0))),"Magenta","Default"))) -> 39925 | E15: =D15+1+_xlfn.ORG.OPENOFFICE.STYLE(IF(NOT(ISNA(MATCH(_xlfn.ORG.OPENOFFICE.CURRENT(),Holidays!$E$3:$E$33,0))),"Green",IF(NOT(ISNA(MATCH(_xlfn.ORG.OPENOFFICE.CURRENT(),Holidays!$G$3:$G$33,0))),"Magenta","Default"))) -> 39926 | F15: =E15+1+_xlfn.ORG.OPENOFFICE.STYLE(IF(NOT(ISNA(MATCH(_xlfn.ORG.OPENOFFICE.CURRENT(),Holidays!$E$3:$E$33,0))),"Green",IF(NOT(ISNA(MATCH(_xlfn.ORG.OPENOFFICE.CURRENT(),Holidays!$G$3:$G$33,0))),"Magenta","Default"))) -> 39927 | G15: =F15+1+_xlfn.ORG.OPENOFFICE.STYLE(IF(NOT(ISNA(MATCH(_xlfn.ORG.OPENOFFICE.CURRENT(),Holidays!$E$3:$E$33,0))),"Green",IF(NOT(ISNA(MATCH(_xlfn.ORG.OPENOFFICE.CURRENT(),Holidays!$G$3:$G$33,0))),"Magenta","Default"))) -> 39928 | I15: =O14+1+_xlfn.ORG.OPENOFFICE.STYLE(IF(NOT(ISNA(MATCH(_xlfn.ORG.OPENOFFICE.CURRENT(),Holidays!$E$3:$E$33,0))),"Green",IF(NOT(ISNA(MATCH(_xlfn.ORG.OPENOFFICE.CURRENT(),Holidays!$G$3:$G$33,0))),"Magenta","Default"))) -> 39950 | J15: =I15+1+_xlfn.ORG.OPENOFFICE.STYLE(IF(NOT(ISNA(MATCH(_xlfn.ORG.OPENOFFICE.CURRENT(),Holidays!$E$3:$E$33,0))),"Green",IF(NOT(ISNA(MATCH(_xlfn.ORG.OPENOFFICE.CURRENT(),Holidays!$G$3:$G$33,0))),"Magenta","Default"))) -> 39951 | K15: =J15+1+_xlfn.ORG.OPENOFFICE.STYLE(IF(NOT(ISNA(MATCH(_xlfn.ORG.OPENOFFICE.CURRENT(),Holidays!$E$3:$E$33,0))),"Green",IF(NOT(ISNA(MATCH(_xlfn.ORG.OPENOFFICE.CURRENT(),Holidays!$G$3:$G$33,0))),"Magenta","Default"))) -> 39952 | L15: =K15+1+_xlfn.ORG.OPENOFFICE.STYLE(IF(NOT(ISNA(MATCH(_xlfn.ORG.OPENOFFICE.CURRENT(),Holidays!$E$3:$E$33,0))),"Green",IF(NOT(ISNA(MATCH(_xlfn.ORG.OPENOFFICE.CURRENT(),Holidays!$G$3:$G$33,0))),"Magenta","Default"))) -> 39953 | M15: =L15+1+_xlfn.ORG.OPENOFFICE.STYLE(IF(NOT(ISNA(MATCH(_xlfn.ORG.OPENOFFICE.CURRENT(),Holidays!$E$3:$E$33,0))),"Green",IF(NOT(ISNA(MATCH(_xlfn.ORG.OPENOFFICE.CURRENT(),Holidays!$G$3:$G$33,0))),"Magenta","Default"))) -> 39954 | N15: =M15+1+_xlfn.ORG.OPENOFFICE.STYLE(IF(NOT(ISNA(MATCH(_xlfn.ORG.OPENOFFICE.CURRENT(),Holidays!$E$3:$E$33,0))),"Green",IF(NOT(ISNA(MATCH(_xlfn.ORG.OPENOFFICE.CURRENT(),Holidays!$G$3:$G$33,0))),"Magenta","Default"))) -> 39955 | O15: =N15+1+_xlfn.ORG.OPENOFFICE.STYLE(IF(NOT(ISNA(MATCH(_xlfn.ORG.OPENOFFICE.CURRENT(),Holidays!$E$3:$E$33,0))),"Green",IF(NOT(ISNA(MATCH(_xlfn.ORG.OPENOFFICE.CURRENT(),Holidays!$G$3:$G$33,0))),"Magenta","Default"))) -> 39956 | Q15: =W14+1+_xlfn.ORG.OPENOFFICE.STYLE(IF(NOT(ISNA(MATCH(_xlfn.ORG.OPENOFFICE.CURRENT(),Holidays!$E$3:$E$33,0))),"Green",IF(NOT(ISNA(MATCH(_xlfn.ORG.OPENOFFICE.CURRENT(),Holidays!$G$3:$G$33,0))),"Magenta","Default"))) -> 39985 | R15: =Q15+1+_xlfn.ORG.OPENOFFICE.STYLE(IF(NOT(ISNA(MATCH(_xlfn.ORG.OPENOFFICE.CURRENT(),Holidays!$E$3:$E$33,0))),"Green",IF(NOT(ISNA(MATCH(_xlfn.ORG.OPENOFFICE.CURRENT(),Holidays!$G$3:$G$33,0))),"Magenta","Default"))) -> 39986 | S15: =R15+1+_xlfn.ORG.OPENOFFICE.STYLE(IF(NOT(ISNA(MATCH(_xlfn.ORG.OPENOFFICE.CURRENT(),Holidays!$E$3:$E$33,0))),"Green",IF(NOT(ISNA(MATCH(_xlfn.ORG.OPENOFFICE.CURRENT(),Holidays!$G$3:$G$33,0))),"Magenta","Default"))) -> 39987 | T15: =S15+1+_xlfn.ORG.OPENOFFICE.STYLE(IF(NOT(ISNA(MATCH(_xlfn.ORG.OPENOFFICE.CURRENT(),Holidays!$E$3:$E$33,0))),"Green",IF(NOT(ISNA(MATCH(_xlfn.ORG.OPENOFFICE.CURRENT(),Holidays!$G$3:$G$33,0))),"Magenta","Default"))) -> 39988 | U15: =T15+1+_xlfn.ORG.OPENOFFICE.STYLE(IF(NOT(ISNA(MATCH(_xlfn.ORG.OPENOFFICE.CURRENT(),Holidays!$E$3:$E$33,0))),"Green",IF(NOT(ISNA(MATCH(_xlfn.ORG.OPENOFFICE.CURRENT(),Holidays!$G$3:$G$33,0))),"Magenta","Default"))) -> 39989 | V15: =U15+1+_xlfn.ORG.OPENOFFICE.STYLE(IF(NOT(ISNA(MATCH(_xlfn.ORG.OPENOFFICE.CURRENT(),Holidays!$E$3:$E$33,0))),"Green",IF(NOT(ISNA(MATCH(_xlfn.ORG.OPENOFFICE.CURRENT(),Holidays!$G$3:$G$33,0))),"Magenta","Default"))) -> 39990 | W15: =V15+1+_xlfn.ORG.OPENOFFICE.STYLE(IF(NOT(ISNA(MATCH(_xlfn.ORG.OPENOFFICE.CURRENT(),Holidays!$E$3:$E$33,0))),"Green",IF(NOT(ISNA(MATCH(_xlfn.ORG.OPENOFFICE.CURRENT(),Holidays!$G$3:$G$33,0))),"Magenta","Default"))) -> 39991
A16: =IF(MONTH(A14+14)=MONTH(A14), A14+14+_xlfn.ORG.OPENOFFICE.STYLE(IF(NOT(ISNA(MATCH(_xlfn.ORG.OPENOFFICE.CURRENT(),Holidays!$E$3:$E$33,0))),"Green",IF(NOT(ISNA(MATCH(_xlfn.ORG.OPENOFFICE.CURRENT(),Holidays!$G$3:$G$33,0))),"Magenta","Default"))), ""&T(_xlfn.ORG.OPENOFFICE.STYLE("Default"))) -> 39929 | B16: =IF(MONTH(B14+14)=MONTH(B14), B14+14+_xlfn.ORG.OPENOFFICE.STYLE(IF(NOT(ISNA(MATCH(_xlfn.ORG.OPENOFFICE.CURRENT(),Holidays!$E$3:$E$33,0))),"Green",IF(NOT(ISNA(MATCH(_xlfn.ORG.OPENOFFICE.CURRENT(),Holidays!$G$3:$G$33,0))),"Magenta","Default"))), ""&T(_xlfn.ORG.OPENOFFICE.STYLE("Default"))) -> 39930 | C16: =IF(MONTH(C14+14)=MONTH(C14), C14+14+_xlfn.ORG.OPENOFFICE.STYLE(IF(NOT(ISNA(MATCH(_xlfn.ORG.OPENOFFICE.CURRENT(),Holidays!$E$3:$E$33,0))),"Green",IF(NOT(ISNA(MATCH(_xlfn.ORG.OPENOFFICE.CURRENT(),Holidays!$G$3:$G$33,0))),"Magenta","Default"))), ""&T(_xlfn.ORG.OPENOFFICE.STYLE("Default"))) -> 39931 | D16: =IF(MONTH(D14+14)=MONTH(D14), D14+14+_xlfn.ORG.OPENOFFICE.STYLE(IF(NOT(ISNA(MATCH(_xlfn.ORG.OPENOFFICE.CURRENT(),Holidays!$E$3:$E$33,0))),"Green",IF(NOT(ISNA(MATCH(_xlfn.ORG.OPENOFFICE.CURRENT(),Holidays!$G$3:$G$33,0))),"Magenta","Default"))), ""&T(_xlfn.ORG.OPENOFFICE.STYLE("Default"))) -> 39932 | E16: =IF(MONTH(E14+14)=MONTH(E14), E14+14+_xlfn.ORG.OPENOFFICE.STYLE(IF(NOT(ISNA(MATCH(_xlfn.ORG.OPENOFFICE.CURRENT(),Holidays!$E$3:$E$33,0))),"Green",IF(NOT(ISNA(MATCH(_xlfn.ORG.OPENOFFICE.CURRENT(),Holidays!$G$3:$G$33,0))),"Magenta","Default"))), ""&T(_xlfn.ORG.OPENOFFICE.STYLE("Default"))) -> 39933 | F16: =IF(MONTH(F14+14)=MONTH(F14), F14+14+_xlfn.ORG.OPENOFFICE.STYLE(IF(NOT(ISNA(MATCH(_xlfn.ORG.OPENOFFICE.CURRENT(),Holidays!$E$3:$E$33,0))),"Green",IF(NOT(ISNA(MATCH(_xlfn.ORG.OPENOFFICE.CURRENT(),Holidays!$G$3:$G$33,0))),"Magenta","Default"))), ""&T(_xlfn.ORG.OPENOFFICE.STYLE("Default"))) | G16: =IF(MONTH(G14+14)=MONTH(G14), G14+14+_xlfn.ORG.OPENOFFICE.STYLE(IF(NOT(ISNA(MATCH(_xlfn.ORG.OPENOFFICE.CURRENT(),Holidays!$E$3:$E$33,0))),"Green",IF(NOT(ISNA(MATCH(_xlfn.ORG.OPENOFFICE.CURRENT(),Holidays!$G$3:$G$33,0))),"Magenta","Default"))), ""&T(_xlfn.ORG.OPENOFFICE.STYLE("Default"))) | I16: =IF(MONTH(I14+14)=MONTH(I14), I14+14+_xlfn.ORG.OPENOFFICE.STYLE(IF(NOT(ISNA(MATCH(_xlfn.ORG.OPENOFFICE.CURRENT(),Holidays!$E$3:$E$33,0))),"Green",IF(NOT(ISNA(MATCH(_xlfn.ORG.OPENOFFICE.CURRENT(),Holidays!$G$3:$G$33,0))),"Magenta","Default"))), ""&T(_xlfn.ORG.OPENOFFICE.STYLE("Default"))) -> 39957 | J16: =IF(MONTH(J14+14)=MONTH(J14), J14+14+_xlfn.ORG.OPENOFFICE.STYLE(IF(NOT(ISNA(MATCH(_xlfn.ORG.OPENOFFICE.CURRENT(),Holidays!$E$3:$E$33,0))),"Green",IF(NOT(ISNA(MATCH(_xlfn.ORG.OPENOFFICE.CURRENT(),Holidays!$G$3:$G$33,0))),"Magenta","Default"))), ""&T(_xlfn.ORG.OPENOFFICE.STYLE("Default"))) -> 39958 | K16: =IF(MONTH(K14+14)=MONTH(K14), K14+14+_xlfn.ORG.OPENOFFICE.STYLE(IF(NOT(ISNA(MATCH(_xlfn.ORG.OPENOFFICE.CURRENT(),Holidays!$E$3:$E$33,0))),"Green",IF(NOT(ISNA(MATCH(_xlfn.ORG.OPENOFFICE.CURRENT(),Holidays!$G$3:$G$33,0))),"Magenta","Default"))), ""&T(_xlfn.ORG.OPENOFFICE.STYLE("Default"))) -> 39959 | L16: =IF(MONTH(L14+14)=MONTH(L14), L14+14+_xlfn.ORG.OPENOFFICE.STYLE(IF(NOT(ISNA(MATCH(_xlfn.ORG.OPENOFFICE.CURRENT(),Holidays!$E$3:$E$33,0))),"Green",IF(NOT(ISNA(MATCH(_xlfn.ORG.OPENOFFICE.CURRENT(),Holidays!$G$3:$G$33,0))),"Magenta","Default"))), ""&T(_xlfn.ORG.OPENOFFICE.STYLE("Default"))) -> 39960 | M16: =IF(MONTH(M14+14)=MONTH(M14), M14+14+_xlfn.ORG.OPENOFFICE.STYLE(IF(NOT(ISNA(MATCH(_xlfn.ORG.OPENOFFICE.CURRENT(),Holidays!$E$3:$E$33,0))),"Green",IF(NOT(ISNA(MATCH(_xlfn.ORG.OPENOFFICE.CURRENT(),Holidays!$G$3:$G$33,0))),"Magenta","Default"))), ""&T(_xlfn.ORG.OPENOFFICE.STYLE("Default"))) -> 39961 | N16: =IF(MONTH(N14+14)=MONTH(N14), N14+14+_xlfn.ORG.OPENOFFICE.STYLE(IF(NOT(ISNA(MATCH(_xlfn.ORG.OPENOFFICE.CURRENT(),Holidays!$E$3:$E$33,0))),"Green",IF(NOT(ISNA(MATCH(_xlfn.ORG.OPENOFFICE.CURRENT(),Holidays!$G$3:$G$33,0))),"Magenta","Default"))), ""&T(_xlfn.ORG.OPENOFFICE.STYLE("Default"))) -> 39962 | O16: =IF(MONTH(O14+14)=MONTH(O14), O14+14+_xlfn.ORG.OPENOFFICE.STYLE(IF(NOT(ISNA(MATCH(_xlfn.ORG.OPENOFFICE.CURRENT(),Holidays!$E$3:$E$33,0))),"Green",IF(NOT(ISNA(MATCH(_xlfn.ORG.OPENOFFICE.CURRENT(),Holidays!$G$3:$G$33,0))),"Magenta","Default"))), ""&T(_xlfn.ORG.OPENOFFICE.STYLE("Default"))) -> 39963 | Q16: =IF(MONTH(Q14+14)=MONTH(Q14), Q14+14+_xlfn.ORG.OPENOFFICE.STYLE(IF(NOT(ISNA(MATCH(_xlfn.ORG.OPENOFFICE.CURRENT(),Holidays!$E$3:$E$33,0))),"Green",IF(NOT(ISNA(MATCH(_xlfn.ORG.OPENOFFICE.CURRENT(),Holidays!$G$3:$G$33,0))),"Magenta","Default"))), ""&T(_xlfn.ORG.OPENOFFICE.STYLE("Default"))) -> 39992 | R16: =IF(MONTH(R14+14)=MONTH(R14), R14+14+_xlfn.ORG.OPENOFFICE.STYLE(IF(NOT(ISNA(MATCH(_xlfn.ORG.OPENOFFICE.CURRENT(),Holidays!$E$3:$E$33,0))),"Green",IF(NOT(ISNA(MATCH(_xlfn.ORG.OPENOFFICE.CURRENT(),Holidays!$G$3:$G$33,0))),"Magenta","Default"))), ""&T(_xlfn.ORG.OPENOFFICE.STYLE("Default"))) -> 39993 | S16: =IF(MONTH(S14+14)=MONTH(S14), S14+14+_xlfn.ORG.OPENOFFICE.STYLE(IF(NOT(ISNA(MATCH(_xlfn.ORG.OPENOFFICE.CURRENT(),Holidays!$E$3:$E$33,0))),"Green",IF(NOT(ISNA(MATCH(_xlfn.ORG.OPENOFFICE.CURRENT(),Holidays!$G$3:$G$33,0))),"Magenta","Default"))), ""&T(_xlfn.ORG.OPENOFFICE.STYLE("Default"))) -> 39994 | T16: =IF(MONTH(T14+14)=MONTH(T14), T14+14+_xlfn.ORG.OPENOFFICE.STYLE(IF(NOT(ISNA(MATCH(_xlfn.ORG.OPENOFFICE.CURRENT(),Holidays!$E$3:$E$33,0))),"Green",IF(NOT(ISNA(MATCH(_xlfn.ORG.OPENOFFICE.CURRENT(),Holidays!$G$3:$G$33,0))),"Magenta","Default"))), ""&T(_xlfn.ORG.OPENOFFICE.STYLE("Default"))) | U16: =IF(MONTH(U14+14)=MONTH(U14), U14+14+_xlfn.ORG.OPENOFFICE.STYLE(IF(NOT(ISNA(MATCH(_xlfn.ORG.OPENOFFICE.CURRENT(),Holidays!$E$3:$E$33,0))),"Green",IF(NOT(ISNA(MATCH(_xlfn.ORG.OPENOFFICE.CURRENT(),Holidays!$G$3:$G$33,0))),"Magenta","Default"))), ""&T(_xlfn.ORG.OPENOFFICE.STYLE("Default"))) | V16: =IF(MONTH(V14+14)=MONTH(V14), V14+14+_xlfn.ORG.OPENOFFICE.STYLE(IF(NOT(ISNA(MATCH(_xlfn.ORG.OPENOFFICE.CURRENT(),Holidays!$E$3:$E$33,0))),"Green",IF(NOT(ISNA(MATCH(_xlfn.ORG.OPENOFFICE.CURRENT(),Holidays!$G$3:$G$33,0))),"Magenta","Default"))), ""&T(_xlfn.ORG.OPENOFFICE.STYLE("Default"))) | W16: =IF(MONTH(W14+14)=MONTH(W14), W14+14+_xlfn.ORG.OPENOFFICE.STYLE(IF(NOT(ISNA(MATCH(_xlfn.ORG.OPENOFFICE.CURRENT(),Holidays!$E$3:$E$33,0))),"Green",IF(NOT(ISNA(MATCH(_xlfn.ORG.OPENOFFICE.CURRENT(),Holidays!$G$3:$G$33,0))),"Magenta","Default"))), ""&T(_xlfn.ORG.OPENOFFICE.STYLE("Default")))
A17: =IF(MONTH(A15+14)=MONTH(A15), A15+14+_xlfn.ORG.OPENOFFICE.STYLE(IF(NOT(ISNA(MATCH(_xlfn.ORG.OPENOFFICE.CURRENT(),Holidays!$E$3:$E$33,0))),"Green",IF(NOT(ISNA(MATCH(_xlfn.ORG.OPENOFFICE.CURRENT(),Holidays!$G$3:$G$33,0))),"Magenta","Default"))), ""&T(_xlfn.ORG.OPENOFFICE.STYLE("Default"))) | B17: =IF(MONTH(B15+14)=MONTH(B15), B15+14+_xlfn.ORG.OPENOFFICE.STYLE(IF(NOT(ISNA(MATCH(_xlfn.ORG.OPENOFFICE.CURRENT(),Holidays!$E$3:$E$33,0))),"Green",IF(NOT(ISNA(MATCH(_xlfn.ORG.OPENOFFICE.CURRENT(),Holidays!$G$3:$G$33,0))),"Magenta","Default"))), ""&T(_xlfn.ORG.OPENOFFICE.STYLE("Default"))) | C17: =IF(MONTH(C15+14)=MONTH(C15), C15+14+_xlfn.ORG.OPENOFFICE.STYLE(IF(NOT(ISNA(MATCH(_xlfn.ORG.OPENOFFICE.CURRENT(),Holidays!$E$3:$E$33,0))),"Green",IF(NOT(ISNA(MATCH(_xlfn.ORG.OPENOFFICE.CURRENT(),Holidays!$G$3:$G$33,0))),"Magenta","Default"))), ""&T(_xlfn.ORG.OPENOFFICE.STYLE("Default"))) | D17: =IF(MONTH(D15+14)=MONTH(D15), D15+14+_xlfn.ORG.OPENOFFICE.STYLE(IF(NOT(ISNA(MATCH(_xlfn.ORG.OPENOFFICE.CURRENT(),Holidays!$E$3:$E$33,0))),"Green",IF(NOT(ISNA(MATCH(_xlfn.ORG.OPENOFFICE.CURRENT(),Holidays!$G$3:$G$33,0))),"Magenta","Default"))), ""&T(_xlfn.ORG.OPENOFFICE.STYLE("Default"))) | E17: =IF(MONTH(E15+14)=MONTH(E15), E15+14+_xlfn.ORG.OPENOFFICE.STYLE(IF(NOT(ISNA(MATCH(_xlfn.ORG.OPENOFFICE.CURRENT(),Holidays!$E$3:$E$33,0))),"Green",IF(NOT(ISNA(MATCH(_xlfn.ORG.OPENOFFICE.CURRENT(),Holidays!$G$3:$G$33,0))),"Magenta","Default"))), ""&T(_xlfn.ORG.OPENOFFICE.STYLE("Default"))) | F17: =IF(MONTH(F15+14)=MONTH(F15), F15+14+_xlfn.ORG.OPENOFFICE.STYLE(IF(NOT(ISNA(MATCH(_xlfn.ORG.OPENOFFICE.CURRENT(),Holidays!$E$3:$E$33,0))),"Green",IF(NOT(ISNA(MATCH(_xlfn.ORG.OPENOFFICE.CURRENT(),Holidays!$G$3:$G$33,0))),"Magenta","Default"))), ""&T(_xlfn.ORG.OPENOFFICE.STYLE("Default"))) | G17: =IF(MONTH(G15+14)=MONTH(G15), G15+14+_xlfn.ORG.OPENOFFICE.STYLE(IF(NOT(ISNA(MATCH(_xlfn.ORG.OPENOFFICE.CURRENT(),Holidays!$E$3:$E$33,0))),"Green",IF(NOT(ISNA(MATCH(_xlfn.ORG.OPENOFFICE.CURRENT(),Holidays!$G$3:$G$33,0))),"Magenta","Default"))), ""&T(_xlfn.ORG.OPENOFFICE.STYLE("Default"))) | I17: =IF(MONTH(I15+14)=MONTH(I15), I15+14+_xlfn.ORG.OPENOFFICE.STYLE(IF(NOT(ISNA(MATCH(_xlfn.ORG.OPENOFFICE.CURRENT(),Holidays!$E$3:$E$33,0))),"Green",IF(NOT(ISNA(MATCH(_xlfn.ORG.OPENOFFICE.CURRENT(),Holidays!$G$3:$G$33,0))),"Magenta","Default"))), ""&T(_xlfn.ORG.OPENOFFICE.STYLE("Default"))) -> 39964 | J17: =IF(MONTH(J15+14)=MONTH(J15), J15+14+_xlfn.ORG.OPENOFFICE.STYLE(IF(NOT(ISNA(MATCH(_xlfn.ORG.OPENOFFICE.CURRENT(),Holidays!$E$3:$E$33,0))),"Green",IF(NOT(ISNA(MATCH(_xlfn.ORG.OPENOFFICE.CURRENT(),Holidays!$G$3:$G$33,0))),"Magenta","Default"))), ""&T(_xlfn.ORG.OPENOFFICE.STYLE("Default"))) | K17: =IF(MONTH(K15+14)=MONTH(K15), K15+14+_xlfn.ORG.OPENOFFICE.STYLE(IF(NOT(ISNA(MATCH(_xlfn.ORG.OPENOFFICE.CURRENT(),Holidays!$E$3:$E$33,0))),"Green",IF(NOT(ISNA(MATCH(_xlfn.ORG.OPENOFFICE.CURRENT(),Holidays!$G$3:$G$33,0))),"Magenta","Default"))), ""&T(_xlfn.ORG.OPENOFFICE.STYLE("Default"))) | L17: =IF(MONTH(L15+14)=MONTH(L15), L15+14+_xlfn.ORG.OPENOFFICE.STYLE(IF(NOT(ISNA(MATCH(_xlfn.ORG.OPENOFFICE.CURRENT(),Holidays!$E$3:$E$33,0))),"Green",IF(NOT(ISNA(MATCH(_xlfn.ORG.OPENOFFICE.CURRENT(),Holidays!$G$3:$G$33,0))),"Magenta","Default"))), ""&T(_xlfn.ORG.OPENOFFICE.STYLE("Default"))) | M17: =IF(MONTH(M15+14)=MONTH(M15), M15+14+_xlfn.ORG.OPENOFFICE.STYLE(IF(NOT(ISNA(MATCH(_xlfn.ORG.OPENOFFICE.CURRENT(),Holidays!$E$3:$E$33,0))),"Green",IF(NOT(ISNA(MATCH(_xlfn.ORG.OPENOFFICE.CURRENT(),Holidays!$G$3:$G$33,0))),"Magenta","Default"))), ""&T(_xlfn.ORG.OPENOFFICE.STYLE("Default"))) | N17: =IF(MONTH(N15+14)=MONTH(N15), N15+14+_xlfn.ORG.OPENOFFICE.STYLE(IF(NOT(ISNA(MATCH(_xlfn.ORG.OPENOFFICE.CURRENT(),Holidays!$E$3:$E$33,0))),"Green",IF(NOT(ISNA(MATCH(_xlfn.ORG.OPENOFFICE.CURRENT(),Holidays!$G$3:$G$33,0))),"Magenta","Default"))), ""&T(_xlfn.ORG.OPENOFFICE.STYLE("Default"))) | O17: =IF(MONTH(O15+14)=MONTH(O15), O15+14+_xlfn.ORG.OPENOFFICE.STYLE(IF(NOT(ISNA(MATCH(_xlfn.ORG.OPENOFFICE.CURRENT(),Holidays!$E$3:$E$33,0))),"Green",IF(NOT(ISNA(MATCH(_xlfn.ORG.OPENOFFICE.CURRENT(),Holidays!$G$3:$G$33,0))),"Magenta","Default"))), ""&T(_xlfn.ORG.OPENOFFICE.STYLE("Default"))) | Q17: =IF(MONTH(Q15+14)=MONTH(Q15), Q15+14+_xlfn.ORG.OPENOFFICE.STYLE(IF(NOT(ISNA(MATCH(_xlfn.ORG.OPENOFFICE.CURRENT(),Holidays!$E$3:$E$33,0))),"Green",IF(NOT(ISNA(MATCH(_xlfn.ORG.OPENOFFICE.CURRENT(),Holidays!$G$3:$G$33,0))),"Magenta","Default"))), ""&T(_xlfn.ORG.OPENOFFICE.STYLE("Default"))) | R17: =IF(MONTH(R15+14)=MONTH(R15), R15+14+_xlfn.ORG.OPENOFFICE.STYLE(IF(NOT(ISNA(MATCH(_xlfn.ORG.OPENOFFICE.CURRENT(),Holidays!$E$3:$E$33,0))),"Green",IF(NOT(ISNA(MATCH(_xlfn.ORG.OPENOFFICE.CURRENT(),Holidays!$G$3:$G$33,0))),"Magenta","Default"))), ""&T(_xlfn.ORG.OPENOFFICE.STYLE("Default"))) | S17: =IF(MONTH(S15+14)=MONTH(S15), S15+14+_xlfn.ORG.OPENOFFICE.STYLE(IF(NOT(ISNA(MATCH(_xlfn.ORG.OPENOFFICE.CURRENT(),Holidays!$E$3:$E$33,0))),"Green",IF(NOT(ISNA(MATCH(_xlfn.ORG.OPENOFFICE.CURRENT(),Holidays!$G$3:$G$33,0))),"Magenta","Default"))), ""&T(_xlfn.ORG.OPENOFFICE.STYLE("Default"))) | T17: =IF(MONTH(T15+14)=MONTH(T15), T15+14+_xlfn.ORG.OPENOFFICE.STYLE(IF(NOT(ISNA(MATCH(_xlfn.ORG.OPENOFFICE.CURRENT(),Holidays!$E$3:$E$33,0))),"Green",IF(NOT(ISNA(MATCH(_xlfn.ORG.OPENOFFICE.CURRENT(),Holidays!$G$3:$G$33,0))),"Magenta","Default"))), ""&T(_xlfn.ORG.OPENOFFICE.STYLE("Default"))) | U17: =IF(MONTH(U15+14)=MONTH(U15), U15+14+_xlfn.ORG.OPENOFFICE.STYLE(IF(NOT(ISNA(MATCH(_xlfn.ORG.OPENOFFICE.CURRENT(),Holidays!$E$3:$E$33,0))),"Green",IF(NOT(ISNA(MATCH(_xlfn.ORG.OPENOFFICE.CURRENT(),Holidays!$G$3:$G$33,0))),"Magenta","Default"))), ""&T(_xlfn.ORG.OPENOFFICE.STYLE("Default"))) | V17: =IF(MONTH(V15+14)=MONTH(V15), V15+14+_xlfn.ORG.OPENOFFICE.STYLE(IF(NOT(ISNA(MATCH(_xlfn.ORG.OPENOFFICE.CURRENT(),Holidays!$E$3:$E$33,0))),"Green",IF(NOT(ISNA(MATCH(_xlfn.ORG.OPENOFFICE.CURRENT(),Holidays!$G$3:$G$33,0))),"Magenta","Default"))), ""&T(_xlfn.ORG.OPENOFFICE.STYLE("Default"))) | W17: =IF(MONTH(W15+14)=MONTH(W15), W15+14+_xlfn.ORG.OPENOFFICE.STYLE(IF(NOT(ISNA(MATCH(_xlfn.ORG.OPENOFFICE.CURRENT(),Holidays!$E$3:$E$33,0))),"Green",IF(NOT(ISNA(MATCH(_xlfn.ORG.OPENOFFICE.CURRENT(),Holidays!$G$3:$G$33,0))),"Magenta","Default"))), ""&T(_xlfn.ORG.OPENOFFICE.STYLE("Default")))
A18: =DATE($A$1,7,1) -> 39995 | I18: =DATE($A$1,8,1) -> 40026 | Q18: =DATE($A$1,9,1) -> 40057
A19: Sun | B19: Mon | C19: Tue | D19: Wed | E19: Thu | F19: Fri | G19: Sat | I19: Sun | J19: Mon | K19: Tue | L19: Wed | M19: Thu | N19: Fri | O19: Sat | Q19: Sun | R19: Mon | S19: Tue | T19: Wed | U19: Thu | V19: Fri | W19: Sat
A20: =IF(WEEKDAY(A18)=1,A18+_xlfn.ORG.OPENOFFICE.STYLE(IF(NOT(ISNA(MATCH(_xlfn.ORG.OPENOFFICE.CURRENT(),Holidays!$E$3:$E$33,0))),"Green",IF(NOT(ISNA(MATCH(_xlfn.ORG.OPENOFFICE.CURRENT(),Holidays!$G$3:$G$33,0))),"Magenta","Default"))),""&T(_xlfn.ORG.OPENOFFICE.STYLE("Default"))) | B20: =IF(WEEKDAY(A18)<=2,A18+2-WEEKDAY(A18)+_xlfn.ORG.OPENOFFICE.STYLE(IF(NOT(ISNA(MATCH(_xlfn.ORG.OPENOFFICE.CURRENT(),Holidays!$E$3:$E$33,0))),"Green",IF(NOT(ISNA(MATCH(_xlfn.ORG.OPENOFFICE.CURRENT(),Holidays!$G$3:$G$33,0))),"Magenta","Default"))),""&T(_xlfn.ORG.OPENOFFICE.STYLE("Default"))) | C20: =IF(WEEKDAY(A18)<=3,A18+3-WEEKDAY(A18)+_xlfn.ORG.OPENOFFICE.STYLE(IF(NOT(ISNA(MATCH(_xlfn.ORG.OPENOFFICE.CURRENT(),Holidays!$E$3:$E$33,0))),"Green",IF(NOT(ISNA(MATCH(_xlfn.ORG.OPENOFFICE.CURRENT(),Holidays!$G$3:$G$33,0))),"Magenta","Default"))),""&T(_xlfn.ORG.OPENOFFICE.STYLE("Default"))) | D20: =IF(WEEKDAY(A18)<=4,A18+4-WEEKDAY(A18)+_xlfn.ORG.OPENOFFICE.STYLE(IF(NOT(ISNA(MATCH(_xlfn.ORG.OPENOFFICE.CURRENT(),Holidays!$E$3:$E$33,0))),"Green",IF(NOT(ISNA(MATCH(_xlfn.ORG.OPENOFFICE.CURRENT(),Holidays!$G$3:$G$33,0))),"Magenta","Default"))),""&T(_xlfn.ORG.OPENOFFICE.STYLE("Default"))) -> 39995 | E20: =IF(WEEKDAY(A18)<=5,A18+5-WEEKDAY(A18)+_xlfn.ORG.OPENOFFICE.STYLE(IF(NOT(ISNA(MATCH(_xlfn.ORG.OPENOFFICE.CURRENT(),Holidays!$E$3:$E$33,0))),"Green",IF(NOT(ISNA(MATCH(_xlfn.ORG.OPENOFFICE.CURRENT(),Holidays!$G$3:$G$33,0))),"Magenta","Default"))),""&T(_xlfn.ORG.OPENOFFICE.STYLE("Default"))) -> 39996 | F20: =IF(WEEKDAY(A18)<=6,A18+6-WEEKDAY(A18)+_xlfn.ORG.OPENOFFICE.STYLE(IF(NOT(ISNA(MATCH(_xlfn.ORG.OPENOFFICE.CURRENT(),Holidays!$E$3:$E$33,0))),"Green",IF(NOT(ISNA(MATCH(_xlfn.ORG.OPENOFFICE.CURRENT(),Holidays!$G$3:$G$33,0))),"Magenta","Default"))),""&T(_xlfn.ORG.OPENOFFICE.STYLE("Default"))) -> 39997 | G20: =IF(WEEKDAY(A18)<=7,A18+7-WEEKDAY(A18)+_xlfn.ORG.OPENOFFICE.STYLE(IF(NOT(ISNA(MATCH(_xlfn.ORG.OPENOFFICE.CURRENT(),Holidays!$E$3:$E$33,0))),"Green",IF(NOT(ISNA(MATCH(_xlfn.ORG.OPENOFFICE.CURRENT(),Holidays!$G$3:$G$33,0))),"Magenta","Default"))),""&T(_xlfn.ORG.OPENOFFICE.STYLE("Default"))) -> 39998 | I20: =IF(WEEKDAY(I18)=1,I18+_xlfn.ORG.OPENOFFICE.STYLE(IF(NOT(ISNA(MATCH(_xlfn.ORG.OPENOFFICE.CURRENT(),Holidays!$E$3:$E$33,0))),"Green",IF(NOT(ISNA(MATCH(_xlfn.ORG.OPENOFFICE.CURRENT(),Holidays!$G$3:$G$33,0))),"Magenta","Default"))),""&T(_xlfn.ORG.OPENOFFICE.STYLE("Default"))) | J20: =IF(WEEKDAY(I18)<=2,I18+2-WEEKDAY(I18)+_xlfn.ORG.OPENOFFICE.STYLE(IF(NOT(ISNA(MATCH(_xlfn.ORG.OPENOFFICE.CURRENT(),Holidays!$E$3:$E$33,0))),"Green",IF(NOT(ISNA(MATCH(_xlfn.ORG.OPENOFFICE.CURRENT(),Holidays!$G$3:$G$33,0))),"Magenta","Default"))),""&T(_xlfn.ORG.OPENOFFICE.STYLE("Default"))) | K20: =IF(WEEKDAY(I18)<=3,I18+3-WEEKDAY(I18)+_xlfn.ORG.OPENOFFICE.STYLE(IF(NOT(ISNA(MATCH(_xlfn.ORG.OPENOFFICE.CURRENT(),Holidays!$E$3:$E$33,0))),"Green",IF(NOT(ISNA(MATCH(_xlfn.ORG.OPENOFFICE.CURRENT(),Holidays!$G$3:$G$33,0))),"Magenta","Default"))),""&T(_xlfn.ORG.OPENOFFICE.STYLE("Default"))) | L20: =IF(WEEKDAY(I18)<=4,I18+4-WEEKDAY(I18)+_xlfn.ORG.OPENOFFICE.STYLE(IF(NOT(ISNA(MATCH(_xlfn.ORG.OPENOFFICE.CURRENT(),Holidays!$E$3:$E$33,0))),"Green",IF(NOT(ISNA(MATCH(_xlfn.ORG.OPENOFFICE.CURRENT(),Holidays!$G$3:$G$33,0))),"Magenta","Default"))),""&T(_xlfn.ORG.OPENOFFICE.STYLE("Default"))) | M20: =IF(WEEKDAY(I18)<=5,I18+5-WEEKDAY(I18)+_xlfn.ORG.OPENOFFICE.STYLE(IF(NOT(ISNA(MATCH(_xlfn.ORG.OPENOFFICE.CURRENT(),Holidays!$E$3:$E$33,0))),"Green",IF(NOT(ISNA(MATCH(_xlfn.ORG.OPENOFFICE.CURRENT(),Holidays!$G$3:$G$33,0))),"Magenta","Default"))),""&T(_xlfn.ORG.OPENOFFICE.STYLE("Default"))) | N20: =IF(WEEKDAY(I18)<=6,I18+6-WEEKDAY(I18)+_xlfn.ORG.OPENOFFICE.STYLE(IF(NOT(ISNA(MATCH(_xlfn.ORG.OPENOFFICE.CURRENT(),Holidays!$E$3:$E$33,0))),"Green",IF(NOT(ISNA(MATCH(_xlfn.ORG.OPENOFFICE.CURRENT(),Holidays!$G$3:$G$33,0))),"Magenta","Default"))),""&T(_xlfn.ORG.OPENOFFICE.STYLE("Default"))) | O20: =IF(WEEKDAY(I18)<=7,I18+7-WEEKDAY(I18)+_xlfn.ORG.OPENOFFICE.STYLE(IF(NOT(ISNA(MATCH(_xlfn.ORG.OPENOFFICE.CURRENT(),Holidays!$E$3:$E$33,0))),"Green",IF(NOT(ISNA(MATCH(_xlfn.ORG.OPENOFFICE.CURRENT(),Holidays!$G$3:$G$33,0))),"Magenta","Default"))),""&T(_xlfn.ORG.OPENOFFICE.STYLE("Default"))) -> 40026 | Q20: =IF(WEEKDAY(Q18)=1,Q18+_xlfn.ORG.OPENOFFICE.STYLE(IF(NOT(ISNA(MATCH(_xlfn.ORG.OPENOFFICE.CURRENT(),Holidays!$E$3:$E$33,0))),"Green",IF(NOT(ISNA(MATCH(_xlfn.ORG.OPENOFFICE.CURRENT(),Holidays!$G$3:$G$33,0))),"Magenta","Default"))),""&T(_xlfn.ORG.OPENOFFICE.STYLE("Default"))) | R20: =IF(WEEKDAY(Q18)<=2,Q18+2-WEEKDAY(Q18)+_xlfn.ORG.OPENOFFICE.STYLE(IF(NOT(ISNA(MATCH(_xlfn.ORG.OPENOFFICE.CURRENT(),Holidays!$E$3:$E$33,0))),"Green",IF(NOT(ISNA(MATCH(_xlfn.ORG.OPENOFFICE.CURRENT(),Holidays!$G$3:$G$33,0))),"Magenta","Default"))),""&T(_xlfn.ORG.OPENOFFICE.STYLE("Default"))) | S20: =IF(WEEKDAY(Q18)<=3,Q18+3-WEEKDAY(Q18)+_xlfn.ORG.OPENOFFICE.STYLE(IF(NOT(ISNA(MATCH(_xlfn.ORG.OPENOFFICE.CURRENT(),Holidays!$E$3:$E$33,0))),"Green",IF(NOT(ISNA(MATCH(_xlfn.ORG.OPENOFFICE.CURRENT(),Holidays!$G$3:$G$33,0))),"Magenta","Default"))),""&T(_xlfn.ORG.OPENOFFICE.STYLE("Default"))) -> 40057 | T20: =IF(WEEKDAY(Q18)<=4,Q18+4-WEEKDAY(Q18)+_xlfn.ORG.OPENOFFICE.STYLE(IF(NOT(ISNA(MATCH(_xlfn.ORG.OPENOFFICE.CURRENT(),Holidays!$E$3:$E$33,0))),"Green",IF(NOT(ISNA(MATCH(_xlfn.ORG.OPENOFFICE.CURRENT(),Holidays!$G$3:$G$33,0))),"Magenta","Default"))),""&T(_xlfn.ORG.OPENOFFICE.STYLE("Default"))) -> 40058 | U20: =IF(WEEKDAY(Q18)<=5,Q18+5-WEEKDAY(Q18)+_xlfn.ORG.OPENOFFICE.STYLE(IF(NOT(ISNA(MATCH(_xlfn.ORG.OPENOFFICE.CURRENT(),Holidays!$E$3:$E$33,0))),"Green",IF(NOT(ISNA(MATCH(_xlfn.ORG.OPENOFFICE.CURRENT(),Holidays!$G$3:$G$33,0))),"Magenta","Default"))),""&T(_xlfn.ORG.OPENOFFICE.STYLE("Default"))) -> 40059 | V20: =IF(WEEKDAY(Q18)<=6,Q18+6-WEEKDAY(Q18)+_xlfn.ORG.OPENOFFICE.STYLE(IF(NOT(ISNA(MATCH(_xlfn.ORG.OPENOFFICE.CURRENT(),Holidays!$E$3:$E$33,0))),"Green",IF(NOT(ISNA(MATCH(_xlfn.ORG.OPENOFFICE.CURRENT(),Holidays!$G$3:$G$33,0))),"Magenta","Default"))),""&T(_xlfn.ORG.OPENOFFICE.STYLE("Default"))) -> 40060 | W20: =IF(WEEKDAY(Q18)<=7,Q18+7-WEEKDAY(Q18)+_xlfn.ORG.OPENOFFICE.STYLE(IF(NOT(ISNA(MATCH(_xlfn.ORG.OPENOFFICE.CURRENT(),Holidays!$E$3:$E$33,0))),"Green",IF(NOT(ISNA(MATCH(_xlfn.ORG.OPENOFFICE.CURRENT(),Holidays!$G$3:$G$33,0))),"Magenta","Default"))),""&T(_xlfn.ORG.OPENOFFICE.STYLE("Default"))) -> 40061
A21: =G20+1+_xlfn.ORG.OPENOFFICE.STYLE(IF(NOT(ISNA(MATCH(_xlfn.ORG.OPENOFFICE.CURRENT(),Holidays!$E$3:$E$33,0))),"Green",IF(NOT(ISNA(MATCH(_xlfn.ORG.OPENOFFICE.CURRENT(),Holidays!$G$3:$G$33,0))),"Magenta","Default"))) -> 39999 | B21: =A21+1+_xlfn.ORG.OPENOFFICE.STYLE(IF(NOT(ISNA(MATCH(_xlfn.ORG.OPENOFFICE.CURRENT(),Holidays!$E$3:$E$33,0))),"Green",IF(NOT(ISNA(MATCH(_xlfn.ORG.OPENOFFICE.CURRENT(),Holidays!$G$3:$G$33,0))),"Magenta","Default"))) -> 40000 | C21: =B21+1+_xlfn.ORG.OPENOFFICE.STYLE(IF(NOT(ISNA(MATCH(_xlfn.ORG.OPENOFFICE.CURRENT(),Holidays!$E$3:$E$33,0))),"Green",IF(NOT(ISNA(MATCH(_xlfn.ORG.OPENOFFICE.CURRENT(),Holidays!$G$3:$G$33,0))),"Magenta","Default"))) -> 40001 | D21: =C21+1+_xlfn.ORG.OPENOFFICE.STYLE(IF(NOT(ISNA(MATCH(_xlfn.ORG.OPENOFFICE.CURRENT(),Holidays!$E$3:$E$33,0))),"Green",IF(NOT(ISNA(MATCH(_xlfn.ORG.OPENOFFICE.CURRENT(),Holidays!$G$3:$G$33,0))),"Magenta","Default"))) -> 40002 | E21: =D21+1+_xlfn.ORG.OPENOFFICE.STYLE(IF(NOT(ISNA(MATCH(_xlfn.ORG.OPENOFFICE.CURRENT(),Holidays!$E$3:$E$33,0))),"Green",IF(NOT(ISNA(MATCH(_xlfn.ORG.OPENOFFICE.CURRENT(),Holidays!$G$3:$G$33,0))),"Magenta","Default"))) -> 40003 | F21: =E21+1+_xlfn.ORG.OPENOFFICE.STYLE(IF(NOT(ISNA(MATCH(_xlfn.ORG.OPENOFFICE.CURRENT(),Holidays!$E$3:$E$33,0))),"Green",IF(NOT(ISNA(MATCH(_xlfn.ORG.OPENOFFICE.CURRENT(),Holidays!$G$3:$G$33,0))),"Magenta","Default"))) -> 40004 | G21: =F21+1+_xlfn.ORG.OPENOFFICE.STYLE(IF(NOT(ISNA(MATCH(_xlfn.ORG.OPENOFFICE.CURRENT(),Holidays!$E$3:$E$33,0))),"Green",IF(NOT(ISNA(MATCH(_xlfn.ORG.OPENOFFICE.CURRENT(),Holidays!$G$3:$G$33,0))),"Magenta","Default"))) -> 40005 | I21: =O20+1+_xlfn.ORG.OPENOFFICE.STYLE(IF(NOT(ISNA(MATCH(_xlfn.ORG.OPENOFFICE.CURRENT(),Holidays!$E$3:$E$33,0))),"Green",IF(NOT(ISNA(MATCH(_xlfn.ORG.OPENOFFICE.CURRENT(),Holidays!$G$3:$G$33,0))),"Magenta","Default"))) -> 40027 | J21: =I21+1+_xlfn.ORG.OPENOFFICE.STYLE(IF(NOT(ISNA(MATCH(_xlfn.ORG.OPENOFFICE.CURRENT(),Holidays!$E$3:$E$33,0))),"Green",IF(NOT(ISNA(MATCH(_xlfn.ORG.OPENOFFICE.CURRENT(),Holidays!$G$3:$G$33,0))),"Magenta","Default"))) -> 40028 | K21: =J21+1+_xlfn.ORG.OPENOFFICE.STYLE(IF(NOT(ISNA(MATCH(_xlfn.ORG.OPENOFFICE.CURRENT(),Holidays!$E$3:$E$33,0))),"Green",IF(NOT(ISNA(MATCH(_xlfn.ORG.OPENOFFICE.CURRENT(),Holidays!$G$3:$G$33,0))),"Magenta","Default"))) -> 40029 | L21: =K21+1+_xlfn.ORG.OPENOFFICE.STYLE(IF(NOT(ISNA(MATCH(_xlfn.ORG.OPENOFFICE.CURRENT(),Holidays!$E$3:$E$33,0))),"Green",IF(NOT(ISNA(MATCH(_xlfn.ORG.OPENOFFICE.CURRENT(),Holidays!$G$3:$G$33,0))),"Magenta","Default"))) -> 40030 | M21: =L21+1+_xlfn.ORG.OPENOFFICE.STYLE(IF(NOT(ISNA(MATCH(_xlfn.ORG.OPENOFFICE.CURRENT(),Holidays!$E$3:$E$33,0))),"Green",IF(NOT(ISNA(MATCH(_xlfn.ORG.OPENOFFICE.CURRENT(),Holidays!$G$3:$G$33,0))),"Magenta","Default"))) -> 40031 | N21: =M21+1+_xlfn.ORG.OPENOFFICE.STYLE(IF(NOT(ISNA(MATCH(_xlfn.ORG.OPENOFFICE.CURRENT(),Holidays!$E$3:$E$33,0))),"Green",IF(NOT(ISNA(MATCH(_xlfn.ORG.OPENOFFICE.CURRENT(),Holidays!$G$3:$G$33,0))),"Magenta","Default"))) -> 40032 | O21: =N21+1+_xlfn.ORG.OPENOFFICE.STYLE(IF(NOT(ISNA(MATCH(_xlfn.ORG.OPENOFFICE.CURRENT(),Holidays!$E$3:$E$33,0))),"Green",IF(NOT(ISNA(MATCH(_xlfn.ORG.OPENOFFICE.CURRENT(),Holidays!$G$3:$G$33,0))),"Magenta","Default"))) -> 40033 | Q21: =W20+1+_xlfn.ORG.OPENOFFICE.STYLE(IF(NOT(ISNA(MATCH(_xlfn.ORG.OPENOFFICE.CURRENT(),Holidays!$E$3:$E$33,0))),"Green",IF(NOT(ISNA(MATCH(_xlfn.ORG.OPENOFFICE.CURRENT(),Holidays!$G$3:$G$33,0))),"Magenta","Default"))) -> 40062 | R21: =Q21+1+_xlfn.ORG.OPENOFFICE.STYLE(IF(NOT(ISNA(MATCH(_xlfn.ORG.OPENOFFICE.CURRENT(),Holidays!$E$3:$E$33,0))),"Green",IF(NOT(ISNA(MATCH(_xlfn.ORG.OPENOFFICE.CURRENT(),Holidays!$G$3:$G$33,0))),"Magenta","Default"))) -> 40063 | S21: =R21+1+_xlfn.ORG.OPENOFFICE.STYLE(IF(NOT(ISNA(MATCH(_xlfn.ORG.OPENOFFICE.CURRENT(),Holidays!$E$3:$E$33,0))),"Green",IF(NOT(ISNA(MATCH(_xlfn.ORG.OPENOFFICE.CURRENT(),Holidays!$G$3:$G$33,0))),"Magenta","Default"))) -> 40064 | T21: =S21+1+_xlfn.ORG.OPENOFFICE.STYLE(IF(NOT(ISNA(MATCH(_xlfn.ORG.OPENOFFICE.CURRENT(),Holidays!$E$3:$E$33,0))),"Green",IF(NOT(ISNA(MATCH(_xlfn.ORG.OPENOFFICE.CURRENT(),Holidays!$G$3:$G$33,0))),"Magenta","Default"))) -> 40065 | U21: =T21+1+_xlfn.ORG.OPENOFFICE.STYLE(IF(NOT(ISNA(MATCH(_xlfn.ORG.OPENOFFICE.CURRENT(),Holidays!$E$3:$E$33,0))),"Green",IF(NOT(ISNA(MATCH(_xlfn.ORG.OPENOFFICE.CURRENT(),Holidays!$G$3:$G$33,0))),"Magenta","Default"))) -> 40066 | V21: =U21+1+_xlfn.ORG.OPENOFFICE.STYLE(IF(NOT(ISNA(MATCH(_xlfn.ORG.OPENOFFICE.CURRENT(),Holidays!$E$3:$E$33,0))),"Green",IF(NOT(ISNA(MATCH(_xlfn.ORG.OPENOFFICE.CURRENT(),Holidays!$G$3:$G$33,0))),"Magenta","Default"))) -> 40067 | W21: =V21+1+_xlfn.ORG.OPENOFFICE.STYLE(IF(NOT(ISNA(MATCH(_xlfn.ORG.OPENOFFICE.CURRENT(),Holidays!$E$3:$E$33,0))),"Green",IF(NOT(ISNA(MATCH(_xlfn.ORG.OPENOFFICE.CURRENT(),Holidays!$G$3:$G$33,0))),"Magenta","Default"))) -> 40068
A22: =G21+1+_xlfn.ORG.OPENOFFICE.STYLE(IF(NOT(ISNA(MATCH(_xlfn.ORG.OPENOFFICE.CURRENT(),Holidays!$E$3:$E$33,0))),"Green",IF(NOT(ISNA(MATCH(_xlfn.ORG.OPENOFFICE.CURRENT(),Holidays!$G$3:$G$33,0))),"Magenta","Default"))) -> 40006 | B22: =A22+1+_xlfn.ORG.OPENOFFICE.STYLE(IF(NOT(ISNA(MATCH(_xlfn.ORG.OPENOFFICE.CURRENT(),Holidays!$E$3:$E$33,0))),"Green",IF(NOT(ISNA(MATCH(_xlfn.ORG.OPENOFFICE.CURRENT(),Holidays!$G$3:$G$33,0))),"Magenta","Default"))) -> 40007 | C22: =B22+1+_xlfn.ORG.OPENOFFICE.STYLE(IF(NOT(ISNA(MATCH(_xlfn.ORG.OPENOFFICE.CURRENT(),Holidays!$E$3:$E$33,0))),"Green",IF(NOT(ISNA(MATCH(_xlfn.ORG.OPENOFFICE.CURRENT(),Holidays!$G$3:$G$33,0))),"Magenta","Default"))) -> 40008 | D22: =C22+1+_xlfn.ORG.OPENOFFICE.STYLE(IF(NOT(ISNA(MATCH(_xlfn.ORG.OPENOFFICE.CURRENT(),Holidays!$E$3:$E$33,0))),"Green",IF(NOT(ISNA(MATCH(_xlfn.ORG.OPENOFFICE.CURRENT(),Holidays!$G$3:$G$33,0))),"Magenta","Default"))) -> 40009 | E22: =D22+1+_xlfn.ORG.OPENOFFICE.STYLE(IF(NOT(ISNA(MATCH(_xlfn.ORG.OPENOFFICE.CURRENT(),Holidays!$E$3:$E$33,0))),"Green",IF(NOT(ISNA(MATCH(_xlfn.ORG.OPENOFFICE.CURRENT(),Holidays!$G$3:$G$33,0))),"Magenta","Default"))) -> 40010 | F22: =E22+1+_xlfn.ORG.OPENOFFICE.STYLE(IF(NOT(ISNA(MATCH(_xlfn.ORG.OPENOFFICE.CURRENT(),Holidays!$E$3:$E$33,0))),"Green",IF(NOT(ISNA(MATCH(_xlfn.ORG.OPENOFFICE.CURRENT(),Holidays!$G$3:$G$33,0))),"Magenta","Default"))) -> 40011 | G22: =F22+1+_xlfn.ORG.OPENOFFICE.STYLE(IF(NOT(ISNA(MATCH(_xlfn.ORG.OPENOFFICE.CURRENT(),Holidays!$E$3:$E$33,0))),"Green",IF(NOT(ISNA(MATCH(_xlfn.ORG.OPENOFFICE.CURRENT(),Holidays!$G$3:$G$33,0))),"Magenta","Default"))) -> 40012 | I22: =O21+1+_xlfn.ORG.OPENOFFICE.STYLE(IF(NOT(ISNA(MATCH(_xlfn.ORG.OPENOFFICE.CURRENT(),Holidays!$E$3:$E$33,0))),"Green",IF(NOT(ISNA(MATCH(_xlfn.ORG.OPENOFFICE.CURRENT(),Holidays!$G$3:$G$33,0))),"Magenta","Default"))) -> 40034 | J22: =I22+1+_xlfn.ORG.OPENOFFICE.STYLE(IF(NOT(ISNA(MATCH(_xlfn.ORG.OPENOFFICE.CURRENT(),Holidays!$E$3:$E$33,0))),"Green",IF(NOT(ISNA(MATCH(_xlfn.ORG.OPENOFFICE.CURRENT(),Holidays!$G$3:$G$33,0))),"Magenta","Default"))) -> 40035 | K22: =J22+1+_xlfn.ORG.OPENOFFICE.STYLE(IF(NOT(ISNA(MATCH(_xlfn.ORG.OPENOFFICE.CURRENT(),Holidays!$E$3:$E$33,0))),"Green",IF(NOT(ISNA(MATCH(_xlfn.ORG.OPENOFFICE.CURRENT(),Holidays!$G$3:$G$33,0))),"Magenta","Default"))) -> 40036 | L22: =K22+1+_xlfn.ORG.OPENOFFICE.STYLE(IF(NOT(ISNA(MATCH(_xlfn.ORG.OPENOFFICE.CURRENT(),Holidays!$E$3:$E$33,0))),"Green",IF(NOT(ISNA(MATCH(_xlfn.ORG.OPENOFFICE.CURRENT(),Holidays!$G$3:$G$33,0))),"Magenta","Default"))) -> 40037 | M22: =L22+1+_xlfn.ORG.OPENOFFICE.STYLE(IF(NOT(ISNA(MATCH(_xlfn.ORG.OPENOFFICE.CURRENT(),Holidays!$E$3:$E$33,0))),"Green",IF(NOT(ISNA(MATCH(_xlfn.ORG.OPENOFFICE.CURRENT(),Holidays!$G$3:$G$33,0))),"Magenta","Default"))) -> 40038 | N22: =M22+1+_xlfn.ORG.OPENOFFICE.STYLE(IF(NOT(ISNA(MATCH(_xlfn.ORG.OPENOFFICE.CURRENT(),Holidays!$E$3:$E$33,0))),"Green",IF(NOT(ISNA(MATCH(_xlfn.ORG.OPENOFFICE.CURRENT(),Holidays!$G$3:$G$33,0))),"Magenta","Default"))) -> 40039 | O22: =N22+1+_xlfn.ORG.OPENOFFICE.STYLE(IF(NOT(ISNA(MATCH(_xlfn.ORG.OPENOFFICE.CURRENT(),Holidays!$E$3:$E$33,0))),"Green",IF(NOT(ISNA(MATCH(_xlfn.ORG.OPENOFFICE.CURRENT(),Holidays!$G$3:$G$33,0))),"Magenta","Default"))) -> 40040 | Q22: =W21+1+_xlfn.ORG.OPENOFFICE.STYLE(IF(NOT(ISNA(MATCH(_xlfn.ORG.OPENOFFICE.CURRENT(),Holidays!$E$3:$E$33,0))),"Green",IF(NOT(ISNA(MATCH(_xlfn.ORG.OPENOFFICE.CURRENT(),Holidays!$G$3:$G$33,0))),"Magenta","Default"))) -> 40069 | R22: =Q22+1+_xlfn.ORG.OPENOFFICE.STYLE(IF(NOT(ISNA(MATCH(_xlfn.ORG.OPENOFFICE.CURRENT(),Holidays!$E$3:$E$33,0))),"Green",IF(NOT(ISNA(MATCH(_xlfn.ORG.OPENOFFICE.CURRENT(),Holidays!$G$3:$G$33,0))),"Magenta","Default"))) -> 40070 | S22: =R22+1+_xlfn.ORG.OPENOFFICE.STYLE(IF(NOT(ISNA(MATCH(_xlfn.ORG.OPENOFFICE.CURRENT(),Holidays!$E$3:$E$33,0))),"Green",IF(NOT(ISNA(MATCH(_xlfn.ORG.OPENOFFICE.CURRENT(),Holidays!$G$3:$G$33,0))),"Magenta","Default"))) -> 40071 | T22: =S22+1+_xlfn.ORG.OPENOFFICE.STYLE(IF(NOT(ISNA(MATCH(_xlfn.ORG.OPENOFFICE.CURRENT(),Holidays!$E$3:$E$33,0))),"Green",IF(NOT(ISNA(MATCH(_xlfn.ORG.OPENOFFICE.CURRENT(),Holidays!$G$3:$G$33,0))),"Magenta","Default"))) -> 40072 | U22: =T22+1+_xlfn.ORG.OPENOFFICE.STYLE(IF(NOT(ISNA(MATCH(_xlfn.ORG.OPENOFFICE.CURRENT(),Holidays!$E$3:$E$33,0))),"Green",IF(NOT(ISNA(MATCH(_xlfn.ORG.OPENOFFICE.CURRENT(),Holidays!$G$3:$G$33,0))),"Magenta","Default"))) -> 40073 | V22: =U22+1+_xlfn.ORG.OPENOFFICE.STYLE(IF(NOT(ISNA(MATCH(_xlfn.ORG.OPENOFFICE.CURRENT(),Holidays!$E$3:$E$33,0))),"Green",IF(NOT(ISNA(MATCH(_xlfn.ORG.OPENOFFICE.CURRENT(),Holidays!$G$3:$G$33,0))),"Magenta","Default"))) -> 40074 | W22: =V22+1+_xlfn.ORG.OPENOFFICE.STYLE(IF(NOT(ISNA(MATCH(_xlfn.ORG.OPENOFFICE.CURRENT(),Holidays!$E$3:$E$33,0))),"Green",IF(NOT(ISNA(MATCH(_xlfn.ORG.OPENOFFICE.CURRENT(),Holidays!$G$3:$G$33,0))),"Magenta","Default"))) -> 40075
A23: =G22+1+_xlfn.ORG.OPENOFFICE.STYLE(IF(NOT(ISNA(MATCH(_xlfn.ORG.OPENOFFICE.CURRENT(),Holidays!$E$3:$E$33,0))),"Green",IF(NOT(ISNA(MATCH(_xlfn.ORG.OPENOFFICE.CURRENT(),Holidays!$G$3:$G$33,0))),"Magenta","Default"))) -> 40013 | B23: =A23+1+_xlfn.ORG.OPENOFFICE.STYLE(IF(NOT(ISNA(MATCH(_xlfn.ORG.OPENOFFICE.CURRENT(),Holidays!$E$3:$E$33,0))),"Green",IF(NOT(ISNA(MATCH(_xlfn.ORG.OPENOFFICE.CURRENT(),Holidays!$G$3:$G$33,0))),"Magenta","Default"))) -> 40014 | C23: =B23+1+_xlfn.ORG.OPENOFFICE.STYLE(IF(NOT(ISNA(MATCH(_xlfn.ORG.OPENOFFICE.CURRENT(),Holidays!$E$3:$E$33,0))),"Green",IF(NOT(ISNA(MATCH(_xlfn.ORG.OPENOFFICE.CURRENT(),Holidays!$G$3:$G$33,0))),"Magenta","Default"))) -> 40015 | D23: =C23+1+_xlfn.ORG.OPENOFFICE.STYLE(IF(NOT(ISNA(MATCH(_xlfn.ORG.OPENOFFICE.CURRENT(),Holidays!$E$3:$E$33,0))),"Green",IF(NOT(ISNA(MATCH(_xlfn.ORG.OPENOFFICE.CURRENT(),Holidays!$G$3:$G$33,0))),"Magenta","Default"))) -> 40016 | E23: =D23+1+_xlfn.ORG.OPENOFFICE.STYLE(IF(NOT(ISNA(MATCH(_xlfn.ORG.OPENOFFICE.CURRENT(),Holidays!$E$3:$E$33,0))),"Green",IF(NOT(ISNA(MATCH(_xlfn.ORG.OPENOFFICE.CURRENT(),Holidays!$G$3:$G$33,0))),"Magenta","Default"))) -> 40017 | F23: =E23+1+_xlfn.ORG.OPENOFFICE.STYLE(IF(NOT(ISNA(MATCH(_xlfn.ORG.OPENOFFICE.CURRENT(),Holidays!$E$3:$E$33,0))),"Green",IF(NOT(ISNA(MATCH(_xlfn.ORG.OPENOFFICE.CURRENT(),Holidays!$G$3:$G$33,0))),"Magenta","Default"))) -> 40018 | G23: =F23+1+_xlfn.ORG.OPENOFFICE.STYLE(IF(NOT(ISNA(MATCH(_xlfn.ORG.OPENOFFICE.CURRENT(),Holidays!$E$3:$E$33,0))),"Green",IF(NOT(ISNA(MATCH(_xlfn.ORG.OPENOFFICE.CURRENT(),Holidays!$G$3:$G$33,0))),"Magenta","Default"))) -> 40019 | I23: =O22+1+_xlfn.ORG.OPENOFFICE.STYLE(IF(NOT(ISNA(MATCH(_xlfn.ORG.OPENOFFICE.CURRENT(),Holidays!$E$3:$E$33,0))),"Green",IF(NOT(ISNA(MATCH(_xlfn.ORG.OPENOFFICE.CURRENT(),Holidays!$G$3:$G$33,0))),"Magenta","Default"))) -> 40041 | J23: =I23+1+_xlfn.ORG.OPENOFFICE.STYLE(IF(NOT(ISNA(MATCH(_xlfn.ORG.OPENOFFICE.CURRENT(),Holidays!$E$3:$E$33,0))),"Green",IF(NOT(ISNA(MATCH(_xlfn.ORG.OPENOFFICE.CURRENT(),Holidays!$G$3:$G$33,0))),"Magenta","Default"))) -> 40042 | K23: =J23+1+_xlfn.ORG.OPENOFFICE.STYLE(IF(NOT(ISNA(MATCH(_xlfn.ORG.OPENOFFICE.CURRENT(),Holidays!$E$3:$E$33,0))),"Green",IF(NOT(ISNA(MATCH(_xlfn.ORG.OPENOFFICE.CURRENT(),Holidays!$G$3:$G$33,0))),"Magenta","Default"))) -> 40043 | L23: =K23+1+_xlfn.ORG.OPENOFFICE.STYLE(IF(NOT(ISNA(MATCH(_xlfn.ORG.OPENOFFICE.CURRENT(),Holidays!$E$3:$E$33,0))),"Green",IF(NOT(ISNA(MATCH(_xlfn.ORG.OPENOFFICE.CURRENT(),Holidays!$G$3:$G$33,0))),"Magenta","Default"))) -> 40044 | M23: =L23+1+_xlfn.ORG.OPENOFFICE.STYLE(IF(NOT(ISNA(MATCH(_xlfn.ORG.OPENOFFICE.CURRENT(),Holidays!$E$3:$E$33,0))),"Green",IF(NOT(ISNA(MATCH(_xlfn.ORG.OPENOFFICE.CURRENT(),Holidays!$G$3:$G$33,0))),"Magenta","Default"))) -> 40045 | N23: =M23+1+_xlfn.ORG.OPENOFFICE.STYLE(IF(NOT(ISNA(MATCH(_xlfn.ORG.OPENOFFICE.CURRENT(),Holidays!$E$3:$E$33,0))),"Green",IF(NOT(ISNA(MATCH(_xlfn.ORG.OPENOFFICE.CURRENT(),Holidays!$G$3:$G$33,0))),"Magenta","Default"))) -> 40046 | O23: =N23+1+_xlfn.ORG.OPENOFFICE.STYLE(IF(NOT(ISNA(MATCH(_xlfn.ORG.OPENOFFICE.CURRENT(),Holidays!$E$3:$E$33,0))),"Green",IF(NOT(ISNA(MATCH(_xlfn.ORG.OPENOFFICE.CURRENT(),Holidays!$G$3:$G$33,0))),"Magenta","Default"))) -> 40047 | Q23: =W22+1+_xlfn.ORG.OPENOFFICE.STYLE(IF(NOT(ISNA(MATCH(_xlfn.ORG.OPENOFFICE.CURRENT(),Holidays!$E$3:$E$33,0))),"Green",IF(NOT(ISNA(MATCH(_xlfn.ORG.OPENOFFICE.CURRENT(),Holidays!$G$3:$G$33,0))),"Magenta","Default"))) -> 40076 | R23: =Q23+1+_xlfn.ORG.OPENOFFICE.STYLE(IF(NOT(ISNA(MATCH(_xlfn.ORG.OPENOFFICE.CURRENT(),Holidays!$E$3:$E$33,0))),"Green",IF(NOT(ISNA(MATCH(_xlfn.ORG.OPENOFFICE.CURRENT(),Holidays!$G$3:$G$33,0))),"Magenta","Default"))) -> 40077 | S23: =R23+1+_xlfn.ORG.OPENOFFICE.STYLE(IF(NOT(ISNA(MATCH(_xlfn.ORG.OPENOFFICE.CURRENT(),Holidays!$E$3:$E$33,0))),"Green",IF(NOT(ISNA(MATCH(_xlfn.ORG.OPENOFFICE.CURRENT(),Holidays!$G$3:$G$33,0))),"Magenta","Default"))) -> 40078 | T23: =S23+1+_xlfn.ORG.OPENOFFICE.STYLE(IF(NOT(ISNA(MATCH(_xlfn.ORG.OPENOFFICE.CURRENT(),Holidays!$E$3:$E$33,0))),"Green",IF(NOT(ISNA(MATCH(_xlfn.ORG.OPENOFFICE.CURRENT(),Holidays!$G$3:$G$33,0))),"Magenta","Default"))) -> 40079 | U23: =T23+1+_xlfn.ORG.OPENOFFICE.STYLE(IF(NOT(ISNA(MATCH(_xlfn.ORG.OPENOFFICE.CURRENT(),Holidays!$E$3:$E$33,0))),"Green",IF(NOT(ISNA(MATCH(_xlfn.ORG.OPENOFFICE.CURRENT(),Holidays!$G$3:$G$33,0))),"Magenta","Default"))) -> 40080 | V23: =U23+1+_xlfn.ORG.OPENOFFICE.STYLE(IF(NOT(ISNA(MATCH(_xlfn.ORG.OPENOFFICE.CURRENT(),Holidays!$E$3:$E$33,0))),"Green",IF(NOT(ISNA(MATCH(_xlfn.ORG.OPENOFFICE.CURRENT(),Holidays!$G$3:$G$33,0))),"Magenta","Default"))) -> 40081 | W23: =V23+1+_xlfn.ORG.OPENOFFICE.STYLE(IF(NOT(ISNA(MATCH(_xlfn.ORG.OPENOFFICE.CURRENT(),Holidays!$E$3:$E$33,0))),"Green",IF(NOT(ISNA(MATCH(_xlfn.ORG.OPENOFFICE.CURRENT(),Holidays!$G$3:$G$33,0))),"Magenta","Default"))) -> 40082
A24: =IF(MONTH(A22+14)=MONTH(A22), A22+14+_xlfn.ORG.OPENOFFICE.STYLE(IF(NOT(ISNA(MATCH(_xlfn.ORG.OPENOFFICE.CURRENT(),Holidays!$E$3:$E$33,0))),"Green",IF(NOT(ISNA(MATCH(_xlfn.ORG.OPENOFFICE.CURRENT(),Holidays!$G$3:$G$33,0))),"Magenta","Default"))), ""&T(_xlfn.ORG.OPENOFFICE.STYLE("Default"))) -> 40020 | B24: =IF(MONTH(B22+14)=MONTH(B22), B22+14+_xlfn.ORG.OPENOFFICE.STYLE(IF(NOT(ISNA(MATCH(_xlfn.ORG.OPENOFFICE.CURRENT(),Holidays!$E$3:$E$33,0))),"Green",IF(NOT(ISNA(MATCH(_xlfn.ORG.OPENOFFICE.CURRENT(),Holidays!$G$3:$G$33,0))),"Magenta","Default"))), ""&T(_xlfn.ORG.OPENOFFICE.STYLE("Default"))) -> 40021 | C24: =IF(MONTH(C22+14)=MONTH(C22), C22+14+_xlfn.ORG.OPENOFFICE.STYLE(IF(NOT(ISNA(MATCH(_xlfn.ORG.OPENOFFICE.CURRENT(),Holidays!$E$3:$E$33,0))),"Green",IF(NOT(ISNA(MATCH(_xlfn.ORG.OPENOFFICE.CURRENT(),Holidays!$G$3:$G$33,0))),"Magenta","Default"))), ""&T(_xlfn.ORG.OPENOFFICE.STYLE("Default"))) -> 40022 | D24: =IF(MONTH(D22+14)=MONTH(D22), D22+14+_xlfn.ORG.OPENOFFICE.STYLE(IF(NOT(ISNA(MATCH(_xlfn.ORG.OPENOFFICE.CURRENT(),Holidays!$E$3:$E$33,0))),"Green",IF(NOT(ISNA(MATCH(_xlfn.ORG.OPENOFFICE.CURRENT(),Holidays!$G$3:$G$33,0))),"Magenta","Default"))), ""&T(_xlfn.ORG.OPENOFFICE.STYLE("Default"))) -> 40023 | E24: =IF(MONTH(E22+14)=MONTH(E22), E22+14+_xlfn.ORG.OPENOFFICE.STYLE(IF(NOT(ISNA(MATCH(_xlfn.ORG.OPENOFFICE.CURRENT(),Holidays!$E$3:$E$33,0))),"Green",IF(NOT(ISNA(MATCH(_xlfn.ORG.OPENOFFICE.CURRENT(),Holidays!$G$3:$G$33,0))),"Magenta","Default"))), ""&T(_xlfn.ORG.OPENOFFICE.STYLE("Default"))) -> 40024 | F24: =IF(MONTH(F22+14)=MONTH(F22), F22+14+_xlfn.ORG.OPENOFFICE.STYLE(IF(NOT(ISNA(MATCH(_xlfn.ORG.OPENOFFICE.CURRENT(),Holidays!$E$3:$E$33,0))),"Green",IF(NOT(ISNA(MATCH(_xlfn.ORG.OPENOFFICE.CURRENT(),Holidays!$G$3:$G$33,0))),"Magenta","Default"))), ""&T(_xlfn.ORG.OPENOFFICE.STYLE("Default"))) -> 40025 | G24: =IF(MONTH(G22+14)=MONTH(G22), G22+14+_xlfn.ORG.OPENOFFICE.STYLE(IF(NOT(ISNA(MATCH(_xlfn.ORG.OPENOFFICE.CURRENT(),Holidays!$E$3:$E$33,0))),"Green",IF(NOT(ISNA(MATCH(_xlfn.ORG.OPENOFFICE.CURRENT(),Holidays!$G$3:$G$33,0))),"Magenta","Default"))), ""&T(_xlfn.ORG.OPENOFFICE.STYLE("Default"))) | I24: =IF(MONTH(I22+14)=MONTH(I22), I22+14+_xlfn.ORG.OPENOFFICE.STYLE(IF(NOT(ISNA(MATCH(_xlfn.ORG.OPENOFFICE.CURRENT(),Holidays!$E$3:$E$33,0))),"Green",IF(NOT(ISNA(MATCH(_xlfn.ORG.OPENOFFICE.CURRENT(),Holidays!$G$3:$G$33,0))),"Magenta","Default"))), ""&T(_xlfn.ORG.OPENOFFICE.STYLE("Default"))) -> 40048 | J24: =IF(MONTH(J22+14)=MONTH(J22), J22+14+_xlfn.ORG.OPENOFFICE.STYLE(IF(NOT(ISNA(MATCH(_xlfn.ORG.OPENOFFICE.CURRENT(),Holidays!$E$3:$E$33,0))),"Green",IF(NOT(ISNA(MATCH(_xlfn.ORG.OPENOFFICE.CURRENT(),Holidays!$G$3:$G$33,0))),"Magenta","Default"))), ""&T(_xlfn.ORG.OPENOFFICE.STYLE("Default"))) -> 40049 | K24: =IF(MONTH(K22+14)=MONTH(K22), K22+14+_xlfn.ORG.OPENOFFICE.STYLE(IF(NOT(ISNA(MATCH(_xlfn.ORG.OPENOFFICE.CURRENT(),Holidays!$E$3:$E$33,0))),"Green",IF(NOT(ISNA(MATCH(_xlfn.ORG.OPENOFFICE.CURRENT(),Holidays!$G$3:$G$33,0))),"Magenta","Default"))), ""&T(_xlfn.ORG.OPENOFFICE.STYLE("Default"))) -> 40050 | L24: =IF(MONTH(L22+14)=MONTH(L22), L22+14+_xlfn.ORG.OPENOFFICE.STYLE(IF(NOT(ISNA(MATCH(_xlfn.ORG.OPENOFFICE.CURRENT(),Holidays!$E$3:$E$33,0))),"Green",IF(NOT(ISNA(MATCH(_xlfn.ORG.OPENOFFICE.CURRENT(),Holidays!$G$3:$G$33,0))),"Magenta","Default"))), ""&T(_xlfn.ORG.OPENOFFICE.STYLE("Default"))) -> 40051 | M24: =IF(MONTH(M22+14)=MONTH(M22), M22+14+_xlfn.ORG.OPENOFFICE.STYLE(IF(NOT(ISNA(MATCH(_xlfn.ORG.OPENOFFICE.CURRENT(),Holidays!$E$3:$E$33,0))),"Green",IF(NOT(ISNA(MATCH(_xlfn.ORG.OPENOFFICE.CURRENT(),Holidays!$G$3:$G$33,0))),"Magenta","Default"))), ""&T(_xlfn.ORG.OPENOFFICE.STYLE("Default"))) -> 40052 | N24: =IF(MONTH(N22+14)=MONTH(N22), N22+14+_xlfn.ORG.OPENOFFICE.STYLE(IF(NOT(ISNA(MATCH(_xlfn.ORG.OPENOFFICE.CURRENT(),Holidays!$E$3:$E$33,0))),"Green",IF(NOT(ISNA(MATCH(_xlfn.ORG.OPENOFFICE.CURRENT(),Holidays!$G$3:$G$33,0))),"Magenta","Default"))), ""&T(_xlfn.ORG.OPENOFFICE.STYLE("Default"))) -> 40053 | O24: =IF(MONTH(O22+14)=MONTH(O22), O22+14+_xlfn.ORG.OPENOFFICE.STYLE(IF(NOT(ISNA(MATCH(_xlfn.ORG.OPENOFFICE.CURRENT(),Holidays!$E$3:$E$33,0))),"Green",IF(NOT(ISNA(MATCH(_xlfn.ORG.OPENOFFICE.CURRENT(),Holidays!$G$3:$G$33,0))),"Magenta","Default"))), ""&T(_xlfn.ORG.OPENOFFICE.STYLE("Default"))) -> 40054 | Q24: =IF(MONTH(Q22+14)=MONTH(Q22), Q22+14+_xlfn.ORG.OPENOFFICE.STYLE(IF(NOT(ISNA(MATCH(_xlfn.ORG.OPENOFFICE.CURRENT(),Holidays!$E$3:$E$33,0))),"Green",IF(NOT(ISNA(MATCH(_xlfn.ORG.OPENOFFICE.CURRENT(),Holidays!$G$3:$G$33,0))),"Magenta","Default"))), ""&T(_xlfn.ORG.OPENOFFICE.STYLE("Default"))) -> 40083 | R24: =IF(MONTH(R22+14)=MONTH(R22), R22+14+_xlfn.ORG.OPENOFFICE.STYLE(IF(NOT(ISNA(MATCH(_xlfn.ORG.OPENOFFICE.CURRENT(),Holidays!$E$3:$E$33,0))),"Green",IF(NOT(ISNA(MATCH(_xlfn.ORG.OPENOFFICE.CURRENT(),Holidays!$G$3:$G$33,0))),"Magenta","Default"))), ""&T(_xlfn.ORG.OPENOFFICE.STYLE("Default"))) -> 40084 | S24: =IF(MONTH(S22+14)=MONTH(S22), S22+14+_xlfn.ORG.OPENOFFICE.STYLE(IF(NOT(ISNA(MATCH(_xlfn.ORG.OPENOFFICE.CURRENT(),Holidays!$E$3:$E$33,0))),"Green",IF(NOT(ISNA(MATCH(_xlfn.ORG.OPENOFFICE.CURRENT(),Holidays!$G$3:$G$33,0))),"Magenta","Default"))), ""&T(_xlfn.ORG.OPENOFFICE.STYLE("Default"))) -> 40085 | T24: =IF(MONTH(T22+14)=MONTH(T22), T22+14+_xlfn.ORG.OPENOFFICE.STYLE(IF(NOT(ISNA(MATCH(_xlfn.ORG.OPENOFFICE.CURRENT(),Holidays!$E$3:$E$33,0))),"Green",IF(NOT(ISNA(MATCH(_xlfn.ORG.OPENOFFICE.CURRENT(),Holidays!$G$3:$G$33,0))),"Magenta","Default"))), ""&T(_xlfn.ORG.OPENOFFICE.STYLE("Default"))) -> 40086 | U24: =IF(MONTH(U22+14)=MONTH(U22), U22+14+_xlfn.ORG.OPENOFFICE.STYLE(IF(NOT(ISNA(MATCH(_xlfn.ORG.OPENOFFICE.CURRENT(),Holidays!$E$3:$E$33,0))),"Green",IF(NOT(ISNA(MATCH(_xlfn.ORG.OPENOFFICE.CURRENT(),Holidays!$G$3:$G$33,0))),"Magenta","Default"))), ""&T(_xlfn.ORG.OPENOFFICE.STYLE("Default"))) | V24: =IF(MONTH(V22+14)=MONTH(V22), V22+14+_xlfn.ORG.OPENOFFICE.STYLE(IF(NOT(ISNA(MATCH(_xlfn.ORG.OPENOFFICE.CURRENT(),Holidays!$E$3:$E$33,0))),"Green",IF(NOT(ISNA(MATCH(_xlfn.ORG.OPENOFFICE.CURRENT(),Holidays!$G$3:$G$33,0))),"Magenta","Default"))), ""&T(_xlfn.ORG.OPENOFFICE.STYLE("Default"))) | W24: =IF(MONTH(W22+14)=MONTH(W22), W22+14+_xlfn.ORG.OPENOFFICE.STYLE(IF(NOT(ISNA(MATCH(_xlfn.ORG.OPENOFFICE.CURRENT(),Holidays!$E$3:$E$33,0))),"Green",IF(NOT(ISNA(MATCH(_xlfn.ORG.OPENOFFICE.CURRENT(),Holidays!$G$3:$G$33,0))),"Magenta","Default"))), ""&T(_xlfn.ORG.OPENOFFICE.STYLE("Default")))
A25: =IF(MONTH(A23+14)=MONTH(A23), A23+14+_xlfn.ORG.OPENOFFICE.STYLE(IF(NOT(ISNA(MATCH(_xlfn.ORG.OPENOFFICE.CURRENT(),Holidays!$E$3:$E$33,0))),"Green",IF(NOT(ISNA(MATCH(_xlfn.ORG.OPENOFFICE.CURRENT(),Holidays!$G$3:$G$33,0))),"Magenta","Default"))), ""&T(_xlfn.ORG.OPENOFFICE.STYLE("Default"))) | B25: =IF(MONTH(B23+14)=MONTH(B23), B23+14+_xlfn.ORG.OPENOFFICE.STYLE(IF(NOT(ISNA(MATCH(_xlfn.ORG.OPENOFFICE.CURRENT(),Holidays!$E$3:$E$33,0))),"Green",IF(NOT(ISNA(MATCH(_xlfn.ORG.OPENOFFICE.CURRENT(),Holidays!$G$3:$G$33,0))),"Magenta","Default"))), ""&T(_xlfn.ORG.OPENOFFICE.STYLE("Default"))) | C25: =IF(MONTH(C23+14)=MONTH(C23), C23+14+_xlfn.ORG.OPENOFFICE.STYLE(IF(NOT(ISNA(MATCH(_xlfn.ORG.OPENOFFICE.CURRENT(),Holidays!$E$3:$E$33,0))),"Green",IF(NOT(ISNA(MATCH(_xlfn.ORG.OPENOFFICE.CURRENT(),Holidays!$G$3:$G$33,0))),"Magenta","Default"))), ""&T(_xlfn.ORG.OPENOFFICE.STYLE("Default"))) | D25: =IF(MONTH(D23+14)=MONTH(D23), D23+14+_xlfn.ORG.OPENOFFICE.STYLE(IF(NOT(ISNA(MATCH(_xlfn.ORG.OPENOFFICE.CURRENT(),Holidays!$E$3:$E$33,0))),"Green",IF(NOT(ISNA(MATCH(_xlfn.ORG.OPENOFFICE.CURRENT(),Holidays!$G$3:$G$33,0))),"Magenta","Default"))), ""&T(_xlfn.ORG.OPENOFFICE.STYLE("Default"))) | E25: =IF(MONTH(E23+14)=MONTH(E23), E23+14+_xlfn.ORG.OPENOFFICE.STYLE(IF(NOT(ISNA(MATCH(_xlfn.ORG.OPENOFFICE.CURRENT(),Holidays!$E$3:$E$33,0))),"Green",IF(NOT(ISNA(MATCH(_xlfn.ORG.OPENOFFICE.CURRENT(),Holidays!$G$3:$G$33,0))),"Magenta","Default"))), ""&T(_xlfn.ORG.OPENOFFICE.STYLE("Default"))) | F25: =IF(MONTH(F23+14)=MONTH(F23), F23+14+_xlfn.ORG.OPENOFFICE.STYLE(IF(NOT(ISNA(MATCH(_xlfn.ORG.OPENOFFICE.CURRENT(),Holidays!$E$3:$E$33,0))),"Green",IF(NOT(ISNA(MATCH(_xlfn.ORG.OPENOFFICE.CURRENT(),Holidays!$G$3:$G$33,0))),"Magenta","Default"))), ""&T(_xlfn.ORG.OPENOFFICE.STYLE("Default"))) | G25: =IF(MONTH(G23+14)=MONTH(G23), G23+14+_xlfn.ORG.OPENOFFICE.STYLE(IF(NOT(ISNA(MATCH(_xlfn.ORG.OPENOFFICE.CURRENT(),Holidays!$E$3:$E$33,0))),"Green",IF(NOT(ISNA(MATCH(_xlfn.ORG.OPENOFFICE.CURRENT(),Holidays!$G$3:$G$33,0))),"Magenta","Default"))), ""&T(_xlfn.ORG.OPENOFFICE.STYLE("Default"))) | I25: =IF(MONTH(I23+14)=MONTH(I23), I23+14+_xlfn.ORG.OPENOFFICE.STYLE(IF(NOT(ISNA(MATCH(_xlfn.ORG.OPENOFFICE.CURRENT(),Holidays!$E$3:$E$33,0))),"Green",IF(NOT(ISNA(MATCH(_xlfn.ORG.OPENOFFICE.CURRENT(),Holidays!$G$3:$G$33,0))),"Magenta","Default"))), ""&T(_xlfn.ORG.OPENOFFICE.STYLE("Default"))) -> 40055 | J25: =IF(MONTH(J23+14)=MONTH(J23), J23+14+_xlfn.ORG.OPENOFFICE.STYLE(IF(NOT(ISNA(MATCH(_xlfn.ORG.OPENOFFICE.CURRENT(),Holidays!$E$3:$E$33,0))),"Green",IF(NOT(ISNA(MATCH(_xlfn.ORG.OPENOFFICE.CURRENT(),Holidays!$G$3:$G$33,0))),"Magenta","Default"))), ""&T(_xlfn.ORG.OPENOFFICE.STYLE("Default"))) -> 40056 | K25: =IF(MONTH(K23+14)=MONTH(K23), K23+14+_xlfn.ORG.OPENOFFICE.STYLE(IF(NOT(ISNA(MATCH(_xlfn.ORG.OPENOFFICE.CURRENT(),Holidays!$E$3:$E$33,0))),"Green",IF(NOT(ISNA(MATCH(_xlfn.ORG.OPENOFFICE.CURRENT(),Holidays!$G$3:$G$33,0))),"Magenta","Default"))), ""&T(_xlfn.ORG.OPENOFFICE.STYLE("Default"))) | L25: =IF(MONTH(L23+14)=MONTH(L23), L23+14+_xlfn.ORG.OPENOFFICE.STYLE(IF(NOT(ISNA(MATCH(_xlfn.ORG.OPENOFFICE.CURRENT(),Holidays!$E$3:$E$33,0))),"Green",IF(NOT(ISNA(MATCH(_xlfn.ORG.OPENOFFICE.CURRENT(),Holidays!$G$3:$G$33,0))),"Magenta","Default"))), ""&T(_xlfn.ORG.OPENOFFICE.STYLE("Default"))) | M25: =IF(MONTH(M23+14)=MONTH(M23), M23+14+_xlfn.ORG.OPENOFFICE.STYLE(IF(NOT(ISNA(MATCH(_xlfn.ORG.OPENOFFICE.CURRENT(),Holidays!$E$3:$E$33,0))),"Green",IF(NOT(ISNA(MATCH(_xlfn.ORG.OPENOFFICE.CURRENT(),Holidays!$G$3:$G$33,0))),"Magenta","Default"))), ""&T(_xlfn.ORG.OPENOFFICE.STYLE("Default"))) | N25: =IF(MONTH(N23+14)=MONTH(N23), N23+14+_xlfn.ORG.OPENOFFICE.STYLE(IF(NOT(ISNA(MATCH(_xlfn.ORG.OPENOFFICE.CURRENT(),Holidays!$E$3:$E$33,0))),"Green",IF(NOT(ISNA(MATCH(_xlfn.ORG.OPENOFFICE.CURRENT(),Holidays!$G$3:$G$33,0))),"Magenta","Default"))), ""&T(_xlfn.ORG.OPENOFFICE.STYLE("Default"))) | O25: =IF(MONTH(O23+14)=MONTH(O23), O23+14+_xlfn.ORG.OPENOFFICE.STYLE(IF(NOT(ISNA(MATCH(_xlfn.ORG.OPENOFFICE.CURRENT(),Holidays!$E$3:$E$33,0))),"Green",IF(NOT(ISNA(MATCH(_xlfn.ORG.OPENOFFICE.CURRENT(),Holidays!$G$3:$G$33,0))),"Magenta","Default"))), ""&T(_xlfn.ORG.OPENOFFICE.STYLE("Default"))) | Q25: =IF(MONTH(Q23+14)=MONTH(Q23), Q23+14+_xlfn.ORG.OPENOFFICE.STYLE(IF(NOT(ISNA(MATCH(_xlfn.ORG.OPENOFFICE.CURRENT(),Holidays!$E$3:$E$33,0))),"Green",IF(NOT(ISNA(MATCH(_xlfn.ORG.OPENOFFICE.CURRENT(),Holidays!$G$3:$G$33,0))),"Magenta","Default"))), ""&T(_xlfn.ORG.OPENOFFICE.STYLE("Default"))) | R25: =IF(MONTH(R23+14)=MONTH(R23), R23+14+_xlfn.ORG.OPENOFFICE.STYLE(IF(NOT(ISNA(MATCH(_xlfn.ORG.OPENOFFICE.CURRENT(),Holidays!$E$3:$E$33,0))),"Green",IF(NOT(ISNA(MATCH(_xlfn.ORG.OPENOFFICE.CURRENT(),Holidays!$G$3:$G$33,0))),"Magenta","Default"))), ""&T(_xlfn.ORG.OPENOFFICE.STYLE("Default"))) | S25: =IF(MONTH(S23+14)=MONTH(S23), S23+14+_xlfn.ORG.OPENOFFICE.STYLE(IF(NOT(ISNA(MATCH(_xlfn.ORG.OPENOFFICE.CURRENT(),Holidays!$E$3:$E$33,0))),"Green",IF(NOT(ISNA(MATCH(_xlfn.ORG.OPENOFFICE.CURRENT(),Holidays!$G$3:$G$33,0))),"Magenta","Default"))), ""&T(_xlfn.ORG.OPENOFFICE.STYLE("Default"))) | T25: =IF(MONTH(T23+14)=MONTH(T23), T23+14+_xlfn.ORG.OPENOFFICE.STYLE(IF(NOT(ISNA(MATCH(_xlfn.ORG.OPENOFFICE.CURRENT(),Holidays!$E$3:$E$33,0))),"Green",IF(NOT(ISNA(MATCH(_xlfn.ORG.OPENOFFICE.CURRENT(),Holidays!$G$3:$G$33,0))),"Magenta","Default"))), ""&T(_xlfn.ORG.OPENOFFICE.STYLE("Default"))) | U25: =IF(MONTH(U23+14)=MONTH(U23), U23+14+_xlfn.ORG.OPENOFFICE.STYLE(IF(NOT(ISNA(MATCH(_xlfn.ORG.OPENOFFICE.CURRENT(),Holidays!$E$3:$E$33,0))),"Green",IF(NOT(ISNA(MATCH(_xlfn.ORG.OPENOFFICE.CURRENT(),Holidays!$G$3:$G$33,0))),"Magenta","Default"))), ""&T(_xlfn.ORG.OPENOFFICE.STYLE("Default"))) | V25: =IF(MONTH(V23+14)=MONTH(V23), V23+14+_xlfn.ORG.OPENOFFICE.STYLE(IF(NOT(ISNA(MATCH(_xlfn.ORG.OPENOFFICE.CURRENT(),Holidays!$E$3:$E$33,0))),"Green",IF(NOT(ISNA(MATCH(_xlfn.ORG.OPENOFFICE.CURRENT(),Holidays!$G$3:$G$33,0))),"Magenta","Default"))), ""&T(_xlfn.ORG.OPENOFFICE.STYLE("Default"))) | W25: =IF(MONTH(W23+14)=MONTH(W23), W23+14+_xlfn.ORG.OPENOFFICE.STYLE(IF(NOT(ISNA(MATCH(_xlfn.ORG.OPENOFFICE.CURRENT(),Holidays!$E$3:$E$33,0))),"Green",IF(NOT(ISNA(MATCH(_xlfn.ORG.OPENOFFICE.CURRENT(),Holidays!$G$3:$G$33,0))),"Magenta","Default"))), ""&T(_xlfn.ORG.OPENOFFICE.STYLE("Default")))
A26: =DATE($A$1,10,1) -> 40087 | I26: =DATE($A$1,11,1) -> 40118 | Q26: =DATE($A$1,12,1) -> 40148
A27: Sun | B27: Mon | C27: Tue | D27: Wed | E27: Thu | F27: Fri | G27: Sat | I27: Sun | J27: Mon | K27: Tue | L27: Wed | M27: Thu | N27: Fri | O27: Sat | Q27: Sun | R27: Mon | S27: Tue | T27: Wed | U27: Thu | V27: Fri | W27: Sat
A28: =IF(WEEKDAY(A26)=1,A26+_xlfn.ORG.OPENOFFICE.STYLE(IF(NOT(ISNA(MATCH(_xlfn.ORG.OPENOFFICE.CURRENT(),Holidays!$E$3:$E$33,0))),"Green",IF(NOT(ISNA(MATCH(_xlfn.ORG.OPENOFFICE.CURRENT(),Holidays!$G$3:$G$33,0))),"Magenta","Default"))),""&T(_xlfn.ORG.OPENOFFICE.STYLE("Default"))) | B28: =IF(WEEKDAY(A26)<=2,A26+2-WEEKDAY(A26)+_xlfn.ORG.OPENOFFICE.STYLE(IF(NOT(ISNA(MATCH(_xlfn.ORG.OPENOFFICE.CURRENT(),Holidays!$E$3:$E$33,0))),"Green",IF(NOT(ISNA(MATCH(_xlfn.ORG.OPENOFFICE.CURRENT(),Holidays!$G$3:$G$33,0))),"Magenta","Default"))),""&T(_xlfn.ORG.OPENOFFICE.STYLE("Default"))) | C28: =IF(WEEKDAY(A26)<=3,A26+3-WEEKDAY(A26)+_xlfn.ORG.OPENOFFICE.STYLE(IF(NOT(ISNA(MATCH(_xlfn.ORG.OPENOFFICE.CURRENT(),Holidays!$E$3:$E$33,0))),"Green",IF(NOT(ISNA(MATCH(_xlfn.ORG.OPENOFFICE.CURRENT(),Holidays!$G$3:$G$33,0))),"Magenta","Default"))),""&T(_xlfn.ORG.OPENOFFICE.STYLE("Default"))) | D28: =IF(WEEKDAY(A26)<=4,A26+4-WEEKDAY(A26)+_xlfn.ORG.OPENOFFICE.STYLE(IF(NOT(ISNA(MATCH(_xlfn.ORG.OPENOFFICE.CURRENT(),Holidays!$E$3:$E$33,0))),"Green",IF(NOT(ISNA(MATCH(_xlfn.ORG.OPENOFFICE.CURRENT(),Holidays!$G$3:$G$33,0))),"Magenta","Default"))),""&T(_xlfn.ORG.OPENOFFICE.STYLE("Default"))) | E28: =IF(WEEKDAY(A26)<=5,A26+5-WEEKDAY(A26)+_xlfn.ORG.OPENOFFICE.STYLE(IF(NOT(ISNA(MATCH(_xlfn.ORG.OPENOFFICE.CURRENT(),Holidays!$E$3:$E$33,0))),"Green",IF(NOT(ISNA(MATCH(_xlfn.ORG.OPENOFFICE.CURRENT(),Holidays!$G$3:$G$33,0))),"Magenta","Default"))),""&T(_xlfn.ORG.OPENOFFICE.STYLE("Default"))) -> 40087 | F28: =IF(WEEKDAY(A26)<=6,A26+6-WEEKDAY(A26)+_xlfn.ORG.OPENOFFICE.STYLE(IF(NOT(ISNA(MATCH(_xlfn.ORG.OPENOFFICE.CURRENT(),Holidays!$E$3:$E$33,0))),"Green",IF(NOT(ISNA(MATCH(_xlfn.ORG.OPENOFFICE.CURRENT(),Holidays!$G$3:$G$33,0))),"Magenta","Default"))),""&T(_xlfn.ORG.OPENOFFICE.STYLE("Default"))) -> 40088 | G28: =IF(WEEKDAY(A26)<=7,A26+7-WEEKDAY(A26)+_xlfn.ORG.OPENOFFICE.STYLE(IF(NOT(ISNA(MATCH(_xlfn.ORG.OPENOFFICE.CURRENT(),Holidays!$E$3:$E$33,0))),"Green",IF(NOT(ISNA(MATCH(_xlfn.ORG.OPENOFFICE.CURRENT(),Holidays!$G$3:$G$33,0))),"Magenta","Default"))),""&T(_xlfn.ORG.OPENOFFICE.STYLE("Default"))) -> 40089 | I28: =IF(WEEKDAY(I26)=1,I26+_xlfn.ORG.OPENOFFICE.STYLE(IF(NOT(ISNA(MATCH(_xlfn.ORG.OPENOFFICE.CURRENT(),Holidays!$E$3:$E$33,0))),"Green",IF(NOT(ISNA(MATCH(_xlfn.ORG.OPENOFFICE.CURRENT(),Holidays!$G$3:$G$33,0))),"Magenta","Default"))),""&T(_xlfn.ORG.OPENOFFICE.STYLE("Default"))) -> 40118 | J28: =IF(WEEKDAY(I26)<=2,I26+2-WEEKDAY(I26)+_xlfn.ORG.OPENOFFICE.STYLE(IF(NOT(ISNA(MATCH(_xlfn.ORG.OPENOFFICE.CURRENT(),Holidays!$E$3:$E$33,0))),"Green",IF(NOT(ISNA(MATCH(_xlfn.ORG.OPENOFFICE.CURRENT(),Holidays!$G$3:$G$33,0))),"Magenta","Default"))),""&T(_xlfn.ORG.OPENOFFICE.STYLE("Default"))) -> 40119 | K28: =IF(WEEKDAY(I26)<=3,I26+3-WEEKDAY(I26)+_xlfn.ORG.OPENOFFICE.STYLE(IF(NOT(ISNA(MATCH(_xlfn.ORG.OPENOFFICE.CURRENT(),Holidays!$E$3:$E$33,0))),"Green",IF(NOT(ISNA(MATCH(_xlfn.ORG.OPENOFFICE.CURRENT(),Holidays!$G$3:$G$33,0))),"Magenta","Default"))),""&T(_xlfn.ORG.OPENOFFICE.STYLE("Default"))) -> 40120 | L28: =IF(WEEKDAY(I26)<=4,I26+4-WEEKDAY(I26)+_xlfn.ORG.OPENOFFICE.STYLE(IF(NOT(ISNA(MATCH(_xlfn.ORG.OPENOFFICE.CURRENT(),Holidays!$E$3:$E$33,0))),"Green",IF(NOT(ISNA(MATCH(_xlfn.ORG.OPENOFFICE.CURRENT(),Holidays!$G$3:$G$33,0))),"Magenta","Default"))),""&T(_xlfn.ORG.OPENOFFICE.STYLE("Default"))) -> 40121 | M28: =IF(WEEKDAY(I26)<=5,I26+5-WEEKDAY(I26)+_xlfn.ORG.OPENOFFICE.STYLE(IF(NOT(ISNA(MATCH(_xlfn.ORG.OPENOFFICE.CURRENT(),Holidays!$E$3:$E$33,0))),"Green",IF(NOT(ISNA(MATCH(_xlfn.ORG.OPENOFFICE.CURRENT(),Holidays!$G$3:$G$33,0))),"Magenta","Default"))),""&T(_xlfn.ORG.OPENOFFICE.STYLE("Default"))) -> 40122 | N28: =IF(WEEKDAY(I26)<=6,I26+6-WEEKDAY(I26)+_xlfn.ORG.OPENOFFICE.STYLE(IF(NOT(ISNA(MATCH(_xlfn.ORG.OPENOFFICE.CURRENT(),Holidays!$E$3:$E$33,0))),"Green",IF(NOT(ISNA(MATCH(_xlfn.ORG.OPENOFFICE.CURRENT(),Holidays!$G$3:$G$33,0))),"Magenta","Default"))),""&T(_xlfn.ORG.OPENOFFICE.STYLE("Default"))) -> 40123 | O28: =IF(WEEKDAY(I26)<=7,I26+7-WEEKDAY(I26)+_xlfn.ORG.OPENOFFICE.STYLE(IF(NOT(ISNA(MATCH(_xlfn.ORG.OPENOFFICE.CURRENT(),Holidays!$E$3:$E$33,0))),"Green",IF(NOT(ISNA(MATCH(_xlfn.ORG.OPENOFFICE.CURRENT(),Holidays!$G$3:$G$33,0))),"Magenta","Default"))),""&T(_xlfn.ORG.OPENOFFICE.STYLE("Default"))) -> 40124 | Q28: =IF(WEEKDAY(Q26)=1,Q26+_xlfn.ORG.OPENOFFICE.STYLE(IF(NOT(ISNA(MATCH(_xlfn.ORG.OPENOFFICE.CURRENT(),Holidays!$E$3:$E$33,0))),"Green",IF(NOT(ISNA(MATCH(_xlfn.ORG.OPENOFFICE.CURRENT(),Holidays!$G$3:$G$33,0))),"Magenta","Default"))),""&T(_xlfn.ORG.OPENOFFICE.STYLE("Default"))) | R28: =IF(WEEKDAY(Q26)<=2,Q26+2-WEEKDAY(Q26)+_xlfn.ORG.OPENOFFICE.STYLE(IF(NOT(ISNA(MATCH(_xlfn.ORG.OPENOFFICE.CURRENT(),Holidays!$E$3:$E$33,0))),"Green",IF(NOT(ISNA(MATCH(_xlfn.ORG.OPENOFFICE.CURRENT(),Holidays!$G$3:$G$33,0))),"Magenta","Default"))),""&T(_xlfn.ORG.OPENOFFICE.STYLE("Default"))) | S28: =IF(WEEKDAY(Q26)<=3,Q26+3-WEEKDAY(Q26)+_xlfn.ORG.OPENOFFICE.STYLE(IF(NOT(ISNA(MATCH(_xlfn.ORG.OPENOFFICE.CURRENT(),Holidays!$E$3:$E$33,0))),"Green",IF(NOT(ISNA(MATCH(_xlfn.ORG.OPENOFFICE.CURRENT(),Holidays!$G$3:$G$33,0))),"Magenta","Default"))),""&T(_xlfn.ORG.OPENOFFICE.STYLE("Default"))) -> 40148 | T28: =IF(WEEKDAY(Q26)<=4,Q26+4-WEEKDAY(Q26)+_xlfn.ORG.OPENOFFICE.STYLE(IF(NOT(ISNA(MATCH(_xlfn.ORG.OPENOFFICE.CURRENT(),Holidays!$E$3:$E$33,0))),"Green",IF(NOT(ISNA(MATCH(_xlfn.ORG.OPENOFFICE.CURRENT(),Holidays!$G$3:$G$33,0))),"Magenta","Default"))),""&T(_xlfn.ORG.OPENOFFICE.STYLE("Default"))) -> 40149 | U28: =IF(WEEKDAY(Q26)<=5,Q26+5-WEEKDAY(Q26)+_xlfn.ORG.OPENOFFICE.STYLE(IF(NOT(ISNA(MATCH(_xlfn.ORG.OPENOFFICE.CURRENT(),Holidays!$E$3:$E$33,0))),"Green",IF(NOT(ISNA(MATCH(_xlfn.ORG.OPENOFFICE.CURRENT(),Holidays!$G$3:$G$33,0))),"Magenta","Default"))),""&T(_xlfn.ORG.OPENOFFICE.STYLE("Default"))) -> 40150 | V28: =IF(WEEKDAY(Q26)<=6,Q26+6-WEEKDAY(Q26)+_xlfn.ORG.OPENOFFICE.STYLE(IF(NOT(ISNA(MATCH(_xlfn.ORG.OPENOFFICE.CURRENT(),Holidays!$E$3:$E$33,0))),"Green",IF(NOT(ISNA(MATCH(_xlfn.ORG.OPENOFFICE.CURRENT(),Holidays!$G$3:$G$33,0))),"Magenta","Default"))),""&T(_xlfn.ORG.OPENOFFICE.STYLE("Default"))) -> 40151 | W28: =IF(WEEKDAY(Q26)<=7,Q26+7-WEEKDAY(Q26)+_xlfn.ORG.OPENOFFICE.STYLE(IF(NOT(ISNA(MATCH(_xlfn.ORG.OPENOFFICE.CURRENT(),Holidays!$E$3:$E$33,0))),"Green",IF(NOT(ISNA(MATCH(_xlfn.ORG.OPENOFFICE.CURRENT(),Holidays!$G$3:$G$33,0))),"Magenta","Default"))),""&T(_xlfn.ORG.OPENOFFICE.STYLE("Default"))) -> 40152
A29: =G28+1+_xlfn.ORG.OPENOFFICE.STYLE(IF(NOT(ISNA(MATCH(_xlfn.ORG.OPENOFFICE.CURRENT(),Holidays!$E$3:$E$33,0))),"Green",IF(NOT(ISNA(MATCH(_xlfn.ORG.OPENOFFICE.CURRENT(),Holidays!$G$3:$G$33,0))),"Magenta","Default"))) -> 40090 | B29: =A29+1+_xlfn.ORG.OPENOFFICE.STYLE(IF(NOT(ISNA(MATCH(_xlfn.ORG.OPENOFFICE.CURRENT(),Holidays!$E$3:$E$33,0))),"Green",IF(NOT(ISNA(MATCH(_xlfn.ORG.OPENOFFICE.CURRENT(),Holidays!$G$3:$G$33,0))),"Magenta","Default"))) -> 40091 | C29: =B29+1+_xlfn.ORG.OPENOFFICE.STYLE(IF(NOT(ISNA(MATCH(_xlfn.ORG.OPENOFFICE.CURRENT(),Holidays!$E$3:$E$33,0))),"Green",IF(NOT(ISNA(MATCH(_xlfn.ORG.OPENOFFICE.CURRENT(),Holidays!$G$3:$G$33,0))),"Magenta","Default"))) -> 40092 | D29: =C29+1+_xlfn.ORG.OPENOFFICE.STYLE(IF(NOT(ISNA(MATCH(_xlfn.ORG.OPENOFFICE.CURRENT(),Holidays!$E$3:$E$33,0))),"Green",IF(NOT(ISNA(MATCH(_xlfn.ORG.OPENOFFICE.CURRENT(),Holidays!$G$3:$G$33,0))),"Magenta","Default"))) -> 40093 | E29: =D29+1+_xlfn.ORG.OPENOFFICE.STYLE(IF(NOT(ISNA(MATCH(_xlfn.ORG.OPENOFFICE.CURRENT(),Holidays!$E$3:$E$33,0))),"Green",IF(NOT(ISNA(MATCH(_xlfn.ORG.OPENOFFICE.CURRENT(),Holidays!$G$3:$G$33,0))),"Magenta","Default"))) -> 40094 | F29: =E29+1+_xlfn.ORG.OPENOFFICE.STYLE(IF(NOT(ISNA(MATCH(_xlfn.ORG.OPENOFFICE.CURRENT(),Holidays!$E$3:$E$33,0))),"Green",IF(NOT(ISNA(MATCH(_xlfn.ORG.OPENOFFICE.CURRENT(),Holidays!$G$3:$G$33,0))),"Magenta","Default"))) -> 40095 | G29: =F29+1+_xlfn.ORG.OPENOFFICE.STYLE(IF(NOT(ISNA(MATCH(_xlfn.ORG.OPENOFFICE.CURRENT(),Holidays!$E$3:$E$33,0))),"Green",IF(NOT(ISNA(MATCH(_xlfn.ORG.OPENOFFICE.CURRENT(),Holidays!$G$3:$G$33,0))),"Magenta","Default"))) -> 40096 | I29: =O28+1+_xlfn.ORG.OPENOFFICE.STYLE(IF(NOT(ISNA(MATCH(_xlfn.ORG.OPENOFFICE.CURRENT(),Holidays!$E$3:$E$33,0))),"Green",IF(NOT(ISNA(MATCH(_xlfn.ORG.OPENOFFICE.CURRENT(),Holidays!$G$3:$G$33,0))),"Magenta","Default"))) -> 40125 | J29: =I29+1+_xlfn.ORG.OPENOFFICE.STYLE(IF(NOT(ISNA(MATCH(_xlfn.ORG.OPENOFFICE.CURRENT(),Holidays!$E$3:$E$33,0))),"Green",IF(NOT(ISNA(MATCH(_xlfn.ORG.OPENOFFICE.CURRENT(),Holidays!$G$3:$G$33,0))),"Magenta","Default"))) -> 40126 | K29: =J29+1+_xlfn.ORG.OPENOFFICE.STYLE(IF(NOT(ISNA(MATCH(_xlfn.ORG.OPENOFFICE.CURRENT(),Holidays!$E$3:$E$33,0))),"Green",IF(NOT(ISNA(MATCH(_xlfn.ORG.OPENOFFICE.CURRENT(),Holidays!$G$3:$G$33,0))),"Magenta","Default"))) -> 40127 | L29: =K29+1+_xlfn.ORG.OPENOFFICE.STYLE(IF(NOT(ISNA(MATCH(_xlfn.ORG.OPENOFFICE.CURRENT(),Holidays!$E$3:$E$33,0))),"Green",IF(NOT(ISNA(MATCH(_xlfn.ORG.OPENOFFICE.CURRENT(),Holidays!$G$3:$G$33,0))),"Magenta","Default"))) -> 40128 | M29: =L29+1+_xlfn.ORG.OPENOFFICE.STYLE(IF(NOT(ISNA(MATCH(_xlfn.ORG.OPENOFFICE.CURRENT(),Holidays!$E$3:$E$33,0))),"Green",IF(NOT(ISNA(MATCH(_xlfn.ORG.OPENOFFICE.CURRENT(),Holidays!$G$3:$G$33,0))),"Magenta","Default"))) -> 40129 | N29: =M29+1+_xlfn.ORG.OPENOFFICE.STYLE(IF(NOT(ISNA(MATCH(_xlfn.ORG.OPENOFFICE.CURRENT(),Holidays!$E$3:$E$33,0))),"Green",IF(NOT(ISNA(MATCH(_xlfn.ORG.OPENOFFICE.CURRENT(),Holidays!$G$3:$G$33,0))),"Magenta","Default"))) -> 40130 | O29: =N29+1+_xlfn.ORG.OPENOFFICE.STYLE(IF(NOT(ISNA(MATCH(_xlfn.ORG.OPENOFFICE.CURRENT(),Holidays!$E$3:$E$33,0))),"Green",IF(NOT(ISNA(MATCH(_xlfn.ORG.OPENOFFICE.CURRENT(),Holidays!$G$3:$G$33,0))),"Magenta","Default"))) -> 40131 | Q29: =W28+1+_xlfn.ORG.OPENOFFICE.STYLE(IF(NOT(ISNA(MATCH(_xlfn.ORG.OPENOFFICE.CURRENT(),Holidays!$E$3:$E$33,0))),"Green",IF(NOT(ISNA(MATCH(_xlfn.ORG.OPENOFFICE.CURRENT(),Holidays!$G$3:$G$33,0))),"Magenta","Default"))) -> 40153 | R29: =Q29+1+_xlfn.ORG.OPENOFFICE.STYLE(IF(NOT(ISNA(MATCH(_xlfn.ORG.OPENOFFICE.CURRENT(),Holidays!$E$3:$E$33,0))),"Green",IF(NOT(ISNA(MATCH(_xlfn.ORG.OPENOFFICE.CURRENT(),Holidays!$G$3:$G$33,0))),"Magenta","Default"))) -> 40154 | S29: =R29+1+_xlfn.ORG.OPENOFFICE.STYLE(IF(NOT(ISNA(MATCH(_xlfn.ORG.OPENOFFICE.CURRENT(),Holidays!$E$3:$E$33,0))),"Green",IF(NOT(ISNA(MATCH(_xlfn.ORG.OPENOFFICE.CURRENT(),Holidays!$G$3:$G$33,0))),"Magenta","Default"))) -> 40155 | T29: =S29+1+_xlfn.ORG.OPENOFFICE.STYLE(IF(NOT(ISNA(MATCH(_xlfn.ORG.OPENOFFICE.CURRENT(),Holidays!$E$3:$E$33,0))),"Green",IF(NOT(ISNA(MATCH(_xlfn.ORG.OPENOFFICE.CURRENT(),Holidays!$G$3:$G$33,0))),"Magenta","Default"))) -> 40156 | U29: =T29+1+_xlfn.ORG.OPENOFFICE.STYLE(IF(NOT(ISNA(MATCH(_xlfn.ORG.OPENOFFICE.CURRENT(),Holidays!$E$3:$E$33,0))),"Green",IF(NOT(ISNA(MATCH(_xlfn.ORG.OPENOFFICE.CURRENT(),Holidays!$G$3:$G$33,0))),"Magenta","Default"))) -> 40157 | V29: =U29+1+_xlfn.ORG.OPENOFFICE.STYLE(IF(NOT(ISNA(MATCH(_xlfn.ORG.OPENOFFICE.CURRENT(),Holidays!$E$3:$E$33,0))),"Green",IF(NOT(ISNA(MATCH(_xlfn.ORG.OPENOFFICE.CURRENT(),Holidays!$G$3:$G$33,0))),"Magenta","Default"))) -> 40158 | W29: =V29+1+_xlfn.ORG.OPENOFFICE.STYLE(IF(NOT(ISNA(MATCH(_xlfn.ORG.OPENOFFICE.CURRENT(),Holidays!$E$3:$E$33,0))),"Green",IF(NOT(ISNA(MATCH(_xlfn.ORG.OPENOFFICE.CURRENT(),Holidays!$G$3:$G$33,0))),"Magenta","Default"))) -> 40159
A30: =G29+1+_xlfn.ORG.OPENOFFICE.STYLE(IF(NOT(ISNA(MATCH(_xlfn.ORG.OPENOFFICE.CURRENT(),Holidays!$E$3:$E$33,0))),"Green",IF(NOT(ISNA(MATCH(_xlfn.ORG.OPENOFFICE.CURRENT(),Holidays!$G$3:$G$33,0))),"Magenta","Default"))) -> 40097 | B30: =A30+1+_xlfn.ORG.OPENOFFICE.STYLE(IF(NOT(ISNA(MATCH(_xlfn.ORG.OPENOFFICE.CURRENT(),Holidays!$E$3:$E$33,0))),"Green",IF(NOT(ISNA(MATCH(_xlfn.ORG.OPENOFFICE.CURRENT(),Holidays!$G$3:$G$33,0))),"Magenta","Default"))) -> 40098 | C30: =B30+1+_xlfn.ORG.OPENOFFICE.STYLE(IF(NOT(ISNA(MATCH(_xlfn.ORG.OPENOFFICE.CURRENT(),Holidays!$E$3:$E$33,0))),"Green",IF(NOT(ISNA(MATCH(_xlfn.ORG.OPENOFFICE.CURRENT(),Holidays!$G$3:$G$33,0))),"Magenta","Default"))) -> 40099 | D30: =C30+1+_xlfn.ORG.OPENOFFICE.STYLE(IF(NOT(ISNA(MATCH(_xlfn.ORG.OPENOFFICE.CURRENT(),Holidays!$E$3:$E$33,0))),"Green",IF(NOT(ISNA(MATCH(_xlfn.ORG.OPENOFFICE.CURRENT(),Holidays!$G$3:$G$33,0))),"Magenta","Default"))) -> 40100 | E30: =D30+1+_xlfn.ORG.OPENOFFICE.STYLE(IF(NOT(ISNA(MATCH(_xlfn.ORG.OPENOFFICE.CURRENT(),Holidays!$E$3:$E$33,0))),"Green",IF(NOT(ISNA(MATCH(_xlfn.ORG.OPENOFFICE.CURRENT(),Holidays!$G$3:$G$33,0))),"Magenta","Default"))) -> 40101 | F30: =E30+1+_xlfn.ORG.OPENOFFICE.STYLE(IF(NOT(ISNA(MATCH(_xlfn.ORG.OPENOFFICE.CURRENT(),Holidays!$E$3:$E$33,0))),"Green",IF(NOT(ISNA(MATCH(_xlfn.ORG.OPENOFFICE.CURRENT(),Holidays!$G$3:$G$33,0))),"Magenta","Default"))) -> 40102 | G30: =F30+1+_xlfn.ORG.OPENOFFICE.STYLE(IF(NOT(ISNA(MATCH(_xlfn.ORG.OPENOFFICE.CURRENT(),Holidays!$E$3:$E$33,0))),"Green",IF(NOT(ISNA(MATCH(_xlfn.ORG.OPENOFFICE.CURRENT(),Holidays!$G$3:$G$33,0))),"Magenta","Default"))) -> 40103 | I30: =O29+1+_xlfn.ORG.OPENOFFICE.STYLE(IF(NOT(ISNA(MATCH(_xlfn.ORG.OPENOFFICE.CURRENT(),Holidays!$E$3:$E$33,0))),"Green",IF(NOT(ISNA(MATCH(_xlfn.ORG.OPENOFFICE.CURRENT(),Holidays!$G$3:$G$33,0))),"Magenta","Default"))) -> 40132 | J30: =I30+1+_xlfn.ORG.OPENOFFICE.STYLE(IF(NOT(ISNA(MATCH(_xlfn.ORG.OPENOFFICE.CURRENT(),Holidays!$E$3:$E$33,0))),"Green",IF(NOT(ISNA(MATCH(_xlfn.ORG.OPENOFFICE.CURRENT(),Holidays!$G$3:$G$33,0))),"Magenta","Default"))) -> 40133 | K30: =J30+1+_xlfn.ORG.OPENOFFICE.STYLE(IF(NOT(ISNA(MATCH(_xlfn.ORG.OPENOFFICE.CURRENT(),Holidays!$E$3:$E$33,0))),"Green",IF(NOT(ISNA(MATCH(_xlfn.ORG.OPENOFFICE.CURRENT(),Holidays!$G$3:$G$33,0))),"Magenta","Default"))) -> 40134 | L30: =K30+1+_xlfn.ORG.OPENOFFICE.STYLE(IF(NOT(ISNA(MATCH(_xlfn.ORG.OPENOFFICE.CURRENT(),Holidays!$E$3:$E$33,0))),"Green",IF(NOT(ISNA(MATCH(_xlfn.ORG.OPENOFFICE.CURRENT(),Holidays!$G$3:$G$33,0))),"Magenta","Default"))) -> 40135 | M30: =L30+1+_xlfn.ORG.OPENOFFICE.STYLE(IF(NOT(ISNA(MATCH(_xlfn.ORG.OPENOFFICE.CURRENT(),Holidays!$E$3:$E$33,0))),"Green",IF(NOT(ISNA(MATCH(_xlfn.ORG.OPENOFFICE.CURRENT(),Holidays!$G$3:$G$33,0))),"Magenta","Default"))) -> 40136 | N30: =M30+1+_xlfn.ORG.OPENOFFICE.STYLE(IF(NOT(ISNA(MATCH(_xlfn.ORG.OPENOFFICE.CURRENT(),Holidays!$E$3:$E$33,0))),"Green",IF(NOT(ISNA(MATCH(_xlfn.ORG.OPENOFFICE.CURRENT(),Holidays!$G$3:$G$33,0))),"Magenta","Default"))) -> 40137 | O30: =N30+1+_xlfn.ORG.OPENOFFICE.STYLE(IF(NOT(ISNA(MATCH(_xlfn.ORG.OPENOFFICE.CURRENT(),Holidays!$E$3:$E$33,0))),"Green",IF(NOT(ISNA(MATCH(_xlfn.ORG.OPENOFFICE.CURRENT(),Holidays!$G$3:$G$33,0))),"Magenta","Default"))) -> 40138 | Q30: =W29+1+_xlfn.ORG.OPENOFFICE.STYLE(IF(NOT(ISNA(MATCH(_xlfn.ORG.OPENOFFICE.CURRENT(),Holidays!$E$3:$E$33,0))),"Green",IF(NOT(ISNA(MATCH(_xlfn.ORG.OPENOFFICE.CURRENT(),Holidays!$G$3:$G$33,0))),"Magenta","Default"))) -> 40160 | R30: =Q30+1+_xlfn.ORG.OPENOFFICE.STYLE(IF(NOT(ISNA(MATCH(_xlfn.ORG.OPENOFFICE.CURRENT(),Holidays!$E$3:$E$33,0))),"Green",IF(NOT(ISNA(MATCH(_xlfn.ORG.OPENOFFICE.CURRENT(),Holidays!$G$3:$G$33,0))),"Magenta","Default"))) -> 40161 | S30: =R30+1+_xlfn.ORG.OPENOFFICE.STYLE(IF(NOT(ISNA(MATCH(_xlfn.ORG.OPENOFFICE.CURRENT(),Holidays!$E$3:$E$33,0))),"Green",IF(NOT(ISNA(MATCH(_xlfn.ORG.OPENOFFICE.CURRENT(),Holidays!$G$3:$G$33,0))),"Magenta","Default"))) -> 40162 | T30: =S30+1+_xlfn.ORG.OPENOFFICE.STYLE(IF(NOT(ISNA(MATCH(_xlfn.ORG.OPENOFFICE.CURRENT(),Holidays!$E$3:$E$33,0))),"Green",IF(NOT(ISNA(MATCH(_xlfn.ORG.OPENOFFICE.CURRENT(),Holidays!$G$3:$G$33,0))),"Magenta","Default"))) -> 40163 | U30: =T30+1+_xlfn.ORG.OPENOFFICE.STYLE(IF(NOT(ISNA(MATCH(_xlfn.ORG.OPENOFFICE.CURRENT(),Holidays!$E$3:$E$33,0))),"Green",IF(NOT(ISNA(MATCH(_xlfn.ORG.OPENOFFICE.CURRENT(),Holidays!$G$3:$G$33,0))),"Magenta","Default"))) -> 40164 | V30: =U30+1+_xlfn.ORG.OPENOFFICE.STYLE(IF(NOT(ISNA(MATCH(_xlfn.ORG.OPENOFFICE.CURRENT(),Holidays!$E$3:$E$33,0))),"Green",IF(NOT(ISNA(MATCH(_xlfn.ORG.OPENOFFICE.CURRENT(),Holidays!$G$3:$G$33,0))),"Magenta","Default"))) -> 40165 | W30: =V30+1+_xlfn.ORG.OPENOFFICE.STYLE(IF(NOT(ISNA(MATCH(_xlfn.ORG.OPENOFFICE.CURRENT(),Holidays!$E$3:$E$33,0))),"Green",IF(NOT(ISNA(MATCH(_xlfn.ORG.OPENOFFICE.CURRENT(),Holidays!$G$3:$G$33,0))),"Magenta","Default"))) -> 40166
A31: =G30+1+_xlfn.ORG.OPENOFFICE.STYLE(IF(NOT(ISNA(MATCH(_xlfn.ORG.OPENOFFICE.CURRENT(),Holidays!$E$3:$E$33,0))),"Green",IF(NOT(ISNA(MATCH(_xlfn.ORG.OPENOFFICE.CURRENT(),Holidays!$G$3:$G$33,0))),"Magenta","Default"))) -> 40104 | B31: =A31+1+_xlfn.ORG.OPENOFFICE.STYLE(IF(NOT(ISNA(MATCH(_xlfn.ORG.OPENOFFICE.CURRENT(),Holidays!$E$3:$E$33,0))),"Green",IF(NOT(ISNA(MATCH(_xlfn.ORG.OPENOFFICE.CURRENT(),Holidays!$G$3:$G$33,0))),"Magenta","Default"))) -> 40105 | C31: =B31+1+_xlfn.ORG.OPENOFFICE.STYLE(IF(NOT(ISNA(MATCH(_xlfn.ORG.OPENOFFICE.CURRENT(),Holidays!$E$3:$E$33,0))),"Green",IF(NOT(ISNA(MATCH(_xlfn.ORG.OPENOFFICE.CURRENT(),Holidays!$G$3:$G$33,0))),"Magenta","Default"))) -> 40106 | D31: =C31+1+_xlfn.ORG.OPENOFFICE.STYLE(IF(NOT(ISNA(MATCH(_xlfn.ORG.OPENOFFICE.CURRENT(),Holidays!$E$3:$E$33,0))),"Green",IF(NOT(ISNA(MATCH(_xlfn.ORG.OPENOFFICE.CURRENT(),Holidays!$G$3:$G$33,0))),"Magenta","Default"))) -> 40107 | E31: =D31+1+_xlfn.ORG.OPENOFFICE.STYLE(IF(NOT(ISNA(MATCH(_xlfn.ORG.OPENOFFICE.CURRENT(),Holidays!$E$3:$E$33,0))),"Green",IF(NOT(ISNA(MATCH(_xlfn.ORG.OPENOFFICE.CURRENT(),Holidays!$G$3:$G$33,0))),"Magenta","Default"))) -> 40108 | F31: =E31+1+_xlfn.ORG.OPENOFFICE.STYLE(IF(NOT(ISNA(MATCH(_xlfn.ORG.OPENOFFICE.CURRENT(),Holidays!$E$3:$E$33,0))),"Green",IF(NOT(ISNA(MATCH(_xlfn.ORG.OPENOFFICE.CURRENT(),Holidays!$G$3:$G$33,0))),"Magenta","Default"))) -> 40109 | G31: =F31+1+_xlfn.ORG.OPENOFFICE.STYLE(IF(NOT(ISNA(MATCH(_xlfn.ORG.OPENOFFICE.CURRENT(),Holidays!$E$3:$E$33,0))),"Green",IF(NOT(ISNA(MATCH(_xlfn.ORG.OPENOFFICE.CURRENT(),Holidays!$G$3:$G$33,0))),"Magenta","Default"))) -> 40110 | I31: =O30+1+_xlfn.ORG.OPENOFFICE.STYLE(IF(NOT(ISNA(MATCH(_xlfn.ORG.OPENOFFICE.CURRENT(),Holidays!$E$3:$E$33,0))),"Green",IF(NOT(ISNA(MATCH(_xlfn.ORG.OPENOFFICE.CURRENT(),Holidays!$G$3:$G$33,0))),"Magenta","Default"))) -> 40139 | J31: =I31+1+_xlfn.ORG.OPENOFFICE.STYLE(IF(NOT(ISNA(MATCH(_xlfn.ORG.OPENOFFICE.CURRENT(),Holidays!$E$3:$E$33,0))),"Green",IF(NOT(ISNA(MATCH(_xlfn.ORG.OPENOFFICE.CURRENT(),Holidays!$G$3:$G$33,0))),"Magenta","Default"))) -> 40140 | K31: =J31+1+_xlfn.ORG.OPENOFFICE.STYLE(IF(NOT(ISNA(MATCH(_xlfn.ORG.OPENOFFICE.CURRENT(),Holidays!$E$3:$E$33,0))),"Green",IF(NOT(ISNA(MATCH(_xlfn.ORG.OPENOFFICE.CURRENT(),Holidays!$G$3:$G$33,0))),"Magenta","Default"))) -> 40141 | L31: =K31+1+_xlfn.ORG.OPENOFFICE.STYLE(IF(NOT(ISNA(MATCH(_xlfn.ORG.OPENOFFICE.CURRENT(),Holidays!$E$3:$E$33,0))),"Green",IF(NOT(ISNA(MATCH(_xlfn.ORG.OPENOFFICE.CURRENT(),Holidays!$G$3:$G$33,0))),"Magenta","Default"))) -> 40142 | M31: =L31+1+_xlfn.ORG.OPENOFFICE.STYLE(IF(NOT(ISNA(MATCH(_xlfn.ORG.OPENOFFICE.CURRENT(),Holidays!$E$3:$E$33,0))),"Green",IF(NOT(ISNA(MATCH(_xlfn.ORG.OPENOFFICE.CURRENT(),Holidays!$G$3:$G$33,0))),"Magenta","Default"))) -> 40143 | N31: =M31+1+_xlfn.ORG.OPENOFFICE.STYLE(IF(NOT(ISNA(MATCH(_xlfn.ORG.OPENOFFICE.CURRENT(),Holidays!$E$3:$E$33,0))),"Green",IF(NOT(ISNA(MATCH(_xlfn.ORG.OPENOFFICE.CURRENT(),Holidays!$G$3:$G$33,0))),"Magenta","Default"))) -> 40144 | O31: =N31+1+_xlfn.ORG.OPENOFFICE.STYLE(IF(NOT(ISNA(MATCH(_xlfn.ORG.OPENOFFICE.CURRENT(),Holidays!$E$3:$E$33,0))),"Green",IF(NOT(ISNA(MATCH(_xlfn.ORG.OPENOFFICE.CURRENT(),Holidays!$G$3:$G$33,0))),"Magenta","Default"))) -> 40145 | Q31: =W30+1+_xlfn.ORG.OPENOFFICE.STYLE(IF(NOT(ISNA(MATCH(_xlfn.ORG.OPENOFFICE.CURRENT(),Holidays!$E$3:$E$33,0))),"Green",IF(NOT(ISNA(MATCH(_xlfn.ORG.OPENOFFICE.CURRENT(),Holidays!$G$3:$G$33,0))),"Magenta","Default"))) -> 40167 | R31: =Q31+1+_xlfn.ORG.OPENOFFICE.STYLE(IF(NOT(ISNA(MATCH(_xlfn.ORG.OPENOFFICE.CURRENT(),Holidays!$E$3:$E$33,0))),"Green",IF(NOT(ISNA(MATCH(_xlfn.ORG.OPENOFFICE.CURRENT(),Holidays!$G$3:$G$33,0))),"Magenta","Default"))) -> 40168 | S31: =R31+1+_xlfn.ORG.OPENOFFICE.STYLE(IF(NOT(ISNA(MATCH(_xlfn.ORG.OPENOFFICE.CURRENT(),Holidays!$E$3:$E$33,0))),"Green",IF(NOT(ISNA(MATCH(_xlfn.ORG.OPENOFFICE.CURRENT(),Holidays!$G$3:$G$33,0))),"Magenta","Default"))) -> 40169 | T31: =S31+1+_xlfn.ORG.OPENOFFICE.STYLE(IF(NOT(ISNA(MATCH(_xlfn.ORG.OPENOFFICE.CURRENT(),Holidays!$E$3:$E$33,0))),"Green",IF(NOT(ISNA(MATCH(_xlfn.ORG.OPENOFFICE.CURRENT(),Holidays!$G$3:$G$33,0))),"Magenta","Default"))) -> 40170 | U31: =T31+1+_xlfn.ORG.OPENOFFICE.STYLE(IF(NOT(ISNA(MATCH(_xlfn.ORG.OPENOFFICE.CURRENT(),Holidays!$E$3:$E$33,0))),"Green",IF(NOT(ISNA(MATCH(_xlfn.ORG.OPENOFFICE.CURRENT(),Holidays!$G$3:$G$33,0))),"Magenta","Default"))) -> 40171 | V31: =U31+1+_xlfn.ORG.OPENOFFICE.STYLE(IF(NOT(ISNA(MATCH(_xlfn.ORG.OPENOFFICE.CURRENT(),Holidays!$E$3:$E$33,0))),"Green",IF(NOT(ISNA(MATCH(_xlfn.ORG.OPENOFFICE.CURRENT(),Holidays!$G$3:$G$33,0))),"Magenta","Default"))) -> 40172 | W31: =V31+1+_xlfn.ORG.OPENOFFICE.STYLE(IF(NOT(ISNA(MATCH(_xlfn.ORG.OPENOFFICE.CURRENT(),Holidays!$E$3:$E$33,0))),"Green",IF(NOT(ISNA(MATCH(_xlfn.ORG.OPENOFFICE.CURRENT(),Holidays!$G$3:$G$33,0))),"Magenta","Default"))) -> 40173
A32: =IF(MONTH(A30+14)=MONTH(A30), A30+14+_xlfn.ORG.OPENOFFICE.STYLE(IF(NOT(ISNA(MATCH(_xlfn.ORG.OPENOFFICE.CURRENT(),Holidays!$E$3:$E$33,0))),"Green",IF(NOT(ISNA(MATCH(_xlfn.ORG.OPENOFFICE.CURRENT(),Holidays!$G$3:$G$33,0))),"Magenta","Default"))), ""&T(_xlfn.ORG.OPENOFFICE.STYLE("Default"))) -> 40111 | B32: =IF(MONTH(B30+14)=MONTH(B30), B30+14+_xlfn.ORG.OPENOFFICE.STYLE(IF(NOT(ISNA(MATCH(_xlfn.ORG.OPENOFFICE.CURRENT(),Holidays!$E$3:$E$33,0))),"Green",IF(NOT(ISNA(MATCH(_xlfn.ORG.OPENOFFICE.CURRENT(),Holidays!$G$3:$G$33,0))),"Magenta","Default"))), ""&T(_xlfn.ORG.OPENOFFICE.STYLE("Default"))) -> 40112 | C32: =IF(MONTH(C30+14)=MONTH(C30), C30+14+_xlfn.ORG.OPENOFFICE.STYLE(IF(NOT(ISNA(MATCH(_xlfn.ORG.OPENOFFICE.CURRENT(),Holidays!$E$3:$E$33,0))),"Green",IF(NOT(ISNA(MATCH(_xlfn.ORG.OPENOFFICE.CURRENT(),Holidays!$G$3:$G$33,0))),"Magenta","Default"))), ""&T(_xlfn.ORG.OPENOFFICE.STYLE("Default"))) -> 40113 | D32: =IF(MONTH(D30+14)=MONTH(D30), D30+14+_xlfn.ORG.OPENOFFICE.STYLE(IF(NOT(ISNA(MATCH(_xlfn.ORG.OPENOFFICE.CURRENT(),Holidays!$E$3:$E$33,0))),"Green",IF(NOT(ISNA(MATCH(_xlfn.ORG.OPENOFFICE.CURRENT(),Holidays!$G$3:$G$33,0))),"Magenta","Default"))), ""&T(_xlfn.ORG.OPENOFFICE.STYLE("Default"))) -> 40114 | E32: =IF(MONTH(E30+14)=MONTH(E30), E30+14+_xlfn.ORG.OPENOFFICE.STYLE(IF(NOT(ISNA(MATCH(_xlfn.ORG.OPENOFFICE.CURRENT(),Holidays!$E$3:$E$33,0))),"Green",IF(NOT(ISNA(MATCH(_xlfn.ORG.OPENOFFICE.CURRENT(),Holidays!$G$3:$G$33,0))),"Magenta","Default"))), ""&T(_xlfn.ORG.OPENOFFICE.STYLE("Default"))) -> 40115 | F32: =IF(MONTH(F30+14)=MONTH(F30), F30+14+_xlfn.ORG.OPENOFFICE.STYLE(IF(NOT(ISNA(MATCH(_xlfn.ORG.OPENOFFICE.CURRENT(),Holidays!$E$3:$E$33,0))),"Green",IF(NOT(ISNA(MATCH(_xlfn.ORG.OPENOFFICE.CURRENT(),Holidays!$G$3:$G$33,0))),"Magenta","Default"))), ""&T(_xlfn.ORG.OPENOFFICE.STYLE("Default"))) -> 40116 | G32: =IF(MONTH(G30+14)=MONTH(G30), G30+14+_xlfn.ORG.OPENOFFICE.STYLE(IF(NOT(ISNA(MATCH(_xlfn.ORG.OPENOFFICE.CURRENT(),Holidays!$E$3:$E$33,0))),"Green",IF(NOT(ISNA(MATCH(_xlfn.ORG.OPENOFFICE.CURRENT(),Holidays!$G$3:$G$33,0))),"Magenta","Default"))), ""&T(_xlfn.ORG.OPENOFFICE.STYLE("Default"))) -> 40117 | I32: =IF(MONTH(I30+14)=MONTH(I30), I30+14+_xlfn.ORG.OPENOFFICE.STYLE(IF(NOT(ISNA(MATCH(_xlfn.ORG.OPENOFFICE.CURRENT(),Holidays!$E$3:$E$33,0))),"Green",IF(NOT(ISNA(MATCH(_xlfn.ORG.OPENOFFICE.CURRENT(),Holidays!$G$3:$G$33,0))),"Magenta","Default"))), ""&T(_xlfn.ORG.OPENOFFICE.STYLE("Default"))) -> 40146 | J32: =IF(MONTH(J30+14)=MONTH(J30), J30+14+_xlfn.ORG.OPENOFFICE.STYLE(IF(NOT(ISNA(MATCH(_xlfn.ORG.OPENOFFICE.CURRENT(),Holidays!$E$3:$E$33,0))),"Green",IF(NOT(ISNA(MATCH(_xlfn.ORG.OPENOFFICE.CURRENT(),Holidays!$G$3:$G$33,0))),"Magenta","Default"))), ""&T(_xlfn.ORG.OPENOFFICE.STYLE("Default"))) -> 40147 | K32: =IF(MONTH(K30+14)=MONTH(K30), K30+14+_xlfn.ORG.OPENOFFICE.STYLE(IF(NOT(ISNA(MATCH(_xlfn.ORG.OPENOFFICE.CURRENT(),Holidays!$E$3:$E$33,0))),"Green",IF(NOT(ISNA(MATCH(_xlfn.ORG.OPENOFFICE.CURRENT(),Holidays!$G$3:$G$33,0))),"Magenta","Default"))), ""&T(_xlfn.ORG.OPENOFFICE.STYLE("Default"))) | L32: =IF(MONTH(L30+14)=MONTH(L30), L30+14+_xlfn.ORG.OPENOFFICE.STYLE(IF(NOT(ISNA(MATCH(_xlfn.ORG.OPENOFFICE.CURRENT(),Holidays!$E$3:$E$33,0))),"Green",IF(NOT(ISNA(MATCH(_xlfn.ORG.OPENOFFICE.CURRENT(),Holidays!$G$3:$G$33,0))),"Magenta","Default"))), ""&T(_xlfn.ORG.OPENOFFICE.STYLE("Default"))) | M32: =IF(MONTH(M30+14)=MONTH(M30), M30+14+_xlfn.ORG.OPENOFFICE.STYLE(IF(NOT(ISNA(MATCH(_xlfn.ORG.OPENOFFICE.CURRENT(),Holidays!$E$3:$E$33,0))),"Green",IF(NOT(ISNA(MATCH(_xlfn.ORG.OPENOFFICE.CURRENT(),Holidays!$G$3:$G$33,0))),"Magenta","Default"))), ""&T(_xlfn.ORG.OPENOFFICE.STYLE("Default"))) | N32: =IF(MONTH(N30+14)=MONTH(N30), N30+14+_xlfn.ORG.OPENOFFICE.STYLE(IF(NOT(ISNA(MATCH(_xlfn.ORG.OPENOFFICE.CURRENT(),Holidays!$E$3:$E$33,0))),"Green",IF(NOT(ISNA(MATCH(_xlfn.ORG.OPENOFFICE.CURRENT(),Holidays!$G$3:$G$33,0))),"Magenta","Default"))), ""&T(_xlfn.ORG.OPENOFFICE.STYLE("Default"))) | O32: =IF(MONTH(O30+14)=MONTH(O30), O30+14+_xlfn.ORG.OPENOFFICE.STYLE(IF(NOT(ISNA(MATCH(_xlfn.ORG.OPENOFFICE.CURRENT(),Holidays!$E$3:$E$33,0))),"Green",IF(NOT(ISNA(MATCH(_xlfn.ORG.OPENOFFICE.CURRENT(),Holidays!$G$3:$G$33,0))),"Magenta","Default"))), ""&T(_xlfn.ORG.OPENOFFICE.STYLE("Default"))) | Q32: =IF(MONTH(Q30+14)=MONTH(Q30), Q30+14+_xlfn.ORG.OPENOFFICE.STYLE(IF(NOT(ISNA(MATCH(_xlfn.ORG.OPENOFFICE.CURRENT(),Holidays!$E$3:$E$33,0))),"Green",IF(NOT(ISNA(MATCH(_xlfn.ORG.OPENOFFICE.CURRENT(),Holidays!$G$3:$G$33,0))),"Magenta","Default"))), ""&T(_xlfn.ORG.OPENOFFICE.STYLE("Default"))) -> 40174 | R32: =IF(MONTH(R30+14)=MONTH(R30), R30+14+_xlfn.ORG.OPENOFFICE.STYLE(IF(NOT(ISNA(MATCH(_xlfn.ORG.OPENOFFICE.CURRENT(),Holidays!$E$3:$E$33,0))),"Green",IF(NOT(ISNA(MATCH(_xlfn.ORG.OPENOFFICE.CURRENT(),Holidays!$G$3:$G$33,0))),"Magenta","Default"))), ""&T(_xlfn.ORG.OPENOFFICE.STYLE("Default"))) -> 40175 | S32: =IF(MONTH(S30+14)=MONTH(S30), S30+14+_xlfn.ORG.OPENOFFICE.STYLE(IF(NOT(ISNA(MATCH(_xlfn.ORG.OPENOFFICE.CURRENT(),Holidays!$E$3:$E$33,0))),"Green",IF(NOT(ISNA(MATCH(_xlfn.ORG.OPENOFFICE.CURRENT(),Holidays!$G$3:$G$33,0))),"Magenta","Default"))), ""&T(_xlfn.ORG.OPENOFFICE.STYLE("Default"))) -> 40176 | T32: =IF(MONTH(T30+14)=MONTH(T30), T30+14+_xlfn.ORG.OPENOFFICE.STYLE(IF(NOT(ISNA(MATCH(_xlfn.ORG.OPENOFFICE.CURRENT(),Holidays!$E$3:$E$33,0))),"Green",IF(NOT(ISNA(MATCH(_xlfn.ORG.OPENOFFICE.CURRENT(),Holidays!$G$3:$G$33,0))),"Magenta","Default"))), ""&T(_xlfn.ORG.OPENOFFICE.STYLE("Default"))) -> 40177 | U32: =IF(MONTH(U30+14)=MONTH(U30), U30+14+_xlfn.ORG.OPENOFFICE.STYLE(IF(NOT(ISNA(MATCH(_xlfn.ORG.OPENOFFICE.CURRENT(),Holidays!$E$3:$E$33,0))),"Green",IF(NOT(ISNA(MATCH(_xlfn.ORG.OPENOFFICE.CURRENT(),Holidays!$G$3:$G$33,0))),"Magenta","Default"))), ""&T(_xlfn.ORG.OPENOFFICE.STYLE("Default"))) -> 40178 | V32: =IF(MONTH(V30+14)=MONTH(V30), V30+14+_xlfn.ORG.OPENOFFICE.STYLE(IF(NOT(ISNA(MATCH(_xlfn.ORG.OPENOFFICE.CURRENT(),Holidays!$E$3:$E$33,0))),"Green",IF(NOT(ISNA(MATCH(_xlfn.ORG.OPENOFFICE.CURRENT(),Holidays!$G$3:$G$33,0))),"Magenta","Default"))), ""&T(_xlfn.ORG.OPENOFFICE.STYLE("Default"))) | W32: =IF(MONTH(W30+14)=MONTH(W30), W30+14+_xlfn.ORG.OPENOFFICE.STYLE(IF(NOT(ISNA(MATCH(_xlfn.ORG.OPENOFFICE.CURRENT(),Holidays!$E$3:$E$33,0))),"Green",IF(NOT(ISNA(MATCH(_xlfn.ORG.OPENOFFICE.CURRENT(),Holidays!$G$3:$G$33,0))),"Magenta","Default"))), ""&T(_xlfn.ORG.OPENOFFICE.STYLE("Default")))
A33: =IF(MONTH(A31+14)=MONTH(A31), A31+14+_xlfn.ORG.OPENOFFICE.STYLE(IF(NOT(ISNA(MATCH(_xlfn.ORG.OPENOFFICE.CURRENT(),Holidays!$E$3:$E$33,0))),"Green",IF(NOT(ISNA(MATCH(_xlfn.ORG.OPENOFFICE.CURRENT(),Holidays!$G$3:$G$33,0))),"Magenta","Default"))), ""&T(_xlfn.ORG.OPENOFFICE.STYLE("Default"))) | B33: =IF(MONTH(B31+14)=MONTH(B31), B31+14+_xlfn.ORG.OPENOFFICE.STYLE(IF(NOT(ISNA(MATCH(_xlfn.ORG.OPENOFFICE.CURRENT(),Holidays!$E$3:$E$33,0))),"Green",IF(NOT(ISNA(MATCH(_xlfn.ORG.OPENOFFICE.CURRENT(),Holidays!$G$3:$G$33,0))),"Magenta","Default"))), ""&T(_xlfn.ORG.OPENOFFICE.STYLE("Default"))) | C33: =IF(MONTH(C31+14)=MONTH(C31), C31+14+_xlfn.ORG.OPENOFFICE.STYLE(IF(NOT(ISNA(MATCH(_xlfn.ORG.OPENOFFICE.CURRENT(),Holidays!$E$3:$E$33,0))),"Green",IF(NOT(ISNA(MATCH(_xlfn.ORG.OPENOFFICE.CURRENT(),Holidays!$G$3:$G$33,0))),"Magenta","Default"))), ""&T(_xlfn.ORG.OPENOFFICE.STYLE("Default"))) | D33: =IF(MONTH(D31+14)=MONTH(D31), D31+14+_xlfn.ORG.OPENOFFICE.STYLE(IF(NOT(ISNA(MATCH(_xlfn.ORG.OPENOFFICE.CURRENT(),Holidays!$E$3:$E$33,0))),"Green",IF(NOT(ISNA(MATCH(_xlfn.ORG.OPENOFFICE.CURRENT(),Holidays!$G$3:$G$33,0))),"Magenta","Default"))), ""&T(_xlfn.ORG.OPENOFFICE.STYLE("Default"))) | E33: =IF(MONTH(E31+14)=MONTH(E31), E31+14+_xlfn.ORG.OPENOFFICE.STYLE(IF(NOT(ISNA(MATCH(_xlfn.ORG.OPENOFFICE.CURRENT(),Holidays!$E$3:$E$33,0))),"Green",IF(NOT(ISNA(MATCH(_xlfn.ORG.OPENOFFICE.CURRENT(),Holidays!$G$3:$G$33,0))),"Magenta","Default"))), ""&T(_xlfn.ORG.OPENOFFICE.STYLE("Default"))) | F33: =IF(MONTH(F31+14)=MONTH(F31), F31+14+_xlfn.ORG.OPENOFFICE.STYLE(IF(NOT(ISNA(MATCH(_xlfn.ORG.OPENOFFICE.CURRENT(),Holidays!$E$3:$E$33,0))),"Green",IF(NOT(ISNA(MATCH(_xlfn.ORG.OPENOFFICE.CURRENT(),Holidays!$G$3:$G$33,0))),"Magenta","Default"))), ""&T(_xlfn.ORG.OPENOFFICE.STYLE("Default"))) | G33: =IF(MONTH(G31+14)=MONTH(G31), G31+14+_xlfn.ORG.OPENOFFICE.STYLE(IF(NOT(ISNA(MATCH(_xlfn.ORG.OPENOFFICE.CURRENT(),Holidays!$E$3:$E$33,0))),"Green",IF(NOT(ISNA(MATCH(_xlfn.ORG.OPENOFFICE.CURRENT(),Holidays!$G$3:$G$33,0))),"Magenta","Default"))), ""&T(_xlfn.ORG.OPENOFFICE.STYLE("Default"))) | I33: =IF(MONTH(I31+14)=MONTH(I31), I31+14+_xlfn.ORG.OPENOFFICE.STYLE(IF(NOT(ISNA(MATCH(_xlfn.ORG.OPENOFFICE.CURRENT(),Holidays!$E$3:$E$33,0))),"Green",IF(NOT(ISNA(MATCH(_xlfn.ORG.OPENOFFICE.CURRENT(),Holidays!$G$3:$G$33,0))),"Magenta","Default"))), ""&T(_xlfn.ORG.OPENOFFICE.STYLE("Default"))) | J33: =IF(MONTH(J31+14)=MONTH(J31), J31+14+_xlfn.ORG.OPENOFFICE.STYLE(IF(NOT(ISNA(MATCH(_xlfn.ORG.OPENOFFICE.CURRENT(),Holidays!$E$3:$E$33,0))),"Green",IF(NOT(ISNA(MATCH(_xlfn.ORG.OPENOFFICE.CURRENT(),Holidays!$G$3:$G$33,0))),"Magenta","Default"))), ""&T(_xlfn.ORG.OPENOFFICE.STYLE("Default"))) | K33: =IF(MONTH(K31+14)=MONTH(K31), K31+14+_xlfn.ORG.OPENOFFICE.STYLE(IF(NOT(ISNA(MATCH(_xlfn.ORG.OPENOFFICE.CURRENT(),Holidays!$E$3:$E$33,0))),"Green",IF(NOT(ISNA(MATCH(_xlfn.ORG.OPENOFFICE.CURRENT(),Holidays!$G$3:$G$33,0))),"Magenta","Default"))), ""&T(_xlfn.ORG.OPENOFFICE.STYLE("Default"))) | L33: =IF(MONTH(L31+14)=MONTH(L31), L31+14+_xlfn.ORG.OPENOFFICE.STYLE(IF(NOT(ISNA(MATCH(_xlfn.ORG.OPENOFFICE.CURRENT(),Holidays!$E$3:$E$33,0))),"Green",IF(NOT(ISNA(MATCH(_xlfn.ORG.OPENOFFICE.CURRENT(),Holidays!$G$3:$G$33,0))),"Magenta","Default"))), ""&T(_xlfn.ORG.OPENOFFICE.STYLE("Default"))) | M33: =IF(MONTH(M31+14)=MONTH(M31), M31+14+_xlfn.ORG.OPENOFFICE.STYLE(IF(NOT(ISNA(MATCH(_xlfn.ORG.OPENOFFICE.CURRENT(),Holidays!$E$3:$E$33,0))),"Green",IF(NOT(ISNA(MATCH(_xlfn.ORG.OPENOFFICE.CURRENT(),Holidays!$G$3:$G$33,0))),"Magenta","Default"))), ""&T(_xlfn.ORG.OPENOFFICE.STYLE("Default"))) | N33: =IF(MONTH(N31+14)=MONTH(N31), N31+14+_xlfn.ORG.OPENOFFICE.STYLE(IF(NOT(ISNA(MATCH(_xlfn.ORG.OPENOFFICE.CURRENT(),Holidays!$E$3:$E$33,0))),"Green",IF(NOT(ISNA(MATCH(_xlfn.ORG.OPENOFFICE.CURRENT(),Holidays!$G$3:$G$33,0))),"Magenta","Default"))), ""&T(_xlfn.ORG.OPENOFFICE.STYLE("Default"))) | O33: =IF(MONTH(O31+14)=MONTH(O31), O31+14+_xlfn.ORG.OPENOFFICE.STYLE(IF(NOT(ISNA(MATCH(_xlfn.ORG.OPENOFFICE.CURRENT(),Holidays!$E$3:$E$33,0))),"Green",IF(NOT(ISNA(MATCH(_xlfn.ORG.OPENOFFICE.CURRENT(),Holidays!$G$3:$G$33,0))),"Magenta","Default"))), ""&T(_xlfn.ORG.OPENOFFICE.STYLE("Default"))) | Q33: =IF(MONTH(Q31+14)=MONTH(Q31), Q31+14+_xlfn.ORG.OPENOFFICE.STYLE(IF(NOT(ISNA(MATCH(_xlfn.ORG.OPENOFFICE.CURRENT(),Holidays!$E$3:$E$33,0))),"Green",IF(NOT(ISNA(MATCH(_xlfn.ORG.OPENOFFICE.CURRENT(),Holidays!$G$3:$G$33,0))),"Magenta","Default"))), ""&T(_xlfn.ORG.OPENOFFICE.STYLE("Default"))) | R33: =IF(MONTH(R31+14)=MONTH(R31), R31+14+_xlfn.ORG.OPENOFFICE.STYLE(IF(NOT(ISNA(MATCH(_xlfn.ORG.OPENOFFICE.CURRENT(),Holidays!$E$3:$E$33,0))),"Green",IF(NOT(ISNA(MATCH(_xlfn.ORG.OPENOFFICE.CURRENT(),Holidays!$G$3:$G$33,0))),"Magenta","Default"))), ""&T(_xlfn.ORG.OPENOFFICE.STYLE("Default"))) | S33: =IF(MONTH(S31+14)=MONTH(S31), S31+14+_xlfn.ORG.OPENOFFICE.STYLE(IF(NOT(ISNA(MATCH(_xlfn.ORG.OPENOFFICE.CURRENT(),Holidays!$E$3:$E$33,0))),"Green",IF(NOT(ISNA(MATCH(_xlfn.ORG.OPENOFFICE.CURRENT(),Holidays!$G$3:$G$33,0))),"Magenta","Default"))), ""&T(_xlfn.ORG.OPENOFFICE.STYLE("Default"))) | T33: =IF(MONTH(T31+14)=MONTH(T31), T31+14+_xlfn.ORG.OPENOFFICE.STYLE(IF(NOT(ISNA(MATCH(_xlfn.ORG.OPENOFFICE.CURRENT(),Holidays!$E$3:$E$33,0))),"Green",IF(NOT(ISNA(MATCH(_xlfn.ORG.OPENOFFICE.CURRENT(),Holidays!$G$3:$G$33,0))),"Magenta","Default"))), ""&T(_xlfn.ORG.OPENOFFICE.STYLE("Default"))) | U33: =IF(MONTH(U31+14)=MONTH(U31), U31+14+_xlfn.ORG.OPENOFFICE.STYLE(IF(NOT(ISNA(MATCH(_xlfn.ORG.OPENOFFICE.CURRENT(),Holidays!$E$3:$E$33,0))),"Green",IF(NOT(ISNA(MATCH(_xlfn.ORG.OPENOFFICE.CURRENT(),Holidays!$G$3:$G$33,0))),"Magenta","Default"))), ""&T(_xlfn.ORG.OPENOFFICE.STYLE("Default"))) | V33: =IF(MONTH(V31+14)=MONTH(V31), V31+14+_xlfn.ORG.OPENOFFICE.STYLE(IF(NOT(ISNA(MATCH(_xlfn.ORG.OPENOFFICE.CURRENT(),Holidays!$E$3:$E$33,0))),"Green",IF(NOT(ISNA(MATCH(_xlfn.ORG.OPENOFFICE.CURRENT(),Holidays!$G$3:$G$33,0))),"Magenta","Default"))), ""&T(_xlfn.ORG.OPENOFFICE.STYLE("Default"))) | W33: =IF(MONTH(W31+14)=MONTH(W31), W31+14+_xlfn.ORG.OPENOFFICE.STYLE(IF(NOT(ISNA(MATCH(_xlfn.ORG.OPENOFFICE.CURRENT(),Holidays!$E$3:$E$33,0))),"Green",IF(NOT(ISNA(MATCH(_xlfn.ORG.OPENOFFICE.CURRENT(),Holidays!$G$3:$G$33,0))),"Magenta","Default"))), ""&T(_xlfn.ORG.OPENOFFICE.STYLE("Default")))

Sheet Holidays
A1: =Year!$A$1 -> 2009 | G1: =TODAY()+_xlfn.ORG.OPENOFFICE.STYLE("Blue") -> 45173 | H1: ="Today"&T(_xlfn.ORG.OPENOFFICE.STYLE("Blue")) -> Today
A2: ="Appointments"&T(_xlfn.ORG.OPENOFFICE.STYLE("Red")) -> Appointments | C2: ="Important Days"&T(_xlfn.ORG.OPENOFFICE.STYLE("Yellow")) -> Important Days | E2: ="Holidays"&T(_xlfn.ORG.OPENOFFICE.STYLE("Green")) -> Holidays | G2: ="Events"&T(_xlfn.ORG.OPENOFFICE.STYLE("Magenta")) -> Events
A3: =DATE($A$1,1,15)+IF(WEEKDAY(_xlfn.ORG.OPENOFFICE.CURRENT())=7,2,IF(WEEKDAY(_xlfn.ORG.OPENOFFICE.CURRENT())=1,1,0)) -> 39828 | B3: Pay Uncle Sam | C3: =DATE($A$1,1,6) -> 39819 | D3: Jane's Birthday | E3: =DATE($A$1,1,1) -> 39814 | F3: New Year | G3: =DATE($A$1-1,12,31) -> 39813 | H3: New Year Eve
A4: =DATE($A$1,4,15)+IF(WEEKDAY(_xlfn.ORG.OPENOFFICE.CURRENT())=7,2,IF(WEEKDAY(_xlfn.ORG.OPENOFFICE.CURRENT())=1,1,0)) -> 39918 | B4: Pay Uncle Sam | C4: =DATE($A$1,2,3) -> 39847 | D4: Wedding Anniversary | E4: =DATE($A$1,1,CHOOSE(WEEKDAY($A$1&"/1/1",1),9,8,14,13,12,11,10)) -> 39825 | F4: Martin Luther King's Day | G4: =_xlfn.ORG.OPENOFFICE.EASTERSUNDAY($A$1) - 46 -> 39869 | H4: Ash Wednesday
A5: =DATE($A$1,6,15)+IF(WEEKDAY(_xlfn.ORG.OPENOFFICE.CURRENT())=7,2,IF(WEEKDAY(_xlfn.ORG.OPENOFFICE.CURRENT())=1,1,0)) -> 39979 | B5: Pay Uncle Sam | C5: =DATE($A$1,4,28) -> 39931 | D5: John's Birthday | E5: =DATE($A$1,2,CHOOSE(WEEKDAY($A$1&"/2/1",1),16,15,21,20,19,18,17)) -> 39860 | F5: Presidents' Day | G5: =DATE($A$1,2,14) -> 39858 | H5: Valentine's Day
A6: =DATE($A$1,9,15)+IF(WEEKDAY(_xlfn.ORG.OPENOFFICE.CURRENT())=7,2,IF(WEEKDAY(_xlfn.ORG.OPENOFFICE.CURRENT())=1,1,0)) -> 40071 | B6: Pay Uncle Sam | E6: =DATE($A$1,5,CHOOSE(WEEKDAY($A$1&"/5/1",1),21,20,19,18,17,16,15)) -> 39949 | F6: Armed Forces Day | G6: =DATE($A$1,3,17) -> 39889 | H6: St. Patrick's Day
E7: =DATE($A$1,5,CHOOSE(WEEKDAY($A$1&"/5/1",1),30,29,28,27,26,25,31)) -> 39958 | F7: Memorial Day | G7: =_xlfn.ORG.OPENOFFICE.EASTERSUNDAY($A$1) -> 39915 | H7: Easter Sunday
E8: =DATE($A$1,6,14) -> 39978 | F8: Flag Day | G8: =DATE($A$1,4,1) -> 39904 | H8: All Fool's Day
E9: =DATE($A$1,7,4) -> 39998 | F9: Independence Day | G9: =DATE($A$1,5,5) -> 39938 | H9: Cinco de Mayo
E10: =DATE($A$1,9,CHOOSE(WEEKDAY($A$1&"/9/1",1),2,1,7,6,5,4,3)) -> 40063 | F10: Labor Day | G10: =DATE($A$1,5,CHOOSE(WEEKDAY($A$1&"/5/1",1),8,14,13,12,11,10,9)) -> 39943 | H10: Mother's Day
E11: =DATE($A$1,10,CHOOSE(WEEKDAY($A$1&"/10/1",1),9,8,14,13,12,11,10)) -> 40098 | F11: Columbus Day | G11: =DATE($A$1,6,CHOOSE(WEEKDAY($A$1&"/6/1",1),15,21,20,19,18,17,16)) -> 39985 | H11: Father's Day
E12: =DATE($A$1,11,11) -> 40128 | F12: Veterans Day | G12: =DATE($A$1,6,19) -> 39983 | H12: Juneteenth
E13: =DATE($A$1,11,CHOOSE(WEEKDAY($A$1&"/11/1",1),26,25,24,23,22,28,27)) -> 40143 | F13: Thanksgiving Day | G13: =DATE($A$1,9,11) -> 40067 | H13: “9/11”
E14: =DATE($A$1,12,25) -> 40172 | F14: Christmas Day | G14: =DATE($A$1,10,31) -> 40117 | H14: Halloween
E15: =DATE($A$1+1,1,1) -> 40179 | F15: New Year | G15: =DATE($A$1,12,7) -> 40154 | H15: Pearl Harbor Day
G16: =DATE($A$1,12,31) -> 40178 | H16: New Year Eve

Sheet Jan
A1: =DATE(Year!$A$1,1,1) -> 39814
A2: Sunday | C2: Monday | E2: Tuesday | G2: Wednesday | I2: Thursday | K2: Friday | M2: Saturday
A3: =IF(WEEKDAY($A$1)=1,$A$1,C3-1) -> 39810 | B3: =IF(NOT(ISNA(MATCH(A3,Holidays!$A$3:$A$33,0))),VLOOKUP(A3,Holidays!$A$3:$B$33,2,0)&T(_xlfn.ORG.OPENOFFICE.STYLE("Red")),IF(NOT(ISNA(MATCH(A3,Holidays!$C$3:$C$33,0))),VLOOKUP(A3,Holidays!$C$3:$D$33,2,0)&T(_xlfn.ORG.OPENOFFICE.STYLE("Yellow")),IF(NOT(ISNA(MATCH(A3,Holidays!$E$3:$E$33,0))),VLOOKUP(A3,Holidays!$E$3:$F$33,2,0)&T(_xlfn.ORG.OPENOFFICE.STYLE("Green")),IF(NOT(ISNA(MATCH(A3,Holidays!$G$3:$G$33,0))),VLOOKUP(A3,Holidays!$G$3:$H$33,2,0)&T(_xlfn.ORG.OPENOFFICE.STYLE("Magenta")),IF(MONTH($A$1)<>MONTH(A3),""&T(_xlfn.ORG.OPENOFFICE.STYLE("NTRMonth")),""&T(_xlfn.ORG.OPENOFFICE.STYLE("TopRight"))))))) | C3: =IF(WEEKDAY($A$1)<=2,$A$1+2-WEEKDAY($A$1),E3-1) -> 39811 | D3: =IF(NOT(ISNA(MATCH(C3,Holidays!$A$3:$A$33,0))),VLOOKUP(C3,Holidays!$A$3:$B$33,2,0)&T(_xlfn.ORG.OPENOFFICE.STYLE("Red")),IF(NOT(ISNA(MATCH(C3,Holidays!$C$3:$C$33,0))),VLOOKUP(C3,Holidays!$C$3:$D$33,2,0)&T(_xlfn.ORG.OPENOFFICE.STYLE("Yellow")),IF(NOT(ISNA(MATCH(C3,Holidays!$E$3:$E$33,0))),VLOOKUP(C3,Holidays!$E$3:$F$33,2,0)&T(_xlfn.ORG.OPENOFFICE.STYLE("Green")),IF(NOT(ISNA(MATCH(C3,Holidays!$G$3:$G$33,0))),VLOOKUP(C3,Holidays!$G$3:$H$33,2,0)&T(_xlfn.ORG.OPENOFFICE.STYLE("Magenta")),IF(MONTH($A$1)<>MONTH(C3),""&T(_xlfn.ORG.OPENOFFICE.STYLE("NTRMonth")),""&T(_xlfn.ORG.OPENOFFICE.STYLE("TopRight"))))))) | E3: =IF(WEEKDAY($A$1)<=3,$A$1+3-WEEKDAY($A$1),G3-1) -> 39812 | F3: =IF(NOT(ISNA(MATCH(E3,Holidays!$A$3:$A$33,0))),VLOOKUP(E3,Holidays!$A$3:$B$33,2,0)&T(_xlfn.ORG.OPENOFFICE.STYLE("Red")),IF(NOT(ISNA(MATCH(E3,Holidays!$C$3:$C$33,0))),VLOOKUP(E3,Holidays!$C$3:$D$33,2,0)&T(_xlfn.ORG.OPENOFFICE.STYLE("Yellow")),IF(NOT(ISNA(MATCH(E3,Holidays!$E$3:$E$33,0))),VLOOKUP(E3,Holidays!$E$3:$F$33,2,0)&T(_xlfn.ORG.OPENOFFICE.STYLE("Green")),IF(NOT(ISNA(MATCH(E3,Holidays!$G$3:$G$33,0))),VLOOKUP(E3,Holidays!$G$3:$H$33,2,0)&T(_xlfn.ORG.OPENOFFICE.STYLE("Magenta")),IF(MONTH($A$1)<>MONTH(E3),""&T(_xlfn.ORG.OPENOFFICE.STYLE("NTRMonth")),""&T(_xlfn.ORG.OPENOFFICE.STYLE("TopRight"))))))) | G3: =IF(WEEKDAY($A$1)<=4,$A$1+4-WEEKDAY($A$1),I3-1) -> 39813 | H3: =IF(NOT(ISNA(MATCH(G3,Holidays!$A$3:$A$33,0))),VLOOKUP(G3,Holidays!$A$3:$B$33,2,0)&T(_xlfn.ORG.OPENOFFICE.STYLE("Red")),IF(NOT(ISNA(MATCH(G3,Holidays!$C$3:$C$33,0))),VLOOKUP(G3,Holidays!$C$3:$D$33,2,0)&T(_xlfn.ORG.OPENOFFICE.STYLE("Yellow")),IF(NOT(ISNA(MATCH(G3,Holidays!$E$3:$E$33,0))),VLOOKUP(G3,Holidays!$E$3:$F$33,2,0)&T(_xlfn.ORG.OPENOFFICE.STYLE("Green")),IF(NOT(ISNA(MATCH(G3,Holidays!$G$3:$G$33,0))),VLOOKUP(G3,Holidays!$G$3:$H$33,2,0)&T(_xlfn.ORG.OPENOFFICE.STYLE("Magenta")),IF(MONTH($A$1)<>MONTH(G3),""&T(_xlfn.ORG.OPENOFFICE.STYLE("NTRMonth")),""&T(_xlfn.ORG.OPENOFFICE.STYLE("TopRight"))))))) -> New Year Eve | I3: =IF(WEEKDAY($A$1)<=5,$A$1+5-WEEKDAY($A$1),K3-1) -> 39814 | J3: =IF(NOT(ISNA(MATCH(I3,Holidays!$A$3:$A$33,0))),VLOOKUP(I3,Holidays!$A$3:$B$33,2,0)&T(_xlfn.ORG.OPENOFFICE.STYLE("Red")),IF(NOT(ISNA(MATCH(I3,Holidays!$C$3:$C$33,0))),VLOOKUP(I3,Holidays!$C$3:$D$33,2,0)&T(_xlfn.ORG.OPENOFFICE.STYLE("Yellow")),IF(NOT(ISNA(MATCH(I3,Holidays!$E$3:$E$33,0))),VLOOKUP(I3,Holidays!$E$3:$F$33,2,0)&T(_xlfn.ORG.OPENOFFICE.STYLE("Green")),IF(NOT(ISNA(MATCH(I3,Holidays!$G$3:$G$33,0))),VLOOKUP(I3,Holidays!$G$3:$H$33,2,0)&T(_xlfn.ORG.OPENOFFICE.STYLE("Magenta")),IF(MONTH($A$1)<>MONTH(I3),""&T(_xlfn.ORG.OPENOFFICE.STYLE("NTRMonth")),""&T(_xlfn.ORG.OPENOFFICE.STYLE("TopRight"))))))) -> New Year | K3: =IF(WEEKDAY($A$1)<=6,$A$1+6-WEEKDAY($A$1),M3-1) -> 39815 | L3: =IF(NOT(ISNA(MATCH(K3,Holidays!$A$3:$A$33,0))),VLOOKUP(K3,Holidays!$A$3:$B$33,2,0)&T(_xlfn.ORG.OPENOFFICE.STYLE("Red")),IF(NOT(ISNA(MATCH(K3,Holidays!$C$3:$C$33,0))),VLOOKUP(K3,Holidays!$C$3:$D$33,2,0)&T(_xlfn.ORG.OPENOFFICE.STYLE("Yellow")),IF(NOT(ISNA(MATCH(K3,Holidays!$E$3:$E$33,0))),VLOOKUP(K3,Holidays!$E$3:$F$33,2,0)&T(_xlfn.ORG.OPENOFFICE.STYLE("Green")),IF(NOT(ISNA(MATCH(K3,Holidays!$G$3:$G$33,0))),VLOOKUP(K3,Holidays!$G$3:$H$33,2,0)&T(_xlfn.ORG.OPENOFFICE.STYLE("Magenta")),IF(MONTH($A$1)<>MONTH(K3),""&T(_xlfn.ORG.OPENOFFICE.STYLE("NTRMonth")),""&T(_xlfn.ORG.OPENOFFICE.STYLE("TopRight"))))))) | M3: =$A$1+7-WEEKDAY($A$1) -> 39816 | N3: =IF(NOT(ISNA(MATCH(M3,Holidays!$A$3:$A$33,0))),VLOOKUP(M3,Holidays!$A$3:$B$33,2,0)&T(_xlfn.ORG.OPENOFFICE.STYLE("Red")),IF(NOT(ISNA(MATCH(M3,Holidays!$C$3:$C$33,0))),VLOOKUP(M3,Holidays!$C$3:$D$33,2,0)&T(_xlfn.ORG.OPENOFFICE.STYLE("Yellow")),IF(NOT(ISNA(MATCH(M3,Holidays!$E$3:$E$33,0))),VLOOKUP(M3,Holidays!$E$3:$F$33,2,0)&T(_xlfn.ORG.OPENOFFICE.STYLE("Green")),IF(NOT(ISNA(MATCH(M3,Holidays!$G$3:$G$33,0))),VLOOKUP(M3,Holidays!$G$3:$H$33,2,0)&T(_xlfn.ORG.OPENOFFICE.STYLE("Magenta")),IF(MONTH($A$1)<>MONTH(M3),""&T(_xlfn.ORG.OPENOFFICE.STYLE("NTRMonth")),""&T(_xlfn.ORG.OPENOFFICE.STYLE("TopRight")))))))
A8: =M3+1 -> 39817 | B8: =IF(NOT(ISNA(MATCH(A8,Holidays!$A$3:$A$33,0))),VLOOKUP(A8,Holidays!$A$3:$B$33,2,0)&T(_xlfn.ORG.OPENOFFICE.STYLE("Red")),IF(NOT(ISNA(MATCH(A8,Holidays!$C$3:$C$33,0))),VLOOKUP(A8,Holidays!$C$3:$D$33,2,0)&T(_xlfn.ORG.OPENOFFICE.STYLE("Yellow")),IF(NOT(ISNA(MATCH(A8,Holidays!$E$3:$E$33,0))),VLOOKUP(A8,Holidays!$E$3:$F$33,2,0)&T(_xlfn.ORG.OPENOFFICE.STYLE("Green")),IF(NOT(ISNA(MATCH(A8,Holidays!$G$3:$G$33,0))),VLOOKUP(A8,Holidays!$G$3:$H$33,2,0)&T(_xlfn.ORG.OPENOFFICE.STYLE("Magenta")),IF(MONTH($A$1)<>MONTH(A8),""&T(_xlfn.ORG.OPENOFFICE.STYLE("NTRMonth")),""&T(_xlfn.ORG.OPENOFFICE.STYLE("TopRight"))))))) | C8: =A8+1 -> 39818 | D8: =IF(NOT(ISNA(MATCH(C8,Holidays!$A$3:$A$33,0))),VLOOKUP(C8,Holidays!$A$3:$B$33,2,0)&T(_xlfn.ORG.OPENOFFICE.STYLE("Red")),IF(NOT(ISNA(MATCH(C8,Holidays!$C$3:$C$33,0))),VLOOKUP(C8,Holidays!$C$3:$D$33,2,0)&T(_xlfn.ORG.OPENOFFICE.STYLE("Yellow")),IF(NOT(ISNA(MATCH(C8,Holidays!$E$3:$E$33,0))),VLOOKUP(C8,Holidays!$E$3:$F$33,2,0)&T(_xlfn.ORG.OPENOFFICE.STYLE("Green")),IF(NOT(ISNA(MATCH(C8,Holidays!$G$3:$G$33,0))),VLOOKUP(C8,Holidays!$G$3:$H$33,2,0)&T(_xlfn.ORG.OPENOFFICE.STYLE("Magenta")),IF(MONTH($A$1)<>MONTH(C8),""&T(_xlfn.ORG.OPENOFFICE.STYLE("NTRMonth")),""&T(_xlfn.ORG.OPENOFFICE.STYLE("TopRight"))))))) | E8: =C8+1 -> 39819 | F8: =IF(NOT(ISNA(MATCH(E8,Holidays!$A$3:$A$33,0))),VLOOKUP(E8,Holidays!$A$3:$B$33,2,0)&T(_xlfn.ORG.OPENOFFICE.STYLE("Red")),IF(NOT(ISNA(MATCH(E8,Holidays!$C$3:$C$33,0))),VLOOKUP(E8,Holidays!$C$3:$D$33,2,0)&T(_xlfn.ORG.OPENOFFICE.STYLE("Yellow")),IF(NOT(ISNA(MATCH(E8,Holidays!$E$3:$E$33,0))),VLOOKUP(E8,Holidays!$E$3:$F$33,2,0)&T(_xlfn.ORG.OPENOFFICE.STYLE("Green")),IF(NOT(ISNA(MATCH(E8,Holidays!$G$3:$G$33,0))),VLOOKUP(E8,Holidays!$G$3:$H$33,2,0)&T(_xlfn.ORG.OPENOFFICE.STYLE("Magenta")),IF(MONTH($A$1)<>MONTH(E8),""&T(_xlfn.ORG.OPENOFFICE.STYLE("NTRMonth")),""&T(_xlfn.ORG.OPENOFFICE.STYLE("TopRight"))))))) -> Jane's Birthday | G8: =E8+1 -> 39820 | H8: =IF(NOT(ISNA(MATCH(G8,Holidays!$A$3:$A$33,0))),VLOOKUP(G8,Holidays!$A$3:$B$33,2,0)&T(_xlfn.ORG.OPENOFFICE.STYLE("Red")),IF(NOT(ISNA(MATCH(G8,Holidays!$C$3:$C$33,0))),VLOOKUP(G8,Holidays!$C$3:$D$33,2,0)&T(_xlfn.ORG.OPENOFFICE.STYLE("Yellow")),IF(NOT(ISNA(MATCH(G8,Holidays!$E$3:$E$33,0))),VLOOKUP(G8,Holidays!$E$3:$F$33,2,0)&T(_xlfn.ORG.OPENOFFICE.STYLE("Green")),IF(NOT(ISNA(MATCH(G8,Holidays!$G$3:$G$33,0))),VLOOKUP(G8,Holidays!$G$3:$H$33,2,0)&T(_xlfn.ORG.OPENOFFICE.STYLE("Magenta")),IF(MONTH($A$1)<>MONTH(G8),""&T(_xlfn.ORG.OPENOFFICE.STYLE("NTRMonth")),""&T(_xlfn.ORG.OPENOFFICE.STYLE("TopRight"))))))) | I8: =G8+1 -> 39821 | J8: =IF(NOT(ISNA(MATCH(I8,Holidays!$A$3:$A$33,0))),VLOOKUP(I8,Holidays!$A$3:$B$33,2,0)&T(_xlfn.ORG.OPENOFFICE.STYLE("Red")),IF(NOT(ISNA(MATCH(I8,Holidays!$C$3:$C$33,0))),VLOOKUP(I8,Holidays!$C$3:$D$33,2,0)&T(_xlfn.ORG.OPENOFFICE.STYLE("Yellow")),IF(NOT(ISNA(MATCH(I8,Holidays!$E$3:$E$33,0))),VLOOKUP(I8,Holidays!$E$3:$F$33,2,0)&T(_xlfn.ORG.OPENOFFICE.STYLE("Green")),IF(NOT(ISNA(MATCH(I8,Holidays!$G$3:$G$33,0))),VLOOKUP(I8,Holidays!$G$3:$H$33,2,0)&T(_xlfn.ORG.OPENOFFICE.STYLE("Magenta")),IF(MONTH($A$1)<>MONTH(I8),""&T(_xlfn.ORG.OPENOFFICE.STYLE("NTRMonth")),""&T(_xlfn.ORG.OPENOFFICE.STYLE("TopRight"))))))) | K8: =I8+1 -> 39822 | L8: =IF(NOT(ISNA(MATCH(K8,Holidays!$A$3:$A$33,0))),VLOOKUP(K8,Holidays!$A$3:$B$33,2,0)&T(_xlfn.ORG.OPENOFFICE.STYLE("Red")),IF(NOT(ISNA(MATCH(K8,Holidays!$C$3:$C$33,0))),VLOOKUP(K8,Holidays!$C$3:$D$33,2,0)&T(_xlfn.ORG.OPENOFFICE.STYLE("Yellow")),IF(NOT(ISNA(MATCH(K8,Holidays!$E$3:$E$33,0))),VLOOKUP(K8,Holidays!$E$3:$F$33,2,0)&T(_xlfn.ORG.OPENOFFICE.STYLE("Green")),IF(NOT(ISNA(MATCH(K8,Holidays!$G$3:$G$33,0))),VLOOKUP(K8,Holidays!$G$3:$H$33,2,0)&T(_xlfn.ORG.OPENOFFICE.STYLE("Magenta")),IF(MONTH($A$1)<>MONTH(K8),""&T(_xlfn.ORG.OPENOFFICE.STYLE("NTRMonth")),""&T(_xlfn.ORG.OPENOFFICE.STYLE("TopRight"))))))) | M8: =K8+1 -> 39823 | N8: =IF(NOT(ISNA(MATCH(M8,Holidays!$A$3:$A$33,0))),VLOOKUP(M8,Holidays!$A$3:$B$33,2,0)&T(_xlfn.ORG.OPENOFFICE.STYLE("Red")),IF(NOT(ISNA(MATCH(M8,Holidays!$C$3:$C$33,0))),VLOOKUP(M8,Holidays!$C$3:$D$33,2,0)&T(_xlfn.ORG.OPENOFFICE.STYLE("Yellow")),IF(NOT(ISNA(MATCH(M8,Holidays!$E$3:$E$33,0))),VLOOKUP(M8,Holidays!$E$3:$F$33,2,0)&T(_xlfn.ORG.OPENOFFICE.STYLE("Green")),IF(NOT(ISNA(MATCH(M8,Holidays!$G$3:$G$33,0))),VLOOKUP(M8,Holidays!$G$3:$H$33,2,0)&T(_xlfn.ORG.OPENOFFICE.STYLE("Magenta")),IF(MONTH($A$1)<>MONTH(M8),""&T(_xlfn.ORG.OPENOFFICE.STYLE("NTRMonth")),""&T(_xlfn.ORG.OPENOFFICE.STYLE("TopRight")))))))
A13: =M8+1 -> 39824 | B13: =IF(NOT(ISNA(MATCH(A13,Holidays!$A$3:$A$33,0))),VLOOKUP(A13,Holidays!$A$3:$B$33,2,0)&T(_xlfn.ORG.OPENOFFICE.STYLE("Red")),IF(NOT(ISNA(MATCH(A13,Holidays!$C$3:$C$33,0))),VLOOKUP(A13,Holidays!$C$3:$D$33,2,0)&T(_xlfn.ORG.OPENOFFICE.STYLE("Yellow")),IF(NOT(ISNA(MATCH(A13,Holidays!$E$3:$E$33,0))),VLOOKUP(A13,Holidays!$E$3:$F$33,2,0)&T(_xlfn.ORG.OPENOFFICE.STYLE("Green")),IF(NOT(ISNA(MATCH(A13,Holidays!$G$3:$G$33,0))),VLOOKUP(A13,Holidays!$G$3:$H$33,2,0)&T(_xlfn.ORG.OPENOFFICE.STYLE("Magenta")),IF(MONTH($A$1)<>MONTH(A13),""&T(_xlfn.ORG.OPENOFFICE.STYLE("NTRMonth")),""&T(_xlfn.ORG.OPENOFFICE.STYLE("TopRight"))))))) | C13: =A13+1 -> 39825 | D13: =IF(NOT(ISNA(MATCH(C13,Holidays!$A$3:$A$33,0))),VLOOKUP(C13,Holidays!$A$3:$B$33,2,0)&T(_xlfn.ORG.OPENOFFICE.STYLE("Red")),IF(NOT(ISNA(MATCH(C13,Holidays!$C$3:$C$33,0))),VLOOKUP(C13,Holidays!$C$3:$D$33,2,0)&T(_xlfn.ORG.OPENOFFICE.STYLE("Yellow")),IF(NOT(ISNA(MATCH(C13,Holidays!$E$3:$E$33,0))),VLOOKUP(C13,Holidays!$E$3:$F$33,2,0)&T(_xlfn.ORG.OPENOFFICE.STYLE("Green")),IF(NOT(ISNA(MATCH(C13,Holidays!$G$3:$G$33,0))),VLOOKUP(C13,Holidays!$G$3:$H$33,2,0)&T(_xlfn.ORG.OPENOFFICE.STYLE("Magenta")),IF(MONTH($A$1)<>MONTH(C13),""&T(_xlfn.ORG.OPENOFFICE.STYLE("NTRMonth")),""&T(_xlfn.ORG.OPENOFFICE.STYLE("TopRight"))))))) -> Martin Luther King's Day | E13: =C13+1 -> 39826 | F13: =IF(NOT(ISNA(MATCH(E13,Holidays!$A$3:$A$33,0))),VLOOKUP(E13,Holidays!$A$3:$B$33,2,0)&T(_xlfn.ORG.OPENOFFICE.STYLE("Red")),IF(NOT(ISNA(MATCH(E13,Holidays!$C$3:$C$33,0))),VLOOKUP(E13,Holidays!$C$3:$D$33,2,0)&T(_xlfn.ORG.OPENOFFICE.STYLE("Yellow")),IF(NOT(ISNA(MATCH(E13,Holidays!$E$3:$E$33,0))),VLOOKUP(E13,Holidays!$E$3:$F$33,2,0)&T(_xlfn.ORG.OPENOFFICE.STYLE("Green")),IF(NOT(ISNA(MATCH(E13,Holidays!$G$3:$G$33,0))),VLOOKUP(E13,Holidays!$G$3:$H$33,2,0)&T(_xlfn.ORG.OPENOFFICE.STYLE("Magenta")),IF(MONTH($A$1)<>MONTH(E13),""&T(_xlfn.ORG.OPENOFFICE.STYLE("NTRMonth")),""&T(_xlfn.ORG.OPENOFFICE.STYLE("TopRight"))))))) | G13: =E13+1 -> 39827 | H13: =IF(NOT(ISNA(MATCH(G13,Holidays!$A$3:$A$33,0))),VLOOKUP(G13,Holidays!$A$3:$B$33,2,0)&T(_xlfn.ORG.OPENOFFICE.STYLE("Red")),IF(NOT(ISNA(MATCH(G13,Holidays!$C$3:$C$33,0))),VLOOKUP(G13,Holidays!$C$3:$D$33,2,0)&T(_xlfn.ORG.OPENOFFICE.STYLE("Yellow")),IF(NOT(ISNA(MATCH(G13,Holidays!$E$3:$E$33,0))),VLOOKUP(G13,Holidays!$E$3:$F$33,2,0)&T(_xlfn.ORG.OPENOFFICE.STYLE("Green")),IF(NOT(ISNA(MATCH(G13,Holidays!$G$3:$G$33,0))),VLOOKUP(G13,Holidays!$G$3:$H$33,2,0)&T(_xlfn.ORG.OPENOFFICE.STYLE("Magenta")),IF(MONTH($A$1)<>MONTH(G13),""&T(_xlfn.ORG.OPENOFFICE.STYLE("NTRMonth")),""&T(_xlfn.ORG.OPENOFFICE.STYLE("TopRight"))))))) | I13: =G13+1 -> 39828 | J13: =IF(NOT(ISNA(MATCH(I13,Holidays!$A$3:$A$33,0))),VLOOKUP(I13,Holidays!$A$3:$B$33,2,0)&T(_xlfn.ORG.OPENOFFICE.STYLE("Red")),IF(NOT(ISNA(MATCH(I13,Holidays!$C$3:$C$33,0))),VLOOKUP(I13,Holidays!$C$3:$D$33,2,0)&T(_xlfn.ORG.OPENOFFICE.STYLE("Yellow")),IF(NOT(ISNA(MATCH(I13,Holidays!$E$3:$E$33,0))),VLOOKUP(I13,Holidays!$E$3:$F$33,2,0)&T(_xlfn.ORG.OPENOFFICE.STYLE("Green")),IF(NOT(ISNA(MATCH(I13,Holidays!$G$3:$G$33,0))),VLOOKUP(I13,Holidays!$G$3:$H$33,2,0)&T(_xlfn.ORG.OPENOFFICE.STYLE("Magenta")),IF(MONTH($A$1)<>MONTH(I13),""&T(_xlfn.ORG.OPENOFFICE.STYLE("NTRMonth")),""&T(_xlfn.ORG.OPENOFFICE.STYLE("TopRight"))))))) -> Pay Uncle Sam | K13: =I13+1 -> 39829 | L13: =IF(NOT(ISNA(MATCH(K13,Holidays!$A$3:$A$33,0))),VLOOKUP(K13,Holidays!$A$3:$B$33,2,0)&T(_xlfn.ORG.OPENOFFICE.STYLE("Red")),IF(NOT(ISNA(MATCH(K13,Holidays!$C$3:$C$33,0))),VLOOKUP(K13,Holidays!$C$3:$D$33,2,0)&T(_xlfn.ORG.OPENOFFICE.STYLE("Yellow")),IF(NOT(ISNA(MATCH(K13,Holidays!$E$3:$E$33,0))),VLOOKUP(K13,Holidays!$E$3:$F$33,2,0)&T(_xlfn.ORG.OPENOFFICE.STYLE("Green")),IF(NOT(ISNA(MATCH(K13,Holidays!$G$3:$G$33,0))),VLOOKUP(K13,Holidays!$G$3:$H$33,2,0)&T(_xlfn.ORG.OPENOFFICE.STYLE("Magenta")),IF(MONTH($A$1)<>MONTH(K13),""&T(_xlfn.ORG.OPENOFFICE.STYLE("NTRMonth")),""&T(_xlfn.ORG.OPENOFFICE.STYLE("TopRight"))))))) | M13: =K13+1 -> 39830 | N13: =IF(NOT(ISNA(MATCH(M13,Holidays!$A$3:$A$33,0))),VLOOKUP(M13,Holidays!$A$3:$B$33,2,0)&T(_xlfn.ORG.OPENOFFICE.STYLE("Red")),IF(NOT(ISNA(MATCH(M13,Holidays!$C$3:$C$33,0))),VLOOKUP(M13,Holidays!$C$3:$D$33,2,0)&T(_xlfn.ORG.OPENOFFICE.STYLE("Yellow")),IF(NOT(ISNA(MATCH(M13,Holidays!$E$3:$E$33,0))),VLOOKUP(M13,Holidays!$E$3:$F$33,2,0)&T(_xlfn.ORG.OPENOFFICE.STYLE("Green")),IF(NOT(ISNA(MATCH(M13,Holidays!$G$3:$G$33,0))),VLOOKUP(M13,Holidays!$G$3:$H$33,2,0)&T(_xlfn.ORG.OPENOFFICE.STYLE("Magenta")),IF(MONTH($A$1)<>MONTH(M13),""&T(_xlfn.ORG.OPENOFFICE.STYLE("NTRMonth")),""&T(_xlfn.ORG.OPENOFFICE.STYLE("TopRight")))))))
A18: =M13+1 -> 39831 | B18: =IF(NOT(ISNA(MATCH(A18,Holidays!$A$3:$A$33,0))),VLOOKUP(A18,Holidays!$A$3:$B$33,2,0)&T(_xlfn.ORG.OPENOFFICE.STYLE("Red")),IF(NOT(ISNA(MATCH(A18,Holidays!$C$3:$C$33,0))),VLOOKUP(A18,Holidays!$C$3:$D$33,2,0)&T(_xlfn.ORG.OPENOFFICE.STYLE("Yellow")),IF(NOT(ISNA(MATCH(A18,Holidays!$E$3:$E$33,0))),VLOOKUP(A18,Holidays!$E$3:$F$33,2,0)&T(_xlfn.ORG.OPENOFFICE.STYLE("Green")),IF(NOT(ISNA(MATCH(A18,Holidays!$G$3:$G$33,0))),VLOOKUP(A18,Holidays!$G$3:$H$33,2,0)&T(_xlfn.ORG.OPENOFFICE.STYLE("Magenta")),IF(MONTH($A$1)<>MONTH(A18),""&T(_xlfn.ORG.OPENOFFICE.STYLE("NTRMonth")),""&T(_xlfn.ORG.OPENOFFICE.STYLE("TopRight"))))))) | C18: =A18+1 -> 39832 | D18: =IF(NOT(ISNA(MATCH(C18,Holidays!$A$3:$A$33,0))),VLOOKUP(C18,Holidays!$A$3:$B$33,2,0)&T(_xlfn.ORG.OPENOFFICE.STYLE("Red")),IF(NOT(ISNA(MATCH(C18,Holidays!$C$3:$C$33,0))),VLOOKUP(C18,Holidays!$C$3:$D$33,2,0)&T(_xlfn.ORG.OPENOFFICE.STYLE("Yellow")),IF(NOT(ISNA(MATCH(C18,Holidays!$E$3:$E$33,0))),VLOOKUP(C18,Holidays!$E$3:$F$33,2,0)&T(_xlfn.ORG.OPENOFFICE.STYLE("Green")),IF(NOT(ISNA(MATCH(C18,Holidays!$G$3:$G$33,0))),VLOOKUP(C18,Holidays!$G$3:$H$33,2,0)&T(_xlfn.ORG.OPENOFFICE.STYLE("Magenta")),IF(MONTH($A$1)<>MONTH(C18),""&T(_xlfn.ORG.OPENOFFICE.STYLE("NTRMonth")),""&T(_xlfn.ORG.OPENOFFICE.STYLE("TopRight"))))))) | E18: =C18+1 -> 39833 | F18: =IF(NOT(ISNA(MATCH(E18,Holidays!$A$3:$A$33,0))),VLOOKUP(E18,Holidays!$A$3:$B$33,2,0)&T(_xlfn.ORG.OPENOFFICE.STYLE("Red")),IF(NOT(ISNA(MATCH(E18,Holidays!$C$3:$C$33,0))),VLOOKUP(E18,Holidays!$C$3:$D$33,2,0)&T(_xlfn.ORG.OPENOFFICE.STYLE("Yellow")),IF(NOT(ISNA(MATCH(E18,Holidays!$E$3:$E$33,0))),VLOOKUP(E18,Holidays!$E$3:$F$33,2,0)&T(_xlfn.ORG.OPENOFFICE.STYLE("Green")),IF(NOT(ISNA(MATCH(E18,Holidays!$G$3:$G$33,0))),VLOOKUP(E18,Holidays!$G$3:$H$33,2,0)&T(_xlfn.ORG.OPENOFFICE.STYLE("Magenta")),IF(MONTH($A$1)<>MONTH(E18),""&T(_xlfn.ORG.OPENOFFICE.STYLE("NTRMonth")),""&T(_xlfn.ORG.OPENOFFICE.STYLE("TopRight"))))))) | G18: =E18+1 -> 39834 | H18: =IF(NOT(ISNA(MATCH(G18,Holidays!$A$3:$A$33,0))),VLOOKUP(G18,Holidays!$A$3:$B$33,2,0)&T(_xlfn.ORG.OPENOFFICE.STYLE("Red")),IF(NOT(ISNA(MATCH(G18,Holidays!$C$3:$C$33,0))),VLOOKUP(G18,Holidays!$C$3:$D$33,2,0)&T(_xlfn.ORG.OPENOFFICE.STYLE("Yellow")),IF(NOT(ISNA(MATCH(G18,Holidays!$E$3:$E$33,0))),VLOOKUP(G18,Holidays!$E$3:$F$33,2,0)&T(_xlfn.ORG.OPENOFFICE.STYLE("Green")),IF(NOT(ISNA(MATCH(G18,Holidays!$G$3:$G$33,0))),VLOOKUP(G18,Holidays!$G$3:$H$33,2,0)&T(_xlfn.ORG.OPENOFFICE.STYLE("Magenta")),IF(MONTH($A$1)<>MONTH(G18),""&T(_xlfn.ORG.OPENOFFICE.STYLE("NTRMonth")),""&T(_xlfn.ORG.OPENOFFICE.STYLE("TopRight"))))))) | I18: =G18+1 -> 39835 | J18: =IF(NOT(ISNA(MATCH(I18,Holidays!$A$3:$A$33,0))),VLOOKUP(I18,Holidays!$A$3:$B$33,2,0)&T(_xlfn.ORG.OPENOFFICE.STYLE("Red")),IF(NOT(ISNA(MATCH(I18,Holidays!$C$3:$C$33,0))),VLOOKUP(I18,Holidays!$C$3:$D$33,2,0)&T(_xlfn.ORG.OPENOFFICE.STYLE("Yellow")),IF(NOT(ISNA(MATCH(I18,Holidays!$E$3:$E$33,0))),VLOOKUP(I18,Holidays!$E$3:$F$33,2,0)&T(_xlfn.ORG.OPENOFFICE.STYLE("Green")),IF(NOT(ISNA(MATCH(I18,Holidays!$G$3:$G$33,0))),VLOOKUP(I18,Holidays!$G$3:$H$33,2,0)&T(_xlfn.ORG.OPENOFFICE.STYLE("Magenta")),IF(MONTH($A$1)<>MONTH(I18),""&T(_xlfn.ORG.OPENOFFICE.STYLE("NTRMonth")),""&T(_xlfn.ORG.OPENOFFICE.STYLE("TopRight"))))))) | K18: =I18+1 -> 39836 | L18: =IF(NOT(ISNA(MATCH(K18,Holidays!$A$3:$A$33,0))),VLOOKUP(K18,Holidays!$A$3:$B$33,2,0)&T(_xlfn.ORG.OPENOFFICE.STYLE("Red")),IF(NOT(ISNA(MATCH(K18,Holidays!$C$3:$C$33,0))),VLOOKUP(K18,Holidays!$C$3:$D$33,2,0)&T(_xlfn.ORG.OPENOFFICE.STYLE("Yellow")),IF(NOT(ISNA(MATCH(K18,Holidays!$E$3:$E$33,0))),VLOOKUP(K18,Holidays!$E$3:$F$33,2,0)&T(_xlfn.ORG.OPENOFFICE.STYLE("Green")),IF(NOT(ISNA(MATCH(K18,Holidays!$G$3:$G$33,0))),VLOOKUP(K18,Holidays!$G$3:$H$33,2,0)&T(_xlfn.ORG.OPENOFFICE.STYLE("Magenta")),IF(MONTH($A$1)<>MONTH(K18),""&T(_xlfn.ORG.OPENOFFICE.STYLE("NTRMonth")),""&T(_xlfn.ORG.OPENOFFICE.STYLE("TopRight"))))))) | M18: =K18+1 -> 39837 | N18: =IF(NOT(ISNA(MATCH(M18,Holidays!$A$3:$A$33,0))),VLOOKUP(M18,Holidays!$A$3:$B$33,2,0)&T(_xlfn.ORG.OPENOFFICE.STYLE("Red")),IF(NOT(ISNA(MATCH(M18,Holidays!$C$3:$C$33,0))),VLOOKUP(M18,Holidays!$C$3:$D$33,2,0)&T(_xlfn.ORG.OPENOFFICE.STYLE("Yellow")),IF(NOT(ISNA(MATCH(M18,Holidays!$E$3:$E$33,0))),VLOOKUP(M18,Holidays!$E$3:$F$33,2,0)&T(_xlfn.ORG.OPENOFFICE.STYLE("Green")),IF(NOT(ISNA(MATCH(M18,Holidays!$G$3:$G$33,0))),VLOOKUP(M18,Holidays!$G$3:$H$33,2,0)&T(_xlfn.ORG.OPENOFFICE.STYLE("Magenta")),IF(MONTH($A$1)<>MONTH(M18),""&T(_xlfn.ORG.OPENOFFICE.STYLE("NTRMonth")),""&T(_xlfn.ORG.OPENOFFICE.STYLE("TopRight")))))))
A23: =M18+1 -> 39838 | B23: =IF(NOT(ISNA(MATCH(A23,Holidays!$A$3:$A$33,0))),VLOOKUP(A23,Holidays!$A$3:$B$33,2,0)&T(_xlfn.ORG.OPENOFFICE.STYLE("Red")),IF(NOT(ISNA(MATCH(A23,Holidays!$C$3:$C$33,0))),VLOOKUP(A23,Holidays!$C$3:$D$33,2,0)&T(_xlfn.ORG.OPENOFFICE.STYLE("Yellow")),IF(NOT(ISNA(MATCH(A23,Holidays!$E$3:$E$33,0))),VLOOKUP(A23,Holidays!$E$3:$F$33,2,0)&T(_xlfn.ORG.OPENOFFICE.STYLE("Green")),IF(NOT(ISNA(MATCH(A23,Holidays!$G$3:$G$33,0))),VLOOKUP(A23,Holidays!$G$3:$H$33,2,0)&T(_xlfn.ORG.OPENOFFICE.STYLE("Magenta")),IF(MONTH($A$1)<>MONTH(A23),""&T(_xlfn.ORG.OPENOFFICE.STYLE("NTRMonth")),""&T(_xlfn.ORG.OPENOFFICE.STYLE("TopRight"))))))) | C23: =A23+1 -> 39839 | D23: =IF(NOT(ISNA(MATCH(C23,Holidays!$A$3:$A$33,0))),VLOOKUP(C23,Holidays!$A$3:$B$33,2,0)&T(_xlfn.ORG.OPENOFFICE.STYLE("Red")),IF(NOT(ISNA(MATCH(C23,Holidays!$C$3:$C$33,0))),VLOOKUP(C23,Holidays!$C$3:$D$33,2,0)&T(_xlfn.ORG.OPENOFFICE.STYLE("Yellow")),IF(NOT(ISNA(MATCH(C23,Holidays!$E$3:$E$33,0))),VLOOKUP(C23,Holidays!$E$3:$F$33,2,0)&T(_xlfn.ORG.OPENOFFICE.STYLE("Green")),IF(NOT(ISNA(MATCH(C23,Holidays!$G$3:$G$33,0))),VLOOKUP(C23,Holidays!$G$3:$H$33,2,0)&T(_xlfn.ORG.OPENOFFICE.STYLE("Magenta")),IF(MONTH($A$1)<>MONTH(C23),""&T(_xlfn.ORG.OPENOFFICE.STYLE("NTRMonth")),""&T(_xlfn.ORG.OPENOFFICE.STYLE("TopRight"))))))) | E23: =C23+1 -> 39840 | F23: =IF(NOT(ISNA(MATCH(E23,Holidays!$A$3:$A$33,0))),VLOOKUP(E23,Holidays!$A$3:$B$33,2,0)&T(_xlfn.ORG.OPENOFFICE.STYLE("Red")),IF(NOT(ISNA(MATCH(E23,Holidays!$C$3:$C$33,0))),VLOOKUP(E23,Holidays!$C$3:$D$33,2,0)&T(_xlfn.ORG.OPENOFFICE.STYLE("Yellow")),IF(NOT(ISNA(MATCH(E23,Holidays!$E$3:$E$33,0))),VLOOKUP(E23,Holidays!$E$3:$F$33,2,0)&T(_xlfn.ORG.OPENOFFICE.STYLE("Green")),IF(NOT(ISNA(MATCH(E23,Holidays!$G$3:$G$33,0))),VLOOKUP(E23,Holidays!$G$3:$H$33,2,0)&T(_xlfn.ORG.OPENOFFICE.STYLE("Magenta")),IF(MONTH($A$1)<>MONTH(E23),""&T(_xlfn.ORG.OPENOFFICE.STYLE("NTRMonth")),""&T(_xlfn.ORG.OPENOFFICE.STYLE("TopRight"))))))) | G23: =E23+1 -> 39841 | H23: =IF(NOT(ISNA(MATCH(G23,Holidays!$A$3:$A$33,0))),VLOOKUP(G23,Holidays!$A$3:$B$33,2,0)&T(_xlfn.ORG.OPENOFFICE.STYLE("Red")),IF(NOT(ISNA(MATCH(G23,Holidays!$C$3:$C$33,0))),VLOOKUP(G23,Holidays!$C$3:$D$33,2,0)&T(_xlfn.ORG.OPENOFFICE.STYLE("Yellow")),IF(NOT(ISNA(MATCH(G23,Holidays!$E$3:$E$33,0))),VLOOKUP(G23,Holidays!$E$3:$F$33,2,0)&T(_xlfn.ORG.OPENOFFICE.STYLE("Green")),IF(NOT(ISNA(MATCH(G23,Holidays!$G$3:$G$33,0))),VLOOKUP(G23,Holidays!$G$3:$H$33,2,0)&T(_xlfn.ORG.OPENOFFICE.STYLE("Magenta")),IF(MONTH($A$1)<>MONTH(G23),""&T(_xlfn.ORG.OPENOFFICE.STYLE("NTRMonth")),""&T(_xlfn.ORG.OPENOFFICE.STYLE("TopRight"))))))) | I23: =G23+1 -> 39842 | J23: =IF(NOT(ISNA(MATCH(I23,Holidays!$A$3:$A$33,0))),VLOOKUP(I23,Holidays!$A$3:$B$33,2,0)&T(_xlfn.ORG.OPENOFFICE.STYLE("Red")),IF(NOT(ISNA(MATCH(I23,Holidays!$C$3:$C$33,0))),VLOOKUP(I23,Holidays!$C$3:$D$33,2,0)&T(_xlfn.ORG.OPENOFFICE.STYLE("Yellow")),IF(NOT(ISNA(MATCH(I23,Holidays!$E$3:$E$33,0))),VLOOKUP(I23,Holidays!$E$3:$F$33,2,0)&T(_xlfn.ORG.OPENOFFICE.STYLE("Green")),IF(NOT(ISNA(MATCH(I23,Holidays!$G$3:$G$33,0))),VLOOKUP(I23,Holidays!$G$3:$H$33,2,0)&T(_xlfn.ORG.OPENOFFICE.STYLE("Magenta")),IF(MONTH($A$1)<>MONTH(I23),""&T(_xlfn.ORG.OPENOFFICE.STYLE("NTRMonth")),""&T(_xlfn.ORG.OPENOFFICE.STYLE("TopRight"))))))) | K23: =I23+1 -> 39843 | L23: =IF(NOT(ISNA(MATCH(K23,Holidays!$A$3:$A$33,0))),VLOOKUP(K23,Holidays!$A$3:$B$33,2,0)&T(_xlfn.ORG.OPENOFFICE.STYLE("Red")),IF(NOT(ISNA(MATCH(K23,Holidays!$C$3:$C$33,0))),VLOOKUP(K23,Holidays!$C$3:$D$33,2,0)&T(_xlfn.ORG.OPENOFFICE.STYLE("Yellow")),IF(NOT(ISNA(MATCH(K23,Holidays!$E$3:$E$33,0))),VLOOKUP(K23,Holidays!$E$3:$F$33,2,0)&T(_xlfn.ORG.OPENOFFICE.STYLE("Green")),IF(NOT(ISNA(MATCH(K23,Holidays!$G$3:$G$33,0))),VLOOKUP(K23,Holidays!$G$3:$H$33,2,0)&T(_xlfn.ORG.OPENOFFICE.STYLE("Magenta")),IF(MONTH($A$1)<>MONTH(K23),""&T(_xlfn.ORG.OPENOFFICE.STYLE("NTRMonth")),""&T(_xlfn.ORG.OPENOFFICE.STYLE("TopRight"))))))) | M23: =K23+1 -> 39844 | N23: =IF(NOT(ISNA(MATCH(M23,Holidays!$A$3:$A$33,0))),VLOOKUP(M23,Holidays!$A$3:$B$33,2,0)&T(_xlfn.ORG.OPENOFFICE.STYLE("Red")),IF(NOT(ISNA(MATCH(M23,Holidays!$C$3:$C$33,0))),VLOOKUP(M23,Holidays!$C$3:$D$33,2,0)&T(_xlfn.ORG.OPENOFFICE.STYLE("Yellow")),IF(NOT(ISNA(MATCH(M23,Holidays!$E$3:$E$33,0))),VLOOKUP(M23,Holidays!$E$3:$F$33,2,0)&T(_xlfn.ORG.OPENOFFICE.STYLE("Green")),IF(NOT(ISNA(MATCH(M23,Holidays!$G$3:$G$33,0))),VLOOKUP(M23,Holidays!$G$3:$H$33,2,0)&T(_xlfn.ORG.OPENOFFICE.STYLE("Magenta")),IF(MONTH($A$1)<>MONTH(M23),""&T(_xlfn.ORG.OPENOFFICE.STYLE("NTRMonth")),""&T(_xlfn.ORG.OPENOFFICE.STYLE("TopRight")))))))
A28: =M23+1 -> 39845 | B28: =IF(NOT(ISNA(MATCH(A28,Holidays!$A$3:$A$33,0))),VLOOKUP(A28,Holidays!$A$3:$B$33,2,0)&T(_xlfn.ORG.OPENOFFICE.STYLE("Red")),IF(NOT(ISNA(MATCH(A28,Holidays!$C$3:$C$33,0))),VLOOKUP(A28,Holidays!$C$3:$D$33,2,0)&T(_xlfn.ORG.OPENOFFICE.STYLE("Yellow")),IF(NOT(ISNA(MATCH(A28,Holidays!$E$3:$E$33,0))),VLOOKUP(A28,Holidays!$E$3:$F$33,2,0)&T(_xlfn.ORG.OPENOFFICE.STYLE("Green")),IF(NOT(ISNA(MATCH(A28,Holidays!$G$3:$G$33,0))),VLOOKUP(A28,Holidays!$G$3:$H$33,2,0)&T(_xlfn.ORG.OPENOFFICE.STYLE("Magenta")),IF(MONTH($A$1)<>MONTH(A28),""&T(_xlfn.ORG.OPENOFFICE.STYLE("NTRMonth")),""&T(_xlfn.ORG.OPENOFFICE.STYLE("TopRight"))))))) | C28: =A28+1 -> 39846 | D28: =IF(NOT(ISNA(MATCH(C28,Holidays!$A$3:$A$33,0))),VLOOKUP(C28,Holidays!$A$3:$B$33,2,0)&T(_xlfn.ORG.OPENOFFICE.STYLE("Red")),IF(NOT(ISNA(MATCH(C28,Holidays!$C$3:$C$33,0))),VLOOKUP(C28,Holidays!$C$3:$D$33,2,0)&T(_xlfn.ORG.OPENOFFICE.STYLE("Yellow")),IF(NOT(ISNA(MATCH(C28,Holidays!$E$3:$E$33,0))),VLOOKUP(C28,Holidays!$E$3:$F$33,2,0)&T(_xlfn.ORG.OPENOFFICE.STYLE("Green")),IF(NOT(ISNA(MATCH(C28,Holidays!$G$3:$G$33,0))),VLOOKUP(C28,Holidays!$G$3:$H$33,2,0)&T(_xlfn.ORG.OPENOFFICE.STYLE("Magenta")),IF(MONTH($A$1)<>MONTH(C28),""&T(_xlfn.ORG.OPENOFFICE.STYLE("NTRMonth")),""&T(_xlfn.ORG.OPENOFFICE.STYLE("TopRight"))))))) | E28: =C28+1 -> 39847 | F28: =IF(NOT(ISNA(MATCH(E28,Holidays!$A$3:$A$33,0))),VLOOKUP(E28,Holidays!$A$3:$B$33,2,0)&T(_xlfn.ORG.OPENOFFICE.STYLE("Red")),IF(NOT(ISNA(MATCH(E28,Holidays!$C$3:$C$33,0))),VLOOKUP(E28,Holidays!$C$3:$D$33,2,0)&T(_xlfn.ORG.OPENOFFICE.STYLE("Yellow")),IF(NOT(ISNA(MATCH(E28,Holidays!$E$3:$E$33,0))),VLOOKUP(E28,Holidays!$E$3:$F$33,2,0)&T(_xlfn.ORG.OPENOFFICE.STYLE("Green")),IF(NOT(ISNA(MATCH(E28,Holidays!$G$3:$G$33,0))),VLOOKUP(E28,Holidays!$G$3:$H$33,2,0)&T(_xlfn.ORG.OPENOFFICE.STYLE("Magenta")),IF(MONTH($A$1)<>MONTH(E28),""&T(_xlfn.ORG.OPENOFFICE.STYLE("NTRMonth")),""&T(_xlfn.ORG.OPENOFFICE.STYLE("TopRight"))))))) -> Wedding Anniversary | G28: =E28+1 -> 39848 | H28: =IF(NOT(ISNA(MATCH(G28,Holidays!$A$3:$A$33,0))),VLOOKUP(G28,Holidays!$A$3:$B$33,2,0)&T(_xlfn.ORG.OPENOFFICE.STYLE("Red")),IF(NOT(ISNA(MATCH(G28,Holidays!$C$3:$C$33,0))),VLOOKUP(G28,Holidays!$C$3:$D$33,2,0)&T(_xlfn.ORG.OPENOFFICE.STYLE("Yellow")),IF(NOT(ISNA(MATCH(G28,Holidays!$E$3:$E$33,0))),VLOOKUP(G28,Holidays!$E$3:$F$33,2,0)&T(_xlfn.ORG.OPENOFFICE.STYLE("Green")),IF(NOT(ISNA(MATCH(G28,Holidays!$G$3:$G$33,0))),VLOOKUP(G28,Holidays!$G$3:$H$33,2,0)&T(_xlfn.ORG.OPENOFFICE.STYLE("Magenta")),IF(MONTH($A$1)<>MONTH(G28),""&T(_xlfn.ORG.OPENOFFICE.STYLE("NTRMonth")),""&T(_xlfn.ORG.OPENOFFICE.STYLE("TopRight"))))))) | I28: =G28+1 -> 39849 | J28: =IF(NOT(ISNA(MATCH(I28,Holidays!$A$3:$A$33,0))),VLOOKUP(I28,Holidays!$A$3:$B$33,2,0)&T(_xlfn.ORG.OPENOFFICE.STYLE("Red")),IF(NOT(ISNA(MATCH(I28,Holidays!$C$3:$C$33,0))),VLOOKUP(I28,Holidays!$C$3:$D$33,2,0)&T(_xlfn.ORG.OPENOFFICE.STYLE("Yellow")),IF(NOT(ISNA(MATCH(I28,Holidays!$E$3:$E$33,0))),VLOOKUP(I28,Holidays!$E$3:$F$33,2,0)&T(_xlfn.ORG.OPENOFFICE.STYLE("Green")),IF(NOT(ISNA(MATCH(I28,Holidays!$G$3:$G$33,0))),VLOOKUP(I28,Holidays!$G$3:$H$33,2,0)&T(_xlfn.ORG.OPENOFFICE.STYLE("Magenta")),IF(MONTH($A$1)<>MONTH(I28),""&T(_xlfn.ORG.OPENOFFICE.STYLE("NTRMonth")),""&T(_xlfn.ORG.OPENOFFICE.STYLE("TopRight"))))))) | K28: =I28+1 -> 39850 | L28: =IF(NOT(ISNA(MATCH(K28,Holidays!$A$3:$A$33,0))),VLOOKUP(K28,Holidays!$A$3:$B$33,2,0)&T(_xlfn.ORG.OPENOFFICE.STYLE("Red")),IF(NOT(ISNA(MATCH(K28,Holidays!$C$3:$C$33,0))),VLOOKUP(K28,Holidays!$C$3:$D$33,2,0)&T(_xlfn.ORG.OPENOFFICE.STYLE("Yellow")),IF(NOT(ISNA(MATCH(K28,Holidays!$E$3:$E$33,0))),VLOOKUP(K28,Holidays!$E$3:$F$33,2,0)&T(_xlfn.ORG.OPENOFFICE.STYLE("Green")),IF(NOT(ISNA(MATCH(K28,Holidays!$G$3:$G$33,0))),VLOOKUP(K28,Holidays!$G$3:$H$33,2,0)&T(_xlfn.ORG.OPENOFFICE.STYLE("Magenta")),IF(MONTH($A$1)<>MONTH(K28),""&T(_xlfn.ORG.OPENOFFICE.STYLE("NTRMonth")),""&T(_xlfn.ORG.OPENOFFICE.STYLE("TopRight"))))))) | M28: =K28+1 -> 39851 | N28: =IF(NOT(ISNA(MATCH(M28,Holidays!$A$3:$A$33,0))),VLOOKUP(M28,Holidays!$A$3:$B$33,2,0)&T(_xlfn.ORG.OPENOFFICE.STYLE("Red")),IF(NOT(ISNA(MATCH(M28,Holidays!$C$3:$C$33,0))),VLOOKUP(M28,Holidays!$C$3:$D$33,2,0)&T(_xlfn.ORG.OPENOFFICE.STYLE("Yellow")),IF(NOT(ISNA(MATCH(M28,Holidays!$E$3:$E$33,0))),VLOOKUP(M28,Holidays!$E$3:$F$33,2,0)&T(_xlfn.ORG.OPENOFFICE.STYLE("Green")),IF(NOT(ISNA(MATCH(M28,Holidays!$G$3:$G$33,0))),VLOOKUP(M28,Holidays!$G$3:$H$33,2,0)&T(_xlfn.ORG.OPENOFFICE.STYLE("Magenta")),IF(MONTH($A$1)<>MONTH(M28),""&T(_xlfn.ORG.OPENOFFICE.STYLE("NTRMonth")),""&T(_xlfn.ORG.OPENOFFICE.STYLE("TopRight")))))))

Sheet Feb
A1: =DATE(Year!$A$1,2,1) -> 39845
A2: Sunday | C2: Monday | E2: Tuesday | G2: Wednesday | I2: Thursday | K2: Friday | M2: Saturday
A3: =IF(WEEKDAY($A$1)=1,$A$1,C3-1) -> 39845 | B3: =IF(NOT(ISNA(MATCH(A3,Holidays!$A$3:$A$33,0))),VLOOKUP(A3,Holidays!$A$3:$B$33,2,0)&T(_xlfn.ORG.OPENOFFICE.STYLE("Red")),IF(NOT(ISNA(MATCH(A3,Holidays!$C$3:$C$33,0))),VLOOKUP(A3,Holidays!$C$3:$D$33,2,0)&T(_xlfn.ORG.OPENOFFICE.STYLE("Yellow")),IF(NOT(ISNA(MATCH(A3,Holidays!$E$3:$E$33,0))),VLOOKUP(A3,Holidays!$E$3:$F$33,2,0)&T(_xlfn.ORG.OPENOFFICE.STYLE("Green")),IF(NOT(ISNA(MATCH(A3,Holidays!$G$3:$G$33,0))),VLOOKUP(A3,Holidays!$G$3:$H$33,2,0)&T(_xlfn.ORG.OPENOFFICE.STYLE("Magenta")),IF(MONTH($A$1)<>MONTH(A3),""&T(_xlfn.ORG.OPENOFFICE.STYLE("NTRMonth")),""&T(_xlfn.ORG.OPENOFFICE.STYLE("TopRight"))))))) | C3: =IF(WEEKDAY($A$1)<=2,$A$1+2-WEEKDAY($A$1),E3-1) -> 39846 | D3: =IF(NOT(ISNA(MATCH(C3,Holidays!$A$3:$A$33,0))),VLOOKUP(C3,Holidays!$A$3:$B$33,2,0)&T(_xlfn.ORG.OPENOFFICE.STYLE("Red")),IF(NOT(ISNA(MATCH(C3,Holidays!$C$3:$C$33,0))),VLOOKUP(C3,Holidays!$C$3:$D$33,2,0)&T(_xlfn.ORG.OPENOFFICE.STYLE("Yellow")),IF(NOT(ISNA(MATCH(C3,Holidays!$E$3:$E$33,0))),VLOOKUP(C3,Holidays!$E$3:$F$33,2,0)&T(_xlfn.ORG.OPENOFFICE.STYLE("Green")),IF(NOT(ISNA(MATCH(C3,Holidays!$G$3:$G$33,0))),VLOOKUP(C3,Holidays!$G$3:$H$33,2,0)&T(_xlfn.ORG.OPENOFFICE.STYLE("Magenta")),IF(MONTH($A$1)<>MONTH(C3),""&T(_xlfn.ORG.OPENOFFICE.STYLE("NTRMonth")),""&T(_xlfn.ORG.OPENOFFICE.STYLE("TopRight"))))))) | E3: =IF(WEEKDAY($A$1)<=3,$A$1+3-WEEKDAY($A$1),G3-1) -> 39847 | F3: =IF(NOT(ISNA(MATCH(E3,Holidays!$A$3:$A$33,0))),VLOOKUP(E3,Holidays!$A$3:$B$33,2,0)&T(_xlfn.ORG.OPENOFFICE.STYLE("Red")),IF(NOT(ISNA(MATCH(E3,Holidays!$C$3:$C$33,0))),VLOOKUP(E3,Holidays!$C$3:$D$33,2,0)&T(_xlfn.ORG.OPENOFFICE.STYLE("Yellow")),IF(NOT(ISNA(MATCH(E3,Holidays!$E$3:$E$33,0))),VLOOKUP(E3,Holidays!$E$3:$F$33,2,0)&T(_xlfn.ORG.OPENOFFICE.STYLE("Green")),IF(NOT(ISNA(MATCH(E3,Holidays!$G$3:$G$33,0))),VLOOKUP(E3,Holidays!$G$3:$H$33,2,0)&T(_xlfn.ORG.OPENOFFICE.STYLE("Magenta")),IF(MONTH($A$1)<>MONTH(E3),""&T(_xlfn.ORG.OPENOFFICE.STYLE("NTRMonth")),""&T(_xlfn.ORG.OPENOFFICE.STYLE("TopRight"))))))) -> Wedding Anniversary | G3: =IF(WEEKDAY($A$1)<=4,$A$1+4-WEEKDAY($A$1),I3-1) -> 39848 | H3: =IF(NOT(ISNA(MATCH(G3,Holidays!$A$3:$A$33,0))),VLOOKUP(G3,Holidays!$A$3:$B$33,2,0)&T(_xlfn.ORG.OPENOFFICE.STYLE("Red")),IF(NOT(ISNA(MATCH(G3,Holidays!$C$3:$C$33,0))),VLOOKUP(G3,Holidays!$C$3:$D$33,2,0)&T(_xlfn.ORG.OPENOFFICE.STYLE("Yellow")),IF(NOT(ISNA(MATCH(G3,Holidays!$E$3:$E$33,0))),VLOOKUP(G3,Holidays!$E$3:$F$33,2,0)&T(_xlfn.ORG.OPENOFFICE.STYLE("Green")),IF(NOT(ISNA(MATCH(G3,Holidays!$G$3:$G$33,0))),VLOOKUP(G3,Holidays!$G$3:$H$33,2,0)&T(_xlfn.ORG.OPENOFFICE.STYLE("Magenta")),IF(MONTH($A$1)<>MONTH(G3),""&T(_xlfn.ORG.OPENOFFICE.STYLE("NTRMonth")),""&T(_xlfn.ORG.OPENOFFICE.STYLE("TopRight"))))))) | I3: =IF(WEEKDAY($A$1)<=5,$A$1+5-WEEKDAY($A$1),K3-1) -> 39849 | J3: =IF(NOT(ISNA(MATCH(I3,Holidays!$A$3:$A$33,0))),VLOOKUP(I3,Holidays!$A$3:$B$33,2,0)&T(_xlfn.ORG.OPENOFFICE.STYLE("Red")),IF(NOT(ISNA(MATCH(I3,Holidays!$C$3:$C$33,0))),VLOOKUP(I3,Holidays!$C$3:$D$33,2,0)&T(_xlfn.ORG.OPENOFFICE.STYLE("Yellow")),IF(NOT(ISNA(MATCH(I3,Holidays!$E$3:$E$33,0))),VLOOKUP(I3,Holidays!$E$3:$F$33,2,0)&T(_xlfn.ORG.OPENOFFICE.STYLE("Green")),IF(NOT(ISNA(MATCH(I3,Holidays!$G$3:$G$33,0))),VLOOKUP(I3,Holidays!$G$3:$H$33,2,0)&T(_xlfn.ORG.OPENOFFICE.STYLE("Magenta")),IF(MONTH($A$1)<>MONTH(I3),""&T(_xlfn.ORG.OPENOFFICE.STYLE("NTRMonth")),""&T(_xlfn.ORG.OPENOFFICE.STYLE("TopRight"))))))) | K3: =IF(WEEKDAY($A$1)<=6,$A$1+6-WEEKDAY($A$1),M3-1) -> 39850 | L3: =IF(NOT(ISNA(MATCH(K3,Holidays!$A$3:$A$33,0))),VLOOKUP(K3,Holidays!$A$3:$B$33,2,0)&T(_xlfn.ORG.OPENOFFICE.STYLE("Red")),IF(NOT(ISNA(MATCH(K3,Holidays!$C$3:$C$33,0))),VLOOKUP(K3,Holidays!$C$3:$D$33,2,0)&T(_xlfn.ORG.OPENOFFICE.STYLE("Yellow")),IF(NOT(ISNA(MATCH(K3,Holidays!$E$3:$E$33,0))),VLOOKUP(K3,Holidays!$E$3:$F$33,2,0)&T(_xlfn.ORG.OPENOFFICE.STYLE("Green")),IF(NOT(ISNA(MATCH(K3,Holidays!$G$3:$G$33,0))),VLOOKUP(K3,Holidays!$G$3:$H$33,2,0)&T(_xlfn.ORG.OPENOFFICE.STYLE("Magenta")),IF(MONTH($A$1)<>MONTH(K3),""&T(_xlfn.ORG.OPENOFFICE.STYLE("NTRMonth")),""&T(_xlfn.ORG.OPENOFFICE.STYLE("TopRight"))))))) | M3: =$A$1+7-WEEKDAY($A$1) -> 39851 | N3: =IF(NOT(ISNA(MATCH(M3,Holidays!$A$3:$A$33,0))),VLOOKUP(M3,Holidays!$A$3:$B$33,2,0)&T(_xlfn.ORG.OPENOFFICE.STYLE("Red")),IF(NOT(ISNA(MATCH(M3,Holidays!$C$3:$C$33,0))),VLOOKUP(M3,Holidays!$C$3:$D$33,2,0)&T(_xlfn.ORG.OPENOFFICE.STYLE("Yellow")),IF(NOT(ISNA(MATCH(M3,Holidays!$E$3:$E$33,0))),VLOOKUP(M3,Holidays!$E$3:$F$33,2,0)&T(_xlfn.ORG.OPENOFFICE.STYLE("Green")),IF(NOT(ISNA(MATCH(M3,Holidays!$G$3:$G$33,0))),VLOOKUP(M3,Holidays!$G$3:$H$33,2,0)&T(_xlfn.ORG.OPENOFFICE.STYLE("Magenta")),IF(MONTH($A$1)<>MONTH(M3),""&T(_xlfn.ORG.OPENOFFICE.STYLE("NTRMonth")),""&T(_xlfn.ORG.OPENOFFICE.STYLE("TopRight")))))))
A8: =M3+1 -> 39852 | B8: =IF(NOT(ISNA(MATCH(A8,Holidays!$A$3:$A$33,0))),VLOOKUP(A8,Holidays!$A$3:$B$33,2,0)&T(_xlfn.ORG.OPENOFFICE.STYLE("Red")),IF(NOT(ISNA(MATCH(A8,Holidays!$C$3:$C$33,0))),VLOOKUP(A8,Holidays!$C$3:$D$33,2,0)&T(_xlfn.ORG.OPENOFFICE.STYLE("Yellow")),IF(NOT(ISNA(MATCH(A8,Holidays!$E$3:$E$33,0))),VLOOKUP(A8,Holidays!$E$3:$F$33,2,0)&T(_xlfn.ORG.OPENOFFICE.STYLE("Green")),IF(NOT(ISNA(MATCH(A8,Holidays!$G$3:$G$33,0))),VLOOKUP(A8,Holidays!$G$3:$H$33,2,0)&T(_xlfn.ORG.OPENOFFICE.STYLE("Magenta")),IF(MONTH($A$1)<>MONTH(A8),""&T(_xlfn.ORG.OPENOFFICE.STYLE("NTRMonth")),""&T(_xlfn.ORG.OPENOFFICE.STYLE("TopRight"))))))) | C8: =A8+1 -> 39853 | D8: =IF(NOT(ISNA(MATCH(C8,Holidays!$A$3:$A$33,0))),VLOOKUP(C8,Holidays!$A$3:$B$33,2,0)&T(_xlfn.ORG.OPENOFFICE.STYLE("Red")),IF(NOT(ISNA(MATCH(C8,Holidays!$C$3:$C$33,0))),VLOOKUP(C8,Holidays!$C$3:$D$33,2,0)&T(_xlfn.ORG.OPENOFFICE.STYLE("Yellow")),IF(NOT(ISNA(MATCH(C8,Holidays!$E$3:$E$33,0))),VLOOKUP(C8,Holidays!$E$3:$F$33,2,0)&T(_xlfn.ORG.OPENOFFICE.STYLE("Green")),IF(NOT(ISNA(MATCH(C8,Holidays!$G$3:$G$33,0))),VLOOKUP(C8,Holidays!$G$3:$H$33,2,0)&T(_xlfn.ORG.OPENOFFICE.STYLE("Magenta")),IF(MONTH($A$1)<>MONTH(C8),""&T(_xlfn.ORG.OPENOFFICE.STYLE("NTRMonth")),""&T(_xlfn.ORG.OPENOFFICE.STYLE("TopRight"))))))) | E8: =C8+1 -> 39854 | F8: =IF(NOT(ISNA(MATCH(E8,Holidays!$A$3:$A$33,0))),VLOOKUP(E8,Holidays!$A$3:$B$33,2,0)&T(_xlfn.ORG.OPENOFFICE.STYLE("Red")),IF(NOT(ISNA(MATCH(E8,Holidays!$C$3:$C$33,0))),VLOOKUP(E8,Holidays!$C$3:$D$33,2,0)&T(_xlfn.ORG.OPENOFFICE.STYLE("Yellow")),IF(NOT(ISNA(MATCH(E8,Holidays!$E$3:$E$33,0))),VLOOKUP(E8,Holidays!$E$3:$F$33,2,0)&T(_xlfn.ORG.OPENOFFICE.STYLE("Green")),IF(NOT(ISNA(MATCH(E8,Holidays!$G$3:$G$33,0))),VLOOKUP(E8,Holidays!$G$3:$H$33,2,0)&T(_xlfn.ORG.OPENOFFICE.STYLE("Magenta")),IF(MONTH($A$1)<>MONTH(E8),""&T(_xlfn.ORG.OPENOFFICE.STYLE("NTRMonth")),""&T(_xlfn.ORG.OPENOFFICE.STYLE("TopRight"))))))) | G8: =E8+1 -> 39855 | H8: =IF(NOT(ISNA(MATCH(G8,Holidays!$A$3:$A$33,0))),VLOOKUP(G8,Holidays!$A$3:$B$33,2,0)&T(_xlfn.ORG.OPENOFFICE.STYLE("Red")),IF(NOT(ISNA(MATCH(G8,Holidays!$C$3:$C$33,0))),VLOOKUP(G8,Holidays!$C$3:$D$33,2,0)&T(_xlfn.ORG.OPENOFFICE.STYLE("Yellow")),IF(NOT(ISNA(MATCH(G8,Holidays!$E$3:$E$33,0))),VLOOKUP(G8,Holidays!$E$3:$F$33,2,0)&T(_xlfn.ORG.OPENOFFICE.STYLE("Green")),IF(NOT(ISNA(MATCH(G8,Holidays!$G$3:$G$33,0))),VLOOKUP(G8,Holidays!$G$3:$H$33,2,0)&T(_xlfn.ORG.OPENOFFICE.STYLE("Magenta")),IF(MONTH($A$1)<>MONTH(G8),""&T(_xlfn.ORG.OPENOFFICE.STYLE("NTRMonth")),""&T(_xlfn.ORG.OPENOFFICE.STYLE("TopRight"))))))) | I8: =G8+1 -> 39856 | J8: =IF(NOT(ISNA(MATCH(I8,Holidays!$A$3:$A$33,0))),VLOOKUP(I8,Holidays!$A$3:$B$33,2,0)&T(_xlfn.ORG.OPENOFFICE.STYLE("Red")),IF(NOT(ISNA(MATCH(I8,Holidays!$C$3:$C$33,0))),VLOOKUP(I8,Holidays!$C$3:$D$33,2,0)&T(_xlfn.ORG.OPENOFFICE.STYLE("Yellow")),IF(NOT(ISNA(MATCH(I8,Holidays!$E$3:$E$33,0))),VLOOKUP(I8,Holidays!$E$3:$F$33,2,0)&T(_xlfn.ORG.OPENOFFICE.STYLE("Green")),IF(NOT(ISNA(MATCH(I8,Holidays!$G$3:$G$33,0))),VLOOKUP(I8,Holidays!$G$3:$H$33,2,0)&T(_xlfn.ORG.OPENOFFICE.STYLE("Magenta")),IF(MONTH($A$1)<>MONTH(I8),""&T(_xlfn.ORG.OPENOFFICE.STYLE("NTRMonth")),""&T(_xlfn.ORG.OPENOFFICE.STYLE("TopRight"))))))) | K8: =I8+1 -> 39857 | L8: =IF(NOT(ISNA(MATCH(K8,Holidays!$A$3:$A$33,0))),VLOOKUP(K8,Holidays!$A$3:$B$33,2,0)&T(_xlfn.ORG.OPENOFFICE.STYLE("Red")),IF(NOT(ISNA(MATCH(K8,Holidays!$C$3:$C$33,0))),VLOOKUP(K8,Holidays!$C$3:$D$33,2,0)&T(_xlfn.ORG.OPENOFFICE.STYLE("Yellow")),IF(NOT(ISNA(MATCH(K8,Holidays!$E$3:$E$33,0))),VLOOKUP(K8,Holidays!$E$3:$F$33,2,0)&T(_xlfn.ORG.OPENOFFICE.STYLE("Green")),IF(NOT(ISNA(MATCH(K8,Holidays!$G$3:$G$33,0))),VLOOKUP(K8,Holidays!$G$3:$H$33,2,0)&T(_xlfn.ORG.OPENOFFICE.STYLE("Magenta")),IF(MONTH($A$1)<>MONTH(K8),""&T(_xlfn.ORG.OPENOFFICE.STYLE("NTRMonth")),""&T(_xlfn.ORG.OPENOFFICE.STYLE("TopRight"))))))) | M8: =K8+1 -> 39858 | N8: =IF(NOT(ISNA(MATCH(M8,Holidays!$A$3:$A$33,0))),VLOOKUP(M8,Holidays!$A$3:$B$33,2,0)&T(_xlfn.ORG.OPENOFFICE.STYLE("Red")),IF(NOT(ISNA(MATCH(M8,Holidays!$C$3:$C$33,0))),VLOOKUP(M8,Holidays!$C$3:$D$33,2,0)&T(_xlfn.ORG.OPENOFFICE.STYLE("Yellow")),IF(NOT(ISNA(MATCH(M8,Holidays!$E$3:$E$33,0))),VLOOKUP(M8,Holidays!$E$3:$F$33,2,0)&T(_xlfn.ORG.OPENOFFICE.STYLE("Green")),IF(NOT(ISNA(MATCH(M8,Holidays!$G$3:$G$33,0))),VLOOKUP(M8,Holidays!$G$3:$H$33,2,0)&T(_xlfn.ORG.OPENOFFICE.STYLE("Magenta")),IF(MONTH($A$1)<>MONTH(M8),""&T(_xlfn.ORG.OPENOFFICE.STYLE("NTRMonth")),""&T(_xlfn.ORG.OPENOFFICE.STYLE("TopRight"))))))) -> Valentine's Day
A13: =M8+1 -> 39859 | B13: =IF(NOT(ISNA(MATCH(A13,Holidays!$A$3:$A$33,0))),VLOOKUP(A13,Holidays!$A$3:$B$33,2,0)&T(_xlfn.ORG.OPENOFFICE.STYLE("Red")),IF(NOT(ISNA(MATCH(A13,Holidays!$C$3:$C$33,0))),VLOOKUP(A13,Holidays!$C$3:$D$33,2,0)&T(_xlfn.ORG.OPENOFFICE.STYLE("Yellow")),IF(NOT(ISNA(MATCH(A13,Holidays!$E$3:$E$33,0))),VLOOKUP(A13,Holidays!$E$3:$F$33,2,0)&T(_xlfn.ORG.OPENOFFICE.STYLE("Green")),IF(NOT(ISNA(MATCH(A13,Holidays!$G$3:$G$33,0))),VLOOKUP(A13,Holidays!$G$3:$H$33,2,0)&T(_xlfn.ORG.OPENOFFICE.STYLE("Magenta")),IF(MONTH($A$1)<>MONTH(A13),""&T(_xlfn.ORG.OPENOFFICE.STYLE("NTRMonth")),""&T(_xlfn.ORG.OPENOFFICE.STYLE("TopRight"))))))) | C13: =A13+1 -> 39860 | D13: =IF(NOT(ISNA(MATCH(C13,Holidays!$A$3:$A$33,0))),VLOOKUP(C13,Holidays!$A$3:$B$33,2,0)&T(_xlfn.ORG.OPENOFFICE.STYLE("Red")),IF(NOT(ISNA(MATCH(C13,Holidays!$C$3:$C$33,0))),VLOOKUP(C13,Holidays!$C$3:$D$33,2,0)&T(_xlfn.ORG.OPENOFFICE.STYLE("Yellow")),IF(NOT(ISNA(MATCH(C13,Holidays!$E$3:$E$33,0))),VLOOKUP(C13,Holidays!$E$3:$F$33,2,0)&T(_xlfn.ORG.OPENOFFICE.STYLE("Green")),IF(NOT(ISNA(MATCH(C13,Holidays!$G$3:$G$33,0))),VLOOKUP(C13,Holidays!$G$3:$H$33,2,0)&T(_xlfn.ORG.OPENOFFICE.STYLE("Magenta")),IF(MONTH($A$1)<>MONTH(C13),""&T(_xlfn.ORG.OPENOFFICE.STYLE("NTRMonth")),""&T(_xlfn.ORG.OPENOFFICE.STYLE("TopRight"))))))) -> Presidents' Day | E13: =C13+1 -> 39861 | F13: =IF(NOT(ISNA(MATCH(E13,Holidays!$A$3:$A$33,0))),VLOOKUP(E13,Holidays!$A$3:$B$33,2,0)&T(_xlfn.ORG.OPENOFFICE.STYLE("Red")),IF(NOT(ISNA(MATCH(E13,Holidays!$C$3:$C$33,0))),VLOOKUP(E13,Holidays!$C$3:$D$33,2,0)&T(_xlfn.ORG.OPENOFFICE.STYLE("Yellow")),IF(NOT(ISNA(MATCH(E13,Holidays!$E$3:$E$33,0))),VLOOKUP(E13,Holidays!$E$3:$F$33,2,0)&T(_xlfn.ORG.OPENOFFICE.STYLE("Green")),IF(NOT(ISNA(MATCH(E13,Holidays!$G$3:$G$33,0))),VLOOKUP(E13,Holidays!$G$3:$H$33,2,0)&T(_xlfn.ORG.OPENOFFICE.STYLE("Magenta")),IF(MONTH($A$1)<>MONTH(E13),""&T(_xlfn.ORG.OPENOFFICE.STYLE("NTRMonth")),""&T(_xlfn.ORG.OPENOFFICE.STYLE("TopRight"))))))) | G13: =E13+1 -> 39862 | H13: =IF(NOT(ISNA(MATCH(G13,Holidays!$A$3:$A$33,0))),VLOOKUP(G13,Holidays!$A$3:$B$33,2,0)&T(_xlfn.ORG.OPENOFFICE.STYLE("Red")),IF(NOT(ISNA(MATCH(G13,Holidays!$C$3:$C$33,0))),VLOOKUP(G13,Holidays!$C$3:$D$33,2,0)&T(_xlfn.ORG.OPENOFFICE.STYLE("Yellow")),IF(NOT(ISNA(MATCH(G13,Holidays!$E$3:$E$33,0))),VLOOKUP(G13,Holidays!$E$3:$F$33,2,0)&T(_xlfn.ORG.OPENOFFICE.STYLE("Green")),IF(NOT(ISNA(MATCH(G13,Holidays!$G$3:$G$33,0))),VLOOKUP(G13,Holidays!$G$3:$H$33,2,0)&T(_xlfn.ORG.OPENOFFICE.STYLE("Magenta")),IF(MONTH($A$1)<>MONTH(G13),""&T(_xlfn.ORG.OPENOFFICE.STYLE("NTRMonth")),""&T(_xlfn.ORG.OPENOFFICE.STYLE("TopRight"))))))) | I13: =G13+1 -> 39863 | J13: =IF(NOT(ISNA(MATCH(I13,Holidays!$A$3:$A$33,0))),VLOOKUP(I13,Holidays!$A$3:$B$33,2,0)&T(_xlfn.ORG.OPENOFFICE.STYLE("Red")),IF(NOT(ISNA(MATCH(I13,Holidays!$C$3:$C$33,0))),VLOOKUP(I13,Holidays!$C$3:$D$33,2,0)&T(_xlfn.ORG.OPENOFFICE.STYLE("Yellow")),IF(NOT(ISNA(MATCH(I13,Holidays!$E$3:$E$33,0))),VLOOKUP(I13,Holidays!$E$3:$F$33,2,0)&T(_xlfn.ORG.OPENOFFICE.STYLE("Green")),IF(NOT(ISNA(MATCH(I13,Holidays!$G$3:$G$33,0))),VLOOKUP(I13,Holidays!$G$3:$H$33,2,0)&T(_xlfn.ORG.OPENOFFICE.STYLE("Magenta")),IF(MONTH($A$1)<>MONTH(I13),""&T(_xlfn.ORG.OPENOFFICE.STYLE("NTRMonth")),""&T(_xlfn.ORG.OPENOFFICE.STYLE("TopRight"))))))) | K13: =I13+1 -> 39864 | L13: =IF(NOT(ISNA(MATCH(K13,Holidays!$A$3:$A$33,0))),VLOOKUP(K13,Holidays!$A$3:$B$33,2,0)&T(_xlfn.ORG.OPENOFFICE.STYLE("Red")),IF(NOT(ISNA(MATCH(K13,Holidays!$C$3:$C$33,0))),VLOOKUP(K13,Holidays!$C$3:$D$33,2,0)&T(_xlfn.ORG.OPENOFFICE.STYLE("Yellow")),IF(NOT(ISNA(MATCH(K13,Holidays!$E$3:$E$33,0))),VLOOKUP(K13,Holidays!$E$3:$F$33,2,0)&T(_xlfn.ORG.OPENOFFICE.STYLE("Green")),IF(NOT(ISNA(MATCH(K13,Holidays!$G$3:$G$33,0))),VLOOKUP(K13,Holidays!$G$3:$H$33,2,0)&T(_xlfn.ORG.OPENOFFICE.STYLE("Magenta")),IF(MONTH($A$1)<>MONTH(K13),""&T(_xlfn.ORG.OPENOFFICE.STYLE("NTRMonth")),""&T(_xlfn.ORG.OPENOFFICE.STYLE("TopRight"))))))) | M13: =K13+1 -> 39865 | N13: =IF(NOT(ISNA(MATCH(M13,Holidays!$A$3:$A$33,0))),VLOOKUP(M13,Holidays!$A$3:$B$33,2,0)&T(_xlfn.ORG.OPENOFFICE.STYLE("Red")),IF(NOT(ISNA(MATCH(M13,Holidays!$C$3:$C$33,0))),VLOOKUP(M13,Holidays!$C$3:$D$33,2,0)&T(_xlfn.ORG.OPENOFFICE.STYLE("Yellow")),IF(NOT(ISNA(MATCH(M13,Holidays!$E$3:$E$33,0))),VLOOKUP(M13,Holidays!$E$3:$F$33,2,0)&T(_xlfn.ORG.OPENOFFICE.STYLE("Green")),IF(NOT(ISNA(MATCH(M13,Holidays!$G$3:$G$33,0))),VLOOKUP(M13,Holidays!$G$3:$H$33,2,0)&T(_xlfn.ORG.OPENOFFICE.STYLE("Magenta")),IF(MONTH($A$1)<>MONTH(M13),""&T(_xlfn.ORG.OPENOFFICE.STYLE("NTRMonth")),""&T(_xlfn.ORG.OPENOFFICE.STYLE("TopRight")))))))
A18: =M13+1 -> 39866 | B18: =IF(NOT(ISNA(MATCH(A18,Holidays!$A$3:$A$33,0))),VLOOKUP(A18,Holidays!$A$3:$B$33,2,0)&T(_xlfn.ORG.OPENOFFICE.STYLE("Red")),IF(NOT(ISNA(MATCH(A18,Holidays!$C$3:$C$33,0))),VLOOKUP(A18,Holidays!$C$3:$D$33,2,0)&T(_xlfn.ORG.OPENOFFICE.STYLE("Yellow")),IF(NOT(ISNA(MATCH(A18,Holidays!$E$3:$E$33,0))),VLOOKUP(A18,Holidays!$E$3:$F$33,2,0)&T(_xlfn.ORG.OPENOFFICE.STYLE("Green")),IF(NOT(ISNA(MATCH(A18,Holidays!$G$3:$G$33,0))),VLOOKUP(A18,Holidays!$G$3:$H$33,2,0)&T(_xlfn.ORG.OPENOFFICE.STYLE("Magenta")),IF(MONTH($A$1)<>MONTH(A18),""&T(_xlfn.ORG.OPENOFFICE.STYLE("NTRMonth")),""&T(_xlfn.ORG.OPENOFFICE.STYLE("TopRight"))))))) | C18: =A18+1 -> 39867 | D18: =IF(NOT(ISNA(MATCH(C18,Holidays!$A$3:$A$33,0))),VLOOKUP(C18,Holidays!$A$3:$B$33,2,0)&T(_xlfn.ORG.OPENOFFICE.STYLE("Red")),IF(NOT(ISNA(MATCH(C18,Holidays!$C$3:$C$33,0))),VLOOKUP(C18,Holidays!$C$3:$D$33,2,0)&T(_xlfn.ORG.OPENOFFICE.STYLE("Yellow")),IF(NOT(ISNA(MATCH(C18,Holidays!$E$3:$E$33,0))),VLOOKUP(C18,Holidays!$E$3:$F$33,2,0)&T(_xlfn.ORG.OPENOFFICE.STYLE("Green")),IF(NOT(ISNA(MATCH(C18,Holidays!$G$3:$G$33,0))),VLOOKUP(C18,Holidays!$G$3:$H$33,2,0)&T(_xlfn.ORG.OPENOFFICE.STYLE("Magenta")),IF(MONTH($A$1)<>MONTH(C18),""&T(_xlfn.ORG.OPENOFFICE.STYLE("NTRMonth")),""&T(_xlfn.ORG.OPENOFFICE.STYLE("TopRight"))))))) | E18: =C18+1 -> 39868 | F18: =IF(NOT(ISNA(MATCH(E18,Holidays!$A$3:$A$33,0))),VLOOKUP(E18,Holidays!$A$3:$B$33,2,0)&T(_xlfn.ORG.OPENOFFICE.STYLE("Red")),IF(NOT(ISNA(MATCH(E18,Holidays!$C$3:$C$33,0))),VLOOKUP(E18,Holidays!$C$3:$D$33,2,0)&T(_xlfn.ORG.OPENOFFICE.STYLE("Yellow")),IF(NOT(ISNA(MATCH(E18,Holidays!$E$3:$E$33,0))),VLOOKUP(E18,Holidays!$E$3:$F$33,2,0)&T(_xlfn.ORG.OPENOFFICE.STYLE("Green")),IF(NOT(ISNA(MATCH(E18,Holidays!$G$3:$G$33,0))),VLOOKUP(E18,Holidays!$G$3:$H$33,2,0)&T(_xlfn.ORG.OPENOFFICE.STYLE("Magenta")),IF(MONTH($A$1)<>MONTH(E18),""&T(_xlfn.ORG.OPENOFFICE.STYLE("NTRMonth")),""&T(_xlfn.ORG.OPENOFFICE.STYLE("TopRight"))))))) | G18: =E18+1 -> 39869 | H18: =IF(NOT(ISNA(MATCH(G18,Holidays!$A$3:$A$33,0))),VLOOKUP(G18,Holidays!$A$3:$B$33,2,0)&T(_xlfn.ORG.OPENOFFICE.STYLE("Red")),IF(NOT(ISNA(MATCH(G18,Holidays!$C$3:$C$33,0))),VLOOKUP(G18,Holidays!$C$3:$D$33,2,0)&T(_xlfn.ORG.OPENOFFICE.STYLE("Yellow")),IF(NOT(ISNA(MATCH(G18,Holidays!$E$3:$E$33,0))),VLOOKUP(G18,Holidays!$E$3:$F$33,2,0)&T(_xlfn.ORG.OPENOFFICE.STYLE("Green")),IF(NOT(ISNA(MATCH(G18,Holidays!$G$3:$G$33,0))),VLOOKUP(G18,Holidays!$G$3:$H$33,2,0)&T(_xlfn.ORG.OPENOFFICE.STYLE("Magenta")),IF(MONTH($A$1)<>MONTH(G18),""&T(_xlfn.ORG.OPENOFFICE.STYLE("NTRMonth")),""&T(_xlfn.ORG.OPENOFFICE.STYLE("TopRight"))))))) -> Ash Wednesday | I18: =G18+1 -> 39870 | J18: =IF(NOT(ISNA(MATCH(I18,Holidays!$A$3:$A$33,0))),VLOOKUP(I18,Holidays!$A$3:$B$33,2,0)&T(_xlfn.ORG.OPENOFFICE.STYLE("Red")),IF(NOT(ISNA(MATCH(I18,Holidays!$C$3:$C$33,0))),VLOOKUP(I18,Holidays!$C$3:$D$33,2,0)&T(_xlfn.ORG.OPENOFFICE.STYLE("Yellow")),IF(NOT(ISNA(MATCH(I18,Holidays!$E$3:$E$33,0))),VLOOKUP(I18,Holidays!$E$3:$F$33,2,0)&T(_xlfn.ORG.OPENOFFICE.STYLE("Green")),IF(NOT(ISNA(MATCH(I18,Holidays!$G$3:$G$33,0))),VLOOKUP(I18,Holidays!$G$3:$H$33,2,0)&T(_xlfn.ORG.OPENOFFICE.STYLE("Magenta")),IF(MONTH($A$1)<>MONTH(I18),""&T(_xlfn.ORG.OPENOFFICE.STYLE("NTRMonth")),""&T(_xlfn.ORG.OPENOFFICE.STYLE("TopRight"))))))) | K18: =I18+1 -> 39871 | L18: =IF(NOT(ISNA(MATCH(K18,Holidays!$A$3:$A$33,0))),VLOOKUP(K18,Holidays!$A$3:$B$33,2,0)&T(_xlfn.ORG.OPENOFFICE.STYLE("Red")),IF(NOT(ISNA(MATCH(K18,Holidays!$C$3:$C$33,0))),VLOOKUP(K18,Holidays!$C$3:$D$33,2,0)&T(_xlfn.ORG.OPENOFFICE.STYLE("Yellow")),IF(NOT(ISNA(MATCH(K18,Holidays!$E$3:$E$33,0))),VLOOKUP(K18,Holidays!$E$3:$F$33,2,0)&T(_xlfn.ORG.OPENOFFICE.STYLE("Green")),IF(NOT(ISNA(MATCH(K18,Holidays!$G$3:$G$33,0))),VLOOKUP(K18,Holidays!$G$3:$H$33,2,0)&T(_xlfn.ORG.OPENOFFICE.STYLE("Magenta")),IF(MONTH($A$1)<>MONTH(K18),""&T(_xlfn.ORG.OPENOFFICE.STYLE("NTRMonth")),""&T(_xlfn.ORG.OPENOFFICE.STYLE("TopRight"))))))) | M18: =K18+1 -> 39872 | N18: =IF(NOT(ISNA(MATCH(M18,Holidays!$A$3:$A$33,0))),VLOOKUP(M18,Holidays!$A$3:$B$33,2,0)&T(_xlfn.ORG.OPENOFFICE.STYLE("Red")),IF(NOT(ISNA(MATCH(M18,Holidays!$C$3:$C$33,0))),VLOOKUP(M18,Holidays!$C$3:$D$33,2,0)&T(_xlfn.ORG.OPENOFFICE.STYLE("Yellow")),IF(NOT(ISNA(MATCH(M18,Holidays!$E$3:$E$33,0))),VLOOKUP(M18,Holidays!$E$3:$F$33,2,0)&T(_xlfn.ORG.OPENOFFICE.STYLE("Green")),IF(NOT(ISNA(MATCH(M18,Holidays!$G$3:$G$33,0))),VLOOKUP(M18,Holidays!$G$3:$H$33,2,0)&T(_xlfn.ORG.OPENOFFICE.STYLE("Magenta")),IF(MONTH($A$1)<>MONTH(M18),""&T(_xlfn.ORG.OPENOFFICE.STYLE("NTRMonth")),""&T(_xlfn.ORG.OPENOFFICE.STYLE("TopRight")))))))
A23: =M18+1 -> 39873 | B23: =IF(NOT(ISNA(MATCH(A23,Holidays!$A$3:$A$33,0))),VLOOKUP(A23,Holidays!$A$3:$B$33,2,0)&T(_xlfn.ORG.OPENOFFICE.STYLE("Red")),IF(NOT(ISNA(MATCH(A23,Holidays!$C$3:$C$33,0))),VLOOKUP(A23,Holidays!$C$3:$D$33,2,0)&T(_xlfn.ORG.OPENOFFICE.STYLE("Yellow")),IF(NOT(ISNA(MATCH(A23,Holidays!$E$3:$E$33,0))),VLOOKUP(A23,Holidays!$E$3:$F$33,2,0)&T(_xlfn.ORG.OPENOFFICE.STYLE("Green")),IF(NOT(ISNA(MATCH(A23,Holidays!$G$3:$G$33,0))),VLOOKUP(A23,Holidays!$G$3:$H$33,2,0)&T(_xlfn.ORG.OPENOFFICE.STYLE("Magenta")),IF(MONTH($A$1)<>MONTH(A23),""&T(_xlfn.ORG.OPENOFFICE.STYLE("NTRMonth")),""&T(_xlfn.ORG.OPENOFFICE.STYLE("TopRight"))))))) | C23: =A23+1 -> 39874 | D23: =IF(NOT(ISNA(MATCH(C23,Holidays!$A$3:$A$33,0))),VLOOKUP(C23,Holidays!$A$3:$B$33,2,0)&T(_xlfn.ORG.OPENOFFICE.STYLE("Red")),IF(NOT(ISNA(MATCH(C23,Holidays!$C$3:$C$33,0))),VLOOKUP(C23,Holidays!$C$3:$D$33,2,0)&T(_xlfn.ORG.OPENOFFICE.STYLE("Yellow")),IF(NOT(ISNA(MATCH(C23,Holidays!$E$3:$E$33,0))),VLOOKUP(C23,Holidays!$E$3:$F$33,2,0)&T(_xlfn.ORG.OPENOFFICE.STYLE("Green")),IF(NOT(ISNA(MATCH(C23,Holidays!$G$3:$G$33,0))),VLOOKUP(C23,Holidays!$G$3:$H$33,2,0)&T(_xlfn.ORG.OPENOFFICE.STYLE("Magenta")),IF(MONTH($A$1)<>MONTH(C23),""&T(_xlfn.ORG.OPENOFFICE.STYLE("NTRMonth")),""&T(_xlfn.ORG.OPENOFFICE.STYLE("TopRight"))))))) | E23: =C23+1 -> 39875 | F23: =IF(NOT(ISNA(MATCH(E23,Holidays!$A$3:$A$33,0))),VLOOKUP(E23,Holidays!$A$3:$B$33,2,0)&T(_xlfn.ORG.OPENOFFICE.STYLE("Red")),IF(NOT(ISNA(MATCH(E23,Holidays!$C$3:$C$33,0))),VLOOKUP(E23,Holidays!$C$3:$D$33,2,0)&T(_xlfn.ORG.OPENOFFICE.STYLE("Yellow")),IF(NOT(ISNA(MATCH(E23,Holidays!$E$3:$E$33,0))),VLOOKUP(E23,Holidays!$E$3:$F$33,2,0)&T(_xlfn.ORG.OPENOFFICE.STYLE("Green")),IF(NOT(ISNA(MATCH(E23,Holidays!$G$3:$G$33,0))),VLOOKUP(E23,Holidays!$G$3:$H$33,2,0)&T(_xlfn.ORG.OPENOFFICE.STYLE("Magenta")),IF(MONTH($A$1)<>MONTH(E23),""&T(_xlfn.ORG.OPENOFFICE.STYLE("NTRMonth")),""&T(_xlfn.ORG.OPENOFFICE.STYLE("TopRight"))))))) | G23: =E23+1 -> 39876 | H23: =IF(NOT(ISNA(MATCH(G23,Holidays!$A$3:$A$33,0))),VLOOKUP(G23,Holidays!$A$3:$B$33,2,0)&T(_xlfn.ORG.OPENOFFICE.STYLE("Red")),IF(NOT(ISNA(MATCH(G23,Holidays!$C$3:$C$33,0))),VLOOKUP(G23,Holidays!$C$3:$D$33,2,0)&T(_xlfn.ORG.OPENOFFICE.STYLE("Yellow")),IF(NOT(ISNA(MATCH(G23,Holidays!$E$3:$E$33,0))),VLOOKUP(G23,Holidays!$E$3:$F$33,2,0)&T(_xlfn.ORG.OPENOFFICE.STYLE("Green")),IF(NOT(ISNA(MATCH(G23,Holidays!$G$3:$G$33,0))),VLOOKUP(G23,Holidays!$G$3:$H$33,2,0)&T(_xlfn.ORG.OPENOFFICE.STYLE("Magenta")),IF(MONTH($A$1)<>MONTH(G23),""&T(_xlfn.ORG.OPENOFFICE.STYLE("NTRMonth")),""&T(_xlfn.ORG.OPENOFFICE.STYLE("TopRight"))))))) | I23: =G23+1 -> 39877 | J23: =IF(NOT(ISNA(MATCH(I23,Holidays!$A$3:$A$33,0))),VLOOKUP(I23,Holidays!$A$3:$B$33,2,0)&T(_xlfn.ORG.OPENOFFICE.STYLE("Red")),IF(NOT(ISNA(MATCH(I23,Holidays!$C$3:$C$33,0))),VLOOKUP(I23,Holidays!$C$3:$D$33,2,0)&T(_xlfn.ORG.OPENOFFICE.STYLE("Yellow")),IF(NOT(ISNA(MATCH(I23,Holidays!$E$3:$E$33,0))),VLOOKUP(I23,Holidays!$E$3:$F$33,2,0)&T(_xlfn.ORG.OPENOFFICE.STYLE("Green")),IF(NOT(ISNA(MATCH(I23,Holidays!$G$3:$G$33,0))),VLOOKUP(I23,Holidays!$G$3:$H$33,2,0)&T(_xlfn.ORG.OPENOFFICE.STYLE("Magenta")),IF(MONTH($A$1)<>MONTH(I23),""&T(_xlfn.ORG.OPENOFFICE.STYLE("NTRMonth")),""&T(_xlfn.ORG.OPENOFFICE.STYLE("TopRight"))))))) | K23: =I23+1 -> 39878 | L23: =IF(NOT(ISNA(MATCH(K23,Holidays!$A$3:$A$33,0))),VLOOKUP(K23,Holidays!$A$3:$B$33,2,0)&T(_xlfn.ORG.OPENOFFICE.STYLE("Red")),IF(NOT(ISNA(MATCH(K23,Holidays!$C$3:$C$33,0))),VLOOKUP(K23,Holidays!$C$3:$D$33,2,0)&T(_xlfn.ORG.OPENOFFICE.STYLE("Yellow")),IF(NOT(ISNA(MATCH(K23,Holidays!$E$3:$E$33,0))),VLOOKUP(K23,Holidays!$E$3:$F$33,2,0)&T(_xlfn.ORG.OPENOFFICE.STYLE("Green")),IF(NOT(ISNA(MATCH(K23,Holidays!$G$3:$G$33,0))),VLOOKUP(K23,Holidays!$G$3:$H$33,2,0)&T(_xlfn.ORG.OPENOFFICE.STYLE("Magenta")),IF(MONTH($A$1)<>MONTH(K23),""&T(_xlfn.ORG.OPENOFFICE.STYLE("NTRMonth")),""&T(_xlfn.ORG.OPENOFFICE.STYLE("TopRight"))))))) | M23: =K23+1 -> 39879 | N23: =IF(NOT(ISNA(MATCH(M23,Holidays!$A$3:$A$33,0))),VLOOKUP(M23,Holidays!$A$3:$B$33,2,0)&T(_xlfn.ORG.OPENOFFICE.STYLE("Red")),IF(NOT(ISNA(MATCH(M23,Holidays!$C$3:$C$33,0))),VLOOKUP(M23,Holidays!$C$3:$D$33,2,0)&T(_xlfn.ORG.OPENOFFICE.STYLE("Yellow")),IF(NOT(ISNA(MATCH(M23,Holidays!$E$3:$E$33,0))),VLOOKUP(M23,Holidays!$E$3:$F$33,2,0)&T(_xlfn.ORG.OPENOFFICE.STYLE("Green")),IF(NOT(ISNA(MATCH(M23,Holidays!$G$3:$G$33,0))),VLOOKUP(M23,Holidays!$G$3:$H$33,2,0)&T(_xlfn.ORG.OPENOFFICE.STYLE("Magenta")),IF(MONTH($A$1)<>MONTH(M23),""&T(_xlfn.ORG.OPENOFFICE.STYLE("NTRMonth")),""&T(_xlfn.ORG.OPENOFFICE.STYLE("TopRight")))))))
A28: =M23+1 -> 39880 | B28: =IF(NOT(ISNA(MATCH(A28,Holidays!$A$3:$A$33,0))),VLOOKUP(A28,Holidays!$A$3:$B$33,2,0)&T(_xlfn.ORG.OPENOFFICE.STYLE("Red")),IF(NOT(ISNA(MATCH(A28,Holidays!$C$3:$C$33,0))),VLOOKUP(A28,Holidays!$C$3:$D$33,2,0)&T(_xlfn.ORG.OPENOFFICE.STYLE("Yellow")),IF(NOT(ISNA(MATCH(A28,Holidays!$E$3:$E$33,0))),VLOOKUP(A28,Holidays!$E$3:$F$33,2,0)&T(_xlfn.ORG.OPENOFFICE.STYLE("Green")),IF(NOT(ISNA(MATCH(A28,Holidays!$G$3:$G$33,0))),VLOOKUP(A28,Holidays!$G$3:$H$33,2,0)&T(_xlfn.ORG.OPENOFFICE.STYLE("Magenta")),IF(MONTH($A$1)<>MONTH(A28),""&T(_xlfn.ORG.OPENOFFICE.STYLE("NTRMonth")),""&T(_xlfn.ORG.OPENOFFICE.STYLE("TopRight"))))))) | C28: =A28+1 -> 39881 | D28: =IF(NOT(ISNA(MATCH(C28,Holidays!$A$3:$A$33,0))),VLOOKUP(C28,Holidays!$A$3:$B$33,2,0)&T(_xlfn.ORG.OPENOFFICE.STYLE("Red")),IF(NOT(ISNA(MATCH(C28,Holidays!$C$3:$C$33,0))),VLOOKUP(C28,Holidays!$C$3:$D$33,2,0)&T(_xlfn.ORG.OPENOFFICE.STYLE("Yellow")),IF(NOT(ISNA(MATCH(C28,Holidays!$E$3:$E$33,0))),VLOOKUP(C28,Holidays!$E$3:$F$33,2,0)&T(_xlfn.ORG.OPENOFFICE.STYLE("Green")),IF(NOT(ISNA(MATCH(C28,Holidays!$G$3:$G$33,0))),VLOOKUP(C28,Holidays!$G$3:$H$33,2,0)&T(_xlfn.ORG.OPENOFFICE.STYLE("Magenta")),IF(MONTH($A$1)<>MONTH(C28),""&T(_xlfn.ORG.OPENOFFICE.STYLE("NTRMonth")),""&T(_xlfn.ORG.OPENOFFICE.STYLE("TopRight"))))))) | E28: =C28+1 -> 39882 | F28: =IF(NOT(ISNA(MATCH(E28,Holidays!$A$3:$A$33,0))),VLOOKUP(E28,Holidays!$A$3:$B$33,2,0)&T(_xlfn.ORG.OPENOFFICE.STYLE("Red")),IF(NOT(ISNA(MATCH(E28,Holidays!$C$3:$C$33,0))),VLOOKUP(E28,Holidays!$C$3:$D$33,2,0)&T(_xlfn.ORG.OPENOFFICE.STYLE("Yellow")),IF(NOT(ISNA(MATCH(E28,Holidays!$E$3:$E$33,0))),VLOOKUP(E28,Holidays!$E$3:$F$33,2,0)&T(_xlfn.ORG.OPENOFFICE.STYLE("Green")),IF(NOT(ISNA(MATCH(E28,Holidays!$G$3:$G$33,0))),VLOOKUP(E28,Holidays!$G$3:$H$33,2,0)&T(_xlfn.ORG.OPENOFFICE.STYLE("Magenta")),IF(MONTH($A$1)<>MONTH(E28),""&T(_xlfn.ORG.OPENOFFICE.STYLE("NTRMonth")),""&T(_xlfn.ORG.OPENOFFICE.STYLE("TopRight"))))))) | G28: =E28+1 -> 39883 | H28: =IF(NOT(ISNA(MATCH(G28,Holidays!$A$3:$A$33,0))),VLOOKUP(G28,Holidays!$A$3:$B$33,2,0)&T(_xlfn.ORG.OPENOFFICE.STYLE("Red")),IF(NOT(ISNA(MATCH(G28,Holidays!$C$3:$C$33,0))),VLOOKUP(G28,Holidays!$C$3:$D$33,2,0)&T(_xlfn.ORG.OPENOFFICE.STYLE("Yellow")),IF(NOT(ISNA(MATCH(G28,Holidays!$E$3:$E$33,0))),VLOOKUP(G28,Holidays!$E$3:$F$33,2,0)&T(_xlfn.ORG.OPENOFFICE.STYLE("Green")),IF(NOT(ISNA(MATCH(G28,Holidays!$G$3:$G$33,0))),VLOOKUP(G28,Holidays!$G$3:$H$33,2,0)&T(_xlfn.ORG.OPENOFFICE.STYLE("Magenta")),IF(MONTH($A$1)<>MONTH(G28),""&T(_xlfn.ORG.OPENOFFICE.STYLE("NTRMonth")),""&T(_xlfn.ORG.OPENOFFICE.STYLE("TopRight"))))))) | I28: =G28+1 -> 39884 | J28: =IF(NOT(ISNA(MATCH(I28,Holidays!$A$3:$A$33,0))),VLOOKUP(I28,Holidays!$A$3:$B$33,2,0)&T(_xlfn.ORG.OPENOFFICE.STYLE("Red")),IF(NOT(ISNA(MATCH(I28,Holidays!$C$3:$C$33,0))),VLOOKUP(I28,Holidays!$C$3:$D$33,2,0)&T(_xlfn.ORG.OPENOFFICE.STYLE("Yellow")),IF(NOT(ISNA(MATCH(I28,Holidays!$E$3:$E$33,0))),VLOOKUP(I28,Holidays!$E$3:$F$33,2,0)&T(_xlfn.ORG.OPENOFFICE.STYLE("Green")),IF(NOT(ISNA(MATCH(I28,Holidays!$G$3:$G$33,0))),VLOOKUP(I28,Holidays!$G$3:$H$33,2,0)&T(_xlfn.ORG.OPENOFFICE.STYLE("Magenta")),IF(MONTH($A$1)<>MONTH(I28),""&T(_xlfn.ORG.OPENOFFICE.STYLE("NTRMonth")),""&T(_xlfn.ORG.OPENOFFICE.STYLE("TopRight"))))))) | K28: =I28+1 -> 39885 | L28: =IF(NOT(ISNA(MATCH(K28,Holidays!$A$3:$A$33,0))),VLOOKUP(K28,Holidays!$A$3:$B$33,2,0)&T(_xlfn.ORG.OPENOFFICE.STYLE("Red")),IF(NOT(ISNA(MATCH(K28,Holidays!$C$3:$C$33,0))),VLOOKUP(K28,Holidays!$C$3:$D$33,2,0)&T(_xlfn.ORG.OPENOFFICE.STYLE("Yellow")),IF(NOT(ISNA(MATCH(K28,Holidays!$E$3:$E$33,0))),VLOOKUP(K28,Holidays!$E$3:$F$33,2,0)&T(_xlfn.ORG.OPENOFFICE.STYLE("Green")),IF(NOT(ISNA(MATCH(K28,Holidays!$G$3:$G$33,0))),VLOOKUP(K28,Holidays!$G$3:$H$33,2,0)&T(_xlfn.ORG.OPENOFFICE.STYLE("Magenta")),IF(MONTH($A$1)<>MONTH(K28),""&T(_xlfn.ORG.OPENOFFICE.STYLE("NTRMonth")),""&T(_xlfn.ORG.OPENOFFICE.STYLE("TopRight"))))))) | M28: =K28+1 -> 39886 | N28: =IF(NOT(ISNA(MATCH(M28,Holidays!$A$3:$A$33,0))),VLOOKUP(M28,Holidays!$A$3:$B$33,2,0)&T(_xlfn.ORG.OPENOFFICE.STYLE("Red")),IF(NOT(ISNA(MATCH(M28,Holidays!$C$3:$C$33,0))),VLOOKUP(M28,Holidays!$C$3:$D$33,2,0)&T(_xlfn.ORG.OPENOFFICE.STYLE("Yellow")),IF(NOT(ISNA(MATCH(M28,Holidays!$E$3:$E$33,0))),VLOOKUP(M28,Holidays!$E$3:$F$33,2,0)&T(_xlfn.ORG.OPENOFFICE.STYLE("Green")),IF(NOT(ISNA(MATCH(M28,Holidays!$G$3:$G$33,0))),VLOOKUP(M28,Holidays!$G$3:$H$33,2,0)&T(_xlfn.ORG.OPENOFFICE.STYLE("Magenta")),IF(MONTH($A$1)<>MONTH(M28),""&T(_xlfn.ORG.OPENOFFICE.STYLE("NTRMonth")),""&T(_xlfn.ORG.OPENOFFICE.STYLE("TopRight")))))))

Sheet Mar
A1: =DATE(Year!$A$1,3,1) -> 39873
A2: Sunday | C2: Monday | E2: Tuesday | G2: Wednesday | I2: Thursday | K2: Friday | M2: Saturday
A3: =IF(WEEKDAY($A$1)=1,$A$1,C3-1) -> 39873 | B3: =IF(NOT(ISNA(MATCH(A3,Holidays!$A$3:$A$33,0))),VLOOKUP(A3,Holidays!$A$3:$B$33,2,0)&T(_xlfn.ORG.OPENOFFICE.STYLE("Red")),IF(NOT(ISNA(MATCH(A3,Holidays!$C$3:$C$33,0))),VLOOKUP(A3,Holidays!$C$3:$D$33,2,0)&T(_xlfn.ORG.OPENOFFICE.STYLE("Yellow")),IF(NOT(ISNA(MATCH(A3,Holidays!$E$3:$E$33,0))),VLOOKUP(A3,Holidays!$E$3:$F$33,2,0)&T(_xlfn.ORG.OPENOFFICE.STYLE("Green")),IF(NOT(ISNA(MATCH(A3,Holidays!$G$3:$G$33,0))),VLOOKUP(A3,Holidays!$G$3:$H$33,2,0)&T(_xlfn.ORG.OPENOFFICE.STYLE("Magenta")),IF(MONTH($A$1)<>MONTH(A3),""&T(_xlfn.ORG.OPENOFFICE.STYLE("NTRMonth")),""&T(_xlfn.ORG.OPENOFFICE.STYLE("TopRight"))))))) | C3: =IF(WEEKDAY($A$1)<=2,$A$1+2-WEEKDAY($A$1),E3-1) -> 39874 | D3: =IF(NOT(ISNA(MATCH(C3,Holidays!$A$3:$A$33,0))),VLOOKUP(C3,Holidays!$A$3:$B$33,2,0)&T(_xlfn.ORG.OPENOFFICE.STYLE("Red")),IF(NOT(ISNA(MATCH(C3,Holidays!$C$3:$C$33,0))),VLOOKUP(C3,Holidays!$C$3:$D$33,2,0)&T(_xlfn.ORG.OPENOFFICE.STYLE("Yellow")),IF(NOT(ISNA(MATCH(C3,Holidays!$E$3:$E$33,0))),VLOOKUP(C3,Holidays!$E$3:$F$33,2,0)&T(_xlfn.ORG.OPENOFFICE.STYLE("Green")),IF(NOT(ISNA(MATCH(C3,Holidays!$G$3:$G$33,0))),VLOOKUP(C3,Holidays!$G$3:$H$33,2,0)&T(_xlfn.ORG.OPENOFFICE.STYLE("Magenta")),IF(MONTH($A$1)<>MONTH(C3),""&T(_xlfn.ORG.OPENOFFICE.STYLE("NTRMonth")),""&T(_xlfn.ORG.OPENOFFICE.STYLE("TopRight"))))))) | E3: =IF(WEEKDAY($A$1)<=3,$A$1+3-WEEKDAY($A$1),G3-1) -> 39875 | F3: =IF(NOT(ISNA(MATCH(E3,Holidays!$A$3:$A$33,0))),VLOOKUP(E3,Holidays!$A$3:$B$33,2,0)&T(_xlfn.ORG.OPENOFFICE.STYLE("Red")),IF(NOT(ISNA(MATCH(E3,Holidays!$C$3:$C$33,0))),VLOOKUP(E3,Holidays!$C$3:$D$33,2,0)&T(_xlfn.ORG.OPENOFFICE.STYLE("Yellow")),IF(NOT(ISNA(MATCH(E3,Holidays!$E$3:$E$33,0))),VLOOKUP(E3,Holidays!$E$3:$F$33,2,0)&T(_xlfn.ORG.OPENOFFICE.STYLE("Green")),IF(NOT(ISNA(MATCH(E3,Holidays!$G$3:$G$33,0))),VLOOKUP(E3,Holidays!$G$3:$H$33,2,0)&T(_xlfn.ORG.OPENOFFICE.STYLE("Magenta")),IF(MONTH($A$1)<>MONTH(E3),""&T(_xlfn.ORG.OPENOFFICE.STYLE("NTRMonth")),""&T(_xlfn.ORG.OPENOFFICE.STYLE("TopRight"))))))) | G3: =IF(WEEKDAY($A$1)<=4,$A$1+4-WEEKDAY($A$1),I3-1) -> 39876 | H3: =IF(NOT(ISNA(MATCH(G3,Holidays!$A$3:$A$33,0))),VLOOKUP(G3,Holidays!$A$3:$B$33,2,0)&T(_xlfn.ORG.OPENOFFICE.STYLE("Red")),IF(NOT(ISNA(MATCH(G3,Holidays!$C$3:$C$33,0))),VLOOKUP(G3,Holidays!$C$3:$D$33,2,0)&T(_xlfn.ORG.OPENOFFICE.STYLE("Yellow")),IF(NOT(ISNA(MATCH(G3,Holidays!$E$3:$E$33,0))),VLOOKUP(G3,Holidays!$E$3:$F$33,2,0)&T(_xlfn.ORG.OPENOFFICE.STYLE("Green")),IF(NOT(ISNA(MATCH(G3,Holidays!$G$3:$G$33,0))),VLOOKUP(G3,Holidays!$G$3:$H$33,2,0)&T(_xlfn.ORG.OPENOFFICE.STYLE("Magenta")),IF(MONTH($A$1)<>MONTH(G3),""&T(_xlfn.ORG.OPENOFFICE.STYLE("NTRMonth")),""&T(_xlfn.ORG.OPENOFFICE.STYLE("TopRight"))))))) | I3: =IF(WEEKDAY($A$1)<=5,$A$1+5-WEEKDAY($A$1),K3-1) -> 39877 | J3: =IF(NOT(ISNA(MATCH(I3,Holidays!$A$3:$A$33,0))),VLOOKUP(I3,Holidays!$A$3:$B$33,2,0)&T(_xlfn.ORG.OPENOFFICE.STYLE("Red")),IF(NOT(ISNA(MATCH(I3,Holidays!$C$3:$C$33,0))),VLOOKUP(I3,Holidays!$C$3:$D$33,2,0)&T(_xlfn.ORG.OPENOFFICE.STYLE("Yellow")),IF(NOT(ISNA(MATCH(I3,Holidays!$E$3:$E$33,0))),VLOOKUP(I3,Holidays!$E$3:$F$33,2,0)&T(_xlfn.ORG.OPENOFFICE.STYLE("Green")),IF(NOT(ISNA(MATCH(I3,Holidays!$G$3:$G$33,0))),VLOOKUP(I3,Holidays!$G$3:$H$33,2,0)&T(_xlfn.ORG.OPENOFFICE.STYLE("Magenta")),IF(MONTH($A$1)<>MONTH(I3),""&T(_xlfn.ORG.OPENOFFICE.STYLE("NTRMonth")),""&T(_xlfn.ORG.OPENOFFICE.STYLE("TopRight"))))))) | K3: =IF(WEEKDAY($A$1)<=6,$A$1+6-WEEKDAY($A$1),M3-1) -> 39878 | L3: =IF(NOT(ISNA(MATCH(K3,Holidays!$A$3:$A$33,0))),VLOOKUP(K3,Holidays!$A$3:$B$33,2,0)&T(_xlfn.ORG.OPENOFFICE.STYLE("Red")),IF(NOT(ISNA(MATCH(K3,Holidays!$C$3:$C$33,0))),VLOOKUP(K3,Holidays!$C$3:$D$33,2,0)&T(_xlfn.ORG.OPENOFFICE.STYLE("Yellow")),IF(NOT(ISNA(MATCH(K3,Holidays!$E$3:$E$33,0))),VLOOKUP(K3,Holidays!$E$3:$F$33,2,0)&T(_xlfn.ORG.OPENOFFICE.STYLE("Green")),IF(NOT(ISNA(MATCH(K3,Holidays!$G$3:$G$33,0))),VLOOKUP(K3,Holidays!$G$3:$H$33,2,0)&T(_xlfn.ORG.OPENOFFICE.STYLE("Magenta")),IF(MONTH($A$1)<>MONTH(K3),""&T(_xlfn.ORG.OPENOFFICE.STYLE("NTRMonth")),""&T(_xlfn.ORG.OPENOFFICE.STYLE("TopRight"))))))) | M3: =$A$1+7-WEEKDAY($A$1) -> 39879 | N3: =IF(NOT(ISNA(MATCH(M3,Holidays!$A$3:$A$33,0))),VLOOKUP(M3,Holidays!$A$3:$B$33,2,0)&T(_xlfn.ORG.OPENOFFICE.STYLE("Red")),IF(NOT(ISNA(MATCH(M3,Holidays!$C$3:$C$33,0))),VLOOKUP(M3,Holidays!$C$3:$D$33,2,0)&T(_xlfn.ORG.OPENOFFICE.STYLE("Yellow")),IF(NOT(ISNA(MATCH(M3,Holidays!$E$3:$E$33,0))),VLOOKUP(M3,Holidays!$E$3:$F$33,2,0)&T(_xlfn.ORG.OPENOFFICE.STYLE("Green")),IF(NOT(ISNA(MATCH(M3,Holidays!$G$3:$G$33,0))),VLOOKUP(M3,Holidays!$G$3:$H$33,2,0)&T(_xlfn.ORG.OPENOFFICE.STYLE("Magenta")),IF(MONTH($A$1)<>MONTH(M3),""&T(_xlfn.ORG.OPENOFFICE.STYLE("NTRMonth")),""&T(_xlfn.ORG.OPENOFFICE.STYLE("TopRight")))))))
