Workbook

Sheet Year
A1: 2009 | Y1: <--- Change year in A1 for different year.
A2: =DATE($A$1,1,1) -> 39814 | I2: =DATE($A$1,2,1) -> 39845 | Q2: =DATE($A$1,3,1) -> 39873
A3: Sun | B3: Mon | C3: Tue | D3: Wed | E3: Thu | F3: Fri | G3: Sat | I3: Sun | J3: Mon | K3: Tue | L3: Wed | M3: Thu | N3: Fri | O3: Sat | Q3: Sun | R3: Mon | S3: Tue | T3: Wed | U3: Thu | V3: Fri | W3: Sat | Y3: ="Today"&T(_xlfn.ORG.OPENOFFICE.STYLE("Blue")) -> Today | Z3: =TODAY()+_xlfn.ORG.OPENOFFICE.STYLE("Blue") -> 45173
A4: =IF(WEEKDAY(A2)=1,A2+_xlfn.ORG.OPENOFFICE.STYLE(IF(NOT(ISNA(MATCH(_xlfn.ORG.OPENOFFICE.CURRENT(),Holidays!$E$3:$E$33,0))),"Green",IF(NOT(ISNA(MATCH(_xlfn.ORG.OPENOFFICE.CURRENT(),Holidays!$G$3:$G$33,0))),"Magenta","Default"))),""&T(_xlfn.ORG.OPENOFFICE.STYLE("Default"))) | B4: =IF(WEEKDAY(A2)<=2,A2+2-WEEKDAY(A2)+_xlfn.ORG.OPENOFFICE.STYLE(IF(NOT(ISNA(MATCH(_xlfn.ORG.OPENOFFICE.CURRENT(),Holidays!$E$3:$E$33,0))),"Green",IF(NOT(ISNA(MATCH(_xlfn.ORG.OPENOFFICE.CURRENT(),Holidays!$G$3:$G$33,0))),"Magenta","Default"))),""&T(_xlfn.ORG.OPENOFFICE.STYLE("Default"))) | C4: =IF(WEEKDAY(A2)<=3,A2+3-WEEKDAY(A2)+_xlfn.ORG.OPENOFFICE.STYLE(IF(NOT(ISNA(MATCH(_xlfn.ORG.OPENOFFICE.CURRENT(),Holidays!$E$3:$E$33,0))),"Green",IF(NOT(ISNA(MATCH(_xlfn.ORG.OPENOFFICE.CURRENT(),Holidays!$G$3:$G$33,0))),"Magenta","Default"))),""&T(_xlfn.ORG.OPENOFFICE.STYLE("Default"))) | D4: =IF(WEEKDAY(A2)<=4,A2+4-WEEKDAY(A2)+_xlfn.ORG.OPENOFFICE.STYLE(IF(NOT(ISNA(MATCH(_xlfn.ORG.OPENOFFICE.CURRENT(),Holidays!$E$3:$E$33,0))),"Green",IF(NOT(ISNA(MATCH(_xlfn.ORG.OPENOFFICE.CURRENT(),Holidays!$G$3:$G$33,0))),"Magenta","Default"))),""&T(_xlfn.ORG.OPENOFFICE.STYLE("Default"))) | E4: =IF(WEEKDAY(A2)<=5,A2+5-WEEKDAY(A2)+_xlfn.ORG.OPENOFFICE.STYLE(IF(NOT(ISNA(MATCH(_xlfn.ORG.OPENOFFICE.CURRENT(),Holidays!$E$3:$E$33,0))),"Green",IF(NOT(ISNA(MATCH(_xlfn.ORG.OPENOFFICE.CURRENT(),Holidays!$G$3:$G$33,0))),"Magenta","Default"))),""&T(_xlfn.ORG.OPENOFFICE.STYLE("Default"))) -> 39814 | F4: =IF(WEEKDAY(A2)<=6,A2+6-WEEKDAY(A2)+_xlfn.ORG.OPENOFFICE.STYLE(IF(NOT(ISNA(MATCH(_xlfn.ORG.OPENOFFICE.CURRENT(),Holidays!$E$3:$E$33,0))),"Green",IF(NOT(ISNA(MATCH(_xlfn.ORG.OPENOFFICE.CURRENT(),Holidays!$G$3:$G$33,0))),"Magenta","Default"))),""&T(_xlfn.ORG.OPENOFFICE.STYLE("Default"))) -> 39815 | G4: =IF(WEEKDAY(A2)<=7,A2+7-WEEKDAY(A2)+_xlfn.ORG.OPENOFFICE.STYLE(IF(NOT(ISNA(MATCH(_xlfn.ORG.OPENOFFICE.CURRENT(),Holidays!$E$3:$E$33,0))),"Green",IF(NOT(ISNA(MATCH(_xlfn.ORG.OPENOFFICE.CURRENT(),Holidays!$G$3:$G$33,0))),"Magenta","Default"))),""&T(_xlfn.ORG.OPENOFFICE.STYLE("Default"))) -> 39816 | I4: =IF(WEEKDAY(I2)=1,I2+_xlfn.ORG.OPENOFFICE.STYLE(IF(NOT(ISNA(MATCH(_xlfn.ORG.OPENOFFICE.CURRENT(),Holidays!$E$3:$E$33,0))),"Green",IF(NOT(ISNA(MATCH(_xlfn.ORG.OPENOFFICE.CURRENT(),Holidays!$G$3:$G$33,0))),"Magenta","Default"))),""&T(_xlfn.ORG.OPENOFFICE.STYLE("Default"))) -> 39845 | J4: =IF(WEEKDAY(I2)<=2,I2+2-WEEKDAY(I2)+_xlfn.ORG.OPENOFFICE.STYLE(IF(NOT(ISNA(MATCH(_xlfn.ORG.OPENOFFICE.CURRENT(),Holidays!$E$3:$E$33,0))),"Green",IF(NOT(ISNA(MATCH(_xlfn.ORG.OPENOFFICE.CURRENT(),Holidays!$G$3:$G$33,0))),"Magenta","Default"))),""&T(_xlfn.ORG.OPENOFFICE.STYLE("Default"))) -> 39846 | K4: =IF(WEEKDAY(I2)<=3,I2+3-WEEKDAY(I2)+_xlfn.ORG.OPENOFFICE.STYLE(IF(NOT(ISNA(MATCH(_xlfn.ORG.OPENOFFICE.CURRENT(),Holidays!$E$3:$E$33,0))),"Green",IF(NOT(ISNA(MATCH(_xlfn.ORG.OPENOFFICE.CURRENT(),Holidays!$G$3:$G$33,0))),"Magenta","Default"))),""&T(_xlfn.ORG.OPENOFFICE.STYLE("Default"))) -> 39847 | L4: =IF(WEEKDAY(I2)<=4,I2+4-WEEKDAY(I2)+_xlfn.ORG.OPENOFFICE.STYLE(IF(NOT(ISNA(MATCH(_xlfn.ORG.OPENOFFICE.CURRENT(),Holidays!$E$3:$E$33,0))),"Green",IF(NOT(ISNA(MATCH(_xlfn.ORG.OPENOFFICE.CURRENT(),Holidays!$G$3:$G$33,0))),"Magenta","Default"))),""&T(_xlfn.ORG.OPENOFFICE.STYLE("Default"))) -> 39848 | M4: =IF(WEEKDAY(I2)<=5,I2+5-WEEKDAY(I2)+_xlfn.ORG.OPENOFFICE.STYLE(IF(NOT(ISNA(MATCH(_xlfn.ORG.OPENOFFICE.CURRENT(),Holidays!$E$3:$E$33,0))),"Green",IF(NOT(ISNA(MATCH(_xlfn.ORG.OPENOFFICE.CURRENT(),Holidays!$G$3:$G$33,0))),"Magenta","Default"))),""&T(_xlfn.ORG.OPENOFFICE.STYLE("Default"))) -> 39849 | N4: =IF(WEEKDAY(I2)<=6,I2+6-WEEKDAY(I2)+_xlfn.ORG.OPENOFFICE.STYLE(IF(NOT(ISNA(MATCH(_xlfn.ORG.OPENOFFICE.CURRENT(),Holidays!$E$3:$E$33,0))),"Green",IF(NOT(ISNA(MATCH(_xlfn.ORG.OPENOFFICE.CURRENT(),Holidays!$G$3:$G$33,0))),"Magenta","Default"))),""&T(_xlfn.ORG.OPENOFFICE.STYLE("Default"))) -> 39850 | O4: =IF(WEEKDAY(I2)<=7,I2+7-WEEKDAY(I2)+_xlfn.ORG.OPENOFFICE.STYLE(IF(NOT(ISNA(MATCH(_xlfn.ORG.OPENOFFICE.CURRENT(),Holidays!$E$3:$E$33,0))),"Green",IF(NOT(ISNA(MATCH(_xlfn.ORG.OPENOFFICE.CURRENT(),Holidays!$G$3:$G$33,0))),"Magenta","Default"))),""&T(_xlfn.ORG.OPENOFFICE.STYLE("Default"))) -> 39851 | Q4: =IF(WEEKDAY(Q2)=1,Q2+_xlfn.ORG.OPENOFFICE.STYLE(IF(NOT(ISNA(MATCH(_xlfn.ORG.OPENOFFICE.CURRENT(),Holidays!$E$3:$E$33,0))),"Green",IF(NOT(ISNA(MATCH(_xlfn.ORG.OPENOFFICE.CURRENT(),Holidays!$G$3:$G$33,0))),"Magenta","Default"))),""&T(_xlfn.ORG.OPENOFFICE.STYLE("Default"))) -> 39873 | R4: =IF(WEEKDAY(Q2)<=2,Q2+2-WEEKDAY(Q2)+_xlfn.ORG.OPENOFFICE.STYLE(IF(NOT(ISNA(MATCH(_xlfn.ORG.OPENOFFICE.CURRENT(),Holidays!$E$3:$E$33,0))),"Green",IF(NOT(ISNA(MATCH(_xlfn.ORG.OPENOFFICE.CURRENT(),Holidays!$G$3:$G$33,0))),"Magenta","Default"))),""&T(_xlfn.ORG.OPENOFFICE.STYLE("Default"))) -> 39874 | S4: =IF(WEEKDAY(Q2)<=3,Q2+3-WEEKDAY(Q2)+_xlfn.ORG.OPENOFFICE.STYLE(IF(NOT(ISNA(MATCH(_xlfn.ORG.OPENOFFICE.CURRENT(),Holidays!$E$3:$E$33,0))),"Green",IF(NOT(ISNA(MATCH(_xlfn.ORG.OPENOFFICE.CURRENT(),Holidays!$G$3:$G$33,0))),"Magenta","Default"))),""&T(_xlfn.ORG.OPENOFFICE.STYLE("Default"))) -> 39875 | T4: =IF(WEEKDAY(Q2)<=4,Q2+4-WEEKDAY(Q2)+_xlfn.ORG.OPENOFFICE.STYLE(IF(NOT(ISNA(MATCH(_xlfn.ORG.OPENOFFICE.CURRENT(),Holidays!$E$3:$E$33,0))),"Green",IF(NOT(ISNA(MATCH(_xlfn.ORG.OPENOFFICE.CURRENT(),Holidays!$G$3:$G$33,0))),"Magenta","Default"))),""&T(_xlfn.ORG.OPENOFFICE.STYLE("Default"))) -> 39876 | U4: =IF(WEEKDAY(Q2)<=5,Q2+5-WEEKDAY(Q2)+_xlfn.ORG.OPENOFFICE.STYLE(IF(NOT(ISNA(MATCH(_xlfn.ORG.OPENOFFICE.CURRENT(),Holidays!$E$3:$E$33,0))),"Green",IF(NOT(ISNA(MATCH(_xlfn.ORG.OPENOFFICE.CURRENT(),Holidays!$G$3:$G$33,0))),"Magenta","Default"))),""&T(_xlfn.ORG.OPENOFFICE.STYLE("Default"))) -> 39877 | V4: =IF(WEEKDAY(Q2)<=6,Q2+6-WEEKDAY(Q2)+_xlfn.ORG.OPENOFFICE.STYLE(IF(NOT(ISNA(MATCH(_xlfn.ORG.OPENOFFICE.CURRENT(),Holidays!$E$3:$E$33,0))),"Green",IF(NOT(ISNA(MATCH(_xlfn.ORG.OPENOFFICE.CURRENT(),Holidays!$G$3:$G$33,0))),"Magenta","Default"))),""&T(_xlfn.ORG.OPENOFFICE.STYLE("Default"))) -> 39878 | W4: =IF(WEEKDAY(Q2)<=7,Q2+7-WEEKDAY(Q2)+_xlfn.ORG.OPENOFFICE.STYLE(IF(NOT(ISNA(MATCH(_xlfn.ORG.OPENOFFICE.CURRENT(),Holidays!$E$3:$E$33,0))),"Green",IF(NOT(ISNA(MATCH(_xlfn.ORG.OPENOFFICE.CURRENT(),Holidays!$G$3:$G$33,0))),"Magenta","Default"))),""&T(_xlfn.ORG.OPENOFFICE.STYLE("Default"))) -> 39879
A5: =G4+1+_xlfn.ORG.OPENOFFICE.STYLE(IF(NOT(ISNA(MATCH(_xlfn.ORG.OPENOFFICE.CURRENT(),Holidays!$E$3:$E$33,0))),"Green",IF(NOT(ISNA(MATCH(_xlfn.ORG.OPENOFFICE.CURRENT(),Holidays!$G$3:$G$33,0))),"Magenta","Default"))) -> 39817 | B5: =A5+1+_xlfn.ORG.OPENOFFICE.STYLE(IF(NOT(ISNA(MATCH(_xlfn.ORG.OPENOFFICE.CURRENT(),Holidays!$E$3:$E$33,0))),"Green",IF(NOT(ISNA(MATCH(_xlfn.ORG.OPENOFFICE.CURRENT(),Holidays!$G$3:$G$33,0))),"Magenta","Default"))) -> 39818 | C5: =B5+1+_xlfn.ORG.OPENOFFICE.STYLE(IF(NOT(ISNA(MATCH(_xlfn.ORG.OPENOFFICE.CURRENT(),Holidays!$E$3:$E$33,0))),"Green",IF(NOT(ISNA(MATCH(_xlfn.ORG.OPENOFFICE.CURRENT(),Holidays!$G$3:$G$33,0))),"Magenta","Default"))) -> 39819 | D5: =C5+1+_xlfn.ORG.OPENOFFICE.STYLE(IF(NOT(ISNA(MATCH(_xlfn.ORG.OPENOFFICE.CURRENT(),Holidays!$E$3:$E$33,0))),"Green",IF(NOT(ISNA(MATCH(_xlfn.ORG.OPENOFFICE.CURRENT(),Holidays!$G$3:$G$33,0))),"Magenta","Default"))) -> 39820 | E5: =D5+1+_xlfn.ORG.OPENOFFICE.STYLE(IF(NOT(ISNA(MATCH(_xlfn.ORG.OPENOFFICE.CURRENT(),Holidays!$E$3:$E$33,0))),"Green",IF(NOT(ISNA(MATCH(_xlfn.ORG.OPENOFFICE.CURRENT(),Holidays!$G$3:$G$33,0))),"Magenta","Default"))) -> 39821 | F5: =E5+1+_xlfn.ORG.OPENOFFICE.STYLE(IF(NOT(ISNA(MATCH(_xlfn.ORG.OPENOFFICE.CURRENT(),Holidays!$E$3:$E$33,0))),"Green",IF(NOT(ISNA(MATCH(_xlfn.ORG.OPENOFFICE.CURRENT(),Holidays!$G$3:$G$33,0))),"Magenta","Default"))) -> 39822 | G5: =F5+1+_xlfn.ORG.OPENOFFICE.STYLE(IF(NOT(ISNA(MATCH(_xlfn.ORG.OPENOFFICE.CURRENT(),Holidays!$E$3:$E$33,0))),"Green",IF(NOT(ISNA(MATCH(_xlfn.ORG.OPENOFFICE.CURRENT(),Holidays!$G$3:$G$33,0))),"Magenta","Default"))) -> 39823 | I5: =O4+1+_xlfn.ORG.OPENOFFICE.STYLE(IF(NOT(ISNA(MATCH(_xlfn.ORG.OPENOFFICE.CURRENT(),Holidays!$E$3:$E$33,0))),"Green",IF(NOT(ISNA(MATCH(_xlfn.ORG.OPENOFFICE.CURRENT(),Holidays!$G$3:$G$33,0))),"Magenta","Default"))) -> 39852 | J5: =I5+1+_xlfn.ORG.OPENOFFICE.STYLE(IF(NOT(ISNA(MATCH(_xlfn.ORG.OPENOFFICE.CURRENT(),Holidays!$E$3:$E$33,0))),"Green",IF(NOT(ISNA(MATCH(_xlfn.ORG.OPENOFFICE.CURRENT(),Holidays!$G$3:$G$33,0))),"Magenta","Default"))) -> 39853 | K5: =J5+1+_xlfn.ORG.OPENOFFICE.STYLE(IF(NOT(ISNA(MATCH(_xlfn.ORG.OPENOFFICE.CURRENT(),Holidays!$E$3:$E$33,0))),"Green",IF(NOT(ISNA(MATCH(_xlfn.ORG.OPENOFFICE.CURRENT(),Holidays!$G$3:$G$33,0))),"Magenta","Default"))) -> 39854 | L5: =K5+1+_xlfn.ORG.OPENOFFICE.STYLE(IF(NOT(ISNA(MATCH(_xlfn.ORG.OPENOFFICE.CURRENT(),Holidays!$E$3:$E$33,0))),"Green",IF(NOT(ISNA(MATCH(_xlfn.ORG.OPENOFFICE.CURRENT(),Holidays!$G$3:$G$33,0))),"Magenta","Default"))) -> 39855 | M5: =L5+1+_xlfn.ORG.OPENOFFICE.STYLE(IF(NOT(ISNA(MATCH(_xlfn.ORG.OPENOFFICE.CURRENT(),Holidays!$E$3:$E$33,0))),"Green",IF(NOT(ISNA(MATCH(_xlfn.ORG.OPENOFFICE.CURRENT(),Holidays!$G$3:$G$33,0))),"Magenta","Default"))) -> 39856 | N5: =M5+1+_xlfn.ORG.OPENOFFICE.STYLE(IF(NOT(ISNA(MATCH(_xlfn.ORG.OPENOFFICE.CURRENT(),Holidays!$E$3:$E$33,0))),"Green",IF(NOT(ISNA(MATCH(_xlfn.ORG.OPENOFFICE.CURRENT(),Holidays!$G$3:$G$33,0))),"Magenta","Default"))) -> 39857 | O5: =N5+1+_xlfn.ORG.OPENOFFICE.STYLE(IF(NOT(ISNA(MATCH(_xlfn.ORG.OPENOFFICE.CURRENT(),Holidays!$E$3:$E$33,0))),"Green",IF(NOT(ISNA(MATCH(_xlfn.ORG.OPENOFFICE.CURRENT(),Holidays!$G$3:$G$33,0))),"Magenta","Default"))) -> 39858 | Q5: =W4+1+_xlfn.ORG.OPENOFFICE.STYLE(IF(NOT(ISNA(MATCH(_xlfn.ORG.OPENOFFICE.CURRENT(),Holidays!$E$3:$E$33,0))),"Green",IF(NOT(ISNA(MATCH(_xlfn.ORG.OPENOFFICE.CURRENT(),Holidays!$G$3:$G$33,0))),"Magenta","Default"))) -> 39880 | R5: =Q5+1+_xlfn.ORG.OPENOFFICE.STYLE(IF(NOT(ISNA(MATCH(_xlfn.ORG.OPENOFFICE.CURRENT(),Holidays!$E$3:$E$33,0))),"Green",IF(NOT(ISNA(MATCH(_xlfn.ORG.OPENOFFICE.CURRENT(),Holidays!$G$3:$G$33,0))),"Magenta","Default"))) -> 39881 | S5: =R5+1+_xlfn.ORG.OPENOFFICE.STYLE(IF(NOT(ISNA(MATCH(_xlfn.ORG.OPENOFFICE.CURRENT(),Holidays!$E$3:$E$33,0))),"Green",IF(NOT(ISNA(MATCH(_xlfn.ORG.OPENOFFICE.CURRENT(),Holidays!$G$3:$G$33,0))),"Magenta","Default"))) -> 39882 | T5: =S5+1+_xlfn.ORG.OPENOFFICE.STYLE(IF(NOT(ISNA(MATCH(_xlfn.ORG.OPENOFFICE.CURRENT(),Holidays!$E$3:$E$33,0))),"Green",IF(NOT(ISNA(MATCH(_xlfn.ORG.OPENOFFICE.CURRENT(),Holidays!$G$3:$G$33,0))),"Magenta","Default"))) -> 39883 | U5: =T5+1+_xlfn.ORG.OPENOFFICE.STYLE(IF(NOT(ISNA(MATCH(_xlfn.ORG.OPENOFFICE.CURRENT(),Holidays!$E$3:$E$33,0))),"Green",IF(NOT(ISNA(MATCH(_xlfn.ORG.OPENOFFICE.CURRENT(),Holidays!$G$3:$G$33,0))),"Magenta","Default"))) -> 39884 | V5: =U5+1+_xlfn.ORG.OPENOFFICE.STYLE(IF(NOT(ISNA(MATCH(_xlfn.ORG.OPENOFFICE.CURRENT(),Holidays!$E$3:$E$33,0))),"Green",IF(NOT(ISNA(MATCH(_xlfn.ORG.OPENOFFICE.CURRENT(),Holidays!$G$3:$G$33,0))),"Magenta","Default"))) -> 39885 | W5: =V5+1+_xlfn.ORG.OPENOFFICE.STYLE(IF(NOT(ISNA(MATCH(_xlfn.ORG.OPENOFFICE.CURRENT(),Holidays!$E$3:$E$33,0))),"Green",IF(NOT(ISNA(MATCH(_xlfn.ORG.OPENOFFICE.CURRENT(),Holidays!$G$3:$G$33,0))),"Magenta","Default"))) -> 39886 | Y5: =Holidays!$A$2 -> Appointments | Z5: =IF(NOT(ISNA(VLOOKUP(TODAY(),Holidays!$A$3:$B$33,2,0))),VLOOKUP(TODAY(),Holidays!$A$3:$B$33,2,0)&T(_xlfn.ORG.OPENOFFICE.STYLE("Red")),T(_xlfn.ORG.OPENOFFICE.STYLE("Default")))
A6: =G5+1+_xlfn.ORG.OPENOFFICE.STYLE(IF(NOT(ISNA(MATCH(_xlfn.ORG.OPENOFFICE.CURRENT(),Holidays!$E$3:$E$33,0))),"Green",IF(NOT(ISNA(MATCH(_xlfn.ORG.OPENOFFICE.CURRENT(),Holidays!$G$3:$G$33,0))),"Magenta","Default"))) -> 39824 | B6: =A6+1+_xlfn.ORG.OPENOFFICE.STYLE(IF(NOT(ISNA(MATCH(_xlfn.ORG.OPENOFFICE.CURRENT(),Holidays!$E$3:$E$33,0))),"Green",IF(NOT(ISNA(MATCH(_xlfn.ORG.OPENOFFICE.CURRENT(),Holidays!$G$3:$G$33,0))),"Magenta","Default"))) -> 39825 | C6: =B6+1+_xlfn.ORG.OPENOFFICE.STYLE(IF(NOT(ISNA(MATCH(_xlfn.ORG.OPENOFFICE.CURRENT(),Holidays!$E$3:$E$33,0))),"Green",IF(NOT(ISNA(MATCH(_xlfn.ORG.OPENOFFICE.CURRENT(),Holidays!$G$3:$G$33,0))),"Magenta","Default"))) -> 39826 | D6: =C6+1+_xlfn.ORG.OPENOFFICE.STYLE(IF(NOT(ISNA(MATCH(_xlfn.ORG.OPENOFFICE.CURRENT(),Holidays!$E$3:$E$33,0))),"Green",IF(NOT(ISNA(MATCH(_xlfn.ORG.OPENOFFICE.CURRENT(),Holidays!$G$3:$G$33,0))),"Magenta","Default"))) -> 39827 | E6: =D6+1+_xlfn.ORG.OPENOFFICE.STYLE(IF(NOT(ISNA(MATCH(_xlfn.ORG.OPENOFFICE.CURRENT(),Holidays!$E$3:$E$33,0))),"Green",IF(NOT(ISNA(MATCH(_xlfn.ORG.OPENOFFICE.CURRENT(),Holidays!$G$3:$G$33,0))),"Magenta","Default"))) -> 39828 | F6: =E6+1+_xlfn.ORG.OPENOFFICE.STYLE(IF(NOT(ISNA(MATCH(_xlfn.ORG.OPENOFFICE.CURRENT(),Holidays!$E$3:$E$33,0))),"Green",IF(NOT(ISNA(MATCH(_xlfn.ORG.OPENOFFICE.CURRENT(),Holidays!$G$3:$G$33,0))),"Magenta","Default"))) -> 39829 | G6: =F6+1+_xlfn.ORG.OPENOFFICE.STYLE(IF(NOT(ISNA(MATCH(_xlfn.ORG.OPENOFFICE.CURRENT(),Holidays!$E$3:$E$33,0))),"Green",IF(NOT(ISNA(MATCH(_xlfn.ORG.OPENOFFICE.CURRENT(),Holidays!$G$3:$G$33,0))),"Magenta","Default"))) -> 39830 | I6: =O5+1+_xlfn.ORG.OPENOFFICE.STYLE(IF(NOT(ISNA(MATCH(_xlfn.ORG.OPENOFFICE.CURRENT(),Holidays!$E$3:$E$33,0))),"Green",IF(NOT(ISNA(MATCH(_xlfn.ORG.OPENOFFICE.CURRENT(),Holidays!$G$3:$G$33,0))),"Magenta","Default"))) -> 39859 | J6: =I6+1+_xlfn.ORG.OPENOFFICE.STYLE(IF(NOT(ISNA(MATCH(_xlfn.ORG.OPENOFFICE.CURRENT(),Holidays!$E$3:$E$33,0))),"Green",IF(NOT(ISNA(MATCH(_xlfn.ORG.OPENOFFICE.CURRENT(),Holidays!$G$3:$G$33,0))),"Magenta","Default"))) -> 39860 | K6: =J6+1+_xlfn.ORG.OPENOFFICE.STYLE(IF(NOT(ISNA(MATCH(_xlfn.ORG.OPENOFFICE.CURRENT(),Holidays!$E$3:$E$33,0))),"Green",IF(NOT(ISNA(MATCH(_xlfn.ORG.OPENOFFICE.CURRENT(),Holidays!$G$3:$G$33,0))),"Magenta","Default"))) -> 39861 | L6: =K6+1+_xlfn.ORG.OPENOFFICE.STYLE(IF(NOT(ISNA(MATCH(_xlfn.ORG.OPENOFFICE.CURRENT(),Holidays!$E$3:$E$33,0))),"Green",IF(NOT(ISNA(MATCH(_xlfn.ORG.OPENOFFICE.CURRENT(),Holidays!$G$3:$G$33,0))),"Magenta","Default"))) -> 39862 | M6: =L6+1+_xlfn.ORG.OPENOFFICE.STYLE(IF(NOT(ISNA(MATCH(_xlfn.ORG.OPENOFFICE.CURRENT(),Holidays!$E$3:$E$33,0))),"Green",IF(NOT(ISNA(MATCH(_xlfn.ORG.OPENOFFICE.CURRENT(),Holidays!$G$3:$G$33,0))),"Magenta","Default"))) -> 39863 | N6: =M6+1+_xlfn.ORG.OPENOFFICE.STYLE(IF(NOT(ISNA(MATCH(_xlfn.ORG.OPENOFFICE.CURRENT(),Holidays!$E$3:$E$33,0))),"Green",IF(NOT(ISNA(MATCH(_xlfn.ORG.OPENOFFICE.CURRENT(),Holidays!$G$3:$G$33,0))),"Magenta","Default"))) -> 39864 | O6: =N6+1+_xlfn.ORG.OPENOFFICE.STYLE(IF(NOT(ISNA(MATCH(_xlfn.ORG.OPENOFFICE.CURRENT(),Holidays!$E$3:$E$33,0))),"Green",IF(NOT(ISNA(MATCH(_xlfn.ORG.OPENOFFICE.CURRENT(),Holidays!$G$3:$G$33,0))),"Magenta","Default"))) -> 39865 | Q6: =W5+1+_xlfn.ORG.OPENOFFICE.STYLE(IF(NOT(ISNA(MATCH(_xlfn.ORG.OPENOFFICE.CURRENT(),Holidays!$E$3:$E$33,0))),"Green",IF(NOT(ISNA(MATCH(_xlfn.ORG.OPENOFFICE.CURRENT(),Holidays!$G$3:$G$33,0))),"Magenta","Default"))) -> 39887 | R6: =Q6+1+_xlfn.ORG.OPENOFFICE.STYLE(IF(NOT(ISNA(MATCH(_xlfn.ORG.OPENOFFICE.CURRENT(),Holidays!$E$3:$E$33,0))),"Green",IF(NOT(ISNA(MATCH(_xlfn.ORG.OPENOFFICE.CURRENT(),Holidays!$G$3:$G$33,0))),"Magenta","Default"))) -> 39888 | S6: =R6+1+_xlfn.ORG.OPENOFFICE.STYLE(IF(NOT(ISNA(MATCH(_xlfn.ORG.OPENOFFICE.CURRENT(),Holidays!$E$3:$E$33,0))),"Green",IF(NOT(ISNA(MATCH(_xlfn.ORG.OPENOFFICE.CURRENT(),Holidays!$G$3:$G$33,0))),"Magenta","Default"))) -> 39889 | T6: =S6+1+_xlfn.ORG.OPENOFFICE.STYLE(IF(NOT(ISNA(MATCH(_xlfn.ORG.OPENOFFICE.CURRENT(),Holidays!$E$3:$E$33,0))),"Green",IF(NOT(ISNA(MATCH(_xlfn.ORG.OPENOFFICE.CURRENT(),Holidays!$G$3:$G$33,0))),"Magenta","Default"))) -> 39890 | U6: =T6+1+_xlfn.ORG.OPENOFFICE.STYLE(IF(NOT(ISNA(MATCH(_xlfn.ORG.OPENOFFICE.CURRENT(),Holidays!$E$3:$E$33,0))),"Green",IF(NOT(ISNA(MATCH(_xlfn.ORG.OPENOFFICE.CURRENT(),Holidays!$G$3:$G$33,0))),"Magenta","Default"))) -> 39891 | V6: =U6+1+_xlfn.ORG.OPENOFFICE.STYLE(IF(NOT(ISNA(MATCH(_xlfn.ORG.OPENOFFICE.CURRENT(),Holidays!$E$3:$E$33,0))),"Green",IF(NOT(ISNA(MATCH(_xlfn.ORG.OPENOFFICE.CURRENT(),Holidays!$G$3:$G$33,0))),"Magenta","Default"))) -> 39892 | W6: =V6+1+_xlfn.ORG.OPENOFFICE.STYLE(IF(NOT(ISNA(MATCH(_xlfn.ORG.OPENOFFICE.CURRENT(),Holidays!$E$3:$E$33,0))),"Green",IF(NOT(ISNA(MATCH(_xlfn.ORG.OPENOFFICE.CURRENT(),Holidays!$G$3:$G$33,0))),"Magenta","Default"))) -> 39893
A7: =G6+1+_xlfn.ORG.OPENOFFICE.STYLE(IF(NOT(ISNA(MATCH(_xlfn.ORG.OPENOFFICE.CURRENT(),Holidays!$E$3:$E$33,0))),"Green",IF(NOT(ISNA(MATCH(_xlfn.ORG.OPENOFFICE.CURRENT(),Holidays!$G$3:$G$33,0))),"Magenta","Default"))) -> 39831 | B7: =A7+1+_xlfn.ORG.OPENOFFICE.STYLE(IF(NOT(ISNA(MATCH(_xlfn.ORG.OPENOFFICE.CURRENT(),Holidays!$E$3:$E$33,0))),"Green",IF(NOT(ISNA(MATCH(_xlfn.ORG.OPENOFFICE.CURRENT(),Holidays!$G$3:$G$33,0))),"Magenta","Default"))) -> 39832 | C7: =B7+1+_xlfn.ORG.OPENOFFICE.STYLE(IF(NOT(ISNA(MATCH(_xlfn.ORG.OPENOFFICE.CURRENT(),Holidays!$E$3:$E$33,0))),"Green",IF(NOT(ISNA(MATCH(_xlfn.ORG.OPENOFFICE.CURRENT(),Holidays!$G$3:$G$33,0))),"Magenta","Default"))) -> 39833 | D7: =C7+1+_xlfn.ORG.OPENOFFICE.STYLE(IF(NOT(ISNA(MATCH(_xlfn.ORG.OPENOFFICE.CURRENT(),Holidays!$E$3:$E$33,0))),"Green",IF(NOT(ISNA(MATCH(_xlfn.ORG.OPENOFFICE.CURRENT(),Holidays!$G$3:$G$33,0))),"Magenta","Default"))) -> 39834 | E7: =D7+1+_xlfn.ORG.OPENOFFICE.STYLE(IF(NOT(ISNA(MATCH(_xlfn.ORG.OPENOFFICE.CURRENT(),Holidays!$E$3:$E$33,0))),"Green",IF(NOT(ISNA(MATCH(_xlfn.ORG.OPENOFFICE.CURRENT(),Holidays!$G$3:$G$33,0))),"Magenta","Default"))) -> 39835 | F7: =E7+1+_xlfn.ORG.OPENOFFICE.STYLE(IF(NOT(ISNA(MATCH(_xlfn.ORG.OPENOFFICE.CURRENT(),Holidays!$E$3:$E$33,0))),"Green",IF(NOT(ISNA(MATCH(_xlfn.ORG.OPENOFFICE.CURRENT(),Holidays!$G$3:$G$33,0))),"Magenta","Default"))) -> 39836 | G7: =F7+1+_xlfn.ORG.OPENOFFICE.STYLE(IF(NOT(ISNA(MATCH(_xlfn.ORG.OPENOFFICE.CURRENT(),Holidays!$E$3:$E$33,0))),"Green",IF(NOT(ISNA(MATCH(_xlfn.ORG.OPENOFFICE.CURRENT(),Holidays!$G$3:$G$33,0))),"Magenta","Default"))) -> 39837 | I7: =O6+1+_xlfn.ORG.OPENOFFICE.STYLE(IF(NOT(ISNA(MATCH(_xlfn.ORG.OPENOFFICE.CURRENT(),Holidays!$E$3:$E$33,0))),"Green",IF(NOT(ISNA(MATCH(_xlfn.ORG.OPENOFFICE.CURRENT(),Holidays!$G$3:$G$33,0))),"Magenta","Default"))) -> 39866 | J7: =I7+1+_xlfn.ORG.OPENOFFICE.STYLE(IF(NOT(ISNA(MATCH(_xlfn.ORG.OPENOFFICE.CURRENT(),Holidays!$E$3:$E$33,0))),"Green",IF(NOT(ISNA(MATCH(_xlfn.ORG.OPENOFFICE.CURRENT(),Holidays!$G$3:$G$33,0))),"Magenta","Default"))) -> 39867 | K7: =J7+1+_xlfn.ORG.OPENOFFICE.STYLE(IF(NOT(ISNA(MATCH(_xlfn.ORG.OPENOFFICE.CURRENT(),Holidays!$E$3:$E$33,0))),"Green",IF(NOT(ISNA(MATCH(_xlfn.ORG.OPENOFFICE.CURRENT(),Holidays!$G$3:$G$33,0))),"Magenta","Default"))) -> 39868 | L7: =K7+1+_xlfn.ORG.OPENOFFICE.STYLE(IF(NOT(ISNA(MATCH(_xlfn.ORG.OPENOFFICE.CURRENT(),Holidays!$E$3:$E$33,0))),"Green",IF(NOT(ISNA(MATCH(_xlfn.ORG.OPENOFFICE.CURRENT(),Holidays!$G$3:$G$33,0))),"Magenta","Default"))) -> 39869 | M7: =L7+1+_xlfn.ORG.OPENOFFICE.STYLE(IF(NOT(ISNA(MATCH(_xlfn.ORG.OPENOFFICE.CURRENT(),Holidays!$E$3:$E$33,0))),"Green",IF(NOT(ISNA(MATCH(_xlfn.ORG.OPENOFFICE.CURRENT(),Holidays!$G$3:$G$33,0))),"Magenta","Default"))) -> 39870 | N7: =M7+1+_xlfn.ORG.OPENOFFICE.STYLE(IF(NOT(ISNA(MATCH(_xlfn.ORG.OPENOFFICE.CURRENT(),Holidays!$E$3:$E$33,0))),"Green",IF(NOT(ISNA(MATCH(_xlfn.ORG.OPENOFFICE.CURRENT(),Holidays!$G$3:$G$33,0))),"Magenta","Default"))) -> 39871 | O7: =N7+1+_xlfn.ORG.OPENOFFICE.STYLE(IF(NOT(ISNA(MATCH(_xlfn.ORG.OPENOFFICE.CURRENT(),Holidays!$E$3:$E$33,0))),"Green",IF(NOT(ISNA(MATCH(_xlfn.ORG.OPENOFFICE.CURRENT(),Holidays!$G$3:$G$33,0))),"Magenta","Default"))) -> 39872 | Q7: =W6+1+_xlfn.ORG.OPENOFFICE.STYLE(IF(NOT(ISNA(MATCH(_xlfn.ORG.OPENOFFICE.CURRENT(),Holidays!$E$3:$E$33,0))),"Green",IF(NOT(ISNA(MATCH(_xlfn.ORG.OPENOFFICE.CURRENT(),Holidays!$G$3:$G$33,0))),"Magenta","Default"))) -> 39894 | R7: =Q7+1+_xlfn.ORG.OPENOFFICE.STYLE(IF(NOT(ISNA(MATCH(_xlfn.ORG.OPENOFFICE.CURRENT(),Holidays!$E$3:$E$33,0))),"Green",IF(NOT(ISNA(MATCH(_xlfn.ORG.OPENOFFICE.CURRENT(),Holidays!$G$3:$G$33,0))),"Magenta","Default"))) -> 39895 | S7: =R7+1+_xlfn.ORG.OPENOFFICE.STYLE(IF(NOT(ISNA(MATCH(_xlfn.ORG.OPENOFFICE.CURRENT(),Holidays!$E$3:$E$33,0))),"Green",IF(NOT(ISNA(MATCH(_xlfn.ORG.OPENOFFICE.CURRENT(),Holidays!$G$3:$G$33,0))),"Magenta","Default"))) -> 39896 | T7: =S7+1+_xlfn.ORG.OPENOFFICE.STYLE(IF(NOT(ISNA(MATCH(_xlfn.ORG.OPENOFFICE.CURRENT(),Holidays!$E$3:$E$33,0))),"Green",IF(NOT(ISNA(MATCH(_xlfn.ORG.OPENOFFICE.CURRENT(),Holidays!$G$3:$G$33,0))),"Magenta","Default"))) -> 39897 | U7: =T7+1+_xlfn.ORG.OPENOFFICE.STYLE(IF(NOT(ISNA(MATCH(_xlfn.ORG.OPENOFFICE.CURRENT(),Holidays!$E$3:$E$33,0))),"Green",IF(NOT(ISNA(MATCH(_xlfn.ORG.OPENOFFICE.CURRENT(),Holidays!$G$3:$G$33,0))),"Magenta","Default"))) -> 39898 | V7: =U7+1+_xlfn.ORG.OPENOFFICE.STYLE(IF(NOT(ISNA(MATCH(_xlfn.ORG.OPENOFFICE.CURRENT(),Holidays!$E$3:$E$33,0))),"Green",IF(NOT(ISNA(MATCH(_xlfn.ORG.OPENOFFICE.CURRENT(),Holidays!$G$3:$G$33,0))),"Magenta","Default"))) -> 39899 | W7: =V7+1+_xlfn.ORG.OPENOFFICE.STYLE(IF(NOT(ISNA(MATCH(_xlfn.ORG.OPENOFFICE.CURRENT(),Holidays!$E$3:$E$33,0))),"Green",IF(NOT(ISNA(MATCH(_xlfn.ORG.OPENOFFICE.CURRENT(),Holidays!$G$3:$G$33,0))),"Magenta","Default"))) -> 39900 | Y7: =Holidays!$C$2 -> Important Days | Z7: =IF(NOT(ISNA(VLOOKUP(TODAY(),Holidays!$C$3:$D$33,2,0))),VLOOKUP(TODAY(),Holidays!$C$3:$D$33,2,0)&T(_xlfn.ORG.OPENOFFICE.STYLE("Yellow")),T(_xlfn.ORG.OPENOFFICE.STYLE("Default")))
A8: =IF(MONTH(A6+14)=MONTH(A6), A6+14+_xlfn.ORG.OPENOFFICE.STYLE(IF(NOT(ISNA(MATCH(_xlfn.ORG.OPENOFFICE.CURRENT(),Holidays!$E$3:$E$33,0))),"Green",IF(NOT(ISNA(MATCH(_xlfn.ORG.OPENOFFICE.CURRENT(),Holidays!$G$3:$G$33,0))),"Magenta","Default"))), ""&T(_xlfn.ORG.OPENOFFICE.STYLE("Default"))) -> 39838 | B8: =IF(MONTH(B6+14)=MONTH(B6), B6+14+_xlfn.ORG.OPENOFFICE.STYLE(IF(NOT(ISNA(MATCH(_xlfn.ORG.OPENOFFICE.CURRENT(),Holidays!$E$3:$E$33,0))),"Green",IF(NOT(ISNA(MATCH(_xlfn.ORG.OPENOFFICE.CURRENT(),Holidays!$G$3:$G$33,0))),"Magenta","Default"))), ""&T(_xlfn.ORG.OPENOFFICE.STYLE("Default"))) -> 39839 | C8: =IF(MONTH(C6+14)=MONTH(C6), C6+14+_xlfn.ORG.OPENOFFICE.STYLE(IF(NOT(ISNA(MATCH(_xlfn.ORG.OPENOFFICE.CURRENT(),Holidays!$E$3:$E$33,0))),"Green",IF(NOT(ISNA(MATCH(_xlfn.ORG.OPENOFFICE.CURRENT(),Holidays!$G$3:$G$33,0))),"Magenta","Default"))), ""&T(_xlfn.ORG.OPENOFFICE.STYLE("Default"))) -> 39840 | D8: =IF(MONTH(D6+14)=MONTH(D6), D6+14+_xlfn.ORG.OPENOFFICE.STYLE(IF(NOT(ISNA(MATCH(_xlfn.ORG.OPENOFFICE.CURRENT(),Holidays!$E$3:$E$33,0))),"Green",IF(NOT(ISNA(MATCH(_xlfn.ORG.OPENOFFICE.CURRENT(),Holidays!$G$3:$G$33,0))),"Magenta","Default"))), ""&T(_xlfn.ORG.OPENOFFICE.STYLE("Default"))) -> 39841 | E8: =IF(MONTH(E6+14)=MONTH(E6), E6+14+_xlfn.ORG.OPENOFFICE.STYLE(IF(NOT(ISNA(MATCH(_xlfn.ORG.OPENOFFICE.CURRENT(),Holidays!$E$3:$E$33,0))),"Green",IF(NOT(ISNA(MATCH(_xlfn.ORG.OPENOFFICE.CURRENT(),Holidays!$G$3:$G$33,0))),"Magenta","Default"))), ""&T(_xlfn.ORG.OPENOFFICE.STYLE("Default"))) -> 39842 | F8: =IF(MONTH(F6+14)=MONTH(F6), F6+14+_xlfn.ORG.OPENOFFICE.STYLE(IF(NOT(ISNA(MATCH(_xlfn.ORG.OPENOFFICE.CURRENT(),Holidays!$E$3:$E$33,0))),"Green",IF(NOT(ISNA(MATCH(_xlfn.ORG.OPENOFFICE.CURRENT(),Holidays!$G$3:$G$33,0))),"Magenta","Default"))), ""&T(_xlfn.ORG.OPENOFFICE.STYLE("Default"))) -> 39843 | G8: =IF(MONTH(G6+14)=MONTH(G6), G6+14+_xlfn.ORG.OPENOFFICE.STYLE(IF(NOT(ISNA(MATCH(_xlfn.ORG.OPENOFFICE.CURRENT(),Holidays!$E$3:$E$33,0))),"Green",IF(NOT(ISNA(MATCH(_xlfn.ORG.OPENOFFICE.CURRENT(),Holidays!$G$3:$G$33,0))),"Magenta","Default"))), ""&T(_xlfn.ORG.OPENOFFICE.STYLE("Default"))) -> 39844 | I8: =IF(MONTH(I6+14)=MONTH(I6), I6+14+_xlfn.ORG.OPENOFFICE.STYLE(IF(NOT(ISNA(MATCH(_xlfn.ORG.OPENOFFICE.CURRENT(),Holidays!$E$3:$E$33,0))),"Green",IF(NOT(ISNA(MATCH(_xlfn.ORG.OPENOFFICE.CURRENT(),Holidays!$G$3:$G$33,0))),"Magenta","Default"))), ""&T(_xlfn.ORG.OPENOFFICE.STYLE("Default"))) | J8: =IF(MONTH(J6+14)=MONTH(J6), J6+14+_xlfn.ORG.OPENOFFICE.STYLE(IF(NOT(ISNA(MATCH(_xlfn.ORG.OPENOFFICE.CURRENT(),Holidays!$E$3:$E$33,0))),"Green",IF(NOT(ISNA(MATCH(_xlfn.ORG.OPENOFFICE.CURRENT(),Holidays!$G$3:$G$33,0))),"Magenta","Default"))), ""&T(_xlfn.ORG.OPENOFFICE.STYLE("Default"))) | K8: =IF(MONTH(K6+14)=MONTH(K6), K6+14+_xlfn.ORG.OPENOFFICE.STYLE(IF(NOT(ISNA(MATCH(_xlfn.ORG.OPENOFFICE.CURRENT(),Holidays!$E$3:$E$33,0))),"Green",IF(NOT(ISNA(MATCH(_xlfn.ORG.OPENOFFICE.CURRENT(),Holidays!$G$3:$G$33,0))),"Magenta","Default"))), ""&T(_xlfn.ORG.OPENOFFICE.STYLE("Default"))) | L8: =IF(MONTH(L6+14)=MONTH(L6), L6+14+_xlfn.ORG.OPENOFFICE.STYLE(IF(NOT(ISNA(MATCH(_xlfn.ORG.OPENOFFICE.CURRENT(),Holidays!$E$3:$E$33,0))),"Green",IF(NOT(ISNA(MATCH(_xlfn.ORG.OPENOFFICE.CURRENT(),Holidays!$G$3:$G$33,0))),"Magenta","Default"))), ""&T(_xlfn.ORG.OPENOFFICE.STYLE("Default"))) | M8: =IF(MONTH(M6+14)=MONTH(M6), M6+14+_xlfn.ORG.OPENOFFICE.STYLE(IF(NOT(ISNA(MATCH(_xlfn.ORG.OPENOFFICE.CURRENT(),Holidays!$E$3:$E$33,0))),"Green",IF(NOT(ISNA(MATCH(_xlfn.ORG.OPENOFFICE.CURRENT(),Holidays!$G$3:$G$33,0))),"Magenta","Default"))), ""&T(_xlfn.ORG.OPENOFFICE.STYLE("Default"))) | N8: =IF(MONTH(N6+14)=MONTH(N6), N6+14+_xlfn.ORG.OPENOFFICE.STYLE(IF(NOT(ISNA(MATCH(_xlfn.ORG.OPENOFFICE.CURRENT(),Holidays!$E$3:$E$33,0))),"Green",IF(NOT(ISNA(MATCH(_xlfn.ORG.OPENOFFICE.CURRENT(),Holidays!$G$3:$G$33,0))),"Magenta","Default"))), ""&T(_xlfn.ORG.OPENOFFICE.STYLE("Default"))) | O8: =IF(MONTH(O6+14)=MONTH(O6), O6+14+_xlfn.ORG.OPENOFFICE.STYLE(IF(NOT(ISNA(MATCH(_xlfn.ORG.OPENOFFICE.CURRENT(),Holidays!$E$3:$E$33,0))),"Green",IF(NOT(ISNA(MATCH(_xlfn.ORG.OPENOFFICE.CURRENT(),Holidays!$G$3:$G$33,0))),"Magenta","Default"))), ""&T(_xlfn.ORG.OPENOFFICE.STYLE("Default"))) | Q8: =IF(MONTH(Q6+14)=MONTH(Q6), Q6+14+_xlfn.ORG.OPENOFFICE.STYLE(IF(NOT(ISNA(MATCH(_xlfn.ORG.OPENOFFICE.CURRENT(),Holidays!$E$3:$E$33,0))),"Green",IF(NOT(ISNA(MATCH(_xlfn.ORG.OPENOFFICE.CURRENT(),Holidays!$G$3:$G$33,0))),"Magenta","Default"))), ""&T(_xlfn.ORG.OPENOFFICE.STYLE("Default"))) -> 39901 | R8: =IF(MONTH(R6+14)=MONTH(R6), R6+14+_xlfn.ORG.OPENOFFICE.STYLE(IF(NOT(ISNA(MATCH(_xlfn.ORG.OPENOFFICE.CURRENT(),Holidays!$E$3:$E$33,0))),"Green",IF(NOT(ISNA(MATCH(_xlfn.ORG.OPENOFFICE.CURRENT(),Holidays!$G$3:$G$33,0))),"Magenta","Default"))), ""&T(_xlfn.ORG.OPENOFFICE.STYLE("Default"))) -> 39902 | S8: =IF(MONTH(S6+14)=MONTH(S6), S6+14+_xlfn.ORG.OPENOFFICE.STYLE(IF(NOT(ISNA(MATCH(_xlfn.ORG.OPENOFFICE.CURRENT(),Holidays!$E$3:$E$33,0))),"Green",IF(NOT(ISNA(MATCH(_xlfn.ORG.OPENOFFICE.CURRENT(),Holidays!$G$3:$G$33,0))),"Magenta","Default"))), ""&T(_xlfn.ORG.OPENOFFICE.STYLE("Default"))) -> 39903 | T8: =IF(MONTH(T6+14)=MONTH(T6), T6+14+_xlfn.ORG.OPENOFFICE.STYLE(IF(NOT(ISNA(MATCH(_xlfn.ORG.OPENOFFICE.CURRENT(),Holidays!$E$3:$E$33,0))),"Green",IF(NOT(ISNA(MATCH(_xlfn.ORG.OPENOFFICE.CURRENT(),Holidays!$G$3:$G$33,0))),"Magenta","Default"))), ""&T(_xlfn.ORG.OPENOFFICE.STYLE("Default"))) | U8: =IF(MONTH(U6+14)=MONTH(U6), U6+14+_xlfn.ORG.OPENOFFICE.STYLE(IF(NOT(ISNA(MATCH(_xlfn.ORG.OPENOFFICE.CURRENT(),Holidays!$E$3:$E$33,0))),"Green",IF(NOT(ISNA(MATCH(_xlfn.ORG.OPENOFFICE.CURRENT(),Holidays!$G$3:$G$33,0))),"Magenta","Default"))), ""&T(_xlfn.ORG.OPENOFFICE.STYLE("Default"))) | V8: =IF(MONTH(V6+14)=MONTH(V6), V6+14+_xlfn.ORG.OPENOFFICE.STYLE(IF(NOT(ISNA(MATCH(_xlfn.ORG.OPENOFFICE.CURRENT(),Holidays!$E$3:$E$33,0))),"Green",IF(NOT(ISNA(MATCH(_xlfn.ORG.OPENOFFICE.CURRENT(),Holidays!$G$3:$G$33,0))),"Magenta","Default"))), ""&T(_xlfn.ORG.OPENOFFICE.STYLE("Default"))) | W8: =IF(MONTH(W6+14)=MONTH(W6), W6+14+_xlfn.ORG.OPENOFFICE.STYLE(IF(NOT(ISNA(MATCH(_xlfn.ORG.OPENOFFICE.CURRENT(),Holidays!$E$3:$E$33,0))),"Green",IF(NOT(ISNA(MATCH(_xlfn.ORG.OPENOFFICE.CURRENT(),Holidays!$G$3:$G$33,0))),"Magenta","Default"))), ""&T(_xlfn.ORG.OPENOFFICE.STYLE("Default")))
A9: =IF(MONTH(A7+14)=MONTH(A7), A7+14+_xlfn.ORG.OPENOFFICE.STYLE(IF(NOT(ISNA(MATCH(_xlfn.ORG.OPENOFFICE.CURRENT(),Holidays!$E$3:$E$33,0))),"Green",IF(NOT(ISNA(MATCH(_xlfn.ORG.OPENOFFICE.CURRENT(),Holidays!$G$3:$G$33,0))),"Magenta","Default"))), ""&T(_xlfn.ORG.OPENOFFICE.STYLE("Default"))) | B9: =IF(MONTH(B7+14)=MONTH(B7), B7+14+_xlfn.ORG.OPENOFFICE.STYLE(IF(NOT(ISNA(MATCH(_xlfn.ORG.OPENOFFICE.CURRENT(),Holidays!$E$3:$E$33,0))),"Green",IF(NOT(ISNA(MATCH(_xlfn.ORG.OPENOFFICE.CURRENT(),Holidays!$G$3:$G$33,0))),"Magenta","Default"))), ""&T(_xlfn.ORG.OPENOFFICE.STYLE("Default"))) | C9: =IF(MONTH(C7+14)=MONTH(C7), C7+14+_xlfn.ORG.OPENOFFICE.STYLE(IF(NOT(ISNA(MATCH(_xlfn.ORG.OPENOFFICE.CURRENT(),Holidays!$E$3:$E$33,0))),"Green",IF(NOT(ISNA(MATCH(_xlfn.ORG.OPENOFFICE.CURRENT(),Holidays!$G$3:$G$33,0))),"Magenta","Default"))), ""&T(_xlfn.ORG.OPENOFFICE.STYLE("Default"))) | D9: =IF(MONTH(D7+14)=MONTH(D7), D7+14+_xlfn.ORG.OPENOFFICE.STYLE(IF(NOT(ISNA(MATCH(_xlfn.ORG.OPENOFFICE.CURRENT(),Holidays!$E$3:$E$33,0))),"Green",IF(NOT(ISNA(MATCH(_xlfn.ORG.OPENOFFICE.CURRENT(),Holidays!$G$3:$G$33,0))),"Magenta","Default"))), ""&T(_xlfn.ORG.OPENOFFICE.STYLE("Default"))) | E9: =IF(MONTH(E7+14)=MONTH(E7), E7+14+_xlfn.ORG.OPENOFFICE.STYLE(IF(NOT(ISNA(MATCH(_xlfn.ORG.OPENOFFICE.CURRENT(),Holidays!$E$3:$E$33,0))),"Green",IF(NOT(ISNA(MATCH(_xlfn.ORG.OPENOFFICE.CURRENT(),Holidays!$G$3:$G$33,0))),"Magenta","Default"))), ""&T(_xlfn.ORG.OPENOFFICE.STYLE("Default"))) | F9: =IF(MONTH(F7+14)=MONTH(F7), F7+14+_xlfn.ORG.OPENOFFICE.STYLE(IF(NOT(ISNA(MATCH(_xlfn.ORG.OPENOFFICE.CURRENT(),Holidays!$E$3:$E$33,0))),"Green",IF(NOT(ISNA(MATCH(_xlfn.ORG.OPENOFFICE.CURRENT(),Holidays!$G$3:$G$33,0))),"Magenta","Default"))), ""&T(_xlfn.ORG.OPENOFFICE.STYLE("Default"))) | G9: =IF(MONTH(G7+14)=MONTH(G7), G7+14+_xlfn.ORG.OPENOFFICE.STYLE(IF(NOT(ISNA(MATCH(_xlfn.ORG.OPENOFFICE.CURRENT(),Holidays!$E$3:$E$33,0))),"Green",IF(NOT(ISNA(MATCH(_xlfn.ORG.OPENOFFICE.CURRENT(),Holidays!$G$3:$G$33,0))),"Magenta","Default"))), ""&T(_xlfn.ORG.OPENOFFICE.STYLE("Default"))) | I9: =IF(MONTH(I7+14)=MONTH(I7), I7+14+_xlfn.ORG.OPENOFFICE.STYLE(IF(NOT(ISNA(MATCH(_xlfn.ORG.OPENOFFICE.CURRENT(),Holidays!$E$3:$E$33,0))),"Green",IF(NOT(ISNA(MATCH(_xlfn.ORG.OPENOFFICE.CURRENT(),Holidays!$G$3:$G$33,0))),"Magenta","Default"))), ""&T(_xlfn.ORG.OPENOFFICE.STYLE("Default"))) | J9: =IF(MONTH(J7+14)=MONTH(J7), J7+14+_xlfn.ORG.OPENOFFICE.STYLE(IF(NOT(ISNA(MATCH(_xlfn.ORG.OPENOFFICE.CURRENT(),Holidays!$E$3:$E$33,0))),"Green",IF(NOT(ISNA(MATCH(_xlfn.ORG.OPENOFFICE.CURRENT(),Holidays!$G$3:$G$33,0))),"Magenta","Default"))), ""&T(_xlfn.ORG.OPENOFFICE.STYLE("Default"))) | K9: =IF(MONTH(K7+14)=MONTH(K7), K7+14+_xlfn.ORG.OPENOFFICE.STYLE(IF(NOT(ISNA(MATCH(_xlfn.ORG.OPENOFFICE.CURRENT(),Holidays!$E$3:$E$33,0))),"Green",IF(NOT(ISNA(MATCH(_xlfn.ORG.OPENOFFICE.CURRENT(),Holidays!$G$3:$G$33,0))),"Magenta","Default"))), ""&T(_xlfn.ORG.OPENOFFICE.STYLE("Default"))) | L9: =IF(MONTH(L7+14)=MONTH(L7), L7+14+_xlfn.ORG.OPENOFFICE.STYLE(IF(NOT(ISNA(MATCH(_xlfn.ORG.OPENOFFICE.CURRENT(),Holidays!$E$3:$E$33,0))),"Green",IF(NOT(ISNA(MATCH(_xlfn.ORG.OPENOFFICE.CURRENT(),Holidays!$G$3:$G$33,0))),"Magenta","Default"))), ""&T(_xlfn.ORG.OPENOFFICE.STYLE("Default"))) | M9: =IF(MONTH(M7+14)=MONTH(M7), M7+14+_xlfn.ORG.OPENOFFICE.STYLE(IF(NOT(ISNA(MATCH(_xlfn.ORG.OPENOFFICE.CURRENT(),Holidays!$E$3:$E$33,0))),"Green",IF(NOT(ISNA(MATCH(_xlfn.ORG.OPENOFFICE.CURRENT(),Holidays!$G$3:$G$33,0))),"Magenta","Default"))), ""&T(_xlfn.ORG.OPENOFFICE.STYLE("Default"))) | N9: =IF(MONTH(N7+14)=MONTH(N7), N7+14+_xlfn.ORG.OPENOFFICE.STYLE(IF(NOT(ISNA(MATCH(_xlfn.ORG.OPENOFFICE.CURRENT(),Holidays!$E$3:$E$33,0))),"Green",IF(NOT(ISNA(MATCH(_xlfn.ORG.OPENOFFICE.CURRENT(),Holidays!$G$3:$G$33,0))),"Magenta","Default"))), ""&T(_xlfn.ORG.OPENOFFICE.STYLE("Default"))) | O9: =IF(MONTH(O7+14)=MONTH(O7), O7+14+_xlfn.ORG.OPENOFFICE.STYLE(IF(NOT(ISNA(MATCH(_xlfn.ORG.OPENOFFICE.CURRENT(),Holidays!$E$3:$E$33,0))),"Green",IF(NOT(ISNA(MATCH(_xlfn.ORG.OPENOFFICE.CURRENT(),Holidays!$G$3:$G$33,0))),"Magenta","Default"))), ""&T(_xlfn.ORG.OPENOFFICE.STYLE("Default"))) | Q9: =IF(MONTH(Q7+14)=MONTH(Q7), Q7+14+_xlfn.ORG.OPENOFFICE.STYLE(IF(NOT(ISNA(MATCH(_xlfn.ORG.OPENOFFICE.CURRENT(),Holidays!$E$3:$E$33,0))),"Green",IF(NOT(ISNA(MATCH(_xlfn.ORG.OPENOFFICE.CURRENT(),Holidays!$G$3:$G$33,0))),"Magenta","Default"))), ""&T(_xlfn.ORG.OPENOFFICE.STYLE("Default"))) | R9: =IF(MONTH(R7+14)=MONTH(R7), R7+14+_xlfn.ORG.OPENOFFICE.STYLE(IF(NOT(ISNA(MATCH(_xlfn.ORG.OPENOFFICE.CURRENT(),Holidays!$E$3:$E$33,0))),"Green",IF(NOT(ISNA(MATCH(_xlfn.ORG.OPENOFFICE.CURRENT(),Holidays!$G$3:$G$33,0))),"Magenta","Default"))), ""&T(_xlfn.ORG.OPENOFFICE.STYLE("Default"))) | S9: =IF(MONTH(S7+14)=MONTH(S7), S7+14+_xlfn.ORG.OPENOFFICE.STYLE(IF(NOT(ISNA(MATCH(_xlfn.ORG.OPENOFFICE.CURRENT(),Holidays!$E$3:$E$33,0))),"Green",IF(NOT(ISNA(MATCH(_xlfn.ORG.OPENOFFICE.CURRENT(),Holidays!$G$3:$G$33,0))),"Magenta","Default"))), ""&T(_xlfn.ORG.OPENOFFICE.STYLE("Default"))) | T9: =IF(MONTH(T7+14)=MONTH(T7), T7+14+_xlfn.ORG.OPENOFFICE.STYLE(IF(NOT(ISNA(MATCH(_xlfn.ORG.OPENOFFICE.CURRENT(),Holidays!$E$3:$E$33,0))),"Green",IF(NOT(ISNA(MATCH(_xlfn.ORG.OPENOFFICE.CURRENT(),Holidays!$G$3:$G$33,0))),"Magenta","Default"))), ""&T(_xlfn.ORG.OPENOFFICE.STYLE("Default"))) | U9: =IF(MONTH(U7+14)=MONTH(U7), U7+14+_xlfn.ORG.OPENOFFICE.STYLE(IF(NOT(ISNA(MATCH(_xlfn.ORG.OPENOFFICE.CURRENT(),Holidays!$E$3:$E$33,0))),"Green",IF(NOT(ISNA(MATCH(_xlfn.ORG.OPENOFFICE.CURRENT(),Holidays!$G$3:$G$33,0))),"Magenta","Default"))), ""&T(_xlfn.ORG.OPENOFFICE.STYLE("Default"))) | V9: =IF(MONTH(V7+14)=MONTH(V7), V7+14+_xlfn.ORG.OPENOFFICE.STYLE(IF(NOT(ISNA(MATCH(_xlfn.ORG.OPENOFFICE.CURRENT(),Holidays!$E$3:$E$33,0))),"Green",IF(NOT(ISNA(MATCH(_xlfn.ORG.OPENOFFICE.CURRENT(),Holidays!$G$3:$G$33,0))),"Magenta","Default"))), ""&T(_xlfn.ORG.OPENOFFICE.STYLE("Default"))) | W9: =IF(MONTH(W7+14)=MONTH(W7), W7+14+_xlfn.ORG.OPENOFFICE.STYLE(IF(NOT(ISNA(MATCH(_xlfn.ORG.OPENOFFICE.CURRENT(),Holidays!$E$3:$E$33,0))),"Green",IF(NOT(ISNA(MATCH(_xlfn.ORG.OPENOFFICE.CURRENT(),Holidays!$G$3:$G$33,0))),"Magenta","Default"))), ""&T(_xlfn.ORG.OPENOFFICE.STYLE("Default"))) | Y9: =Holidays!$E$2 -> Holidays | Z9: =IF(NOT(ISNA(VLOOKUP(TODAY(),Holidays!$E$3:$F$33,2,0))),VLOOKUP(TODAY(),Holidays!$E$3:$F$33,2,0)&T(_xlfn.ORG.OPENOFFICE.STYLE("Green")),T(_xlfn.ORG.OPENOFFICE.STYLE("Default")))
A10: =DATE($A$1,4,1) -> 39904 | I10: =DATE($A$1,5,1) -> 39934 | Q10: =DATE($A$1,6,1) -> 39965
A11: Sun | B11: Mon | C11: Tue | D11: Wed | E11: Thu | F11: Fri | G11: Sat | I11: Sun | J11: Mon | K11: Tue | L11: Wed | M11: Thu | N11: Fri | O11: Sat | Q11: Sun | R11: Mon | S11: Tue | T11: Wed | U11: Thu | V11: Fri | W11: Sat | Y11: =Holidays!$G$2 -> Events | Z11: =IF(NOT(ISNA(VLOOKUP(TODAY(),Holidays!$G$3:$H$33,2,0))),VLOOKUP(TODAY(),Holidays!$G$3:$H$33,2,0)&T(_xlfn.ORG.OPENOFFICE.STYLE("Magenta")),T(_xlfn.ORG.OPENOFFICE.STYLE("Default")))
A12: =IF(WEEKDAY(A10)=1,A10+_xlfn.ORG.OPENOFFICE.STYLE(IF(NOT(ISNA(MATCH(_xlfn.ORG.OPENOFFICE.CURRENT(),Holidays!$E$3:$E$33,0))),"Green",IF(NOT(ISNA(MATCH(_xlfn.ORG.OPENOFFICE.CURRENT(),Holidays!$G$3:$G$33,0))),"Magenta","Default"))),""&T(_xlfn.ORG.OPENOFFICE.STYLE("Default"))) | B12: =IF(WEEKDAY(A10)<=2,A10+2-WEEKDAY(A10)+_xlfn.ORG.OPENOFFICE.STYLE(IF(NOT(ISNA(MATCH(_xlfn.ORG.OPENOFFICE.CURRENT(),Holidays!$E$3:$E$33,0))),"Green",IF(NOT(ISNA(MATCH(_xlfn.ORG.OPENOFFICE.CURRENT(),Holidays!$G$3:$G$33,0))),"Magenta","Default"))),""&T(_xlfn.ORG.OPENOFFICE.STYLE("Default"))) | C12: =IF(WEEKDAY(A10)<=3,A10+3-WEEKDAY(A10)+_xlfn.ORG.OPENOFFICE.STYLE(IF(NOT(ISNA(MATCH(_xlfn.ORG.OPENOFFICE.CURRENT(),Holidays!$E$3:$E$33,0))),"Green",IF(NOT(ISNA(MATCH(_xlfn.ORG.OPENOFFICE.CURRENT(),Holidays!$G$3:$G$33,0))),"Magenta","Default"))),""&T(_xlfn.ORG.OPENOFFICE.STYLE("Default"))) | D12: =IF(WEEKDAY(A10)<=4,A10+4-WEEKDAY(A10)+_xlfn.ORG.OPENOFFICE.STYLE(IF(NOT(ISNA(MATCH(_xlfn.ORG.OPENOFFICE.CURRENT(),Holidays!$E$3:$E$33,0))),"Green",IF(NOT(ISNA(MATCH(_xlfn.ORG.OPENOFFICE.CURRENT(),Holidays!$G$3:$G$33,0))),"Magenta","Default"))),""&T(_xlfn.ORG.OPENOFFICE.STYLE("Default"))) -> 39904 | E12: =IF(WEEKDAY(A10)<=5,A10+5-WEEKDAY(A10)+_xlfn.ORG.OPENOFFICE.STYLE(IF(NOT(ISNA(MATCH(_xlfn.ORG.OPENOFFICE.CURRENT(),Holidays!$E$3:$E$33,0))),"Green",IF(NOT(ISNA(MATCH(_xlfn.ORG.OPENOFFICE.CURRENT(),Holidays!$G$3:$G$33,0))),"Magenta","Default"))),""&T(_xlfn.ORG.OPENOFFICE.STYLE("Default"))) -> 39905 | F12: =IF(WEEKDAY(A10)<=6,A10+6-WEEKDAY(A10)+_xlfn.ORG.OPENOFFICE.STYLE(IF(NOT(ISNA(MATCH(_xlfn.ORG.OPENOFFICE.CURRENT(),Holidays!$E$3:$E$33,0))),"Green",IF(NOT(ISNA(MATCH(_xlfn.ORG.OPENOFFICE.CURRENT(),Holidays!$G$3:$G$33,0))),"Magenta","Default"))),""&T(_xlfn.ORG.OPENOFFICE.STYLE("Default"))) -> 39906 | G12: =IF(WEEKDAY(A10)<=7,A10+7-WEEKDAY(A10)+_xlfn.ORG.OPENOFFICE.STYLE(IF(NOT(ISNA(MATCH(_xlfn.ORG.OPENOFFICE.CURRENT(),Holidays!$E$3:$E$33,0))),"Green",IF(NOT(ISNA(MATCH(_xlfn.ORG.OPENOFFICE.CURRENT(),Holidays!$G$3:$G$33,0))),"Magenta","Default"))),""&T(_xlfn.ORG.OPENOFFICE.STYLE("Default"))) -> 39907 | I12: =IF(WEEKDAY(I10)=1,I10+_xlfn.ORG.OPENOFFICE.STYLE(IF(NOT(ISNA(MATCH(_xlfn.ORG.OPENOFFICE.CURRENT(),Holidays!$E$3:$E$33,0))),"Green",IF(NOT(ISNA(MATCH(_xlfn.ORG.OPENOFFICE.CURRENT(),Holidays!$G$3:$G$33,0))),"Magenta","Default"))),""&T(_xlfn.ORG.OPENOFFICE.STYLE("Default"))) | J12: =IF(WEEKDAY(I10)<=2,I10+2-WEEKDAY(I10)+_xlfn.ORG.OPENOFFICE.STYLE(IF(NOT(ISNA(MATCH(_xlfn.ORG.OPENOFFICE.CURRENT(),Holidays!$E$3:$E$33,0))),"Green",IF(NOT(ISNA(MATCH(_xlfn.ORG.OPENOFFICE.CURRENT(),Holidays!$G$3:$G$33,0))),"Magenta","Default"))),""&T(_xlfn.ORG.OPENOFFICE.STYLE("Default"))) | K12: =IF(WEEKDAY(I10)<=3,I10+3-WEEKDAY(I10)+_xlfn.ORG.OPENOFFICE.STYLE(IF(NOT(ISNA(MATCH(_xlfn.ORG.OPENOFFICE.CURRENT(),Holidays!$E$3:$E$33,0))),"Green",IF(NOT(ISNA(MATCH(_xlfn.ORG.OPENOFFICE.CURRENT(),Holidays!$G$3:$G$33,0))),"Magenta","Default"))),""&T(_xlfn.ORG.OPENOFFICE.STYLE("Default"))) | L12: =IF(WEEKDAY(I10)<=4,I10+4-WEEKDAY(I10)+_xlfn.ORG.OPENOFFICE.STYLE(IF(NOT(ISNA(MATCH(_xlfn.ORG.OPENOFFICE.CURRENT(),Holidays!$E$3:$E$33,0))),"Green",IF(NOT(ISNA(MATCH(_xlfn.ORG.OPENOFFICE.CURRENT(),Holidays!$G$3:$G$33,0))),"Magenta","Default"))),""&T(_xlfn.ORG.OPENOFFICE.STYLE("Default"))) | M12: =IF(WEEKDAY(I10)<=5,I10+5-WEEKDAY(I10)+_xlfn.ORG.OPENOFFICE.STYLE(IF(NOT(ISNA(MATCH(_xlfn.ORG.OPENOFFICE.CURRENT(),Holidays!$E$3:$E$33,0))),"Green",IF(NOT(ISNA(MATCH(_xlfn.ORG.OPENOFFICE.CURRENT(),Holidays!$G$3:$G$33,0))),"Magenta","Default"))),""&T(_xlfn.ORG.OPENOFFICE.STYLE("Default"))) | N12: =IF(WEEKDAY(I10)<=6,I10+6-WEEKDAY(I10)+_xlfn.ORG.OPENOFFICE.STYLE(IF(NOT(ISNA(MATCH(_xlfn.ORG.OPENOFFICE.CURRENT(),Holidays!$E$3:$E$33,0))),"Green",IF(NOT(ISNA(MATCH(_xlfn.ORG.OPENOFFICE.CURRENT(),Holidays!$G$3:$G$33,0))),"Magenta","Default"))),""&T(_xlfn.ORG.OPENOFFICE.STYLE("Default"))) -> 39934 | O12: =IF(WEEKDAY(I10)<=7,I10+7-WEEKDAY(I10)+_xlfn.ORG.OPENOFFICE.STYLE(IF(NOT(ISNA(MATCH(_xlfn.ORG.OPENOFFICE.CURRENT(),Holidays!$E$3:$E$33,0))),"Green",IF(NOT(ISNA(MATCH(_xlfn.ORG.OPENOFFICE.CURRENT(),Holidays!$G$3:$G$33,0))),"Magenta","Default"))),""&T(_xlfn.ORG.OPENOFFICE.STYLE("Default"))) -> 39935 | Q12: =IF(WEEKDAY(Q10)=1,Q10+_xlfn.ORG.OPENOFFICE.STYLE(IF(NOT(ISNA(MATCH(_xlfn.ORG.OPENOFFICE.CURRENT(),Holidays!$E$3:$E$33,0))),"Green",IF(NOT(ISNA(MATCH(_xlfn.ORG.OPENOFFICE.CURRENT(),Holidays!$G$3:$G$33,0))),"Magenta","Default"))),""&T(_xlfn.ORG.OPENOFFICE.STYLE("Default"))) | R12: =IF(WEEKDAY(Q10)<=2,Q10+2-WEEKDAY(Q10)+_xlfn.ORG.OPENOFFICE.STYLE(IF(NOT(ISNA(MATCH(_xlfn.ORG.OPENOFFICE.CURRENT(),Holidays!$E$3:$E$33,0))),"Green",IF(NOT(ISNA(MATCH(_xlfn.ORG.OPENOFFICE.CURRENT(),Holidays!$G$3:$G$33,0))),"Magenta","Default"))),""&T(_xlfn.ORG.OPENOFFICE.STYLE("Default"))) -> 39965 | S12: =IF(WEEKDAY(Q10)<=3,Q10+3-WEEKDAY(Q10)+_xlfn.ORG.OPENOFFICE.STYLE(IF(NOT(ISNA(MATCH(_xlfn.ORG.OPENOFFICE.CURRENT(),Holidays!$E$3:$E$33,0))),"Green",IF(NOT(ISNA(MATCH(_xlfn.ORG.OPENOFFICE.CURRENT(),Holidays!$G$3:$G$33,0))),"Magenta","Default"))),""&T(_xlfn.ORG.OPENOFFICE.STYLE("Default"))) -> 39966 | T12: =IF(WEEKDAY(Q10)<=4,Q10+4-WEEKDAY(Q10)+_xlfn.ORG.OPENOFFICE.STYLE(IF(NOT(ISNA(MATCH(_xlfn.ORG.OPENOFFICE.CURRENT(),Holidays!$E$3:$E$33,0))),"Green",IF(NOT(ISNA(MATCH(_xlfn.ORG.OPENOFFICE.CURRENT(),Holidays!$G$3:$G$33,0))),"Magenta","Default"))),""&T(_xlfn.ORG.OPENOFFICE.STYLE("Default"))) -> 39967 | U12: =IF(WEEKDAY(Q10)<=5,Q10+5-WEEKDAY(Q10)+_xlfn.ORG.OPENOFFICE.STYLE(IF(NOT(ISNA(MATCH(_xlfn.ORG.OPENOFFICE.CURRENT(),Holidays!$E$3:$E$33,0))),"Green",IF(NOT(ISNA(MATCH(_xlfn.ORG.OPENOFFICE.CURRENT(),Holidays!$G$3:$G$33,0))),"Magenta","Default"))),""&T(_xlfn.ORG.OPENOFFICE.STYLE("Default"))) -> 39968 | V12: =IF(WEEKDAY(Q10)<=6,Q10+6-WEEKDAY(Q10)+_xlfn.ORG.OPENOFFICE.STYLE(IF(NOT(ISNA(MATCH(_xlfn.ORG.OPENOFFICE.CURRENT(),Holidays!$E$3:$E$33,0))),"Green",IF(NOT(ISNA(MATCH(_xlfn.ORG.OPENOFFICE.CURRENT(),Holidays!$G$3:$G$33,0))),"Magenta","Default"))),""&T(_xlfn.ORG.OPENOFFICE.STYLE("Default"))) -> 39969 | W12: =IF(WEEKDAY(Q10)<=7,Q10+7-WEEKDAY(Q10)+_xlfn.ORG.OPENOFFICE.STYLE(IF(NOT(ISNA(MATCH(_xlfn.ORG.OPENOFFICE.CURRENT(),Holidays!$E$3:$E$33,0))),"Green",IF(NOT(ISNA(MATCH(_xlfn.ORG.OPENOFFICE.CURRENT(),Holidays!$G$3:$G$33,0))),"Magenta","Default"))),""&T(_xlfn.ORG.OPENOFFICE.STYLE("Default"))) -> 39970
A13: =G12+1+_xlfn.ORG.OPENOFFICE.STYLE(IF(NOT(ISNA(MATCH(_xlfn.ORG.OPENOFFICE.CURRENT(),Holidays!$E$3:$E$33,0))),"Green",IF(NOT(ISNA(MATCH(_xlfn.ORG.OPENOFFICE.CURRENT(),Holidays!$G$3:$G$33,0))),"Magenta","Default"))) -> 39908 | B13: =A13+1+_xlfn.ORG.OPENOFFICE.STYLE(IF(NOT(ISNA(MATCH(_xlfn.ORG.OPENOFFICE.CURRENT(),Holidays!$E$3:$E$33,0))),"Green",IF(NOT(ISNA(MATCH(_xlfn.ORG.OPENOFFICE.CURRENT(),Holidays!$G$3:$G$33,0))),"Magenta","Default"))) -> 39909 | C13: =B13+1+_xlfn.ORG.OPENOFFICE.STYLE(IF(NOT(ISNA(MATCH(_xlfn.ORG.OPENOFFICE.CURRENT(),Holidays!$E$3:$E$33,0))),"Green",IF(NOT(ISNA(MATCH(_xlfn.ORG.OPENOFFICE.CURRENT(),Holidays!$G$3:$G$33,0))),"Magenta","Default"))) -> 39910 | D13: =C13+1+_xlfn.ORG.OPENOFFICE.STYLE(IF(NOT(ISNA(MATCH(_xlfn.ORG.OPENOFFICE.CURRENT(),Holidays!$E$3:$E$33,0))),"Green",IF(NOT(ISNA(MATCH(_xlfn.ORG.OPENOFFICE.CURRENT(),Holidays!$G$3:$G$33,0))),"Magenta","Default"))) -> 39911 | E13: =D13+1+_xlfn.ORG.OPENOFFICE.STYLE(IF(NOT(ISNA(MATCH(_xlfn.ORG.OPENOFFICE.CURRENT(),Holidays!$E$3:$E$33,0))),"Green",IF(NOT(ISNA(MATCH(_xlfn.ORG.OPENOFFICE.CURRENT(),Holidays!$G$3:$G$33,0))),"Magenta","Default"))) -> 39912 | F13: =E13+1+_xlfn.ORG.OPENOFFICE.STYLE(IF(NOT(ISNA(MATCH(_xlfn.ORG.OPENOFFICE.CURRENT(),Holidays!$E$3:$E$33,0))),"Green",IF(NOT(ISNA(MATCH(_xlfn.ORG.OPENOFFICE.CURRENT(),Holidays!$G$3:$G$33,0))),"Magenta","Default"))) -> 39913 | G13: =F13+1+_xlfn.ORG.OPENOFFICE.STYLE(IF(NOT(ISNA(MATCH(_xlfn.ORG.OPENOFFICE.CURRENT(),Holidays!$E$3:$E$33,0))),"Green",IF(NOT(ISNA(MATCH(_xlfn.ORG.OPENOFFICE.CURRENT(),Holidays!$G$3:$G$33,0))),"Magenta","Default"))) -> 39914 | I13: =O12+1+_xlfn.ORG.OPENOFFICE.STYLE(IF(NOT(ISNA(MATCH(_xlfn.ORG.OPENOFFICE.CURRENT(),Holidays!$E$3:$E$33,0))),"Green",IF(NOT(ISNA(MATCH(_xlfn.ORG.OPENOFFICE.CURRENT(),Holidays!$G$3:$G$33,0))),"Magenta","Default"))) -> 39936 | J13: =I13+1+_xlfn.ORG.OPENOFFICE.STYLE(IF(NOT(ISNA(MATCH(_xlfn.ORG.OPENOFFICE.CURRENT(),Holidays!$E$3:$E$33,0))),"Green",IF(NOT(ISNA(MATCH(_xlfn.ORG.OPENOFFICE.CURRENT(),Holidays!$G$3:$G$33,0))),"Magenta","Default"))) -> 39937 | K13: =J13+1+_xlfn.ORG.OPENOFFICE.STYLE(IF(NOT(ISNA(MATCH(_xlfn.ORG.OPENOFFICE.CURRENT(),Holidays!$E$3:$E$33,0))),"Green",IF(NOT(ISNA(MATCH(_xlfn.ORG.OPENOFFICE.CURRENT(),Holidays!$G$3:$G$33,0))),"Magenta","Default"))) -> 39938 | L13: =K13+1+_xlfn.ORG.OPENOFFICE.STYLE(IF(NOT(ISNA(MATCH(_xlfn.ORG.OPENOFFICE.CURRENT(),Holidays!$E$3:$E$33,0))),"Green",IF(NOT(ISNA(MATCH(_xlfn.ORG.OPENOFFICE.CURRENT(),Holidays!$G$3:$G$33,0))),"Magenta","Default"))) -> 39939 | M13: =L13+1+_xlfn.ORG.OPENOFFICE.STYLE(IF(NOT(ISNA(MATCH(_xlfn.ORG.OPENOFFICE.CURRENT(),Holidays!$E$3:$E$33,0))),"Green",IF(NOT(ISNA(MATCH(_xlfn.ORG.OPENOFFICE.CURRENT(),Holidays!$G$3:$G$33,0))),"Magenta","Default"))) -> 39940 | N13: =M13+1+_xlfn.ORG.OPENOFFICE.STYLE(IF(NOT(ISNA(MATCH(_xlfn.ORG.OPENOFFICE.CURRENT(),Holidays!$E$3:$E$33,0))),"Green",IF(NOT(ISNA(MATCH(_xlfn.ORG.OPENOFFICE.CURRENT(),Holidays!$G$3:$G$33,0))),"Magenta","Default"))) -> 39941 | O13: =N13+1+_xlfn.ORG.OPENOFFICE.STYLE(IF(NOT(ISNA(MATCH(_xlfn.ORG.OPENOFFICE.CURRENT(),Holidays!$E$3:$E$33,0))),"Green",IF(NOT(ISNA(MATCH(_xlfn.ORG.OPENOFFICE.CURRENT(),Holidays!$G$3:$G$33,0))),"Magenta","Default"))) -> 39942 | Q13: =W12+1+_xlfn.ORG.OPENOFFICE.STYLE(IF(NOT(ISNA(MATCH(_xlfn.ORG.OPENOFFICE.CURRENT(),Holidays!$E$3:$E$33,0))),"Green",IF(NOT(ISNA(MATCH(_xlfn.ORG.OPENOFFICE.CURRENT(),Holidays!$G$3:$G$33,0))),"Magenta","Default"))) -> 39971 | R13: =Q13+1+_xlfn.ORG.OPENOFFICE.STYLE(IF(NOT(ISNA(MATCH(_xlfn.ORG.OPENOFFICE.CURRENT(),Holidays!$E$3:$E$33,0))),"Green",IF(NOT(ISNA(MATCH(_xlfn.ORG.OPENOFFICE.CURRENT(),Holidays!$G$3:$G$33,0))),"Magenta","Default"))) -> 39972 | S13: =R13+1+_xlfn.ORG.OPENOFFICE.STYLE(IF(NOT(ISNA(MATCH(_xlfn.ORG.OPENOFFICE.CURRENT(),Holidays!$E$3:$E$33,0))),"Green",IF(NOT(ISNA(MATCH(_xlfn.ORG.OPENOFFICE.CURRENT(),Holidays!$G$3:$G$33,0))),"Magenta","Default"))) -> 39973 | T13: =S13+1+_xlfn.ORG.OPENOFFICE.STYLE(IF(NOT(ISNA(MATCH(_xlfn.ORG.OPENOFFICE.CURRENT(),Holidays!$E$3:$E$33,0))),"Green",IF(NOT(ISNA(MATCH(_xlfn.ORG.OPENOFFICE.CURRENT(),Holidays!$G$3:$G$33,0))),"Magenta","Default"))) -> 39974 | U13: =T13+1+_xlfn.ORG.OPENOFFICE.STYLE(IF(NOT(ISNA(MATCH(_xlfn.ORG.OPENOFFICE.CURRENT(),Holidays!$E$3:$E$33,0))),"Green",IF(NOT(ISNA(MATCH(_xlfn.ORG.OPENOFFICE.CURRENT(),Holidays!$G$3:$G$33,0))),"Magenta","Default"))) -> 39975 | V13: =U13+1+_xlfn.ORG.OPENOFFICE.STYLE(IF(NOT(ISNA(MATCH(_xlfn.ORG.OPENOFFICE.CURRENT(),Holidays!$E$3:$E$33,0))),"Green",IF(NOT(ISNA(MATCH(_xlfn.ORG.OPENOFFICE.CURRENT(),Holidays!$G$3:$G$33,0))),"Magenta","Default"))) -> 39976 | W13: =V13+1+_xlfn.ORG.OPENOFFICE.STYLE(IF(NOT(ISNA(MATCH(_xlfn.ORG.OPENOFFICE.CURRENT(),Holidays!$E$3:$E$33,0))),"Green",IF(NOT(ISNA(MATCH(_xlfn.ORG.OPENOFFICE.CURRENT(),Holidays!$G$3:$G$33,0))),"Magenta","Default"))) -> 39977
A14: =G13+1+_xlfn.ORG.OPENOFFICE.STYLE(IF(NOT(ISNA(MATCH(_xlfn.ORG.OPENOFFICE.CURRENT(),Holidays!$E$3:$E$33,0))),"Green",IF(NOT(ISNA(MATCH(_xlfn.ORG.OPENOFFICE.CURRENT(),Holidays!$G$3:$G$33,0))),"Magenta","Default"))) -> 39915 | B14: =A14+1+_xlfn.ORG.OPENOFFICE.STYLE(IF(NOT(ISNA(MATCH(_xlfn.ORG.OPENOFFICE.CURRENT(),Holidays!$E$3:$E$33,0))),"Green",IF(NOT(ISNA(MATCH(_xlfn.ORG.OPENOFFICE.CURRENT(),Holidays!$G$3:$G$33,0))),"Magenta","Default"))) -> 39916 | C14: =B14+1+_xlfn.ORG.OPENOFFICE.STYLE(IF(NOT(ISNA(MATCH(_xlfn.ORG.OPENOFFICE.CURRENT(),Holidays!$E$3:$E$33,0))),"Green",IF(NOT(ISNA(MATCH(_xlfn.ORG.OPENOFFICE.CURRENT(),Holidays!$G$3:$G$33,0))),"Magenta","Default"))) -> 39917 | D14: =C14+1+_xlfn.ORG.OPENOFFICE.STYLE(IF(NOT(ISNA(MATCH(_xlfn.ORG.OPENOFFICE.CURRENT(),Holidays!$E$3:$E$33,0))),"Green",IF(NOT(ISNA(MATCH(_xlfn.ORG.OPENOFFICE.CURRENT(),Holidays!$G$3:$G$33,0))),"Magenta","Default"))) -> 39918 | E14: =D14+1+_xlfn.ORG.OPENOFFICE.STYLE(IF(NOT(ISNA(MATCH(_xlfn.ORG.OPENOFFICE.CURRENT(),Holidays!$E$3:$E$33,0))),"Green",IF(NOT(ISNA(MATCH(_xlfn.ORG.OPENOFFICE.CURRENT(),Holidays!$G$3:$G$33,0))),"Magenta","Default"))) -> 39919 | F14: =E14+1+_xlfn.ORG.OPENOFFICE.STYLE(IF(NOT(ISNA(MATCH(_xlfn.ORG.OPENOFFICE.CURRENT(),Holidays!$E$3:$E$33,0))),"Green",IF(NOT(ISNA(MATCH(_xlfn.ORG.OPENOFFICE.CURRENT(),Holidays!$G$3:$G$33,0))),"Magenta","Default"))) -> 39920 | G14: =F14+1+_xlfn.ORG.OPENOFFICE.STYLE(IF(NOT(ISNA(MATCH(_xlfn.ORG.OPENOFFICE.CURRENT(),Holidays!$E$3:$E$33,0))),"Green",IF(NOT(ISNA(MATCH(_xlfn.ORG.OPENOFFICE.CURRENT(),Holidays!$G$3:$G$33,0))),"Magenta","Default"))) -> 39921 | I14: =O13+1+_xlfn.ORG.OPENOFFICE.STYLE(IF(NOT(ISNA(MATCH(_xlfn.ORG.OPENOFFICE.CURRENT(),Holidays!$E$3:$E$33,0))),"Green",IF(NOT(ISNA(MATCH(_xlfn.ORG.OPENOFFICE.CURRENT(),Holidays!$G$3:$G$33,0))),"Magenta","Default"))) -> 39943 | J14: =I14+1+_xlfn.ORG.OPENOFFICE.STYLE(IF(NOT(ISNA(MATCH(_xlfn.ORG.OPENOFFICE.CURRENT(),Holidays!$E$3:$E$33,0))),"Green",IF(NOT(ISNA(MATCH(_xlfn.ORG.OPENOFFICE.CURRENT(),Holidays!$G$3:$G$33,0))),"Magenta","Default"))) -> 39944 | K14: =J14+1+_xlfn.ORG.OPENOFFICE.STYLE(IF(NOT(ISNA(MATCH(_xlfn.ORG.OPENOFFICE.CURRENT(),Holidays!$E$3:$E$33,0))),"Green",IF(NOT(ISNA(MATCH(_xlfn.ORG.OPENOFFICE.CURRENT(),Holidays!$G$3:$G$33,0))),"Magenta","Default"))) -> 39945 | L14: =K14+1+_xlfn.ORG.OPENOFFICE.STYLE(IF(NOT(ISNA(MATCH(_xlfn.ORG.OPENOFFICE.CURRENT(),Holidays!$E$3:$E$33,0))),"Green",IF(NOT(ISNA(MATCH(_xlfn.ORG.OPENOFFICE.CURRENT(),Holidays!$G$3:$G$33,0))),"Magenta","Default"))) -> 39946 | M14: =L14+1+_xlfn.ORG.OPENOFFICE.STYLE(IF(NOT(ISNA(MATCH(_xlfn.ORG.OPENOFFICE.CURRENT(),Holidays!$E$3:$E$33,0))),"Green",IF(NOT(ISNA(MATCH(_xlfn.ORG.OPENOFFICE.CURRENT(),Holidays!$G$3:$G$33,0))),"Magenta","Default"))) -> 39947 | N14: =M14+1+_xlfn.ORG.OPENOFFICE.STYLE(IF(NOT(ISNA(MATCH(_xlfn.ORG.OPENOFFICE.CURRENT(),Holidays!$E$3:$E$33,0))),"Green",IF(NOT(ISNA(MATCH(_xlfn.ORG.OPENOFFICE.CURRENT(),Holidays!$G$3:$G$33,0))),"Magenta","Default"))) -> 39948 | O14: =N14+1+_xlfn.ORG.OPENOFFICE.STYLE(IF(NOT(ISNA(MATCH(_xlfn.ORG.OPENOFFICE.CURRENT(),Holidays!$E$3:$E$33,0))),"Green",IF(NOT(ISNA(MATCH(_xlfn.ORG.OPENOFFICE.CURRENT(),Holidays!$G$3:$G$33,0))),"Magenta","Default"))) -> 39949 | Q14: =W13+1+_xlfn.ORG.OPENOFFICE.STYLE(IF(NOT(ISNA(MATCH(_xlfn.ORG.OPENOFFICE.CURRENT(),Holidays!$E$3:$E$33,0))),"Green",IF(NOT(ISNA(MATCH(_xlfn.ORG.OPENOFFICE.CURRENT(),Holidays!$G$3:$G$33,0))),"Magenta","Default"))) -> 39978 | R14: =Q14+1+_xlfn.ORG.OPENOFFICE.STYLE(IF(NOT(ISNA(MATCH(_xlfn.ORG.OPENOFFICE.CURRENT(),Holidays!$E$3:$E$33,0))),"Green",IF(NOT(ISNA(MATCH(_xlfn.ORG.OPENOFFICE.CURRENT(),Holidays!$G$3:$G$33,0))),"Magenta","Default"))) -> 39979 | S14: =R14+1+_xlfn.ORG.OPENOFFICE.STYLE(IF(NOT(ISNA(MATCH(_xlfn.ORG.OPENOFFICE.CURRENT(),Holidays!$E$3:$E$33,0))),"Green",IF(NOT(ISNA(MATCH(_xlfn.ORG.OPENOFFICE.CURRENT(),Holidays!$G$3:$G$33,0))),"Magenta","Default"))) -> 39980 | T14: =S14+1+_xlfn.ORG.OPENOFFICE.STYLE(IF(NOT(ISNA(MATCH(_xlfn.ORG.OPENOFFICE.CURRENT(),Holidays!$E$3:$E$33,0))),"Green",IF(NOT(ISNA(MATCH(_xlfn.ORG.OPENOFFICE.CURRENT(),Holidays!$G$3:$G$33,0))),"Magenta","Default"))) -> 39981 | U14: =T14+1+_xlfn.ORG.OPENOFFICE.STYLE(IF(NOT(ISNA(MATCH(_xlfn.ORG.OPENOFFICE.CURRENT(),Holidays!$E$3:$E$33,0))),"Green",IF(NOT(ISNA(MATCH(_xlfn.ORG.OPENOFFICE.CURRENT(),Holidays!$G$3:$G$33,0))),"Magenta","Default"))) -> 39982 | V14: =U14+1+_xlfn.ORG.OPENOFFICE.STYLE(IF(NOT(ISNA(MATCH(_xlfn.ORG.OPENOFFICE.CURRENT(),Holidays!$E$3:$E$33,0))),"Green",IF(NOT(ISNA(MATCH(_xlfn.ORG.OPENOFFICE.CURRENT(),Holidays!$G$3:$G$33,0))),"Magenta","Default"))) -> 39983 | W14: =V14+1+_xlfn.ORG.OPENOFFICE.STYLE(IF(NOT(ISNA(MATCH(_xlfn.ORG.OPENOFFICE.CURRENT(),Holidays!$E$3:$E$33,0))),"Green",IF(NOT(ISNA(MATCH(_xlfn.ORG.OPENOFFICE.CURRENT(),Holidays!$G$3:$G$33,0))),"Magenta","Default"))) -> 39984
A15: =G14+1+_xlfn.ORG.OPENOFFICE.STYLE(IF(NOT(ISNA(MATCH(_xlfn.ORG.OPENOFFICE.CURRENT(),Holidays!$E$3:$E$33,0))),"Green",IF(NOT(ISNA(MATCH(_xlfn.ORG.OPENOFFICE.CURRENT(),Holidays!$G$3:$G$33,0))),"Magenta","Default"))) -> 39922 | B15: =A15+1+_xlfn.ORG.OPENOFFICE.STYLE(IF(NOT(ISNA(MATCH(_xlfn.ORG.OPENOFFICE.CURRENT(),Holidays!$E$3:$E$33,0))),"Green",IF(NOT(ISNA(MATCH(_xlfn.ORG.OPENOFFICE.CURRENT(),Holidays!$G$3:$G$33,0))),"Magenta","Default"))) -> 39923 | C15: =B15+1+_xlfn.ORG.OPENOFFICE.STYLE(IF(NOT(ISNA(MATCH(_xlfn.ORG.OPENOFFICE.CURRENT(),Holidays!$E$3:$E$33,0))),"Green",IF(NOT(ISNA(MATCH(_xlfn.ORG.OPENOFFICE.CURRENT(),Holidays!$G$3:$G$33,0))),"Magenta","Default"))) -> 39924 | D15: =C15+1+_xlfn.ORG.OPENOFFICE.STYLE(IF(NOT(ISNA(MATCH(_xlfn.ORG.OPENOFFICE.CURRENT(),Holidays!$E$3:$E$33,0))),"Green",IF(NOT(ISNA(MATCH(_xlfn.ORG.OPENOFFICE.CURRENT(),Holidays!$G$3:$G$33,0))),"Magenta","Default"))) -> 39925 | E15: =D15+1+_xlfn.ORG.OPENOFFICE.STYLE(IF(NOT(ISNA(MATCH(_xlfn.ORG.OPENOFFICE.CURRENT(),Holidays!$E$3:$E$33,0))),"Green",IF(NOT(ISNA(MATCH(_xlfn.ORG.OPENOFFICE.CURRENT(),Holidays!$G$3:$G$33,0))),"Magenta","Default"))) -> 39926 | F15: =E15+1+_xlfn.ORG.OPENOFFICE.STYLE(IF(NOT(ISNA(MATCH(_xlfn.ORG.OPENOFFICE.CURRENT(),Holidays!$E$3:$E$33,0))),"Green",IF(NOT(ISNA(MATCH(_xlfn.ORG.OPENOFFICE.CURRENT(),Holidays!$G$3:$G$33,0))),"Magenta","Default"))) -> 39927 | G15: =F15+1+_xlfn.ORG.OPENOFFICE.STYLE(IF(NOT(ISNA(MATCH(_xlfn.ORG.OPENOFFICE.CURRENT(),Holidays!$E$3:$E$33,0))),"Green",IF(NOT(ISNA(MATCH(_xlfn.ORG.OPENOFFICE.CURRENT(),Holidays!$G$3:$G$33,0))),"Magenta","Default"))) -> 39928 | I15: =O14+1+_xlfn.ORG.OPENOFFICE.STYLE(IF(NOT(ISNA(MATCH(_xlfn.ORG.OPENOFFICE.CURRENT(),Holidays!$E$3:$E$33,0))),"Green",IF(NOT(ISNA(MATCH(_xlfn.ORG.OPENOFFICE.CURRENT(),Holidays!$G$3:$G$33,0))),"Magenta","Default"))) -> 39950 | J15: =I15+1+_xlfn.ORG.OPENOFFICE.STYLE(IF(NOT(ISNA(MATCH(_xlfn.ORG.OPENOFFICE.CURRENT(),Holidays!$E$3:$E$33,0))),"Green",IF(NOT(ISNA(MATCH(_xlfn.ORG.OPENOFFICE.CURRENT(),Holidays!$G$3:$G$33,0))),"Magenta","Default"))) -> 39951 | K15: =J15+1+_xlfn.ORG.OPENOFFICE.STYLE(IF(NOT(ISNA(MATCH(_xlfn.ORG.OPENOFFICE.CURRENT(),Holidays!$E$3:$E$33,0))),"Green",IF(NOT(ISNA(MATCH(_xlfn.ORG.OPENOFFICE.CURRENT(),Holidays!$G$3:$G$33,0))),"Magenta","Default"))) -> 39952 | L15: =K15+1+_xlfn.ORG.OPENOFFICE.STYLE(IF(NOT(ISNA(MATCH(_xlfn.ORG.OPENOFFICE.CURRENT(),Holidays!$E$3:$E$33,0))),"Green",IF(NOT(ISNA(MATCH(_xlfn.ORG.OPENOFFICE.CURRENT(),Holidays!$G$3:$G$33,0))),"Magenta","Default"))) -> 39953 | M15: =L15+1+_xlfn.ORG.OPENOFFICE.STYLE(IF(NOT(ISNA(MATCH(_xlfn.ORG.OPENOFFICE.CURRENT(),Holidays!$E$3:$E$33,0))),"Green",IF(NOT(ISNA(MATCH(_xlfn.ORG.OPENOFFICE.CURRENT(),Holidays!$G$3:$G$33,0))),"Magenta","Default"))) -> 39954 | N15: =M15+1+_xlfn.ORG.OPENOFFICE.STYLE(IF(NOT(ISNA(MATCH(_xlfn.ORG.OPENOFFICE.CURRENT(),Holidays!$E$3:$E$33,0))),"Green",IF(NOT(ISNA(MATCH(_xlfn.ORG.OPENOFFICE.CURRENT(),Holidays!$G$3:$G$33,0))),"Magenta","Default"))) -> 39955 | O15: =N15+1+_xlfn.ORG.OPENOFFICE.STYLE(IF(NOT(ISNA(MATCH(_xlfn.ORG.OPENOFFICE.CURRENT(),Holidays!$E$3:$E$33,0))),"Green",IF(NOT(ISNA(MATCH(_xlfn.ORG.OPENOFFICE.CURRENT(),Holidays!$G$3:$G$33,0))),"Magenta","Default"))) -> 39956 | Q15: =W14+1+_xlfn.ORG.OPENOFFICE.STYLE(IF(NOT(ISNA(MATCH(_xlfn.ORG.OPENOFFICE.CURRENT(),Holidays!$E$3:$E$33,0))),"Green",IF(NOT(ISNA(MATCH(_xlfn.ORG.OPENOFFICE.CURRENT(),Holidays!$G$3:$G$33,0))),"Magenta","Default"))) -> 39985 | R15: =Q15+1+_xlfn.ORG.OPENOFFICE.STYLE(IF(NOT(ISNA(MATCH(_xlfn.ORG.OPENOFFICE.CURRENT(),Holidays!$E$3:$E$33,0))),"Green",IF(NOT(ISNA(MATCH(_xlfn.ORG.OPENOFFICE.CURRENT(),Holidays!$G$3:$G$33,0))),"Magenta","Default"))) -> 39986 | S15: =R15+1+_xlfn.ORG.OPENOFFICE.STYLE(IF(NOT(ISNA(MATCH(_xlfn.ORG.OPENOFFICE.CURRENT(),Holidays!$E$3:$E$33,0))),"Green",IF(NOT(ISNA(MATCH(_xlfn.ORG.OPENOFFICE.CURRENT(),Holidays!$G$3:$G$33,0))),"Magenta","Default"))) -> 39987 | T15: =S15+1+_xlfn.ORG.OPENOFFICE.STYLE(IF(NOT(ISNA(MATCH(_xlfn.ORG.OPENOFFICE.CURRENT(),Holidays!$E$3:$E$33,0))),"Green",IF(NOT(ISNA(MATCH(_xlfn.ORG.OPENOFFICE.CURRENT(),Holidays!$G$3:$G$33,0))),"Magenta","Default"))) -> 39988 | U15: =T15+1+_xlfn.ORG.OPENOFFICE.STYLE(IF(NOT(ISNA(MATCH(_xlfn.ORG.OPENOFFICE.CURRENT(),Holidays!$E$3:$E$33,0))),"Green",IF(NOT(ISNA(MATCH(_xlfn.ORG.OPENOFFICE.CURRENT(),Holidays!$G$3:$G$33,0))),"Magenta","Default"))) -> 39989 | V15: =U15+1+_xlfn.ORG.OPENOFFICE.STYLE(IF(NOT(ISNA(MATCH(_xlfn.ORG.OPENOFFICE.CURRENT(),Holidays!$E$3:$E$33,0))),"Green",IF(NOT(ISNA(MATCH(_xlfn.ORG.OPENOFFICE.CURRENT(),Holidays!$G$3:$G$33,0))),"Magenta","Default"))) -> 39990 | W15: =V15+1+_xlfn.ORG.OPENOFFICE.STYLE(IF(NOT(ISNA(MATCH(_xlfn.ORG.OPENOFFICE.CURRENT(),Holidays!$E$3:$E$33,0))),"Green",IF(NOT(ISNA(MATCH(_xlfn.ORG.OPENOFFICE.CURRENT(),Holidays!$G$3:$G$33,0))),"Magenta","Default"))) -> 39991
