Workbook

Sheet calendarA
A1: =DATE(entry!$B$1,1,1) -> 43466 | B1: =A1 -> 43466
B2: =D2-1 -> 1 | D2: 2 | F2: =D2+1 -> 3 | H2: =F2+1 -> 4 | J2: =H2+1 -> 5 | L2: =J2+1 -> 6 | N2: =L2+1 -> 7 | R2: Formulas in CalendarA sheet.
B3: =B1+1-WEEKDAY(B1) -> 43464 | C3: =IF(ISNA(MATCH(B3,entry!$B$3:$B$51,0))," ",VLOOKUP(B3,entry!$B$3:$C$51,2,0)) | D3: =B3+1 -> 43465 | E3: =IF(ISNA(MATCH(D3,entry!$B$3:$B$51,0))," ",VLOOKUP(D3,entry!$B$3:$C$51,2,0)) -> New Years Eve | F3: =D3+1 -> 43466 | G3: =IF(ISNA(MATCH(F3,entry!$B$3:$B$51,0))," ",VLOOKUP(F3,entry!$B$3:$C$51,2,0)) -> New Years Day | H3: =F3+1 -> 43467 | I3: =IF(ISNA(MATCH(H3,entry!$B$3:$B$51,0))," ",VLOOKUP(H3,entry!$B$3:$C$51,2,0)) | J3: =H3+1 -> 43468 | K3: =IF(ISNA(MATCH(J3,entry!$B$3:$B$51,0))," ",VLOOKUP(J3,entry!$B$3:$C$51,2,0)) | L3: =J3+1 -> 43469 | M3: =IF(ISNA(MATCH(L3,entry!$B$3:$B$51,0))," ",VLOOKUP(L3,entry!$B$3:$C$51,2,0)) | N3: =L3+1 -> 43470 | O3: =IF(ISNA(MATCH(N3,entry!$B$3:$B$51,0))," ",VLOOKUP(N3,entry!$B$3:$C$51,2,0)) | R3: =_xlfn.FORMULATEXT(A1) -> =DATE($entry.$B$1,1,1)
B4: =IF(ISNA(MATCH(B3,entry!$D$3:$D$51,0))," ",VLOOKUP(B3,entry!$D$3:$E$51,2,0)) | D4: =IF(ISNA(MATCH(D3,entry!$D$3:$D$51,0))," ",VLOOKUP(D3,entry!$D$3:$E$51,2,0)) | F4: =IF(ISNA(MATCH(F3,entry!$D$3:$D$51,0))," ",VLOOKUP(F3,entry!$D$3:$E$51,2,0)) | H4: =IF(ISNA(MATCH(H3,entry!$D$3:$D$51,0))," ",VLOOKUP(H3,entry!$D$3:$E$51,2,0)) | J4: =IF(ISNA(MATCH(J3,entry!$D$3:$D$51,0))," ",VLOOKUP(J3,entry!$D$3:$E$51,2,0)) | L4: =IF(ISNA(MATCH(L3,entry!$D$3:$D$51,0))," ",VLOOKUP(L3,entry!$D$3:$E$51,2,0)) | N4: =IF(ISNA(MATCH(N3,entry!$D$3:$D$51,0))," ",VLOOKUP(N3,entry!$D$3:$E$51,2,0)) | S4: Cell A1.
B5: =IF(ISNA(MATCH(B3,entry!$F$3:$F$14,0))," ",VLOOKUP(B3,entry!$F$3:$G$14,2,0)) | D5: =IF(ISNA(MATCH(D3,entry!$F$3:$F$14,0))," ",VLOOKUP(D3,entry!$F$3:$G$14,2,0)) | F5: =IF(ISNA(MATCH(F3,entry!$F$3:$F$14,0))," ",VLOOKUP(F3,entry!$F$3:$G$14,2,0)) | H5: =IF(ISNA(MATCH(H3,entry!$F$3:$F$14,0))," ",VLOOKUP(H3,entry!$F$3:$G$14,2,0)) | J5: =IF(ISNA(MATCH(J3,entry!$F$3:$F$14,0))," ",VLOOKUP(J3,entry!$F$3:$G$14,2,0)) | L5: =IF(ISNA(MATCH(L3,entry!$F$3:$F$14,0))," ",VLOOKUP(L3,entry!$F$3:$G$14,2,0)) | N5: =IF(ISNA(MATCH(N3,entry!$F$3:$F$14,0))," ",VLOOKUP(N3,entry!$F$3:$G$14,2,0)) | S5: Defines the month to be displayed
B6: =IF(ISNA(MATCH(B3,entry!$H$3:$H$14,0))," ",VLOOKUP(B3,entry!$H$3:$I$14,2,0)) | D6: =IF(ISNA(MATCH(D3,entry!$H$3:$H$14,0))," ",VLOOKUP(D3,entry!$H$3:$I$14,2,0)) | F6: =IF(ISNA(MATCH(F3,entry!$H$3:$H$14,0))," ",VLOOKUP(F3,entry!$H$3:$I$14,2,0)) | H6: =IF(ISNA(MATCH(H3,entry!$H$3:$H$14,0))," ",VLOOKUP(H3,entry!$H$3:$I$14,2,0)) | J6: =IF(ISNA(MATCH(J3,entry!$H$3:$H$14,0))," ",VLOOKUP(J3,entry!$H$3:$I$14,2,0)) | L6: =IF(ISNA(MATCH(L3,entry!$H$3:$H$14,0))," ",VLOOKUP(L3,entry!$H$3:$I$14,2,0)) | N6: =IF(ISNA(MATCH(N3,entry!$H$3:$H$14,0))," ",VLOOKUP(N3,entry!$H$3:$I$14,2,0)) | R6: =_xlfn.FORMULATEXT(B3) -> =B1+1-WEEKDAY(B1)
B7: =IF(ISNA(MATCH(DAY(B3),entry!$J$3:$J$14,0))," ",VLOOKUP(DAY(B3),entry!$J$3:$K$14,2,0)) | D7: =IF(ISNA(MATCH(DAY(D3),entry!$J$3:$J$14,0))," ",VLOOKUP(DAY(D3),entry!$J$3:$K$14,2,0)) | F7: =IF(ISNA(MATCH(DAY(F3),entry!$J$3:$J$14,0))," ",VLOOKUP(DAY(F3),entry!$J$3:$K$14,2,0)) -> Pay utilities | H7: =IF(ISNA(MATCH(DAY(H3),entry!$J$3:$J$14,0))," ",VLOOKUP(DAY(H3),entry!$J$3:$K$14,2,0)) | J7: =IF(ISNA(MATCH(DAY(J3),entry!$J$3:$J$14,0))," ",VLOOKUP(DAY(J3),entry!$J$3:$K$14,2,0)) | L7: =IF(ISNA(MATCH(DAY(L3),entry!$J$3:$J$14,0))," ",VLOOKUP(DAY(L3),entry!$J$3:$K$14,2,0)) | N7: =IF(ISNA(MATCH(DAY(N3),entry!$J$3:$J$14,0))," ",VLOOKUP(DAY(N3),entry!$J$3:$K$14,2,0)) | S7: First day number cell in the first week.
S8: Controls day of the month numbering.
B9: =N3+1 -> 43471 | C9: =IF(ISNA(MATCH(B9,entry!$B$3:$B$51,0))," ",VLOOKUP(B9,entry!$B$3:$C$51,2,0)) | D9: =B9+1 -> 43472 | E9: =IF(ISNA(MATCH(D9,entry!$B$3:$B$51,0))," ",VLOOKUP(D9,entry!$B$3:$C$51,2,0)) | F9: =D9+1 -> 43473 | G9: =IF(ISNA(MATCH(F9,entry!$B$3:$B$51,0))," ",VLOOKUP(F9,entry!$B$3:$C$51,2,0)) | H9: =F9+1 -> 43474 | I9: =IF(ISNA(MATCH(H9,entry!$B$3:$B$51,0))," ",VLOOKUP(H9,entry!$B$3:$C$51,2,0)) | J9: =H9+1 -> 43475 | K9: =IF(ISNA(MATCH(J9,entry!$B$3:$B$51,0))," ",VLOOKUP(J9,entry!$B$3:$C$51,2,0)) | L9: =J9+1 -> 43476 | M9: =IF(ISNA(MATCH(L9,entry!$B$3:$B$51,0))," ",VLOOKUP(L9,entry!$B$3:$C$51,2,0)) | N9: =L9+1 -> 43477 | O9: =IF(ISNA(MATCH(N9,entry!$B$3:$B$51,0))," ",VLOOKUP(N9,entry!$B$3:$C$51,2,0)) | S9: Controlled by A1.
B10: =IF(ISNA(MATCH(B9,entry!$D$3:$D$51,0))," ",VLOOKUP(B9,entry!$D$3:$E$51,2,0)) | D10: =IF(ISNA(MATCH(D9,entry!$D$3:$D$51,0))," ",VLOOKUP(D9,entry!$D$3:$E$51,2,0)) -> dog license | F10: =IF(ISNA(MATCH(F9,entry!$D$3:$D$51,0))," ",VLOOKUP(F9,entry!$D$3:$E$51,2,0)) | H10: =IF(ISNA(MATCH(H9,entry!$D$3:$D$51,0))," ",VLOOKUP(H9,entry!$D$3:$E$51,2,0)) | J10: =IF(ISNA(MATCH(J9,entry!$D$3:$D$51,0))," ",VLOOKUP(J9,entry!$D$3:$E$51,2,0)) | L10: =IF(ISNA(MATCH(L9,entry!$D$3:$D$51,0))," ",VLOOKUP(L9,entry!$D$3:$E$51,2,0)) | N10: =IF(ISNA(MATCH(N9,entry!$D$3:$D$51,0))," ",VLOOKUP(N9,entry!$D$3:$E$51,2,0)) | R10: =_xlfn.FORMULATEXT(C3) -> =IF(ISNA(MATCH(B3,$entry.$B$3:$B$51,0))," ",VLOOKUP(B3,$entry.$B$3:$C$51,2,0))
B11: =IF(ISNA(MATCH(B9,entry!$F$3:$F$14,0))," ",VLOOKUP(B9,entry!$F$3:$G$14,2,0)) | D11: =IF(ISNA(MATCH(D9,entry!$F$3:$F$14,0))," ",VLOOKUP(D9,entry!$F$3:$G$14,2,0)) | F11: =IF(ISNA(MATCH(F9,entry!$F$3:$F$14,0))," ",VLOOKUP(F9,entry!$F$3:$G$14,2,0)) | H11: =IF(ISNA(MATCH(H9,entry!$F$3:$F$14,0))," ",VLOOKUP(H9,entry!$F$3:$G$14,2,0)) | J11: =IF(ISNA(MATCH(J9,entry!$F$3:$F$14,0))," ",VLOOKUP(J9,entry!$F$3:$G$14,2,0)) | L11: =IF(ISNA(MATCH(L9,entry!$F$3:$F$14,0))," ",VLOOKUP(L9,entry!$F$3:$G$14,2,0)) | N11: =IF(ISNA(MATCH(N9,entry!$F$3:$F$14,0))," ",VLOOKUP(N9,entry!$F$3:$G$14,2,0)) | S11: First line of every day of the month. Reserved for events occurring on the same day of the month, regardless of the year.
B12: =IF(ISNA(MATCH(B9,entry!$H$3:$H$14,0))," ",VLOOKUP(B9,entry!$H$3:$I$14,2,0)) | D12: =IF(ISNA(MATCH(D9,entry!$H$3:$H$14,0))," ",VLOOKUP(D9,entry!$H$3:$I$14,2,0)) | F12: =IF(ISNA(MATCH(F9,entry!$H$3:$H$14,0))," ",VLOOKUP(F9,entry!$H$3:$I$14,2,0)) | H12: =IF(ISNA(MATCH(H9,entry!$H$3:$H$14,0))," ",VLOOKUP(H9,entry!$H$3:$I$14,2,0)) | J12: =IF(ISNA(MATCH(J9,entry!$H$3:$H$14,0))," ",VLOOKUP(J9,entry!$H$3:$I$14,2,0)) | L12: =IF(ISNA(MATCH(L9,entry!$H$3:$H$14,0))," ",VLOOKUP(L9,entry!$H$3:$I$14,2,0)) | N12: =IF(ISNA(MATCH(N9,entry!$H$3:$H$14,0))," ",VLOOKUP(N9,entry!$H$3:$I$14,2,0))
B13: =IF(ISNA(MATCH(DAY(B9),entry!$J$3:$J$14,0))," ",VLOOKUP(DAY(B9),entry!$J$3:$K$14,2,0)) | D13: =IF(ISNA(MATCH(DAY(D9),entry!$J$3:$J$14,0))," ",VLOOKUP(DAY(D9),entry!$J$3:$K$14,2,0)) | F13: =IF(ISNA(MATCH(DAY(F9),entry!$J$3:$J$14,0))," ",VLOOKUP(DAY(F9),entry!$J$3:$K$14,2,0)) | H13: =IF(ISNA(MATCH(DAY(H9),entry!$J$3:$J$14,0))," ",VLOOKUP(DAY(H9),entry!$J$3:$K$14,2,0)) | J13: =IF(ISNA(MATCH(DAY(J9),entry!$J$3:$J$14,0))," ",VLOOKUP(DAY(J9),entry!$J$3:$K$14,2,0)) | L13: =IF(ISNA(MATCH(DAY(L9),entry!$J$3:$J$14,0))," ",VLOOKUP(DAY(L9),entry!$J$3:$K$14,2,0)) | N13: =IF(ISNA(MATCH(DAY(N9),entry!$J$3:$J$14,0))," ",VLOOKUP(DAY(N9),entry!$J$3:$K$14,2,0)) | S13: Looks for dates in column A of entry sheet. When it finds a match, the contents of the adjacent cell in column B are displayed.
B15: =N9+1 -> 43478 | C15: =IF(ISNA(MATCH(B15,entry!$B$3:$B$51,0))," ",VLOOKUP(B15,entry!$B$3:$C$51,2,0)) | D15: =B15+1 -> 43479 | E15: =IF(ISNA(MATCH(D15,entry!$B$3:$B$51,0))," ",VLOOKUP(D15,entry!$B$3:$C$51,2,0)) | F15: =D15+1 -> 43480 | G15: =IF(ISNA(MATCH(F15,entry!$B$3:$B$51,0))," ",VLOOKUP(F15,entry!$B$3:$C$51,2,0)) | H15: =F15+1 -> 43481 | I15: =IF(ISNA(MATCH(H15,entry!$B$3:$B$51,0))," ",VLOOKUP(H15,entry!$B$3:$C$51,2,0)) | J15: =H15+1 -> 43482 | K15: =IF(ISNA(MATCH(J15,entry!$B$3:$B$51,0))," ",VLOOKUP(J15,entry!$B$3:$C$51,2,0)) | L15: =J15+1 -> 43483 | M15: =IF(ISNA(MATCH(L15,entry!$B$3:$B$51,0))," ",VLOOKUP(L15,entry!$B$3:$C$51,2,0)) | N15: =L15+1 -> 43484 | O15: =IF(ISNA(MATCH(N15,entry!$B$3:$B$51,0))," ",VLOOKUP(N15,entry!$B$3:$C$51,2,0)) | R15: =_xlfn.FORMULATEXT(B4) -> =IF(ISNA(MATCH(B3,$entry.$D$3:$D$51,0))," ",VLOOKUP(B3,$entry.$D$3:$E$51,2,0))
B16: =IF(ISNA(MATCH(B15,entry!$D$3:$D$51,0))," ",VLOOKUP(B15,entry!$D$3:$E$51,2,0)) | D16: =IF(ISNA(MATCH(D15,entry!$D$3:$D$51,0))," ",VLOOKUP(D15,entry!$D$3:$E$51,2,0)) | F16: =IF(ISNA(MATCH(F15,entry!$D$3:$D$51,0))," ",VLOOKUP(F15,entry!$D$3:$E$51,2,0)) | H16: =IF(ISNA(MATCH(H15,entry!$D$3:$D$51,0))," ",VLOOKUP(H15,entry!$D$3:$E$51,2,0)) | J16: =IF(ISNA(MATCH(J15,entry!$D$3:$D$51,0))," ",VLOOKUP(J15,entry!$D$3:$E$51,2,0)) | L16: =IF(ISNA(MATCH(L15,entry!$D$3:$D$51,0))," ",VLOOKUP(L15,entry!$D$3:$E$51,2,0)) | N16: =IF(ISNA(MATCH(N15,entry!$D$3:$D$51,0))," ",VLOOKUP(N15,entry!$D$3:$E$51,2,0)) | S16: Second line of every day of the month. Reserved for events occurring on different days of the month, depending on the year.
B17: =IF(ISNA(MATCH(B15,entry!$F$3:$F$14,0))," ",VLOOKUP(B15,entry!$F$3:$G$14,2,0)) | D17: =IF(ISNA(MATCH(D15,entry!$F$3:$F$14,0))," ",VLOOKUP(D15,entry!$F$3:$G$14,2,0)) | F17: =IF(ISNA(MATCH(F15,entry!$F$3:$F$14,0))," ",VLOOKUP(F15,entry!$F$3:$G$14,2,0)) | H17: =IF(ISNA(MATCH(H15,entry!$F$3:$F$14,0))," ",VLOOKUP(H15,entry!$F$3:$G$14,2,0)) | J17: =IF(ISNA(MATCH(J15,entry!$F$3:$F$14,0))," ",VLOOKUP(J15,entry!$F$3:$G$14,2,0)) | L17: =IF(ISNA(MATCH(L15,entry!$F$3:$F$14,0))," ",VLOOKUP(L15,entry!$F$3:$G$14,2,0)) | N17: =IF(ISNA(MATCH(N15,entry!$F$3:$F$14,0))," ",VLOOKUP(N15,entry!$F$3:$G$14,2,0))
B18: =IF(ISNA(MATCH(B15,entry!$H$3:$H$14,0))," ",VLOOKUP(B15,entry!$H$3:$I$14,2,0)) | D18: =IF(ISNA(MATCH(D15,entry!$H$3:$H$14,0))," ",VLOOKUP(D15,entry!$H$3:$I$14,2,0)) | F18: =IF(ISNA(MATCH(F15,entry!$H$3:$H$14,0))," ",VLOOKUP(F15,entry!$H$3:$I$14,2,0)) | H18: =IF(ISNA(MATCH(H15,entry!$H$3:$H$14,0))," ",VLOOKUP(H15,entry!$H$3:$I$14,2,0)) | J18: =IF(ISNA(MATCH(J15,entry!$H$3:$H$14,0))," ",VLOOKUP(J15,entry!$H$3:$I$14,2,0)) | L18: =IF(ISNA(MATCH(L15,entry!$H$3:$H$14,0))," ",VLOOKUP(L15,entry!$H$3:$I$14,2,0)) | N18: =IF(ISNA(MATCH(N15,entry!$H$3:$H$14,0))," ",VLOOKUP(N15,entry!$H$3:$I$14,2,0)) | S18: Also used to display events conflicting with an event listed in Column A.
B19: =IF(ISNA(MATCH(DAY(B15),entry!$J$3:$J$14,0))," ",VLOOKUP(DAY(B15),entry!$J$3:$K$14,2,0)) | D19: =IF(ISNA(MATCH(DAY(D15),entry!$J$3:$J$14,0))," ",VLOOKUP(DAY(D15),entry!$J$3:$K$14,2,0)) | F19: =IF(ISNA(MATCH(DAY(F15),entry!$J$3:$J$14,0))," ",VLOOKUP(DAY(F15),entry!$J$3:$K$14,2,0)) | H19: =IF(ISNA(MATCH(DAY(H15),entry!$J$3:$J$14,0))," ",VLOOKUP(DAY(H15),entry!$J$3:$K$14,2,0)) | J19: =IF(ISNA(MATCH(DAY(J15),entry!$J$3:$J$14,0))," ",VLOOKUP(DAY(J15),entry!$J$3:$K$14,2,0)) | L19: =IF(ISNA(MATCH(DAY(L15),entry!$J$3:$J$14,0))," ",VLOOKUP(DAY(L15),entry!$J$3:$K$14,2,0)) | N19: =IF(ISNA(MATCH(DAY(N15),entry!$J$3:$J$14,0))," ",VLOOKUP(DAY(N15),entry!$J$3:$K$14,2,0)) | S19: Looks for dates in column C of entry sheet. When it finds a match, the contents of the adjacent cell in column D are displayed.
B21: =N15+1 -> 43485 | C21: =IF(ISNA(MATCH(B21,entry!$B$3:$B$51,0))," ",VLOOKUP(B21,entry!$B$3:$C$51,2,0)) | D21: =B21+1 -> 43486 | E21: =IF(ISNA(MATCH(D21,entry!$B$3:$B$51,0))," ",VLOOKUP(D21,entry!$B$3:$C$51,2,0)) | F21: =D21+1 -> 43487 | G21: =IF(ISNA(MATCH(F21,entry!$B$3:$B$51,0))," ",VLOOKUP(F21,entry!$B$3:$C$51,2,0)) | H21: =F21+1 -> 43488 | I21: =IF(ISNA(MATCH(H21,entry!$B$3:$B$51,0))," ",VLOOKUP(H21,entry!$B$3:$C$51,2,0)) | J21: =H21+1 -> 43489 | K21: =IF(ISNA(MATCH(J21,entry!$B$3:$B$51,0))," ",VLOOKUP(J21,entry!$B$3:$C$51,2,0)) | L21: =J21+1 -> 43490 | M21: =IF(ISNA(MATCH(L21,entry!$B$3:$B$51,0))," ",VLOOKUP(L21,entry!$B$3:$C$51,2,0)) | N21: =L21+1 -> 43491 | O21: =IF(ISNA(MATCH(N21,entry!$B$3:$B$51,0))," ",VLOOKUP(N21,entry!$B$3:$C$51,2,0)) | R21: =_xlfn.FORMULATEXT(B5) -> =IF(ISNA(MATCH(B3,$entry.$F$3:$F$14,0))," ",VLOOKUP(B3,$entry.$F$3:$G$14,2,0))
B22: =IF(ISNA(MATCH(B21,entry!$D$3:$D$51,0))," ",VLOOKUP(B21,entry!$D$3:$E$51,2,0)) | D22: =IF(ISNA(MATCH(D21,entry!$D$3:$D$51,0))," ",VLOOKUP(D21,entry!$D$3:$E$51,2,0)) -> Martin Luther King Day | F22: =IF(ISNA(MATCH(F21,entry!$D$3:$D$51,0))," ",VLOOKUP(F21,entry!$D$3:$E$51,2,0)) | H22: =IF(ISNA(MATCH(H21,entry!$D$3:$D$51,0))," ",VLOOKUP(H21,entry!$D$3:$E$51,2,0)) | J22: =IF(ISNA(MATCH(J21,entry!$D$3:$D$51,0))," ",VLOOKUP(J21,entry!$D$3:$E$51,2,0)) | L22: =IF(ISNA(MATCH(L21,entry!$D$3:$D$51,0))," ",VLOOKUP(L21,entry!$D$3:$E$51,2,0)) | N22: =IF(ISNA(MATCH(N21,entry!$D$3:$D$51,0))," ",VLOOKUP(N21,entry!$D$3:$E$51,2,0)) | S22: Third line of every day of the month. Reserved for events occurring biannually.
B23: =IF(ISNA(MATCH(B21,entry!$F$3:$F$14,0))," ",VLOOKUP(B21,entry!$F$3:$G$14,2,0)) | D23: =IF(ISNA(MATCH(D21,entry!$F$3:$F$14,0))," ",VLOOKUP(D21,entry!$F$3:$G$14,2,0)) | F23: =IF(ISNA(MATCH(F21,entry!$F$3:$F$14,0))," ",VLOOKUP(F21,entry!$F$3:$G$14,2,0)) | H23: =IF(ISNA(MATCH(H21,entry!$F$3:$F$14,0))," ",VLOOKUP(H21,entry!$F$3:$G$14,2,0)) | J23: =IF(ISNA(MATCH(J21,entry!$F$3:$F$14,0))," ",VLOOKUP(J21,entry!$F$3:$G$14,2,0)) | L23: =IF(ISNA(MATCH(L21,entry!$F$3:$F$14,0))," ",VLOOKUP(L21,entry!$F$3:$G$14,2,0)) | N23: =IF(ISNA(MATCH(N21,entry!$F$3:$F$14,0))," ",VLOOKUP(N21,entry!$F$3:$G$14,2,0)) | S23: Looks for dates in column E of entry sheet. When it finds a match, the contents of the adjacent cell in column F are displayed.
B24: =IF(ISNA(MATCH(B21,entry!$H$3:$H$14,0))," ",VLOOKUP(B21,entry!$H$3:$I$14,2,0)) | D24: =IF(ISNA(MATCH(D21,entry!$H$3:$H$14,0))," ",VLOOKUP(D21,entry!$H$3:$I$14,2,0)) | F24: =IF(ISNA(MATCH(F21,entry!$H$3:$H$14,0))," ",VLOOKUP(F21,entry!$H$3:$I$14,2,0)) | H24: =IF(ISNA(MATCH(H21,entry!$H$3:$H$14,0))," ",VLOOKUP(H21,entry!$H$3:$I$14,2,0)) | J24: =IF(ISNA(MATCH(J21,entry!$H$3:$H$14,0))," ",VLOOKUP(J21,entry!$H$3:$I$14,2,0)) | L24: =IF(ISNA(MATCH(L21,entry!$H$3:$H$14,0))," ",VLOOKUP(L21,entry!$H$3:$I$14,2,0)) | N24: =IF(ISNA(MATCH(N21,entry!$H$3:$H$14,0))," ",VLOOKUP(N21,entry!$H$3:$I$14,2,0))
B25: =IF(ISNA(MATCH(DAY(B21),entry!$J$3:$J$14,0))," ",VLOOKUP(DAY(B21),entry!$J$3:$K$14,2,0)) | D25: =IF(ISNA(MATCH(DAY(D21),entry!$J$3:$J$14,0))," ",VLOOKUP(DAY(D21),entry!$J$3:$K$14,2,0)) | F25: =IF(ISNA(MATCH(DAY(F21),entry!$J$3:$J$14,0))," ",VLOOKUP(DAY(F21),entry!$J$3:$K$14,2,0)) | H25: =IF(ISNA(MATCH(DAY(H21),entry!$J$3:$J$14,0))," ",VLOOKUP(DAY(H21),entry!$J$3:$K$14,2,0)) | J25: =IF(ISNA(MATCH(DAY(J21),entry!$J$3:$J$14,0))," ",VLOOKUP(DAY(J21),entry!$J$3:$K$14,2,0)) | L25: =IF(ISNA(MATCH(DAY(L21),entry!$J$3:$J$14,0))," ",VLOOKUP(DAY(L21),entry!$J$3:$K$14,2,0)) | N25: =IF(ISNA(MATCH(DAY(N21),entry!$J$3:$J$14,0))," ",VLOOKUP(DAY(N21),entry!$J$3:$K$14,2,0)) | R25: =_xlfn.FORMULATEXT(B6) -> =IF(ISNA(MATCH(B3,$entry.$H$3:$H$14,0))," ",VLOOKUP(B3,$entry.$H$3:$I$14,2,0))
S26: Fourth line of every day of the month. Reserved for events occurring quarterly.
B27: =N21+1 -> 43492 | C27: =IF(ISNA(MATCH(B27,entry!$B$3:$B$51,0))," ",VLOOKUP($B$27,entry!$B$3:$C$51,2,0)) | D27: =B27+1 -> 43493 | E27: =IF(ISNA(MATCH(D27,entry!$B$3:$B$51,0))," ",VLOOKUP(D27,entry!$B$3:$C$51,2,0)) | F27: =D27+1 -> 43494 | G27: =IF(ISNA(MATCH(F27,entry!$B$3:$B$51,0))," ",VLOOKUP(F27,entry!$B$3:$C$51,2,0)) | H27: =F27+1 -> 43495 | I27: =IF(ISNA(MATCH(H27,entry!$B$3:$B$51,0))," ",VLOOKUP(H27,entry!$B$3:$C$51,2,0)) | J27: =H27+1 -> 43496 | K27: =IF(ISNA(MATCH(J27,entry!$B$3:$B$51,0))," ",VLOOKUP(J27,entry!$B$3:$C$51,2,0)) | L27: =J27+1 -> 43497 | M27: =IF(ISNA(MATCH(L27,entry!$B$3:$B$51,0))," ",VLOOKUP(L27,entry!$B$3:$C$51,2,0)) | N27: =L27+1 -> 43498 | O27: =IF(ISNA(MATCH(N27,entry!$B$3:$B$51,0))," ",VLOOKUP(N27,entry!$B$3:$C$51,2,0)) -> Ground Hog's Day | S27: Looks for dates in column G of entry sheet. When it finds a match, the contents of the adjacent cell in column H are displayed.
B28: =IF(ISNA(MATCH(B27,entry!$D$3:$D$51,0))," ",VLOOKUP(B27,entry!$D$3:$E$51,2,0)) | D28: =IF(ISNA(MATCH(D27,entry!$D$3:$D$51,0))," ",VLOOKUP(D27,entry!$D$3:$E$51,2,0)) | F28: =IF(ISNA(MATCH(F27,entry!$D$3:$D$51,0))," ",VLOOKUP(F27,entry!$D$3:$E$51,2,0)) -> Harriet Tubman Birthday | H28: =IF(ISNA(MATCH(H27,entry!$D$3:$D$51,0))," ",VLOOKUP(H27,entry!$D$3:$E$51,2,0)) | J28: =IF(ISNA(MATCH(J27,entry!$D$3:$D$51,0))," ",VLOOKUP(J27,entry!$D$3:$E$51,2,0)) | L28: =IF(ISNA(MATCH(L27,entry!$D$3:$D$51,0))," ",VLOOKUP(L27,entry!$D$3:$E$51,2,0)) | N28: =IF(ISNA(MATCH(N27,entry!$D$3:$D$51,0))," ",VLOOKUP(N27,entry!$D$3:$E$51,2,0))
B29: =IF(ISNA(MATCH(B27,entry!$F$3:$F$14,0))," ",VLOOKUP(B27,entry!$F$3:$G$14,2,0)) | D29: =IF(ISNA(MATCH(D27,entry!$F$3:$F$14,0))," ",VLOOKUP(D27,entry!$F$3:$G$14,2,0)) | F29: =IF(ISNA(MATCH(F27,entry!$F$3:$F$14,0))," ",VLOOKUP(F27,entry!$F$3:$G$14,2,0)) | H29: =IF(ISNA(MATCH(H27,entry!$F$3:$F$14,0))," ",VLOOKUP(H27,entry!$F$3:$G$14,2,0)) | J29: =IF(ISNA(MATCH(J27,entry!$F$3:$F$14,0))," ",VLOOKUP(J27,entry!$F$3:$G$14,2,0)) | L29: =IF(ISNA(MATCH(L27,entry!$F$3:$F$14,0))," ",VLOOKUP(L27,entry!$F$3:$G$14,2,0)) | N29: =IF(ISNA(MATCH(N27,entry!$F$3:$F$14,0))," ",VLOOKUP(N27,entry!$F$3:$G$14,2,0)) | R29: =_xlfn.FORMULATEXT(B7) -> =IF(ISNA(MATCH(DAY(B3),$entry.$J$3:$J$14,0))," ",VLOOKUP(DAY(B3),$entry.$J$3:$K$14,2,0))
B30: =IF(ISNA(MATCH(B27,entry!$H$3:$H$14,0))," ",VLOOKUP(B27,entry!$H$3:$I$14,2,0)) | D30: =IF(ISNA(MATCH(D27,entry!$H$3:$H$14,0))," ",VLOOKUP(D27,entry!$H$3:$I$14,2,0)) | F30: =IF(ISNA(MATCH(F27,entry!$H$3:$H$14,0))," ",VLOOKUP(F27,entry!$H$3:$I$14,2,0)) | H30: =IF(ISNA(MATCH(H27,entry!$H$3:$H$14,0))," ",VLOOKUP(H27,entry!$H$3:$I$14,2,0)) | J30: =IF(ISNA(MATCH(J27,entry!$H$3:$H$14,0))," ",VLOOKUP(J27,entry!$H$3:$I$14,2,0)) | L30: =IF(ISNA(MATCH(L27,entry!$H$3:$H$14,0))," ",VLOOKUP(L27,entry!$H$3:$I$14,2,0)) | N30: =IF(ISNA(MATCH(N27,entry!$H$3:$H$14,0))," ",VLOOKUP(N27,entry!$H$3:$I$14,2,0)) | S30: Fifth line of every day of the month. Reserved for events occurring monthly on the same day.
B31: =IF(ISNA(MATCH(DAY(B27),entry!$J$3:$J$14,0))," ",VLOOKUP(DAY(B27),entry!$J$3:$K$14,2,0)) | D31: =IF(ISNA(MATCH(DAY(D27),entry!$J$3:$J$14,0))," ",VLOOKUP(DAY(D27),entry!$J$3:$K$14,2,0)) | F31: =IF(ISNA(MATCH(DAY(F27),entry!$J$3:$J$14,0))," ",VLOOKUP(DAY(F27),entry!$J$3:$K$14,2,0)) | H31: =IF(ISNA(MATCH(DAY(H27),entry!$J$3:$J$14,0))," ",VLOOKUP(DAY(H27),entry!$J$3:$K$14,2,0)) | J31: =IF(ISNA(MATCH(DAY(J27),entry!$J$3:$J$14,0))," ",VLOOKUP(DAY(J27),entry!$J$3:$K$14,2,0)) | L31: =IF(ISNA(MATCH(DAY(L27),entry!$J$3:$J$14,0))," ",VLOOKUP(DAY(L27),entry!$J$3:$K$14,2,0)) -> Pay utilities | N31: =IF(ISNA(MATCH(DAY(N27),entry!$J$3:$J$14,0))," ",VLOOKUP(DAY(N27),entry!$J$3:$K$14,2,0)) | S31: Looks for dates in column I of entry sheet. When it finds a match, the contents of the adjacent cell in column J are displayed.
B33: =N27+1 -> 43499 | C33: =IF(ISNA(MATCH(B33,entry!$B$3:$B$51,0))," ",VLOOKUP(B33,entry!$B$3:$C$51,2,0)) | D33: =B33+1 -> 43500 | E33: =IF(ISNA(MATCH(D33,entry!$B$3:$B$51,0))," ",VLOOKUP(D33,entry!$B$3:$C$51,2,0))
B34: =IF(ISNA(MATCH(B33,entry!$D$3:$D$51,0))," ",VLOOKUP(B33,entry!$D$3:$E$51,2,0)) | D34: =IF(ISNA(MATCH(D33,entry!$D$3:$D$51,0))," ",VLOOKUP(D33,entry!$D$3:$E$51,2,0))
B35: =IF(ISNA(MATCH(B33,entry!$F$3:$F$14,0))," ",VLOOKUP(B33,entry!$F$3:$G$14,2,0)) | D35: =IF(ISNA(MATCH(D33,entry!$F$3:$F$14,0))," ",VLOOKUP(D33,entry!$F$3:$G$14,2,0))
B36: =IF(ISNA(MATCH(B33,entry!$H$3:$H$14,0))," ",VLOOKUP(B33,entry!$H$3:$I$14,2,0)) | D36: =IF(ISNA(MATCH(D33,entry!$H$3:$H$14,0))," ",VLOOKUP(D33,entry!$H$3:$I$14,2,0)) | S36: Before Generating a Calendar, delete pages 2 through 12.
B37: =IF(ISNA(MATCH(DAY(B33),entry!$J$3:$J$14,0))," ",VLOOKUP(DAY(B33),entry!$J$3:$K$14,2,0)) | D37: =IF(ISNA(MATCH(DAY(D33),entry!$J$3:$J$14,0))," ",VLOOKUP(DAY(D33),entry!$J$3:$K$14,2,0))
A39: =DATE(entry!$B$1,2,1) -> 43497 | S39: This will delete pages 2 through 12. Clearing these pages will speed up calendar generation.
A77: =DATE(entry!$B$1,3,1) -> 43525
A115: =DATE(entry!$B$1,4,1) -> 43556
A153: =DATE(entry!$B$1,5,1) -> 43586
A191: =DATE(entry!$B$1,6,1) -> 43617
A229: =DATE(entry!$B$1,7,1) -> 43647
A267: =DATE(entry!$B$1,8,1) -> 43678
A305: =DATE(entry!$B$1,9,1) -> 43709
A343: =DATE(entry!$B$1,10,1) -> 43739
A381: =DATE(entry!$B$1,11,1) -> 43770
A419: =DATE(entry!$B$1,12,1) -> 43800

Sheet calendarB
A1: =DATE(entry!$B$1,1,1) -> 43466 | B1: =D1-1 -> 1 | D1: 2 | F1: =D1+1 -> 3 | H1: =F1+1 -> 4 | J1: =H1+1 -> 5 | L1: =J1+1 -> 6 | N1: =L1+1 -> 7 | P1: =A1 -> 43466 | R1: Formulas in CalendarB sheet.
B2: =P1+1-WEEKDAY(P1) -> 43464 | C2: =IF(ISNA(MATCH(B2,entry!$B$3:$B$51,0))," ",VLOOKUP(B2,entry!$B$3:$C$51,2,0)) | D2: =B2+1 -> 43465 | E2: =IF(ISNA(MATCH(D2,entry!$B$3:$B$51,0))," ",VLOOKUP(D2,entry!$B$3:$C$51,2,0)) -> New Years Eve | F2: =D2+1 -> 43466 | G2: =IF(ISNA(MATCH(F2,entry!$B$3:$B$51,0))," ",VLOOKUP(F2,entry!$B$3:$C$51,2,0)) -> New Years Day | H2: =F2+1 -> 43467 | I2: =IF(ISNA(MATCH(H2,entry!$B$3:$B$51,0))," ",VLOOKUP(H2,entry!$B$3:$C$51,2,0)) | J2: =H2+1 -> 43468 | K2: =IF(ISNA(MATCH(J2,entry!$B$3:$B$51,0))," ",VLOOKUP(J2,entry!$B$3:$C$51,2,0)) | L2: =J2+1 -> 43469 | M2: =IF(ISNA(MATCH(L2,entry!$B$3:$B$51,0))," ",VLOOKUP(L2,entry!$B$3:$C$51,2,0)) | N2: =L2+1 -> 43470 | O2: =IF(ISNA(MATCH(N2,entry!$B$3:$B$51,0))," ",VLOOKUP(N2,entry!$B$3:$C$51,2,0)) | R2: =_xlfn.FORMULATEXT(A1) -> =DATE($entry.$B$1,1,1)
B3: =IF(ISNA(MATCH(B2,entry!$D$3:$D$51,0))," ",VLOOKUP(B2,entry!$D$3:$E$51,2,0)) | D3: =IF(ISNA(MATCH(D2,entry!$D$3:$D$51,0))," ",VLOOKUP(D2,entry!$D$3:$E$51,2,0)) | F3: =IF(ISNA(MATCH(F2,entry!$D$3:$D$51,0))," ",VLOOKUP(F2,entry!$D$3:$E$51,2,0)) | H3: =IF(ISNA(MATCH(H2,entry!$D$3:$D$51,0))," ",VLOOKUP(H2,entry!$D$3:$E$51,2,0)) | J3: =IF(ISNA(MATCH(J2,entry!$D$3:$D$51,0))," ",VLOOKUP(J2,entry!$D$3:$E$51,2,0)) | L3: =IF(ISNA(MATCH(L2,entry!$D$3:$D$51,0))," ",VLOOKUP(L2,entry!$D$3:$E$51,2,0)) | N3: =IF(ISNA(MATCH(N2,entry!$D$3:$D$51,0))," ",VLOOKUP(N2,entry!$D$3:$E$51,2,0)) | S3: Cell A1.
B4: =IF(ISNA(MATCH(B2,entry!$F$3:$F$14,0))," ",VLOOKUP(B2,entry!$F$3:$G$14,2,0)) | D4: =IF(ISNA(MATCH(D2,entry!$F$3:$F$14,0))," ",VLOOKUP(D2,entry!$F$3:$G$14,2,0)) | F4: =IF(ISNA(MATCH(F2,entry!$F$3:$F$14,0))," ",VLOOKUP(F2,entry!$F$3:$G$14,2,0)) | H4: =IF(ISNA(MATCH(H2,entry!$F$3:$F$14,0))," ",VLOOKUP(H2,entry!$F$3:$G$14,2,0)) | J4: =IF(ISNA(MATCH(J2,entry!$F$3:$F$14,0))," ",VLOOKUP(J2,entry!$F$3:$G$14,2,0)) | L4: =IF(ISNA(MATCH(L2,entry!$F$3:$F$14,0))," ",VLOOKUP(L2,entry!$F$3:$G$14,2,0)) | N4: =IF(ISNA(MATCH(N2,entry!$F$3:$F$14,0))," ",VLOOKUP(N2,entry!$F$3:$G$14,2,0)) | S4: Defines the month to be displayed
B5: =IF(ISNA(MATCH(B2,entry!$H$3:$H$14,0))," ",VLOOKUP(B2,entry!$H$3:$I$14,2,0)) | D5: =IF(ISNA(MATCH(D2,entry!$H$3:$H$14,0))," ",VLOOKUP(D2,entry!$H$3:$I$14,2,0)) | F5: =IF(ISNA(MATCH(F2,entry!$H$3:$H$14,0))," ",VLOOKUP(F2,entry!$H$3:$I$14,2,0)) | H5: =IF(ISNA(MATCH(F2,entry!$H$3:$H$14,0))," ",VLOOKUP(F2,entry!$H$3:$I$14,2,0)) | J5: =IF(ISNA(MATCH(J2,entry!$H$3:$H$14,0))," ",VLOOKUP(J2,entry!$H$3:$I$14,2,0)) | L5: =IF(ISNA(MATCH(L2,entry!$H$3:$H$14,0))," ",VLOOKUP(L2,entry!$H$3:$I$14,2,0)) | N5: =IF(ISNA(MATCH(N2,entry!$H$3:$H$14,0))," ",VLOOKUP(N2,entry!$H$3:$I$14,2,0)) | R5: =_xlfn.FORMULATEXT(B2) -> =P1+1-WEEKDAY(P1)
B6: =IF(ISNA(MATCH(DAY(B2),entry!$J$3:$J$14,0))," ",VLOOKUP(DAY(B2),entry!$J$3:$K$14,2,0)) | D6: =IF(ISNA(MATCH(DAY(D2),entry!$J$3:$J$14,0))," ",VLOOKUP(DAY(D2),entry!$J$3:$K$14,2,0)) | F6: =IF(ISNA(MATCH(DAY(F2),entry!$J$3:$J$14,0))," ",VLOOKUP(DAY(F2),entry!$J$3:$K$14,2,0)) -> Pay utilities | H6: =IF(ISNA(MATCH(DAY(H2),entry!$J$3:$J$14,0))," ",VLOOKUP(DAY(H2),entry!$J$3:$K$14,2,0)) | J6: =IF(ISNA(MATCH(DAY(J2),entry!$J$3:$J$14,0))," ",VLOOKUP(DAY(J2),entry!$J$3:$K$14,2,0)) | L6: =IF(ISNA(MATCH(DAY(L2),entry!$J$3:$J$14,0))," ",VLOOKUP(DAY(L2),entry!$J$3:$K$14,2,0)) | N6: =IF(ISNA(MATCH(DAY(N2),entry!$J$3:$J$14,0))," ",VLOOKUP(DAY(N2),entry!$J$3:$K$14,2,0)) | S6: First day number cell in the first week.
S7: Controls day of the month numbering.
B8: =N2+1 -> 43471 | C8: =IF(ISNA(MATCH(B8,entry!$B$3:$B$51,0))," ",VLOOKUP(B8,entry!$B$3:$C$51,2,0)) | D8: =B8+1 -> 43472 | E8: =IF(ISNA(MATCH(D8,entry!$B$3:$B$51,0))," ",VLOOKUP(D8,entry!$B$3:$C$51,2,0)) | F8: =D8+1 -> 43473 | G8: =IF(ISNA(MATCH(F8,entry!$B$3:$B$51,0))," ",VLOOKUP(F8,entry!$B$3:$C$51,2,0)) | H8: =F8+1 -> 43474 | I8: =IF(ISNA(MATCH(H8,entry!$B$3:$B$51,0))," ",VLOOKUP(H8,entry!$B$3:$C$51,2,0)) | J8: =H8+1 -> 43475 | K8: =IF(ISNA(MATCH(J8,entry!$B$3:$B$51,0))," ",VLOOKUP(J8,entry!$B$3:$C$51,2,0)) | L8: =J8+1 -> 43476 | M8: =IF(ISNA(MATCH(L8,entry!$B$3:$B$51,0))," ",VLOOKUP(L8,entry!$B$3:$C$51,2,0)) | N8: =L8+1 -> 43477 | O8: =IF(ISNA(MATCH(N8,entry!$B$3:$B$51,0))," ",VLOOKUP(N8,entry!$B$3:$C$51,2,0)) | S8: Controlled by A1.
B9: =IF(ISNA(MATCH(B8,entry!$D$3:$D$51,0))," ",VLOOKUP(B8,entry!$D$3:$E$51,2,0)) | D9: =IF(ISNA(MATCH(D8,entry!$D$3:$D$51,0))," ",VLOOKUP(D8,entry!$D$3:$E$51,2,0)) -> dog license | F9: =IF(ISNA(MATCH(F8,entry!$D$3:$D$51,0))," ",VLOOKUP(F8,entry!$D$3:$E$51,2,0)) | H9: =IF(ISNA(MATCH(H8,entry!$D$3:$D$51,0))," ",VLOOKUP(H8,entry!$D$3:$E$51,2,0)) | J9: =IF(ISNA(MATCH(J8,entry!$D$3:$D$51,0))," ",VLOOKUP(J8,entry!$D$3:$E$51,2,0)) | L9: =IF(ISNA(MATCH(L8,entry!$D$3:$D$51,0))," ",VLOOKUP(L8,entry!$D$3:$E$51,2,0)) | N9: =IF(ISNA(MATCH(N8,entry!$D$3:$D$51,0))," ",VLOOKUP(N8,entry!$D$3:$E$51,2,0)) | R9: =_xlfn.FORMULATEXT(C2) -> =IF(ISNA(MATCH(B2,$entry.$B$3:$B$51,0))," ",VLOOKUP(B2,$entry.$B$3:$C$51,2,0))
B10: =IF(ISNA(MATCH(B8,entry!$F$3:$F$14,0))," ",VLOOKUP(B8,entry!$F$3:$G$14,2,0)) | D10: =IF(ISNA(MATCH(D8,entry!$F$3:$F$14,0))," ",VLOOKUP(D8,entry!$F$3:$G$14,2,0)) | F10: =IF(ISNA(MATCH(F8,entry!$F$3:$F$14,0))," ",VLOOKUP(F8,entry!$F$3:$G$14,2,0)) | H10: =IF(ISNA(MATCH(H8,entry!$F$3:$F$14,0))," ",VLOOKUP(H8,entry!$F$3:$G$14,2,0)) | J10: =IF(ISNA(MATCH(J8,entry!$F$3:$F$14,0))," ",VLOOKUP(J8,entry!$F$3:$G$14,2,0)) | L10: =IF(ISNA(MATCH(L8,entry!$F$3:$F$14,0))," ",VLOOKUP(L8,entry!$F$3:$G$14,2,0)) | N10: =IF(ISNA(MATCH(N8,entry!$F$3:$F$14,0))," ",VLOOKUP(N8,entry!$F$3:$G$14,2,0)) | S10: First line of every day of the month. Reserved for events occurring on the same day of the month, regardless of the year.
B11: =IF(ISNA(MATCH(B8,entry!$H$3:$H$14,0))," ",VLOOKUP(B8,entry!$H$3:$I$14,2,0)) | D11: =IF(ISNA(MATCH(D8,entry!$H$3:$H$14,0))," ",VLOOKUP(D8,entry!$H$3:$I$14,2,0)) | F11: =IF(ISNA(MATCH(F8,entry!$H$3:$H$14,0))," ",VLOOKUP(F8,entry!$H$3:$I$14,2,0)) | H11: =IF(ISNA(MATCH(H8,entry!$H$3:$H$14,0))," ",VLOOKUP(H8,entry!$H$3:$I$14,2,0)) | J11: =IF(ISNA(MATCH(J8,entry!$H$3:$H$14,0))," ",VLOOKUP(J8,entry!$H$3:$I$14,2,0)) | L11: =IF(ISNA(MATCH(L8,entry!$H$3:$H$14,0))," ",VLOOKUP(L8,entry!$H$3:$I$14,2,0)) | N11: =IF(ISNA(MATCH(N8,entry!$H$3:$H$14,0))," ",VLOOKUP(N8,entry!$H$3:$I$14,2,0))
B12: =IF(ISNA(MATCH(DAY(B8),entry!$J$3:$J$14,0))," ",VLOOKUP(DAY(B8),entry!$J$3:$K$14,2,0)) | D12: =IF(ISNA(MATCH(DAY(D8),entry!$J$3:$J$14,0))," ",VLOOKUP(DAY(D8),entry!$J$3:$K$14,2,0)) | F12: =IF(ISNA(MATCH(DAY(F8),entry!$J$3:$J$14,0))," ",VLOOKUP(DAY(F8),entry!$J$3:$K$14,2,0)) | H12: =IF(ISNA(MATCH(DAY(H8),entry!$J$3:$J$14,0))," ",VLOOKUP(DAY(H8),entry!$J$3:$K$14,2,0)) | J12: =IF(ISNA(MATCH(DAY(J8),entry!$J$3:$J$14,0))," ",VLOOKUP(DAY(J8),entry!$J$3:$K$14,2,0)) | L12: =IF(ISNA(MATCH(DAY(L8),entry!$J$3:$J$14,0))," ",VLOOKUP(DAY(L8),entry!$J$3:$K$14,2,0)) | N12: =IF(ISNA(MATCH(DAY(N8),entry!$J$3:$J$14,0))," ",VLOOKUP(DAY(N8),entry!$J$3:$K$14,2,0)) | S12: Looks for dates in column A of entry sheet. When it finds a match, the contents of the adjacent cell in column B are displayed.
B14: =N8+1 -> 43478 | C14: =IF(ISNA(MATCH(P14,entry!$B$3:$B$51,0))," ",VLOOKUP(P14,entry!$B$3:$C$51,2,0)) | D14: =B14+1 -> 43479 | E14: =IF(ISNA(MATCH(D14,entry!$B$3:$B$51,0))," ",VLOOKUP(D14,entry!$B$3:$C$51,2,0)) | F14: =D14+1 -> 43480 | G14: =IF(ISNA(MATCH(F14,entry!$B$3:$B$51,0))," ",VLOOKUP(F14,entry!$B$3:$C$51,2,0)) | H14: =F14+1 -> 43481 | I14: =IF(ISNA(MATCH(H14,entry!$B$3:$B$51,0))," ",VLOOKUP(H14,entry!$B$3:$C$51,2,0)) | J14: =H14+1 -> 43482 | K14: =IF(ISNA(MATCH(J14,entry!$B$3:$B$51,0))," ",VLOOKUP(J14,entry!$B$3:$C$51,2,0)) | L14: =J14+1 -> 43483 | M14: =IF(ISNA(MATCH(L14,entry!$B$3:$B$51,0))," ",VLOOKUP(L14,entry!$B$3:$C$51,2,0)) | N14: =L14+1 -> 43484 | O14: =IF(ISNA(MATCH(N14,entry!$B$3:$B$51,0))," ",VLOOKUP(N14,entry!$B$3:$C$51,2,0)) | R14: =_xlfn.FORMULATEXT(B3) -> =IF(ISNA(MATCH(B2,$entry.$D$3:$D$51,0))," ",VLOOKUP(B2,$entry.$D$3:$E$51,2,0))
B15: =IF(ISNA(MATCH(B14,entry!$D$3:$D$51,0))," ",VLOOKUP(B14,entry!$D$3:$E$51,2,0)) | D15: =IF(ISNA(MATCH(D14,entry!$D$3:$D$51,0))," ",VLOOKUP(D14,entry!$D$3:$E$51,2,0)) | F15: =IF(ISNA(MATCH(F14,entry!$D$3:$D$51,0))," ",VLOOKUP(F14,entry!$D$3:$E$51,2,0)) | H15: =IF(ISNA(MATCH(H14,entry!$D$3:$D$51,0))," ",VLOOKUP(H14,entry!$D$3:$E$51,2,0)) | J15: =IF(ISNA(MATCH(J14,entry!$D$3:$D$51,0))," ",VLOOKUP(J14,entry!$D$3:$E$51,2,0)) | L15: =IF(ISNA(MATCH(L14,entry!$D$3:$D$51,0))," ",VLOOKUP(L14,entry!$D$3:$E$51,2,0)) | N15: =IF(ISNA(MATCH(N14,entry!$D$3:$D$51,0))," ",VLOOKUP(N14,entry!$D$3:$E$51,2,0)) | S15: Second line of every day of the month. Reserved for events occurring on different days of the month, depending on the year.
B16: =IF(ISNA(MATCH(B14,entry!$F$3:$F$14,0))," ",VLOOKUP(B14,entry!$F$3:$G$14,2,0)) | D16: =IF(ISNA(MATCH(D14,entry!$F$3:$F$14,0))," ",VLOOKUP(D14,entry!$F$3:$G$14,2,0)) | F16: =IF(ISNA(MATCH(F14,entry!$F$3:$F$14,0))," ",VLOOKUP(F14,entry!$F$3:$G$14,2,0)) | H16: =IF(ISNA(MATCH(H14,entry!$F$3:$F$14,0))," ",VLOOKUP(H14,entry!$F$3:$G$14,2,0)) | J16: =IF(ISNA(MATCH(J14,entry!$F$3:$F$14,0))," ",VLOOKUP(J14,entry!$F$3:$G$14,2,0)) | L16: =IF(ISNA(MATCH(L14,entry!$F$3:$F$14,0))," ",VLOOKUP(L14,entry!$F$3:$G$14,2,0)) | N16: =IF(ISNA(MATCH(N14,entry!$F$3:$F$14,0))," ",VLOOKUP(N14,entry!$F$3:$G$14,2,0))
B17: =IF(ISNA(MATCH(B14,entry!$H$3:$H$14,0))," ",VLOOKUP(B14,entry!$H$3:$I$14,2,0)) | D17: =IF(ISNA(MATCH(D14,entry!$H$3:$H$14,0))," ",VLOOKUP(D14,entry!$H$3:$I$14,2,0)) | F17: =IF(ISNA(MATCH(F14,entry!$H$3:$H$14,0))," ",VLOOKUP(F14,entry!$H$3:$I$14,2,0)) | H17: =IF(ISNA(MATCH(H14,entry!$H$3:$H$14,0))," ",VLOOKUP(H14,entry!$H$3:$I$14,2,0)) | J17: =IF(ISNA(MATCH(J14,entry!$H$3:$H$14,0))," ",VLOOKUP(J14,entry!$H$3:$I$14,2,0)) | L17: =IF(ISNA(MATCH(L14,entry!$H$3:$H$14,0))," ",VLOOKUP(L14,entry!$H$3:$I$14,2,0)) | N17: =IF(ISNA(MATCH(N14,entry!$H$3:$H$14,0))," ",VLOOKUP(N14,entry!$H$3:$I$14,2,0)) | S17: Also used to display events conflicting with an event listed in Column A.
B18: =IF(ISNA(MATCH(DAY(B14),entry!$J$3:$J$14,0))," ",VLOOKUP(DAY(B14),entry!$J$3:$K$14,2,0)) | D18: =IF(ISNA(MATCH(DAY(D14),entry!$J$3:$J$14,0))," ",VLOOKUP(DAY(D14),entry!$J$3:$K$14,2,0)) | F18: =IF(ISNA(MATCH(DAY(F14),entry!$J$3:$J$14,0))," ",VLOOKUP(DAY(F14),entry!$J$3:$K$14,2,0)) | H18: =IF(ISNA(MATCH(DAY(H14),entry!$J$3:$J$14,0))," ",VLOOKUP(DAY(H14),entry!$J$3:$K$14,2,0)) | J18: =IF(ISNA(MATCH(DAY(J14),entry!$J$3:$J$14,0))," ",VLOOKUP(DAY(J14),entry!$J$3:$K$14,2,0)) | L18: =IF(ISNA(MATCH(DAY(L14),entry!$J$3:$J$14,0))," ",VLOOKUP(DAY(L14),entry!$J$3:$K$14,2,0)) | N18: =IF(ISNA(MATCH(DAY(N14),entry!$J$3:$J$14,0))," ",VLOOKUP(DAY(N14),entry!$J$3:$K$14,2,0)) | S18: Looks for dates in column C of entry sheet. When it finds a match, the contents of the adjacent cell in column D are displayed.
B20: =N14+1 -> 43485 | C20: =IF(ISNA(MATCH(B20,entry!$B$3:$B$51,0))," ",VLOOKUP(B20,entry!$B$3:$C$51,2,0)) | D20: =B20+1 -> 43486 | E20: =IF(ISNA(MATCH(D20,entry!$B$3:$B$51,0))," ",VLOOKUP(D20,entry!$B$3:$C$51,2,0)) | F20: =D20+1 -> 43487 | G20: =IF(ISNA(MATCH(F20,entry!$B$3:$B$51,0))," ",VLOOKUP(F20,entry!$B$3:$C$51,2,0)) | H20: =F20+1 -> 43488 | I20: =IF(ISNA(MATCH(H20,entry!$B$3:$B$51,0))," ",VLOOKUP(H20,entry!$B$3:$C$51,2,0)) | J20: =H20+1 -> 43489 | K20: =IF(ISNA(MATCH(J20,entry!$B$3:$B$51,0))," ",VLOOKUP(J20,entry!$B$3:$C$51,2,0)) | L20: =J20+1 -> 43490 | M20: =IF(ISNA(MATCH(L20,entry!$B$3:$B$51,0))," ",VLOOKUP(L20,entry!$B$3:$C$51,2,0)) | N20: =L20+1 -> 43491 | O20: =IF(ISNA(MATCH(N20,entry!$B$3:$B$51,0))," ",VLOOKUP(N20,entry!$B$3:$C$51,2,0)) | R20: =_xlfn.FORMULATEXT(B4) -> =IF(ISNA(MATCH(B2,$entry.$F$3:$F$14,0))," ",VLOOKUP(B2,$entry.$F$3:$G$14,2,0))
B21: =IF(ISNA(MATCH(B20,entry!$D$3:$D$51,0))," ",VLOOKUP(B20,entry!$D$3:$E$51,2,0)) | D21: =IF(ISNA(MATCH(D20,entry!$D$3:$D$51,0))," ",VLOOKUP(D20,entry!$D$3:$E$51,2,0)) -> Martin Luther King Day | F21: =IF(ISNA(MATCH(F20,entry!$D$3:$D$51,0))," ",VLOOKUP(F20,entry!$D$3:$E$51,2,0)) | H21: =IF(ISNA(MATCH(H20,entry!$D$3:$D$51,0))," ",VLOOKUP(H20,entry!$D$3:$E$51,2,0)) | J21: =IF(ISNA(MATCH(J20,entry!$D$3:$D$51,0))," ",VLOOKUP(J20,entry!$D$3:$E$51,2,0)) | L21: =IF(ISNA(MATCH(L20,entry!$D$3:$D$51,0))," ",VLOOKUP(L20,entry!$D$3:$E$51,2,0)) | N21: =IF(ISNA(MATCH(N20,entry!$D$3:$D$51,0))," ",VLOOKUP(N20,entry!$D$3:$E$51,2,0)) | S21: Third line of every day of the month. Reserved for events occurring biannually.
B22: =IF(ISNA(MATCH(B20,entry!$F$3:$F$14,0))," ",VLOOKUP(B20,entry!$F$3:$G$14,2,0)) | D22: =IF(ISNA(MATCH(D20,entry!$F$3:$F$14,0))," ",VLOOKUP(D20,entry!$F$3:$G$14,2,0)) | F22: =IF(ISNA(MATCH(F20,entry!$F$3:$F$14,0))," ",VLOOKUP(F20,entry!$F$3:$G$14,2,0)) | H22: =IF(ISNA(MATCH(H20,entry!$F$3:$F$14,0))," ",VLOOKUP(H20,entry!$F$3:$G$14,2,0)) | J22: =IF(ISNA(MATCH(J20,entry!$F$3:$F$14,0))," ",VLOOKUP(J20,entry!$F$3:$G$14,2,0)) | L22: =IF(ISNA(MATCH(L20,entry!$F$3:$F$14,0))," ",VLOOKUP(L20,entry!$F$3:$G$14,2,0)) | N22: =IF(ISNA(MATCH(N20,entry!$F$3:$F$14,0))," ",VLOOKUP(N20,entry!$F$3:$G$14,2,0)) | S22: Looks for dates in column E of entry sheet. When it finds a match, the contents of the adjacent cell in column F are displayed.
B23: =IF(ISNA(MATCH(B20,entry!$H$3:$H$14,0))," ",VLOOKUP(B20,entry!$H$3:$I$14,2,0)) | D23: =IF(ISNA(MATCH(D20,entry!$H$3:$H$14,0))," ",VLOOKUP(D20,entry!$H$3:$I$14,2,0)) | F23: =IF(ISNA(MATCH(F20,entry!$H$3:$H$14,0))," ",VLOOKUP(F20,entry!$H$3:$I$14,2,0)) | H23: =IF(ISNA(MATCH(H20,entry!$H$3:$H$14,0))," ",VLOOKUP(H20,entry!$H$3:$I$14,2,0)) | J23: =IF(ISNA(MATCH(J20,entry!$H$3:$H$14,0))," ",VLOOKUP(J20,entry!$H$3:$I$14,2,0)) | L23: =IF(ISNA(MATCH(L20,entry!$H$3:$H$14,0))," ",VLOOKUP(L20,entry!$H$3:$I$14,2,0)) | N23: =IF(ISNA(MATCH(N20,entry!$H$3:$H$14,0))," ",VLOOKUP(N20,entry!$H$3:$I$14,2,0))
B24: =IF(ISNA(MATCH(DAY(B20),entry!$J$3:$J$14,0))," ",VLOOKUP(DAY(B20),entry!$J$3:$K$14,2,0)) | D24: =IF(ISNA(MATCH(DAY(D20),entry!$J$3:$J$14,0))," ",VLOOKUP(DAY(D20),entry!$J$3:$K$14,2,0)) | F24: =IF(ISNA(MATCH(DAY(F20),entry!$J$3:$J$14,0))," ",VLOOKUP(DAY(F20),entry!$J$3:$K$14,2,0)) | H24: =IF(ISNA(MATCH(DAY(H20),entry!$J$3:$J$14,0))," ",VLOOKUP(DAY(H20),entry!$J$3:$K$14,2,0)) | J24: =IF(ISNA(MATCH(DAY(J20),entry!$J$3:$J$14,0))," ",VLOOKUP(DAY(J20),entry!$J$3:$K$14,2,0)) | L24: =IF(ISNA(MATCH(DAY(L20),entry!$J$3:$J$14,0))," ",VLOOKUP(DAY(L20),entry!$J$3:$K$14,2,0)) | N24: =IF(ISNA(MATCH(DAY(N20),entry!$J$3:$J$14,0))," ",VLOOKUP(DAY(N20),entry!$J$3:$K$14,2,0)) | R24: =_xlfn.FORMULATEXT(B5) -> =IF(ISNA(MATCH(B2,$entry.$H$3:$H$14,0))," ",VLOOKUP(B2,$entry.$H$3:$I$14,2,0))
S25: Fourth line of every day of the month. Reserved for events occurring quarterly.
B26: =N20+1 -> 43492 | C26: =IF(ISNA(MATCH(B26,entry!$B$3:$B$51,0))," ",VLOOKUP($C$26,entry!$B$3:$C$51,2,0)) | D26: =B26+1 -> 43493 | E26: =IF(ISNA(MATCH(D26,entry!$B$3:$B$51,0))," ",VLOOKUP(D26,entry!$B$3:$C$51,2,0)) | F26: =D26+1 -> 43494 | G26: =IF(ISNA(MATCH(F26,entry!$B$3:$B$51,0))," ",VLOOKUP(F26,entry!$B$3:$C$51,2,0)) | H26: =F26+1 -> 43495 | I26: =IF(ISNA(MATCH(H26,entry!$B$3:$B$51,0))," ",VLOOKUP(H26,entry!$B$3:$C$51,2,0)) | J26: =H26+1 -> 43496 | K26: =IF(ISNA(MATCH(J26,entry!$B$3:$B$51,0))," ",VLOOKUP(J26,entry!$B$3:$C$51,2,0)) | L26: =J26+1 -> 43497 | M26: =IF(ISNA(MATCH(L26,entry!$B$3:$B$51,0))," ",VLOOKUP(L26,entry!$B$3:$C$51,2,0)) | N26: =L26+1 -> 43498 | O26: =IF(ISNA(MATCH(N26,entry!$B$3:$B$51,0))," ",VLOOKUP(N26,entry!$B$3:$C$51,2,0)) -> Ground Hog's Day | S26: Looks for dates in column G of entry sheet. When it finds a match, the contents of the adjacent cell in column H are displayed.
B27: =IF(ISNA(MATCH(B26,entry!$D$3:$D$51,0))," ",VLOOKUP(B26,entry!$D$3:$E$51,2,0)) | D27: =IF(ISNA(MATCH(D26,entry!$D$3:$D$51,0))," ",VLOOKUP(D26,entry!$D$3:$E$51,2,0)) | F27: =IF(ISNA(MATCH(F26,entry!$D$3:$D$51,0))," ",VLOOKUP(F26,entry!$D$3:$E$51,2,0)) -> Harriet Tubman Birthday | H27: =IF(ISNA(MATCH(H26,entry!$D$3:$D$51,0))," ",VLOOKUP(H26,entry!$D$3:$E$51,2,0)) | J27: =IF(ISNA(MATCH(J26,entry!$D$3:$D$51,0))," ",VLOOKUP(J26,entry!$D$3:$E$51,2,0)) | L27: =IF(ISNA(MATCH(L26,entry!$D$3:$D$51,0))," ",VLOOKUP(L26,entry!$D$3:$E$51,2,0)) | N27: =IF(ISNA(MATCH(N26,entry!$D$3:$D$51,0))," ",VLOOKUP(N26,entry!$D$3:$E$51,2,0))
B28: =IF(ISNA(MATCH(B26,entry!$F$3:$F$14,0))," ",VLOOKUP(B26,entry!$F$3:$G$14,2,0)) | D28: =IF(ISNA(MATCH(D26,entry!$F$3:$F$14,0))," ",VLOOKUP(D26,entry!$F$3:$G$14,2,0)) | F28: =IF(ISNA(MATCH(F26,entry!$F$3:$F$14,0))," ",VLOOKUP(F26,entry!$F$3:$G$14,2,0)) | H28: =IF(ISNA(MATCH(H26,entry!$F$3:$F$14,0))," ",VLOOKUP(H26,entry!$F$3:$G$14,2,0)) | J28: =IF(ISNA(MATCH(J26,entry!$F$3:$F$14,0))," ",VLOOKUP(J26,entry!$F$3:$G$14,2,0)) | L28: =IF(ISNA(MATCH(L26,entry!$F$3:$F$14,0))," ",VLOOKUP(L26,entry!$F$3:$G$14,2,0)) | N28: =IF(ISNA(MATCH(N26,entry!$F$3:$F$14,0))," ",VLOOKUP(N26,entry!$F$3:$G$14,2,0)) | R28: =_xlfn.FORMULATEXT(B6) -> =IF(ISNA(MATCH(DAY(B2),$entry.$J$3:$J$14,0))," ",VLOOKUP(DAY(B2),$entry.$J$3:$K$14,2,0))
B29: =IF(ISNA(MATCH(B26,entry!$H$3:$H$14,0))," ",VLOOKUP(B26,entry!$H$3:$I$14,2,0)) | D29: =IF(ISNA(MATCH(D26,entry!$H$3:$H$14,0))," ",VLOOKUP(D26,entry!$H$3:$I$14,2,0)) | F29: =IF(ISNA(MATCH(F26,entry!$H$3:$H$14,0))," ",VLOOKUP(F26,entry!$H$3:$I$14,2,0)) | H29: =IF(ISNA(MATCH(H26,entry!$H$3:$H$14,0))," ",VLOOKUP(H26,entry!$H$3:$I$14,2,0)) | J29: =IF(ISNA(MATCH(J26,entry!$H$3:$H$14,0))," ",VLOOKUP(J26,entry!$H$3:$I$14,2,0)) | L29: =IF(ISNA(MATCH(26,entry!$H$3:$H$14,0))," ",VLOOKUP(L26,entry!$H$3:$I$14,2,0)) | N29: =IF(ISNA(MATCH(N26,entry!$H$3:$H$14,0))," ",VLOOKUP(N26,entry!$H$3:$I$14,2,0)) | S29: Fifth line of every day of the month. Reserved for events occurring monthly on the same day.
B30: =IF(ISNA(MATCH(DAY(B26),entry!$J$3:$J$14,0))," ",VLOOKUP(DAY(B26),entry!$J$3:$K$14,2,0)) | D30: =IF(ISNA(MATCH(DAY(D26),entry!$J$3:$J$14,0))," ",VLOOKUP(DAY(D26),entry!$J$3:$K$14,2,0)) | F30: =IF(ISNA(MATCH(DAY(F26),entry!$J$3:$J$14,0))," ",VLOOKUP(DAY(F26),entry!$J$3:$K$14,2,0)) | H30: =IF(ISNA(MATCH(DAY(H26),entry!$J$3:$J$14,0))," ",VLOOKUP(DAY(H26),entry!$J$3:$K$14,2,0)) | J30: =IF(ISNA(MATCH(DAY(J26),entry!$J$3:$J$14,0))," ",VLOOKUP(DAY(J26),entry!$J$3:$K$14,2,0)) | L30: =IF(ISNA(MATCH(DAY(L26),entry!$J$3:$J$14,0))," ",VLOOKUP(DAY(L26),entry!$J$3:$K$14,2,0)) -> Pay utilities | N30: =IF(ISNA(MATCH(DAY(N26),entry!$J$3:$J$14,0))," ",VLOOKUP(DAY(N26),entry!$J$3:$K$14,2,0)) | S30: Looks for dates in column I of entry sheet. When it finds a match, the contents of the adjacent cell in column J are displayed.
B32: =N26+1 -> 43499 | C32: =IF(ISNA(MATCH(B32,entry!$B$3:$B$51,0))," ",VLOOKUP(B32,entry!$B$3:$C$51,2,0)) | D32: =B32+1 -> 43500 | E32: =IF(ISNA(MATCH(D32,entry!$B$3:$B$51,0))," ",VLOOKUP(D32,entry!$B$3:$C$51,2,0))
B33: =IF(ISNA(MATCH(B32,entry!$D$3:$D$51,0))," ",VLOOKUP(B32,entry!$D$3:$E$51,2,0)) | D33: =IF(ISNA(MATCH(D32,entry!$D$3:$D$51,0))," ",VLOOKUP(D32,entry!$D$3:$E$51,2,0))
B34: =IF(ISNA(MATCH(B32,entry!$F$3:$F$14,0))," ",VLOOKUP(B32,entry!$F$3:$G$14,2,0)) | D34: =IF(ISNA(MATCH(D32,entry!$F$3:$F$14,0))," ",VLOOKUP(D32,entry!$F$3:$G$14,2,0))
B35: =IF(ISNA(MATCH(B32,entry!$H$3:$H$14,0))," ",VLOOKUP(B32,entry!$H$3:$I$14,2,0)) | D35: =IF(ISNA(MATCH(D32,entry!$H$3:$H$14,0))," ",VLOOKUP(D32,entry!$H$3:$I$14,2,0)) | T35: Before Generating a Calendar, delete pages 2 through 12.
B36: =IF(ISNA(MATCH(DAY(B32),entry!$J$3:$J$14,0))," ",VLOOKUP(DAY(B32),entry!$J$3:$K$14,2,0)) | D36: =IF(ISNA(MATCH(DAY(D32),entry!$J$3:$J$14,0))," ",VLOOKUP(DAY(D32),entry!$J$3:$K$14,2,0))
A38: =DATE(entry!$B$1,2,1) -> 43497 | T38: This will delete pages 2 through 12. Clearing these pages will speed up calendar generation.
A75: =DATE(entry!$B$1,3,1) -> 43525
A112: =DATE(entry!$B$1,4,1) -> 43556
A149: =DATE(entry!$B$1,5,1) -> 43586
A186: =DATE(entry!$B$1,6,1) -> 43617
A223: =DATE(entry!$B$1,7,1) -> 43647
A260: =DATE(entry!$B$1,8,1) -> 43678
A297: =DATE(entry!$B$1,9,1) -> 43709
A334: =DATE(entry!$B$1,10,1) -> 43739
A371: =DATE(entry!$B$1,11,1) -> 43770
A408: =DATE(entry!$B$1,12,1) -> 43800

Sheet calendarC
A1: =DATE(entry!$B$1,1,1) -> 43466 | B1: =D1-1 -> 1 | D1: 2 | F1: =D1+1 -> 3 | H1: =F1+1 -> 4 | J1: =H1+1 -> 5 | L1: =J1+1 -> 6 | N1: =L1+1 -> 7 | P1: =IF(MONTH(F32)=1,UPPER("january"),IF(MONTH(F32)=2,UPPER("february"),IF(MONTH(F32)=3,UPPER("march"),IF(MONTH(F32)=4,UPPER("april"),IF(MONTH(F32)=5,UPPER("may"),IF(MONTH(F32)=6,UPPER("june"),IF(MONTH(F32)=7,UPPER("july"),IF(MONTH(F32)=8,UPPER("august"),IF(MONTH(F32)=9,UPPER("september"),IF(MONTH(F32)=10,UPPER("october"),IF(MONTH(F32)=11,UPPER("november"),IF(MONTH(F32)=12,UPPER("december")," ")))))))))))) -> JANUARY | S1: Formulas in Calendar C sheet.
B2: =F32+1-WEEKDAY(F32) -> 43464 | C2: =IF(ISNA(MATCH(B2,entry!$B$3:$B$51,0))," ",VLOOKUP(B2,entry!$B$3:$C$51,2,0)) | D2: =B2+1 -> 43465 | E2: =IF(ISNA(MATCH(D2,entry!$B$3:$B$51,0))," ",VLOOKUP(D2,entry!$B$3:$C$51,2,0)) -> New Years Eve | F2: =D2+1 -> 43466 | G2: =IF(ISNA(MATCH(F2,entry!$B$3:$a$5r421,0))," ",VLOOKUP(F2,entry!$B$3:$C$51,2,0)) -> New Years Day | H2: =F2+1 -> 43467 | I2: =IF(ISNA(MATCH(H2,entry!$B$3:$B$51,0))," ",VLOOKUP(H2,entry!$B$3:$C$51,2,0)) | J2: =H2+1 -> 43468 | K2: =IF(ISNA(MATCH(J2,entry!$B$3:$B$51,0))," ",VLOOKUP(J2,entry!$B$3:$C$51,2,0)) | L2: =J2+1 -> 43469 | M2: =IF(ISNA(MATCH(L2,entry!$B$3:$B$51,0))," ",VLOOKUP(L2,entry!$B$3:$C$51,2,0)) | N2: =L2+1 -> 43470 | O2: =IF(ISNA(MATCH(N2,entry!$B$3:$B$51,0))," ",VLOOKUP(N2,entry!$B$3:$C$51,2,0)) | S2: =_xlfn.FORMULATEXT(A1) -> =DATE($entry.$B$1,1,1)
B3: =IF(ISNA(MATCH(B2,entry!$D$3:$D$51,0))," ",VLOOKUP(B2,entry!$D$3:$E$51,2,0)) | D3: =IF(ISNA(MATCH(D2,entry!$D$3:$D$51,0))," ",VLOOKUP(D2,entry!$D$3:$E$51,2,0)) | F3: =IF(ISNA(MATCH(F2,entry!$D$3:$D$51,0))," ",VLOOKUP(F2,entry!$D$3:$E$51,2,0)) | H3: =IF(ISNA(MATCH(H2,entry!$D$3:$D$51,0))," ",VLOOKUP(H2,entry!$D$3:$E$51,2,0)) | J3: =IF(ISNA(MATCH(J2,entry!$D$3:$D$51,0))," ",VLOOKUP(J2,entry!$D$3:$E$51,2,0)) | L3: =IF(ISNA(MATCH(L2,entry!$D$3:$D$51,0))," ",VLOOKUP(L2,entry!$D$3:$E$51,2,0)) | N3: =IF(ISNA(MATCH(N2,entry!$D$3:$D$51,0))," ",VLOOKUP(N2,entry!$D$3:$E$51,2,0)) | T3: Cell A1.
B4: =IF(ISNA(MATCH(B2,entry!$F$3:$F$14,0))," ",VLOOKUP(B2,entry!$F$3:$G$14,2,0)) | D4: =IF(ISNA(MATCH(D2,entry!$F$3:$F$14,0))," ",VLOOKUP(D2,entry!$F$3:$G$14,2,0)) | F4: =IF(ISNA(MATCH(F2,entry!$F$3:$F$14,0))," ",VLOOKUP(F2,entry!$F$3:$G$14,2,0)) | H4: =IF(ISNA(MATCH(H2,entry!$F$3:$F$14,0))," ",VLOOKUP(H2,entry!$F$3:$G$14,2,0)) | J4: =IF(ISNA(MATCH(J2,entry!$F$3:$F$14,0))," ",VLOOKUP(J2,entry!$F$3:$G$14,2,0)) | L4: =IF(ISNA(MATCH(L2,entry!$F$3:$F$14,0))," ",VLOOKUP(L2,entry!$F$3:$G$14,2,0)) | N4: =IF(ISNA(MATCH(N2,entry!$F$3:$F$14,0))," ",VLOOKUP(N2,entry!$F$3:$G$14,2,0)) | T4: Defines the month to be displayed
B5: =IF(ISNA(MATCH(B2,entry!$H$3:$H$14,0))," ",VLOOKUP(B2,entry!$H$3:$I$14,2,0)) | D5: =IF(ISNA(MATCH(D2,entry!$H$3:$H$14,0))," ",VLOOKUP(D2,entry!$H$3:$I$14,2,0)) | F5: =IF(ISNA(MATCH(F2,entry!$H$3:$H$14,0))," ",VLOOKUP(F2,entry!$H$3:$I$14,2,0)) | H5: =IF(ISNA(MATCH(F2,entry!$H$3:$H$14,0))," ",VLOOKUP(F2,entry!$H$3:$I$14,2,0)) | J5: =IF(ISNA(MATCH(J2,entry!$H$3:$H$14,0))," ",VLOOKUP(J2,entry!$H$3:$I$14,2,0)) | L5: =IF(ISNA(MATCH(L2,entry!$H$3:$H$14,0))," ",VLOOKUP(L2,entry!$H$3:$I$14,2,0)) | N5: =IF(ISNA(MATCH(N2,entry!$H$3:$H$14,0))," ",VLOOKUP(N2,entry!$H$3:$I$14,2,0)) | S5: =_xlfn.FORMULATEXT(P1) -> =IF(MONTH(F32)=1,UPPER("january"),IF(MONTH(F32)=2,UPPER("february"),IF(MONTH(F32)=3,UPPER("march"),IF(MONTH(F32)=4,UPPER("april"),IF(MONTH(F32)=5,UPPER("may"),IF(MONTH(F32)=6,UPPER("june"),IF(MONTH(F32)=7,UPPER("july"),IF(MONTH(F32)=8,UPPER("august"),IF(MONTH(F32)=9,UPPER("september"),IF(MONTH(F32)=10,UPPER("october"),IF(MONTH(F32)=11,UPPER("november"),IF(MONTH(F32)=12,UPPER("december")," "))))))))))))
B6: =IF(ISNA(MATCH(DAY(B2),entry!$J$3:$J$14,0))," ",VLOOKUP(DAY(B2),entry!$J$3:$K$14,2,0)) | D6: =IF(ISNA(MATCH(DAY(D2),entry!$J$3:$J$14,0))," ",VLOOKUP(DAY(D2),entry!$J$3:$K$14,2,0)) | F6: =IF(ISNA(MATCH(DAY(F2),entry!$J$3:$J$14,0))," ",VLOOKUP(DAY(F2),entry!$J$3:$K$14,2,0)) -> Pay utilities | H6: =IF(ISNA(MATCH(DAY(H2),entry!$J$3:$J$14,0))," ",VLOOKUP(DAY(H2),entry!$J$3:$K$14,2,0)) | J6: =IF(ISNA(MATCH(DAY(J2),entry!$J$3:$J$14,0))," ",VLOOKUP(DAY(J2),entry!$J$3:$K$14,2,0)) | L6: =IF(ISNA(MATCH(DAY(L2),entry!$J$3:$J$14,0))," ",VLOOKUP(DAY(L2),entry!$J$3:$K$14,2,0)) | N6: =IF(ISNA(MATCH(DAY(N2),entry!$J$3:$J$14,0))," ",VLOOKUP(DAY(N2),entry!$J$3:$K$14,2,0))
B8: =N2+1 -> 43471 | C8: =IF(ISNA(MATCH(B8,entry!$B$3:$B$51,0))," ",VLOOKUP(B8,entry!$B$3:$C$51,2,0)) | D8: =B8+1 -> 43472 | E8: =IF(ISNA(MATCH(D8,entry!$B$3:$B$51,0))," ",VLOOKUP(D8,entry!$B$3:$C$51,2,0)) | F8: =D8+1 -> 43473 | G8: =IF(ISNA(MATCH(F8,entry!$B$3:$B$51,0))," ",VLOOKUP(F8,entry!$B$3:$C$51,2,0)) | H8: =F8+1 -> 43474 | I8: =IF(ISNA(MATCH(H8,entry!$B$3:$B$51,0))," ",VLOOKUP(H8,entry!$B$3:$C$51,2,0)) | J8: =H8+1 -> 43475 | K8: =IF(ISNA(MATCH(J8,entry!$B$3:$B$51,0))," ",VLOOKUP(J8,entry!$B$3:$C$51,2,0)) | L8: =J8+1 -> 43476 | M8: =IF(ISNA(MATCH(L8,entry!$B$3:$B$51,0))," ",VLOOKUP(L8,entry!$B$3:$C$51,2,0)) | N8: =L8+1 -> 43477 | O8: =IF(ISNA(MATCH(N8,entry!$B$3:$B$51,0))," ",VLOOKUP(N8,entry!$B$3:$C$51,2,0))
B9: =IF(ISNA(MATCH(B8,entry!$D$3:$D$51,0))," ",VLOOKUP(B8,entry!$D$3:$E$51,2,0)) | D9: =IF(ISNA(MATCH(D8,entry!$D$3:$D$51,0))," ",VLOOKUP(D8,entry!$D$3:$E$51,2,0)) -> dog license | F9: =IF(ISNA(MATCH(F8,entry!$D$3:$D$51,0))," ",VLOOKUP(F8,entry!$D$3:$E$51,2,0)) | H9: =IF(ISNA(MATCH(H8,entry!$D$3:$D$51,0))," ",VLOOKUP(H8,entry!$D$3:$E$51,2,0)) | J9: =IF(ISNA(MATCH(J8,entry!$D$3:$D$51,0))," ",VLOOKUP(J8,entry!$D$3:$E$51,2,0)) | L9: =IF(ISNA(MATCH(L8,entry!$D$3:$D$51,0))," ",VLOOKUP(L8,entry!$D$3:$E$51,2,0)) | N9: =IF(ISNA(MATCH(N8,entry!$D$3:$D$51,0))," ",VLOOKUP(N8,entry!$D$3:$E$51,2,0)) | T9: Displays month in UPPER case.
B10: =IF(ISNA(MATCH(B8,entry!$F$3:$F$14,0))," ",VLOOKUP(B8,entry!$F$3:$G$14,2,0)) | D10: =IF(ISNA(MATCH(D8,entry!$F$3:$F$14,0))," ",VLOOKUP(D8,entry!$F$3:$G$14,2,0)) | F10: =IF(ISNA(MATCH(F8,entry!$F$3:$F$14,0))," ",VLOOKUP(F8,entry!$F$3:$G$14,2,0)) | H10: =IF(ISNA(MATCH(H8,entry!$F$3:$F$14,0))," ",VLOOKUP(H8,entry!$F$3:$G$14,2,0)) | J10: =IF(ISNA(MATCH(J8,entry!$F$3:$F$14,0))," ",VLOOKUP(J8,entry!$F$3:$G$14,2,0)) | L10: =IF(ISNA(MATCH(L8,entry!$F$3:$F$14,0))," ",VLOOKUP(L8,entry!$F$3:$G$14,2,0)) | N10: =IF(ISNA(MATCH(N8,entry!$F$3:$F$14,0))," ",VLOOKUP(N8,entry!$F$3:$G$14,2,0)) | S10: =_xlfn.FORMULATEXT(B2) -> =F32+1-WEEKDAY(F32)
B11: =IF(ISNA(MATCH(B8,entry!$H$3:$H$14,0))," ",VLOOKUP(B8,entry!$H$3:$I$14,2,0)) | D11: =IF(ISNA(MATCH(D8,entry!$H$3:$H$14,0))," ",VLOOKUP(D8,entry!$H$3:$I$14,2,0)) | F11: =IF(ISNA(MATCH(F8,entry!$H$3:$H$14,0))," ",VLOOKUP(F8,entry!$H$3:$I$14,2,0)) | H11: =IF(ISNA(MATCH(H8,entry!$H$3:$H$14,0))," ",VLOOKUP(H8,entry!$H$3:$I$14,2,0)) | J11: =IF(ISNA(MATCH(J8,entry!$H$3:$H$14,0))," ",VLOOKUP(J8,entry!$H$3:$I$14,2,0)) | L11: =IF(ISNA(MATCH(L8,entry!$H$3:$H$14,0))," ",VLOOKUP(L8,entry!$H$3:$I$14,2,0)) | N11: =IF(ISNA(MATCH(N8,entry!$H$3:$H$14,0))," ",VLOOKUP(N8,entry!$H$3:$I$14,2,0)) | T11: First day number cell in the first week.
B12: =IF(ISNA(MATCH(DAY(B8),entry!$J$3:$J$14,0))," ",VLOOKUP(DAY(B8),entry!$J$3:$K$14,2,0)) | D12: =IF(ISNA(MATCH(DAY(D8),entry!$J$3:$J$14,0))," ",VLOOKUP(DAY(D8),entry!$J$3:$K$14,2,0)) | F12: =IF(ISNA(MATCH(DAY(F8),entry!$J$3:$J$14,0))," ",VLOOKUP(DAY(F8),entry!$J$3:$K$14,2,0)) | H12: =IF(ISNA(MATCH(DAY(H8),entry!$J$3:$J$14,0))," ",VLOOKUP(DAY(H8),entry!$J$3:$K$14,2,0)) | J12: =IF(ISNA(MATCH(DAY(J8),entry!$J$3:$J$14,0))," ",VLOOKUP(DAY(J8),entry!$J$3:$K$14,2,0)) | L12: =IF(ISNA(MATCH(DAY(L8),entry!$J$3:$J$14,0))," ",VLOOKUP(DAY(L8),entry!$J$3:$K$14,2,0)) | N12: =IF(ISNA(MATCH(DAY(N8),entry!$J$3:$J$14,0))," ",VLOOKUP(DAY(N8),entry!$J$3:$K$14,2,0)) | T12: Controls day of the month numbering.
T13: Controlled by F32.
B14: =N8+1 -> 43478 | C14: =IF(ISNA(MATCH(P14,entry!$B$3:$B$51,0))," ",VLOOKUP(P14,entry!$B$3:$C$51,2,0)) | D14: =B14+1 -> 43479 | E14: =IF(ISNA(MATCH(D14,entry!$B$3:$B$51,0))," ",VLOOKUP(D14,entry!$B$3:$C$51,2,0)) | F14: =D14+1 -> 43480 | G14: =IF(ISNA(MATCH(F14,entry!$B$3:$B$51,0))," ",VLOOKUP(F14,entry!$B$3:$C$51,2,0)) | H14: =F14+1 -> 43481 | I14: =IF(ISNA(MATCH(H14,entry!$B$3:$B$51,0))," ",VLOOKUP(H14,entry!$B$3:$C$51,2,0)) | J14: =H14+1 -> 43482 | K14: =IF(ISNA(MATCH(J14,entry!$B$3:$B$51,0))," ",VLOOKUP(J14,entry!$B$3:$C$51,2,0)) | L14: =J14+1 -> 43483 | M14: =IF(ISNA(MATCH(L14,entry!$B$3:$B$51,0))," ",VLOOKUP(L14,entry!$B$3:$C$51,2,0)) | N14: =L14+1 -> 43484 | O14: =IF(ISNA(MATCH(N14,entry!$B$3:$B$51,0))," ",VLOOKUP(N14,entry!$B$3:$C$51,2,0)) | S14: =_xlfn.FORMULATEXT(C2) -> =IF(ISNA(MATCH(B2,$entry.$B$3:$B$51,0))," ",VLOOKUP(B2,$entry.$B$3:$C$51,2,0))
B15: =IF(ISNA(MATCH(B14,entry!$D$3:$D$51,0))," ",VLOOKUP(B14,entry!$D$3:$E$51,2,0)) | D15: =IF(ISNA(MATCH(D14,entry!$D$3:$D$51,0))," ",VLOOKUP(D14,entry!$D$3:$E$51,2,0)) | F15: =IF(ISNA(MATCH(F14,entry!$D$3:$D$51,0))," ",VLOOKUP(F14,entry!$D$3:$E$51,2,0)) | H15: =IF(ISNA(MATCH(H14,entry!$D$3:$D$51,0))," ",VLOOKUP(H14,entry!$D$3:$E$51,2,0)) | J15: =IF(ISNA(MATCH(J14,entry!$D$3:$D$51,0))," ",VLOOKUP(J14,entry!$D$3:$E$51,2,0)) | L15: =IF(ISNA(MATCH(L14,entry!$D$3:$D$51,0))," ",VLOOKUP(L14,entry!$D$3:$E$51,2,0)) | N15: =IF(ISNA(MATCH(N14,entry!$D$3:$D$51,0))," ",VLOOKUP(N14,entry!$D$3:$E$51,2,0)) | T15: First line of every day of the month. Reserved for events occurring on the same day of the month, regardless of the year.
B16: =IF(ISNA(MATCH(B14,entry!$F$3:$F$14,0))," ",VLOOKUP(B14,entry!$F$3:$G$14,2,0)) | D16: =IF(ISNA(MATCH(D14,entry!$F$3:$F$14,0))," ",VLOOKUP(D14,entry!$F$3:$G$14,2,0)) | F16: =IF(ISNA(MATCH(F14,entry!$F$3:$F$14,0))," ",VLOOKUP(F14,entry!$F$3:$G$14,2,0)) | H16: =IF(ISNA(MATCH(H14,entry!$F$3:$F$14,0))," ",VLOOKUP(H14,entry!$F$3:$G$14,2,0)) | J16: =IF(ISNA(MATCH(J14,entry!$F$3:$F$14,0))," ",VLOOKUP(J14,entry!$F$3:$G$14,2,0)) | L16: =IF(ISNA(MATCH(L14,entry!$F$3:$F$14,0))," ",VLOOKUP(L14,entry!$F$3:$G$14,2,0)) | N16: =IF(ISNA(MATCH(N14,entry!$F$3:$F$14,0))," ",VLOOKUP(N14,entry!$F$3:$G$14,2,0))
B17: =IF(ISNA(MATCH(B14,entry!$H$3:$H$14,0))," ",VLOOKUP(B14,entry!$H$3:$I$14,2,0)) | D17: =IF(ISNA(MATCH(D14,entry!$H$3:$H$14,0))," ",VLOOKUP(D14,entry!$H$3:$I$14,2,0)) | F17: =IF(ISNA(MATCH(F14,entry!$H$3:$H$14,0))," ",VLOOKUP(F14,entry!$H$3:$I$14,2,0)) | H17: =IF(ISNA(MATCH(H14,entry!$H$3:$H$14,0))," ",VLOOKUP(H14,entry!$H$3:$I$14,2,0)) | J17: =IF(ISNA(MATCH(J14,entry!$H$3:$H$14,0))," ",VLOOKUP(J14,entry!$H$3:$I$14,2,0)) | L17: =IF(ISNA(MATCH(L14,entry!$H$3:$H$14,0))," ",VLOOKUP(L14,entry!$H$3:$I$14,2,0)) | N17: =IF(ISNA(MATCH(N14,entry!$H$3:$H$14,0))," ",VLOOKUP(N14,entry!$H$3:$I$14,2,0)) | T17: Looks for dates in column A of entry sheet. When it finds a match, the contents of the adjacent cell in column B are displayed.
B18: =IF(ISNA(MATCH(DAY(B14),entry!$J$3:$J$14,0))," ",VLOOKUP(DAY(B14),entry!$J$3:$K$14,2,0)) | D18: =IF(ISNA(MATCH(DAY(D14),entry!$J$3:$J$14,0))," ",VLOOKUP(DAY(D14),entry!$J$3:$K$14,2,0)) | F18: =IF(ISNA(MATCH(DAY(F14),entry!$J$3:$J$14,0))," ",VLOOKUP(DAY(F14),entry!$J$3:$K$14,2,0)) | H18: =IF(ISNA(MATCH(DAY(H14),entry!$J$3:$J$14,0))," ",VLOOKUP(DAY(H14),entry!$J$3:$K$14,2,0)) | J18: =IF(ISNA(MATCH(DAY(J14),entry!$J$3:$J$14,0))," ",VLOOKUP(DAY(J14),entry!$J$3:$K$14,2,0)) | L18: =IF(ISNA(MATCH(DAY(L14),entry!$J$3:$J$14,0))," ",VLOOKUP(DAY(L14),entry!$J$3:$K$14,2,0)) | N18: =IF(ISNA(MATCH(DAY(N14),entry!$J$3:$J$14,0))," ",VLOOKUP(DAY(N14),entry!$J$3:$K$14,2,0))
S19: =_xlfn.FORMULATEXT(B3) -> =IF(ISNA(MATCH(B2,$entry.$D$3:$D$51,0))," ",VLOOKUP(B2,$entry.$D$3:$E$51,2,0))
B20: =N14+1 -> 43485 | C20: =IF(ISNA(MATCH(B20,entry!$B$3:$B$51,0))," ",VLOOKUP(B20,entry!$B$3:$C$51,2,0)) | D20: =B20+1 -> 43486 | E20: =IF(ISNA(MATCH(D20,entry!$B$3:$B$51,0))," ",VLOOKUP(D20,entry!$B$3:$C$51,2,0)) | F20: =D20+1 -> 43487 | G20: =IF(ISNA(MATCH(F20,entry!$B$3:$B$51,0))," ",VLOOKUP(F20,entry!$B$3:$C$51,2,0)) | H20: =F20+1 -> 43488 | I20: =IF(ISNA(MATCH(H20,entry!$B$3:$B$51,0))," ",VLOOKUP(H20,entry!$B$3:$C$51,2,0)) | J20: =H20+1 -> 43489 | K20: =IF(ISNA(MATCH(J20,entry!$B$3:$B$51,0))," ",VLOOKUP(J20,entry!$B$3:$C$51,2,0)) | L20: =J20+1 -> 43490 | M20: =IF(ISNA(MATCH(L20,entry!$B$3:$B$51,0))," ",VLOOKUP(L20,entry!$B$3:$C$51,2,0)) | N20: =L20+1 -> 43491 | O20: =IF(ISNA(MATCH(N20,entry!$B$3:$B$51,0))," ",VLOOKUP(N20,entry!$B$3:$C$51,2,0)) | T20: Second line of every day of the month. Reserved for events occurring on different days of the month, depending on the year.
B21: =IF(ISNA(MATCH(B20,entry!$D$3:$D$51,0))," ",VLOOKUP(B20,entry!$D$3:$E$51,2,0)) | D21: =IF(ISNA(MATCH(D20,entry!$D$3:$D$51,0))," ",VLOOKUP(D20,entry!$D$3:$E$51,2,0)) -> Martin Luther King Day | F21: =IF(ISNA(MATCH(F20,entry!$D$3:$D$51,0))," ",VLOOKUP(F20,entry!$D$3:$E$51,2,0)) | H21: =IF(ISNA(MATCH(H20,entry!$D$3:$D$51,0))," ",VLOOKUP(H20,entry!$D$3:$E$51,2,0)) | J21: =IF(ISNA(MATCH(J20,entry!$D$3:$D$51,0))," ",VLOOKUP(J20,entry!$D$3:$E$51,2,0)) | L21: =IF(ISNA(MATCH(L20,entry!$D$3:$D$51,0))," ",VLOOKUP(L20,entry!$D$3:$E$51,2,0)) | N21: =IF(ISNA(MATCH(N20,entry!$D$3:$D$51,0))," ",VLOOKUP(N20,entry!$D$3:$E$51,2,0))
B22: =IF(ISNA(MATCH(B20,entry!$F$3:$F$14,0))," ",VLOOKUP(B20,entry!$F$3:$G$14,2,0)) | D22: =IF(ISNA(MATCH(D20,entry!$F$3:$F$14,0))," ",VLOOKUP(D20,entry!$F$3:$G$14,2,0)) | F22: =IF(ISNA(MATCH(F20,entry!$F$3:$F$14,0))," ",VLOOKUP(F20,entry!$F$3:$G$14,2,0)) | H22: =IF(ISNA(MATCH(H20,entry!$F$3:$F$14,0))," ",VLOOKUP(H20,entry!$F$3:$G$14,2,0)) | J22: =IF(ISNA(MATCH(J20,entry!$F$3:$F$14,0))," ",VLOOKUP(J20,entry!$F$3:$G$14,2,0)) | L22: =IF(ISNA(MATCH(L20,entry!$F$3:$F$14,0))," ",VLOOKUP(L20,entry!$F$3:$G$14,2,0)) | N22: =IF(ISNA(MATCH(N20,entry!$F$3:$F$14,0))," ",VLOOKUP(N20,entry!$F$3:$G$14,2,0)) | T22: Also used to display events conflicting with an event listed in Column A.
B23: =IF(ISNA(MATCH(B20,entry!$H$3:$H$14,0))," ",VLOOKUP(B20,entry!$H$3:$I$14,2,0)) | D23: =IF(ISNA(MATCH(D20,entry!$H$3:$H$14,0))," ",VLOOKUP(D20,entry!$H$3:$I$14,2,0)) | F23: =IF(ISNA(MATCH(F20,entry!$H$3:$H$14,0))," ",VLOOKUP(F20,entry!$H$3:$I$14,2,0)) | H23: =IF(ISNA(MATCH(H20,entry!$H$3:$H$14,0))," ",VLOOKUP(H20,entry!$H$3:$I$14,2,0)) | J23: =IF(ISNA(MATCH(J20,entry!$H$3:$H$14,0))," ",VLOOKUP(J20,entry!$H$3:$I$14,2,0)) | L23: =IF(ISNA(MATCH(L20,entry!$H$3:$H$14,0))," ",VLOOKUP(L20,entry!$H$3:$I$14,2,0)) | N23: =IF(ISNA(MATCH(N20,entry!$H$3:$H$14,0))," ",VLOOKUP(N20,entry!$H$3:$I$14,2,0)) | T23: Looks for dates in column C of entry sheet. When it finds a match, the contents of the adjacent cell in column D are displayed.
B24: =IF(ISNA(MATCH(DAY(B20),entry!$J$3:$J$14,0))," ",VLOOKUP(DAY(B20),entry!$J$3:$K$14,2,0)) | D24: =IF(ISNA(MATCH(DAY(D20),entry!$J$3:$J$14,0))," ",VLOOKUP(DAY(D20),entry!$J$3:$K$14,2,0)) | F24: =IF(ISNA(MATCH(DAY(F20),entry!$J$3:$J$14,0))," ",VLOOKUP(DAY(F20),entry!$J$3:$K$14,2,0)) | H24: =IF(ISNA(MATCH(DAY(H20),entry!$J$3:$J$14,0))," ",VLOOKUP(DAY(H20),entry!$J$3:$K$14,2,0)) | J24: =IF(ISNA(MATCH(DAY(J20),entry!$J$3:$J$14,0))," ",VLOOKUP(DAY(J20),entry!$J$3:$K$14,2,0)) | L24: =IF(ISNA(MATCH(DAY(L20),entry!$J$3:$J$14,0))," ",VLOOKUP(DAY(L20),entry!$J$3:$K$14,2,0)) | N24: =IF(ISNA(MATCH(DAY(N20),entry!$J$3:$J$14,0))," ",VLOOKUP(DAY(N20),entry!$J$3:$K$14,2,0))
S25: =_xlfn.FORMULATEXT(B4) -> =IF(ISNA(MATCH(B2,$entry.$F$3:$F$14,0))," ",VLOOKUP(B2,$entry.$F$3:$G$14,2,0))
B26: =N20+1 -> 43492 | C26: =IF(ISNA(MATCH(B26,entry!$B$3:$B$51,0))," ",VLOOKUP($C$26,entry!$B$3:$C$51,2,0)) | D26: =B26+1 -> 43493 | E26: =IF(ISNA(MATCH(D26,entry!$B$3:$B$51,0))," ",VLOOKUP(D26,entry!$B$3:$C$51,2,0)) | F26: =D26+1 -> 43494 | G26: =IF(ISNA(MATCH(F26,entry!$B$3:$B$51,0))," ",VLOOKUP(F26,entry!$B$3:$C$51,2,0)) | H26: =F26+1 -> 43495 | I26: =IF(ISNA(MATCH(H26,entry!$B$3:$B$51,0))," ",VLOOKUP(H26,entry!$B$3:$C$51,2,0)) | J26: =H26+1 -> 43496 | K26: =IF(ISNA(MATCH(J26,entry!$B$3:$B$51,0))," ",VLOOKUP(J26,entry!$B$3:$C$51,2,0)) | L26: =J26+1 -> 43497 | M26: =IF(ISNA(MATCH(L26,entry!$B$3:$B$51,0))," ",VLOOKUP(L26,entry!$B$3:$C$51,2,0)) | N26: =L26+1 -> 43498 | O26: =IF(ISNA(MATCH(N26,entry!$B$3:$B$51,0))," ",VLOOKUP(N26,entry!$B$3:$C$51,2,0)) -> Ground Hog's Day | T26: Third line of every day of the month. Reserved for events occurring biannually.
B27: =IF(ISNA(MATCH(B26,entry!$D$3:$D$51,0))," ",VLOOKUP(B26,entry!$D$3:$E$51,2,0)) | D27: =IF(ISNA(MATCH(D26,entry!$D$3:$D$51,0))," ",VLOOKUP(D26,entry!$D$3:$E$51,2,0)) | F27: =IF(ISNA(MATCH(F26,entry!$D$3:$D$51,0))," ",VLOOKUP(F26,entry!$D$3:$E$51,2,0)) -> Harriet Tubman Birthday | H27: =IF(ISNA(MATCH(H26,entry!$D$3:$D$51,0))," ",VLOOKUP(H26,entry!$D$3:$E$51,2,0)) | J27: =IF(ISNA(MATCH(J26,entry!$D$3:$D$51,0))," ",VLOOKUP(J26,entry!$D$3:$E$51,2,0)) | L27: =IF(ISNA(MATCH(L26,entry!$D$3:$D$51,0))," ",VLOOKUP(L26,entry!$D$3:$E$51,2,0)) | N27: =IF(ISNA(MATCH(N26,entry!$D$3:$D$51,0))," ",VLOOKUP(N26,entry!$D$3:$E$51,2,0)) | T27: Looks for dates in column E of entry sheet. When it finds a match, the contents of the adjacent cell in column F are displayed.
B28: =IF(ISNA(MATCH(B26,entry!$F$3:$F$14,0))," ",VLOOKUP(B26,entry!$F$3:$G$14,2,0)) | D28: =IF(ISNA(MATCH(D26,entry!$F$3:$F$14,0))," ",VLOOKUP(D26,entry!$F$3:$G$14,2,0)) | F28: =IF(ISNA(MATCH(F26,entry!$F$3:$F$14,0))," ",VLOOKUP(F26,entry!$F$3:$G$14,2,0)) | H28: =IF(ISNA(MATCH(H26,entry!$F$3:$F$14,0))," ",VLOOKUP(H26,entry!$F$3:$G$14,2,0)) | J28: =IF(ISNA(MATCH(J26,entry!$F$3:$F$14,0))," ",VLOOKUP(J26,entry!$F$3:$G$14,2,0)) | L28: =IF(ISNA(MATCH(L26,entry!$F$3:$F$14,0))," ",VLOOKUP(L26,entry!$F$3:$G$14,2,0)) | N28: =IF(ISNA(MATCH(N26,entry!$F$3:$F$14,0))," ",VLOOKUP(N26,entry!$F$3:$G$14,2,0))
B29: =IF(ISNA(MATCH(B26,entry!$H$3:$H$14,0))," ",VLOOKUP(B26,entry!$H$3:$I$14,2,0)) | D29: =IF(ISNA(MATCH(D26,entry!$H$3:$H$14,0))," ",VLOOKUP(D26,entry!$H$3:$I$14,2,0)) | F29: =IF(ISNA(MATCH(F26,entry!$H$3:$H$14,0))," ",VLOOKUP(F26,entry!$H$3:$I$14,2,0)) | H29: =IF(ISNA(MATCH(H26,entry!$H$3:$H$14,0))," ",VLOOKUP(H26,entry!$H$3:$I$14,2,0)) | J29: =IF(ISNA(MATCH(J26,entry!$H$3:$H$14,0))," ",VLOOKUP(J26,entry!$H$3:$I$14,2,0)) | L29: =IF(ISNA(MATCH(26,entry!$H$3:$H$14,0))," ",VLOOKUP(L26,entry!$H$3:$I$14,2,0)) | N29: =IF(ISNA(MATCH(N26,entry!$H$3:$H$14,0))," ",VLOOKUP(N26,entry!$H$3:$I$14,2,0)) | S29: =_xlfn.FORMULATEXT(B5) -> =IF(ISNA(MATCH(B2,$entry.$H$3:$H$14,0))," ",VLOOKUP(B2,$entry.$H$3:$I$14,2,0))
B30: =IF(ISNA(MATCH(DAY(B26),entry!$J$3:$J$14,0))," ",VLOOKUP(DAY(B26),entry!$J$3:$K$14,2,0)) | D30: =IF(ISNA(MATCH(DAY(D26),entry!$J$3:$J$14,0))," ",VLOOKUP(DAY(D26),entry!$J$3:$K$14,2,0)) | F30: =IF(ISNA(MATCH(DAY(F26),entry!$J$3:$J$14,0))," ",VLOOKUP(DAY(F26),entry!$J$3:$K$14,2,0)) | H30: =IF(ISNA(MATCH(DAY(H26),entry!$J$3:$J$14,0))," ",VLOOKUP(DAY(H26),entry!$J$3:$K$14,2,0)) | J30: =IF(ISNA(MATCH(DAY(J26),entry!$J$3:$J$14,0))," ",VLOOKUP(DAY(J26),entry!$J$3:$K$14,2,0)) | L30: =IF(ISNA(MATCH(DAY(L26),entry!$J$3:$J$14,0))," ",VLOOKUP(DAY(L26),entry!$J$3:$K$14,2,0)) -> Pay utilities | N30: =IF(ISNA(MATCH(DAY(N26),entry!$J$3:$J$14,0))," ",VLOOKUP(DAY(N26),entry!$J$3:$K$14,2,0)) | T30: Fourth line of every day of the month. Reserved for events occurring quarterly.
T31: Looks for dates in column G of entry sheet. When it finds a match, the contents of the adjacent cell in column H are displayed.
B32: =N26+1 -> 43499 | C32: =IF(ISNA(MATCH(B32,entry!$B$3:$B$51,0))," ",VLOOKUP(B32,entry!$B$3:$C$51,2,0)) | D32: =B32+1 -> 43500 | E32: =IF(ISNA(MATCH(D32,entry!$B$3:$B$51,0))," ",VLOOKUP(D32,entry!$B$3:$C$51,2,0)) | F32: =A1 -> 43466
B33: =IF(ISNA(MATCH(B32,entry!$D$3:$D$51,0))," ",VLOOKUP(B32,entry!$D$3:$E$51,2,0)) | D33: =IF(ISNA(MATCH(D32,entry!$D$3:$D$51,0))," ",VLOOKUP(D32,entry!$D$3:$E$51,2,0)) | S33: =_xlfn.FORMULATEXT(B6) -> =IF(ISNA(MATCH(DAY(B2),$entry.$J$3:$J$14,0))," ",VLOOKUP(DAY(B2),$entry.$J$3:$K$14,2,0))
B34: =IF(ISNA(MATCH(B32,entry!$F$3:$F$14,0))," ",VLOOKUP(B32,entry!$F$3:$G$14,2,0)) | D34: =IF(ISNA(MATCH(D32,entry!$F$3:$F$14,0))," ",VLOOKUP(D32,entry!$F$3:$G$14,2,0)) | T34: Fifth line of every day of the month. Reserved for events occurring monthly on the same day.
B35: =IF(ISNA(MATCH(B32,entry!$H$3:$H$14,0))," ",VLOOKUP(B32,entry!$H$3:$I$14,2,0)) | D35: =IF(ISNA(MATCH(D32,entry!$H$3:$H$14,0))," ",VLOOKUP(D32,entry!$H$3:$I$14,2,0)) | T35: Looks for dates in column I of entry sheet. When it finds a match, the contents of the adjacent cell in column J are displayed.
B36: =IF(ISNA(MATCH(DAY(B32),entry!$J$3:$J$14,0))," ",VLOOKUP(DAY(B32),entry!$J$3:$K$14,2,0)) | D36: =IF(ISNA(MATCH(DAY(D32),entry!$J$3:$J$14,0))," ",VLOOKUP(DAY(D32),entry!$J$3:$K$14,2,0))
A38: =DATE(entry!$B$1,2,1) -> 43497
U39: Before Generating a Calendar, delete pages 2 through 12.
U43: This will delete pages 2 through 12. Clearing these pages will speed up calendar generation.
A75: =DATE(entry!$B$1,3,1) -> 43525
A112: =DATE(entry!$B$1,4,1) -> 43556
A149: =DATE(entry!$B$1,5,1) -> 43586
A186: =DATE(entry!$B$1,6,1) -> 43617
A223: =DATE(entry!$B$1,7,1) -> 43647
A260: =DATE(entry!$B$1,8,1) -> 43678
A297: =DATE(entry!$B$1,9,1) -> 43709
A334: =DATE(entry!$B$1,10,1) -> 43739
A371: =DATE(entry!$B$1,11,1) -> 43770
A408: =DATE(entry!$B$1,12,1) -> 43800

Sheet calendarD
A1: =DATE(entry!$B$1,1,1) -> 43466 | B1: =D1-1 -> 1 | D1: 2 | F1: =D1+1 -> 3 | H1: =F1+1 -> 4 | J1: =H1+1 -> 5 | L1: =J1+1 -> 6 | N1: =L1+1 -> 7 | R1: Formulas in CalendarD sheet.
B2: =F32+1-WEEKDAY(F32) -> 43464 | C2: =IF(ISNA(MATCH(B2,entry!$B$3:$B$51,0))," ",VLOOKUP(B2,entry!$B$3:$C$51,2,0)) | D2: =B2+1 -> 43465 | E2: =IF(ISNA(MATCH(D2,entry!$B$3:$B$51,0))," ",VLOOKUP(D2,entry!$B$3:$C$51,2,0)) -> New Years Eve | F2: =D2+1 -> 43466 | G2: =IF(ISNA(MATCH(F2,entry!$B$3:$B$51,0))," ",VLOOKUP(F2,entry!$B$3:$C$51,2,0)) -> New Years Day | H2: =F2+1 -> 43467 | I2: =IF(ISNA(MATCH(H2,entry!$B$3:$B$51,0))," ",VLOOKUP(H2,entry!$B$3:$C$51,2,0)) | J2: =H2+1 -> 43468 | K2: =IF(ISNA(MATCH(J2,entry!$B$3:$B$51,0))," ",VLOOKUP(J2,entry!$B$3:$C$51,2,0)) | L2: =J2+1 -> 43469 | M2: =IF(ISNA(MATCH(L2,entry!$B$3:$B$51,0))," ",VLOOKUP(L2,entry!$B$3:$C$51,2,0)) | N2: =L2+1 -> 43470 | O2: =IF(ISNA(MATCH(N2,entry!$B$3:$B$51,0))," ",VLOOKUP(N2,entry!$B$3:$C$51,2,0)) | R2: =_xlfn.FORMULATEXT(A1) -> =DATE($entry.$B$1,1,1)
B3: =IF(ISNA(MATCH(B2,entry!$D$3:$D$51,0))," ",VLOOKUP(B2,entry!$D$3:$E$51,2,0)) | D3: =IF(ISNA(MATCH(D2,entry!$D$3:$D$51,0))," ",VLOOKUP(D2,entry!$D$3:$E$51,2,0)) | F3: =IF(ISNA(MATCH(F2,entry!$D$3:$D$51,0))," ",VLOOKUP(F2,entry!$D$3:$E$51,2,0)) | H3: =IF(ISNA(MATCH(H2,entry!$D$3:$D$51,0))," ",VLOOKUP(H2,entry!$D$3:$E$51,2,0)) | J3: =IF(ISNA(MATCH(J2,entry!$D$3:$D$51,0))," ",VLOOKUP(J2,entry!$D$3:$E$51,2,0)) | L3: =IF(ISNA(MATCH(L2,entry!$D$3:$D$51,0))," ",VLOOKUP(L2,entry!$D$3:$E$51,2,0)) | N3: =IF(ISNA(MATCH(N2,entry!$D$3:$D$51,0))," ",VLOOKUP(N2,entry!$D$3:$E$51,2,0)) | S3: Cell A1.
B4: =IF(ISNA(MATCH(B2,entry!$F$3:$F$14,0))," ",VLOOKUP(B2,entry!$F$3:$G$14,2,0)) | D4: =IF(ISNA(MATCH(D2,entry!$F$3:$F$14,0))," ",VLOOKUP(D2,entry!$F$3:$G$14,2,0)) | F4: =IF(ISNA(MATCH(F2,entry!$F$3:$F$14,0))," ",VLOOKUP(F2,entry!$F$3:$G$14,2,0)) | H4: =IF(ISNA(MATCH(H2,entry!$F$3:$F$14,0))," ",VLOOKUP(H2,entry!$F$3:$G$14,2,0)) | J4: =IF(ISNA(MATCH(J2,entry!$F$3:$F$14,0))," ",VLOOKUP(J2,entry!$F$3:$G$14,2,0)) | L4: =IF(ISNA(MATCH(L2,entry!$F$3:$F$14,0))," ",VLOOKUP(L2,entry!$F$3:$G$14,2,0)) | N4: =IF(ISNA(MATCH(N2,entry!$F$3:$F$14,0))," ",VLOOKUP(N2,entry!$F$3:$G$14,2,0)) | S4: Defines the month to be displayed
B5: =IF(ISNA(MATCH(B2,entry!$H$3:$H$14,0))," ",VLOOKUP(B2,entry!$H$3:$I$14,2,0)) | D5: =IF(ISNA(MATCH(D2,entry!$H$3:$H$14,0))," ",VLOOKUP(D2,entry!$H$3:$I$14,2,0)) | F5: =IF(ISNA(MATCH(F2,entry!$H$3:$H$14,0))," ",VLOOKUP(F2,entry!$H$3:$I$14,2,0)) | H5: =IF(ISNA(MATCH(F2,entry!$H$3:$H$14,0))," ",VLOOKUP(F2,entry!$H$3:$I$14,2,0)) | J5: =IF(ISNA(MATCH(J2,entry!$H$3:$H$14,0))," ",VLOOKUP(J2,entry!$H$3:$I$14,2,0)) | L5: =IF(ISNA(MATCH(L2,entry!$H$3:$H$14,0))," ",VLOOKUP(L2,entry!$H$3:$I$14,2,0)) | N5: =IF(ISNA(MATCH(N2,entry!$H$3:$H$14,0))," ",VLOOKUP(N2,entry!$H$3:$I$14,2,0)) | R5: =_xlfn.FORMULATEXT(E32) -> =IF(ISNA(MATCH(D32,$entry.$B$3:$B$51,0))," ",VLOOKUP(D32,$entry.$B$3:$C$51,2,0))
B6: =IF(ISNA(MATCH(DAY(B2),entry!$J$3:$J$14,0))," ",VLOOKUP(DAY(B2),entry!$J$3:$K$14,2,0)) | D6: =IF(ISNA(MATCH(DAY(D2),entry!$J$3:$J$14,0))," ",VLOOKUP(DAY(D2),entry!$J$3:$K$14,2,0)) | F6: =IF(ISNA(MATCH(DAY(F2),entry!$J$3:$J$14,0))," ",VLOOKUP(DAY(F2),entry!$J$3:$K$14,2,0)) -> Pay utilities | H6: =IF(ISNA(MATCH(DAY(H2),entry!$J$3:$J$14,0))," ",VLOOKUP(DAY(H2),entry!$J$3:$K$14,2,0)) | J6: =IF(ISNA(MATCH(DAY(J2),entry!$J$3:$J$14,0))," ",VLOOKUP(DAY(J2),entry!$J$3:$K$14,2,0)) | L6: =IF(ISNA(MATCH(DAY(L2),entry!$J$3:$J$14,0))," ",VLOOKUP(DAY(L2),entry!$J$3:$K$14,2,0)) | N6: =IF(ISNA(MATCH(DAY(N2),entry!$J$3:$J$14,0))," ",VLOOKUP(DAY(N2),entry!$J$3:$K$14,2,0)) | S6: Cell E32.
S7: Defines the month to be displayed
B8: =N2+1 -> 43471 | C8: =IF(ISNA(MATCH(B8,entry!$B$3:$B$51,0))," ",VLOOKUP(B8,entry!$B$3:$C$51,2,0)) | D8: =B8+1 -> 43472 | E8: =IF(ISNA(MATCH(D8,entry!$B$3:$B$51,0))," ",VLOOKUP(D8,entry!$B$3:$C$51,2,0)) | F8: =D8+1 -> 43473 | G8: =IF(ISNA(MATCH(F8,entry!$B$3:$B$51,0))," ",VLOOKUP(F8,entry!$B$3:$C$51,2,0)) | H8: =F8+1 -> 43474 | I8: =IF(ISNA(MATCH(H8,entry!$B$3:$B$51,0))," ",VLOOKUP(H8,entry!$B$3:$C$51,2,0)) | J8: =H8+1 -> 43475 | K8: =IF(ISNA(MATCH(J8,entry!$B$3:$B$51,0))," ",VLOOKUP(J8,entry!$B$3:$C$51,2,0)) | L8: =J8+1 -> 43476 | M8: =IF(ISNA(MATCH(L8,entry!$B$3:$B$51,0))," ",VLOOKUP(L8,entry!$B$3:$C$51,2,0)) | N8: =L8+1 -> 43477 | O8: =IF(ISNA(MATCH(N8,entry!$B$3:$B$51,0))," ",VLOOKUP(N8,entry!$B$3:$C$51,2,0)) | S8: Column A is hidden.
B9: =IF(ISNA(MATCH(B8,entry!$D$3:$D$51,0))," ",VLOOKUP(B8,entry!$D$3:$E$51,2,0)) | D9: =IF(ISNA(MATCH(D8,entry!$D$3:$D$51,0))," ",VLOOKUP(D8,entry!$D$3:$E$51,2,0)) -> dog license | F9: =IF(ISNA(MATCH(F8,entry!$D$3:$D$51,0))," ",VLOOKUP(F8,entry!$D$3:$E$51,2,0)) | H9: =IF(ISNA(MATCH(H8,entry!$D$3:$D$51,0))," ",VLOOKUP(H8,entry!$D$3:$E$51,2,0)) | J9: =IF(ISNA(MATCH(J8,entry!$D$3:$D$51,0))," ",VLOOKUP(J8,entry!$D$3:$E$51,2,0)) | L9: =IF(ISNA(MATCH(L8,entry!$D$3:$D$51,0))," ",VLOOKUP(L8,entry!$D$3:$E$51,2,0)) | N9: =IF(ISNA(MATCH(N8,entry!$D$3:$D$51,0))," ",VLOOKUP(N8,entry!$D$3:$E$51,2,0)) | R9: =_xlfn.FORMULATEXT(B2) -> =F32+1-WEEKDAY(F32)
B10: =IF(ISNA(MATCH(B8,entry!$F$3:$F$14,0))," ",VLOOKUP(B8,entry!$F$3:$G$14,2,0)) | D10: =IF(ISNA(MATCH(D8,entry!$F$3:$F$14,0))," ",VLOOKUP(D8,entry!$F$3:$G$14,2,0)) | F10: =IF(ISNA(MATCH(F8,entry!$F$3:$F$14,0))," ",VLOOKUP(F8,entry!$F$3:$G$14,2,0)) | H10: =IF(ISNA(MATCH(H8,entry!$F$3:$F$14,0))," ",VLOOKUP(H8,entry!$F$3:$G$14,2,0)) | J10: =IF(ISNA(MATCH(J8,entry!$F$3:$F$14,0))," ",VLOOKUP(J8,entry!$F$3:$G$14,2,0)) | L10: =IF(ISNA(MATCH(L8,entry!$F$3:$F$14,0))," ",VLOOKUP(L8,entry!$F$3:$G$14,2,0)) | N10: =IF(ISNA(MATCH(N8,entry!$F$3:$F$14,0))," ",VLOOKUP(N8,entry!$F$3:$G$14,2,0)) | S10: First day number cell in the first week.
B11: =IF(ISNA(MATCH(B8,entry!$H$3:$H$14,0))," ",VLOOKUP(B8,entry!$H$3:$I$14,2,0)) | D11: =IF(ISNA(MATCH(D8,entry!$H$3:$H$14,0))," ",VLOOKUP(D8,entry!$H$3:$I$14,2,0)) | F11: =IF(ISNA(MATCH(F8,entry!$H$3:$H$14,0))," ",VLOOKUP(F8,entry!$H$3:$I$14,2,0)) | H11: =IF(ISNA(MATCH(H8,entry!$H$3:$H$14,0))," ",VLOOKUP(H8,entry!$H$3:$I$14,2,0)) | J11: =IF(ISNA(MATCH(J8,entry!$H$3:$H$14,0))," ",VLOOKUP(J8,entry!$H$3:$I$14,2,0)) | L11: =IF(ISNA(MATCH(L8,entry!$H$3:$H$14,0))," ",VLOOKUP(L8,entry!$H$3:$I$14,2,0)) | N11: =IF(ISNA(MATCH(N8,entry!$H$3:$H$14,0))," ",VLOOKUP(N8,entry!$H$3:$I$14,2,0)) | S11: Controls day of the month numbering.
B12: =IF(ISNA(MATCH(DAY(B8),entry!$J$3:$J$14,0))," ",VLOOKUP(DAY(B8),entry!$J$3:$K$14,2,0)) | D12: =IF(ISNA(MATCH(DAY(D8),entry!$J$3:$J$14,0))," ",VLOOKUP(DAY(D8),entry!$J$3:$K$14,2,0)) | F12: =IF(ISNA(MATCH(DAY(F8),entry!$J$3:$J$14,0))," ",VLOOKUP(DAY(F8),entry!$J$3:$K$14,2,0)) | H12: =IF(ISNA(MATCH(DAY(H8),entry!$J$3:$J$14,0))," ",VLOOKUP(DAY(H8),entry!$J$3:$K$14,2,0)) | J12: =IF(ISNA(MATCH(DAY(J8),entry!$J$3:$J$14,0))," ",VLOOKUP(DAY(J8),entry!$J$3:$K$14,2,0)) | L12: =IF(ISNA(MATCH(DAY(L8),entry!$J$3:$J$14,0))," ",VLOOKUP(DAY(L8),entry!$J$3:$K$14,2,0)) | N12: =IF(ISNA(MATCH(DAY(N8),entry!$J$3:$J$14,0))," ",VLOOKUP(DAY(N8),entry!$J$3:$K$14,2,0)) | S12: Controlled by A1.
R13: =_xlfn.FORMULATEXT(C2) -> =IF(ISNA(MATCH(B2,$entry.$B$3:$B$51,0))," ",VLOOKUP(B2,$entry.$B$3:$C$51,2,0))
B14: =N8+1 -> 43478 | C14: =IF(ISNA(MATCH(P14,entry!$B$3:$B$51,0))," ",VLOOKUP(P14,entry!$B$3:$C$51,2,0)) | D14: =B14+1 -> 43479 | E14: =IF(ISNA(MATCH(D14,entry!$B$3:$B$51,0))," ",VLOOKUP(D14,entry!$B$3:$C$51,2,0)) | F14: =D14+1 -> 43480 | G14: =IF(ISNA(MATCH(F14,entry!$B$3:$B$51,0))," ",VLOOKUP(F14,entry!$B$3:$C$51,2,0)) | H14: =F14+1 -> 43481 | I14: =IF(ISNA(MATCH(H14,entry!$B$3:$B$51,0))," ",VLOOKUP(H14,entry!$B$3:$C$51,2,0)) | J14: =H14+1 -> 43482 | K14: =IF(ISNA(MATCH(J14,entry!$B$3:$B$51,0))," ",VLOOKUP(J14,entry!$B$3:$C$51,2,0)) | L14: =J14+1 -> 43483 | M14: =IF(ISNA(MATCH(L14,entry!$B$3:$B$51,0))," ",VLOOKUP(L14,entry!$B$3:$C$51,2,0)) | N14: =L14+1 -> 43484 | O14: =IF(ISNA(MATCH(N14,entry!$B$3:$B$51,0))," ",VLOOKUP(N14,entry!$B$3:$C$51,2,0)) | S14: First line of every day of the month. Reserved for events occurring on the same day of the month, regardless of the year.
B15: =IF(ISNA(MATCH(B14,entry!$D$3:$D$51,0))," ",VLOOKUP(B14,entry!$D$3:$E$51,2,0)) | D15: =IF(ISNA(MATCH(D14,entry!$D$3:$D$51,0))," ",VLOOKUP(D14,entry!$D$3:$E$51,2,0)) | F15: =IF(ISNA(MATCH(F14,entry!$D$3:$D$51,0))," ",VLOOKUP(F14,entry!$D$3:$E$51,2,0)) | H15: =IF(ISNA(MATCH(H14,entry!$D$3:$D$51,0))," ",VLOOKUP(H14,entry!$D$3:$E$51,2,0)) | J15: =IF(ISNA(MATCH(J14,entry!$D$3:$D$51,0))," ",VLOOKUP(J14,entry!$D$3:$E$51,2,0)) | L15: =IF(ISNA(MATCH(L14,entry!$D$3:$D$51,0))," ",VLOOKUP(L14,entry!$D$3:$E$51,2,0)) | N15: =IF(ISNA(MATCH(N14,entry!$D$3:$D$51,0))," ",VLOOKUP(N14,entry!$D$3:$E$51,2,0))
B16: =IF(ISNA(MATCH(B14,entry!$F$3:$F$14,0))," ",VLOOKUP(B14,entry!$F$3:$G$14,2,0)) | D16: =IF(ISNA(MATCH(D14,entry!$F$3:$F$14,0))," ",VLOOKUP(D14,entry!$F$3:$G$14,2,0)) | F16: =IF(ISNA(MATCH(F14,entry!$F$3:$F$14,0))," ",VLOOKUP(F14,entry!$F$3:$G$14,2,0)) | H16: =IF(ISNA(MATCH(H14,entry!$F$3:$F$14,0))," ",VLOOKUP(H14,entry!$F$3:$G$14,2,0)) | J16: =IF(ISNA(MATCH(J14,entry!$F$3:$F$14,0))," ",VLOOKUP(J14,entry!$F$3:$G$14,2,0)) | L16: =IF(ISNA(MATCH(L14,entry!$F$3:$F$14,0))," ",VLOOKUP(L14,entry!$F$3:$G$14,2,0)) | N16: =IF(ISNA(MATCH(N14,entry!$F$3:$F$14,0))," ",VLOOKUP(N14,entry!$F$3:$G$14,2,0)) | S16: Looks for dates in column A of entry sheet. When it finds a match, the contents of the adjacent cell in column B are displayed.
B17: =IF(ISNA(MATCH(B14,entry!$H$3:$H$14,0))," ",VLOOKUP(B14,entry!$H$3:$I$14,2,0)) | D17: =IF(ISNA(MATCH(D14,entry!$H$3:$H$14,0))," ",VLOOKUP(D14,entry!$H$3:$I$14,2,0)) | F17: =IF(ISNA(MATCH(F14,entry!$H$3:$H$14,0))," ",VLOOKUP(F14,entry!$H$3:$I$14,2,0)) | H17: =IF(ISNA(MATCH(H14,entry!$H$3:$H$14,0))," ",VLOOKUP(H14,entry!$H$3:$I$14,2,0)) | J17: =IF(ISNA(MATCH(J14,entry!$H$3:$H$14,0))," ",VLOOKUP(J14,entry!$H$3:$I$14,2,0)) | L17: =IF(ISNA(MATCH(L14,entry!$H$3:$H$14,0))," ",VLOOKUP(L14,entry!$H$3:$I$14,2,0)) | N17: =IF(ISNA(MATCH(N14,entry!$H$3:$H$14,0))," ",VLOOKUP(N14,entry!$H$3:$I$14,2,0))
B18: =IF(ISNA(MATCH(DAY(B14),entry!$J$3:$J$14,0))," ",VLOOKUP(DAY(B14),entry!$J$3:$K$14,2,0)) | D18: =IF(ISNA(MATCH(DAY(D14),entry!$J$3:$J$14,0))," ",VLOOKUP(DAY(D14),entry!$J$3:$K$14,2,0)) | F18: =IF(ISNA(MATCH(DAY(F14),entry!$J$3:$J$14,0))," ",VLOOKUP(DAY(F14),entry!$J$3:$K$14,2,0)) | H18: =IF(ISNA(MATCH(DAY(H14),entry!$J$3:$J$14,0))," ",VLOOKUP(DAY(H14),entry!$J$3:$K$14,2,0)) | J18: =IF(ISNA(MATCH(DAY(J14),entry!$J$3:$J$14,0))," ",VLOOKUP(DAY(J14),entry!$J$3:$K$14,2,0)) | L18: =IF(ISNA(MATCH(DAY(L14),entry!$J$3:$J$14,0))," ",VLOOKUP(DAY(L14),entry!$J$3:$K$14,2,0)) | N18: =IF(ISNA(MATCH(DAY(N14),entry!$J$3:$J$14,0))," ",VLOOKUP(DAY(N14),entry!$J$3:$K$14,2,0)) | R18: =_xlfn.FORMULATEXT(B3) -> =IF(ISNA(MATCH(B2,$entry.$D$3:$D$51,0))," ",VLOOKUP(B2,$entry.$D$3:$E$51,2,0))
S19: Second line of every day of the month. Reserved for events occurring on different days of the month, depending on the year.
B20: =N14+1 -> 43485 | C20: =IF(ISNA(MATCH(B20,entry!$B$3:$B$51,0))," ",VLOOKUP(B20,entry!$B$3:$C$51,2,0)) | D20: =B20+1 -> 43486 | E20: =IF(ISNA(MATCH(D20,entry!$B$3:$B$51,0))," ",VLOOKUP(D20,entry!$B$3:$C$51,2,0)) | F20: =D20+1 -> 43487 | G20: =IF(ISNA(MATCH(F20,entry!$B$3:$B$51,0))," ",VLOOKUP(F20,entry!$B$3:$C$51,2,0)) | H20: =F20+1 -> 43488 | I20: =IF(ISNA(MATCH(H20,entry!$B$3:$B$51,0))," ",VLOOKUP(H20,entry!$B$3:$C$51,2,0)) | J20: =H20+1 -> 43489 | K20: =IF(ISNA(MATCH(J20,entry!$B$3:$B$51,0))," ",VLOOKUP(J20,entry!$B$3:$C$51,2,0)) | L20: =J20+1 -> 43490 | M20: =IF(ISNA(MATCH(L20,entry!$B$3:$B$51,0))," ",VLOOKUP(L20,entry!$B$3:$C$51,2,0)) | N20: =L20+1 -> 43491 | O20: =IF(ISNA(MATCH(N20,entry!$B$3:$B$51,0))," ",VLOOKUP(N20,entry!$B$3:$C$51,2,0))
B21: =IF(ISNA(MATCH(B20,entry!$D$3:$D$51,0))," ",VLOOKUP(B20,entry!$D$3:$E$51,2,0)) | D21: =IF(ISNA(MATCH(D20,entry!$D$3:$D$51,0))," ",VLOOKUP(D20,entry!$D$3:$E$51,2,0)) -> Martin Luther King Day | F21: =IF(ISNA(MATCH(F20,entry!$D$3:$D$51,0))," ",VLOOKUP(F20,entry!$D$3:$E$51,2,0)) | H21: =IF(ISNA(MATCH(H20,entry!$D$3:$D$51,0))," ",VLOOKUP(H20,entry!$D$3:$E$51,2,0)) | J21: =IF(ISNA(MATCH(J20,entry!$D$3:$D$51,0))," ",VLOOKUP(J20,entry!$D$3:$E$51,2,0)) | L21: =IF(ISNA(MATCH(L20,entry!$D$3:$D$51,0))," ",VLOOKUP(L20,entry!$D$3:$E$51,2,0)) | N21: =IF(ISNA(MATCH(N20,entry!$D$3:$D$51,0))," ",VLOOKUP(N20,entry!$D$3:$E$51,2,0)) | S21: Also used to display events conflicting with an event listed in Column A.
B22: =IF(ISNA(MATCH(B20,entry!$F$3:$F$14,0))," ",VLOOKUP(B20,entry!$F$3:$G$14,2,0)) | D22: =IF(ISNA(MATCH(D20,entry!$F$3:$F$14,0))," ",VLOOKUP(D20,entry!$F$3:$G$14,2,0)) | F22: =IF(ISNA(MATCH(F20,entry!$F$3:$F$14,0))," ",VLOOKUP(F20,entry!$F$3:$G$14,2,0)) | H22: =IF(ISNA(MATCH(H20,entry!$F$3:$F$14,0))," ",VLOOKUP(H20,entry!$F$3:$G$14,2,0)) | J22: =IF(ISNA(MATCH(J20,entry!$F$3:$F$14,0))," ",VLOOKUP(J20,entry!$F$3:$G$14,2,0)) | L22: =IF(ISNA(MATCH(L20,entry!$F$3:$F$14,0))," ",VLOOKUP(L20,entry!$F$3:$G$14,2,0)) | N22: =IF(ISNA(MATCH(N20,entry!$F$3:$F$14,0))," ",VLOOKUP(N20,entry!$F$3:$G$14,2,0)) | S22: Looks for dates in column C of entry sheet. When it finds a match, the contents of the adjacent cell in column D are displayed.
B23: =IF(ISNA(MATCH(B20,entry!$H$3:$H$14,0))," ",VLOOKUP(B20,entry!$H$3:$I$14,2,0)) | D23: =IF(ISNA(MATCH(D20,entry!$H$3:$H$14,0))," ",VLOOKUP(D20,entry!$H$3:$I$14,2,0)) | F23: =IF(ISNA(MATCH(F20,entry!$H$3:$H$14,0))," ",VLOOKUP(F20,entry!$H$3:$I$14,2,0)) | H23: =IF(ISNA(MATCH(H20,entry!$H$3:$H$14,0))," ",VLOOKUP(H20,entry!$H$3:$I$14,2,0)) | J23: =IF(ISNA(MATCH(J20,entry!$H$3:$H$14,0))," ",VLOOKUP(J20,entry!$H$3:$I$14,2,0)) | L23: =IF(ISNA(MATCH(L20,entry!$H$3:$H$14,0))," ",VLOOKUP(L20,entry!$H$3:$I$14,2,0)) | N23: =IF(ISNA(MATCH(N20,entry!$H$3:$H$14,0))," ",VLOOKUP(N20,entry!$H$3:$I$14,2,0))
B24: =IF(ISNA(MATCH(DAY(B20),entry!$J$3:$J$14,0))," ",VLOOKUP(DAY(B20),entry!$J$3:$K$14,2,0)) | D24: =IF(ISNA(MATCH(DAY(D20),entry!$J$3:$J$14,0))," ",VLOOKUP(DAY(D20),entry!$J$3:$K$14,2,0)) | F24: =IF(ISNA(MATCH(DAY(F20),entry!$J$3:$J$14,0))," ",VLOOKUP(DAY(F20),entry!$J$3:$K$14,2,0)) | H24: =IF(ISNA(MATCH(DAY(H20),entry!$J$3:$J$14,0))," ",VLOOKUP(DAY(H20),entry!$J$3:$K$14,2,0)) | J24: =IF(ISNA(MATCH(DAY(J20),entry!$J$3:$J$14,0))," ",VLOOKUP(DAY(J20),entry!$J$3:$K$14,2,0)) | L24: =IF(ISNA(MATCH(DAY(L20),entry!$J$3:$J$14,0))," ",VLOOKUP(DAY(L20),entry!$J$3:$K$14,2,0)) | N24: =IF(ISNA(MATCH(DAY(N20),entry!$J$3:$J$14,0))," ",VLOOKUP(DAY(N20),entry!$J$3:$K$14,2,0)) | R24: =_xlfn.FORMULATEXT(B4) -> =IF(ISNA(MATCH(B2,$entry.$F$3:$F$14,0))," ",VLOOKUP(B2,$entry.$F$3:$G$14,2,0))
S25: Third line of every day of the month. Reserved for events occurring biannually.
B26: =N20+1 -> 43492 | C26: =IF(ISNA(MATCH(B26,entry!$B$3:$B$51,0))," ",VLOOKUP($C$26,entry!$B$3:$C$51,2,0)) | D26: =B26+1 -> 43493 | E26: =IF(ISNA(MATCH(D26,entry!$B$3:$B$51,0))," ",VLOOKUP(D26,entry!$B$3:$C$51,2,0)) | F26: =D26+1 -> 43494 | G26: =IF(ISNA(MATCH(F26,entry!$B$3:$B$51,0))," ",VLOOKUP(F26,entry!$B$3:$C$51,2,0)) | H26: =F26+1 -> 43495 | I26: =IF(ISNA(MATCH(H26,entry!$B$3:$B$51,0))," ",VLOOKUP(H26,entry!$B$3:$C$51,2,0)) | J26: =H26+1 -> 43496 | K26: =IF(ISNA(MATCH(J26,entry!$B$3:$B$51,0))," ",VLOOKUP(J26,entry!$B$3:$C$51,2,0)) | L26: =J26+1 -> 43497 | M26: =IF(ISNA(MATCH(L26,entry!$B$3:$B$51,0))," ",VLOOKUP(L26,entry!$B$3:$C$51,2,0)) | N26: =L26+1 -> 43498 | O26: =IF(ISNA(MATCH(N26,entry!$B$3:$B$51,0))," ",VLOOKUP(N26,entry!$B$3:$C$51,2,0)) -> Ground Hog's Day | S26: Looks for dates in column E of entry sheet. When it finds a match, the contents of the adjacent cell in column F are displayed.
B27: =IF(ISNA(MATCH(B26,entry!$D$3:$D$51,0))," ",VLOOKUP(B26,entry!$D$3:$E$51,2,0)) | D27: =IF(ISNA(MATCH(D26,entry!$D$3:$D$51,0))," ",VLOOKUP(D26,entry!$D$3:$E$51,2,0)) | F27: =IF(ISNA(MATCH(F26,entry!$D$3:$D$51,0))," ",VLOOKUP(F26,entry!$D$3:$E$51,2,0)) -> Harriet Tubman Birthday | H27: =IF(ISNA(MATCH(H26,entry!$D$3:$D$51,0))," ",VLOOKUP(H26,entry!$D$3:$E$51,2,0)) | J27: =IF(ISNA(MATCH(J26,entry!$D$3:$D$51,0))," ",VLOOKUP(J26,entry!$D$3:$E$51,2,0)) | L27: =IF(ISNA(MATCH(L26,entry!$D$3:$D$51,0))," ",VLOOKUP(L26,entry!$D$3:$E$51,2,0)) | N27: =IF(ISNA(MATCH(N26,entry!$D$3:$D$51,0))," ",VLOOKUP(N26,entry!$D$3:$E$51,2,0))
B28: =IF(ISNA(MATCH(B26,entry!$F$3:$F$14,0))," ",VLOOKUP(B26,entry!$F$3:$G$14,2,0)) | D28: =IF(ISNA(MATCH(D26,entry!$F$3:$F$14,0))," ",VLOOKUP(D26,entry!$F$3:$G$14,2,0)) | F28: =IF(ISNA(MATCH(F26,entry!$F$3:$F$14,0))," ",VLOOKUP(F26,entry!$F$3:$G$14,2,0)) | H28: =IF(ISNA(MATCH(H26,entry!$F$3:$F$14,0))," ",VLOOKUP(H26,entry!$F$3:$G$14,2,0)) | J28: =IF(ISNA(MATCH(J26,entry!$F$3:$F$14,0))," ",VLOOKUP(J26,entry!$F$3:$G$14,2,0)) | L28: =IF(ISNA(MATCH(L26,entry!$F$3:$F$14,0))," ",VLOOKUP(L26,entry!$F$3:$G$14,2,0)) | N28: =IF(ISNA(MATCH(N26,entry!$F$3:$F$14,0))," ",VLOOKUP(N26,entry!$F$3:$G$14,2,0)) | R28: =_xlfn.FORMULATEXT(B5) -> =IF(ISNA(MATCH(B2,$entry.$H$3:$H$14,0))," ",VLOOKUP(B2,$entry.$H$3:$I$14,2,0))
B29: =IF(ISNA(MATCH(B26,entry!$H$3:$H$14,0))," ",VLOOKUP(B26,entry!$H$3:$I$14,2,0)) | D29: =IF(ISNA(MATCH(D26,entry!$H$3:$H$14,0))," ",VLOOKUP(D26,entry!$H$3:$I$14,2,0)) | F29: =IF(ISNA(MATCH(F26,entry!$H$3:$H$14,0))," ",VLOOKUP(F26,entry!$H$3:$I$14,2,0)) | H29: =IF(ISNA(MATCH(H26,entry!$H$3:$H$14,0))," ",VLOOKUP(H26,entry!$H$3:$I$14,2,0)) | J29: =IF(ISNA(MATCH(J26,entry!$H$3:$H$14,0))," ",VLOOKUP(J26,entry!$H$3:$I$14,2,0)) | L29: =IF(ISNA(MATCH(26,entry!$H$3:$H$14,0))," ",VLOOKUP(L26,entry!$H$3:$I$14,2,0)) | N29: =IF(ISNA(MATCH(N26,entry!$H$3:$H$14,0))," ",VLOOKUP(N26,entry!$H$3:$I$14,2,0)) | S29: Fourth line of every day of the month. Reserved for events occurring quarterly.
B30: =IF(ISNA(MATCH(DAY(B26),entry!$J$3:$J$14,0))," ",VLOOKUP(DAY(B26),entry!$J$3:$K$14,2,0)) | D30: =IF(ISNA(MATCH(DAY(D26),entry!$J$3:$J$14,0))," ",VLOOKUP(DAY(D26),entry!$J$3:$K$14,2,0)) | F30: =IF(ISNA(MATCH(DAY(F26),entry!$J$3:$J$14,0))," ",VLOOKUP(DAY(F26),entry!$J$3:$K$14,2,0)) | H30: =IF(ISNA(MATCH(DAY(H26),entry!$J$3:$J$14,0))," ",VLOOKUP(DAY(H26),entry!$J$3:$K$14,2,0)) | J30: =IF(ISNA(MATCH(DAY(J26),entry!$J$3:$J$14,0))," ",VLOOKUP(DAY(J26),entry!$J$3:$K$14,2,0)) | L30: =IF(ISNA(MATCH(DAY(L26),entry!$J$3:$J$14,0))," ",VLOOKUP(DAY(L26),entry!$J$3:$K$14,2,0)) -> Pay utilities | N30: =IF(ISNA(MATCH(DAY(N26),entry!$J$3:$J$14,0))," ",VLOOKUP(DAY(N26),entry!$J$3:$K$14,2,0)) | S30: Looks for dates in column G of entry sheet. When it finds a match, the contents of the adjacent cell in column H are displayed.
B32: =N26+1 -> 43499 | C32: =IF(ISNA(MATCH(B32,entry!$B$3:$B$51,0))," ",VLOOKUP(B32,entry!$B$3:$C$51,2,0)) | D32: =B32+1 -> 43500 | E32: =IF(ISNA(MATCH(D32,entry!$B$3:$B$51,0))," ",VLOOKUP(D32,entry!$B$3:$C$51,2,0)) | F32: =A1 -> 43466 | R32: =_xlfn.FORMULATEXT(B6) -> =IF(ISNA(MATCH(DAY(B2),$entry.$J$3:$J$14,0))," ",VLOOKUP(DAY(B2),$entry.$J$3:$K$14,2,0))
B33: =IF(ISNA(MATCH(B32,entry!$D$3:$D$51,0))," ",VLOOKUP(B32,entry!$D$3:$E$51,2,0)) | D33: =IF(ISNA(MATCH(D32,entry!$D$3:$D$51,0))," ",VLOOKUP(D32,entry!$D$3:$E$51,2,0)) | S33: Fifth line of every day of the month. Reserved for events occurring monthly on the same day.
B34: =IF(ISNA(MATCH(B32,entry!$F$3:$F$14,0))," ",VLOOKUP(B32,entry!$F$3:$G$14,2,0)) | D34: =IF(ISNA(MATCH(D32,entry!$F$3:$F$14,0))," ",VLOOKUP(D32,entry!$F$3:$G$14,2,0))
B35: =IF(ISNA(MATCH(B32,entry!$H$3:$H$14,0))," ",VLOOKUP(B32,entry!$H$3:$I$14,2,0)) | D35: =IF(ISNA(MATCH(D32,entry!$H$3:$H$14,0))," ",VLOOKUP(D32,entry!$H$3:$I$14,2,0)) | S35: Looks for dates in column I of entry sheet. When it finds a match, the contents of the adjacent cell in column J are displayed.
B36: =IF(ISNA(MATCH(DAY(B32),entry!$J$3:$J$14,0))," ",VLOOKUP(DAY(B32),entry!$J$3:$K$14,2,0)) | D36: =IF(ISNA(MATCH(DAY(D32),entry!$J$3:$J$14,0))," ",VLOOKUP(DAY(D32),entry!$J$3:$K$14,2,0))
A38: =DATE(entry!$B$1,2,1) -> 43497
S39: Before Generating a Calendar, delete pages 2 through 12.
S43: This will delete pages 2 through 12. Clearing these pages will speed up calendar generation.
A75: =DATE(entry!$B$1,3,1) -> 43525
A112: =DATE(entry!$B$1,4,1) -> 43556
A149: =DATE(entry!$B$1,5,1) -> 43586
A186: =DATE(entry!$B$1,6,1) -> 43617
A223: =DATE(entry!$B$1,7,1) -> 43647
A260: =DATE(entry!$B$1,8,1) -> 43678
A297: =DATE(entry!$B$1,9,1) -> 43709
A334: =DATE(entry!$B$1,10,1) -> 43739
A371: =DATE(entry!$B$1,11,1) -> 43770
A408: =DATE(entry!$B$1,12,1) -> 43800

Sheet entry
A1: =DATE(entry!$B$1,1,1) -> 43466 | B1: 2019 | C1: ◄Enter the Year for the calendar you want to generate. | S1: 2
B2: Regular Yearly | D2: Irregular Yearly | F2: Bi-annual | H2: quarterly | J2: monthly
B3: =DATE(B1,12,24) -> 43823 | C3: Christmas Eve | F3: =IF(WEEKDAY(DATE(B1,3,1))=1,DATE(B1,3,8), IF(WEEKDAY(DATE(B1,3,2))=1,DATE(B1,3,9), IF(WEEKDAY(DATE(B1,3,3))=1,DATE(B1,3,10), IF(WEEKDAY(DATE(B1,3,4))=1,DATE(B1,3,11), IF(WEEKDAY(DATE(B1,3,5))=1,DATE(B1,3,12), IF(WEEKDAY(DATE(B1,3,6))=1,DATE(B1,3,13), IF(WEEKDAY(DATE(B1,3,7))=1,DATE(B1,3,14),"n"))))))) -> 43534 | G3: Daylight Savings | H3: =DATE($B$1,12,21) -> 43820 | I3: Winter Solstice | J3: 1 | K3: Pay utilities
B4: =DATE(B1,12,25) -> 43824 | C4: Christmas Day | F4: =IF(WEEKDAY(DATE(B1,11,1))=1,DATE(B1,11,8), IF(WEEKDAY(DATE(B1,11,2))=1,DATE(B1,11,9), IF(WEEKDAY(DATE(B1,11,3))=1,DATE(B1,11,10), IF(WEEKDAY(DATE(B1,11,4))=1,DATE(B1,11,11), IF(WEEKDAY(DATE(B1,11,5))=1,DATE(B1,11,12), IF(WEEKDAY(DATE(B1,11,6))=1,DATE(B1,11,13), IF(WEEKDAY(DATE(B1,11,7))=1,DATE(B1,11,14),"n"))))))) -> 43779 | G4: Daylight Savings | H4: =DATE($B$1,3,21) -> 43545 | I4: Spring Equinox
D5: =DATE(B1,1,29) -> 43494 | E5: Harriet Tubman Birthday | H5: =DATE(B1,6,21) -> 43637 | I5: Summer Solstice
B6: =DATE(B1-1,12,31) -> 43465 | C6: New Years Eve | H6: =DATE(B1,9,21) -> 43729 | I6: Fall Equinox
B7: =DATE(B1,1,1) -> 43466 | C7: New Years Day | D7: =IF(WEEKDAY(DATE(B1,1,1))=2,DATE(B1,1,1), IF(WEEKDAY(DATE(B1,1,2))=2,DATE(B1,1,2), IF(WEEKDAY(DATE(B1,1,3))=2,DATE(B1,1,3), IF(WEEKDAY(DATE(B1,1,4))=2,DATE(B1,1,4), IF(WEEKDAY(DATE(B1,1,5))=2,DATE(B1,1,5), IF(WEEKDAY(DATE(B1,1,6))=2,DATE(B1,1,6), IF(WEEKDAY(DATE(B1,1,7))=2,DATE(B1,1,7),"n"))))))) -> 43472 | E7: dog license
D8: =IF(WEEKDAY(DATE(B1,1,1))=2,DATE(B1,1,15), IF(WEEKDAY(DATE(B1,1,2))=2,DATE(B1,1,16), IF(WEEKDAY(DATE(B1,1,3))=2,DATE(B1,1,17), IF(WEEKDAY(DATE(B1,1,4))=2,DATE(B1,1,18), IF(WEEKDAY(DATE(B1,1,5))=2,DATE(B1,1,19), IF(WEEKDAY(DATE(B1,1,6))=2,DATE(B1,1,20), IF(WEEKDAY(DATE(B1,1,7))=2,DATE(B1,1,21),"n"))))))) -> 43486 | E8: Martin Luther King Day
B9: =DATE($B$1,2,2) -> 43498 | C9: Ground Hog's Day
B10: =DATE($B$1,2,12) -> 43508 | C10: Darwin Day
B11: =DATE($B$1,2,14) -> 43510 | C11: Valentine's Day | D11: =DATE($B$1,2,15) -> 43511 | E11: Susan B. Anthony Birthday
D12: =IF(WEEKDAY(DATE(B1,2,1))=2,DATE(B1,2,15), IF(WEEKDAY(DATE(B1,2,2))=2,DATE(B1,2,16), IF(WEEKDAY(DATE(B1,2,3))=2,DATE(B1,2,17), IF(WEEKDAY(DATE(B1,2,4))=2,DATE(B1,2,18), IF(WEEKDAY(DATE(B1,2,5))=2,DATE(B1,2,19), IF(WEEKDAY(DATE(B1,2,6))=2,DATE(B1,2,20), IF(WEEKDAY(DATE(B1,2,7))=2,DATE(B1,2,21),"n"))))))) -> 43514 | E12: President's Day
B13: =DATE($B$1,3,17) -> 43541 | C13: St. Patrick's Day
B15: =DATE($B$1,4,1) -> 43556 | C15: April Fool's Day
B16: =DATE(B1,4,8) -> 43563 | C16: Buddha's Birthday | D16: =IF(WEEKDAY(DATE(B1,4,1))=2,DATE(B1,4,15), IF(WEEKDAY(DATE(B1,4,2))=2,DATE(B1,4,16), IF(WEEKDAY(DATE(B1,4,3))=2,DATE(B1,4,17), IF(WEEKDAY(DATE(B1,4,4))=2,DATE(B1,4,18), IF(WEEKDAY(DATE(B1,4,5))=2,DATE(B1,4,19), IF(WEEKDAY(DATE(B1,4,6))=2,DATE(B1,4,20), IF(WEEKDAY(DATE(B1,4,7))=2,DATE(B1,4,21),"n"))))))) -> 43570 | E16: Patriots Day
B17: =DATE($B$1,4,10) -> 43565 | C17: Sibling Day
B18: =DATE($B$1,4,15) -> 43570 | C18: Tax Day | G18: Formulas in entry sheet
B19: =DATE($B$1,4,22) -> 43577 | C19: Earth Day | D19: =DATE(B1,4,22) -> 43577 | E19: Muhammad's Birthday | G19: =_xlfn.FORMULATEXT(B3) -> =DATE(B1,12,24)
B20: =DATE($B$1,5,5) -> 43590 | C20: Cinco de Mayo | H20: From Column A, Christmas Eve.
D21: =DATE(B1,5,27) -> 43612 | E21: Rachel Carson Birthday | G21: =_xlfn.FORMULATEXT(D7) -> =IF(WEEKDAY(DATE(B1,1,1))=2,DATE(B1,1,1), IF(WEEKDAY(DATE(B1,1,2))=2,DATE(B1,1,2), IF(WEEKDAY(DATE(B1,1,3))=2,DATE(B1,1,3), IF(WEEKDAY(DATE(B1,1,4))=2,DATE(B1,1,4), IF(WEEKDAY(DATE(B1,1,5))=2,DATE(B1,1,5), IF(WEEKDAY(DATE(B1,1,6))=2,DATE(B1,1,6), IF(WEEKDAY(DATE(B1,1,7))=2,DATE(B1,1,7),"n")))))))
B23: =DATE($B$1,5,30) -> 43615 | C23: Last Frost date | D23: =IF(WEEKDAY(DATE(B1,5,1))=1,DATE(B1,5,8), IF(WEEKDAY(DATE(B1,5,2))=1,DATE(B1,5,9), IF(WEEKDAY(DATE(B1,5,3))=1,DATE(B1,5,10), IF(WEEKDAY(DATE(B1,5,4))=1,DATE(B1,5,11), IF(WEEKDAY(DATE(B1,5,5))=1,DATE(B1,5,12), IF(WEEKDAY(DATE(B1,5,6))=1,DATE(B1,5,13), IF(WEEKDAY(DATE(B1,5,7))=1,DATE(B1,5,14),"n"))))))) -> 43597 | E23: Mother's Day
B24: =DATE($B$1,6,2) -> 43618 | C24: Flag Day | D24: =DATE($B$1,5,15) -> 43600 | E24: Pierre Curie Birthday
B25: =DATE($B$1,6,19) -> 43635 | C25: Juneteenth
D26: =IF(WEEKDAY(DATE(B1,6,1))=1,DATE(B1,6,15), IF(WEEKDAY(DATE(B1,6,2))=1,DATE(B1,6,16), IF(WEEKDAY(DATE(B1,6,3))=1,DATE(B1,6,17), IF(WEEKDAY(DATE(B1,6,4))=1,DATE(B1,6,18), IF(WEEKDAY(DATE(B1,6,5))=1,DATE(B1,6,19), IF(WEEKDAY(DATE(B1,6,6))=1,DATE(B1,6,20), IF(WEEKDAY(DATE(B1,6,7))=1,DATE(B1,6,21),"n"))))))) -> 43632 | E26: Father's Day
B28: =DATE($B$1,7,4) -> 43650 | C28: Independence Day | H28: From Column C, dog license.
D29: =IF(WEEKDAY(DATE(B1,8,1))=1,DATE(B1,8,1), IF(WEEKDAY(DATE(B1,8,2))=1,DATE(B1,8,2), IF(WEEKDAY(DATE(B1,8,3))=1,DATE(B1,8,3), IF(WEEKDAY(DATE(B1,8,4))=1,DATE(B1,8,4), IF(WEEKDAY(DATE(B1,8,5))=1,DATE(B1,8,5), IF(WEEKDAY(DATE(B1,8,6))=1,DATE(B1,8,6), IF(WEEKDAY(DATE(B1,8,7))=1,DATE(B1,8,7),"n"))))))) -> 43681 | E29: Friendship Day | H29: Figures the first Monday in January. Day of the month will differ, depending on the year. Other irregular events/holidays are similarly configured.
B30: =DATE($B$1,9,21) -> 43729 | C30: Int'l Day of Peace | D30: =IF(WEEKDAY(DATE(B1,9,1))=2,DATE(B1,9,1), IF(WEEKDAY(DATE(B1,9,2))=2,DATE(B1,9,2), IF(WEEKDAY(DATE(B1,9,3))=2,DATE(B1,9,3), IF(WEEKDAY(DATE(B1,9,4))=2,DATE(B1,9,4), IF(WEEKDAY(DATE(B1,9,5))=2,DATE(B1,9,5), IF(WEEKDAY(DATE(B1,9,6))=2,DATE(B1,9,6), IF(WEEKDAY(DATE(B1,9,7))=2,DATE(B1,9,7),"n"))))))) -> 43710 | E30: Labor Day
D31: =D30+1 -> 43711 | E31: Grandparents Day | H31: Shaded cells in Column C contain formulas.
B38: =DATE($B$1,10,31) -> 43769 | C38: Halloween | D38: =IF(WEEKDAY(DATE(B1,10,1))=1,DATE(B1,10,8), IF(WEEKDAY(DATE(B1,10,2))=1,DATE(B1,10,9), IF(WEEKDAY(DATE(B1,10,3))=1,DATE(B1,10,10), IF(WEEKDAY(DATE(B1,10,4))=1,DATE(B1,10,11), IF(WEEKDAY(DATE(B1,10,5))=1,DATE(B1,10,12), IF(WEEKDAY(DATE(B1,10,6))=1,DATE(B1,10,13), IF(WEEKDAY(DATE(B1,10,7))=1,DATE(B1,10,14),"n"))))))) -> 43751 | E38: Columbus Day
D39: =IF(WEEKDAY(DATE(B1,10,1))=2,DATE(B1,10,8), IF(WEEKDAY(DATE(B1,10,2))=2,DATE(B1,10,9), IF(WEEKDAY(DATE(B1,10,3))=2,DATE(B1,10,10), IF(WEEKDAY(DATE(B1,10,4))=2,DATE(B1,10,11), IF(WEEKDAY(DATE(B1,10,5))=2,DATE(B1,10,12), IF(WEEKDAY(DATE(B1,10,6))=2,DATE(B1,10,13), IF(WEEKDAY(DATE(B1,10,7))=2,DATE(B1,10,14),"n"))))))) -> 43752 | E39: Indigenous Peoples Day
B40: =DATE($B$1,11,11) -> 43780 | C40: Veteran's Day | D40: =D39+7 -> 43759 | E40: Nanomonestotse Day
D41: =IF(WEEKDAY(DATE(B1,11,1))=2,DATE(B1,11,2), IF(WEEKDAY(DATE(B1,11,2))=2,DATE(B1,11,3), IF(WEEKDAY(DATE(B1,11,3))=2,DATE(B1,11,4), IF(WEEKDAY(DATE(B1,11,4))=2,DATE(B1,11,5), IF(WEEKDAY(DATE(B1,11,5))=2,DATE(B1,11,6), IF(WEEKDAY(DATE(B1,11,6))=2,DATE(B1,11,7), IF(WEEKDAY(DATE(B1,11,7))=2,DATE(B1,11,8),"n"))))))) -> 43774 | E41: Election Day
D42: =DATE(B1,11,7) -> 43776 | E42: Marie Curie Birthday
B43: =DATE($B$1,12,25) -> 43824 | C43: Kwanzaa starts | D43: =IF(WEEKDAY(DATE(B1,11,1))=5,DATE(B1,11,22), IF(WEEKDAY(DATE(B1,11,2))=5,DATE(B1,11,23), IF(WEEKDAY(DATE(B1,11,3))=5,DATE(B1,11,24), IF(WEEKDAY(DATE(B1,11,4))=5,DATE(B1,11,25), IF(WEEKDAY(DATE(B1,11,5))=5,DATE(B1,11,26), IF(WEEKDAY(DATE(B1,11,6))=5,DATE(B1,11,27), IF(WEEKDAY(DATE(B1,11,7))=5,DATE(B1,11,28),"n"))))))) -> 43797 | E43: Thanksgiving Day
B44: =DATE(B1+1,12,31) -> 44196 | C44: New Years Eve | D44: =D43+1 -> 43798 | E44: Black Friday

Sheet readme
A1: Fonts
B2: Arial | C2: Days of the Month
B3: Arial Bold | C3: Month and Weekdays
B4: Comic Sans MS | C4: Upper left, upper left shade; vertical border, vertical border shade; cell bottom, cell bottom shade; day number, day number shade.
A6: Style – page | C6: Controls page size, orientation, margins, headers, footers and grid.
B7: readme | C7: Controls readme sheet.
B8: CalendarLegal | C8: Controls CalendarB – no grid.
B9: CalendarLegalGrid | C9: Controls CalendarC – prints grid.
B10: CalendarLetter | C10: Controls CalendarA – no grid.
B11: CalendarLetterGrid | C11: Controls CalendarD – prints grid.
A13: Styles cells
C14: Controls font, border, alignment, background.
B15: A month | C15: CalendarA.B1.
B16: B month | C16: CalendarB.P1.
B17: C month | C17: CalendarC.P1.
B18: C year | C18: CalendarC.F32.
B19: D month | C19: CalendarD.F32.
B20: weekday | C20: Days of the week (Sunday thru Saturday).
B21: day font | C21: This cell style controls the following cell styles.
B22: cell bottom | C22: unshaded (current month) cells along bottom of calendar.
B23: day number | C23: unshaded (current month) day of the month cells.
B24: upper left | C24: unshaded (current month) upper left cells.
B25: vertical border | C25: unshaded (current month) vertical borders.
B26: shade | C26: This cell style controls the following cell styles.
... B31: HINT: | C31: To change fonts, shading and borders, use the Style and Formatting dialog. See Example:.
A33: Conditional Formatting
C34: Days of the previous and next months will appear in the first, fifth and sixth weeks.
C35: Conditional formatting in the first, fifth and sixth weeks, applies 'shade' styles to days of the previous and next months.
B36: MONTH($calendarA.B1)<>MONTH(D27)
C37: Conditional formatting in CalendarA. Assigns 'shade' styles to cell if the day is the previous or next month
B38: MONTH($calendarA.B1)=MONTH(D27)
C39: Conditional formatting in CalendarA. Assigns 'no shade' styles to cell if the day is the current month
B40: MONTH($calendarB.P1)<>MONTH(B32)
C41: Conditional formatting in CalendarB Assigns 'shade' styles to cell if the day is the previous or next month
B42: MONTH($calendarB.P1)=MONTH(B32)
C43: Conditional formatting in CalendarB. Assigns 'no shade' styles to cell if the day is the current month
B44: MONTH($calendarC.F32)<>MONTH(B2)
C45: Conditional formatting in CalendarC. Assigns 'shade' styles to cell if the day is the previous or next month
B46: MONTH($calendarC.F32)=MONTH(B2)
C47: Conditional formatting in CalendarC. Assigns 'no shade' styles to cell if the day is the current month
B48: MONTH($calendarD.F32)<>MONTH(B2)
C49: Conditional formatting in CalendarD Assigns 'shade' styles to cell if the day is the previous or next month
B50: MONTH($calendarD.F32)=MONTH(B2)
C51: Conditional formatting in CalendarD. Assigns 'no shade' styles to cell if the day is the current month
A53: Hidden Columns | C53: Columns are hidden to protect formatting information.
C54: Column A is hidden in sheets CalendarA, CalendarB, CalendarC and CalendarD.
C55: These columns contain information for the Generate Calendar feature and the View Month feature.
A57: Toolbars
A58: Edit
B59: Style | C59: Cell formatting in page 1 of each Calendar sheet is protected against changes that could break the calendar. Make all design changes through the Style and Formatting dialog. Sheet protection must be turned off before styles can be modified. This macro will disable sheet protection for all Calendar sheets and the Styles and Formatting dialog will open. If you don't see a dialog pop up, it is probably docked to an edge.
B60: Protect | C60: After making changes to the styles, click Protect. This macro will select all sheets in this document and open the Protect Sheet dialog. Click OK to reestablish Calendar sheet protection.
A62: Generate
B63: GenerateCalendarA | C63: Runs a macro that will jump to page one of the CalendarA sheet and generate a calendar for the year based on the design on page one.
B64: GenerateCalendarB | C64: Runs a macro that will jump to page one of the CalendarB sheet and generate a calendar for the year based on the design on page one.
B65: GenerateCalendarC | C65: Runs a macro that will jump to page one of the CalendarC sheet and generate a calendar for the year based on the design on page one.
B66: GenerateCalendarD | C66: Runs a macro that will jump to page one of the CalendarD sheet and generate a calendar for the year based on the design on page one.
A67: GoTo
B68: CalendarYear | C68: Jumps to cell B1 of the entry sheet, where the calendar year is entered.
B69: Entry | C69: Jumps to the entry sheet, where calendar dates are entered.
B70: readme | C70: Jumps to the readme sheet.
B71: CalendarA | C71: Jumps to CalendarA.
B72: CalendarB | C72: Jumps to CalendarB sheet.
B73: CalendarC | C73: Jumps to CalendarC sheet.
B74: CalendarD | C74: Jumps to CalendarD sheet.
A75: View Month
B76: Displays different months in CalendarA through CalendarD sheets. NOTE: This toolbar will only work in the Calendar sheets.
A78: Example: Change Background color
A79: 1. Remove sheet protection from every sheet in this document.
B80: a. Edit toolbar, Click Protect. Sheet Protect will be disabled in all four Calendar Sheets. The Styles and Formatting dialog will open.
A81: 2. Select a new color.
B82: a. Select shade cell style.
B83: b. Click Modify. The Cell Style dialog will open.
B84: c. Click Background tab.
B85: d. Select a color.
B86: e. Close Cell Style dialog.
A87: 3. List Cell Styles in Hierarchical order.
B88: a. Open list box, bottom of Styles and Formatting dialog.
B89: b. Click Hierarchical.
B90: c. Open +shade. The four styles listed under shade use shade as the default style. Changes made to shade should be easy to update in these four styles.
A91: 4. Apply new color to cell styles listed under shade.
B92: a. Select any cell style listed under shade.
B93: b. Click Modify. The Cell Style dialog will open.
B94: c. Click Background tab.
B95: d. Click Standard.
B96: e. Close Cell Style dialog.
A97: 5. Repeat for all cell styles listed under shade.
A98: 6. Apply sheet protection to Calendar sheets.
B99: a. Edit toolbar, Click Style. The Sheet Protect dialog will open.
B100: b. Check “Protect this sheet and the contents of locked cells.”
B101: c. Click OK.
A103: Note: | B103: This procedure works for background color and font.
