Workbook

Sheet Begin_Here
B5: Enter Current year (2 digits only) | C5: 17 | E5: =2000+C5 -> 2017
B6: Event Name | C6: Month | D6: Day | E6: Date
B7: Typical Holidays
B8: Presidents Day | E8: =DATE(Year,2,IF(2<WEEKDAY(DATE(Year,2,1)),10-WEEKDAY(DATE(Year,2,1)),3-WEEKDAY(DATE(Year,2,1)))+14) -> 42786
B9: Easter | E9: =_xlfn.ORG.OPENOFFICE.EASTERSUNDAY(Year) -> 42841
B10: Independence day | C10: 7 | D10: 4 | E10: =DATE(Year,Begin_Here!C10,Begin_Here!D10) -> 42920
B11: Labor Day | E11: =DATE(Year,9,1)+IF(2<WEEKDAY(DATE(Year,9,1)),7-WEEKDAY(DATE(Year,9,1))+2,2-WEEKDAY(DATE(Year,9,1)))+((1-1)*7) -> 42982
B12: Memorial Day | E12: =DATE(Year,6,IF(2<WEEKDAY(DATE(Year,6,1)),10-WEEKDAY(DATE(Year,6,1)),3-WEEKDAY(DATE(Year,6,1)))-7) -> 42884
B13: Columbus Day | C13: 10 | D13: 9 | E13: =DATE(Year,Begin_Here!C13,Begin_Here!D13) -> 43017
B14: Martin Luther King Jr. Day | E14: =DATE(Year,1,IF(2<WEEKDAY(DATE(Year,1,1)),10-WEEKDAY(DATE(Year,1,1)),3-WEEKDAY(DATE(Year,1,1)))+14) -> 42751
B15: Veterans Day | C15: 11 | D15: 11 | E15: =DATE(Year,Begin_Here!C15,Begin_Here!D15) -> 43050
B16: Ground Hog Day | C16: 2 | D16: 2 | E16: =DATE(Year,Begin_Here!C16,Begin_Here!D16) -> 42768
B17: Christmas day | C17: 12 | D17: 25 | E17: =DATE(Year,Begin_Here!C17,Begin_Here!D17) -> 43094
B18: Thanksgiving | C18: 11 | D18: 23 | E18: =DATE(Year,Begin_Here!C18,Begin_Here!D18) -> 43062
B22: Seasons
B23: Spring | C23: 3 | D23: 20 | E23: =DATE(Year,Begin_Here!C23,Begin_Here!D23) -> 42814
B24: Summer | C24: 6 | D24: 21 | E24: =DATE(Year,Begin_Here!C24,Begin_Here!D24) -> 42907
B25: Fall | C25: 9 | D25: 22 | E25: =DATE(Year,Begin_Here!C25,Begin_Here!D25) -> 43000
B26: Winter | C26: 12 | D26: 21 | E26: =DATE(Year,Begin_Here!C26,Begin_Here!D26) -> 43090
B28: Time Change
B29: Daylight Savings Time | C29: 3 | D29: 12 | E29: =DATE(Year,Begin_Here!C29,Begin_Here!D29) -> 42806
B30: Eastern Standard Time | C30: 11 | D30: 5 | E30: =DATE(Year,Begin_Here!C30,Begin_Here!D30) -> 43044
C31: 12 | D31: 13

Sheet Yearly Calendar
B1: Year | L1: Month | V1: Start Day
B2: =Begin_Here!E5 -> 2017 | L2: 1 | V2: 2
T3: 1: Sunday, 2: Monday
B10: =IF($L$2=1,B2,B2&"-"&B2+1) -> 2017
B12: =DATE($B$2,$L$2,1) -> 42736 | J12: =DATE(YEAR(B12+35),MONTH(B12+35),1) -> 42767 | R12: =DATE(YEAR(J12+35),MONTH(J12+35),1) -> 42795
B13: =INDEX({"Su","M","Tu","W","Th","F","Sa"},1+MOD($V$2+1-2,7)) -> M | C13: =INDEX({"Su","M","Tu","W","Th","F","Sa"},1+MOD($V$2+2-2,7)) -> Tu | D13: =INDEX({"Su","M","Tu","W","Th","F","Sa"},1+MOD($V$2+3-2,7)) -> W | E13: =INDEX({"Su","M","Tu","W","Th","F","Sa"},1+MOD($V$2+4-2,7)) -> Th | F13: =INDEX({"Su","M","Tu","W","Th","F","Sa"},1+MOD($V$2+5-2,7)) -> F | G13: =INDEX({"Su","M","Tu","W","Th","F","Sa"},1+MOD($V$2+6-2,7)) -> Sa | H13: =INDEX({"Su","M","Tu","W","Th","F","Sa"},1+MOD($V$2+7-2,7)) -> Su | J13: =$B$13 -> M | K13: =$C$13 -> Tu | L13: =$D$13 -> W | M13: =$E$13 -> Th | N13: =$F$13 -> F | O13: =$G$13 -> Sa | P13: =$H$13 -> Su | R13: =$B$13 -> M | S13: =$C$13 -> Tu | T13: =$D$13 -> W | U13: =$E$13 -> Th | V13: =$F$13 -> F | W13: =$G$13 -> Sa | X13: =$H$13 -> Su
B14: =IF(MONTH($B$12)<>MONTH($B$12-(WEEKDAY($B$12,1)-($V$2-1))-IF((WEEKDAY($B$12,1)-($V$2-1))<=0,7,0)+(ROW(B14)-ROW($B$14))*7+(COLUMN(B14)-COLUMN($B$14)+1)),"",$B$12-(WEEKDAY($B$12,1)-($V$2-1))-IF((WEEKDAY($B$12,1)-($V$2-1))<=0,7,0)+(ROW(B14)-ROW($B$14))*7+(COLUMN(B14)-COLUMN($B$14)+1)) | C14: =IF(MONTH($B$12)<>MONTH($B$12-(WEEKDAY($B$12,1)-($V$2-1))-IF((WEEKDAY($B$12,1)-($V$2-1))<=0,7,0)+(ROW(C14)-ROW($B$14))*7+(COLUMN(C14)-COLUMN($B$14)+1)),"",$B$12-(WEEKDAY($B$12,1)-($V$2-1))-IF((WEEKDAY($B$12,1)-($V$2-1))<=0,7,0)+(ROW(C14)-ROW($B$14))*7+(COLUMN(C14)-COLUMN($B$14)+1)) | D14: =IF(MONTH($B$12)<>MONTH($B$12-(WEEKDAY($B$12,1)-($V$2-1))-IF((WEEKDAY($B$12,1)-($V$2-1))<=0,7,0)+(ROW(D14)-ROW($B$14))*7+(COLUMN(D14)-COLUMN($B$14)+1)),"",$B$12-(WEEKDAY($B$12,1)-($V$2-1))-IF((WEEKDAY($B$12,1)-($V$2-1))<=0,7,0)+(ROW(D14)-ROW($B$14))*7+(COLUMN(D14)-COLUMN($B$14)+1)) | E14: =IF(MONTH($B$12)<>MONTH($B$12-(WEEKDAY($B$12,1)-($V$2-1))-IF((WEEKDAY($B$12,1)-($V$2-1))<=0,7,0)+(ROW(E14)-ROW($B$14))*7+(COLUMN(E14)-COLUMN($B$14)+1)),"",$B$12-(WEEKDAY($B$12,1)-($V$2-1))-IF((WEEKDAY($B$12,1)-($V$2-1))<=0,7,0)+(ROW(E14)-ROW($B$14))*7+(COLUMN(E14)-COLUMN($B$14)+1)) | F14: =IF(MONTH($B$12)<>MONTH($B$12-(WEEKDAY($B$12,1)-($V$2-1))-IF((WEEKDAY($B$12,1)-($V$2-1))<=0,7,0)+(ROW(F14)-ROW($B$14))*7+(COLUMN(F14)-COLUMN($B$14)+1)),"",$B$12-(WEEKDAY($B$12,1)-($V$2-1))-IF((WEEKDAY($B$12,1)-($V$2-1))<=0,7,0)+(ROW(F14)-ROW($B$14))*7+(COLUMN(F14)-COLUMN($B$14)+1)) | G14: =IF(MONTH($B$12)<>MONTH($B$12-(WEEKDAY($B$12,1)-($V$2-1))-IF((WEEKDAY($B$12,1)-($V$2-1))<=0,7,0)+(ROW(G14)-ROW($B$14))*7+(COLUMN(G14)-COLUMN($B$14)+1)),"",$B$12-(WEEKDAY($B$12,1)-($V$2-1))-IF((WEEKDAY($B$12,1)-($V$2-1))<=0,7,0)+(ROW(G14)-ROW($B$14))*7+(COLUMN(G14)-COLUMN($B$14)+1)) | H14: =IF(MONTH($B$12)<>MONTH($B$12-(WEEKDAY($B$12,1)-($V$2-1))-IF((WEEKDAY($B$12,1)-($V$2-1))<=0,7,0)+(ROW(H14)-ROW($B$14))*7+(COLUMN(H14)-COLUMN($B$14)+1)),"",$B$12-(WEEKDAY($B$12,1)-($V$2-1))-IF((WEEKDAY($B$12,1)-($V$2-1))<=0,7,0)+(ROW(H14)-ROW($B$14))*7+(COLUMN(H14)-COLUMN($B$14)+1)) -> 42736 | J14: =IF(MONTH($J$12)<>MONTH($J$12-(WEEKDAY($J$12,1)-($V$2-1))-IF((WEEKDAY($J$12,1)-($V$2-1))<=0,7,0)+(ROW(J14)-ROW($J$14))*7+(COLUMN(J14)-COLUMN($J$14)+1)),"",$J$12-(WEEKDAY($J$12,1)-($V$2-1))-IF((WEEKDAY($J$12,1)-($V$2-1))<=0,7,0)+(ROW(J14)-ROW($J$14))*7+(COLUMN(J14)-COLUMN($J$14)+1)) | K14: =IF(MONTH($J$12)<>MONTH($J$12-(WEEKDAY($J$12,1)-($V$2-1))-IF((WEEKDAY($J$12,1)-($V$2-1))<=0,7,0)+(ROW(K14)-ROW($J$14))*7+(COLUMN(K14)-COLUMN($J$14)+1)),"",$J$12-(WEEKDAY($J$12,1)-($V$2-1))-IF((WEEKDAY($J$12,1)-($V$2-1))<=0,7,0)+(ROW(K14)-ROW($J$14))*7+(COLUMN(K14)-COLUMN($J$14)+1)) | L14: =IF(MONTH($J$12)<>MONTH($J$12-(WEEKDAY($J$12,1)-($V$2-1))-IF((WEEKDAY($J$12,1)-($V$2-1))<=0,7,0)+(ROW(L14)-ROW($J$14))*7+(COLUMN(L14)-COLUMN($J$14)+1)),"",$J$12-(WEEKDAY($J$12,1)-($V$2-1))-IF((WEEKDAY($J$12,1)-($V$2-1))<=0,7,0)+(ROW(L14)-ROW($J$14))*7+(COLUMN(L14)-COLUMN($J$14)+1)) -> 42767 | M14: =IF(MONTH($J$12)<>MONTH($J$12-(WEEKDAY($J$12,1)-($V$2-1))-IF((WEEKDAY($J$12,1)-($V$2-1))<=0,7,0)+(ROW(M14)-ROW($J$14))*7+(COLUMN(M14)-COLUMN($J$14)+1)),"",$J$12-(WEEKDAY($J$12,1)-($V$2-1))-IF((WEEKDAY($J$12,1)-($V$2-1))<=0,7,0)+(ROW(M14)-ROW($J$14))*7+(COLUMN(M14)-COLUMN($J$14)+1)) -> 42768 | N14: =IF(MONTH($J$12)<>MONTH($J$12-(WEEKDAY($J$12,1)-($V$2-1))-IF((WEEKDAY($J$12,1)-($V$2-1))<=0,7,0)+(ROW(N14)-ROW($J$14))*7+(COLUMN(N14)-COLUMN($J$14)+1)),"",$J$12-(WEEKDAY($J$12,1)-($V$2-1))-IF((WEEKDAY($J$12,1)-($V$2-1))<=0,7,0)+(ROW(N14)-ROW($J$14))*7+(COLUMN(N14)-COLUMN($J$14)+1)) -> 42769 | O14: =IF(MONTH($J$12)<>MONTH($J$12-(WEEKDAY($J$12,1)-($V$2-1))-IF((WEEKDAY($J$12,1)-($V$2-1))<=0,7,0)+(ROW(O14)-ROW($J$14))*7+(COLUMN(O14)-COLUMN($J$14)+1)),"",$J$12-(WEEKDAY($J$12,1)-($V$2-1))-IF((WEEKDAY($J$12,1)-($V$2-1))<=0,7,0)+(ROW(O14)-ROW($J$14))*7+(COLUMN(O14)-COLUMN($J$14)+1)) -> 42770 | P14: =IF(MONTH($J$12)<>MONTH($J$12-(WEEKDAY($J$12,1)-($V$2-1))-IF((WEEKDAY($J$12,1)-($V$2-1))<=0,7,0)+(ROW(P14)-ROW($J$14))*7+(COLUMN(P14)-COLUMN($J$14)+1)),"",$J$12-(WEEKDAY($J$12,1)-($V$2-1))-IF((WEEKDAY($J$12,1)-($V$2-1))<=0,7,0)+(ROW(P14)-ROW($J$14))*7+(COLUMN(P14)-COLUMN($J$14)+1)) -> 42771 | R14: =IF(MONTH($R$12)<>MONTH($R$12-(WEEKDAY($R$12,1)-($V$2-1))-IF((WEEKDAY($R$12,1)-($V$2-1))<=0,7,0)+(ROW(R14)-ROW($R$14))*7+(COLUMN(R14)-COLUMN($R$14)+1)),"",$R$12-(WEEKDAY($R$12,1)-($V$2-1))-IF((WEEKDAY($R$12,1)-($V$2-1))<=0,7,0)+(ROW(R14)-ROW($R$14))*7+(COLUMN(R14)-COLUMN($R$14)+1)) | S14: =IF(MONTH($R$12)<>MONTH($R$12-(WEEKDAY($R$12,1)-($V$2-1))-IF((WEEKDAY($R$12,1)-($V$2-1))<=0,7,0)+(ROW(S14)-ROW($R$14))*7+(COLUMN(S14)-COLUMN($R$14)+1)),"",$R$12-(WEEKDAY($R$12,1)-($V$2-1))-IF((WEEKDAY($R$12,1)-($V$2-1))<=0,7,0)+(ROW(S14)-ROW($R$14))*7+(COLUMN(S14)-COLUMN($R$14)+1)) | T14: =IF(MONTH($R$12)<>MONTH($R$12-(WEEKDAY($R$12,1)-($V$2-1))-IF((WEEKDAY($R$12,1)-($V$2-1))<=0,7,0)+(ROW(T14)-ROW($R$14))*7+(COLUMN(T14)-COLUMN($R$14)+1)),"",$R$12-(WEEKDAY($R$12,1)-($V$2-1))-IF((WEEKDAY($R$12,1)-($V$2-1))<=0,7,0)+(ROW(T14)-ROW($R$14))*7+(COLUMN(T14)-COLUMN($R$14)+1)) -> 42795 | U14: =IF(MONTH($R$12)<>MONTH($R$12-(WEEKDAY($R$12,1)-($V$2-1))-IF((WEEKDAY($R$12,1)-($V$2-1))<=0,7,0)+(ROW(U14)-ROW($R$14))*7+(COLUMN(U14)-COLUMN($R$14)+1)),"",$R$12-(WEEKDAY($R$12,1)-($V$2-1))-IF((WEEKDAY($R$12,1)-($V$2-1))<=0,7,0)+(ROW(U14)-ROW($R$14))*7+(COLUMN(U14)-COLUMN($R$14)+1)) -> 42796 | V14: =IF(MONTH($R$12)<>MONTH($R$12-(WEEKDAY($R$12,1)-($V$2-1))-IF((WEEKDAY($R$12,1)-($V$2-1))<=0,7,0)+(ROW(V14)-ROW($R$14))*7+(COLUMN(V14)-COLUMN($R$14)+1)),"",$R$12-(WEEKDAY($R$12,1)-($V$2-1))-IF((WEEKDAY($R$12,1)-($V$2-1))<=0,7,0)+(ROW(V14)-ROW($R$14))*7+(COLUMN(V14)-COLUMN($R$14)+1)) -> 42797 | W14: =IF(MONTH($R$12)<>MONTH($R$12-(WEEKDAY($R$12,1)-($V$2-1))-IF((WEEKDAY($R$12,1)-($V$2-1))<=0,7,0)+(ROW(W14)-ROW($R$14))*7+(COLUMN(W14)-COLUMN($R$14)+1)),"",$R$12-(WEEKDAY($R$12,1)-($V$2-1))-IF((WEEKDAY($R$12,1)-($V$2-1))<=0,7,0)+(ROW(W14)-ROW($R$14))*7+(COLUMN(W14)-COLUMN($R$14)+1)) -> 42798 | X14: =IF(MONTH($R$12)<>MONTH($R$12-(WEEKDAY($R$12,1)-($V$2-1))-IF((WEEKDAY($R$12,1)-($V$2-1))<=0,7,0)+(ROW(X14)-ROW($R$14))*7+(COLUMN(X14)-COLUMN($R$14)+1)),"",$R$12-(WEEKDAY($R$12,1)-($V$2-1))-IF((WEEKDAY($R$12,1)-($V$2-1))<=0,7,0)+(ROW(X14)-ROW($R$14))*7+(COLUMN(X14)-COLUMN($R$14)+1)) -> 42799
B15: =IF(MONTH($B$12)<>MONTH($B$12-(WEEKDAY($B$12,1)-($V$2-1))-IF((WEEKDAY($B$12,1)-($V$2-1))<=0,7,0)+(ROW(B15)-ROW($B$14))*7+(COLUMN(B15)-COLUMN($B$14)+1)),"",$B$12-(WEEKDAY($B$12,1)-($V$2-1))-IF((WEEKDAY($B$12,1)-($V$2-1))<=0,7,0)+(ROW(B15)-ROW($B$14))*7+(COLUMN(B15)-COLUMN($B$14)+1)) -> 42737 | C15: =IF(MONTH($B$12)<>MONTH($B$12-(WEEKDAY($B$12,1)-($V$2-1))-IF((WEEKDAY($B$12,1)-($V$2-1))<=0,7,0)+(ROW(C15)-ROW($B$14))*7+(COLUMN(C15)-COLUMN($B$14)+1)),"",$B$12-(WEEKDAY($B$12,1)-($V$2-1))-IF((WEEKDAY($B$12,1)-($V$2-1))<=0,7,0)+(ROW(C15)-ROW($B$14))*7+(COLUMN(C15)-COLUMN($B$14)+1)) -> 42738 | D15: =IF(MONTH($B$12)<>MONTH($B$12-(WEEKDAY($B$12,1)-($V$2-1))-IF((WEEKDAY($B$12,1)-($V$2-1))<=0,7,0)+(ROW(D15)-ROW($B$14))*7+(COLUMN(D15)-COLUMN($B$14)+1)),"",$B$12-(WEEKDAY($B$12,1)-($V$2-1))-IF((WEEKDAY($B$12,1)-($V$2-1))<=0,7,0)+(ROW(D15)-ROW($B$14))*7+(COLUMN(D15)-COLUMN($B$14)+1)) -> 42739 | E15: =IF(MONTH($B$12)<>MONTH($B$12-(WEEKDAY($B$12,1)-($V$2-1))-IF((WEEKDAY($B$12,1)-($V$2-1))<=0,7,0)+(ROW(E15)-ROW($B$14))*7+(COLUMN(E15)-COLUMN($B$14)+1)),"",$B$12-(WEEKDAY($B$12,1)-($V$2-1))-IF((WEEKDAY($B$12,1)-($V$2-1))<=0,7,0)+(ROW(E15)-ROW($B$14))*7+(COLUMN(E15)-COLUMN($B$14)+1)) -> 42740 | F15: =IF(MONTH($B$12)<>MONTH($B$12-(WEEKDAY($B$12,1)-($V$2-1))-IF((WEEKDAY($B$12,1)-($V$2-1))<=0,7,0)+(ROW(F15)-ROW($B$14))*7+(COLUMN(F15)-COLUMN($B$14)+1)),"",$B$12-(WEEKDAY($B$12,1)-($V$2-1))-IF((WEEKDAY($B$12,1)-($V$2-1))<=0,7,0)+(ROW(F15)-ROW($B$14))*7+(COLUMN(F15)-COLUMN($B$14)+1)) -> 42741 | G15: =IF(MONTH($B$12)<>MONTH($B$12-(WEEKDAY($B$12,1)-($V$2-1))-IF((WEEKDAY($B$12,1)-($V$2-1))<=0,7,0)+(ROW(G15)-ROW($B$14))*7+(COLUMN(G15)-COLUMN($B$14)+1)),"",$B$12-(WEEKDAY($B$12,1)-($V$2-1))-IF((WEEKDAY($B$12,1)-($V$2-1))<=0,7,0)+(ROW(G15)-ROW($B$14))*7+(COLUMN(G15)-COLUMN($B$14)+1)) -> 42742 | H15: =IF(MONTH($B$12)<>MONTH($B$12-(WEEKDAY($B$12,1)-($V$2-1))-IF((WEEKDAY($B$12,1)-($V$2-1))<=0,7,0)+(ROW(H15)-ROW($B$14))*7+(COLUMN(H15)-COLUMN($B$14)+1)),"",$B$12-(WEEKDAY($B$12,1)-($V$2-1))-IF((WEEKDAY($B$12,1)-($V$2-1))<=0,7,0)+(ROW(H15)-ROW($B$14))*7+(COLUMN(H15)-COLUMN($B$14)+1)) -> 42743 | J15: =IF(MONTH($J$12)<>MONTH($J$12-(WEEKDAY($J$12,1)-($V$2-1))-IF((WEEKDAY($J$12,1)-($V$2-1))<=0,7,0)+(ROW(J15)-ROW($J$14))*7+(COLUMN(J15)-COLUMN($J$14)+1)),"",$J$12-(WEEKDAY($J$12,1)-($V$2-1))-IF((WEEKDAY($J$12,1)-($V$2-1))<=0,7,0)+(ROW(J15)-ROW($J$14))*7+(COLUMN(J15)-COLUMN($J$14)+1)) -> 42772 | K15: =IF(MONTH($J$12)<>MONTH($J$12-(WEEKDAY($J$12,1)-($V$2-1))-IF((WEEKDAY($J$12,1)-($V$2-1))<=0,7,0)+(ROW(K15)-ROW($J$14))*7+(COLUMN(K15)-COLUMN($J$14)+1)),"",$J$12-(WEEKDAY($J$12,1)-($V$2-1))-IF((WEEKDAY($J$12,1)-($V$2-1))<=0,7,0)+(ROW(K15)-ROW($J$14))*7+(COLUMN(K15)-COLUMN($J$14)+1)) -> 42773 | L15: =IF(MONTH($J$12)<>MONTH($J$12-(WEEKDAY($J$12,1)-($V$2-1))-IF((WEEKDAY($J$12,1)-($V$2-1))<=0,7,0)+(ROW(L15)-ROW($J$14))*7+(COLUMN(L15)-COLUMN($J$14)+1)),"",$J$12-(WEEKDAY($J$12,1)-($V$2-1))-IF((WEEKDAY($J$12,1)-($V$2-1))<=0,7,0)+(ROW(L15)-ROW($J$14))*7+(COLUMN(L15)-COLUMN($J$14)+1)) -> 42774 | M15: =IF(MONTH($J$12)<>MONTH($J$12-(WEEKDAY($J$12,1)-($V$2-1))-IF((WEEKDAY($J$12,1)-($V$2-1))<=0,7,0)+(ROW(M15)-ROW($J$14))*7+(COLUMN(M15)-COLUMN($J$14)+1)),"",$J$12-(WEEKDAY($J$12,1)-($V$2-1))-IF((WEEKDAY($J$12,1)-($V$2-1))<=0,7,0)+(ROW(M15)-ROW($J$14))*7+(COLUMN(M15)-COLUMN($J$14)+1)) -> 42775 | N15: =IF(MONTH($J$12)<>MONTH($J$12-(WEEKDAY($J$12,1)-($V$2-1))-IF((WEEKDAY($J$12,1)-($V$2-1))<=0,7,0)+(ROW(N15)-ROW($J$14))*7+(COLUMN(N15)-COLUMN($J$14)+1)),"",$J$12-(WEEKDAY($J$12,1)-($V$2-1))-IF((WEEKDAY($J$12,1)-($V$2-1))<=0,7,0)+(ROW(N15)-ROW($J$14))*7+(COLUMN(N15)-COLUMN($J$14)+1)) -> 42776 | O15: =IF(MONTH($J$12)<>MONTH($J$12-(WEEKDAY($J$12,1)-($V$2-1))-IF((WEEKDAY($J$12,1)-($V$2-1))<=0,7,0)+(ROW(O15)-ROW($J$14))*7+(COLUMN(O15)-COLUMN($J$14)+1)),"",$J$12-(WEEKDAY($J$12,1)-($V$2-1))-IF((WEEKDAY($J$12,1)-($V$2-1))<=0,7,0)+(ROW(O15)-ROW($J$14))*7+(COLUMN(O15)-COLUMN($J$14)+1)) -> 42777 | P15: =IF(MONTH($J$12)<>MONTH($J$12-(WEEKDAY($J$12,1)-($V$2-1))-IF((WEEKDAY($J$12,1)-($V$2-1))<=0,7,0)+(ROW(P15)-ROW($J$14))*7+(COLUMN(P15)-COLUMN($J$14)+1)),"",$J$12-(WEEKDAY($J$12,1)-($V$2-1))-IF((WEEKDAY($J$12,1)-($V$2-1))<=0,7,0)+(ROW(P15)-ROW($J$14))*7+(COLUMN(P15)-COLUMN($J$14)+1)) -> 42778 | R15: =IF(MONTH($R$12)<>MONTH($R$12-(WEEKDAY($R$12,1)-($V$2-1))-IF((WEEKDAY($R$12,1)-($V$2-1))<=0,7,0)+(ROW(R15)-ROW($R$14))*7+(COLUMN(R15)-COLUMN($R$14)+1)),"",$R$12-(WEEKDAY($R$12,1)-($V$2-1))-IF((WEEKDAY($R$12,1)-($V$2-1))<=0,7,0)+(ROW(R15)-ROW($R$14))*7+(COLUMN(R15)-COLUMN($R$14)+1)) -> 42800 | S15: =IF(MONTH($R$12)<>MONTH($R$12-(WEEKDAY($R$12,1)-($V$2-1))-IF((WEEKDAY($R$12,1)-($V$2-1))<=0,7,0)+(ROW(S15)-ROW($R$14))*7+(COLUMN(S15)-COLUMN($R$14)+1)),"",$R$12-(WEEKDAY($R$12,1)-($V$2-1))-IF((WEEKDAY($R$12,1)-($V$2-1))<=0,7,0)+(ROW(S15)-ROW($R$14))*7+(COLUMN(S15)-COLUMN($R$14)+1)) -> 42801 | T15: =IF(MONTH($R$12)<>MONTH($R$12-(WEEKDAY($R$12,1)-($V$2-1))-IF((WEEKDAY($R$12,1)-($V$2-1))<=0,7,0)+(ROW(T15)-ROW($R$14))*7+(COLUMN(T15)-COLUMN($R$14)+1)),"",$R$12-(WEEKDAY($R$12,1)-($V$2-1))-IF((WEEKDAY($R$12,1)-($V$2-1))<=0,7,0)+(ROW(T15)-ROW($R$14))*7+(COLUMN(T15)-COLUMN($R$14)+1)) -> 42802 | U15: =IF(MONTH($R$12)<>MONTH($R$12-(WEEKDAY($R$12,1)-($V$2-1))-IF((WEEKDAY($R$12,1)-($V$2-1))<=0,7,0)+(ROW(U15)-ROW($R$14))*7+(COLUMN(U15)-COLUMN($R$14)+1)),"",$R$12-(WEEKDAY($R$12,1)-($V$2-1))-IF((WEEKDAY($R$12,1)-($V$2-1))<=0,7,0)+(ROW(U15)-ROW($R$14))*7+(COLUMN(U15)-COLUMN($R$14)+1)) -> 42803 | V15: =IF(MONTH($R$12)<>MONTH($R$12-(WEEKDAY($R$12,1)-($V$2-1))-IF((WEEKDAY($R$12,1)-($V$2-1))<=0,7,0)+(ROW(V15)-ROW($R$14))*7+(COLUMN(V15)-COLUMN($R$14)+1)),"",$R$12-(WEEKDAY($R$12,1)-($V$2-1))-IF((WEEKDAY($R$12,1)-($V$2-1))<=0,7,0)+(ROW(V15)-ROW($R$14))*7+(COLUMN(V15)-COLUMN($R$14)+1)) -> 42804 | W15: =IF(MONTH($R$12)<>MONTH($R$12-(WEEKDAY($R$12,1)-($V$2-1))-IF((WEEKDAY($R$12,1)-($V$2-1))<=0,7,0)+(ROW(W15)-ROW($R$14))*7+(COLUMN(W15)-COLUMN($R$14)+1)),"",$R$12-(WEEKDAY($R$12,1)-($V$2-1))-IF((WEEKDAY($R$12,1)-($V$2-1))<=0,7,0)+(ROW(W15)-ROW($R$14))*7+(COLUMN(W15)-COLUMN($R$14)+1)) -> 42805 | X15: =IF(MONTH($R$12)<>MONTH($R$12-(WEEKDAY($R$12,1)-($V$2-1))-IF((WEEKDAY($R$12,1)-($V$2-1))<=0,7,0)+(ROW(X15)-ROW($R$14))*7+(COLUMN(X15)-COLUMN($R$14)+1)),"",$R$12-(WEEKDAY($R$12,1)-($V$2-1))-IF((WEEKDAY($R$12,1)-($V$2-1))<=0,7,0)+(ROW(X15)-ROW($R$14))*7+(COLUMN(X15)-COLUMN($R$14)+1)) -> 42806
B16: =IF(MONTH($B$12)<>MONTH($B$12-(WEEKDAY($B$12,1)-($V$2-1))-IF((WEEKDAY($B$12,1)-($V$2-1))<=0,7,0)+(ROW(B16)-ROW($B$14))*7+(COLUMN(B16)-COLUMN($B$14)+1)),"",$B$12-(WEEKDAY($B$12,1)-($V$2-1))-IF((WEEKDAY($B$12,1)-($V$2-1))<=0,7,0)+(ROW(B16)-ROW($B$14))*7+(COLUMN(B16)-COLUMN($B$14)+1)) -> 42744 | C16: =IF(MONTH($B$12)<>MONTH($B$12-(WEEKDAY($B$12,1)-($V$2-1))-IF((WEEKDAY($B$12,1)-($V$2-1))<=0,7,0)+(ROW(C16)-ROW($B$14))*7+(COLUMN(C16)-COLUMN($B$14)+1)),"",$B$12-(WEEKDAY($B$12,1)-($V$2-1))-IF((WEEKDAY($B$12,1)-($V$2-1))<=0,7,0)+(ROW(C16)-ROW($B$14))*7+(COLUMN(C16)-COLUMN($B$14)+1)) -> 42745 | D16: =IF(MONTH($B$12)<>MONTH($B$12-(WEEKDAY($B$12,1)-($V$2-1))-IF((WEEKDAY($B$12,1)-($V$2-1))<=0,7,0)+(ROW(D16)-ROW($B$14))*7+(COLUMN(D16)-COLUMN($B$14)+1)),"",$B$12-(WEEKDAY($B$12,1)-($V$2-1))-IF((WEEKDAY($B$12,1)-($V$2-1))<=0,7,0)+(ROW(D16)-ROW($B$14))*7+(COLUMN(D16)-COLUMN($B$14)+1)) -> 42746 | E16: =IF(MONTH($B$12)<>MONTH($B$12-(WEEKDAY($B$12,1)-($V$2-1))-IF((WEEKDAY($B$12,1)-($V$2-1))<=0,7,0)+(ROW(E16)-ROW($B$14))*7+(COLUMN(E16)-COLUMN($B$14)+1)),"",$B$12-(WEEKDAY($B$12,1)-($V$2-1))-IF((WEEKDAY($B$12,1)-($V$2-1))<=0,7,0)+(ROW(E16)-ROW($B$14))*7+(COLUMN(E16)-COLUMN($B$14)+1)) -> 42747 | F16: =IF(MONTH($B$12)<>MONTH($B$12-(WEEKDAY($B$12,1)-($V$2-1))-IF((WEEKDAY($B$12,1)-($V$2-1))<=0,7,0)+(ROW(F16)-ROW($B$14))*7+(COLUMN(F16)-COLUMN($B$14)+1)),"",$B$12-(WEEKDAY($B$12,1)-($V$2-1))-IF((WEEKDAY($B$12,1)-($V$2-1))<=0,7,0)+(ROW(F16)-ROW($B$14))*7+(COLUMN(F16)-COLUMN($B$14)+1)) -> 42748 | G16: =IF(MONTH($B$12)<>MONTH($B$12-(WEEKDAY($B$12,1)-($V$2-1))-IF((WEEKDAY($B$12,1)-($V$2-1))<=0,7,0)+(ROW(G16)-ROW($B$14))*7+(COLUMN(G16)-COLUMN($B$14)+1)),"",$B$12-(WEEKDAY($B$12,1)-($V$2-1))-IF((WEEKDAY($B$12,1)-($V$2-1))<=0,7,0)+(ROW(G16)-ROW($B$14))*7+(COLUMN(G16)-COLUMN($B$14)+1)) -> 42749 | H16: =IF(MONTH($B$12)<>MONTH($B$12-(WEEKDAY($B$12,1)-($V$2-1))-IF((WEEKDAY($B$12,1)-($V$2-1))<=0,7,0)+(ROW(H16)-ROW($B$14))*7+(COLUMN(H16)-COLUMN($B$14)+1)),"",$B$12-(WEEKDAY($B$12,1)-($V$2-1))-IF((WEEKDAY($B$12,1)-($V$2-1))<=0,7,0)+(ROW(H16)-ROW($B$14))*7+(COLUMN(H16)-COLUMN($B$14)+1)) -> 42750 | J16: =IF(MONTH($J$12)<>MONTH($J$12-(WEEKDAY($J$12,1)-($V$2-1))-IF((WEEKDAY($J$12,1)-($V$2-1))<=0,7,0)+(ROW(J16)-ROW($J$14))*7+(COLUMN(J16)-COLUMN($J$14)+1)),"",$J$12-(WEEKDAY($J$12,1)-($V$2-1))-IF((WEEKDAY($J$12,1)-($V$2-1))<=0,7,0)+(ROW(J16)-ROW($J$14))*7+(COLUMN(J16)-COLUMN($J$14)+1)) -> 42779 | K16: =IF(MONTH($J$12)<>MONTH($J$12-(WEEKDAY($J$12,1)-($V$2-1))-IF((WEEKDAY($J$12,1)-($V$2-1))<=0,7,0)+(ROW(K16)-ROW($J$14))*7+(COLUMN(K16)-COLUMN($J$14)+1)),"",$J$12-(WEEKDAY($J$12,1)-($V$2-1))-IF((WEEKDAY($J$12,1)-($V$2-1))<=0,7,0)+(ROW(K16)-ROW($J$14))*7+(COLUMN(K16)-COLUMN($J$14)+1)) -> 42780 | L16: =IF(MONTH($J$12)<>MONTH($J$12-(WEEKDAY($J$12,1)-($V$2-1))-IF((WEEKDAY($J$12,1)-($V$2-1))<=0,7,0)+(ROW(L16)-ROW($J$14))*7+(COLUMN(L16)-COLUMN($J$14)+1)),"",$J$12-(WEEKDAY($J$12,1)-($V$2-1))-IF((WEEKDAY($J$12,1)-($V$2-1))<=0,7,0)+(ROW(L16)-ROW($J$14))*7+(COLUMN(L16)-COLUMN($J$14)+1)) -> 42781 | M16: =IF(MONTH($J$12)<>MONTH($J$12-(WEEKDAY($J$12,1)-($V$2-1))-IF((WEEKDAY($J$12,1)-($V$2-1))<=0,7,0)+(ROW(M16)-ROW($J$14))*7+(COLUMN(M16)-COLUMN($J$14)+1)),"",$J$12-(WEEKDAY($J$12,1)-($V$2-1))-IF((WEEKDAY($J$12,1)-($V$2-1))<=0,7,0)+(ROW(M16)-ROW($J$14))*7+(COLUMN(M16)-COLUMN($J$14)+1)) -> 42782 | N16: =IF(MONTH($J$12)<>MONTH($J$12-(WEEKDAY($J$12,1)-($V$2-1))-IF((WEEKDAY($J$12,1)-($V$2-1))<=0,7,0)+(ROW(N16)-ROW($J$14))*7+(COLUMN(N16)-COLUMN($J$14)+1)),"",$J$12-(WEEKDAY($J$12,1)-($V$2-1))-IF((WEEKDAY($J$12,1)-($V$2-1))<=0,7,0)+(ROW(N16)-ROW($J$14))*7+(COLUMN(N16)-COLUMN($J$14)+1)) -> 42783 | O16: =IF(MONTH($J$12)<>MONTH($J$12-(WEEKDAY($J$12,1)-($V$2-1))-IF((WEEKDAY($J$12,1)-($V$2-1))<=0,7,0)+(ROW(O16)-ROW($J$14))*7+(COLUMN(O16)-COLUMN($J$14)+1)),"",$J$12-(WEEKDAY($J$12,1)-($V$2-1))-IF((WEEKDAY($J$12,1)-($V$2-1))<=0,7,0)+(ROW(O16)-ROW($J$14))*7+(COLUMN(O16)-COLUMN($J$14)+1)) -> 42784 | P16: =IF(MONTH($J$12)<>MONTH($J$12-(WEEKDAY($J$12,1)-($V$2-1))-IF((WEEKDAY($J$12,1)-($V$2-1))<=0,7,0)+(ROW(P16)-ROW($J$14))*7+(COLUMN(P16)-COLUMN($J$14)+1)),"",$J$12-(WEEKDAY($J$12,1)-($V$2-1))-IF((WEEKDAY($J$12,1)-($V$2-1))<=0,7,0)+(ROW(P16)-ROW($J$14))*7+(COLUMN(P16)-COLUMN($J$14)+1)) -> 42785 | R16: =IF(MONTH($R$12)<>MONTH($R$12-(WEEKDAY($R$12,1)-($V$2-1))-IF((WEEKDAY($R$12,1)-($V$2-1))<=0,7,0)+(ROW(R16)-ROW($R$14))*7+(COLUMN(R16)-COLUMN($R$14)+1)),"",$R$12-(WEEKDAY($R$12,1)-($V$2-1))-IF((WEEKDAY($R$12,1)-($V$2-1))<=0,7,0)+(ROW(R16)-ROW($R$14))*7+(COLUMN(R16)-COLUMN($R$14)+1)) -> 42807 | S16: =IF(MONTH($R$12)<>MONTH($R$12-(WEEKDAY($R$12,1)-($V$2-1))-IF((WEEKDAY($R$12,1)-($V$2-1))<=0,7,0)+(ROW(S16)-ROW($R$14))*7+(COLUMN(S16)-COLUMN($R$14)+1)),"",$R$12-(WEEKDAY($R$12,1)-($V$2-1))-IF((WEEKDAY($R$12,1)-($V$2-1))<=0,7,0)+(ROW(S16)-ROW($R$14))*7+(COLUMN(S16)-COLUMN($R$14)+1)) -> 42808 | T16: =IF(MONTH($R$12)<>MONTH($R$12-(WEEKDAY($R$12,1)-($V$2-1))-IF((WEEKDAY($R$12,1)-($V$2-1))<=0,7,0)+(ROW(T16)-ROW($R$14))*7+(COLUMN(T16)-COLUMN($R$14)+1)),"",$R$12-(WEEKDAY($R$12,1)-($V$2-1))-IF((WEEKDAY($R$12,1)-($V$2-1))<=0,7,0)+(ROW(T16)-ROW($R$14))*7+(COLUMN(T16)-COLUMN($R$14)+1)) -> 42809 | U16: =IF(MONTH($R$12)<>MONTH($R$12-(WEEKDAY($R$12,1)-($V$2-1))-IF((WEEKDAY($R$12,1)-($V$2-1))<=0,7,0)+(ROW(U16)-ROW($R$14))*7+(COLUMN(U16)-COLUMN($R$14)+1)),"",$R$12-(WEEKDAY($R$12,1)-($V$2-1))-IF((WEEKDAY($R$12,1)-($V$2-1))<=0,7,0)+(ROW(U16)-ROW($R$14))*7+(COLUMN(U16)-COLUMN($R$14)+1)) -> 42810 | V16: =IF(MONTH($R$12)<>MONTH($R$12-(WEEKDAY($R$12,1)-($V$2-1))-IF((WEEKDAY($R$12,1)-($V$2-1))<=0,7,0)+(ROW(V16)-ROW($R$14))*7+(COLUMN(V16)-COLUMN($R$14)+1)),"",$R$12-(WEEKDAY($R$12,1)-($V$2-1))-IF((WEEKDAY($R$12,1)-($V$2-1))<=0,7,0)+(ROW(V16)-ROW($R$14))*7+(COLUMN(V16)-COLUMN($R$14)+1)) -> 42811 | W16: =IF(MONTH($R$12)<>MONTH($R$12-(WEEKDAY($R$12,1)-($V$2-1))-IF((WEEKDAY($R$12,1)-($V$2-1))<=0,7,0)+(ROW(W16)-ROW($R$14))*7+(COLUMN(W16)-COLUMN($R$14)+1)),"",$R$12-(WEEKDAY($R$12,1)-($V$2-1))-IF((WEEKDAY($R$12,1)-($V$2-1))<=0,7,0)+(ROW(W16)-ROW($R$14))*7+(COLUMN(W16)-COLUMN($R$14)+1)) -> 42812 | X16: =IF(MONTH($R$12)<>MONTH($R$12-(WEEKDAY($R$12,1)-($V$2-1))-IF((WEEKDAY($R$12,1)-($V$2-1))<=0,7,0)+(ROW(X16)-ROW($R$14))*7+(COLUMN(X16)-COLUMN($R$14)+1)),"",$R$12-(WEEKDAY($R$12,1)-($V$2-1))-IF((WEEKDAY($R$12,1)-($V$2-1))<=0,7,0)+(ROW(X16)-ROW($R$14))*7+(COLUMN(X16)-COLUMN($R$14)+1)) -> 42813
B17: =IF(MONTH($B$12)<>MONTH($B$12-(WEEKDAY($B$12,1)-($V$2-1))-IF((WEEKDAY($B$12,1)-($V$2-1))<=0,7,0)+(ROW(B17)-ROW($B$14))*7+(COLUMN(B17)-COLUMN($B$14)+1)),"",$B$12-(WEEKDAY($B$12,1)-($V$2-1))-IF((WEEKDAY($B$12,1)-($V$2-1))<=0,7,0)+(ROW(B17)-ROW($B$14))*7+(COLUMN(B17)-COLUMN($B$14)+1)) -> 42751 | C17: =IF(MONTH($B$12)<>MONTH($B$12-(WEEKDAY($B$12,1)-($V$2-1))-IF((WEEKDAY($B$12,1)-($V$2-1))<=0,7,0)+(ROW(C17)-ROW($B$14))*7+(COLUMN(C17)-COLUMN($B$14)+1)),"",$B$12-(WEEKDAY($B$12,1)-($V$2-1))-IF((WEEKDAY($B$12,1)-($V$2-1))<=0,7,0)+(ROW(C17)-ROW($B$14))*7+(COLUMN(C17)-COLUMN($B$14)+1)) -> 42752 | D17: =IF(MONTH($B$12)<>MONTH($B$12-(WEEKDAY($B$12,1)-($V$2-1))-IF((WEEKDAY($B$12,1)-($V$2-1))<=0,7,0)+(ROW(D17)-ROW($B$14))*7+(COLUMN(D17)-COLUMN($B$14)+1)),"",$B$12-(WEEKDAY($B$12,1)-($V$2-1))-IF((WEEKDAY($B$12,1)-($V$2-1))<=0,7,0)+(ROW(D17)-ROW($B$14))*7+(COLUMN(D17)-COLUMN($B$14)+1)) -> 42753 | E17: =IF(MONTH($B$12)<>MONTH($B$12-(WEEKDAY($B$12,1)-($V$2-1))-IF((WEEKDAY($B$12,1)-($V$2-1))<=0,7,0)+(ROW(E17)-ROW($B$14))*7+(COLUMN(E17)-COLUMN($B$14)+1)),"",$B$12-(WEEKDAY($B$12,1)-($V$2-1))-IF((WEEKDAY($B$12,1)-($V$2-1))<=0,7,0)+(ROW(E17)-ROW($B$14))*7+(COLUMN(E17)-COLUMN($B$14)+1)) -> 42754 | F17: =IF(MONTH($B$12)<>MONTH($B$12-(WEEKDAY($B$12,1)-($V$2-1))-IF((WEEKDAY($B$12,1)-($V$2-1))<=0,7,0)+(ROW(F17)-ROW($B$14))*7+(COLUMN(F17)-COLUMN($B$14)+1)),"",$B$12-(WEEKDAY($B$12,1)-($V$2-1))-IF((WEEKDAY($B$12,1)-($V$2-1))<=0,7,0)+(ROW(F17)-ROW($B$14))*7+(COLUMN(F17)-COLUMN($B$14)+1)) -> 42755 | G17: =IF(MONTH($B$12)<>MONTH($B$12-(WEEKDAY($B$12,1)-($V$2-1))-IF((WEEKDAY($B$12,1)-($V$2-1))<=0,7,0)+(ROW(G17)-ROW($B$14))*7+(COLUMN(G17)-COLUMN($B$14)+1)),"",$B$12-(WEEKDAY($B$12,1)-($V$2-1))-IF((WEEKDAY($B$12,1)-($V$2-1))<=0,7,0)+(ROW(G17)-ROW($B$14))*7+(COLUMN(G17)-COLUMN($B$14)+1)) -> 42756 | H17: =IF(MONTH($B$12)<>MONTH($B$12-(WEEKDAY($B$12,1)-($V$2-1))-IF((WEEKDAY($B$12,1)-($V$2-1))<=0,7,0)+(ROW(H17)-ROW($B$14))*7+(COLUMN(H17)-COLUMN($B$14)+1)),"",$B$12-(WEEKDAY($B$12,1)-($V$2-1))-IF((WEEKDAY($B$12,1)-($V$2-1))<=0,7,0)+(ROW(H17)-ROW($B$14))*7+(COLUMN(H17)-COLUMN($B$14)+1)) -> 42757 | J17: =IF(MONTH($J$12)<>MONTH($J$12-(WEEKDAY($J$12,1)-($V$2-1))-IF((WEEKDAY($J$12,1)-($V$2-1))<=0,7,0)+(ROW(J17)-ROW($J$14))*7+(COLUMN(J17)-COLUMN($J$14)+1)),"",$J$12-(WEEKDAY($J$12,1)-($V$2-1))-IF((WEEKDAY($J$12,1)-($V$2-1))<=0,7,0)+(ROW(J17)-ROW($J$14))*7+(COLUMN(J17)-COLUMN($J$14)+1)) -> 42786 | K17: =IF(MONTH($J$12)<>MONTH($J$12-(WEEKDAY($J$12,1)-($V$2-1))-IF((WEEKDAY($J$12,1)-($V$2-1))<=0,7,0)+(ROW(K17)-ROW($J$14))*7+(COLUMN(K17)-COLUMN($J$14)+1)),"",$J$12-(WEEKDAY($J$12,1)-($V$2-1))-IF((WEEKDAY($J$12,1)-($V$2-1))<=0,7,0)+(ROW(K17)-ROW($J$14))*7+(COLUMN(K17)-COLUMN($J$14)+1)) -> 42787 | L17: =IF(MONTH($J$12)<>MONTH($J$12-(WEEKDAY($J$12,1)-($V$2-1))-IF((WEEKDAY($J$12,1)-($V$2-1))<=0,7,0)+(ROW(L17)-ROW($J$14))*7+(COLUMN(L17)-COLUMN($J$14)+1)),"",$J$12-(WEEKDAY($J$12,1)-($V$2-1))-IF((WEEKDAY($J$12,1)-($V$2-1))<=0,7,0)+(ROW(L17)-ROW($J$14))*7+(COLUMN(L17)-COLUMN($J$14)+1)) -> 42788 | M17: =IF(MONTH($J$12)<>MONTH($J$12-(WEEKDAY($J$12,1)-($V$2-1))-IF((WEEKDAY($J$12,1)-($V$2-1))<=0,7,0)+(ROW(M17)-ROW($J$14))*7+(COLUMN(M17)-COLUMN($J$14)+1)),"",$J$12-(WEEKDAY($J$12,1)-($V$2-1))-IF((WEEKDAY($J$12,1)-($V$2-1))<=0,7,0)+(ROW(M17)-ROW($J$14))*7+(COLUMN(M17)-COLUMN($J$14)+1)) -> 42789 | N17: =IF(MONTH($J$12)<>MONTH($J$12-(WEEKDAY($J$12,1)-($V$2-1))-IF((WEEKDAY($J$12,1)-($V$2-1))<=0,7,0)+(ROW(N17)-ROW($J$14))*7+(COLUMN(N17)-COLUMN($J$14)+1)),"",$J$12-(WEEKDAY($J$12,1)-($V$2-1))-IF((WEEKDAY($J$12,1)-($V$2-1))<=0,7,0)+(ROW(N17)-ROW($J$14))*7+(COLUMN(N17)-COLUMN($J$14)+1)) -> 42790 | O17: =IF(MONTH($J$12)<>MONTH($J$12-(WEEKDAY($J$12,1)-($V$2-1))-IF((WEEKDAY($J$12,1)-($V$2-1))<=0,7,0)+(ROW(O17)-ROW($J$14))*7+(COLUMN(O17)-COLUMN($J$14)+1)),"",$J$12-(WEEKDAY($J$12,1)-($V$2-1))-IF((WEEKDAY($J$12,1)-($V$2-1))<=0,7,0)+(ROW(O17)-ROW($J$14))*7+(COLUMN(O17)-COLUMN($J$14)+1)) -> 42791 | P17: =IF(MONTH($J$12)<>MONTH($J$12-(WEEKDAY($J$12,1)-($V$2-1))-IF((WEEKDAY($J$12,1)-($V$2-1))<=0,7,0)+(ROW(P17)-ROW($J$14))*7+(COLUMN(P17)-COLUMN($J$14)+1)),"",$J$12-(WEEKDAY($J$12,1)-($V$2-1))-IF((WEEKDAY($J$12,1)-($V$2-1))<=0,7,0)+(ROW(P17)-ROW($J$14))*7+(COLUMN(P17)-COLUMN($J$14)+1)) -> 42792 | R17: =IF(MONTH($R$12)<>MONTH($R$12-(WEEKDAY($R$12,1)-($V$2-1))-IF((WEEKDAY($R$12,1)-($V$2-1))<=0,7,0)+(ROW(R17)-ROW($R$14))*7+(COLUMN(R17)-COLUMN($R$14)+1)),"",$R$12-(WEEKDAY($R$12,1)-($V$2-1))-IF((WEEKDAY($R$12,1)-($V$2-1))<=0,7,0)+(ROW(R17)-ROW($R$14))*7+(COLUMN(R17)-COLUMN($R$14)+1)) -> 42814 | S17: =IF(MONTH($R$12)<>MONTH($R$12-(WEEKDAY($R$12,1)-($V$2-1))-IF((WEEKDAY($R$12,1)-($V$2-1))<=0,7,0)+(ROW(S17)-ROW($R$14))*7+(COLUMN(S17)-COLUMN($R$14)+1)),"",$R$12-(WEEKDAY($R$12,1)-($V$2-1))-IF((WEEKDAY($R$12,1)-($V$2-1))<=0,7,0)+(ROW(S17)-ROW($R$14))*7+(COLUMN(S17)-COLUMN($R$14)+1)) -> 42815 | T17: =IF(MONTH($R$12)<>MONTH($R$12-(WEEKDAY($R$12,1)-($V$2-1))-IF((WEEKDAY($R$12,1)-($V$2-1))<=0,7,0)+(ROW(T17)-ROW($R$14))*7+(COLUMN(T17)-COLUMN($R$14)+1)),"",$R$12-(WEEKDAY($R$12,1)-($V$2-1))-IF((WEEKDAY($R$12,1)-($V$2-1))<=0,7,0)+(ROW(T17)-ROW($R$14))*7+(COLUMN(T17)-COLUMN($R$14)+1)) -> 42816 | U17: =IF(MONTH($R$12)<>MONTH($R$12-(WEEKDAY($R$12,1)-($V$2-1))-IF((WEEKDAY($R$12,1)-($V$2-1))<=0,7,0)+(ROW(U17)-ROW($R$14))*7+(COLUMN(U17)-COLUMN($R$14)+1)),"",$R$12-(WEEKDAY($R$12,1)-($V$2-1))-IF((WEEKDAY($R$12,1)-($V$2-1))<=0,7,0)+(ROW(U17)-ROW($R$14))*7+(COLUMN(U17)-COLUMN($R$14)+1)) -> 42817 | V17: =IF(MONTH($R$12)<>MONTH($R$12-(WEEKDAY($R$12,1)-($V$2-1))-IF((WEEKDAY($R$12,1)-($V$2-1))<=0,7,0)+(ROW(V17)-ROW($R$14))*7+(COLUMN(V17)-COLUMN($R$14)+1)),"",$R$12-(WEEKDAY($R$12,1)-($V$2-1))-IF((WEEKDAY($R$12,1)-($V$2-1))<=0,7,0)+(ROW(V17)-ROW($R$14))*7+(COLUMN(V17)-COLUMN($R$14)+1)) -> 42818 | W17: =IF(MONTH($R$12)<>MONTH($R$12-(WEEKDAY($R$12,1)-($V$2-1))-IF((WEEKDAY($R$12,1)-($V$2-1))<=0,7,0)+(ROW(W17)-ROW($R$14))*7+(COLUMN(W17)-COLUMN($R$14)+1)),"",$R$12-(WEEKDAY($R$12,1)-($V$2-1))-IF((WEEKDAY($R$12,1)-($V$2-1))<=0,7,0)+(ROW(W17)-ROW($R$14))*7+(COLUMN(W17)-COLUMN($R$14)+1)) -> 42819 | X17: =IF(MONTH($R$12)<>MONTH($R$12-(WEEKDAY($R$12,1)-($V$2-1))-IF((WEEKDAY($R$12,1)-($V$2-1))<=0,7,0)+(ROW(X17)-ROW($R$14))*7+(COLUMN(X17)-COLUMN($R$14)+1)),"",$R$12-(WEEKDAY($R$12,1)-($V$2-1))-IF((WEEKDAY($R$12,1)-($V$2-1))<=0,7,0)+(ROW(X17)-ROW($R$14))*7+(COLUMN(X17)-COLUMN($R$14)+1)) -> 42820
B18: =IF(MONTH($B$12)<>MONTH($B$12-(WEEKDAY($B$12,1)-($V$2-1))-IF((WEEKDAY($B$12,1)-($V$2-1))<=0,7,0)+(ROW(B18)-ROW($B$14))*7+(COLUMN(B18)-COLUMN($B$14)+1)),"",$B$12-(WEEKDAY($B$12,1)-($V$2-1))-IF((WEEKDAY($B$12,1)-($V$2-1))<=0,7,0)+(ROW(B18)-ROW($B$14))*7+(COLUMN(B18)-COLUMN($B$14)+1)) -> 42758 | C18: =IF(MONTH($B$12)<>MONTH($B$12-(WEEKDAY($B$12,1)-($V$2-1))-IF((WEEKDAY($B$12,1)-($V$2-1))<=0,7,0)+(ROW(C18)-ROW($B$14))*7+(COLUMN(C18)-COLUMN($B$14)+1)),"",$B$12-(WEEKDAY($B$12,1)-($V$2-1))-IF((WEEKDAY($B$12,1)-($V$2-1))<=0,7,0)+(ROW(C18)-ROW($B$14))*7+(COLUMN(C18)-COLUMN($B$14)+1)) -> 42759 | D18: =IF(MONTH($B$12)<>MONTH($B$12-(WEEKDAY($B$12,1)-($V$2-1))-IF((WEEKDAY($B$12,1)-($V$2-1))<=0,7,0)+(ROW(D18)-ROW($B$14))*7+(COLUMN(D18)-COLUMN($B$14)+1)),"",$B$12-(WEEKDAY($B$12,1)-($V$2-1))-IF((WEEKDAY($B$12,1)-($V$2-1))<=0,7,0)+(ROW(D18)-ROW($B$14))*7+(COLUMN(D18)-COLUMN($B$14)+1)) -> 42760 | E18: =IF(MONTH($B$12)<>MONTH($B$12-(WEEKDAY($B$12,1)-($V$2-1))-IF((WEEKDAY($B$12,1)-($V$2-1))<=0,7,0)+(ROW(E18)-ROW($B$14))*7+(COLUMN(E18)-COLUMN($B$14)+1)),"",$B$12-(WEEKDAY($B$12,1)-($V$2-1))-IF((WEEKDAY($B$12,1)-($V$2-1))<=0,7,0)+(ROW(E18)-ROW($B$14))*7+(COLUMN(E18)-COLUMN($B$14)+1)) -> 42761 | F18: =IF(MONTH($B$12)<>MONTH($B$12-(WEEKDAY($B$12,1)-($V$2-1))-IF((WEEKDAY($B$12,1)-($V$2-1))<=0,7,0)+(ROW(F18)-ROW($B$14))*7+(COLUMN(F18)-COLUMN($B$14)+1)),"",$B$12-(WEEKDAY($B$12,1)-($V$2-1))-IF((WEEKDAY($B$12,1)-($V$2-1))<=0,7,0)+(ROW(F18)-ROW($B$14))*7+(COLUMN(F18)-COLUMN($B$14)+1)) -> 42762 | G18: =IF(MONTH($B$12)<>MONTH($B$12-(WEEKDAY($B$12,1)-($V$2-1))-IF((WEEKDAY($B$12,1)-($V$2-1))<=0,7,0)+(ROW(G18)-ROW($B$14))*7+(COLUMN(G18)-COLUMN($B$14)+1)),"",$B$12-(WEEKDAY($B$12,1)-($V$2-1))-IF((WEEKDAY($B$12,1)-($V$2-1))<=0,7,0)+(ROW(G18)-ROW($B$14))*7+(COLUMN(G18)-COLUMN($B$14)+1)) -> 42763 | H18: =IF(MONTH($B$12)<>MONTH($B$12-(WEEKDAY($B$12,1)-($V$2-1))-IF((WEEKDAY($B$12,1)-($V$2-1))<=0,7,0)+(ROW(H18)-ROW($B$14))*7+(COLUMN(H18)-COLUMN($B$14)+1)),"",$B$12-(WEEKDAY($B$12,1)-($V$2-1))-IF((WEEKDAY($B$12,1)-($V$2-1))<=0,7,0)+(ROW(H18)-ROW($B$14))*7+(COLUMN(H18)-COLUMN($B$14)+1)) -> 42764 | J18: =IF(MONTH($J$12)<>MONTH($J$12-(WEEKDAY($J$12,1)-($V$2-1))-IF((WEEKDAY($J$12,1)-($V$2-1))<=0,7,0)+(ROW(J18)-ROW($J$14))*7+(COLUMN(J18)-COLUMN($J$14)+1)),"",$J$12-(WEEKDAY($J$12,1)-($V$2-1))-IF((WEEKDAY($J$12,1)-($V$2-1))<=0,7,0)+(ROW(J18)-ROW($J$14))*7+(COLUMN(J18)-COLUMN($J$14)+1)) -> 42793 | K18: =IF(MONTH($J$12)<>MONTH($J$12-(WEEKDAY($J$12,1)-($V$2-1))-IF((WEEKDAY($J$12,1)-($V$2-1))<=0,7,0)+(ROW(K18)-ROW($J$14))*7+(COLUMN(K18)-COLUMN($J$14)+1)),"",$J$12-(WEEKDAY($J$12,1)-($V$2-1))-IF((WEEKDAY($J$12,1)-($V$2-1))<=0,7,0)+(ROW(K18)-ROW($J$14))*7+(COLUMN(K18)-COLUMN($J$14)+1)) -> 42794 | L18: =IF(MONTH($J$12)<>MONTH($J$12-(WEEKDAY($J$12,1)-($V$2-1))-IF((WEEKDAY($J$12,1)-($V$2-1))<=0,7,0)+(ROW(L18)-ROW($J$14))*7+(COLUMN(L18)-COLUMN($J$14)+1)),"",$J$12-(WEEKDAY($J$12,1)-($V$2-1))-IF((WEEKDAY($J$12,1)-($V$2-1))<=0,7,0)+(ROW(L18)-ROW($J$14))*7+(COLUMN(L18)-COLUMN($J$14)+1)) | M18: =IF(MONTH($J$12)<>MONTH($J$12-(WEEKDAY($J$12,1)-($V$2-1))-IF((WEEKDAY($J$12,1)-($V$2-1))<=0,7,0)+(ROW(M18)-ROW($J$14))*7+(COLUMN(M18)-COLUMN($J$14)+1)),"",$J$12-(WEEKDAY($J$12,1)-($V$2-1))-IF((WEEKDAY($J$12,1)-($V$2-1))<=0,7,0)+(ROW(M18)-ROW($J$14))*7+(COLUMN(M18)-COLUMN($J$14)+1)) | N18: =IF(MONTH($J$12)<>MONTH($J$12-(WEEKDAY($J$12,1)-($V$2-1))-IF((WEEKDAY($J$12,1)-($V$2-1))<=0,7,0)+(ROW(N18)-ROW($J$14))*7+(COLUMN(N18)-COLUMN($J$14)+1)),"",$J$12-(WEEKDAY($J$12,1)-($V$2-1))-IF((WEEKDAY($J$12,1)-($V$2-1))<=0,7,0)+(ROW(N18)-ROW($J$14))*7+(COLUMN(N18)-COLUMN($J$14)+1)) | O18: =IF(MONTH($J$12)<>MONTH($J$12-(WEEKDAY($J$12,1)-($V$2-1))-IF((WEEKDAY($J$12,1)-($V$2-1))<=0,7,0)+(ROW(O18)-ROW($J$14))*7+(COLUMN(O18)-COLUMN($J$14)+1)),"",$J$12-(WEEKDAY($J$12,1)-($V$2-1))-IF((WEEKDAY($J$12,1)-($V$2-1))<=0,7,0)+(ROW(O18)-ROW($J$14))*7+(COLUMN(O18)-COLUMN($J$14)+1)) | P18: =IF(MONTH($J$12)<>MONTH($J$12-(WEEKDAY($J$12,1)-($V$2-1))-IF((WEEKDAY($J$12,1)-($V$2-1))<=0,7,0)+(ROW(P18)-ROW($J$14))*7+(COLUMN(P18)-COLUMN($J$14)+1)),"",$J$12-(WEEKDAY($J$12,1)-($V$2-1))-IF((WEEKDAY($J$12,1)-($V$2-1))<=0,7,0)+(ROW(P18)-ROW($J$14))*7+(COLUMN(P18)-COLUMN($J$14)+1)) | R18: =IF(MONTH($R$12)<>MONTH($R$12-(WEEKDAY($R$12,1)-($V$2-1))-IF((WEEKDAY($R$12,1)-($V$2-1))<=0,7,0)+(ROW(R18)-ROW($R$14))*7+(COLUMN(R18)-COLUMN($R$14)+1)),"",$R$12-(WEEKDAY($R$12,1)-($V$2-1))-IF((WEEKDAY($R$12,1)-($V$2-1))<=0,7,0)+(ROW(R18)-ROW($R$14))*7+(COLUMN(R18)-COLUMN($R$14)+1)) -> 42821 | S18: =IF(MONTH($R$12)<>MONTH($R$12-(WEEKDAY($R$12,1)-($V$2-1))-IF((WEEKDAY($R$12,1)-($V$2-1))<=0,7,0)+(ROW(S18)-ROW($R$14))*7+(COLUMN(S18)-COLUMN($R$14)+1)),"",$R$12-(WEEKDAY($R$12,1)-($V$2-1))-IF((WEEKDAY($R$12,1)-($V$2-1))<=0,7,0)+(ROW(S18)-ROW($R$14))*7+(COLUMN(S18)-COLUMN($R$14)+1)) -> 42822 | T18: =IF(MONTH($R$12)<>MONTH($R$12-(WEEKDAY($R$12,1)-($V$2-1))-IF((WEEKDAY($R$12,1)-($V$2-1))<=0,7,0)+(ROW(T18)-ROW($R$14))*7+(COLUMN(T18)-COLUMN($R$14)+1)),"",$R$12-(WEEKDAY($R$12,1)-($V$2-1))-IF((WEEKDAY($R$12,1)-($V$2-1))<=0,7,0)+(ROW(T18)-ROW($R$14))*7+(COLUMN(T18)-COLUMN($R$14)+1)) -> 42823 | U18: =IF(MONTH($R$12)<>MONTH($R$12-(WEEKDAY($R$12,1)-($V$2-1))-IF((WEEKDAY($R$12,1)-($V$2-1))<=0,7,0)+(ROW(U18)-ROW($R$14))*7+(COLUMN(U18)-COLUMN($R$14)+1)),"",$R$12-(WEEKDAY($R$12,1)-($V$2-1))-IF((WEEKDAY($R$12,1)-($V$2-1))<=0,7,0)+(ROW(U18)-ROW($R$14))*7+(COLUMN(U18)-COLUMN($R$14)+1)) -> 42824 | V18: =IF(MONTH($R$12)<>MONTH($R$12-(WEEKDAY($R$12,1)-($V$2-1))-IF((WEEKDAY($R$12,1)-($V$2-1))<=0,7,0)+(ROW(V18)-ROW($R$14))*7+(COLUMN(V18)-COLUMN($R$14)+1)),"",$R$12-(WEEKDAY($R$12,1)-($V$2-1))-IF((WEEKDAY($R$12,1)-($V$2-1))<=0,7,0)+(ROW(V18)-ROW($R$14))*7+(COLUMN(V18)-COLUMN($R$14)+1)) -> 42825 | W18: =IF(MONTH($R$12)<>MONTH($R$12-(WEEKDAY($R$12,1)-($V$2-1))-IF((WEEKDAY($R$12,1)-($V$2-1))<=0,7,0)+(ROW(W18)-ROW($R$14))*7+(COLUMN(W18)-COLUMN($R$14)+1)),"",$R$12-(WEEKDAY($R$12,1)-($V$2-1))-IF((WEEKDAY($R$12,1)-($V$2-1))<=0,7,0)+(ROW(W18)-ROW($R$14))*7+(COLUMN(W18)-COLUMN($R$14)+1)) | X18: =IF(MONTH($R$12)<>MONTH($R$12-(WEEKDAY($R$12,1)-($V$2-1))-IF((WEEKDAY($R$12,1)-($V$2-1))<=0,7,0)+(ROW(X18)-ROW($R$14))*7+(COLUMN(X18)-COLUMN($R$14)+1)),"",$R$12-(WEEKDAY($R$12,1)-($V$2-1))-IF((WEEKDAY($R$12,1)-($V$2-1))<=0,7,0)+(ROW(X18)-ROW($R$14))*7+(COLUMN(X18)-COLUMN($R$14)+1))
B19: =IF(MONTH($B$12)<>MONTH($B$12-(WEEKDAY($B$12,1)-($V$2-1))-IF((WEEKDAY($B$12,1)-($V$2-1))<=0,7,0)+(ROW(B19)-ROW($B$14))*7+(COLUMN(B19)-COLUMN($B$14)+1)),"",$B$12-(WEEKDAY($B$12,1)-($V$2-1))-IF((WEEKDAY($B$12,1)-($V$2-1))<=0,7,0)+(ROW(B19)-ROW($B$14))*7+(COLUMN(B19)-COLUMN($B$14)+1)) -> 42765 | C19: =IF(MONTH($B$12)<>MONTH($B$12-(WEEKDAY($B$12,1)-($V$2-1))-IF((WEEKDAY($B$12,1)-($V$2-1))<=0,7,0)+(ROW(C19)-ROW($B$14))*7+(COLUMN(C19)-COLUMN($B$14)+1)),"",$B$12-(WEEKDAY($B$12,1)-($V$2-1))-IF((WEEKDAY($B$12,1)-($V$2-1))<=0,7,0)+(ROW(C19)-ROW($B$14))*7+(COLUMN(C19)-COLUMN($B$14)+1)) -> 42766 | D19: =IF(MONTH($B$12)<>MONTH($B$12-(WEEKDAY($B$12,1)-($V$2-1))-IF((WEEKDAY($B$12,1)-($V$2-1))<=0,7,0)+(ROW(D19)-ROW($B$14))*7+(COLUMN(D19)-COLUMN($B$14)+1)),"",$B$12-(WEEKDAY($B$12,1)-($V$2-1))-IF((WEEKDAY($B$12,1)-($V$2-1))<=0,7,0)+(ROW(D19)-ROW($B$14))*7+(COLUMN(D19)-COLUMN($B$14)+1)) | E19: =IF(MONTH($B$12)<>MONTH($B$12-(WEEKDAY($B$12,1)-($V$2-1))-IF((WEEKDAY($B$12,1)-($V$2-1))<=0,7,0)+(ROW(E19)-ROW($B$14))*7+(COLUMN(E19)-COLUMN($B$14)+1)),"",$B$12-(WEEKDAY($B$12,1)-($V$2-1))-IF((WEEKDAY($B$12,1)-($V$2-1))<=0,7,0)+(ROW(E19)-ROW($B$14))*7+(COLUMN(E19)-COLUMN($B$14)+1)) | F19: =IF(MONTH($B$12)<>MONTH($B$12-(WEEKDAY($B$12,1)-($V$2-1))-IF((WEEKDAY($B$12,1)-($V$2-1))<=0,7,0)+(ROW(F19)-ROW($B$14))*7+(COLUMN(F19)-COLUMN($B$14)+1)),"",$B$12-(WEEKDAY($B$12,1)-($V$2-1))-IF((WEEKDAY($B$12,1)-($V$2-1))<=0,7,0)+(ROW(F19)-ROW($B$14))*7+(COLUMN(F19)-COLUMN($B$14)+1)) | G19: =IF(MONTH($B$12)<>MONTH($B$12-(WEEKDAY($B$12,1)-($V$2-1))-IF((WEEKDAY($B$12,1)-($V$2-1))<=0,7,0)+(ROW(G19)-ROW($B$14))*7+(COLUMN(G19)-COLUMN($B$14)+1)),"",$B$12-(WEEKDAY($B$12,1)-($V$2-1))-IF((WEEKDAY($B$12,1)-($V$2-1))<=0,7,0)+(ROW(G19)-ROW($B$14))*7+(COLUMN(G19)-COLUMN($B$14)+1)) | H19: =IF(MONTH($B$12)<>MONTH($B$12-(WEEKDAY($B$12,1)-($V$2-1))-IF((WEEKDAY($B$12,1)-($V$2-1))<=0,7,0)+(ROW(H19)-ROW($B$14))*7+(COLUMN(H19)-COLUMN($B$14)+1)),"",$B$12-(WEEKDAY($B$12,1)-($V$2-1))-IF((WEEKDAY($B$12,1)-($V$2-1))<=0,7,0)+(ROW(H19)-ROW($B$14))*7+(COLUMN(H19)-COLUMN($B$14)+1)) | J19: =IF(MONTH($J$12)<>MONTH($J$12-(WEEKDAY($J$12,1)-($V$2-1))-IF((WEEKDAY($J$12,1)-($V$2-1))<=0,7,0)+(ROW(J19)-ROW($J$14))*7+(COLUMN(J19)-COLUMN($J$14)+1)),"",$J$12-(WEEKDAY($J$12,1)-($V$2-1))-IF((WEEKDAY($J$12,1)-($V$2-1))<=0,7,0)+(ROW(J19)-ROW($J$14))*7+(COLUMN(J19)-COLUMN($J$14)+1)) | K19: =IF(MONTH($J$12)<>MONTH($J$12-(WEEKDAY($J$12,1)-($V$2-1))-IF((WEEKDAY($J$12,1)-($V$2-1))<=0,7,0)+(ROW(K19)-ROW($J$14))*7+(COLUMN(K19)-COLUMN($J$14)+1)),"",$J$12-(WEEKDAY($J$12,1)-($V$2-1))-IF((WEEKDAY($J$12,1)-($V$2-1))<=0,7,0)+(ROW(K19)-ROW($J$14))*7+(COLUMN(K19)-COLUMN($J$14)+1)) | L19: =IF(MONTH($J$12)<>MONTH($J$12-(WEEKDAY($J$12,1)-($V$2-1))-IF((WEEKDAY($J$12,1)-($V$2-1))<=0,7,0)+(ROW(L19)-ROW($J$14))*7+(COLUMN(L19)-COLUMN($J$14)+1)),"",$J$12-(WEEKDAY($J$12,1)-($V$2-1))-IF((WEEKDAY($J$12,1)-($V$2-1))<=0,7,0)+(ROW(L19)-ROW($J$14))*7+(COLUMN(L19)-COLUMN($J$14)+1)) | M19: =IF(MONTH($J$12)<>MONTH($J$12-(WEEKDAY($J$12,1)-($V$2-1))-IF((WEEKDAY($J$12,1)-($V$2-1))<=0,7,0)+(ROW(M19)-ROW($J$14))*7+(COLUMN(M19)-COLUMN($J$14)+1)),"",$J$12-(WEEKDAY($J$12,1)-($V$2-1))-IF((WEEKDAY($J$12,1)-($V$2-1))<=0,7,0)+(ROW(M19)-ROW($J$14))*7+(COLUMN(M19)-COLUMN($J$14)+1)) | N19: =IF(MONTH($J$12)<>MONTH($J$12-(WEEKDAY($J$12,1)-($V$2-1))-IF((WEEKDAY($J$12,1)-($V$2-1))<=0,7,0)+(ROW(N19)-ROW($J$14))*7+(COLUMN(N19)-COLUMN($J$14)+1)),"",$J$12-(WEEKDAY($J$12,1)-($V$2-1))-IF((WEEKDAY($J$12,1)-($V$2-1))<=0,7,0)+(ROW(N19)-ROW($J$14))*7+(COLUMN(N19)-COLUMN($J$14)+1)) | O19: =IF(MONTH($J$12)<>MONTH($J$12-(WEEKDAY($J$12,1)-($V$2-1))-IF((WEEKDAY($J$12,1)-($V$2-1))<=0,7,0)+(ROW(O19)-ROW($J$14))*7+(COLUMN(O19)-COLUMN($J$14)+1)),"",$J$12-(WEEKDAY($J$12,1)-($V$2-1))-IF((WEEKDAY($J$12,1)-($V$2-1))<=0,7,0)+(ROW(O19)-ROW($J$14))*7+(COLUMN(O19)-COLUMN($J$14)+1)) | P19: =IF(MONTH($J$12)<>MONTH($J$12-(WEEKDAY($J$12,1)-($V$2-1))-IF((WEEKDAY($J$12,1)-($V$2-1))<=0,7,0)+(ROW(P19)-ROW($J$14))*7+(COLUMN(P19)-COLUMN($J$14)+1)),"",$J$12-(WEEKDAY($J$12,1)-($V$2-1))-IF((WEEKDAY($J$12,1)-($V$2-1))<=0,7,0)+(ROW(P19)-ROW($J$14))*7+(COLUMN(P19)-COLUMN($J$14)+1)) | R19: =IF(MONTH($R$12)<>MONTH($R$12-(WEEKDAY($R$12,1)-($V$2-1))-IF((WEEKDAY($R$12,1)-($V$2-1))<=0,7,0)+(ROW(R19)-ROW($R$14))*7+(COLUMN(R19)-COLUMN($R$14)+1)),"",$R$12-(WEEKDAY($R$12,1)-($V$2-1))-IF((WEEKDAY($R$12,1)-($V$2-1))<=0,7,0)+(ROW(R19)-ROW($R$14))*7+(COLUMN(R19)-COLUMN($R$14)+1)) | S19: =IF(MONTH($R$12)<>MONTH($R$12-(WEEKDAY($R$12,1)-($V$2-1))-IF((WEEKDAY($R$12,1)-($V$2-1))<=0,7,0)+(ROW(S19)-ROW($R$14))*7+(COLUMN(S19)-COLUMN($R$14)+1)),"",$R$12-(WEEKDAY($R$12,1)-($V$2-1))-IF((WEEKDAY($R$12,1)-($V$2-1))<=0,7,0)+(ROW(S19)-ROW($R$14))*7+(COLUMN(S19)-COLUMN($R$14)+1)) | T19: =IF(MONTH($R$12)<>MONTH($R$12-(WEEKDAY($R$12,1)-($V$2-1))-IF((WEEKDAY($R$12,1)-($V$2-1))<=0,7,0)+(ROW(T19)-ROW($R$14))*7+(COLUMN(T19)-COLUMN($R$14)+1)),"",$R$12-(WEEKDAY($R$12,1)-($V$2-1))-IF((WEEKDAY($R$12,1)-($V$2-1))<=0,7,0)+(ROW(T19)-ROW($R$14))*7+(COLUMN(T19)-COLUMN($R$14)+1)) | U19: =IF(MONTH($R$12)<>MONTH($R$12-(WEEKDAY($R$12,1)-($V$2-1))-IF((WEEKDAY($R$12,1)-($V$2-1))<=0,7,0)+(ROW(U19)-ROW($R$14))*7+(COLUMN(U19)-COLUMN($R$14)+1)),"",$R$12-(WEEKDAY($R$12,1)-($V$2-1))-IF((WEEKDAY($R$12,1)-($V$2-1))<=0,7,0)+(ROW(U19)-ROW($R$14))*7+(COLUMN(U19)-COLUMN($R$14)+1)) | V19: =IF(MONTH($R$12)<>MONTH($R$12-(WEEKDAY($R$12,1)-($V$2-1))-IF((WEEKDAY($R$12,1)-($V$2-1))<=0,7,0)+(ROW(V19)-ROW($R$14))*7+(COLUMN(V19)-COLUMN($R$14)+1)),"",$R$12-(WEEKDAY($R$12,1)-($V$2-1))-IF((WEEKDAY($R$12,1)-($V$2-1))<=0,7,0)+(ROW(V19)-ROW($R$14))*7+(COLUMN(V19)-COLUMN($R$14)+1)) | W19: =IF(MONTH($R$12)<>MONTH($R$12-(WEEKDAY($R$12,1)-($V$2-1))-IF((WEEKDAY($R$12,1)-($V$2-1))<=0,7,0)+(ROW(W19)-ROW($R$14))*7+(COLUMN(W19)-COLUMN($R$14)+1)),"",$R$12-(WEEKDAY($R$12,1)-($V$2-1))-IF((WEEKDAY($R$12,1)-($V$2-1))<=0,7,0)+(ROW(W19)-ROW($R$14))*7+(COLUMN(W19)-COLUMN($R$14)+1)) | X19: =IF(MONTH($R$12)<>MONTH($R$12-(WEEKDAY($R$12,1)-($V$2-1))-IF((WEEKDAY($R$12,1)-($V$2-1))<=0,7,0)+(ROW(X19)-ROW($R$14))*7+(COLUMN(X19)-COLUMN($R$14)+1)),"",$R$12-(WEEKDAY($R$12,1)-($V$2-1))-IF((WEEKDAY($R$12,1)-($V$2-1))<=0,7,0)+(ROW(X19)-ROW($R$14))*7+(COLUMN(X19)-COLUMN($R$14)+1))
B21: =DATE(YEAR(R12+35),MONTH(R12+35),1) -> 42826 | J21: =DATE(YEAR(B21+35),MONTH(B21+35),1) -> 42856 | R21: =DATE(YEAR(J21+35),MONTH(J21+35),1) -> 42887
B22: =$B$13 -> M | C22: =$C$13 -> Tu | D22: =$D$13 -> W | E22: =$E$13 -> Th | F22: =$F$13 -> F | G22: =$G$13 -> Sa | H22: =$H$13 -> Su | J22: =$B$13 -> M | K22: =$C$13 -> Tu | L22: =$D$13 -> W | M22: =$E$13 -> Th | N22: =$F$13 -> F | O22: =$G$13 -> Sa | P22: =$H$13 -> Su | R22: =$B$13 -> M | S22: =$C$13 -> Tu | T22: =$D$13 -> W | U22: =$E$13 -> Th | V22: =$F$13 -> F | W22: =$G$13 -> Sa | X22: =$H$13 -> Su
B23: =IF(MONTH($B$21)<>MONTH($B$21-(WEEKDAY($B$21,1)-($V$2-1))-IF((WEEKDAY($B$21,1)-($V$2-1))<=0,7,0)+(ROW(B23)-ROW($B$23))*7+(COLUMN(B23)-COLUMN($B$23)+1)),"",$B$21-(WEEKDAY($B$21,1)-($V$2-1))-IF((WEEKDAY($B$21,1)-($V$2-1))<=0,7,0)+(ROW(B23)-ROW($B$23))*7+(COLUMN(B23)-COLUMN($B$23)+1)) | C23: =IF(MONTH($B$21)<>MONTH($B$21-(WEEKDAY($B$21,1)-($V$2-1))-IF((WEEKDAY($B$21,1)-($V$2-1))<=0,7,0)+(ROW(C23)-ROW($B$23))*7+(COLUMN(C23)-COLUMN($B$23)+1)),"",$B$21-(WEEKDAY($B$21,1)-($V$2-1))-IF((WEEKDAY($B$21,1)-($V$2-1))<=0,7,0)+(ROW(C23)-ROW($B$23))*7+(COLUMN(C23)-COLUMN($B$23)+1)) | D23: =IF(MONTH($B$21)<>MONTH($B$21-(WEEKDAY($B$21,1)-($V$2-1))-IF((WEEKDAY($B$21,1)-($V$2-1))<=0,7,0)+(ROW(D23)-ROW($B$23))*7+(COLUMN(D23)-COLUMN($B$23)+1)),"",$B$21-(WEEKDAY($B$21,1)-($V$2-1))-IF((WEEKDAY($B$21,1)-($V$2-1))<=0,7,0)+(ROW(D23)-ROW($B$23))*7+(COLUMN(D23)-COLUMN($B$23)+1)) | E23: =IF(MONTH($B$21)<>MONTH($B$21-(WEEKDAY($B$21,1)-($V$2-1))-IF((WEEKDAY($B$21,1)-($V$2-1))<=0,7,0)+(ROW(E23)-ROW($B$23))*7+(COLUMN(E23)-COLUMN($B$23)+1)),"",$B$21-(WEEKDAY($B$21,1)-($V$2-1))-IF((WEEKDAY($B$21,1)-($V$2-1))<=0,7,0)+(ROW(E23)-ROW($B$23))*7+(COLUMN(E23)-COLUMN($B$23)+1)) | F23: =IF(MONTH($B$21)<>MONTH($B$21-(WEEKDAY($B$21,1)-($V$2-1))-IF((WEEKDAY($B$21,1)-($V$2-1))<=0,7,0)+(ROW(F23)-ROW($B$23))*7+(COLUMN(F23)-COLUMN($B$23)+1)),"",$B$21-(WEEKDAY($B$21,1)-($V$2-1))-IF((WEEKDAY($B$21,1)-($V$2-1))<=0,7,0)+(ROW(F23)-ROW($B$23))*7+(COLUMN(F23)-COLUMN($B$23)+1)) | G23: =IF(MONTH($B$21)<>MONTH($B$21-(WEEKDAY($B$21,1)-($V$2-1))-IF((WEEKDAY($B$21,1)-($V$2-1))<=0,7,0)+(ROW(G23)-ROW($B$23))*7+(COLUMN(G23)-COLUMN($B$23)+1)),"",$B$21-(WEEKDAY($B$21,1)-($V$2-1))-IF((WEEKDAY($B$21,1)-($V$2-1))<=0,7,0)+(ROW(G23)-ROW($B$23))*7+(COLUMN(G23)-COLUMN($B$23)+1)) -> 42826 | H23: =IF(MONTH($B$21)<>MONTH($B$21-(WEEKDAY($B$21,1)-($V$2-1))-IF((WEEKDAY($B$21,1)-($V$2-1))<=0,7,0)+(ROW(H23)-ROW($B$23))*7+(COLUMN(H23)-COLUMN($B$23)+1)),"",$B$21-(WEEKDAY($B$21,1)-($V$2-1))-IF((WEEKDAY($B$21,1)-($V$2-1))<=0,7,0)+(ROW(H23)-ROW($B$23))*7+(COLUMN(H23)-COLUMN($B$23)+1)) -> 42827 | J23: =IF(MONTH($J$21)<>MONTH($J$21-(WEEKDAY($J$21,1)-($V$2-1))-IF((WEEKDAY($J$21,1)-($V$2-1))<=0,7,0)+(ROW(J23)-ROW($J$23))*7+(COLUMN(J23)-COLUMN($J$23)+1)),"",$J$21-(WEEKDAY($J$21,1)-($V$2-1))-IF((WEEKDAY($J$21,1)-($V$2-1))<=0,7,0)+(ROW(J23)-ROW($J$23))*7+(COLUMN(J23)-COLUMN($J$23)+1)) -> 42856 | K23: =IF(MONTH($J$21)<>MONTH($J$21-(WEEKDAY($J$21,1)-($V$2-1))-IF((WEEKDAY($J$21,1)-($V$2-1))<=0,7,0)+(ROW(K23)-ROW($J$23))*7+(COLUMN(K23)-COLUMN($J$23)+1)),"",$J$21-(WEEKDAY($J$21,1)-($V$2-1))-IF((WEEKDAY($J$21,1)-($V$2-1))<=0,7,0)+(ROW(K23)-ROW($J$23))*7+(COLUMN(K23)-COLUMN($J$23)+1)) -> 42857 | L23: =IF(MONTH($J$21)<>MONTH($J$21-(WEEKDAY($J$21,1)-($V$2-1))-IF((WEEKDAY($J$21,1)-($V$2-1))<=0,7,0)+(ROW(L23)-ROW($J$23))*7+(COLUMN(L23)-COLUMN($J$23)+1)),"",$J$21-(WEEKDAY($J$21,1)-($V$2-1))-IF((WEEKDAY($J$21,1)-($V$2-1))<=0,7,0)+(ROW(L23)-ROW($J$23))*7+(COLUMN(L23)-COLUMN($J$23)+1)) -> 42858 | M23: =IF(MONTH($J$21)<>MONTH($J$21-(WEEKDAY($J$21,1)-($V$2-1))-IF((WEEKDAY($J$21,1)-($V$2-1))<=0,7,0)+(ROW(M23)-ROW($J$23))*7+(COLUMN(M23)-COLUMN($J$23)+1)),"",$J$21-(WEEKDAY($J$21,1)-($V$2-1))-IF((WEEKDAY($J$21,1)-($V$2-1))<=0,7,0)+(ROW(M23)-ROW($J$23))*7+(COLUMN(M23)-COLUMN($J$23)+1)) -> 42859 | N23: =IF(MONTH($J$21)<>MONTH($J$21-(WEEKDAY($J$21,1)-($V$2-1))-IF((WEEKDAY($J$21,1)-($V$2-1))<=0,7,0)+(ROW(N23)-ROW($J$23))*7+(COLUMN(N23)-COLUMN($J$23)+1)),"",$J$21-(WEEKDAY($J$21,1)-($V$2-1))-IF((WEEKDAY($J$21,1)-($V$2-1))<=0,7,0)+(ROW(N23)-ROW($J$23))*7+(COLUMN(N23)-COLUMN($J$23)+1)) -> 42860 | O23: =IF(MONTH($J$21)<>MONTH($J$21-(WEEKDAY($J$21,1)-($V$2-1))-IF((WEEKDAY($J$21,1)-($V$2-1))<=0,7,0)+(ROW(O23)-ROW($J$23))*7+(COLUMN(O23)-COLUMN($J$23)+1)),"",$J$21-(WEEKDAY($J$21,1)-($V$2-1))-IF((WEEKDAY($J$21,1)-($V$2-1))<=0,7,0)+(ROW(O23)-ROW($J$23))*7+(COLUMN(O23)-COLUMN($J$23)+1)) -> 42861 | P23: =IF(MONTH($J$21)<>MONTH($J$21-(WEEKDAY($J$21,1)-($V$2-1))-IF((WEEKDAY($J$21,1)-($V$2-1))<=0,7,0)+(ROW(P23)-ROW($J$23))*7+(COLUMN(P23)-COLUMN($J$23)+1)),"",$J$21-(WEEKDAY($J$21,1)-($V$2-1))-IF((WEEKDAY($J$21,1)-($V$2-1))<=0,7,0)+(ROW(P23)-ROW($J$23))*7+(COLUMN(P23)-COLUMN($J$23)+1)) -> 42862 | R23: =IF(MONTH($R$21)<>MONTH($R$21-(WEEKDAY($R$21,1)-($V$2-1))-IF((WEEKDAY($R$21,1)-($V$2-1))<=0,7,0)+(ROW(R23)-ROW($R$23))*7+(COLUMN(R23)-COLUMN($R$23)+1)),"",$R$21-(WEEKDAY($R$21,1)-($V$2-1))-IF((WEEKDAY($R$21,1)-($V$2-1))<=0,7,0)+(ROW(R23)-ROW($R$23))*7+(COLUMN(R23)-COLUMN($R$23)+1)) | S23: =IF(MONTH($R$21)<>MONTH($R$21-(WEEKDAY($R$21,1)-($V$2-1))-IF((WEEKDAY($R$21,1)-($V$2-1))<=0,7,0)+(ROW(S23)-ROW($R$23))*7+(COLUMN(S23)-COLUMN($R$23)+1)),"",$R$21-(WEEKDAY($R$21,1)-($V$2-1))-IF((WEEKDAY($R$21,1)-($V$2-1))<=0,7,0)+(ROW(S23)-ROW($R$23))*7+(COLUMN(S23)-COLUMN($R$23)+1)) | T23: =IF(MONTH($R$21)<>MONTH($R$21-(WEEKDAY($R$21,1)-($V$2-1))-IF((WEEKDAY($R$21,1)-($V$2-1))<=0,7,0)+(ROW(T23)-ROW($R$23))*7+(COLUMN(T23)-COLUMN($R$23)+1)),"",$R$21-(WEEKDAY($R$21,1)-($V$2-1))-IF((WEEKDAY($R$21,1)-($V$2-1))<=0,7,0)+(ROW(T23)-ROW($R$23))*7+(COLUMN(T23)-COLUMN($R$23)+1)) | U23: =IF(MONTH($R$21)<>MONTH($R$21-(WEEKDAY($R$21,1)-($V$2-1))-IF((WEEKDAY($R$21,1)-($V$2-1))<=0,7,0)+(ROW(U23)-ROW($R$23))*7+(COLUMN(U23)-COLUMN($R$23)+1)),"",$R$21-(WEEKDAY($R$21,1)-($V$2-1))-IF((WEEKDAY($R$21,1)-($V$2-1))<=0,7,0)+(ROW(U23)-ROW($R$23))*7+(COLUMN(U23)-COLUMN($R$23)+1)) -> 42887 | V23: =IF(MONTH($R$21)<>MONTH($R$21-(WEEKDAY($R$21,1)-($V$2-1))-IF((WEEKDAY($R$21,1)-($V$2-1))<=0,7,0)+(ROW(V23)-ROW($R$23))*7+(COLUMN(V23)-COLUMN($R$23)+1)),"",$R$21-(WEEKDAY($R$21,1)-($V$2-1))-IF((WEEKDAY($R$21,1)-($V$2-1))<=0,7,0)+(ROW(V23)-ROW($R$23))*7+(COLUMN(V23)-COLUMN($R$23)+1)) -> 42888 | W23: =IF(MONTH($R$21)<>MONTH($R$21-(WEEKDAY($R$21,1)-($V$2-1))-IF((WEEKDAY($R$21,1)-($V$2-1))<=0,7,0)+(ROW(W23)-ROW($R$23))*7+(COLUMN(W23)-COLUMN($R$23)+1)),"",$R$21-(WEEKDAY($R$21,1)-($V$2-1))-IF((WEEKDAY($R$21,1)-($V$2-1))<=0,7,0)+(ROW(W23)-ROW($R$23))*7+(COLUMN(W23)-COLUMN($R$23)+1)) -> 42889 | X23: =IF(MONTH($R$21)<>MONTH($R$21-(WEEKDAY($R$21,1)-($V$2-1))-IF((WEEKDAY($R$21,1)-($V$2-1))<=0,7,0)+(ROW(X23)-ROW($R$23))*7+(COLUMN(X23)-COLUMN($R$23)+1)),"",$R$21-(WEEKDAY($R$21,1)-($V$2-1))-IF((WEEKDAY($R$21,1)-($V$2-1))<=0,7,0)+(ROW(X23)-ROW($R$23))*7+(COLUMN(X23)-COLUMN($R$23)+1)) -> 42890
B24: =IF(MONTH($B$21)<>MONTH($B$21-(WEEKDAY($B$21,1)-($V$2-1))-IF((WEEKDAY($B$21,1)-($V$2-1))<=0,7,0)+(ROW(B24)-ROW($B$23))*7+(COLUMN(B24)-COLUMN($B$23)+1)),"",$B$21-(WEEKDAY($B$21,1)-($V$2-1))-IF((WEEKDAY($B$21,1)-($V$2-1))<=0,7,0)+(ROW(B24)-ROW($B$23))*7+(COLUMN(B24)-COLUMN($B$23)+1)) -> 42828 | C24: =IF(MONTH($B$21)<>MONTH($B$21-(WEEKDAY($B$21,1)-($V$2-1))-IF((WEEKDAY($B$21,1)-($V$2-1))<=0,7,0)+(ROW(C24)-ROW($B$23))*7+(COLUMN(C24)-COLUMN($B$23)+1)),"",$B$21-(WEEKDAY($B$21,1)-($V$2-1))-IF((WEEKDAY($B$21,1)-($V$2-1))<=0,7,0)+(ROW(C24)-ROW($B$23))*7+(COLUMN(C24)-COLUMN($B$23)+1)) -> 42829 | D24: =IF(MONTH($B$21)<>MONTH($B$21-(WEEKDAY($B$21,1)-($V$2-1))-IF((WEEKDAY($B$21,1)-($V$2-1))<=0,7,0)+(ROW(D24)-ROW($B$23))*7+(COLUMN(D24)-COLUMN($B$23)+1)),"",$B$21-(WEEKDAY($B$21,1)-($V$2-1))-IF((WEEKDAY($B$21,1)-($V$2-1))<=0,7,0)+(ROW(D24)-ROW($B$23))*7+(COLUMN(D24)-COLUMN($B$23)+1)) -> 42830 | E24: =IF(MONTH($B$21)<>MONTH($B$21-(WEEKDAY($B$21,1)-($V$2-1))-IF((WEEKDAY($B$21,1)-($V$2-1))<=0,7,0)+(ROW(E24)-ROW($B$23))*7+(COLUMN(E24)-COLUMN($B$23)+1)),"",$B$21-(WEEKDAY($B$21,1)-($V$2-1))-IF((WEEKDAY($B$21,1)-($V$2-1))<=0,7,0)+(ROW(E24)-ROW($B$23))*7+(COLUMN(E24)-COLUMN($B$23)+1)) -> 42831 | F24: =IF(MONTH($B$21)<>MONTH($B$21-(WEEKDAY($B$21,1)-($V$2-1))-IF((WEEKDAY($B$21,1)-($V$2-1))<=0,7,0)+(ROW(F24)-ROW($B$23))*7+(COLUMN(F24)-COLUMN($B$23)+1)),"",$B$21-(WEEKDAY($B$21,1)-($V$2-1))-IF((WEEKDAY($B$21,1)-($V$2-1))<=0,7,0)+(ROW(F24)-ROW($B$23))*7+(COLUMN(F24)-COLUMN($B$23)+1)) -> 42832 | G24: =IF(MONTH($B$21)<>MONTH($B$21-(WEEKDAY($B$21,1)-($V$2-1))-IF((WEEKDAY($B$21,1)-($V$2-1))<=0,7,0)+(ROW(G24)-ROW($B$23))*7+(COLUMN(G24)-COLUMN($B$23)+1)),"",$B$21-(WEEKDAY($B$21,1)-($V$2-1))-IF((WEEKDAY($B$21,1)-($V$2-1))<=0,7,0)+(ROW(G24)-ROW($B$23))*7+(COLUMN(G24)-COLUMN($B$23)+1)) -> 42833 | H24: =IF(MONTH($B$21)<>MONTH($B$21-(WEEKDAY($B$21,1)-($V$2-1))-IF((WEEKDAY($B$21,1)-($V$2-1))<=0,7,0)+(ROW(H24)-ROW($B$23))*7+(COLUMN(H24)-COLUMN($B$23)+1)),"",$B$21-(WEEKDAY($B$21,1)-($V$2-1))-IF((WEEKDAY($B$21,1)-($V$2-1))<=0,7,0)+(ROW(H24)-ROW($B$23))*7+(COLUMN(H24)-COLUMN($B$23)+1)) -> 42834 | J24: =IF(MONTH($J$21)<>MONTH($J$21-(WEEKDAY($J$21,1)-($V$2-1))-IF((WEEKDAY($J$21,1)-($V$2-1))<=0,7,0)+(ROW(J24)-ROW($J$23))*7+(COLUMN(J24)-COLUMN($J$23)+1)),"",$J$21-(WEEKDAY($J$21,1)-($V$2-1))-IF((WEEKDAY($J$21,1)-($V$2-1))<=0,7,0)+(ROW(J24)-ROW($J$23))*7+(COLUMN(J24)-COLUMN($J$23)+1)) -> 42863 | K24: =IF(MONTH($J$21)<>MONTH($J$21-(WEEKDAY($J$21,1)-($V$2-1))-IF((WEEKDAY($J$21,1)-($V$2-1))<=0,7,0)+(ROW(K24)-ROW($J$23))*7+(COLUMN(K24)-COLUMN($J$23)+1)),"",$J$21-(WEEKDAY($J$21,1)-($V$2-1))-IF((WEEKDAY($J$21,1)-($V$2-1))<=0,7,0)+(ROW(K24)-ROW($J$23))*7+(COLUMN(K24)-COLUMN($J$23)+1)) -> 42864 | L24: =IF(MONTH($J$21)<>MONTH($J$21-(WEEKDAY($J$21,1)-($V$2-1))-IF((WEEKDAY($J$21,1)-($V$2-1))<=0,7,0)+(ROW(L24)-ROW($J$23))*7+(COLUMN(L24)-COLUMN($J$23)+1)),"",$J$21-(WEEKDAY($J$21,1)-($V$2-1))-IF((WEEKDAY($J$21,1)-($V$2-1))<=0,7,0)+(ROW(L24)-ROW($J$23))*7+(COLUMN(L24)-COLUMN($J$23)+1)) -> 42865 | M24: =IF(MONTH($J$21)<>MONTH($J$21-(WEEKDAY($J$21,1)-($V$2-1))-IF((WEEKDAY($J$21,1)-($V$2-1))<=0,7,0)+(ROW(M24)-ROW($J$23))*7+(COLUMN(M24)-COLUMN($J$23)+1)),"",$J$21-(WEEKDAY($J$21,1)-($V$2-1))-IF((WEEKDAY($J$21,1)-($V$2-1))<=0,7,0)+(ROW(M24)-ROW($J$23))*7+(COLUMN(M24)-COLUMN($J$23)+1)) -> 42866 | N24: =IF(MONTH($J$21)<>MONTH($J$21-(WEEKDAY($J$21,1)-($V$2-1))-IF((WEEKDAY($J$21,1)-($V$2-1))<=0,7,0)+(ROW(N24)-ROW($J$23))*7+(COLUMN(N24)-COLUMN($J$23)+1)),"",$J$21-(WEEKDAY($J$21,1)-($V$2-1))-IF((WEEKDAY($J$21,1)-($V$2-1))<=0,7,0)+(ROW(N24)-ROW($J$23))*7+(COLUMN(N24)-COLUMN($J$23)+1)) -> 42867 | O24: =IF(MONTH($J$21)<>MONTH($J$21-(WEEKDAY($J$21,1)-($V$2-1))-IF((WEEKDAY($J$21,1)-($V$2-1))<=0,7,0)+(ROW(O24)-ROW($J$23))*7+(COLUMN(O24)-COLUMN($J$23)+1)),"",$J$21-(WEEKDAY($J$21,1)-($V$2-1))-IF((WEEKDAY($J$21,1)-($V$2-1))<=0,7,0)+(ROW(O24)-ROW($J$23))*7+(COLUMN(O24)-COLUMN($J$23)+1)) -> 42868 | P24: =IF(MONTH($J$21)<>MONTH($J$21-(WEEKDAY($J$21,1)-($V$2-1))-IF((WEEKDAY($J$21,1)-($V$2-1))<=0,7,0)+(ROW(P24)-ROW($J$23))*7+(COLUMN(P24)-COLUMN($J$23)+1)),"",$J$21-(WEEKDAY($J$21,1)-($V$2-1))-IF((WEEKDAY($J$21,1)-($V$2-1))<=0,7,0)+(ROW(P24)-ROW($J$23))*7+(COLUMN(P24)-COLUMN($J$23)+1)) -> 42869 | R24: =IF(MONTH($R$21)<>MONTH($R$21-(WEEKDAY($R$21,1)-($V$2-1))-IF((WEEKDAY($R$21,1)-($V$2-1))<=0,7,0)+(ROW(R24)-ROW($R$23))*7+(COLUMN(R24)-COLUMN($R$23)+1)),"",$R$21-(WEEKDAY($R$21,1)-($V$2-1))-IF((WEEKDAY($R$21,1)-($V$2-1))<=0,7,0)+(ROW(R24)-ROW($R$23))*7+(COLUMN(R24)-COLUMN($R$23)+1)) -> 42891 | S24: =IF(MONTH($R$21)<>MONTH($R$21-(WEEKDAY($R$21,1)-($V$2-1))-IF((WEEKDAY($R$21,1)-($V$2-1))<=0,7,0)+(ROW(S24)-ROW($R$23))*7+(COLUMN(S24)-COLUMN($R$23)+1)),"",$R$21-(WEEKDAY($R$21,1)-($V$2-1))-IF((WEEKDAY($R$21,1)-($V$2-1))<=0,7,0)+(ROW(S24)-ROW($R$23))*7+(COLUMN(S24)-COLUMN($R$23)+1)) -> 42892 | T24: =IF(MONTH($R$21)<>MONTH($R$21-(WEEKDAY($R$21,1)-($V$2-1))-IF((WEEKDAY($R$21,1)-($V$2-1))<=0,7,0)+(ROW(T24)-ROW($R$23))*7+(COLUMN(T24)-COLUMN($R$23)+1)),"",$R$21-(WEEKDAY($R$21,1)-($V$2-1))-IF((WEEKDAY($R$21,1)-($V$2-1))<=0,7,0)+(ROW(T24)-ROW($R$23))*7+(COLUMN(T24)-COLUMN($R$23)+1)) -> 42893 | U24: =IF(MONTH($R$21)<>MONTH($R$21-(WEEKDAY($R$21,1)-($V$2-1))-IF((WEEKDAY($R$21,1)-($V$2-1))<=0,7,0)+(ROW(U24)-ROW($R$23))*7+(COLUMN(U24)-COLUMN($R$23)+1)),"",$R$21-(WEEKDAY($R$21,1)-($V$2-1))-IF((WEEKDAY($R$21,1)-($V$2-1))<=0,7,0)+(ROW(U24)-ROW($R$23))*7+(COLUMN(U24)-COLUMN($R$23)+1)) -> 42894 | V24: =IF(MONTH($R$21)<>MONTH($R$21-(WEEKDAY($R$21,1)-($V$2-1))-IF((WEEKDAY($R$21,1)-($V$2-1))<=0,7,0)+(ROW(V24)-ROW($R$23))*7+(COLUMN(V24)-COLUMN($R$23)+1)),"",$R$21-(WEEKDAY($R$21,1)-($V$2-1))-IF((WEEKDAY($R$21,1)-($V$2-1))<=0,7,0)+(ROW(V24)-ROW($R$23))*7+(COLUMN(V24)-COLUMN($R$23)+1)) -> 42895 | W24: =IF(MONTH($R$21)<>MONTH($R$21-(WEEKDAY($R$21,1)-($V$2-1))-IF((WEEKDAY($R$21,1)-($V$2-1))<=0,7,0)+(ROW(W24)-ROW($R$23))*7+(COLUMN(W24)-COLUMN($R$23)+1)),"",$R$21-(WEEKDAY($R$21,1)-($V$2-1))-IF((WEEKDAY($R$21,1)-($V$2-1))<=0,7,0)+(ROW(W24)-ROW($R$23))*7+(COLUMN(W24)-COLUMN($R$23)+1)) -> 42896 | X24: =IF(MONTH($R$21)<>MONTH($R$21-(WEEKDAY($R$21,1)-($V$2-1))-IF((WEEKDAY($R$21,1)-($V$2-1))<=0,7,0)+(ROW(X24)-ROW($R$23))*7+(COLUMN(X24)-COLUMN($R$23)+1)),"",$R$21-(WEEKDAY($R$21,1)-($V$2-1))-IF((WEEKDAY($R$21,1)-($V$2-1))<=0,7,0)+(ROW(X24)-ROW($R$23))*7+(COLUMN(X24)-COLUMN($R$23)+1)) -> 42897
B25: =IF(MONTH($B$21)<>MONTH($B$21-(WEEKDAY($B$21,1)-($V$2-1))-IF((WEEKDAY($B$21,1)-($V$2-1))<=0,7,0)+(ROW(B25)-ROW($B$23))*7+(COLUMN(B25)-COLUMN($B$23)+1)),"",$B$21-(WEEKDAY($B$21,1)-($V$2-1))-IF((WEEKDAY($B$21,1)-($V$2-1))<=0,7,0)+(ROW(B25)-ROW($B$23))*7+(COLUMN(B25)-COLUMN($B$23)+1)) -> 42835 | C25: =IF(MONTH($B$21)<>MONTH($B$21-(WEEKDAY($B$21,1)-($V$2-1))-IF((WEEKDAY($B$21,1)-($V$2-1))<=0,7,0)+(ROW(C25)-ROW($B$23))*7+(COLUMN(C25)-COLUMN($B$23)+1)),"",$B$21-(WEEKDAY($B$21,1)-($V$2-1))-IF((WEEKDAY($B$21,1)-($V$2-1))<=0,7,0)+(ROW(C25)-ROW($B$23))*7+(COLUMN(C25)-COLUMN($B$23)+1)) -> 42836 | D25: =IF(MONTH($B$21)<>MONTH($B$21-(WEEKDAY($B$21,1)-($V$2-1))-IF((WEEKDAY($B$21,1)-($V$2-1))<=0,7,0)+(ROW(D25)-ROW($B$23))*7+(COLUMN(D25)-COLUMN($B$23)+1)),"",$B$21-(WEEKDAY($B$21,1)-($V$2-1))-IF((WEEKDAY($B$21,1)-($V$2-1))<=0,7,0)+(ROW(D25)-ROW($B$23))*7+(COLUMN(D25)-COLUMN($B$23)+1)) -> 42837 | E25: =IF(MONTH($B$21)<>MONTH($B$21-(WEEKDAY($B$21,1)-($V$2-1))-IF((WEEKDAY($B$21,1)-($V$2-1))<=0,7,0)+(ROW(E25)-ROW($B$23))*7+(COLUMN(E25)-COLUMN($B$23)+1)),"",$B$21-(WEEKDAY($B$21,1)-($V$2-1))-IF((WEEKDAY($B$21,1)-($V$2-1))<=0,7,0)+(ROW(E25)-ROW($B$23))*7+(COLUMN(E25)-COLUMN($B$23)+1)) -> 42838 | F25: =IF(MONTH($B$21)<>MONTH($B$21-(WEEKDAY($B$21,1)-($V$2-1))-IF((WEEKDAY($B$21,1)-($V$2-1))<=0,7,0)+(ROW(F25)-ROW($B$23))*7+(COLUMN(F25)-COLUMN($B$23)+1)),"",$B$21-(WEEKDAY($B$21,1)-($V$2-1))-IF((WEEKDAY($B$21,1)-($V$2-1))<=0,7,0)+(ROW(F25)-ROW($B$23))*7+(COLUMN(F25)-COLUMN($B$23)+1)) -> 42839 | G25: =IF(MONTH($B$21)<>MONTH($B$21-(WEEKDAY($B$21,1)-($V$2-1))-IF((WEEKDAY($B$21,1)-($V$2-1))<=0,7,0)+(ROW(G25)-ROW($B$23))*7+(COLUMN(G25)-COLUMN($B$23)+1)),"",$B$21-(WEEKDAY($B$21,1)-($V$2-1))-IF((WEEKDAY($B$21,1)-($V$2-1))<=0,7,0)+(ROW(G25)-ROW($B$23))*7+(COLUMN(G25)-COLUMN($B$23)+1)) -> 42840 | H25: =IF(MONTH($B$21)<>MONTH($B$21-(WEEKDAY($B$21,1)-($V$2-1))-IF((WEEKDAY($B$21,1)-($V$2-1))<=0,7,0)+(ROW(H25)-ROW($B$23))*7+(COLUMN(H25)-COLUMN($B$23)+1)),"",$B$21-(WEEKDAY($B$21,1)-($V$2-1))-IF((WEEKDAY($B$21,1)-($V$2-1))<=0,7,0)+(ROW(H25)-ROW($B$23))*7+(COLUMN(H25)-COLUMN($B$23)+1)) -> 42841 | J25: =IF(MONTH($J$21)<>MONTH($J$21-(WEEKDAY($J$21,1)-($V$2-1))-IF((WEEKDAY($J$21,1)-($V$2-1))<=0,7,0)+(ROW(J25)-ROW($J$23))*7+(COLUMN(J25)-COLUMN($J$23)+1)),"",$J$21-(WEEKDAY($J$21,1)-($V$2-1))-IF((WEEKDAY($J$21,1)-($V$2-1))<=0,7,0)+(ROW(J25)-ROW($J$23))*7+(COLUMN(J25)-COLUMN($J$23)+1)) -> 42870 | K25: =IF(MONTH($J$21)<>MONTH($J$21-(WEEKDAY($J$21,1)-($V$2-1))-IF((WEEKDAY($J$21,1)-($V$2-1))<=0,7,0)+(ROW(K25)-ROW($J$23))*7+(COLUMN(K25)-COLUMN($J$23)+1)),"",$J$21-(WEEKDAY($J$21,1)-($V$2-1))-IF((WEEKDAY($J$21,1)-($V$2-1))<=0,7,0)+(ROW(K25)-ROW($J$23))*7+(COLUMN(K25)-COLUMN($J$23)+1)) -> 42871 | L25: =IF(MONTH($J$21)<>MONTH($J$21-(WEEKDAY($J$21,1)-($V$2-1))-IF((WEEKDAY($J$21,1)-($V$2-1))<=0,7,0)+(ROW(L25)-ROW($J$23))*7+(COLUMN(L25)-COLUMN($J$23)+1)),"",$J$21-(WEEKDAY($J$21,1)-($V$2-1))-IF((WEEKDAY($J$21,1)-($V$2-1))<=0,7,0)+(ROW(L25)-ROW($J$23))*7+(COLUMN(L25)-COLUMN($J$23)+1)) -> 42872 | M25: =IF(MONTH($J$21)<>MONTH($J$21-(WEEKDAY($J$21,1)-($V$2-1))-IF((WEEKDAY($J$21,1)-($V$2-1))<=0,7,0)+(ROW(M25)-ROW($J$23))*7+(COLUMN(M25)-COLUMN($J$23)+1)),"",$J$21-(WEEKDAY($J$21,1)-($V$2-1))-IF((WEEKDAY($J$21,1)-($V$2-1))<=0,7,0)+(ROW(M25)-ROW($J$23))*7+(COLUMN(M25)-COLUMN($J$23)+1)) -> 42873 | N25: =IF(MONTH($J$21)<>MONTH($J$21-(WEEKDAY($J$21,1)-($V$2-1))-IF((WEEKDAY($J$21,1)-($V$2-1))<=0,7,0)+(ROW(N25)-ROW($J$23))*7+(COLUMN(N25)-COLUMN($J$23)+1)),"",$J$21-(WEEKDAY($J$21,1)-($V$2-1))-IF((WEEKDAY($J$21,1)-($V$2-1))<=0,7,0)+(ROW(N25)-ROW($J$23))*7+(COLUMN(N25)-COLUMN($J$23)+1)) -> 42874 | O25: =IF(MONTH($J$21)<>MONTH($J$21-(WEEKDAY($J$21,1)-($V$2-1))-IF((WEEKDAY($J$21,1)-($V$2-1))<=0,7,0)+(ROW(O25)-ROW($J$23))*7+(COLUMN(O25)-COLUMN($J$23)+1)),"",$J$21-(WEEKDAY($J$21,1)-($V$2-1))-IF((WEEKDAY($J$21,1)-($V$2-1))<=0,7,0)+(ROW(O25)-ROW($J$23))*7+(COLUMN(O25)-COLUMN($J$23)+1)) -> 42875 | P25: =IF(MONTH($J$21)<>MONTH($J$21-(WEEKDAY($J$21,1)-($V$2-1))-IF((WEEKDAY($J$21,1)-($V$2-1))<=0,7,0)+(ROW(P25)-ROW($J$23))*7+(COLUMN(P25)-COLUMN($J$23)+1)),"",$J$21-(WEEKDAY($J$21,1)-($V$2-1))-IF((WEEKDAY($J$21,1)-($V$2-1))<=0,7,0)+(ROW(P25)-ROW($J$23))*7+(COLUMN(P25)-COLUMN($J$23)+1)) -> 42876 | R25: =IF(MONTH($R$21)<>MONTH($R$21-(WEEKDAY($R$21,1)-($V$2-1))-IF((WEEKDAY($R$21,1)-($V$2-1))<=0,7,0)+(ROW(R25)-ROW($R$23))*7+(COLUMN(R25)-COLUMN($R$23)+1)),"",$R$21-(WEEKDAY($R$21,1)-($V$2-1))-IF((WEEKDAY($R$21,1)-($V$2-1))<=0,7,0)+(ROW(R25)-ROW($R$23))*7+(COLUMN(R25)-COLUMN($R$23)+1)) -> 42898 | S25: =IF(MONTH($R$21)<>MONTH($R$21-(WEEKDAY($R$21,1)-($V$2-1))-IF((WEEKDAY($R$21,1)-($V$2-1))<=0,7,0)+(ROW(S25)-ROW($R$23))*7+(COLUMN(S25)-COLUMN($R$23)+1)),"",$R$21-(WEEKDAY($R$21,1)-($V$2-1))-IF((WEEKDAY($R$21,1)-($V$2-1))<=0,7,0)+(ROW(S25)-ROW($R$23))*7+(COLUMN(S25)-COLUMN($R$23)+1)) -> 42899 | T25: =IF(MONTH($R$21)<>MONTH($R$21-(WEEKDAY($R$21,1)-($V$2-1))-IF((WEEKDAY($R$21,1)-($V$2-1))<=0,7,0)+(ROW(T25)-ROW($R$23))*7+(COLUMN(T25)-COLUMN($R$23)+1)),"",$R$21-(WEEKDAY($R$21,1)-($V$2-1))-IF((WEEKDAY($R$21,1)-($V$2-1))<=0,7,0)+(ROW(T25)-ROW($R$23))*7+(COLUMN(T25)-COLUMN($R$23)+1)) -> 42900 | U25: =IF(MONTH($R$21)<>MONTH($R$21-(WEEKDAY($R$21,1)-($V$2-1))-IF((WEEKDAY($R$21,1)-($V$2-1))<=0,7,0)+(ROW(U25)-ROW($R$23))*7+(COLUMN(U25)-COLUMN($R$23)+1)),"",$R$21-(WEEKDAY($R$21,1)-($V$2-1))-IF((WEEKDAY($R$21,1)-($V$2-1))<=0,7,0)+(ROW(U25)-ROW($R$23))*7+(COLUMN(U25)-COLUMN($R$23)+1)) -> 42901 | V25: =IF(MONTH($R$21)<>MONTH($R$21-(WEEKDAY($R$21,1)-($V$2-1))-IF((WEEKDAY($R$21,1)-($V$2-1))<=0,7,0)+(ROW(V25)-ROW($R$23))*7+(COLUMN(V25)-COLUMN($R$23)+1)),"",$R$21-(WEEKDAY($R$21,1)-($V$2-1))-IF((WEEKDAY($R$21,1)-($V$2-1))<=0,7,0)+(ROW(V25)-ROW($R$23))*7+(COLUMN(V25)-COLUMN($R$23)+1)) -> 42902 | W25: =IF(MONTH($R$21)<>MONTH($R$21-(WEEKDAY($R$21,1)-($V$2-1))-IF((WEEKDAY($R$21,1)-($V$2-1))<=0,7,0)+(ROW(W25)-ROW($R$23))*7+(COLUMN(W25)-COLUMN($R$23)+1)),"",$R$21-(WEEKDAY($R$21,1)-($V$2-1))-IF((WEEKDAY($R$21,1)-($V$2-1))<=0,7,0)+(ROW(W25)-ROW($R$23))*7+(COLUMN(W25)-COLUMN($R$23)+1)) -> 42903 | X25: =IF(MONTH($R$21)<>MONTH($R$21-(WEEKDAY($R$21,1)-($V$2-1))-IF((WEEKDAY($R$21,1)-($V$2-1))<=0,7,0)+(ROW(X25)-ROW($R$23))*7+(COLUMN(X25)-COLUMN($R$23)+1)),"",$R$21-(WEEKDAY($R$21,1)-($V$2-1))-IF((WEEKDAY($R$21,1)-($V$2-1))<=0,7,0)+(ROW(X25)-ROW($R$23))*7+(COLUMN(X25)-COLUMN($R$23)+1)) -> 42904
B26: =IF(MONTH($B$21)<>MONTH($B$21-(WEEKDAY($B$21,1)-($V$2-1))-IF((WEEKDAY($B$21,1)-($V$2-1))<=0,7,0)+(ROW(B26)-ROW($B$23))*7+(COLUMN(B26)-COLUMN($B$23)+1)),"",$B$21-(WEEKDAY($B$21,1)-($V$2-1))-IF((WEEKDAY($B$21,1)-($V$2-1))<=0,7,0)+(ROW(B26)-ROW($B$23))*7+(COLUMN(B26)-COLUMN($B$23)+1)) -> 42842 | C26: =IF(MONTH($B$21)<>MONTH($B$21-(WEEKDAY($B$21,1)-($V$2-1))-IF((WEEKDAY($B$21,1)-($V$2-1))<=0,7,0)+(ROW(C26)-ROW($B$23))*7+(COLUMN(C26)-COLUMN($B$23)+1)),"",$B$21-(WEEKDAY($B$21,1)-($V$2-1))-IF((WEEKDAY($B$21,1)-($V$2-1))<=0,7,0)+(ROW(C26)-ROW($B$23))*7+(COLUMN(C26)-COLUMN($B$23)+1)) -> 42843 | D26: =IF(MONTH($B$21)<>MONTH($B$21-(WEEKDAY($B$21,1)-($V$2-1))-IF((WEEKDAY($B$21,1)-($V$2-1))<=0,7,0)+(ROW(D26)-ROW($B$23))*7+(COLUMN(D26)-COLUMN($B$23)+1)),"",$B$21-(WEEKDAY($B$21,1)-($V$2-1))-IF((WEEKDAY($B$21,1)-($V$2-1))<=0,7,0)+(ROW(D26)-ROW($B$23))*7+(COLUMN(D26)-COLUMN($B$23)+1)) -> 42844 | E26: =IF(MONTH($B$21)<>MONTH($B$21-(WEEKDAY($B$21,1)-($V$2-1))-IF((WEEKDAY($B$21,1)-($V$2-1))<=0,7,0)+(ROW(E26)-ROW($B$23))*7+(COLUMN(E26)-COLUMN($B$23)+1)),"",$B$21-(WEEKDAY($B$21,1)-($V$2-1))-IF((WEEKDAY($B$21,1)-($V$2-1))<=0,7,0)+(ROW(E26)-ROW($B$23))*7+(COLUMN(E26)-COLUMN($B$23)+1)) -> 42845 | F26: =IF(MONTH($B$21)<>MONTH($B$21-(WEEKDAY($B$21,1)-($V$2-1))-IF((WEEKDAY($B$21,1)-($V$2-1))<=0,7,0)+(ROW(F26)-ROW($B$23))*7+(COLUMN(F26)-COLUMN($B$23)+1)),"",$B$21-(WEEKDAY($B$21,1)-($V$2-1))-IF((WEEKDAY($B$21,1)-($V$2-1))<=0,7,0)+(ROW(F26)-ROW($B$23))*7+(COLUMN(F26)-COLUMN($B$23)+1)) -> 42846 | G26: =IF(MONTH($B$21)<>MONTH($B$21-(WEEKDAY($B$21,1)-($V$2-1))-IF((WEEKDAY($B$21,1)-($V$2-1))<=0,7,0)+(ROW(G26)-ROW($B$23))*7+(COLUMN(G26)-COLUMN($B$23)+1)),"",$B$21-(WEEKDAY($B$21,1)-($V$2-1))-IF((WEEKDAY($B$21,1)-($V$2-1))<=0,7,0)+(ROW(G26)-ROW($B$23))*7+(COLUMN(G26)-COLUMN($B$23)+1)) -> 42847 | H26: =IF(MONTH($B$21)<>MONTH($B$21-(WEEKDAY($B$21,1)-($V$2-1))-IF((WEEKDAY($B$21,1)-($V$2-1))<=0,7,0)+(ROW(H26)-ROW($B$23))*7+(COLUMN(H26)-COLUMN($B$23)+1)),"",$B$21-(WEEKDAY($B$21,1)-($V$2-1))-IF((WEEKDAY($B$21,1)-($V$2-1))<=0,7,0)+(ROW(H26)-ROW($B$23))*7+(COLUMN(H26)-COLUMN($B$23)+1)) -> 42848 | J26: =IF(MONTH($J$21)<>MONTH($J$21-(WEEKDAY($J$21,1)-($V$2-1))-IF((WEEKDAY($J$21,1)-($V$2-1))<=0,7,0)+(ROW(J26)-ROW($J$23))*7+(COLUMN(J26)-COLUMN($J$23)+1)),"",$J$21-(WEEKDAY($J$21,1)-($V$2-1))-IF((WEEKDAY($J$21,1)-($V$2-1))<=0,7,0)+(ROW(J26)-ROW($J$23))*7+(COLUMN(J26)-COLUMN($J$23)+1)) -> 42877 | K26: =IF(MONTH($J$21)<>MONTH($J$21-(WEEKDAY($J$21,1)-($V$2-1))-IF((WEEKDAY($J$21,1)-($V$2-1))<=0,7,0)+(ROW(K26)-ROW($J$23))*7+(COLUMN(K26)-COLUMN($J$23)+1)),"",$J$21-(WEEKDAY($J$21,1)-($V$2-1))-IF((WEEKDAY($J$21,1)-($V$2-1))<=0,7,0)+(ROW(K26)-ROW($J$23))*7+(COLUMN(K26)-COLUMN($J$23)+1)) -> 42878 | L26: =IF(MONTH($J$21)<>MONTH($J$21-(WEEKDAY($J$21,1)-($V$2-1))-IF((WEEKDAY($J$21,1)-($V$2-1))<=0,7,0)+(ROW(L26)-ROW($J$23))*7+(COLUMN(L26)-COLUMN($J$23)+1)),"",$J$21-(WEEKDAY($J$21,1)-($V$2-1))-IF((WEEKDAY($J$21,1)-($V$2-1))<=0,7,0)+(ROW(L26)-ROW($J$23))*7+(COLUMN(L26)-COLUMN($J$23)+1)) -> 42879 | M26: =IF(MONTH($J$21)<>MONTH($J$21-(WEEKDAY($J$21,1)-($V$2-1))-IF((WEEKDAY($J$21,1)-($V$2-1))<=0,7,0)+(ROW(M26)-ROW($J$23))*7+(COLUMN(M26)-COLUMN($J$23)+1)),"",$J$21-(WEEKDAY($J$21,1)-($V$2-1))-IF((WEEKDAY($J$21,1)-($V$2-1))<=0,7,0)+(ROW(M26)-ROW($J$23))*7+(COLUMN(M26)-COLUMN($J$23)+1)) -> 42880 | N26: =IF(MONTH($J$21)<>MONTH($J$21-(WEEKDAY($J$21,1)-($V$2-1))-IF((WEEKDAY($J$21,1)-($V$2-1))<=0,7,0)+(ROW(N26)-ROW($J$23))*7+(COLUMN(N26)-COLUMN($J$23)+1)),"",$J$21-(WEEKDAY($J$21,1)-($V$2-1))-IF((WEEKDAY($J$21,1)-($V$2-1))<=0,7,0)+(ROW(N26)-ROW($J$23))*7+(COLUMN(N26)-COLUMN($J$23)+1)) -> 42881 | O26: =IF(MONTH($J$21)<>MONTH($J$21-(WEEKDAY($J$21,1)-($V$2-1))-IF((WEEKDAY($J$21,1)-($V$2-1))<=0,7,0)+(ROW(O26)-ROW($J$23))*7+(COLUMN(O26)-COLUMN($J$23)+1)),"",$J$21-(WEEKDAY($J$21,1)-($V$2-1))-IF((WEEKDAY($J$21,1)-($V$2-1))<=0,7,0)+(ROW(O26)-ROW($J$23))*7+(COLUMN(O26)-COLUMN($J$23)+1)) -> 42882 | P26: =IF(MONTH($J$21)<>MONTH($J$21-(WEEKDAY($J$21,1)-($V$2-1))-IF((WEEKDAY($J$21,1)-($V$2-1))<=0,7,0)+(ROW(P26)-ROW($J$23))*7+(COLUMN(P26)-COLUMN($J$23)+1)),"",$J$21-(WEEKDAY($J$21,1)-($V$2-1))-IF((WEEKDAY($J$21,1)-($V$2-1))<=0,7,0)+(ROW(P26)-ROW($J$23))*7+(COLUMN(P26)-COLUMN($J$23)+1)) -> 42883 | R26: =IF(MONTH($R$21)<>MONTH($R$21-(WEEKDAY($R$21,1)-($V$2-1))-IF((WEEKDAY($R$21,1)-($V$2-1))<=0,7,0)+(ROW(R26)-ROW($R$23))*7+(COLUMN(R26)-COLUMN($R$23)+1)),"",$R$21-(WEEKDAY($R$21,1)-($V$2-1))-IF((WEEKDAY($R$21,1)-($V$2-1))<=0,7,0)+(ROW(R26)-ROW($R$23))*7+(COLUMN(R26)-COLUMN($R$23)+1)) -> 42905 | S26: =IF(MONTH($R$21)<>MONTH($R$21-(WEEKDAY($R$21,1)-($V$2-1))-IF((WEEKDAY($R$21,1)-($V$2-1))<=0,7,0)+(ROW(S26)-ROW($R$23))*7+(COLUMN(S26)-COLUMN($R$23)+1)),"",$R$21-(WEEKDAY($R$21,1)-($V$2-1))-IF((WEEKDAY($R$21,1)-($V$2-1))<=0,7,0)+(ROW(S26)-ROW($R$23))*7+(COLUMN(S26)-COLUMN($R$23)+1)) -> 42906 | T26: =IF(MONTH($R$21)<>MONTH($R$21-(WEEKDAY($R$21,1)-($V$2-1))-IF((WEEKDAY($R$21,1)-($V$2-1))<=0,7,0)+(ROW(T26)-ROW($R$23))*7+(COLUMN(T26)-COLUMN($R$23)+1)),"",$R$21-(WEEKDAY($R$21,1)-($V$2-1))-IF((WEEKDAY($R$21,1)-($V$2-1))<=0,7,0)+(ROW(T26)-ROW($R$23))*7+(COLUMN(T26)-COLUMN($R$23)+1)) -> 42907 | U26: =IF(MONTH($R$21)<>MONTH($R$21-(WEEKDAY($R$21,1)-($V$2-1))-IF((WEEKDAY($R$21,1)-($V$2-1))<=0,7,0)+(ROW(U26)-ROW($R$23))*7+(COLUMN(U26)-COLUMN($R$23)+1)),"",$R$21-(WEEKDAY($R$21,1)-($V$2-1))-IF((WEEKDAY($R$21,1)-($V$2-1))<=0,7,0)+(ROW(U26)-ROW($R$23))*7+(COLUMN(U26)-COLUMN($R$23)+1)) -> 42908 | V26: =IF(MONTH($R$21)<>MONTH($R$21-(WEEKDAY($R$21,1)-($V$2-1))-IF((WEEKDAY($R$21,1)-($V$2-1))<=0,7,0)+(ROW(V26)-ROW($R$23))*7+(COLUMN(V26)-COLUMN($R$23)+1)),"",$R$21-(WEEKDAY($R$21,1)-($V$2-1))-IF((WEEKDAY($R$21,1)-($V$2-1))<=0,7,0)+(ROW(V26)-ROW($R$23))*7+(COLUMN(V26)-COLUMN($R$23)+1)) -> 42909 | W26: =IF(MONTH($R$21)<>MONTH($R$21-(WEEKDAY($R$21,1)-($V$2-1))-IF((WEEKDAY($R$21,1)-($V$2-1))<=0,7,0)+(ROW(W26)-ROW($R$23))*7+(COLUMN(W26)-COLUMN($R$23)+1)),"",$R$21-(WEEKDAY($R$21,1)-($V$2-1))-IF((WEEKDAY($R$21,1)-($V$2-1))<=0,7,0)+(ROW(W26)-ROW($R$23))*7+(COLUMN(W26)-COLUMN($R$23)+1)) -> 42910 | X26: =IF(MONTH($R$21)<>MONTH($R$21-(WEEKDAY($R$21,1)-($V$2-1))-IF((WEEKDAY($R$21,1)-($V$2-1))<=0,7,0)+(ROW(X26)-ROW($R$23))*7+(COLUMN(X26)-COLUMN($R$23)+1)),"",$R$21-(WEEKDAY($R$21,1)-($V$2-1))-IF((WEEKDAY($R$21,1)-($V$2-1))<=0,7,0)+(ROW(X26)-ROW($R$23))*7+(COLUMN(X26)-COLUMN($R$23)+1)) -> 42911
B27: =IF(MONTH($B$21)<>MONTH($B$21-(WEEKDAY($B$21,1)-($V$2-1))-IF((WEEKDAY($B$21,1)-($V$2-1))<=0,7,0)+(ROW(B27)-ROW($B$23))*7+(COLUMN(B27)-COLUMN($B$23)+1)),"",$B$21-(WEEKDAY($B$21,1)-($V$2-1))-IF((WEEKDAY($B$21,1)-($V$2-1))<=0,7,0)+(ROW(B27)-ROW($B$23))*7+(COLUMN(B27)-COLUMN($B$23)+1)) -> 42849 | C27: =IF(MONTH($B$21)<>MONTH($B$21-(WEEKDAY($B$21,1)-($V$2-1))-IF((WEEKDAY($B$21,1)-($V$2-1))<=0,7,0)+(ROW(C27)-ROW($B$23))*7+(COLUMN(C27)-COLUMN($B$23)+1)),"",$B$21-(WEEKDAY($B$21,1)-($V$2-1))-IF((WEEKDAY($B$21,1)-($V$2-1))<=0,7,0)+(ROW(C27)-ROW($B$23))*7+(COLUMN(C27)-COLUMN($B$23)+1)) -> 42850 | D27: =IF(MONTH($B$21)<>MONTH($B$21-(WEEKDAY($B$21,1)-($V$2-1))-IF((WEEKDAY($B$21,1)-($V$2-1))<=0,7,0)+(ROW(D27)-ROW($B$23))*7+(COLUMN(D27)-COLUMN($B$23)+1)),"",$B$21-(WEEKDAY($B$21,1)-($V$2-1))-IF((WEEKDAY($B$21,1)-($V$2-1))<=0,7,0)+(ROW(D27)-ROW($B$23))*7+(COLUMN(D27)-COLUMN($B$23)+1)) -> 42851 | E27: =IF(MONTH($B$21)<>MONTH($B$21-(WEEKDAY($B$21,1)-($V$2-1))-IF((WEEKDAY($B$21,1)-($V$2-1))<=0,7,0)+(ROW(E27)-ROW($B$23))*7+(COLUMN(E27)-COLUMN($B$23)+1)),"",$B$21-(WEEKDAY($B$21,1)-($V$2-1))-IF((WEEKDAY($B$21,1)-($V$2-1))<=0,7,0)+(ROW(E27)-ROW($B$23))*7+(COLUMN(E27)-COLUMN($B$23)+1)) -> 42852 | F27: =IF(MONTH($B$21)<>MONTH($B$21-(WEEKDAY($B$21,1)-($V$2-1))-IF((WEEKDAY($B$21,1)-($V$2-1))<=0,7,0)+(ROW(F27)-ROW($B$23))*7+(COLUMN(F27)-COLUMN($B$23)+1)),"",$B$21-(WEEKDAY($B$21,1)-($V$2-1))-IF((WEEKDAY($B$21,1)-($V$2-1))<=0,7,0)+(ROW(F27)-ROW($B$23))*7+(COLUMN(F27)-COLUMN($B$23)+1)) -> 42853 | G27: =IF(MONTH($B$21)<>MONTH($B$21-(WEEKDAY($B$21,1)-($V$2-1))-IF((WEEKDAY($B$21,1)-($V$2-1))<=0,7,0)+(ROW(G27)-ROW($B$23))*7+(COLUMN(G27)-COLUMN($B$23)+1)),"",$B$21-(WEEKDAY($B$21,1)-($V$2-1))-IF((WEEKDAY($B$21,1)-($V$2-1))<=0,7,0)+(ROW(G27)-ROW($B$23))*7+(COLUMN(G27)-COLUMN($B$23)+1)) -> 42854 | H27: =IF(MONTH($B$21)<>MONTH($B$21-(WEEKDAY($B$21,1)-($V$2-1))-IF((WEEKDAY($B$21,1)-($V$2-1))<=0,7,0)+(ROW(H27)-ROW($B$23))*7+(COLUMN(H27)-COLUMN($B$23)+1)),"",$B$21-(WEEKDAY($B$21,1)-($V$2-1))-IF((WEEKDAY($B$21,1)-($V$2-1))<=0,7,0)+(ROW(H27)-ROW($B$23))*7+(COLUMN(H27)-COLUMN($B$23)+1)) -> 42855 | J27: =IF(MONTH($J$21)<>MONTH($J$21-(WEEKDAY($J$21,1)-($V$2-1))-IF((WEEKDAY($J$21,1)-($V$2-1))<=0,7,0)+(ROW(J27)-ROW($J$23))*7+(COLUMN(J27)-COLUMN($J$23)+1)),"",$J$21-(WEEKDAY($J$21,1)-($V$2-1))-IF((WEEKDAY($J$21,1)-($V$2-1))<=0,7,0)+(ROW(J27)-ROW($J$23))*7+(COLUMN(J27)-COLUMN($J$23)+1)) -> 42884 | K27: =IF(MONTH($J$21)<>MONTH($J$21-(WEEKDAY($J$21,1)-($V$2-1))-IF((WEEKDAY($J$21,1)-($V$2-1))<=0,7,0)+(ROW(K27)-ROW($J$23))*7+(COLUMN(K27)-COLUMN($J$23)+1)),"",$J$21-(WEEKDAY($J$21,1)-($V$2-1))-IF((WEEKDAY($J$21,1)-($V$2-1))<=0,7,0)+(ROW(K27)-ROW($J$23))*7+(COLUMN(K27)-COLUMN($J$23)+1)) -> 42885 | L27: =IF(MONTH($J$21)<>MONTH($J$21-(WEEKDAY($J$21,1)-($V$2-1))-IF((WEEKDAY($J$21,1)-($V$2-1))<=0,7,0)+(ROW(L27)-ROW($J$23))*7+(COLUMN(L27)-COLUMN($J$23)+1)),"",$J$21-(WEEKDAY($J$21,1)-($V$2-1))-IF((WEEKDAY($J$21,1)-($V$2-1))<=0,7,0)+(ROW(L27)-ROW($J$23))*7+(COLUMN(L27)-COLUMN($J$23)+1)) -> 42886 | M27: =IF(MONTH($J$21)<>MONTH($J$21-(WEEKDAY($J$21,1)-($V$2-1))-IF((WEEKDAY($J$21,1)-($V$2-1))<=0,7,0)+(ROW(M27)-ROW($J$23))*7+(COLUMN(M27)-COLUMN($J$23)+1)),"",$J$21-(WEEKDAY($J$21,1)-($V$2-1))-IF((WEEKDAY($J$21,1)-($V$2-1))<=0,7,0)+(ROW(M27)-ROW($J$23))*7+(COLUMN(M27)-COLUMN($J$23)+1)) | N27: =IF(MONTH($J$21)<>MONTH($J$21-(WEEKDAY($J$21,1)-($V$2-1))-IF((WEEKDAY($J$21,1)-($V$2-1))<=0,7,0)+(ROW(N27)-ROW($J$23))*7+(COLUMN(N27)-COLUMN($J$23)+1)),"",$J$21-(WEEKDAY($J$21,1)-($V$2-1))-IF((WEEKDAY($J$21,1)-($V$2-1))<=0,7,0)+(ROW(N27)-ROW($J$23))*7+(COLUMN(N27)-COLUMN($J$23)+1)) | O27: =IF(MONTH($J$21)<>MONTH($J$21-(WEEKDAY($J$21,1)-($V$2-1))-IF((WEEKDAY($J$21,1)-($V$2-1))<=0,7,0)+(ROW(O27)-ROW($J$23))*7+(COLUMN(O27)-COLUMN($J$23)+1)),"",$J$21-(WEEKDAY($J$21,1)-($V$2-1))-IF((WEEKDAY($J$21,1)-($V$2-1))<=0,7,0)+(ROW(O27)-ROW($J$23))*7+(COLUMN(O27)-COLUMN($J$23)+1)) | P27: =IF(MONTH($J$21)<>MONTH($J$21-(WEEKDAY($J$21,1)-($V$2-1))-IF((WEEKDAY($J$21,1)-($V$2-1))<=0,7,0)+(ROW(P27)-ROW($J$23))*7+(COLUMN(P27)-COLUMN($J$23)+1)),"",$J$21-(WEEKDAY($J$21,1)-($V$2-1))-IF((WEEKDAY($J$21,1)-($V$2-1))<=0,7,0)+(ROW(P27)-ROW($J$23))*7+(COLUMN(P27)-COLUMN($J$23)+1)) | R27: =IF(MONTH($R$21)<>MONTH($R$21-(WEEKDAY($R$21,1)-($V$2-1))-IF((WEEKDAY($R$21,1)-($V$2-1))<=0,7,0)+(ROW(R27)-ROW($R$23))*7+(COLUMN(R27)-COLUMN($R$23)+1)),"",$R$21-(WEEKDAY($R$21,1)-($V$2-1))-IF((WEEKDAY($R$21,1)-($V$2-1))<=0,7,0)+(ROW(R27)-ROW($R$23))*7+(COLUMN(R27)-COLUMN($R$23)+1)) -> 42912 | S27: =IF(MONTH($R$21)<>MONTH($R$21-(WEEKDAY($R$21,1)-($V$2-1))-IF((WEEKDAY($R$21,1)-($V$2-1))<=0,7,0)+(ROW(S27)-ROW($R$23))*7+(COLUMN(S27)-COLUMN($R$23)+1)),"",$R$21-(WEEKDAY($R$21,1)-($V$2-1))-IF((WEEKDAY($R$21,1)-($V$2-1))<=0,7,0)+(ROW(S27)-ROW($R$23))*7+(COLUMN(S27)-COLUMN($R$23)+1)) -> 42913 | T27: =IF(MONTH($R$21)<>MONTH($R$21-(WEEKDAY($R$21,1)-($V$2-1))-IF((WEEKDAY($R$21,1)-($V$2-1))<=0,7,0)+(ROW(T27)-ROW($R$23))*7+(COLUMN(T27)-COLUMN($R$23)+1)),"",$R$21-(WEEKDAY($R$21,1)-($V$2-1))-IF((WEEKDAY($R$21,1)-($V$2-1))<=0,7,0)+(ROW(T27)-ROW($R$23))*7+(COLUMN(T27)-COLUMN($R$23)+1)) -> 42914 | U27: =IF(MONTH($R$21)<>MONTH($R$21-(WEEKDAY($R$21,1)-($V$2-1))-IF((WEEKDAY($R$21,1)-($V$2-1))<=0,7,0)+(ROW(U27)-ROW($R$23))*7+(COLUMN(U27)-COLUMN($R$23)+1)),"",$R$21-(WEEKDAY($R$21,1)-($V$2-1))-IF((WEEKDAY($R$21,1)-($V$2-1))<=0,7,0)+(ROW(U27)-ROW($R$23))*7+(COLUMN(U27)-COLUMN($R$23)+1)) -> 42915 | V27: =IF(MONTH($R$21)<>MONTH($R$21-(WEEKDAY($R$21,1)-($V$2-1))-IF((WEEKDAY($R$21,1)-($V$2-1))<=0,7,0)+(ROW(V27)-ROW($R$23))*7+(COLUMN(V27)-COLUMN($R$23)+1)),"",$R$21-(WEEKDAY($R$21,1)-($V$2-1))-IF((WEEKDAY($R$21,1)-($V$2-1))<=0,7,0)+(ROW(V27)-ROW($R$23))*7+(COLUMN(V27)-COLUMN($R$23)+1)) -> 42916 | W27: =IF(MONTH($R$21)<>MONTH($R$21-(WEEKDAY($R$21,1)-($V$2-1))-IF((WEEKDAY($R$21,1)-($V$2-1))<=0,7,0)+(ROW(W27)-ROW($R$23))*7+(COLUMN(W27)-COLUMN($R$23)+1)),"",$R$21-(WEEKDAY($R$21,1)-($V$2-1))-IF((WEEKDAY($R$21,1)-($V$2-1))<=0,7,0)+(ROW(W27)-ROW($R$23))*7+(COLUMN(W27)-COLUMN($R$23)+1)) | X27: =IF(MONTH($R$21)<>MONTH($R$21-(WEEKDAY($R$21,1)-($V$2-1))-IF((WEEKDAY($R$21,1)-($V$2-1))<=0,7,0)+(ROW(X27)-ROW($R$23))*7+(COLUMN(X27)-COLUMN($R$23)+1)),"",$R$21-(WEEKDAY($R$21,1)-($V$2-1))-IF((WEEKDAY($R$21,1)-($V$2-1))<=0,7,0)+(ROW(X27)-ROW($R$23))*7+(COLUMN(X27)-COLUMN($R$23)+1))
B28: =IF(MONTH($B$21)<>MONTH($B$21-(WEEKDAY($B$21,1)-($V$2-1))-IF((WEEKDAY($B$21,1)-($V$2-1))<=0,7,0)+(ROW(B28)-ROW($B$23))*7+(COLUMN(B28)-COLUMN($B$23)+1)),"",$B$21-(WEEKDAY($B$21,1)-($V$2-1))-IF((WEEKDAY($B$21,1)-($V$2-1))<=0,7,0)+(ROW(B28)-ROW($B$23))*7+(COLUMN(B28)-COLUMN($B$23)+1)) | C28: =IF(MONTH($B$21)<>MONTH($B$21-(WEEKDAY($B$21,1)-($V$2-1))-IF((WEEKDAY($B$21,1)-($V$2-1))<=0,7,0)+(ROW(C28)-ROW($B$23))*7+(COLUMN(C28)-COLUMN($B$23)+1)),"",$B$21-(WEEKDAY($B$21,1)-($V$2-1))-IF((WEEKDAY($B$21,1)-($V$2-1))<=0,7,0)+(ROW(C28)-ROW($B$23))*7+(COLUMN(C28)-COLUMN($B$23)+1)) | D28: =IF(MONTH($B$21)<>MONTH($B$21-(WEEKDAY($B$21,1)-($V$2-1))-IF((WEEKDAY($B$21,1)-($V$2-1))<=0,7,0)+(ROW(D28)-ROW($B$23))*7+(COLUMN(D28)-COLUMN($B$23)+1)),"",$B$21-(WEEKDAY($B$21,1)-($V$2-1))-IF((WEEKDAY($B$21,1)-($V$2-1))<=0,7,0)+(ROW(D28)-ROW($B$23))*7+(COLUMN(D28)-COLUMN($B$23)+1)) | E28: =IF(MONTH($B$21)<>MONTH($B$21-(WEEKDAY($B$21,1)-($V$2-1))-IF((WEEKDAY($B$21,1)-($V$2-1))<=0,7,0)+(ROW(E28)-ROW($B$23))*7+(COLUMN(E28)-COLUMN($B$23)+1)),"",$B$21-(WEEKDAY($B$21,1)-($V$2-1))-IF((WEEKDAY($B$21,1)-($V$2-1))<=0,7,0)+(ROW(E28)-ROW($B$23))*7+(COLUMN(E28)-COLUMN($B$23)+1)) | F28: =IF(MONTH($B$21)<>MONTH($B$21-(WEEKDAY($B$21,1)-($V$2-1))-IF((WEEKDAY($B$21,1)-($V$2-1))<=0,7,0)+(ROW(F28)-ROW($B$23))*7+(COLUMN(F28)-COLUMN($B$23)+1)),"",$B$21-(WEEKDAY($B$21,1)-($V$2-1))-IF((WEEKDAY($B$21,1)-($V$2-1))<=0,7,0)+(ROW(F28)-ROW($B$23))*7+(COLUMN(F28)-COLUMN($B$23)+1)) | G28: =IF(MONTH($B$21)<>MONTH($B$21-(WEEKDAY($B$21,1)-($V$2-1))-IF((WEEKDAY($B$21,1)-($V$2-1))<=0,7,0)+(ROW(G28)-ROW($B$23))*7+(COLUMN(G28)-COLUMN($B$23)+1)),"",$B$21-(WEEKDAY($B$21,1)-($V$2-1))-IF((WEEKDAY($B$21,1)-($V$2-1))<=0,7,0)+(ROW(G28)-ROW($B$23))*7+(COLUMN(G28)-COLUMN($B$23)+1)) | H28: =IF(MONTH($B$21)<>MONTH($B$21-(WEEKDAY($B$21,1)-($V$2-1))-IF((WEEKDAY($B$21,1)-($V$2-1))<=0,7,0)+(ROW(H28)-ROW($B$23))*7+(COLUMN(H28)-COLUMN($B$23)+1)),"",$B$21-(WEEKDAY($B$21,1)-($V$2-1))-IF((WEEKDAY($B$21,1)-($V$2-1))<=0,7,0)+(ROW(H28)-ROW($B$23))*7+(COLUMN(H28)-COLUMN($B$23)+1)) | J28: =IF(MONTH($J$21)<>MONTH($J$21-(WEEKDAY($J$21,1)-($V$2-1))-IF((WEEKDAY($J$21,1)-($V$2-1))<=0,7,0)+(ROW(J28)-ROW($J$23))*7+(COLUMN(J28)-COLUMN($J$23)+1)),"",$J$21-(WEEKDAY($J$21,1)-($V$2-1))-IF((WEEKDAY($J$21,1)-($V$2-1))<=0,7,0)+(ROW(J28)-ROW($J$23))*7+(COLUMN(J28)-COLUMN($J$23)+1)) | K28: =IF(MONTH($J$21)<>MONTH($J$21-(WEEKDAY($J$21,1)-($V$2-1))-IF((WEEKDAY($J$21,1)-($V$2-1))<=0,7,0)+(ROW(K28)-ROW($J$23))*7+(COLUMN(K28)-COLUMN($J$23)+1)),"",$J$21-(WEEKDAY($J$21,1)-($V$2-1))-IF((WEEKDAY($J$21,1)-($V$2-1))<=0,7,0)+(ROW(K28)-ROW($J$23))*7+(COLUMN(K28)-COLUMN($J$23)+1)) | L28: =IF(MONTH($J$21)<>MONTH($J$21-(WEEKDAY($J$21,1)-($V$2-1))-IF((WEEKDAY($J$21,1)-($V$2-1))<=0,7,0)+(ROW(L28)-ROW($J$23))*7+(COLUMN(L28)-COLUMN($J$23)+1)),"",$J$21-(WEEKDAY($J$21,1)-($V$2-1))-IF((WEEKDAY($J$21,1)-($V$2-1))<=0,7,0)+(ROW(L28)-ROW($J$23))*7+(COLUMN(L28)-COLUMN($J$23)+1)) | M28: =IF(MONTH($J$21)<>MONTH($J$21-(WEEKDAY($J$21,1)-($V$2-1))-IF((WEEKDAY($J$21,1)-($V$2-1))<=0,7,0)+(ROW(M28)-ROW($J$23))*7+(COLUMN(M28)-COLUMN($J$23)+1)),"",$J$21-(WEEKDAY($J$21,1)-($V$2-1))-IF((WEEKDAY($J$21,1)-($V$2-1))<=0,7,0)+(ROW(M28)-ROW($J$23))*7+(COLUMN(M28)-COLUMN($J$23)+1)) | N28: =IF(MONTH($J$21)<>MONTH($J$21-(WEEKDAY($J$21,1)-($V$2-1))-IF((WEEKDAY($J$21,1)-($V$2-1))<=0,7,0)+(ROW(N28)-ROW($J$23))*7+(COLUMN(N28)-COLUMN($J$23)+1)),"",$J$21-(WEEKDAY($J$21,1)-($V$2-1))-IF((WEEKDAY($J$21,1)-($V$2-1))<=0,7,0)+(ROW(N28)-ROW($J$23))*7+(COLUMN(N28)-COLUMN($J$23)+1)) | O28: =IF(MONTH($J$21)<>MONTH($J$21-(WEEKDAY($J$21,1)-($V$2-1))-IF((WEEKDAY($J$21,1)-($V$2-1))<=0,7,0)+(ROW(O28)-ROW($J$23))*7+(COLUMN(O28)-COLUMN($J$23)+1)),"",$J$21-(WEEKDAY($J$21,1)-($V$2-1))-IF((WEEKDAY($J$21,1)-($V$2-1))<=0,7,0)+(ROW(O28)-ROW($J$23))*7+(COLUMN(O28)-COLUMN($J$23)+1)) | P28: =IF(MONTH($J$21)<>MONTH($J$21-(WEEKDAY($J$21,1)-($V$2-1))-IF((WEEKDAY($J$21,1)-($V$2-1))<=0,7,0)+(ROW(P28)-ROW($J$23))*7+(COLUMN(P28)-COLUMN($J$23)+1)),"",$J$21-(WEEKDAY($J$21,1)-($V$2-1))-IF((WEEKDAY($J$21,1)-($V$2-1))<=0,7,0)+(ROW(P28)-ROW($J$23))*7+(COLUMN(P28)-COLUMN($J$23)+1)) | R28: =IF(MONTH($R$21)<>MONTH($R$21-(WEEKDAY($R$21,1)-($V$2-1))-IF((WEEKDAY($R$21,1)-($V$2-1))<=0,7,0)+(ROW(R28)-ROW($R$23))*7+(COLUMN(R28)-COLUMN($R$23)+1)),"",$R$21-(WEEKDAY($R$21,1)-($V$2-1))-IF((WEEKDAY($R$21,1)-($V$2-1))<=0,7,0)+(ROW(R28)-ROW($R$23))*7+(COLUMN(R28)-COLUMN($R$23)+1)) | S28: =IF(MONTH($R$21)<>MONTH($R$21-(WEEKDAY($R$21,1)-($V$2-1))-IF((WEEKDAY($R$21,1)-($V$2-1))<=0,7,0)+(ROW(S28)-ROW($R$23))*7+(COLUMN(S28)-COLUMN($R$23)+1)),"",$R$21-(WEEKDAY($R$21,1)-($V$2-1))-IF((WEEKDAY($R$21,1)-($V$2-1))<=0,7,0)+(ROW(S28)-ROW($R$23))*7+(COLUMN(S28)-COLUMN($R$23)+1)) | T28: =IF(MONTH($R$21)<>MONTH($R$21-(WEEKDAY($R$21,1)-($V$2-1))-IF((WEEKDAY($R$21,1)-($V$2-1))<=0,7,0)+(ROW(T28)-ROW($R$23))*7+(COLUMN(T28)-COLUMN($R$23)+1)),"",$R$21-(WEEKDAY($R$21,1)-($V$2-1))-IF((WEEKDAY($R$21,1)-($V$2-1))<=0,7,0)+(ROW(T28)-ROW($R$23))*7+(COLUMN(T28)-COLUMN($R$23)+1)) | U28: =IF(MONTH($R$21)<>MONTH($R$21-(WEEKDAY($R$21,1)-($V$2-1))-IF((WEEKDAY($R$21,1)-($V$2-1))<=0,7,0)+(ROW(U28)-ROW($R$23))*7+(COLUMN(U28)-COLUMN($R$23)+1)),"",$R$21-(WEEKDAY($R$21,1)-($V$2-1))-IF((WEEKDAY($R$21,1)-($V$2-1))<=0,7,0)+(ROW(U28)-ROW($R$23))*7+(COLUMN(U28)-COLUMN($R$23)+1)) | V28: =IF(MONTH($R$21)<>MONTH($R$21-(WEEKDAY($R$21,1)-($V$2-1))-IF((WEEKDAY($R$21,1)-($V$2-1))<=0,7,0)+(ROW(V28)-ROW($R$23))*7+(COLUMN(V28)-COLUMN($R$23)+1)),"",$R$21-(WEEKDAY($R$21,1)-($V$2-1))-IF((WEEKDAY($R$21,1)-($V$2-1))<=0,7,0)+(ROW(V28)-ROW($R$23))*7+(COLUMN(V28)-COLUMN($R$23)+1)) | W28: =IF(MONTH($R$21)<>MONTH($R$21-(WEEKDAY($R$21,1)-($V$2-1))-IF((WEEKDAY($R$21,1)-($V$2-1))<=0,7,0)+(ROW(W28)-ROW($R$23))*7+(COLUMN(W28)-COLUMN($R$23)+1)),"",$R$21-(WEEKDAY($R$21,1)-($V$2-1))-IF((WEEKDAY($R$21,1)-($V$2-1))<=0,7,0)+(ROW(W28)-ROW($R$23))*7+(COLUMN(W28)-COLUMN($R$23)+1)) | X28: =IF(MONTH($R$21)<>MONTH($R$21-(WEEKDAY($R$21,1)-($V$2-1))-IF((WEEKDAY($R$21,1)-($V$2-1))<=0,7,0)+(ROW(X28)-ROW($R$23))*7+(COLUMN(X28)-COLUMN($R$23)+1)),"",$R$21-(WEEKDAY($R$21,1)-($V$2-1))-IF((WEEKDAY($R$21,1)-($V$2-1))<=0,7,0)+(ROW(X28)-ROW($R$23))*7+(COLUMN(X28)-COLUMN($R$23)+1))
B30: =DATE(YEAR(R21+35),MONTH(R21+35),1) -> 42917 | J30: =DATE(YEAR(B30+35),MONTH(B30+35),1) -> 42948 | R30: =DATE(YEAR(J30+35),MONTH(J30+35),1) -> 42979
B31: =$B$13 -> M | C31: =$C$13 -> Tu | D31: =$D$13 -> W | E31: =$E$13 -> Th | F31: =$F$13 -> F | G31: =$G$13 -> Sa | H31: =$H$13 -> Su | J31: =$B$13 -> M | K31: =$C$13 -> Tu | L31: =$D$13 -> W | M31: =$E$13 -> Th | N31: =$F$13 -> F | O31: =$G$13 -> Sa | P31: =$H$13 -> Su | R31: =$B$13 -> M | S31: =$C$13 -> Tu | T31: =$D$13 -> W | U31: =$E$13 -> Th | V31: =$F$13 -> F | W31: =$G$13 -> Sa | X31: =$H$13 -> Su
B32: =IF(MONTH($B$30)<>MONTH($B$30-(WEEKDAY($B$30,1)-($V$2-1))-IF((WEEKDAY($B$30,1)-($V$2-1))<=0,7,0)+(ROW(B32)-ROW($B$32))*7+(COLUMN(B32)-COLUMN($B$32)+1)),"",$B$30-(WEEKDAY($B$30,1)-($V$2-1))-IF((WEEKDAY($B$30,1)-($V$2-1))<=0,7,0)+(ROW(B32)-ROW($B$32))*7+(COLUMN(B32)-COLUMN($B$32)+1)) | C32: =IF(MONTH($B$30)<>MONTH($B$30-(WEEKDAY($B$30,1)-($V$2-1))-IF((WEEKDAY($B$30,1)-($V$2-1))<=0,7,0)+(ROW(C32)-ROW($B$32))*7+(COLUMN(C32)-COLUMN($B$32)+1)),"",$B$30-(WEEKDAY($B$30,1)-($V$2-1))-IF((WEEKDAY($B$30,1)-($V$2-1))<=0,7,0)+(ROW(C32)-ROW($B$32))*7+(COLUMN(C32)-COLUMN($B$32)+1)) | D32: =IF(MONTH($B$30)<>MONTH($B$30-(WEEKDAY($B$30,1)-($V$2-1))-IF((WEEKDAY($B$30,1)-($V$2-1))<=0,7,0)+(ROW(D32)-ROW($B$32))*7+(COLUMN(D32)-COLUMN($B$32)+1)),"",$B$30-(WEEKDAY($B$30,1)-($V$2-1))-IF((WEEKDAY($B$30,1)-($V$2-1))<=0,7,0)+(ROW(D32)-ROW($B$32))*7+(COLUMN(D32)-COLUMN($B$32)+1)) | E32: =IF(MONTH($B$30)<>MONTH($B$30-(WEEKDAY($B$30,1)-($V$2-1))-IF((WEEKDAY($B$30,1)-($V$2-1))<=0,7,0)+(ROW(E32)-ROW($B$32))*7+(COLUMN(E32)-COLUMN($B$32)+1)),"",$B$30-(WEEKDAY($B$30,1)-($V$2-1))-IF((WEEKDAY($B$30,1)-($V$2-1))<=0,7,0)+(ROW(E32)-ROW($B$32))*7+(COLUMN(E32)-COLUMN($B$32)+1)) | F32: =IF(MONTH($B$30)<>MONTH($B$30-(WEEKDAY($B$30,1)-($V$2-1))-IF((WEEKDAY($B$30,1)-($V$2-1))<=0,7,0)+(ROW(F32)-ROW($B$32))*7+(COLUMN(F32)-COLUMN($B$32)+1)),"",$B$30-(WEEKDAY($B$30,1)-($V$2-1))-IF((WEEKDAY($B$30,1)-($V$2-1))<=0,7,0)+(ROW(F32)-ROW($B$32))*7+(COLUMN(F32)-COLUMN($B$32)+1)) | G32: =IF(MONTH($B$30)<>MONTH($B$30-(WEEKDAY($B$30,1)-($V$2-1))-IF((WEEKDAY($B$30,1)-($V$2-1))<=0,7,0)+(ROW(G32)-ROW($B$32))*7+(COLUMN(G32)-COLUMN($B$32)+1)),"",$B$30-(WEEKDAY($B$30,1)-($V$2-1))-IF((WEEKDAY($B$30,1)-($V$2-1))<=0,7,0)+(ROW(G32)-ROW($B$32))*7+(COLUMN(G32)-COLUMN($B$32)+1)) -> 42917 | H32: =IF(MONTH($B$30)<>MONTH($B$30-(WEEKDAY($B$30,1)-($V$2-1))-IF((WEEKDAY($B$30,1)-($V$2-1))<=0,7,0)+(ROW(H32)-ROW($B$32))*7+(COLUMN(H32)-COLUMN($B$32)+1)),"",$B$30-(WEEKDAY($B$30,1)-($V$2-1))-IF((WEEKDAY($B$30,1)-($V$2-1))<=0,7,0)+(ROW(H32)-ROW($B$32))*7+(COLUMN(H32)-COLUMN($B$32)+1)) -> 42918 | J32: =IF(MONTH($J$30)<>MONTH($J$30-(WEEKDAY($J$30,1)-($V$2-1))-IF((WEEKDAY($J$30,1)-($V$2-1))<=0,7,0)+(ROW(J32)-ROW($J$32))*7+(COLUMN(J32)-COLUMN($J$32)+1)),"",$J$30-(WEEKDAY($J$30,1)-($V$2-1))-IF((WEEKDAY($J$30,1)-($V$2-1))<=0,7,0)+(ROW(J32)-ROW($J$32))*7+(COLUMN(J32)-COLUMN($J$32)+1)) | K32: =IF(MONTH($J$30)<>MONTH($J$30-(WEEKDAY($J$30,1)-($V$2-1))-IF((WEEKDAY($J$30,1)-($V$2-1))<=0,7,0)+(ROW(K32)-ROW($J$32))*7+(COLUMN(K32)-COLUMN($J$32)+1)),"",$J$30-(WEEKDAY($J$30,1)-($V$2-1))-IF((WEEKDAY($J$30,1)-($V$2-1))<=0,7,0)+(ROW(K32)-ROW($J$32))*7+(COLUMN(K32)-COLUMN($J$32)+1)) -> 42948 | L32: =IF(MONTH($J$30)<>MONTH($J$30-(WEEKDAY($J$30,1)-($V$2-1))-IF((WEEKDAY($J$30,1)-($V$2-1))<=0,7,0)+(ROW(L32)-ROW($J$32))*7+(COLUMN(L32)-COLUMN($J$32)+1)),"",$J$30-(WEEKDAY($J$30,1)-($V$2-1))-IF((WEEKDAY($J$30,1)-($V$2-1))<=0,7,0)+(ROW(L32)-ROW($J$32))*7+(COLUMN(L32)-COLUMN($J$32)+1)) -> 42949 | M32: =IF(MONTH($J$30)<>MONTH($J$30-(WEEKDAY($J$30,1)-($V$2-1))-IF((WEEKDAY($J$30,1)-($V$2-1))<=0,7,0)+(ROW(M32)-ROW($J$32))*7+(COLUMN(M32)-COLUMN($J$32)+1)),"",$J$30-(WEEKDAY($J$30,1)-($V$2-1))-IF((WEEKDAY($J$30,1)-($V$2-1))<=0,7,0)+(ROW(M32)-ROW($J$32))*7+(COLUMN(M32)-COLUMN($J$32)+1)) -> 42950 | N32: =IF(MONTH($J$30)<>MONTH($J$30-(WEEKDAY($J$30,1)-($V$2-1))-IF((WEEKDAY($J$30,1)-($V$2-1))<=0,7,0)+(ROW(N32)-ROW($J$32))*7+(COLUMN(N32)-COLUMN($J$32)+1)),"",$J$30-(WEEKDAY($J$30,1)-($V$2-1))-IF((WEEKDAY($J$30,1)-($V$2-1))<=0,7,0)+(ROW(N32)-ROW($J$32))*7+(COLUMN(N32)-COLUMN($J$32)+1)) -> 42951 | O32: =IF(MONTH($J$30)<>MONTH($J$30-(WEEKDAY($J$30,1)-($V$2-1))-IF((WEEKDAY($J$30,1)-($V$2-1))<=0,7,0)+(ROW(O32)-ROW($J$32))*7+(COLUMN(O32)-COLUMN($J$32)+1)),"",$J$30-(WEEKDAY($J$30,1)-($V$2-1))-IF((WEEKDAY($J$30,1)-($V$2-1))<=0,7,0)+(ROW(O32)-ROW($J$32))*7+(COLUMN(O32)-COLUMN($J$32)+1)) -> 42952 | P32: =IF(MONTH($J$30)<>MONTH($J$30-(WEEKDAY($J$30,1)-($V$2-1))-IF((WEEKDAY($J$30,1)-($V$2-1))<=0,7,0)+(ROW(P32)-ROW($J$32))*7+(COLUMN(P32)-COLUMN($J$32)+1)),"",$J$30-(WEEKDAY($J$30,1)-($V$2-1))-IF((WEEKDAY($J$30,1)-($V$2-1))<=0,7,0)+(ROW(P32)-ROW($J$32))*7+(COLUMN(P32)-COLUMN($J$32)+1)) -> 42953 | R32: =IF(MONTH($R$30)<>MONTH($R$30-(WEEKDAY($R$30,1)-($V$2-1))-IF((WEEKDAY($R$30,1)-($V$2-1))<=0,7,0)+(ROW(R32)-ROW($R$32))*7+(COLUMN(R32)-COLUMN($R$32)+1)),"",$R$30-(WEEKDAY($R$30,1)-($V$2-1))-IF((WEEKDAY($R$30,1)-($V$2-1))<=0,7,0)+(ROW(R32)-ROW($R$32))*7+(COLUMN(R32)-COLUMN($R$32)+1)) | S32: =IF(MONTH($R$30)<>MONTH($R$30-(WEEKDAY($R$30,1)-($V$2-1))-IF((WEEKDAY($R$30,1)-($V$2-1))<=0,7,0)+(ROW(S32)-ROW($R$32))*7+(COLUMN(S32)-COLUMN($R$32)+1)),"",$R$30-(WEEKDAY($R$30,1)-($V$2-1))-IF((WEEKDAY($R$30,1)-($V$2-1))<=0,7,0)+(ROW(S32)-ROW($R$32))*7+(COLUMN(S32)-COLUMN($R$32)+1)) | T32: =IF(MONTH($R$30)<>MONTH($R$30-(WEEKDAY($R$30,1)-($V$2-1))-IF((WEEKDAY($R$30,1)-($V$2-1))<=0,7,0)+(ROW(T32)-ROW($R$32))*7+(COLUMN(T32)-COLUMN($R$32)+1)),"",$R$30-(WEEKDAY($R$30,1)-($V$2-1))-IF((WEEKDAY($R$30,1)-($V$2-1))<=0,7,0)+(ROW(T32)-ROW($R$32))*7+(COLUMN(T32)-COLUMN($R$32)+1)) | U32: =IF(MONTH($R$30)<>MONTH($R$30-(WEEKDAY($R$30,1)-($V$2-1))-IF((WEEKDAY($R$30,1)-($V$2-1))<=0,7,0)+(ROW(U32)-ROW($R$32))*7+(COLUMN(U32)-COLUMN($R$32)+1)),"",$R$30-(WEEKDAY($R$30,1)-($V$2-1))-IF((WEEKDAY($R$30,1)-($V$2-1))<=0,7,0)+(ROW(U32)-ROW($R$32))*7+(COLUMN(U32)-COLUMN($R$32)+1)) | V32: =IF(MONTH($R$30)<>MONTH($R$30-(WEEKDAY($R$30,1)-($V$2-1))-IF((WEEKDAY($R$30,1)-($V$2-1))<=0,7,0)+(ROW(V32)-ROW($R$32))*7+(COLUMN(V32)-COLUMN($R$32)+1)),"",$R$30-(WEEKDAY($R$30,1)-($V$2-1))-IF((WEEKDAY($R$30,1)-($V$2-1))<=0,7,0)+(ROW(V32)-ROW($R$32))*7+(COLUMN(V32)-COLUMN($R$32)+1)) -> 42979 | W32: =IF(MONTH($R$30)<>MONTH($R$30-(WEEKDAY($R$30,1)-($V$2-1))-IF((WEEKDAY($R$30,1)-($V$2-1))<=0,7,0)+(ROW(W32)-ROW($R$32))*7+(COLUMN(W32)-COLUMN($R$32)+1)),"",$R$30-(WEEKDAY($R$30,1)-($V$2-1))-IF((WEEKDAY($R$30,1)-($V$2-1))<=0,7,0)+(ROW(W32)-ROW($R$32))*7+(COLUMN(W32)-COLUMN($R$32)+1)) -> 42980 | X32: =IF(MONTH($R$30)<>MONTH($R$30-(WEEKDAY($R$30,1)-($V$2-1))-IF((WEEKDAY($R$30,1)-($V$2-1))<=0,7,0)+(ROW(X32)-ROW($R$32))*7+(COLUMN(X32)-COLUMN($R$32)+1)),"",$R$30-(WEEKDAY($R$30,1)-($V$2-1))-IF((WEEKDAY($R$30,1)-($V$2-1))<=0,7,0)+(ROW(X32)-ROW($R$32))*7+(COLUMN(X32)-COLUMN($R$32)+1)) -> 42981
B33: =IF(MONTH($B$30)<>MONTH($B$30-(WEEKDAY($B$30,1)-($V$2-1))-IF((WEEKDAY($B$30,1)-($V$2-1))<=0,7,0)+(ROW(B33)-ROW($B$32))*7+(COLUMN(B33)-COLUMN($B$32)+1)),"",$B$30-(WEEKDAY($B$30,1)-($V$2-1))-IF((WEEKDAY($B$30,1)-($V$2-1))<=0,7,0)+(ROW(B33)-ROW($B$32))*7+(COLUMN(B33)-COLUMN($B$32)+1)) -> 42919 | C33: =IF(MONTH($B$30)<>MONTH($B$30-(WEEKDAY($B$30,1)-($V$2-1))-IF((WEEKDAY($B$30,1)-($V$2-1))<=0,7,0)+(ROW(C33)-ROW($B$32))*7+(COLUMN(C33)-COLUMN($B$32)+1)),"",$B$30-(WEEKDAY($B$30,1)-($V$2-1))-IF((WEEKDAY($B$30,1)-($V$2-1))<=0,7,0)+(ROW(C33)-ROW($B$32))*7+(COLUMN(C33)-COLUMN($B$32)+1)) -> 42920 | D33: =IF(MONTH($B$30)<>MONTH($B$30-(WEEKDAY($B$30,1)-($V$2-1))-IF((WEEKDAY($B$30,1)-($V$2-1))<=0,7,0)+(ROW(D33)-ROW($B$32))*7+(COLUMN(D33)-COLUMN($B$32)+1)),"",$B$30-(WEEKDAY($B$30,1)-($V$2-1))-IF((WEEKDAY($B$30,1)-($V$2-1))<=0,7,0)+(ROW(D33)-ROW($B$32))*7+(COLUMN(D33)-COLUMN($B$32)+1)) -> 42921 | E33: =IF(MONTH($B$30)<>MONTH($B$30-(WEEKDAY($B$30,1)-($V$2-1))-IF((WEEKDAY($B$30,1)-($V$2-1))<=0,7,0)+(ROW(E33)-ROW($B$32))*7+(COLUMN(E33)-COLUMN($B$32)+1)),"",$B$30-(WEEKDAY($B$30,1)-($V$2-1))-IF((WEEKDAY($B$30,1)-($V$2-1))<=0,7,0)+(ROW(E33)-ROW($B$32))*7+(COLUMN(E33)-COLUMN($B$32)+1)) -> 42922 | F33: =IF(MONTH($B$30)<>MONTH($B$30-(WEEKDAY($B$30,1)-($V$2-1))-IF((WEEKDAY($B$30,1)-($V$2-1))<=0,7,0)+(ROW(F33)-ROW($B$32))*7+(COLUMN(F33)-COLUMN($B$32)+1)),"",$B$30-(WEEKDAY($B$30,1)-($V$2-1))-IF((WEEKDAY($B$30,1)-($V$2-1))<=0,7,0)+(ROW(F33)-ROW($B$32))*7+(COLUMN(F33)-COLUMN($B$32)+1)) -> 42923 | G33: =IF(MONTH($B$30)<>MONTH($B$30-(WEEKDAY($B$30,1)-($V$2-1))-IF((WEEKDAY($B$30,1)-($V$2-1))<=0,7,0)+(ROW(G33)-ROW($B$32))*7+(COLUMN(G33)-COLUMN($B$32)+1)),"",$B$30-(WEEKDAY($B$30,1)-($V$2-1))-IF((WEEKDAY($B$30,1)-($V$2-1))<=0,7,0)+(ROW(G33)-ROW($B$32))*7+(COLUMN(G33)-COLUMN($B$32)+1)) -> 42924 | H33: =IF(MONTH($B$30)<>MONTH($B$30-(WEEKDAY($B$30,1)-($V$2-1))-IF((WEEKDAY($B$30,1)-($V$2-1))<=0,7,0)+(ROW(H33)-ROW($B$32))*7+(COLUMN(H33)-COLUMN($B$32)+1)),"",$B$30-(WEEKDAY($B$30,1)-($V$2-1))-IF((WEEKDAY($B$30,1)-($V$2-1))<=0,7,0)+(ROW(H33)-ROW($B$32))*7+(COLUMN(H33)-COLUMN($B$32)+1)) -> 42925 | J33: =IF(MONTH($J$30)<>MONTH($J$30-(WEEKDAY($J$30,1)-($V$2-1))-IF((WEEKDAY($J$30,1)-($V$2-1))<=0,7,0)+(ROW(J33)-ROW($J$32))*7+(COLUMN(J33)-COLUMN($J$32)+1)),"",$J$30-(WEEKDAY($J$30,1)-($V$2-1))-IF((WEEKDAY($J$30,1)-($V$2-1))<=0,7,0)+(ROW(J33)-ROW($J$32))*7+(COLUMN(J33)-COLUMN($J$32)+1)) -> 42954 | K33: =IF(MONTH($J$30)<>MONTH($J$30-(WEEKDAY($J$30,1)-($V$2-1))-IF((WEEKDAY($J$30,1)-($V$2-1))<=0,7,0)+(ROW(K33)-ROW($J$32))*7+(COLUMN(K33)-COLUMN($J$32)+1)),"",$J$30-(WEEKDAY($J$30,1)-($V$2-1))-IF((WEEKDAY($J$30,1)-($V$2-1))<=0,7,0)+(ROW(K33)-ROW($J$32))*7+(COLUMN(K33)-COLUMN($J$32)+1)) -> 42955 | L33: =IF(MONTH($J$30)<>MONTH($J$30-(WEEKDAY($J$30,1)-($V$2-1))-IF((WEEKDAY($J$30,1)-($V$2-1))<=0,7,0)+(ROW(L33)-ROW($J$32))*7+(COLUMN(L33)-COLUMN($J$32)+1)),"",$J$30-(WEEKDAY($J$30,1)-($V$2-1))-IF((WEEKDAY($J$30,1)-($V$2-1))<=0,7,0)+(ROW(L33)-ROW($J$32))*7+(COLUMN(L33)-COLUMN($J$32)+1)) -> 42956 | M33: =IF(MONTH($J$30)<>MONTH($J$30-(WEEKDAY($J$30,1)-($V$2-1))-IF((WEEKDAY($J$30,1)-($V$2-1))<=0,7,0)+(ROW(M33)-ROW($J$32))*7+(COLUMN(M33)-COLUMN($J$32)+1)),"",$J$30-(WEEKDAY($J$30,1)-($V$2-1))-IF((WEEKDAY($J$30,1)-($V$2-1))<=0,7,0)+(ROW(M33)-ROW($J$32))*7+(COLUMN(M33)-COLUMN($J$32)+1)) -> 42957 | N33: =IF(MONTH($J$30)<>MONTH($J$30-(WEEKDAY($J$30,1)-($V$2-1))-IF((WEEKDAY($J$30,1)-($V$2-1))<=0,7,0)+(ROW(N33)-ROW($J$32))*7+(COLUMN(N33)-COLUMN($J$32)+1)),"",$J$30-(WEEKDAY($J$30,1)-($V$2-1))-IF((WEEKDAY($J$30,1)-($V$2-1))<=0,7,0)+(ROW(N33)-ROW($J$32))*7+(COLUMN(N33)-COLUMN($J$32)+1)) -> 42958 | O33: =IF(MONTH($J$30)<>MONTH($J$30-(WEEKDAY($J$30,1)-($V$2-1))-IF((WEEKDAY($J$30,1)-($V$2-1))<=0,7,0)+(ROW(O33)-ROW($J$32))*7+(COLUMN(O33)-COLUMN($J$32)+1)),"",$J$30-(WEEKDAY($J$30,1)-($V$2-1))-IF((WEEKDAY($J$30,1)-($V$2-1))<=0,7,0)+(ROW(O33)-ROW($J$32))*7+(COLUMN(O33)-COLUMN($J$32)+1)) -> 42959 | P33: =IF(MONTH($J$30)<>MONTH($J$30-(WEEKDAY($J$30,1)-($V$2-1))-IF((WEEKDAY($J$30,1)-($V$2-1))<=0,7,0)+(ROW(P33)-ROW($J$32))*7+(COLUMN(P33)-COLUMN($J$32)+1)),"",$J$30-(WEEKDAY($J$30,1)-($V$2-1))-IF((WEEKDAY($J$30,1)-($V$2-1))<=0,7,0)+(ROW(P33)-ROW($J$32))*7+(COLUMN(P33)-COLUMN($J$32)+1)) -> 42960 | R33: =IF(MONTH($R$30)<>MONTH($R$30-(WEEKDAY($R$30,1)-($V$2-1))-IF((WEEKDAY($R$30,1)-($V$2-1))<=0,7,0)+(ROW(R33)-ROW($R$32))*7+(COLUMN(R33)-COLUMN($R$32)+1)),"",$R$30-(WEEKDAY($R$30,1)-($V$2-1))-IF((WEEKDAY($R$30,1)-($V$2-1))<=0,7,0)+(ROW(R33)-ROW($R$32))*7+(COLUMN(R33)-COLUMN($R$32)+1)) -> 42982 | S33: =IF(MONTH($R$30)<>MONTH($R$30-(WEEKDAY($R$30,1)-($V$2-1))-IF((WEEKDAY($R$30,1)-($V$2-1))<=0,7,0)+(ROW(S33)-ROW($R$32))*7+(COLUMN(S33)-COLUMN($R$32)+1)),"",$R$30-(WEEKDAY($R$30,1)-($V$2-1))-IF((WEEKDAY($R$30,1)-($V$2-1))<=0,7,0)+(ROW(S33)-ROW($R$32))*7+(COLUMN(S33)-COLUMN($R$32)+1)) -> 42983 | T33: =IF(MONTH($R$30)<>MONTH($R$30-(WEEKDAY($R$30,1)-($V$2-1))-IF((WEEKDAY($R$30,1)-($V$2-1))<=0,7,0)+(ROW(T33)-ROW($R$32))*7+(COLUMN(T33)-COLUMN($R$32)+1)),"",$R$30-(WEEKDAY($R$30,1)-($V$2-1))-IF((WEEKDAY($R$30,1)-($V$2-1))<=0,7,0)+(ROW(T33)-ROW($R$32))*7+(COLUMN(T33)-COLUMN($R$32)+1)) -> 42984 | U33: =IF(MONTH($R$30)<>MONTH($R$30-(WEEKDAY($R$30,1)-($V$2-1))-IF((WEEKDAY($R$30,1)-($V$2-1))<=0,7,0)+(ROW(U33)-ROW($R$32))*7+(COLUMN(U33)-COLUMN($R$32)+1)),"",$R$30-(WEEKDAY($R$30,1)-($V$2-1))-IF((WEEKDAY($R$30,1)-($V$2-1))<=0,7,0)+(ROW(U33)-ROW($R$32))*7+(COLUMN(U33)-COLUMN($R$32)+1)) -> 42985 | V33: =IF(MONTH($R$30)<>MONTH($R$30-(WEEKDAY($R$30,1)-($V$2-1))-IF((WEEKDAY($R$30,1)-($V$2-1))<=0,7,0)+(ROW(V33)-ROW($R$32))*7+(COLUMN(V33)-COLUMN($R$32)+1)),"",$R$30-(WEEKDAY($R$30,1)-($V$2-1))-IF((WEEKDAY($R$30,1)-($V$2-1))<=0,7,0)+(ROW(V33)-ROW($R$32))*7+(COLUMN(V33)-COLUMN($R$32)+1)) -> 42986 | W33: =IF(MONTH($R$30)<>MONTH($R$30-(WEEKDAY($R$30,1)-($V$2-1))-IF((WEEKDAY($R$30,1)-($V$2-1))<=0,7,0)+(ROW(W33)-ROW($R$32))*7+(COLUMN(W33)-COLUMN($R$32)+1)),"",$R$30-(WEEKDAY($R$30,1)-($V$2-1))-IF((WEEKDAY($R$30,1)-($V$2-1))<=0,7,0)+(ROW(W33)-ROW($R$32))*7+(COLUMN(W33)-COLUMN($R$32)+1)) -> 42987 | X33: =IF(MONTH($R$30)<>MONTH($R$30-(WEEKDAY($R$30,1)-($V$2-1))-IF((WEEKDAY($R$30,1)-($V$2-1))<=0,7,0)+(ROW(X33)-ROW($R$32))*7+(COLUMN(X33)-COLUMN($R$32)+1)),"",$R$30-(WEEKDAY($R$30,1)-($V$2-1))-IF((WEEKDAY($R$30,1)-($V$2-1))<=0,7,0)+(ROW(X33)-ROW($R$32))*7+(COLUMN(X33)-COLUMN($R$32)+1)) -> 42988
B34: =IF(MONTH($B$30)<>MONTH($B$30-(WEEKDAY($B$30,1)-($V$2-1))-IF((WEEKDAY($B$30,1)-($V$2-1))<=0,7,0)+(ROW(B34)-ROW($B$32))*7+(COLUMN(B34)-COLUMN($B$32)+1)),"",$B$30-(WEEKDAY($B$30,1)-($V$2-1))-IF((WEEKDAY($B$30,1)-($V$2-1))<=0,7,0)+(ROW(B34)-ROW($B$32))*7+(COLUMN(B34)-COLUMN($B$32)+1)) -> 42926 | C34: =IF(MONTH($B$30)<>MONTH($B$30-(WEEKDAY($B$30,1)-($V$2-1))-IF((WEEKDAY($B$30,1)-($V$2-1))<=0,7,0)+(ROW(C34)-ROW($B$32))*7+(COLUMN(C34)-COLUMN($B$32)+1)),"",$B$30-(WEEKDAY($B$30,1)-($V$2-1))-IF((WEEKDAY($B$30,1)-($V$2-1))<=0,7,0)+(ROW(C34)-ROW($B$32))*7+(COLUMN(C34)-COLUMN($B$32)+1)) -> 42927 | D34: =IF(MONTH($B$30)<>MONTH($B$30-(WEEKDAY($B$30,1)-($V$2-1))-IF((WEEKDAY($B$30,1)-($V$2-1))<=0,7,0)+(ROW(D34)-ROW($B$32))*7+(COLUMN(D34)-COLUMN($B$32)+1)),"",$B$30-(WEEKDAY($B$30,1)-($V$2-1))-IF((WEEKDAY($B$30,1)-($V$2-1))<=0,7,0)+(ROW(D34)-ROW($B$32))*7+(COLUMN(D34)-COLUMN($B$32)+1)) -> 42928 | E34: =IF(MONTH($B$30)<>MONTH($B$30-(WEEKDAY($B$30,1)-($V$2-1))-IF((WEEKDAY($B$30,1)-($V$2-1))<=0,7,0)+(ROW(E34)-ROW($B$32))*7+(COLUMN(E34)-COLUMN($B$32)+1)),"",$B$30-(WEEKDAY($B$30,1)-($V$2-1))-IF((WEEKDAY($B$30,1)-($V$2-1))<=0,7,0)+(ROW(E34)-ROW($B$32))*7+(COLUMN(E34)-COLUMN($B$32)+1)) -> 42929 | F34: =IF(MONTH($B$30)<>MONTH($B$30-(WEEKDAY($B$30,1)-($V$2-1))-IF((WEEKDAY($B$30,1)-($V$2-1))<=0,7,0)+(ROW(F34)-ROW($B$32))*7+(COLUMN(F34)-COLUMN($B$32)+1)),"",$B$30-(WEEKDAY($B$30,1)-($V$2-1))-IF((WEEKDAY($B$30,1)-($V$2-1))<=0,7,0)+(ROW(F34)-ROW($B$32))*7+(COLUMN(F34)-COLUMN($B$32)+1)) -> 42930 | G34: =IF(MONTH($B$30)<>MONTH($B$30-(WEEKDAY($B$30,1)-($V$2-1))-IF((WEEKDAY($B$30,1)-($V$2-1))<=0,7,0)+(ROW(G34)-ROW($B$32))*7+(COLUMN(G34)-COLUMN($B$32)+1)),"",$B$30-(WEEKDAY($B$30,1)-($V$2-1))-IF((WEEKDAY($B$30,1)-($V$2-1))<=0,7,0)+(ROW(G34)-ROW($B$32))*7+(COLUMN(G34)-COLUMN($B$32)+1)) -> 42931 | H34: =IF(MONTH($B$30)<>MONTH($B$30-(WEEKDAY($B$30,1)-($V$2-1))-IF((WEEKDAY($B$30,1)-($V$2-1))<=0,7,0)+(ROW(H34)-ROW($B$32))*7+(COLUMN(H34)-COLUMN($B$32)+1)),"",$B$30-(WEEKDAY($B$30,1)-($V$2-1))-IF((WEEKDAY($B$30,1)-($V$2-1))<=0,7,0)+(ROW(H34)-ROW($B$32))*7+(COLUMN(H34)-COLUMN($B$32)+1)) -> 42932 | J34: =IF(MONTH($J$30)<>MONTH($J$30-(WEEKDAY($J$30,1)-($V$2-1))-IF((WEEKDAY($J$30,1)-($V$2-1))<=0,7,0)+(ROW(J34)-ROW($J$32))*7+(COLUMN(J34)-COLUMN($J$32)+1)),"",$J$30-(WEEKDAY($J$30,1)-($V$2-1))-IF((WEEKDAY($J$30,1)-($V$2-1))<=0,7,0)+(ROW(J34)-ROW($J$32))*7+(COLUMN(J34)-COLUMN($J$32)+1)) -> 42961 | K34: =IF(MONTH($J$30)<>MONTH($J$30-(WEEKDAY($J$30,1)-($V$2-1))-IF((WEEKDAY($J$30,1)-($V$2-1))<=0,7,0)+(ROW(K34)-ROW($J$32))*7+(COLUMN(K34)-COLUMN($J$32)+1)),"",$J$30-(WEEKDAY($J$30,1)-($V$2-1))-IF((WEEKDAY($J$30,1)-($V$2-1))<=0,7,0)+(ROW(K34)-ROW($J$32))*7+(COLUMN(K34)-COLUMN($J$32)+1)) -> 42962 | L34: =IF(MONTH($J$30)<>MONTH($J$30-(WEEKDAY($J$30,1)-($V$2-1))-IF((WEEKDAY($J$30,1)-($V$2-1))<=0,7,0)+(ROW(L34)-ROW($J$32))*7+(COLUMN(L34)-COLUMN($J$32)+1)),"",$J$30-(WEEKDAY($J$30,1)-($V$2-1))-IF((WEEKDAY($J$30,1)-($V$2-1))<=0,7,0)+(ROW(L34)-ROW($J$32))*7+(COLUMN(L34)-COLUMN($J$32)+1)) -> 42963 | M34: =IF(MONTH($J$30)<>MONTH($J$30-(WEEKDAY($J$30,1)-($V$2-1))-IF((WEEKDAY($J$30,1)-($V$2-1))<=0,7,0)+(ROW(M34)-ROW($J$32))*7+(COLUMN(M34)-COLUMN($J$32)+1)),"",$J$30-(WEEKDAY($J$30,1)-($V$2-1))-IF((WEEKDAY($J$30,1)-($V$2-1))<=0,7,0)+(ROW(M34)-ROW($J$32))*7+(COLUMN(M34)-COLUMN($J$32)+1)) -> 42964 | N34: =IF(MONTH($J$30)<>MONTH($J$30-(WEEKDAY($J$30,1)-($V$2-1))-IF((WEEKDAY($J$30,1)-($V$2-1))<=0,7,0)+(ROW(N34)-ROW($J$32))*7+(COLUMN(N34)-COLUMN($J$32)+1)),"",$J$30-(WEEKDAY($J$30,1)-($V$2-1))-IF((WEEKDAY($J$30,1)-($V$2-1))<=0,7,0)+(ROW(N34)-ROW($J$32))*7+(COLUMN(N34)-COLUMN($J$32)+1)) -> 42965 | O34: =IF(MONTH($J$30)<>MONTH($J$30-(WEEKDAY($J$30,1)-($V$2-1))-IF((WEEKDAY($J$30,1)-($V$2-1))<=0,7,0)+(ROW(O34)-ROW($J$32))*7+(COLUMN(O34)-COLUMN($J$32)+1)),"",$J$30-(WEEKDAY($J$30,1)-($V$2-1))-IF((WEEKDAY($J$30,1)-($V$2-1))<=0,7,0)+(ROW(O34)-ROW($J$32))*7+(COLUMN(O34)-COLUMN($J$32)+1)) -> 42966 | P34: =IF(MONTH($J$30)<>MONTH($J$30-(WEEKDAY($J$30,1)-($V$2-1))-IF((WEEKDAY($J$30,1)-($V$2-1))<=0,7,0)+(ROW(P34)-ROW($J$32))*7+(COLUMN(P34)-COLUMN($J$32)+1)),"",$J$30-(WEEKDAY($J$30,1)-($V$2-1))-IF((WEEKDAY($J$30,1)-($V$2-1))<=0,7,0)+(ROW(P34)-ROW($J$32))*7+(COLUMN(P34)-COLUMN($J$32)+1)) -> 42967 | R34: =IF(MONTH($R$30)<>MONTH($R$30-(WEEKDAY($R$30,1)-($V$2-1))-IF((WEEKDAY($R$30,1)-($V$2-1))<=0,7,0)+(ROW(R34)-ROW($R$32))*7+(COLUMN(R34)-COLUMN($R$32)+1)),"",$R$30-(WEEKDAY($R$30,1)-($V$2-1))-IF((WEEKDAY($R$30,1)-($V$2-1))<=0,7,0)+(ROW(R34)-ROW($R$32))*7+(COLUMN(R34)-COLUMN($R$32)+1)) -> 42989 | S34: =IF(MONTH($R$30)<>MONTH($R$30-(WEEKDAY($R$30,1)-($V$2-1))-IF((WEEKDAY($R$30,1)-($V$2-1))<=0,7,0)+(ROW(S34)-ROW($R$32))*7+(COLUMN(S34)-COLUMN($R$32)+1)),"",$R$30-(WEEKDAY($R$30,1)-($V$2-1))-IF((WEEKDAY($R$30,1)-($V$2-1))<=0,7,0)+(ROW(S34)-ROW($R$32))*7+(COLUMN(S34)-COLUMN($R$32)+1)) -> 42990 | T34: =IF(MONTH($R$30)<>MONTH($R$30-(WEEKDAY($R$30,1)-($V$2-1))-IF((WEEKDAY($R$30,1)-($V$2-1))<=0,7,0)+(ROW(T34)-ROW($R$32))*7+(COLUMN(T34)-COLUMN($R$32)+1)),"",$R$30-(WEEKDAY($R$30,1)-($V$2-1))-IF((WEEKDAY($R$30,1)-($V$2-1))<=0,7,0)+(ROW(T34)-ROW($R$32))*7+(COLUMN(T34)-COLUMN($R$32)+1)) -> 42991 | U34: =IF(MONTH($R$30)<>MONTH($R$30-(WEEKDAY($R$30,1)-($V$2-1))-IF((WEEKDAY($R$30,1)-($V$2-1))<=0,7,0)+(ROW(U34)-ROW($R$32))*7+(COLUMN(U34)-COLUMN($R$32)+1)),"",$R$30-(WEEKDAY($R$30,1)-($V$2-1))-IF((WEEKDAY($R$30,1)-($V$2-1))<=0,7,0)+(ROW(U34)-ROW($R$32))*7+(COLUMN(U34)-COLUMN($R$32)+1)) -> 42992 | V34: =IF(MONTH($R$30)<>MONTH($R$30-(WEEKDAY($R$30,1)-($V$2-1))-IF((WEEKDAY($R$30,1)-($V$2-1))<=0,7,0)+(ROW(V34)-ROW($R$32))*7+(COLUMN(V34)-COLUMN($R$32)+1)),"",$R$30-(WEEKDAY($R$30,1)-($V$2-1))-IF((WEEKDAY($R$30,1)-($V$2-1))<=0,7,0)+(ROW(V34)-ROW($R$32))*7+(COLUMN(V34)-COLUMN($R$32)+1)) -> 42993 | W34: =IF(MONTH($R$30)<>MONTH($R$30-(WEEKDAY($R$30,1)-($V$2-1))-IF((WEEKDAY($R$30,1)-($V$2-1))<=0,7,0)+(ROW(W34)-ROW($R$32))*7+(COLUMN(W34)-COLUMN($R$32)+1)),"",$R$30-(WEEKDAY($R$30,1)-($V$2-1))-IF((WEEKDAY($R$30,1)-($V$2-1))<=0,7,0)+(ROW(W34)-ROW($R$32))*7+(COLUMN(W34)-COLUMN($R$32)+1)) -> 42994 | X34: =IF(MONTH($R$30)<>MONTH($R$30-(WEEKDAY($R$30,1)-($V$2-1))-IF((WEEKDAY($R$30,1)-($V$2-1))<=0,7,0)+(ROW(X34)-ROW($R$32))*7+(COLUMN(X34)-COLUMN($R$32)+1)),"",$R$30-(WEEKDAY($R$30,1)-($V$2-1))-IF((WEEKDAY($R$30,1)-($V$2-1))<=0,7,0)+(ROW(X34)-ROW($R$32))*7+(COLUMN(X34)-COLUMN($R$32)+1)) -> 42995
B35: =IF(MONTH($B$30)<>MONTH($B$30-(WEEKDAY($B$30,1)-($V$2-1))-IF((WEEKDAY($B$30,1)-($V$2-1))<=0,7,0)+(ROW(B35)-ROW($B$32))*7+(COLUMN(B35)-COLUMN($B$32)+1)),"",$B$30-(WEEKDAY($B$30,1)-($V$2-1))-IF((WEEKDAY($B$30,1)-($V$2-1))<=0,7,0)+(ROW(B35)-ROW($B$32))*7+(COLUMN(B35)-COLUMN($B$32)+1)) -> 42933 | C35: =IF(MONTH($B$30)<>MONTH($B$30-(WEEKDAY($B$30,1)-($V$2-1))-IF((WEEKDAY($B$30,1)-($V$2-1))<=0,7,0)+(ROW(C35)-ROW($B$32))*7+(COLUMN(C35)-COLUMN($B$32)+1)),"",$B$30-(WEEKDAY($B$30,1)-($V$2-1))-IF((WEEKDAY($B$30,1)-($V$2-1))<=0,7,0)+(ROW(C35)-ROW($B$32))*7+(COLUMN(C35)-COLUMN($B$32)+1)) -> 42934 | D35: =IF(MONTH($B$30)<>MONTH($B$30-(WEEKDAY($B$30,1)-($V$2-1))-IF((WEEKDAY($B$30,1)-($V$2-1))<=0,7,0)+(ROW(D35)-ROW($B$32))*7+(COLUMN(D35)-COLUMN($B$32)+1)),"",$B$30-(WEEKDAY($B$30,1)-($V$2-1))-IF((WEEKDAY($B$30,1)-($V$2-1))<=0,7,0)+(ROW(D35)-ROW($B$32))*7+(COLUMN(D35)-COLUMN($B$32)+1)) -> 42935 | E35: =IF(MONTH($B$30)<>MONTH($B$30-(WEEKDAY($B$30,1)-($V$2-1))-IF((WEEKDAY($B$30,1)-($V$2-1))<=0,7,0)+(ROW(E35)-ROW($B$32))*7+(COLUMN(E35)-COLUMN($B$32)+1)),"",$B$30-(WEEKDAY($B$30,1)-($V$2-1))-IF((WEEKDAY($B$30,1)-($V$2-1))<=0,7,0)+(ROW(E35)-ROW($B$32))*7+(COLUMN(E35)-COLUMN($B$32)+1)) -> 42936 | F35: =IF(MONTH($B$30)<>MONTH($B$30-(WEEKDAY($B$30,1)-($V$2-1))-IF((WEEKDAY($B$30,1)-($V$2-1))<=0,7,0)+(ROW(F35)-ROW($B$32))*7+(COLUMN(F35)-COLUMN($B$32)+1)),"",$B$30-(WEEKDAY($B$30,1)-($V$2-1))-IF((WEEKDAY($B$30,1)-($V$2-1))<=0,7,0)+(ROW(F35)-ROW($B$32))*7+(COLUMN(F35)-COLUMN($B$32)+1)) -> 42937 | G35: =IF(MONTH($B$30)<>MONTH($B$30-(WEEKDAY($B$30,1)-($V$2-1))-IF((WEEKDAY($B$30,1)-($V$2-1))<=0,7,0)+(ROW(G35)-ROW($B$32))*7+(COLUMN(G35)-COLUMN($B$32)+1)),"",$B$30-(WEEKDAY($B$30,1)-($V$2-1))-IF((WEEKDAY($B$30,1)-($V$2-1))<=0,7,0)+(ROW(G35)-ROW($B$32))*7+(COLUMN(G35)-COLUMN($B$32)+1)) -> 42938 | H35: =IF(MONTH($B$30)<>MONTH($B$30-(WEEKDAY($B$30,1)-($V$2-1))-IF((WEEKDAY($B$30,1)-($V$2-1))<=0,7,0)+(ROW(H35)-ROW($B$32))*7+(COLUMN(H35)-COLUMN($B$32)+1)),"",$B$30-(WEEKDAY($B$30,1)-($V$2-1))-IF((WEEKDAY($B$30,1)-($V$2-1))<=0,7,0)+(ROW(H35)-ROW($B$32))*7+(COLUMN(H35)-COLUMN($B$32)+1)) -> 42939 | J35: =IF(MONTH($J$30)<>MONTH($J$30-(WEEKDAY($J$30,1)-($V$2-1))-IF((WEEKDAY($J$30,1)-($V$2-1))<=0,7,0)+(ROW(J35)-ROW($J$32))*7+(COLUMN(J35)-COLUMN($J$32)+1)),"",$J$30-(WEEKDAY($J$30,1)-($V$2-1))-IF((WEEKDAY($J$30,1)-($V$2-1))<=0,7,0)+(ROW(J35)-ROW($J$32))*7+(COLUMN(J35)-COLUMN($J$32)+1)) -> 42968 | K35: =IF(MONTH($J$30)<>MONTH($J$30-(WEEKDAY($J$30,1)-($V$2-1))-IF((WEEKDAY($J$30,1)-($V$2-1))<=0,7,0)+(ROW(K35)-ROW($J$32))*7+(COLUMN(K35)-COLUMN($J$32)+1)),"",$J$30-(WEEKDAY($J$30,1)-($V$2-1))-IF((WEEKDAY($J$30,1)-($V$2-1))<=0,7,0)+(ROW(K35)-ROW($J$32))*7+(COLUMN(K35)-COLUMN($J$32)+1)) -> 42969 | L35: =IF(MONTH($J$30)<>MONTH($J$30-(WEEKDAY($J$30,1)-($V$2-1))-IF((WEEKDAY($J$30,1)-($V$2-1))<=0,7,0)+(ROW(L35)-ROW($J$32))*7+(COLUMN(L35)-COLUMN($J$32)+1)),"",$J$30-(WEEKDAY($J$30,1)-($V$2-1))-IF((WEEKDAY($J$30,1)-($V$2-1))<=0,7,0)+(ROW(L35)-ROW($J$32))*7+(COLUMN(L35)-COLUMN($J$32)+1)) -> 42970 | M35: =IF(MONTH($J$30)<>MONTH($J$30-(WEEKDAY($J$30,1)-($V$2-1))-IF((WEEKDAY($J$30,1)-($V$2-1))<=0,7,0)+(ROW(M35)-ROW($J$32))*7+(COLUMN(M35)-COLUMN($J$32)+1)),"",$J$30-(WEEKDAY($J$30,1)-($V$2-1))-IF((WEEKDAY($J$30,1)-($V$2-1))<=0,7,0)+(ROW(M35)-ROW($J$32))*7+(COLUMN(M35)-COLUMN($J$32)+1)) -> 42971 | N35: =IF(MONTH($J$30)<>MONTH($J$30-(WEEKDAY($J$30,1)-($V$2-1))-IF((WEEKDAY($J$30,1)-($V$2-1))<=0,7,0)+(ROW(N35)-ROW($J$32))*7+(COLUMN(N35)-COLUMN($J$32)+1)),"",$J$30-(WEEKDAY($J$30,1)-($V$2-1))-IF((WEEKDAY($J$30,1)-($V$2-1))<=0,7,0)+(ROW(N35)-ROW($J$32))*7+(COLUMN(N35)-COLUMN($J$32)+1)) -> 42972 | O35: =IF(MONTH($J$30)<>MONTH($J$30-(WEEKDAY($J$30,1)-($V$2-1))-IF((WEEKDAY($J$30,1)-($V$2-1))<=0,7,0)+(ROW(O35)-ROW($J$32))*7+(COLUMN(O35)-COLUMN($J$32)+1)),"",$J$30-(WEEKDAY($J$30,1)-($V$2-1))-IF((WEEKDAY($J$30,1)-($V$2-1))<=0,7,0)+(ROW(O35)-ROW($J$32))*7+(COLUMN(O35)-COLUMN($J$32)+1)) -> 42973 | P35: =IF(MONTH($J$30)<>MONTH($J$30-(WEEKDAY($J$30,1)-($V$2-1))-IF((WEEKDAY($J$30,1)-($V$2-1))<=0,7,0)+(ROW(P35)-ROW($J$32))*7+(COLUMN(P35)-COLUMN($J$32)+1)),"",$J$30-(WEEKDAY($J$30,1)-($V$2-1))-IF((WEEKDAY($J$30,1)-($V$2-1))<=0,7,0)+(ROW(P35)-ROW($J$32))*7+(COLUMN(P35)-COLUMN($J$32)+1)) -> 42974 | R35: =IF(MONTH($R$30)<>MONTH($R$30-(WEEKDAY($R$30,1)-($V$2-1))-IF((WEEKDAY($R$30,1)-($V$2-1))<=0,7,0)+(ROW(R35)-ROW($R$32))*7+(COLUMN(R35)-COLUMN($R$32)+1)),"",$R$30-(WEEKDAY($R$30,1)-($V$2-1))-IF((WEEKDAY($R$30,1)-($V$2-1))<=0,7,0)+(ROW(R35)-ROW($R$32))*7+(COLUMN(R35)-COLUMN($R$32)+1)) -> 42996 | S35: =IF(MONTH($R$30)<>MONTH($R$30-(WEEKDAY($R$30,1)-($V$2-1))-IF((WEEKDAY($R$30,1)-($V$2-1))<=0,7,0)+(ROW(S35)-ROW($R$32))*7+(COLUMN(S35)-COLUMN($R$32)+1)),"",$R$30-(WEEKDAY($R$30,1)-($V$2-1))-IF((WEEKDAY($R$30,1)-($V$2-1))<=0,7,0)+(ROW(S35)-ROW($R$32))*7+(COLUMN(S35)-COLUMN($R$32)+1)) -> 42997 | T35: =IF(MONTH($R$30)<>MONTH($R$30-(WEEKDAY($R$30,1)-($V$2-1))-IF((WEEKDAY($R$30,1)-($V$2-1))<=0,7,0)+(ROW(T35)-ROW($R$32))*7+(COLUMN(T35)-COLUMN($R$32)+1)),"",$R$30-(WEEKDAY($R$30,1)-($V$2-1))-IF((WEEKDAY($R$30,1)-($V$2-1))<=0,7,0)+(ROW(T35)-ROW($R$32))*7+(COLUMN(T35)-COLUMN($R$32)+1)) -> 42998 | U35: =IF(MONTH($R$30)<>MONTH($R$30-(WEEKDAY($R$30,1)-($V$2-1))-IF((WEEKDAY($R$30,1)-($V$2-1))<=0,7,0)+(ROW(U35)-ROW($R$32))*7+(COLUMN(U35)-COLUMN($R$32)+1)),"",$R$30-(WEEKDAY($R$30,1)-($V$2-1))-IF((WEEKDAY($R$30,1)-($V$2-1))<=0,7,0)+(ROW(U35)-ROW($R$32))*7+(COLUMN(U35)-COLUMN($R$32)+1)) -> 42999 | V35: =IF(MONTH($R$30)<>MONTH($R$30-(WEEKDAY($R$30,1)-($V$2-1))-IF((WEEKDAY($R$30,1)-($V$2-1))<=0,7,0)+(ROW(V35)-ROW($R$32))*7+(COLUMN(V35)-COLUMN($R$32)+1)),"",$R$30-(WEEKDAY($R$30,1)-($V$2-1))-IF((WEEKDAY($R$30,1)-($V$2-1))<=0,7,0)+(ROW(V35)-ROW($R$32))*7+(COLUMN(V35)-COLUMN($R$32)+1)) -> 43000 | W35: =IF(MONTH($R$30)<>MONTH($R$30-(WEEKDAY($R$30,1)-($V$2-1))-IF((WEEKDAY($R$30,1)-($V$2-1))<=0,7,0)+(ROW(W35)-ROW($R$32))*7+(COLUMN(W35)-COLUMN($R$32)+1)),"",$R$30-(WEEKDAY($R$30,1)-($V$2-1))-IF((WEEKDAY($R$30,1)-($V$2-1))<=0,7,0)+(ROW(W35)-ROW($R$32))*7+(COLUMN(W35)-COLUMN($R$32)+1)) -> 43001 | X35: =IF(MONTH($R$30)<>MONTH($R$30-(WEEKDAY($R$30,1)-($V$2-1))-IF((WEEKDAY($R$30,1)-($V$2-1))<=0,7,0)+(ROW(X35)-ROW($R$32))*7+(COLUMN(X35)-COLUMN($R$32)+1)),"",$R$30-(WEEKDAY($R$30,1)-($V$2-1))-IF((WEEKDAY($R$30,1)-($V$2-1))<=0,7,0)+(ROW(X35)-ROW($R$32))*7+(COLUMN(X35)-COLUMN($R$32)+1)) -> 43002
B36: =IF(MONTH($B$30)<>MONTH($B$30-(WEEKDAY($B$30,1)-($V$2-1))-IF((WEEKDAY($B$30,1)-($V$2-1))<=0,7,0)+(ROW(B36)-ROW($B$32))*7+(COLUMN(B36)-COLUMN($B$32)+1)),"",$B$30-(WEEKDAY($B$30,1)-($V$2-1))-IF((WEEKDAY($B$30,1)-($V$2-1))<=0,7,0)+(ROW(B36)-ROW($B$32))*7+(COLUMN(B36)-COLUMN($B$32)+1)) -> 42940 | C36: =IF(MONTH($B$30)<>MONTH($B$30-(WEEKDAY($B$30,1)-($V$2-1))-IF((WEEKDAY($B$30,1)-($V$2-1))<=0,7,0)+(ROW(C36)-ROW($B$32))*7+(COLUMN(C36)-COLUMN($B$32)+1)),"",$B$30-(WEEKDAY($B$30,1)-($V$2-1))-IF((WEEKDAY($B$30,1)-($V$2-1))<=0,7,0)+(ROW(C36)-ROW($B$32))*7+(COLUMN(C36)-COLUMN($B$32)+1)) -> 42941 | D36: =IF(MONTH($B$30)<>MONTH($B$30-(WEEKDAY($B$30,1)-($V$2-1))-IF((WEEKDAY($B$30,1)-($V$2-1))<=0,7,0)+(ROW(D36)-ROW($B$32))*7+(COLUMN(D36)-COLUMN($B$32)+1)),"",$B$30-(WEEKDAY($B$30,1)-($V$2-1))-IF((WEEKDAY($B$30,1)-($V$2-1))<=0,7,0)+(ROW(D36)-ROW($B$32))*7+(COLUMN(D36)-COLUMN($B$32)+1)) -> 42942 | E36: =IF(MONTH($B$30)<>MONTH($B$30-(WEEKDAY($B$30,1)-($V$2-1))-IF((WEEKDAY($B$30,1)-($V$2-1))<=0,7,0)+(ROW(E36)-ROW($B$32))*7+(COLUMN(E36)-COLUMN($B$32)+1)),"",$B$30-(WEEKDAY($B$30,1)-($V$2-1))-IF((WEEKDAY($B$30,1)-($V$2-1))<=0,7,0)+(ROW(E36)-ROW($B$32))*7+(COLUMN(E36)-COLUMN($B$32)+1)) -> 42943 | F36: =IF(MONTH($B$30)<>MONTH($B$30-(WEEKDAY($B$30,1)-($V$2-1))-IF((WEEKDAY($B$30,1)-($V$2-1))<=0,7,0)+(ROW(F36)-ROW($B$32))*7+(COLUMN(F36)-COLUMN($B$32)+1)),"",$B$30-(WEEKDAY($B$30,1)-($V$2-1))-IF((WEEKDAY($B$30,1)-($V$2-1))<=0,7,0)+(ROW(F36)-ROW($B$32))*7+(COLUMN(F36)-COLUMN($B$32)+1)) -> 42944 | G36: =IF(MONTH($B$30)<>MONTH($B$30-(WEEKDAY($B$30,1)-($V$2-1))-IF((WEEKDAY($B$30,1)-($V$2-1))<=0,7,0)+(ROW(G36)-ROW($B$32))*7+(COLUMN(G36)-COLUMN($B$32)+1)),"",$B$30-(WEEKDAY($B$30,1)-($V$2-1))-IF((WEEKDAY($B$30,1)-($V$2-1))<=0,7,0)+(ROW(G36)-ROW($B$32))*7+(COLUMN(G36)-COLUMN($B$32)+1)) -> 42945 | H36: =IF(MONTH($B$30)<>MONTH($B$30-(WEEKDAY($B$30,1)-($V$2-1))-IF((WEEKDAY($B$30,1)-($V$2-1))<=0,7,0)+(ROW(H36)-ROW($B$32))*7+(COLUMN(H36)-COLUMN($B$32)+1)),"",$B$30-(WEEKDAY($B$30,1)-($V$2-1))-IF((WEEKDAY($B$30,1)-($V$2-1))<=0,7,0)+(ROW(H36)-ROW($B$32))*7+(COLUMN(H36)-COLUMN($B$32)+1)) -> 42946 | J36: =IF(MONTH($J$30)<>MONTH($J$30-(WEEKDAY($J$30,1)-($V$2-1))-IF((WEEKDAY($J$30,1)-($V$2-1))<=0,7,0)+(ROW(J36)-ROW($J$32))*7+(COLUMN(J36)-COLUMN($J$32)+1)),"",$J$30-(WEEKDAY($J$30,1)-($V$2-1))-IF((WEEKDAY($J$30,1)-($V$2-1))<=0,7,0)+(ROW(J36)-ROW($J$32))*7+(COLUMN(J36)-COLUMN($J$32)+1)) -> 42975 | K36: =IF(MONTH($J$30)<>MONTH($J$30-(WEEKDAY($J$30,1)-($V$2-1))-IF((WEEKDAY($J$30,1)-($V$2-1))<=0,7,0)+(ROW(K36)-ROW($J$32))*7+(COLUMN(K36)-COLUMN($J$32)+1)),"",$J$30-(WEEKDAY($J$30,1)-($V$2-1))-IF((WEEKDAY($J$30,1)-($V$2-1))<=0,7,0)+(ROW(K36)-ROW($J$32))*7+(COLUMN(K36)-COLUMN($J$32)+1)) -> 42976 | L36: =IF(MONTH($J$30)<>MONTH($J$30-(WEEKDAY($J$30,1)-($V$2-1))-IF((WEEKDAY($J$30,1)-($V$2-1))<=0,7,0)+(ROW(L36)-ROW($J$32))*7+(COLUMN(L36)-COLUMN($J$32)+1)),"",$J$30-(WEEKDAY($J$30,1)-($V$2-1))-IF((WEEKDAY($J$30,1)-($V$2-1))<=0,7,0)+(ROW(L36)-ROW($J$32))*7+(COLUMN(L36)-COLUMN($J$32)+1)) -> 42977 | M36: =IF(MONTH($J$30)<>MONTH($J$30-(WEEKDAY($J$30,1)-($V$2-1))-IF((WEEKDAY($J$30,1)-($V$2-1))<=0,7,0)+(ROW(M36)-ROW($J$32))*7+(COLUMN(M36)-COLUMN($J$32)+1)),"",$J$30-(WEEKDAY($J$30,1)-($V$2-1))-IF((WEEKDAY($J$30,1)-($V$2-1))<=0,7,0)+(ROW(M36)-ROW($J$32))*7+(COLUMN(M36)-COLUMN($J$32)+1)) -> 42978 | N36: =IF(MONTH($J$30)<>MONTH($J$30-(WEEKDAY($J$30,1)-($V$2-1))-IF((WEEKDAY($J$30,1)-($V$2-1))<=0,7,0)+(ROW(N36)-ROW($J$32))*7+(COLUMN(N36)-COLUMN($J$32)+1)),"",$J$30-(WEEKDAY($J$30,1)-($V$2-1))-IF((WEEKDAY($J$30,1)-($V$2-1))<=0,7,0)+(ROW(N36)-ROW($J$32))*7+(COLUMN(N36)-COLUMN($J$32)+1)) | O36: =IF(MONTH($J$30)<>MONTH($J$30-(WEEKDAY($J$30,1)-($V$2-1))-IF((WEEKDAY($J$30,1)-($V$2-1))<=0,7,0)+(ROW(O36)-ROW($J$32))*7+(COLUMN(O36)-COLUMN($J$32)+1)),"",$J$30-(WEEKDAY($J$30,1)-($V$2-1))-IF((WEEKDAY($J$30,1)-($V$2-1))<=0,7,0)+(ROW(O36)-ROW($J$32))*7+(COLUMN(O36)-COLUMN($J$32)+1)) | P36: =IF(MONTH($J$30)<>MONTH($J$30-(WEEKDAY($J$30,1)-($V$2-1))-IF((WEEKDAY($J$30,1)-($V$2-1))<=0,7,0)+(ROW(P36)-ROW($J$32))*7+(COLUMN(P36)-COLUMN($J$32)+1)),"",$J$30-(WEEKDAY($J$30,1)-($V$2-1))-IF((WEEKDAY($J$30,1)-($V$2-1))<=0,7,0)+(ROW(P36)-ROW($J$32))*7+(COLUMN(P36)-COLUMN($J$32)+1)) | R36: =IF(MONTH($R$30)<>MONTH($R$30-(WEEKDAY($R$30,1)-($V$2-1))-IF((WEEKDAY($R$30,1)-($V$2-1))<=0,7,0)+(ROW(R36)-ROW($R$32))*7+(COLUMN(R36)-COLUMN($R$32)+1)),"",$R$30-(WEEKDAY($R$30,1)-($V$2-1))-IF((WEEKDAY($R$30,1)-($V$2-1))<=0,7,0)+(ROW(R36)-ROW($R$32))*7+(COLUMN(R36)-COLUMN($R$32)+1)) -> 43003 | S36: =IF(MONTH($R$30)<>MONTH($R$30-(WEEKDAY($R$30,1)-($V$2-1))-IF((WEEKDAY($R$30,1)-($V$2-1))<=0,7,0)+(ROW(S36)-ROW($R$32))*7+(COLUMN(S36)-COLUMN($R$32)+1)),"",$R$30-(WEEKDAY($R$30,1)-($V$2-1))-IF((WEEKDAY($R$30,1)-($V$2-1))<=0,7,0)+(ROW(S36)-ROW($R$32))*7+(COLUMN(S36)-COLUMN($R$32)+1)) -> 43004 | T36: =IF(MONTH($R$30)<>MONTH($R$30-(WEEKDAY($R$30,1)-($V$2-1))-IF((WEEKDAY($R$30,1)-($V$2-1))<=0,7,0)+(ROW(T36)-ROW($R$32))*7+(COLUMN(T36)-COLUMN($R$32)+1)),"",$R$30-(WEEKDAY($R$30,1)-($V$2-1))-IF((WEEKDAY($R$30,1)-($V$2-1))<=0,7,0)+(ROW(T36)-ROW($R$32))*7+(COLUMN(T36)-COLUMN($R$32)+1)) -> 43005 | U36: =IF(MONTH($R$30)<>MONTH($R$30-(WEEKDAY($R$30,1)-($V$2-1))-IF((WEEKDAY($R$30,1)-($V$2-1))<=0,7,0)+(ROW(U36)-ROW($R$32))*7+(COLUMN(U36)-COLUMN($R$32)+1)),"",$R$30-(WEEKDAY($R$30,1)-($V$2-1))-IF((WEEKDAY($R$30,1)-($V$2-1))<=0,7,0)+(ROW(U36)-ROW($R$32))*7+(COLUMN(U36)-COLUMN($R$32)+1)) -> 43006 | V36: =IF(MONTH($R$30)<>MONTH($R$30-(WEEKDAY($R$30,1)-($V$2-1))-IF((WEEKDAY($R$30,1)-($V$2-1))<=0,7,0)+(ROW(V36)-ROW($R$32))*7+(COLUMN(V36)-COLUMN($R$32)+1)),"",$R$30-(WEEKDAY($R$30,1)-($V$2-1))-IF((WEEKDAY($R$30,1)-($V$2-1))<=0,7,0)+(ROW(V36)-ROW($R$32))*7+(COLUMN(V36)-COLUMN($R$32)+1)) -> 43007 | W36: =IF(MONTH($R$30)<>MONTH($R$30-(WEEKDAY($R$30,1)-($V$2-1))-IF((WEEKDAY($R$30,1)-($V$2-1))<=0,7,0)+(ROW(W36)-ROW($R$32))*7+(COLUMN(W36)-COLUMN($R$32)+1)),"",$R$30-(WEEKDAY($R$30,1)-($V$2-1))-IF((WEEKDAY($R$30,1)-($V$2-1))<=0,7,0)+(ROW(W36)-ROW($R$32))*7+(COLUMN(W36)-COLUMN($R$32)+1)) -> 43008 | X36: =IF(MONTH($R$30)<>MONTH($R$30-(WEEKDAY($R$30,1)-($V$2-1))-IF((WEEKDAY($R$30,1)-($V$2-1))<=0,7,0)+(ROW(X36)-ROW($R$32))*7+(COLUMN(X36)-COLUMN($R$32)+1)),"",$R$30-(WEEKDAY($R$30,1)-($V$2-1))-IF((WEEKDAY($R$30,1)-($V$2-1))<=0,7,0)+(ROW(X36)-ROW($R$32))*7+(COLUMN(X36)-COLUMN($R$32)+1))
B37: =IF(MONTH($B$30)<>MONTH($B$30-(WEEKDAY($B$30,1)-($V$2-1))-IF((WEEKDAY($B$30,1)-($V$2-1))<=0,7,0)+(ROW(B37)-ROW($B$32))*7+(COLUMN(B37)-COLUMN($B$32)+1)),"",$B$30-(WEEKDAY($B$30,1)-($V$2-1))-IF((WEEKDAY($B$30,1)-($V$2-1))<=0,7,0)+(ROW(B37)-ROW($B$32))*7+(COLUMN(B37)-COLUMN($B$32)+1)) -> 42947 | C37: =IF(MONTH($B$30)<>MONTH($B$30-(WEEKDAY($B$30,1)-($V$2-1))-IF((WEEKDAY($B$30,1)-($V$2-1))<=0,7,0)+(ROW(C37)-ROW($B$32))*7+(COLUMN(C37)-COLUMN($B$32)+1)),"",$B$30-(WEEKDAY($B$30,1)-($V$2-1))-IF((WEEKDAY($B$30,1)-($V$2-1))<=0,7,0)+(ROW(C37)-ROW($B$32))*7+(COLUMN(C37)-COLUMN($B$32)+1)) | D37: =IF(MONTH($B$30)<>MONTH($B$30-(WEEKDAY($B$30,1)-($V$2-1))-IF((WEEKDAY($B$30,1)-($V$2-1))<=0,7,0)+(ROW(D37)-ROW($B$32))*7+(COLUMN(D37)-COLUMN($B$32)+1)),"",$B$30-(WEEKDAY($B$30,1)-($V$2-1))-IF((WEEKDAY($B$30,1)-($V$2-1))<=0,7,0)+(ROW(D37)-ROW($B$32))*7+(COLUMN(D37)-COLUMN($B$32)+1)) | E37: =IF(MONTH($B$30)<>MONTH($B$30-(WEEKDAY($B$30,1)-($V$2-1))-IF((WEEKDAY($B$30,1)-($V$2-1))<=0,7,0)+(ROW(E37)-ROW($B$32))*7+(COLUMN(E37)-COLUMN($B$32)+1)),"",$B$30-(WEEKDAY($B$30,1)-($V$2-1))-IF((WEEKDAY($B$30,1)-($V$2-1))<=0,7,0)+(ROW(E37)-ROW($B$32))*7+(COLUMN(E37)-COLUMN($B$32)+1)) | F37: =IF(MONTH($B$30)<>MONTH($B$30-(WEEKDAY($B$30,1)-($V$2-1))-IF((WEEKDAY($B$30,1)-($V$2-1))<=0,7,0)+(ROW(F37)-ROW($B$32))*7+(COLUMN(F37)-COLUMN($B$32)+1)),"",$B$30-(WEEKDAY($B$30,1)-($V$2-1))-IF((WEEKDAY($B$30,1)-($V$2-1))<=0,7,0)+(ROW(F37)-ROW($B$32))*7+(COLUMN(F37)-COLUMN($B$32)+1)) | G37: =IF(MONTH($B$30)<>MONTH($B$30-(WEEKDAY($B$30,1)-($V$2-1))-IF((WEEKDAY($B$30,1)-($V$2-1))<=0,7,0)+(ROW(G37)-ROW($B$32))*7+(COLUMN(G37)-COLUMN($B$32)+1)),"",$B$30-(WEEKDAY($B$30,1)-($V$2-1))-IF((WEEKDAY($B$30,1)-($V$2-1))<=0,7,0)+(ROW(G37)-ROW($B$32))*7+(COLUMN(G37)-COLUMN($B$32)+1)) | H37: =IF(MONTH($B$30)<>MONTH($B$30-(WEEKDAY($B$30,1)-($V$2-1))-IF((WEEKDAY($B$30,1)-($V$2-1))<=0,7,0)+(ROW(H37)-ROW($B$32))*7+(COLUMN(H37)-COLUMN($B$32)+1)),"",$B$30-(WEEKDAY($B$30,1)-($V$2-1))-IF((WEEKDAY($B$30,1)-($V$2-1))<=0,7,0)+(ROW(H37)-ROW($B$32))*7+(COLUMN(H37)-COLUMN($B$32)+1)) | J37: =IF(MONTH($J$30)<>MONTH($J$30-(WEEKDAY($J$30,1)-($V$2-1))-IF((WEEKDAY($J$30,1)-($V$2-1))<=0,7,0)+(ROW(J37)-ROW($J$32))*7+(COLUMN(J37)-COLUMN($J$32)+1)),"",$J$30-(WEEKDAY($J$30,1)-($V$2-1))-IF((WEEKDAY($J$30,1)-($V$2-1))<=0,7,0)+(ROW(J37)-ROW($J$32))*7+(COLUMN(J37)-COLUMN($J$32)+1)) | K37: =IF(MONTH($J$30)<>MONTH($J$30-(WEEKDAY($J$30,1)-($V$2-1))-IF((WEEKDAY($J$30,1)-($V$2-1))<=0,7,0)+(ROW(K37)-ROW($J$32))*7+(COLUMN(K37)-COLUMN($J$32)+1)),"",$J$30-(WEEKDAY($J$30,1)-($V$2-1))-IF((WEEKDAY($J$30,1)-($V$2-1))<=0,7,0)+(ROW(K37)-ROW($J$32))*7+(COLUMN(K37)-COLUMN($J$32)+1)) | L37: =IF(MONTH($J$30)<>MONTH($J$30-(WEEKDAY($J$30,1)-($V$2-1))-IF((WEEKDAY($J$30,1)-($V$2-1))<=0,7,0)+(ROW(L37)-ROW($J$32))*7+(COLUMN(L37)-COLUMN($J$32)+1)),"",$J$30-(WEEKDAY($J$30,1)-($V$2-1))-IF((WEEKDAY($J$30,1)-($V$2-1))<=0,7,0)+(ROW(L37)-ROW($J$32))*7+(COLUMN(L37)-COLUMN($J$32)+1)) | M37: =IF(MONTH($J$30)<>MONTH($J$30-(WEEKDAY($J$30,1)-($V$2-1))-IF((WEEKDAY($J$30,1)-($V$2-1))<=0,7,0)+(ROW(M37)-ROW($J$32))*7+(COLUMN(M37)-COLUMN($J$32)+1)),"",$J$30-(WEEKDAY($J$30,1)-($V$2-1))-IF((WEEKDAY($J$30,1)-($V$2-1))<=0,7,0)+(ROW(M37)-ROW($J$32))*7+(COLUMN(M37)-COLUMN($J$32)+1)) | N37: =IF(MONTH($J$30)<>MONTH($J$30-(WEEKDAY($J$30,1)-($V$2-1))-IF((WEEKDAY($J$30,1)-($V$2-1))<=0,7,0)+(ROW(N37)-ROW($J$32))*7+(COLUMN(N37)-COLUMN($J$32)+1)),"",$J$30-(WEEKDAY($J$30,1)-($V$2-1))-IF((WEEKDAY($J$30,1)-($V$2-1))<=0,7,0)+(ROW(N37)-ROW($J$32))*7+(COLUMN(N37)-COLUMN($J$32)+1)) | O37: =IF(MONTH($J$30)<>MONTH($J$30-(WEEKDAY($J$30,1)-($V$2-1))-IF((WEEKDAY($J$30,1)-($V$2-1))<=0,7,0)+(ROW(O37)-ROW($J$32))*7+(COLUMN(O37)-COLUMN($J$32)+1)),"",$J$30-(WEEKDAY($J$30,1)-($V$2-1))-IF((WEEKDAY($J$30,1)-($V$2-1))<=0,7,0)+(ROW(O37)-ROW($J$32))*7+(COLUMN(O37)-COLUMN($J$32)+1)) | P37: =IF(MONTH($J$30)<>MONTH($J$30-(WEEKDAY($J$30,1)-($V$2-1))-IF((WEEKDAY($J$30,1)-($V$2-1))<=0,7,0)+(ROW(P37)-ROW($J$32))*7+(COLUMN(P37)-COLUMN($J$32)+1)),"",$J$30-(WEEKDAY($J$30,1)-($V$2-1))-IF((WEEKDAY($J$30,1)-($V$2-1))<=0,7,0)+(ROW(P37)-ROW($J$32))*7+(COLUMN(P37)-COLUMN($J$32)+1)) | R37: =IF(MONTH($R$30)<>MONTH($R$30-(WEEKDAY($R$30,1)-($V$2-1))-IF((WEEKDAY($R$30,1)-($V$2-1))<=0,7,0)+(ROW(R37)-ROW($R$32))*7+(COLUMN(R37)-COLUMN($R$32)+1)),"",$R$30-(WEEKDAY($R$30,1)-($V$2-1))-IF((WEEKDAY($R$30,1)-($V$2-1))<=0,7,0)+(ROW(R37)-ROW($R$32))*7+(COLUMN(R37)-COLUMN($R$32)+1)) | S37: =IF(MONTH($R$30)<>MONTH($R$30-(WEEKDAY($R$30,1)-($V$2-1))-IF((WEEKDAY($R$30,1)-($V$2-1))<=0,7,0)+(ROW(S37)-ROW($R$32))*7+(COLUMN(S37)-COLUMN($R$32)+1)),"",$R$30-(WEEKDAY($R$30,1)-($V$2-1))-IF((WEEKDAY($R$30,1)-($V$2-1))<=0,7,0)+(ROW(S37)-ROW($R$32))*7+(COLUMN(S37)-COLUMN($R$32)+1)) | T37: =IF(MONTH($R$30)<>MONTH($R$30-(WEEKDAY($R$30,1)-($V$2-1))-IF((WEEKDAY($R$30,1)-($V$2-1))<=0,7,0)+(ROW(T37)-ROW($R$32))*7+(COLUMN(T37)-COLUMN($R$32)+1)),"",$R$30-(WEEKDAY($R$30,1)-($V$2-1))-IF((WEEKDAY($R$30,1)-($V$2-1))<=0,7,0)+(ROW(T37)-ROW($R$32))*7+(COLUMN(T37)-COLUMN($R$32)+1)) | U37: =IF(MONTH($R$30)<>MONTH($R$30-(WEEKDAY($R$30,1)-($V$2-1))-IF((WEEKDAY($R$30,1)-($V$2-1))<=0,7,0)+(ROW(U37)-ROW($R$32))*7+(COLUMN(U37)-COLUMN($R$32)+1)),"",$R$30-(WEEKDAY($R$30,1)-($V$2-1))-IF((WEEKDAY($R$30,1)-($V$2-1))<=0,7,0)+(ROW(U37)-ROW($R$32))*7+(COLUMN(U37)-COLUMN($R$32)+1)) | V37: =IF(MONTH($R$30)<>MONTH($R$30-(WEEKDAY($R$30,1)-($V$2-1))-IF((WEEKDAY($R$30,1)-($V$2-1))<=0,7,0)+(ROW(V37)-ROW($R$32))*7+(COLUMN(V37)-COLUMN($R$32)+1)),"",$R$30-(WEEKDAY($R$30,1)-($V$2-1))-IF((WEEKDAY($R$30,1)-($V$2-1))<=0,7,0)+(ROW(V37)-ROW($R$32))*7+(COLUMN(V37)-COLUMN($R$32)+1)) | W37: =IF(MONTH($R$30)<>MONTH($R$30-(WEEKDAY($R$30,1)-($V$2-1))-IF((WEEKDAY($R$30,1)-($V$2-1))<=0,7,0)+(ROW(W37)-ROW($R$32))*7+(COLUMN(W37)-COLUMN($R$32)+1)),"",$R$30-(WEEKDAY($R$30,1)-($V$2-1))-IF((WEEKDAY($R$30,1)-($V$2-1))<=0,7,0)+(ROW(W37)-ROW($R$32))*7+(COLUMN(W37)-COLUMN($R$32)+1)) | X37: =IF(MONTH($R$30)<>MONTH($R$30-(WEEKDAY($R$30,1)-($V$2-1))-IF((WEEKDAY($R$30,1)-($V$2-1))<=0,7,0)+(ROW(X37)-ROW($R$32))*7+(COLUMN(X37)-COLUMN($R$32)+1)),"",$R$30-(WEEKDAY($R$30,1)-($V$2-1))-IF((WEEKDAY($R$30,1)-($V$2-1))<=0,7,0)+(ROW(X37)-ROW($R$32))*7+(COLUMN(X37)-COLUMN($R$32)+1))
B39: =DATE(YEAR(R30+35),MONTH(R30+35),1) -> 43009 | J39: =DATE(YEAR(B39+35),MONTH(B39+35),1) -> 43040 | R39: =DATE(YEAR(J39+35),MONTH(J39+35),1) -> 43070
B40: =$B$13 -> M | C40: =$C$13 -> Tu | D40: =$D$13 -> W | E40: =$E$13 -> Th | F40: =$F$13 -> F | G40: =$G$13 -> Sa | H40: =$H$13 -> Su | J40: =$B$13 -> M | K40: =$C$13 -> Tu | L40: =$D$13 -> W | M40: =$E$13 -> Th | N40: =$F$13 -> F | O40: =$G$13 -> Sa | P40: =$H$13 -> Su | R40: =$B$13 -> M | S40: =$C$13 -> Tu | T40: =$D$13 -> W | U40: =$E$13 -> Th | V40: =$F$13 -> F | W40: =$G$13 -> Sa | X40: =$H$13 -> Su
B41: =IF(MONTH($B$39)<>MONTH($B$39-(WEEKDAY($B$39,1)-($V$2-1))-IF((WEEKDAY($B$39,1)-($V$2-1))<=0,7,0)+(ROW(B41)-ROW($B$41))*7+(COLUMN(B41)-COLUMN($B$41)+1)),"",$B$39-(WEEKDAY($B$39,1)-($V$2-1))-IF((WEEKDAY($B$39,1)-($V$2-1))<=0,7,0)+(ROW(B41)-ROW($B$41))*7+(COLUMN(B41)-COLUMN($B$41)+1)) | C41: =IF(MONTH($B$39)<>MONTH($B$39-(WEEKDAY($B$39,1)-($V$2-1))-IF((WEEKDAY($B$39,1)-($V$2-1))<=0,7,0)+(ROW(C41)-ROW($B$41))*7+(COLUMN(C41)-COLUMN($B$41)+1)),"",$B$39-(WEEKDAY($B$39,1)-($V$2-1))-IF((WEEKDAY($B$39,1)-($V$2-1))<=0,7,0)+(ROW(C41)-ROW($B$41))*7+(COLUMN(C41)-COLUMN($B$41)+1)) | D41: =IF(MONTH($B$39)<>MONTH($B$39-(WEEKDAY($B$39,1)-($V$2-1))-IF((WEEKDAY($B$39,1)-($V$2-1))<=0,7,0)+(ROW(D41)-ROW($B$41))*7+(COLUMN(D41)-COLUMN($B$41)+1)),"",$B$39-(WEEKDAY($B$39,1)-($V$2-1))-IF((WEEKDAY($B$39,1)-($V$2-1))<=0,7,0)+(ROW(D41)-ROW($B$41))*7+(COLUMN(D41)-COLUMN($B$41)+1)) | E41: =IF(MONTH($B$39)<>MONTH($B$39-(WEEKDAY($B$39,1)-($V$2-1))-IF((WEEKDAY($B$39,1)-($V$2-1))<=0,7,0)+(ROW(E41)-ROW($B$41))*7+(COLUMN(E41)-COLUMN($B$41)+1)),"",$B$39-(WEEKDAY($B$39,1)-($V$2-1))-IF((WEEKDAY($B$39,1)-($V$2-1))<=0,7,0)+(ROW(E41)-ROW($B$41))*7+(COLUMN(E41)-COLUMN($B$41)+1)) | F41: =IF(MONTH($B$39)<>MONTH($B$39-(WEEKDAY($B$39,1)-($V$2-1))-IF((WEEKDAY($B$39,1)-($V$2-1))<=0,7,0)+(ROW(F41)-ROW($B$41))*7+(COLUMN(F41)-COLUMN($B$41)+1)),"",$B$39-(WEEKDAY($B$39,1)-($V$2-1))-IF((WEEKDAY($B$39,1)-($V$2-1))<=0,7,0)+(ROW(F41)-ROW($B$41))*7+(COLUMN(F41)-COLUMN($B$41)+1)) | G41: =IF(MONTH($B$39)<>MONTH($B$39-(WEEKDAY($B$39,1)-($V$2-1))-IF((WEEKDAY($B$39,1)-($V$2-1))<=0,7,0)+(ROW(G41)-ROW($B$41))*7+(COLUMN(G41)-COLUMN($B$41)+1)),"",$B$39-(WEEKDAY($B$39,1)-($V$2-1))-IF((WEEKDAY($B$39,1)-($V$2-1))<=0,7,0)+(ROW(G41)-ROW($B$41))*7+(COLUMN(G41)-COLUMN($B$41)+1)) | H41: =IF(MONTH($B$39)<>MONTH($B$39-(WEEKDAY($B$39,1)-($V$2-1))-IF((WEEKDAY($B$39,1)-($V$2-1))<=0,7,0)+(ROW(H41)-ROW($B$41))*7+(COLUMN(H41)-COLUMN($B$41)+1)),"",$B$39-(WEEKDAY($B$39,1)-($V$2-1))-IF((WEEKDAY($B$39,1)-($V$2-1))<=0,7,0)+(ROW(H41)-ROW($B$41))*7+(COLUMN(H41)-COLUMN($B$41)+1)) -> 43009 | J41: =IF(MONTH($J$39)<>MONTH($J$39-(WEEKDAY($J$39,1)-($V$2-1))-IF((WEEKDAY($J$39,1)-($V$2-1))<=0,7,0)+(ROW(J41)-ROW($J$41))*7+(COLUMN(J41)-COLUMN($J$41)+1)),"",$J$39-(WEEKDAY($J$39,1)-($V$2-1))-IF((WEEKDAY($J$39,1)-($V$2-1))<=0,7,0)+(ROW(J41)-ROW($J$41))*7+(COLUMN(J41)-COLUMN($J$41)+1)) | K41: =IF(MONTH($J$39)<>MONTH($J$39-(WEEKDAY($J$39,1)-($V$2-1))-IF((WEEKDAY($J$39,1)-($V$2-1))<=0,7,0)+(ROW(K41)-ROW($J$41))*7+(COLUMN(K41)-COLUMN($J$41)+1)),"",$J$39-(WEEKDAY($J$39,1)-($V$2-1))-IF((WEEKDAY($J$39,1)-($V$2-1))<=0,7,0)+(ROW(K41)-ROW($J$41))*7+(COLUMN(K41)-COLUMN($J$41)+1)) | L41: =IF(MONTH($J$39)<>MONTH($J$39-(WEEKDAY($J$39,1)-($V$2-1))-IF((WEEKDAY($J$39,1)-($V$2-1))<=0,7,0)+(ROW(L41)-ROW($J$41))*7+(COLUMN(L41)-COLUMN($J$41)+1)),"",$J$39-(WEEKDAY($J$39,1)-($V$2-1))-IF((WEEKDAY($J$39,1)-($V$2-1))<=0,7,0)+(ROW(L41)-ROW($J$41))*7+(COLUMN(L41)-COLUMN($J$41)+1)) -> 43040 | M41: =IF(MONTH($J$39)<>MONTH($J$39-(WEEKDAY($J$39,1)-($V$2-1))-IF((WEEKDAY($J$39,1)-($V$2-1))<=0,7,0)+(ROW(M41)-ROW($J$41))*7+(COLUMN(M41)-COLUMN($J$41)+1)),"",$J$39-(WEEKDAY($J$39,1)-($V$2-1))-IF((WEEKDAY($J$39,1)-($V$2-1))<=0,7,0)+(ROW(M41)-ROW($J$41))*7+(COLUMN(M41)-COLUMN($J$41)+1)) -> 43041 | N41: =IF(MONTH($J$39)<>MONTH($J$39-(WEEKDAY($J$39,1)-($V$2-1))-IF((WEEKDAY($J$39,1)-($V$2-1))<=0,7,0)+(ROW(N41)-ROW($J$41))*7+(COLUMN(N41)-COLUMN($J$41)+1)),"",$J$39-(WEEKDAY($J$39,1)-($V$2-1))-IF((WEEKDAY($J$39,1)-($V$2-1))<=0,7,0)+(ROW(N41)-ROW($J$41))*7+(COLUMN(N41)-COLUMN($J$41)+1)) -> 43042 | O41: =IF(MONTH($J$39)<>MONTH($J$39-(WEEKDAY($J$39,1)-($V$2-1))-IF((WEEKDAY($J$39,1)-($V$2-1))<=0,7,0)+(ROW(O41)-ROW($J$41))*7+(COLUMN(O41)-COLUMN($J$41)+1)),"",$J$39-(WEEKDAY($J$39,1)-($V$2-1))-IF((WEEKDAY($J$39,1)-($V$2-1))<=0,7,0)+(ROW(O41)-ROW($J$41))*7+(COLUMN(O41)-COLUMN($J$41)+1)) -> 43043 | P41: =IF(MONTH($J$39)<>MONTH($J$39-(WEEKDAY($J$39,1)-($V$2-1))-IF((WEEKDAY($J$39,1)-($V$2-1))<=0,7,0)+(ROW(P41)-ROW($J$41))*7+(COLUMN(P41)-COLUMN($J$41)+1)),"",$J$39-(WEEKDAY($J$39,1)-($V$2-1))-IF((WEEKDAY($J$39,1)-($V$2-1))<=0,7,0)+(ROW(P41)-ROW($J$41))*7+(COLUMN(P41)-COLUMN($J$41)+1)) -> 43044 | R41: =IF(MONTH($R$39)<>MONTH($R$39-(WEEKDAY($R$39,1)-($V$2-1))-IF((WEEKDAY($R$39,1)-($V$2-1))<=0,7,0)+(ROW(R41)-ROW($R$41))*7+(COLUMN(R41)-COLUMN($R$41)+1)),"",$R$39-(WEEKDAY($R$39,1)-($V$2-1))-IF((WEEKDAY($R$39,1)-($V$2-1))<=0,7,0)+(ROW(R41)-ROW($R$41))*7+(COLUMN(R41)-COLUMN($R$41)+1)) | S41: =IF(MONTH($R$39)<>MONTH($R$39-(WEEKDAY($R$39,1)-($V$2-1))-IF((WEEKDAY($R$39,1)-($V$2-1))<=0,7,0)+(ROW(S41)-ROW($R$41))*7+(COLUMN(S41)-COLUMN($R$41)+1)),"",$R$39-(WEEKDAY($R$39,1)-($V$2-1))-IF((WEEKDAY($R$39,1)-($V$2-1))<=0,7,0)+(ROW(S41)-ROW($R$41))*7+(COLUMN(S41)-COLUMN($R$41)+1)) | T41: =IF(MONTH($R$39)<>MONTH($R$39-(WEEKDAY($R$39,1)-($V$2-1))-IF((WEEKDAY($R$39,1)-($V$2-1))<=0,7,0)+(ROW(T41)-ROW($R$41))*7+(COLUMN(T41)-COLUMN($R$41)+1)),"",$R$39-(WEEKDAY($R$39,1)-($V$2-1))-IF((WEEKDAY($R$39,1)-($V$2-1))<=0,7,0)+(ROW(T41)-ROW($R$41))*7+(COLUMN(T41)-COLUMN($R$41)+1)) | U41: =IF(MONTH($R$39)<>MONTH($R$39-(WEEKDAY($R$39,1)-($V$2-1))-IF((WEEKDAY($R$39,1)-($V$2-1))<=0,7,0)+(ROW(U41)-ROW($R$41))*7+(COLUMN(U41)-COLUMN($R$41)+1)),"",$R$39-(WEEKDAY($R$39,1)-($V$2-1))-IF((WEEKDAY($R$39,1)-($V$2-1))<=0,7,0)+(ROW(U41)-ROW($R$41))*7+(COLUMN(U41)-COLUMN($R$41)+1)) | V41: =IF(MONTH($R$39)<>MONTH($R$39-(WEEKDAY($R$39,1)-($V$2-1))-IF((WEEKDAY($R$39,1)-($V$2-1))<=0,7,0)+(ROW(V41)-ROW($R$41))*7+(COLUMN(V41)-COLUMN($R$41)+1)),"",$R$39-(WEEKDAY($R$39,1)-($V$2-1))-IF((WEEKDAY($R$39,1)-($V$2-1))<=0,7,0)+(ROW(V41)-ROW($R$41))*7+(COLUMN(V41)-COLUMN($R$41)+1)) -> 43070 | W41: =IF(MONTH($R$39)<>MONTH($R$39-(WEEKDAY($R$39,1)-($V$2-1))-IF((WEEKDAY($R$39,1)-($V$2-1))<=0,7,0)+(ROW(W41)-ROW($R$41))*7+(COLUMN(W41)-COLUMN($R$41)+1)),"",$R$39-(WEEKDAY($R$39,1)-($V$2-1))-IF((WEEKDAY($R$39,1)-($V$2-1))<=0,7,0)+(ROW(W41)-ROW($R$41))*7+(COLUMN(W41)-COLUMN($R$41)+1)) -> 43071 | X41: =IF(MONTH($R$39)<>MONTH($R$39-(WEEKDAY($R$39,1)-($V$2-1))-IF((WEEKDAY($R$39,1)-($V$2-1))<=0,7,0)+(ROW(X41)-ROW($R$41))*7+(COLUMN(X41)-COLUMN($R$41)+1)),"",$R$39-(WEEKDAY($R$39,1)-($V$2-1))-IF((WEEKDAY($R$39,1)-($V$2-1))<=0,7,0)+(ROW(X41)-ROW($R$41))*7+(COLUMN(X41)-COLUMN($R$41)+1)) -> 43072
B42: =IF(MONTH($B$39)<>MONTH($B$39-(WEEKDAY($B$39,1)-($V$2-1))-IF((WEEKDAY($B$39,1)-($V$2-1))<=0,7,0)+(ROW(B42)-ROW($B$41))*7+(COLUMN(B42)-COLUMN($B$41)+1)),"",$B$39-(WEEKDAY($B$39,1)-($V$2-1))-IF((WEEKDAY($B$39,1)-($V$2-1))<=0,7,0)+(ROW(B42)-ROW($B$41))*7+(COLUMN(B42)-COLUMN($B$41)+1)) -> 43010 | C42: =IF(MONTH($B$39)<>MONTH($B$39-(WEEKDAY($B$39,1)-($V$2-1))-IF((WEEKDAY($B$39,1)-($V$2-1))<=0,7,0)+(ROW(C42)-ROW($B$41))*7+(COLUMN(C42)-COLUMN($B$41)+1)),"",$B$39-(WEEKDAY($B$39,1)-($V$2-1))-IF((WEEKDAY($B$39,1)-($V$2-1))<=0,7,0)+(ROW(C42)-ROW($B$41))*7+(COLUMN(C42)-COLUMN($B$41)+1)) -> 43011 | D42: =IF(MONTH($B$39)<>MONTH($B$39-(WEEKDAY($B$39,1)-($V$2-1))-IF((WEEKDAY($B$39,1)-($V$2-1))<=0,7,0)+(ROW(D42)-ROW($B$41))*7+(COLUMN(D42)-COLUMN($B$41)+1)),"",$B$39-(WEEKDAY($B$39,1)-($V$2-1))-IF((WEEKDAY($B$39,1)-($V$2-1))<=0,7,0)+(ROW(D42)-ROW($B$41))*7+(COLUMN(D42)-COLUMN($B$41)+1)) -> 43012 | E42: =IF(MONTH($B$39)<>MONTH($B$39-(WEEKDAY($B$39,1)-($V$2-1))-IF((WEEKDAY($B$39,1)-($V$2-1))<=0,7,0)+(ROW(E42)-ROW($B$41))*7+(COLUMN(E42)-COLUMN($B$41)+1)),"",$B$39-(WEEKDAY($B$39,1)-($V$2-1))-IF((WEEKDAY($B$39,1)-($V$2-1))<=0,7,0)+(ROW(E42)-ROW($B$41))*7+(COLUMN(E42)-COLUMN($B$41)+1)) -> 43013 | F42: =IF(MONTH($B$39)<>MONTH($B$39-(WEEKDAY($B$39,1)-($V$2-1))-IF((WEEKDAY($B$39,1)-($V$2-1))<=0,7,0)+(ROW(F42)-ROW($B$41))*7+(COLUMN(F42)-COLUMN($B$41)+1)),"",$B$39-(WEEKDAY($B$39,1)-($V$2-1))-IF((WEEKDAY($B$39,1)-($V$2-1))<=0,7,0)+(ROW(F42)-ROW($B$41))*7+(COLUMN(F42)-COLUMN($B$41)+1)) -> 43014 | G42: =IF(MONTH($B$39)<>MONTH($B$39-(WEEKDAY($B$39,1)-($V$2-1))-IF((WEEKDAY($B$39,1)-($V$2-1))<=0,7,0)+(ROW(G42)-ROW($B$41))*7+(COLUMN(G42)-COLUMN($B$41)+1)),"",$B$39-(WEEKDAY($B$39,1)-($V$2-1))-IF((WEEKDAY($B$39,1)-($V$2-1))<=0,7,0)+(ROW(G42)-ROW($B$41))*7+(COLUMN(G42)-COLUMN($B$41)+1)) -> 43015 | H42: =IF(MONTH($B$39)<>MONTH($B$39-(WEEKDAY($B$39,1)-($V$2-1))-IF((WEEKDAY($B$39,1)-($V$2-1))<=0,7,0)+(ROW(H42)-ROW($B$41))*7+(COLUMN(H42)-COLUMN($B$41)+1)),"",$B$39-(WEEKDAY($B$39,1)-($V$2-1))-IF((WEEKDAY($B$39,1)-($V$2-1))<=0,7,0)+(ROW(H42)-ROW($B$41))*7+(COLUMN(H42)-COLUMN($B$41)+1)) -> 43016 | J42: =IF(MONTH($J$39)<>MONTH($J$39-(WEEKDAY($J$39,1)-($V$2-1))-IF((WEEKDAY($J$39,1)-($V$2-1))<=0,7,0)+(ROW(J42)-ROW($J$41))*7+(COLUMN(J42)-COLUMN($J$41)+1)),"",$J$39-(WEEKDAY($J$39,1)-($V$2-1))-IF((WEEKDAY($J$39,1)-($V$2-1))<=0,7,0)+(ROW(J42)-ROW($J$41))*7+(COLUMN(J42)-COLUMN($J$41)+1)) -> 43045 | K42: =IF(MONTH($J$39)<>MONTH($J$39-(WEEKDAY($J$39,1)-($V$2-1))-IF((WEEKDAY($J$39,1)-($V$2-1))<=0,7,0)+(ROW(K42)-ROW($J$41))*7+(COLUMN(K42)-COLUMN($J$41)+1)),"",$J$39-(WEEKDAY($J$39,1)-($V$2-1))-IF((WEEKDAY($J$39,1)-($V$2-1))<=0,7,0)+(ROW(K42)-ROW($J$41))*7+(COLUMN(K42)-COLUMN($J$41)+1)) -> 43046 | L42: =IF(MONTH($J$39)<>MONTH($J$39-(WEEKDAY($J$39,1)-($V$2-1))-IF((WEEKDAY($J$39,1)-($V$2-1))<=0,7,0)+(ROW(L42)-ROW($J$41))*7+(COLUMN(L42)-COLUMN($J$41)+1)),"",$J$39-(WEEKDAY($J$39,1)-($V$2-1))-IF((WEEKDAY($J$39,1)-($V$2-1))<=0,7,0)+(ROW(L42)-ROW($J$41))*7+(COLUMN(L42)-COLUMN($J$41)+1)) -> 43047 | M42: =IF(MONTH($J$39)<>MONTH($J$39-(WEEKDAY($J$39,1)-($V$2-1))-IF((WEEKDAY($J$39,1)-($V$2-1))<=0,7,0)+(ROW(M42)-ROW($J$41))*7+(COLUMN(M42)-COLUMN($J$41)+1)),"",$J$39-(WEEKDAY($J$39,1)-($V$2-1))-IF((WEEKDAY($J$39,1)-($V$2-1))<=0,7,0)+(ROW(M42)-ROW($J$41))*7+(COLUMN(M42)-COLUMN($J$41)+1)) -> 43048 | N42: =IF(MONTH($J$39)<>MONTH($J$39-(WEEKDAY($J$39,1)-($V$2-1))-IF((WEEKDAY($J$39,1)-($V$2-1))<=0,7,0)+(ROW(N42)-ROW($J$41))*7+(COLUMN(N42)-COLUMN($J$41)+1)),"",$J$39-(WEEKDAY($J$39,1)-($V$2-1))-IF((WEEKDAY($J$39,1)-($V$2-1))<=0,7,0)+(ROW(N42)-ROW($J$41))*7+(COLUMN(N42)-COLUMN($J$41)+1)) -> 43049 | O42: =IF(MONTH($J$39)<>MONTH($J$39-(WEEKDAY($J$39,1)-($V$2-1))-IF((WEEKDAY($J$39,1)-($V$2-1))<=0,7,0)+(ROW(O42)-ROW($J$41))*7+(COLUMN(O42)-COLUMN($J$41)+1)),"",$J$39-(WEEKDAY($J$39,1)-($V$2-1))-IF((WEEKDAY($J$39,1)-($V$2-1))<=0,7,0)+(ROW(O42)-ROW($J$41))*7+(COLUMN(O42)-COLUMN($J$41)+1)) -> 43050 | P42: =IF(MONTH($J$39)<>MONTH($J$39-(WEEKDAY($J$39,1)-($V$2-1))-IF((WEEKDAY($J$39,1)-($V$2-1))<=0,7,0)+(ROW(P42)-ROW($J$41))*7+(COLUMN(P42)-COLUMN($J$41)+1)),"",$J$39-(WEEKDAY($J$39,1)-($V$2-1))-IF((WEEKDAY($J$39,1)-($V$2-1))<=0,7,0)+(ROW(P42)-ROW($J$41))*7+(COLUMN(P42)-COLUMN($J$41)+1)) -> 43051 | R42: =IF(MONTH($R$39)<>MONTH($R$39-(WEEKDAY($R$39,1)-($V$2-1))-IF((WEEKDAY($R$39,1)-($V$2-1))<=0,7,0)+(ROW(R42)-ROW($R$41))*7+(COLUMN(R42)-COLUMN($R$41)+1)),"",$R$39-(WEEKDAY($R$39,1)-($V$2-1))-IF((WEEKDAY($R$39,1)-($V$2-1))<=0,7,0)+(ROW(R42)-ROW($R$41))*7+(COLUMN(R42)-COLUMN($R$41)+1)) -> 43073 | S42: =IF(MONTH($R$39)<>MONTH($R$39-(WEEKDAY($R$39,1)-($V$2-1))-IF((WEEKDAY($R$39,1)-($V$2-1))<=0,7,0)+(ROW(S42)-ROW($R$41))*7+(COLUMN(S42)-COLUMN($R$41)+1)),"",$R$39-(WEEKDAY($R$39,1)-($V$2-1))-IF((WEEKDAY($R$39,1)-($V$2-1))<=0,7,0)+(ROW(S42)-ROW($R$41))*7+(COLUMN(S42)-COLUMN($R$41)+1)) -> 43074 | T42: =IF(MONTH($R$39)<>MONTH($R$39-(WEEKDAY($R$39,1)-($V$2-1))-IF((WEEKDAY($R$39,1)-($V$2-1))<=0,7,0)+(ROW(T42)-ROW($R$41))*7+(COLUMN(T42)-COLUMN($R$41)+1)),"",$R$39-(WEEKDAY($R$39,1)-($V$2-1))-IF((WEEKDAY($R$39,1)-($V$2-1))<=0,7,0)+(ROW(T42)-ROW($R$41))*7+(COLUMN(T42)-COLUMN($R$41)+1)) -> 43075 | U42: =IF(MONTH($R$39)<>MONTH($R$39-(WEEKDAY($R$39,1)-($V$2-1))-IF((WEEKDAY($R$39,1)-($V$2-1))<=0,7,0)+(ROW(U42)-ROW($R$41))*7+(COLUMN(U42)-COLUMN($R$41)+1)),"",$R$39-(WEEKDAY($R$39,1)-($V$2-1))-IF((WEEKDAY($R$39,1)-($V$2-1))<=0,7,0)+(ROW(U42)-ROW($R$41))*7+(COLUMN(U42)-COLUMN($R$41)+1)) -> 43076 | V42: =IF(MONTH($R$39)<>MONTH($R$39-(WEEKDAY($R$39,1)-($V$2-1))-IF((WEEKDAY($R$39,1)-($V$2-1))<=0,7,0)+(ROW(V42)-ROW($R$41))*7+(COLUMN(V42)-COLUMN($R$41)+1)),"",$R$39-(WEEKDAY($R$39,1)-($V$2-1))-IF((WEEKDAY($R$39,1)-($V$2-1))<=0,7,0)+(ROW(V42)-ROW($R$41))*7+(COLUMN(V42)-COLUMN($R$41)+1)) -> 43077 | W42: =IF(MONTH($R$39)<>MONTH($R$39-(WEEKDAY($R$39,1)-($V$2-1))-IF((WEEKDAY($R$39,1)-($V$2-1))<=0,7,0)+(ROW(W42)-ROW($R$41))*7+(COLUMN(W42)-COLUMN($R$41)+1)),"",$R$39-(WEEKDAY($R$39,1)-($V$2-1))-IF((WEEKDAY($R$39,1)-($V$2-1))<=0,7,0)+(ROW(W42)-ROW($R$41))*7+(COLUMN(W42)-COLUMN($R$41)+1)) -> 43078 | X42: =IF(MONTH($R$39)<>MONTH($R$39-(WEEKDAY($R$39,1)-($V$2-1))-IF((WEEKDAY($R$39,1)-($V$2-1))<=0,7,0)+(ROW(X42)-ROW($R$41))*7+(COLUMN(X42)-COLUMN($R$41)+1)),"",$R$39-(WEEKDAY($R$39,1)-($V$2-1))-IF((WEEKDAY($R$39,1)-($V$2-1))<=0,7,0)+(ROW(X42)-ROW($R$41))*7+(COLUMN(X42)-COLUMN($R$41)+1)) -> 43079
B43: =IF(MONTH($B$39)<>MONTH($B$39-(WEEKDAY($B$39,1)-($V$2-1))-IF((WEEKDAY($B$39,1)-($V$2-1))<=0,7,0)+(ROW(B43)-ROW($B$41))*7+(COLUMN(B43)-COLUMN($B$41)+1)),"",$B$39-(WEEKDAY($B$39,1)-($V$2-1))-IF((WEEKDAY($B$39,1)-($V$2-1))<=0,7,0)+(ROW(B43)-ROW($B$41))*7+(COLUMN(B43)-COLUMN($B$41)+1)) -> 43017 | C43: =IF(MONTH($B$39)<>MONTH($B$39-(WEEKDAY($B$39,1)-($V$2-1))-IF((WEEKDAY($B$39,1)-($V$2-1))<=0,7,0)+(ROW(C43)-ROW($B$41))*7+(COLUMN(C43)-COLUMN($B$41)+1)),"",$B$39-(WEEKDAY($B$39,1)-($V$2-1))-IF((WEEKDAY($B$39,1)-($V$2-1))<=0,7,0)+(ROW(C43)-ROW($B$41))*7+(COLUMN(C43)-COLUMN($B$41)+1)) -> 43018 | D43: =IF(MONTH($B$39)<>MONTH($B$39-(WEEKDAY($B$39,1)-($V$2-1))-IF((WEEKDAY($B$39,1)-($V$2-1))<=0,7,0)+(ROW(D43)-ROW($B$41))*7+(COLUMN(D43)-COLUMN($B$41)+1)),"",$B$39-(WEEKDAY($B$39,1)-($V$2-1))-IF((WEEKDAY($B$39,1)-($V$2-1))<=0,7,0)+(ROW(D43)-ROW($B$41))*7+(COLUMN(D43)-COLUMN($B$41)+1)) -> 43019 | E43: =IF(MONTH($B$39)<>MONTH($B$39-(WEEKDAY($B$39,1)-($V$2-1))-IF((WEEKDAY($B$39,1)-($V$2-1))<=0,7,0)+(ROW(E43)-ROW($B$41))*7+(COLUMN(E43)-COLUMN($B$41)+1)),"",$B$39-(WEEKDAY($B$39,1)-($V$2-1))-IF((WEEKDAY($B$39,1)-($V$2-1))<=0,7,0)+(ROW(E43)-ROW($B$41))*7+(COLUMN(E43)-COLUMN($B$41)+1)) -> 43020 | F43: =IF(MONTH($B$39)<>MONTH($B$39-(WEEKDAY($B$39,1)-($V$2-1))-IF((WEEKDAY($B$39,1)-($V$2-1))<=0,7,0)+(ROW(F43)-ROW($B$41))*7+(COLUMN(F43)-COLUMN($B$41)+1)),"",$B$39-(WEEKDAY($B$39,1)-($V$2-1))-IF((WEEKDAY($B$39,1)-($V$2-1))<=0,7,0)+(ROW(F43)-ROW($B$41))*7+(COLUMN(F43)-COLUMN($B$41)+1)) -> 43021 | G43: =IF(MONTH($B$39)<>MONTH($B$39-(WEEKDAY($B$39,1)-($V$2-1))-IF((WEEKDAY($B$39,1)-($V$2-1))<=0,7,0)+(ROW(G43)-ROW($B$41))*7+(COLUMN(G43)-COLUMN($B$41)+1)),"",$B$39-(WEEKDAY($B$39,1)-($V$2-1))-IF((WEEKDAY($B$39,1)-($V$2-1))<=0,7,0)+(ROW(G43)-ROW($B$41))*7+(COLUMN(G43)-COLUMN($B$41)+1)) -> 43022 | H43: =IF(MONTH($B$39)<>MONTH($B$39-(WEEKDAY($B$39,1)-($V$2-1))-IF((WEEKDAY($B$39,1)-($V$2-1))<=0,7,0)+(ROW(H43)-ROW($B$41))*7+(COLUMN(H43)-COLUMN($B$41)+1)),"",$B$39-(WEEKDAY($B$39,1)-($V$2-1))-IF((WEEKDAY($B$39,1)-($V$2-1))<=0,7,0)+(ROW(H43)-ROW($B$41))*7+(COLUMN(H43)-COLUMN($B$41)+1)) -> 43023 | J43: =IF(MONTH($J$39)<>MONTH($J$39-(WEEKDAY($J$39,1)-($V$2-1))-IF((WEEKDAY($J$39,1)-($V$2-1))<=0,7,0)+(ROW(J43)-ROW($J$41))*7+(COLUMN(J43)-COLUMN($J$41)+1)),"",$J$39-(WEEKDAY($J$39,1)-($V$2-1))-IF((WEEKDAY($J$39,1)-($V$2-1))<=0,7,0)+(ROW(J43)-ROW($J$41))*7+(COLUMN(J43)-COLUMN($J$41)+1)) -> 43052 | K43: =IF(MONTH($J$39)<>MONTH($J$39-(WEEKDAY($J$39,1)-($V$2-1))-IF((WEEKDAY($J$39,1)-($V$2-1))<=0,7,0)+(ROW(K43)-ROW($J$41))*7+(COLUMN(K43)-COLUMN($J$41)+1)),"",$J$39-(WEEKDAY($J$39,1)-($V$2-1))-IF((WEEKDAY($J$39,1)-($V$2-1))<=0,7,0)+(ROW(K43)-ROW($J$41))*7+(COLUMN(K43)-COLUMN($J$41)+1)) -> 43053 | L43: =IF(MONTH($J$39)<>MONTH($J$39-(WEEKDAY($J$39,1)-($V$2-1))-IF((WEEKDAY($J$39,1)-($V$2-1))<=0,7,0)+(ROW(L43)-ROW($J$41))*7+(COLUMN(L43)-COLUMN($J$41)+1)),"",$J$39-(WEEKDAY($J$39,1)-($V$2-1))-IF((WEEKDAY($J$39,1)-($V$2-1))<=0,7,0)+(ROW(L43)-ROW($J$41))*7+(COLUMN(L43)-COLUMN($J$41)+1)) -> 43054 | M43: =IF(MONTH($J$39)<>MONTH($J$39-(WEEKDAY($J$39,1)-($V$2-1))-IF((WEEKDAY($J$39,1)-($V$2-1))<=0,7,0)+(ROW(M43)-ROW($J$41))*7+(COLUMN(M43)-COLUMN($J$41)+1)),"",$J$39-(WEEKDAY($J$39,1)-($V$2-1))-IF((WEEKDAY($J$39,1)-($V$2-1))<=0,7,0)+(ROW(M43)-ROW($J$41))*7+(COLUMN(M43)-COLUMN($J$41)+1)) -> 43055 | N43: =IF(MONTH($J$39)<>MONTH($J$39-(WEEKDAY($J$39,1)-($V$2-1))-IF((WEEKDAY($J$39,1)-($V$2-1))<=0,7,0)+(ROW(N43)-ROW($J$41))*7+(COLUMN(N43)-COLUMN($J$41)+1)),"",$J$39-(WEEKDAY($J$39,1)-($V$2-1))-IF((WEEKDAY($J$39,1)-($V$2-1))<=0,7,0)+(ROW(N43)-ROW($J$41))*7+(COLUMN(N43)-COLUMN($J$41)+1)) -> 43056 | O43: =IF(MONTH($J$39)<>MONTH($J$39-(WEEKDAY($J$39,1)-($V$2-1))-IF((WEEKDAY($J$39,1)-($V$2-1))<=0,7,0)+(ROW(O43)-ROW($J$41))*7+(COLUMN(O43)-COLUMN($J$41)+1)),"",$J$39-(WEEKDAY($J$39,1)-($V$2-1))-IF((WEEKDAY($J$39,1)-($V$2-1))<=0,7,0)+(ROW(O43)-ROW($J$41))*7+(COLUMN(O43)-COLUMN($J$41)+1)) -> 43057 | P43: =IF(MONTH($J$39)<>MONTH($J$39-(WEEKDAY($J$39,1)-($V$2-1))-IF((WEEKDAY($J$39,1)-($V$2-1))<=0,7,0)+(ROW(P43)-ROW($J$41))*7+(COLUMN(P43)-COLUMN($J$41)+1)),"",$J$39-(WEEKDAY($J$39,1)-($V$2-1))-IF((WEEKDAY($J$39,1)-($V$2-1))<=0,7,0)+(ROW(P43)-ROW($J$41))*7+(COLUMN(P43)-COLUMN($J$41)+1)) -> 43058 | R43: =IF(MONTH($R$39)<>MONTH($R$39-(WEEKDAY($R$39,1)-($V$2-1))-IF((WEEKDAY($R$39,1)-($V$2-1))<=0,7,0)+(ROW(R43)-ROW($R$41))*7+(COLUMN(R43)-COLUMN($R$41)+1)),"",$R$39-(WEEKDAY($R$39,1)-($V$2-1))-IF((WEEKDAY($R$39,1)-($V$2-1))<=0,7,0)+(ROW(R43)-ROW($R$41))*7+(COLUMN(R43)-COLUMN($R$41)+1)) -> 43080 | S43: =IF(MONTH($R$39)<>MONTH($R$39-(WEEKDAY($R$39,1)-($V$2-1))-IF((WEEKDAY($R$39,1)-($V$2-1))<=0,7,0)+(ROW(S43)-ROW($R$41))*7+(COLUMN(S43)-COLUMN($R$41)+1)),"",$R$39-(WEEKDAY($R$39,1)-($V$2-1))-IF((WEEKDAY($R$39,1)-($V$2-1))<=0,7,0)+(ROW(S43)-ROW($R$41))*7+(COLUMN(S43)-COLUMN($R$41)+1)) -> 43081 | T43: =IF(MONTH($R$39)<>MONTH($R$39-(WEEKDAY($R$39,1)-($V$2-1))-IF((WEEKDAY($R$39,1)-($V$2-1))<=0,7,0)+(ROW(T43)-ROW($R$41))*7+(COLUMN(T43)-COLUMN($R$41)+1)),"",$R$39-(WEEKDAY($R$39,1)-($V$2-1))-IF((WEEKDAY($R$39,1)-($V$2-1))<=0,7,0)+(ROW(T43)-ROW($R$41))*7+(COLUMN(T43)-COLUMN($R$41)+1)) -> 43082 | U43: =IF(MONTH($R$39)<>MONTH($R$39-(WEEKDAY($R$39,1)-($V$2-1))-IF((WEEKDAY($R$39,1)-($V$2-1))<=0,7,0)+(ROW(U43)-ROW($R$41))*7+(COLUMN(U43)-COLUMN($R$41)+1)),"",$R$39-(WEEKDAY($R$39,1)-($V$2-1))-IF((WEEKDAY($R$39,1)-($V$2-1))<=0,7,0)+(ROW(U43)-ROW($R$41))*7+(COLUMN(U43)-COLUMN($R$41)+1)) -> 43083 | V43: =IF(MONTH($R$39)<>MONTH($R$39-(WEEKDAY($R$39,1)-($V$2-1))-IF((WEEKDAY($R$39,1)-($V$2-1))<=0,7,0)+(ROW(V43)-ROW($R$41))*7+(COLUMN(V43)-COLUMN($R$41)+1)),"",$R$39-(WEEKDAY($R$39,1)-($V$2-1))-IF((WEEKDAY($R$39,1)-($V$2-1))<=0,7,0)+(ROW(V43)-ROW($R$41))*7+(COLUMN(V43)-COLUMN($R$41)+1)) -> 43084 | W43: =IF(MONTH($R$39)<>MONTH($R$39-(WEEKDAY($R$39,1)-($V$2-1))-IF((WEEKDAY($R$39,1)-($V$2-1))<=0,7,0)+(ROW(W43)-ROW($R$41))*7+(COLUMN(W43)-COLUMN($R$41)+1)),"",$R$39-(WEEKDAY($R$39,1)-($V$2-1))-IF((WEEKDAY($R$39,1)-($V$2-1))<=0,7,0)+(ROW(W43)-ROW($R$41))*7+(COLUMN(W43)-COLUMN($R$41)+1)) -> 43085 | X43: =IF(MONTH($R$39)<>MONTH($R$39-(WEEKDAY($R$39,1)-($V$2-1))-IF((WEEKDAY($R$39,1)-($V$2-1))<=0,7,0)+(ROW(X43)-ROW($R$41))*7+(COLUMN(X43)-COLUMN($R$41)+1)),"",$R$39-(WEEKDAY($R$39,1)-($V$2-1))-IF((WEEKDAY($R$39,1)-($V$2-1))<=0,7,0)+(ROW(X43)-ROW($R$41))*7+(COLUMN(X43)-COLUMN($R$41)+1)) -> 43086
B44: =IF(MONTH($B$39)<>MONTH($B$39-(WEEKDAY($B$39,1)-($V$2-1))-IF((WEEKDAY($B$39,1)-($V$2-1))<=0,7,0)+(ROW(B44)-ROW($B$41))*7+(COLUMN(B44)-COLUMN($B$41)+1)),"",$B$39-(WEEKDAY($B$39,1)-($V$2-1))-IF((WEEKDAY($B$39,1)-($V$2-1))<=0,7,0)+(ROW(B44)-ROW($B$41))*7+(COLUMN(B44)-COLUMN($B$41)+1)) -> 43024 | C44: =IF(MONTH($B$39)<>MONTH($B$39-(WEEKDAY($B$39,1)-($V$2-1))-IF((WEEKDAY($B$39,1)-($V$2-1))<=0,7,0)+(ROW(C44)-ROW($B$41))*7+(COLUMN(C44)-COLUMN($B$41)+1)),"",$B$39-(WEEKDAY($B$39,1)-($V$2-1))-IF((WEEKDAY($B$39,1)-($V$2-1))<=0,7,0)+(ROW(C44)-ROW($B$41))*7+(COLUMN(C44)-COLUMN($B$41)+1)) -> 43025 | D44: =IF(MONTH($B$39)<>MONTH($B$39-(WEEKDAY($B$39,1)-($V$2-1))-IF((WEEKDAY($B$39,1)-($V$2-1))<=0,7,0)+(ROW(D44)-ROW($B$41))*7+(COLUMN(D44)-COLUMN($B$41)+1)),"",$B$39-(WEEKDAY($B$39,1)-($V$2-1))-IF((WEEKDAY($B$39,1)-($V$2-1))<=0,7,0)+(ROW(D44)-ROW($B$41))*7+(COLUMN(D44)-COLUMN($B$41)+1)) -> 43026 | E44: =IF(MONTH($B$39)<>MONTH($B$39-(WEEKDAY($B$39,1)-($V$2-1))-IF((WEEKDAY($B$39,1)-($V$2-1))<=0,7,0)+(ROW(E44)-ROW($B$41))*7+(COLUMN(E44)-COLUMN($B$41)+1)),"",$B$39-(WEEKDAY($B$39,1)-($V$2-1))-IF((WEEKDAY($B$39,1)-($V$2-1))<=0,7,0)+(ROW(E44)-ROW($B$41))*7+(COLUMN(E44)-COLUMN($B$41)+1)) -> 43027 | F44: =IF(MONTH($B$39)<>MONTH($B$39-(WEEKDAY($B$39,1)-($V$2-1))-IF((WEEKDAY($B$39,1)-($V$2-1))<=0,7,0)+(ROW(F44)-ROW($B$41))*7+(COLUMN(F44)-COLUMN($B$41)+1)),"",$B$39-(WEEKDAY($B$39,1)-($V$2-1))-IF((WEEKDAY($B$39,1)-($V$2-1))<=0,7,0)+(ROW(F44)-ROW($B$41))*7+(COLUMN(F44)-COLUMN($B$41)+1)) -> 43028 | G44: =IF(MONTH($B$39)<>MONTH($B$39-(WEEKDAY($B$39,1)-($V$2-1))-IF((WEEKDAY($B$39,1)-($V$2-1))<=0,7,0)+(ROW(G44)-ROW($B$41))*7+(COLUMN(G44)-COLUMN($B$41)+1)),"",$B$39-(WEEKDAY($B$39,1)-($V$2-1))-IF((WEEKDAY($B$39,1)-($V$2-1))<=0,7,0)+(ROW(G44)-ROW($B$41))*7+(COLUMN(G44)-COLUMN($B$41)+1)) -> 43029 | H44: =IF(MONTH($B$39)<>MONTH($B$39-(WEEKDAY($B$39,1)-($V$2-1))-IF((WEEKDAY($B$39,1)-($V$2-1))<=0,7,0)+(ROW(H44)-ROW($B$41))*7+(COLUMN(H44)-COLUMN($B$41)+1)),"",$B$39-(WEEKDAY($B$39,1)-($V$2-1))-IF((WEEKDAY($B$39,1)-($V$2-1))<=0,7,0)+(ROW(H44)-ROW($B$41))*7+(COLUMN(H44)-COLUMN($B$41)+1)) -> 43030 | J44: =IF(MONTH($J$39)<>MONTH($J$39-(WEEKDAY($J$39,1)-($V$2-1))-IF((WEEKDAY($J$39,1)-($V$2-1))<=0,7,0)+(ROW(J44)-ROW($J$41))*7+(COLUMN(J44)-COLUMN($J$41)+1)),"",$J$39-(WEEKDAY($J$39,1)-($V$2-1))-IF((WEEKDAY($J$39,1)-($V$2-1))<=0,7,0)+(ROW(J44)-ROW($J$41))*7+(COLUMN(J44)-COLUMN($J$41)+1)) -> 43059 | K44: =IF(MONTH($J$39)<>MONTH($J$39-(WEEKDAY($J$39,1)-($V$2-1))-IF((WEEKDAY($J$39,1)-($V$2-1))<=0,7,0)+(ROW(K44)-ROW($J$41))*7+(COLUMN(K44)-COLUMN($J$41)+1)),"",$J$39-(WEEKDAY($J$39,1)-($V$2-1))-IF((WEEKDAY($J$39,1)-($V$2-1))<=0,7,0)+(ROW(K44)-ROW($J$41))*7+(COLUMN(K44)-COLUMN($J$41)+1)) -> 43060 | L44: =IF(MONTH($J$39)<>MONTH($J$39-(WEEKDAY($J$39,1)-($V$2-1))-IF((WEEKDAY($J$39,1)-($V$2-1))<=0,7,0)+(ROW(L44)-ROW($J$41))*7+(COLUMN(L44)-COLUMN($J$41)+1)),"",$J$39-(WEEKDAY($J$39,1)-($V$2-1))-IF((WEEKDAY($J$39,1)-($V$2-1))<=0,7,0)+(ROW(L44)-ROW($J$41))*7+(COLUMN(L44)-COLUMN($J$41)+1)) -> 43061 | M44: =IF(MONTH($J$39)<>MONTH($J$39-(WEEKDAY($J$39,1)-($V$2-1))-IF((WEEKDAY($J$39,1)-($V$2-1))<=0,7,0)+(ROW(M44)-ROW($J$41))*7+(COLUMN(M44)-COLUMN($J$41)+1)),"",$J$39-(WEEKDAY($J$39,1)-($V$2-1))-IF((WEEKDAY($J$39,1)-($V$2-1))<=0,7,0)+(ROW(M44)-ROW($J$41))*7+(COLUMN(M44)-COLUMN($J$41)+1)) -> 43062 | N44: =IF(MONTH($J$39)<>MONTH($J$39-(WEEKDAY($J$39,1)-($V$2-1))-IF((WEEKDAY($J$39,1)-($V$2-1))<=0,7,0)+(ROW(N44)-ROW($J$41))*7+(COLUMN(N44)-COLUMN($J$41)+1)),"",$J$39-(WEEKDAY($J$39,1)-($V$2-1))-IF((WEEKDAY($J$39,1)-($V$2-1))<=0,7,0)+(ROW(N44)-ROW($J$41))*7+(COLUMN(N44)-COLUMN($J$41)+1)) -> 43063 | O44: =IF(MONTH($J$39)<>MONTH($J$39-(WEEKDAY($J$39,1)-($V$2-1))-IF((WEEKDAY($J$39,1)-($V$2-1))<=0,7,0)+(ROW(O44)-ROW($J$41))*7+(COLUMN(O44)-COLUMN($J$41)+1)),"",$J$39-(WEEKDAY($J$39,1)-($V$2-1))-IF((WEEKDAY($J$39,1)-($V$2-1))<=0,7,0)+(ROW(O44)-ROW($J$41))*7+(COLUMN(O44)-COLUMN($J$41)+1)) -> 43064 | P44: =IF(MONTH($J$39)<>MONTH($J$39-(WEEKDAY($J$39,1)-($V$2-1))-IF((WEEKDAY($J$39,1)-($V$2-1))<=0,7,0)+(ROW(P44)-ROW($J$41))*7+(COLUMN(P44)-COLUMN($J$41)+1)),"",$J$39-(WEEKDAY($J$39,1)-($V$2-1))-IF((WEEKDAY($J$39,1)-($V$2-1))<=0,7,0)+(ROW(P44)-ROW($J$41))*7+(COLUMN(P44)-COLUMN($J$41)+1)) -> 43065 | R44: =IF(MONTH($R$39)<>MONTH($R$39-(WEEKDAY($R$39,1)-($V$2-1))-IF((WEEKDAY($R$39,1)-($V$2-1))<=0,7,0)+(ROW(R44)-ROW($R$41))*7+(COLUMN(R44)-COLUMN($R$41)+1)),"",$R$39-(WEEKDAY($R$39,1)-($V$2-1))-IF((WEEKDAY($R$39,1)-($V$2-1))<=0,7,0)+(ROW(R44)-ROW($R$41))*7+(COLUMN(R44)-COLUMN($R$41)+1)) -> 43087 | S44: =IF(MONTH($R$39)<>MONTH($R$39-(WEEKDAY($R$39,1)-($V$2-1))-IF((WEEKDAY($R$39,1)-($V$2-1))<=0,7,0)+(ROW(S44)-ROW($R$41))*7+(COLUMN(S44)-COLUMN($R$41)+1)),"",$R$39-(WEEKDAY($R$39,1)-($V$2-1))-IF((WEEKDAY($R$39,1)-($V$2-1))<=0,7,0)+(ROW(S44)-ROW($R$41))*7+(COLUMN(S44)-COLUMN($R$41)+1)) -> 43088 | T44: =IF(MONTH($R$39)<>MONTH($R$39-(WEEKDAY($R$39,1)-($V$2-1))-IF((WEEKDAY($R$39,1)-($V$2-1))<=0,7,0)+(ROW(T44)-ROW($R$41))*7+(COLUMN(T44)-COLUMN($R$41)+1)),"",$R$39-(WEEKDAY($R$39,1)-($V$2-1))-IF((WEEKDAY($R$39,1)-($V$2-1))<=0,7,0)+(ROW(T44)-ROW($R$41))*7+(COLUMN(T44)-COLUMN($R$41)+1)) -> 43089 | U44: =IF(MONTH($R$39)<>MONTH($R$39-(WEEKDAY($R$39,1)-($V$2-1))-IF((WEEKDAY($R$39,1)-($V$2-1))<=0,7,0)+(ROW(U44)-ROW($R$41))*7+(COLUMN(U44)-COLUMN($R$41)+1)),"",$R$39-(WEEKDAY($R$39,1)-($V$2-1))-IF((WEEKDAY($R$39,1)-($V$2-1))<=0,7,0)+(ROW(U44)-ROW($R$41))*7+(COLUMN(U44)-COLUMN($R$41)+1)) -> 43090 | V44: =IF(MONTH($R$39)<>MONTH($R$39-(WEEKDAY($R$39,1)-($V$2-1))-IF((WEEKDAY($R$39,1)-($V$2-1))<=0,7,0)+(ROW(V44)-ROW($R$41))*7+(COLUMN(V44)-COLUMN($R$41)+1)),"",$R$39-(WEEKDAY($R$39,1)-($V$2-1))-IF((WEEKDAY($R$39,1)-($V$2-1))<=0,7,0)+(ROW(V44)-ROW($R$41))*7+(COLUMN(V44)-COLUMN($R$41)+1)) -> 43091 | W44: =IF(MONTH($R$39)<>MONTH($R$39-(WEEKDAY($R$39,1)-($V$2-1))-IF((WEEKDAY($R$39,1)-($V$2-1))<=0,7,0)+(ROW(W44)-ROW($R$41))*7+(COLUMN(W44)-COLUMN($R$41)+1)),"",$R$39-(WEEKDAY($R$39,1)-($V$2-1))-IF((WEEKDAY($R$39,1)-($V$2-1))<=0,7,0)+(ROW(W44)-ROW($R$41))*7+(COLUMN(W44)-COLUMN($R$41)+1)) -> 43092 | X44: =IF(MONTH($R$39)<>MONTH($R$39-(WEEKDAY($R$39,1)-($V$2-1))-IF((WEEKDAY($R$39,1)-($V$2-1))<=0,7,0)+(ROW(X44)-ROW($R$41))*7+(COLUMN(X44)-COLUMN($R$41)+1)),"",$R$39-(WEEKDAY($R$39,1)-($V$2-1))-IF((WEEKDAY($R$39,1)-($V$2-1))<=0,7,0)+(ROW(X44)-ROW($R$41))*7+(COLUMN(X44)-COLUMN($R$41)+1)) -> 43093
B45: =IF(MONTH($B$39)<>MONTH($B$39-(WEEKDAY($B$39,1)-($V$2-1))-IF((WEEKDAY($B$39,1)-($V$2-1))<=0,7,0)+(ROW(B45)-ROW($B$41))*7+(COLUMN(B45)-COLUMN($B$41)+1)),"",$B$39-(WEEKDAY($B$39,1)-($V$2-1))-IF((WEEKDAY($B$39,1)-($V$2-1))<=0,7,0)+(ROW(B45)-ROW($B$41))*7+(COLUMN(B45)-COLUMN($B$41)+1)) -> 43031 | C45: =IF(MONTH($B$39)<>MONTH($B$39-(WEEKDAY($B$39,1)-($V$2-1))-IF((WEEKDAY($B$39,1)-($V$2-1))<=0,7,0)+(ROW(C45)-ROW($B$41))*7+(COLUMN(C45)-COLUMN($B$41)+1)),"",$B$39-(WEEKDAY($B$39,1)-($V$2-1))-IF((WEEKDAY($B$39,1)-($V$2-1))<=0,7,0)+(ROW(C45)-ROW($B$41))*7+(COLUMN(C45)-COLUMN($B$41)+1)) -> 43032 | D45: =IF(MONTH($B$39)<>MONTH($B$39-(WEEKDAY($B$39,1)-($V$2-1))-IF((WEEKDAY($B$39,1)-($V$2-1))<=0,7,0)+(ROW(D45)-ROW($B$41))*7+(COLUMN(D45)-COLUMN($B$41)+1)),"",$B$39-(WEEKDAY($B$39,1)-($V$2-1))-IF((WEEKDAY($B$39,1)-($V$2-1))<=0,7,0)+(ROW(D45)-ROW($B$41))*7+(COLUMN(D45)-COLUMN($B$41)+1)) -> 43033 | E45: =IF(MONTH($B$39)<>MONTH($B$39-(WEEKDAY($B$39,1)-($V$2-1))-IF((WEEKDAY($B$39,1)-($V$2-1))<=0,7,0)+(ROW(E45)-ROW($B$41))*7+(COLUMN(E45)-COLUMN($B$41)+1)),"",$B$39-(WEEKDAY($B$39,1)-($V$2-1))-IF((WEEKDAY($B$39,1)-($V$2-1))<=0,7,0)+(ROW(E45)-ROW($B$41))*7+(COLUMN(E45)-COLUMN($B$41)+1)) -> 43034 | F45: =IF(MONTH($B$39)<>MONTH($B$39-(WEEKDAY($B$39,1)-($V$2-1))-IF((WEEKDAY($B$39,1)-($V$2-1))<=0,7,0)+(ROW(F45)-ROW($B$41))*7+(COLUMN(F45)-COLUMN($B$41)+1)),"",$B$39-(WEEKDAY($B$39,1)-($V$2-1))-IF((WEEKDAY($B$39,1)-($V$2-1))<=0,7,0)+(ROW(F45)-ROW($B$41))*7+(COLUMN(F45)-COLUMN($B$41)+1)) -> 43035 | G45: =IF(MONTH($B$39)<>MONTH($B$39-(WEEKDAY($B$39,1)-($V$2-1))-IF((WEEKDAY($B$39,1)-($V$2-1))<=0,7,0)+(ROW(G45)-ROW($B$41))*7+(COLUMN(G45)-COLUMN($B$41)+1)),"",$B$39-(WEEKDAY($B$39,1)-($V$2-1))-IF((WEEKDAY($B$39,1)-($V$2-1))<=0,7,0)+(ROW(G45)-ROW($B$41))*7+(COLUMN(G45)-COLUMN($B$41)+1)) -> 43036 | H45: =IF(MONTH($B$39)<>MONTH($B$39-(WEEKDAY($B$39,1)-($V$2-1))-IF((WEEKDAY($B$39,1)-($V$2-1))<=0,7,0)+(ROW(H45)-ROW($B$41))*7+(COLUMN(H45)-COLUMN($B$41)+1)),"",$B$39-(WEEKDAY($B$39,1)-($V$2-1))-IF((WEEKDAY($B$39,1)-($V$2-1))<=0,7,0)+(ROW(H45)-ROW($B$41))*7+(COLUMN(H45)-COLUMN($B$41)+1)) -> 43037 | J45: =IF(MONTH($J$39)<>MONTH($J$39-(WEEKDAY($J$39,1)-($V$2-1))-IF((WEEKDAY($J$39,1)-($V$2-1))<=0,7,0)+(ROW(J45)-ROW($J$41))*7+(COLUMN(J45)-COLUMN($J$41)+1)),"",$J$39-(WEEKDAY($J$39,1)-($V$2-1))-IF((WEEKDAY($J$39,1)-($V$2-1))<=0,7,0)+(ROW(J45)-ROW($J$41))*7+(COLUMN(J45)-COLUMN($J$41)+1)) -> 43066 | K45: =IF(MONTH($J$39)<>MONTH($J$39-(WEEKDAY($J$39,1)-($V$2-1))-IF((WEEKDAY($J$39,1)-($V$2-1))<=0,7,0)+(ROW(K45)-ROW($J$41))*7+(COLUMN(K45)-COLUMN($J$41)+1)),"",$J$39-(WEEKDAY($J$39,1)-($V$2-1))-IF((WEEKDAY($J$39,1)-($V$2-1))<=0,7,0)+(ROW(K45)-ROW($J$41))*7+(COLUMN(K45)-COLUMN($J$41)+1)) -> 43067 | L45: =IF(MONTH($J$39)<>MONTH($J$39-(WEEKDAY($J$39,1)-($V$2-1))-IF((WEEKDAY($J$39,1)-($V$2-1))<=0,7,0)+(ROW(L45)-ROW($J$41))*7+(COLUMN(L45)-COLUMN($J$41)+1)),"",$J$39-(WEEKDAY($J$39,1)-($V$2-1))-IF((WEEKDAY($J$39,1)-($V$2-1))<=0,7,0)+(ROW(L45)-ROW($J$41))*7+(COLUMN(L45)-COLUMN($J$41)+1)) -> 43068 | M45: =IF(MONTH($J$39)<>MONTH($J$39-(WEEKDAY($J$39,1)-($V$2-1))-IF((WEEKDAY($J$39,1)-($V$2-1))<=0,7,0)+(ROW(M45)-ROW($J$41))*7+(COLUMN(M45)-COLUMN($J$41)+1)),"",$J$39-(WEEKDAY($J$39,1)-($V$2-1))-IF((WEEKDAY($J$39,1)-($V$2-1))<=0,7,0)+(ROW(M45)-ROW($J$41))*7+(COLUMN(M45)-COLUMN($J$41)+1)) -> 43069 | N45: =IF(MONTH($J$39)<>MONTH($J$39-(WEEKDAY($J$39,1)-($V$2-1))-IF((WEEKDAY($J$39,1)-($V$2-1))<=0,7,0)+(ROW(N45)-ROW($J$41))*7+(COLUMN(N45)-COLUMN($J$41)+1)),"",$J$39-(WEEKDAY($J$39,1)-($V$2-1))-IF((WEEKDAY($J$39,1)-($V$2-1))<=0,7,0)+(ROW(N45)-ROW($J$41))*7+(COLUMN(N45)-COLUMN($J$41)+1)) | O45: =IF(MONTH($J$39)<>MONTH($J$39-(WEEKDAY($J$39,1)-($V$2-1))-IF((WEEKDAY($J$39,1)-($V$2-1))<=0,7,0)+(ROW(O45)-ROW($J$41))*7+(COLUMN(O45)-COLUMN($J$41)+1)),"",$J$39-(WEEKDAY($J$39,1)-($V$2-1))-IF((WEEKDAY($J$39,1)-($V$2-1))<=0,7,0)+(ROW(O45)-ROW($J$41))*7+(COLUMN(O45)-COLUMN($J$41)+1)) | P45: =IF(MONTH($J$39)<>MONTH($J$39-(WEEKDAY($J$39,1)-($V$2-1))-IF((WEEKDAY($J$39,1)-($V$2-1))<=0,7,0)+(ROW(P45)-ROW($J$41))*7+(COLUMN(P45)-COLUMN($J$41)+1)),"",$J$39-(WEEKDAY($J$39,1)-($V$2-1))-IF((WEEKDAY($J$39,1)-($V$2-1))<=0,7,0)+(ROW(P45)-ROW($J$41))*7+(COLUMN(P45)-COLUMN($J$41)+1)) | R45: =IF(MONTH($R$39)<>MONTH($R$39-(WEEKDAY($R$39,1)-($V$2-1))-IF((WEEKDAY($R$39,1)-($V$2-1))<=0,7,0)+(ROW(R45)-ROW($R$41))*7+(COLUMN(R45)-COLUMN($R$41)+1)),"",$R$39-(WEEKDAY($R$39,1)-($V$2-1))-IF((WEEKDAY($R$39,1)-($V$2-1))<=0,7,0)+(ROW(R45)-ROW($R$41))*7+(COLUMN(R45)-COLUMN($R$41)+1)) -> 43094 | S45: =IF(MONTH($R$39)<>MONTH($R$39-(WEEKDAY($R$39,1)-($V$2-1))-IF((WEEKDAY($R$39,1)-($V$2-1))<=0,7,0)+(ROW(S45)-ROW($R$41))*7+(COLUMN(S45)-COLUMN($R$41)+1)),"",$R$39-(WEEKDAY($R$39,1)-($V$2-1))-IF((WEEKDAY($R$39,1)-($V$2-1))<=0,7,0)+(ROW(S45)-ROW($R$41))*7+(COLUMN(S45)-COLUMN($R$41)+1)) -> 43095 | T45: =IF(MONTH($R$39)<>MONTH($R$39-(WEEKDAY($R$39,1)-($V$2-1))-IF((WEEKDAY($R$39,1)-($V$2-1))<=0,7,0)+(ROW(T45)-ROW($R$41))*7+(COLUMN(T45)-COLUMN($R$41)+1)),"",$R$39-(WEEKDAY($R$39,1)-($V$2-1))-IF((WEEKDAY($R$39,1)-($V$2-1))<=0,7,0)+(ROW(T45)-ROW($R$41))*7+(COLUMN(T45)-COLUMN($R$41)+1)) -> 43096 | U45: =IF(MONTH($R$39)<>MONTH($R$39-(WEEKDAY($R$39,1)-($V$2-1))-IF((WEEKDAY($R$39,1)-($V$2-1))<=0,7,0)+(ROW(U45)-ROW($R$41))*7+(COLUMN(U45)-COLUMN($R$41)+1)),"",$R$39-(WEEKDAY($R$39,1)-($V$2-1))-IF((WEEKDAY($R$39,1)-($V$2-1))<=0,7,0)+(ROW(U45)-ROW($R$41))*7+(COLUMN(U45)-COLUMN($R$41)+1)) -> 43097 | V45: =IF(MONTH($R$39)<>MONTH($R$39-(WEEKDAY($R$39,1)-($V$2-1))-IF((WEEKDAY($R$39,1)-($V$2-1))<=0,7,0)+(ROW(V45)-ROW($R$41))*7+(COLUMN(V45)-COLUMN($R$41)+1)),"",$R$39-(WEEKDAY($R$39,1)-($V$2-1))-IF((WEEKDAY($R$39,1)-($V$2-1))<=0,7,0)+(ROW(V45)-ROW($R$41))*7+(COLUMN(V45)-COLUMN($R$41)+1)) -> 43098 | W45: =IF(MONTH($R$39)<>MONTH($R$39-(WEEKDAY($R$39,1)-($V$2-1))-IF((WEEKDAY($R$39,1)-($V$2-1))<=0,7,0)+(ROW(W45)-ROW($R$41))*7+(COLUMN(W45)-COLUMN($R$41)+1)),"",$R$39-(WEEKDAY($R$39,1)-($V$2-1))-IF((WEEKDAY($R$39,1)-($V$2-1))<=0,7,0)+(ROW(W45)-ROW($R$41))*7+(COLUMN(W45)-COLUMN($R$41)+1)) -> 43099 | X45: =IF(MONTH($R$39)<>MONTH($R$39-(WEEKDAY($R$39,1)-($V$2-1))-IF((WEEKDAY($R$39,1)-($V$2-1))<=0,7,0)+(ROW(X45)-ROW($R$41))*7+(COLUMN(X45)-COLUMN($R$41)+1)),"",$R$39-(WEEKDAY($R$39,1)-($V$2-1))-IF((WEEKDAY($R$39,1)-($V$2-1))<=0,7,0)+(ROW(X45)-ROW($R$41))*7+(COLUMN(X45)-COLUMN($R$41)+1)) -> 43100
B46: =IF(MONTH($B$39)<>MONTH($B$39-(WEEKDAY($B$39,1)-($V$2-1))-IF((WEEKDAY($B$39,1)-($V$2-1))<=0,7,0)+(ROW(B46)-ROW($B$41))*7+(COLUMN(B46)-COLUMN($B$41)+1)),"",$B$39-(WEEKDAY($B$39,1)-($V$2-1))-IF((WEEKDAY($B$39,1)-($V$2-1))<=0,7,0)+(ROW(B46)-ROW($B$41))*7+(COLUMN(B46)-COLUMN($B$41)+1)) -> 43038 | C46: =IF(MONTH($B$39)<>MONTH($B$39-(WEEKDAY($B$39,1)-($V$2-1))-IF((WEEKDAY($B$39,1)-($V$2-1))<=0,7,0)+(ROW(C46)-ROW($B$41))*7+(COLUMN(C46)-COLUMN($B$41)+1)),"",$B$39-(WEEKDAY($B$39,1)-($V$2-1))-IF((WEEKDAY($B$39,1)-($V$2-1))<=0,7,0)+(ROW(C46)-ROW($B$41))*7+(COLUMN(C46)-COLUMN($B$41)+1)) -> 43039 | D46: =IF(MONTH($B$39)<>MONTH($B$39-(WEEKDAY($B$39,1)-($V$2-1))-IF((WEEKDAY($B$39,1)-($V$2-1))<=0,7,0)+(ROW(D46)-ROW($B$41))*7+(COLUMN(D46)-COLUMN($B$41)+1)),"",$B$39-(WEEKDAY($B$39,1)-($V$2-1))-IF((WEEKDAY($B$39,1)-($V$2-1))<=0,7,0)+(ROW(D46)-ROW($B$41))*7+(COLUMN(D46)-COLUMN($B$41)+1)) | E46: =IF(MONTH($B$39)<>MONTH($B$39-(WEEKDAY($B$39,1)-($V$2-1))-IF((WEEKDAY($B$39,1)-($V$2-1))<=0,7,0)+(ROW(E46)-ROW($B$41))*7+(COLUMN(E46)-COLUMN($B$41)+1)),"",$B$39-(WEEKDAY($B$39,1)-($V$2-1))-IF((WEEKDAY($B$39,1)-($V$2-1))<=0,7,0)+(ROW(E46)-ROW($B$41))*7+(COLUMN(E46)-COLUMN($B$41)+1)) | F46: =IF(MONTH($B$39)<>MONTH($B$39-(WEEKDAY($B$39,1)-($V$2-1))-IF((WEEKDAY($B$39,1)-($V$2-1))<=0,7,0)+(ROW(F46)-ROW($B$41))*7+(COLUMN(F46)-COLUMN($B$41)+1)),"",$B$39-(WEEKDAY($B$39,1)-($V$2-1))-IF((WEEKDAY($B$39,1)-($V$2-1))<=0,7,0)+(ROW(F46)-ROW($B$41))*7+(COLUMN(F46)-COLUMN($B$41)+1)) | G46: =IF(MONTH($B$39)<>MONTH($B$39-(WEEKDAY($B$39,1)-($V$2-1))-IF((WEEKDAY($B$39,1)-($V$2-1))<=0,7,0)+(ROW(G46)-ROW($B$41))*7+(COLUMN(G46)-COLUMN($B$41)+1)),"",$B$39-(WEEKDAY($B$39,1)-($V$2-1))-IF((WEEKDAY($B$39,1)-($V$2-1))<=0,7,0)+(ROW(G46)-ROW($B$41))*7+(COLUMN(G46)-COLUMN($B$41)+1)) | H46: =IF(MONTH($B$39)<>MONTH($B$39-(WEEKDAY($B$39,1)-($V$2-1))-IF((WEEKDAY($B$39,1)-($V$2-1))<=0,7,0)+(ROW(H46)-ROW($B$41))*7+(COLUMN(H46)-COLUMN($B$41)+1)),"",$B$39-(WEEKDAY($B$39,1)-($V$2-1))-IF((WEEKDAY($B$39,1)-($V$2-1))<=0,7,0)+(ROW(H46)-ROW($B$41))*7+(COLUMN(H46)-COLUMN($B$41)+1)) | J46: =IF(MONTH($J$39)<>MONTH($J$39-(WEEKDAY($J$39,1)-($V$2-1))-IF((WEEKDAY($J$39,1)-($V$2-1))<=0,7,0)+(ROW(J46)-ROW($J$41))*7+(COLUMN(J46)-COLUMN($J$41)+1)),"",$J$39-(WEEKDAY($J$39,1)-($V$2-1))-IF((WEEKDAY($J$39,1)-($V$2-1))<=0,7,0)+(ROW(J46)-ROW($J$41))*7+(COLUMN(J46)-COLUMN($J$41)+1)) | K46: =IF(MONTH($J$39)<>MONTH($J$39-(WEEKDAY($J$39,1)-($V$2-1))-IF((WEEKDAY($J$39,1)-($V$2-1))<=0,7,0)+(ROW(K46)-ROW($J$41))*7+(COLUMN(K46)-COLUMN($J$41)+1)),"",$J$39-(WEEKDAY($J$39,1)-($V$2-1))-IF((WEEKDAY($J$39,1)-($V$2-1))<=0,7,0)+(ROW(K46)-ROW($J$41))*7+(COLUMN(K46)-COLUMN($J$41)+1)) | L46: =IF(MONTH($J$39)<>MONTH($J$39-(WEEKDAY($J$39,1)-($V$2-1))-IF((WEEKDAY($J$39,1)-($V$2-1))<=0,7,0)+(ROW(L46)-ROW($J$41))*7+(COLUMN(L46)-COLUMN($J$41)+1)),"",$J$39-(WEEKDAY($J$39,1)-($V$2-1))-IF((WEEKDAY($J$39,1)-($V$2-1))<=0,7,0)+(ROW(L46)-ROW($J$41))*7+(COLUMN(L46)-COLUMN($J$41)+1)) | M46: =IF(MONTH($J$39)<>MONTH($J$39-(WEEKDAY($J$39,1)-($V$2-1))-IF((WEEKDAY($J$39,1)-($V$2-1))<=0,7,0)+(ROW(M46)-ROW($J$41))*7+(COLUMN(M46)-COLUMN($J$41)+1)),"",$J$39-(WEEKDAY($J$39,1)-($V$2-1))-IF((WEEKDAY($J$39,1)-($V$2-1))<=0,7,0)+(ROW(M46)-ROW($J$41))*7+(COLUMN(M46)-COLUMN($J$41)+1)) | N46: =IF(MONTH($J$39)<>MONTH($J$39-(WEEKDAY($J$39,1)-($V$2-1))-IF((WEEKDAY($J$39,1)-($V$2-1))<=0,7,0)+(ROW(N46)-ROW($J$41))*7+(COLUMN(N46)-COLUMN($J$41)+1)),"",$J$39-(WEEKDAY($J$39,1)-($V$2-1))-IF((WEEKDAY($J$39,1)-($V$2-1))<=0,7,0)+(ROW(N46)-ROW($J$41))*7+(COLUMN(N46)-COLUMN($J$41)+1)) | O46: =IF(MONTH($J$39)<>MONTH($J$39-(WEEKDAY($J$39,1)-($V$2-1))-IF((WEEKDAY($J$39,1)-($V$2-1))<=0,7,0)+(ROW(O46)-ROW($J$41))*7+(COLUMN(O46)-COLUMN($J$41)+1)),"",$J$39-(WEEKDAY($J$39,1)-($V$2-1))-IF((WEEKDAY($J$39,1)-($V$2-1))<=0,7,0)+(ROW(O46)-ROW($J$41))*7+(COLUMN(O46)-COLUMN($J$41)+1)) | P46: =IF(MONTH($J$39)<>MONTH($J$39-(WEEKDAY($J$39,1)-($V$2-1))-IF((WEEKDAY($J$39,1)-($V$2-1))<=0,7,0)+(ROW(P46)-ROW($J$41))*7+(COLUMN(P46)-COLUMN($J$41)+1)),"",$J$39-(WEEKDAY($J$39,1)-($V$2-1))-IF((WEEKDAY($J$39,1)-($V$2-1))<=0,7,0)+(ROW(P46)-ROW($J$41))*7+(COLUMN(P46)-COLUMN($J$41)+1)) | R46: =IF(MONTH($R$39)<>MONTH($R$39-(WEEKDAY($R$39,1)-($V$2-1))-IF((WEEKDAY($R$39,1)-($V$2-1))<=0,7,0)+(ROW(R46)-ROW($R$41))*7+(COLUMN(R46)-COLUMN($R$41)+1)),"",$R$39-(WEEKDAY($R$39,1)-($V$2-1))-IF((WEEKDAY($R$39,1)-($V$2-1))<=0,7,0)+(ROW(R46)-ROW($R$41))*7+(COLUMN(R46)-COLUMN($R$41)+1)) | S46: =IF(MONTH($R$39)<>MONTH($R$39-(WEEKDAY($R$39,1)-($V$2-1))-IF((WEEKDAY($R$39,1)-($V$2-1))<=0,7,0)+(ROW(S46)-ROW($R$41))*7+(COLUMN(S46)-COLUMN($R$41)+1)),"",$R$39-(WEEKDAY($R$39,1)-($V$2-1))-IF((WEEKDAY($R$39,1)-($V$2-1))<=0,7,0)+(ROW(S46)-ROW($R$41))*7+(COLUMN(S46)-COLUMN($R$41)+1)) | T46: =IF(MONTH($R$39)<>MONTH($R$39-(WEEKDAY($R$39,1)-($V$2-1))-IF((WEEKDAY($R$39,1)-($V$2-1))<=0,7,0)+(ROW(T46)-ROW($R$41))*7+(COLUMN(T46)-COLUMN($R$41)+1)),"",$R$39-(WEEKDAY($R$39,1)-($V$2-1))-IF((WEEKDAY($R$39,1)-($V$2-1))<=0,7,0)+(ROW(T46)-ROW($R$41))*7+(COLUMN(T46)-COLUMN($R$41)+1)) | U46: =IF(MONTH($R$39)<>MONTH($R$39-(WEEKDAY($R$39,1)-($V$2-1))-IF((WEEKDAY($R$39,1)-($V$2-1))<=0,7,0)+(ROW(U46)-ROW($R$41))*7+(COLUMN(U46)-COLUMN($R$41)+1)),"",$R$39-(WEEKDAY($R$39,1)-($V$2-1))-IF((WEEKDAY($R$39,1)-($V$2-1))<=0,7,0)+(ROW(U46)-ROW($R$41))*7+(COLUMN(U46)-COLUMN($R$41)+1)) | V46: =IF(MONTH($R$39)<>MONTH($R$39-(WEEKDAY($R$39,1)-($V$2-1))-IF((WEEKDAY($R$39,1)-($V$2-1))<=0,7,0)+(ROW(V46)-ROW($R$41))*7+(COLUMN(V46)-COLUMN($R$41)+1)),"",$R$39-(WEEKDAY($R$39,1)-($V$2-1))-IF((WEEKDAY($R$39,1)-($V$2-1))<=0,7,0)+(ROW(V46)-ROW($R$41))*7+(COLUMN(V46)-COLUMN($R$41)+1)) | W46: =IF(MONTH($R$39)<>MONTH($R$39-(WEEKDAY($R$39,1)-($V$2-1))-IF((WEEKDAY($R$39,1)-($V$2-1))<=0,7,0)+(ROW(W46)-ROW($R$41))*7+(COLUMN(W46)-COLUMN($R$41)+1)),"",$R$39-(WEEKDAY($R$39,1)-($V$2-1))-IF((WEEKDAY($R$39,1)-($V$2-1))<=0,7,0)+(ROW(W46)-ROW($R$41))*7+(COLUMN(W46)-COLUMN($R$41)+1)) | X46: =IF(MONTH($R$39)<>MONTH($R$39-(WEEKDAY($R$39,1)-($V$2-1))-IF((WEEKDAY($R$39,1)-($V$2-1))<=0,7,0)+(ROW(X46)-ROW($R$41))*7+(COLUMN(X46)-COLUMN($R$41)+1)),"",$R$39-(WEEKDAY($R$39,1)-($V$2-1))-IF((WEEKDAY($R$39,1)-($V$2-1))<=0,7,0)+(ROW(X46)-ROW($R$41))*7+(COLUMN(X46)-COLUMN($R$41)+1))

Sheet January
A1: =+C30 -> January | D1: =+C31 -> 2017
A4: =TEXT(A5,"NNN") -> Monday | B4: =TEXT(B5,"NNN") -> Tuesday | C4: =TEXT(C5,"NNN") -> Wednesday | D4: =TEXT(D5,"NNN") -> Thursday | E4: =TEXT(E5,"NNN") -> Friday | F4: =TEXT(F5,"NNN") -> Saturday | G4: =TEXT(F7,"NNN") -> Sunday
A5: =$F30-$G30+$C32+$D32+COLUMN(A5) -> 42730 | B5: =$F30-$G30+$C32+$D32+COLUMN(B5) -> 42731 | C5: =$F30-$G30+$C32+$D32+COLUMN(C5) -> 42732 | D5: =$F30-$G30+$C32+$D32+COLUMN(D5) -> 42733 | E5: =$F30-$G30+$C32+$D32+COLUMN(E5) -> 42734 | F5: =$F30-$G30+$C32+$D32+COLUMN(F5) -> 42735
A6: =IF(ISERROR(MATCH(A5,$B$35:$B$200,0)),"",OFFSET($A$35,MATCH(A5,$B$35:$B$200,0)-1,0)) | B6: =IF(ISERROR(MATCH(B5,$B$35:$B$200,0)),"",OFFSET($A$35,MATCH(B5,$B$35:$B$200,0)-1,0)) | C6: =IF(ISERROR(MATCH(C5,$B$35:$B$200,0)),"",OFFSET($A$35,MATCH(C5,$B$35:$B$200,0)-1,0)) | D6: =IF(ISERROR(MATCH(D5,$B$35:$B$200,0)),"",OFFSET($A$35,MATCH(D5,$B$35:$B$200,0)-1,0)) | E6: =IF(ISERROR(MATCH(E5,$B$35:$B$200,0)),"",OFFSET($A$35,MATCH(E5,$B$35:$B$200,0)-1,0)) | F6: =IF(ISERROR(MATCH(F5,$B$35:$B$200,0)),"",OFFSET($A$35,MATCH(F5,$B$35:$B$200,0)-1,0))
F7: =$F30-$G30+$C32+$D32+COLUMN(G5) -> 42736
F8: =IF(ISERROR(MATCH(F7,$B$35:$B$200,0)),"",OFFSET($A$35,MATCH(F7,$B$35:$B$200,0)-1,0)) | G8: =IF(ISERROR(MATCH(G5,$B$35:$B$200,0)),"",OFFSET($A$35,MATCH(G5,$B$35:$B$200,0)-1,0)) -> Typical Holidays
A9: =A5+7 -> 42737 | B9: =B5+7 -> 42738 | C9: =C5+7 -> 42739 | D9: =D5+7 -> 42740 | E9: =E5+7 -> 42741 | F9: =F5+7 -> 42742 | G9: =G5+7 -> 7
A10: =IF(ISERROR(MATCH(A9,$B$35:$B$200,0)),"",OFFSET($A$35,MATCH(A9,$B$35:$B$200,0)-1,0)) | B10: =IF(ISERROR(MATCH(B9,$B$35:$B$200,0)),"",OFFSET($A$35,MATCH(B9,$B$35:$B$200,0)-1,0)) | C10: =IF(ISERROR(MATCH(C9,$B$35:$B$200,0)),"",OFFSET($A$35,MATCH(C9,$B$35:$B$200,0)-1,0)) | D10: =IF(ISERROR(MATCH(D9,$B$35:$B$200,0)),"",OFFSET($A$35,MATCH(D9,$B$35:$B$200,0)-1,0)) | E10: =IF(ISERROR(MATCH(E9,$B$35:$B$200,0)),"",OFFSET($A$35,MATCH(E9,$B$35:$B$200,0)-1,0)) | F10: =IF(ISERROR(MATCH(F9,$B$35:$B$200,0)),"",OFFSET($A$35,MATCH(F9,$B$35:$B$200,0)-1,0))
F11: =F7+7 -> 42743
F12: =IF(ISERROR(MATCH(F11,$B$35:$B$200,0)),"",OFFSET($A$35,MATCH(F11,$B$35:$B$200,0)-1,0)) | G12: =IF(ISERROR(MATCH(G9,$B$35:$B$200,0)),"",OFFSET($A$35,MATCH(G9,$B$35:$B$200,0)-1,0))
A13: =A9+7 -> 42744 | B13: =B9+7 -> 42745 | C13: =C9+7 -> 42746 | D13: =D9+7 -> 42747 | E13: =E9+7 -> 42748 | F13: =+F9+7 -> 42749
A14: =IF(ISERROR(MATCH(A13,$B$35:$B$200,0)),"",OFFSET($A$35,MATCH(A13,$B$35:$B$200,0)-1,0)) | B14: =IF(ISERROR(MATCH(B13,$B$35:$B$200,0)),"",OFFSET($A$35,MATCH(B13,$B$35:$B$200,0)-1,0)) | C14: =IF(ISERROR(MATCH(C13,$B$35:$B$200,0)),"",OFFSET($A$35,MATCH(C13,$B$35:$B$200,0)-1,0)) | D14: =IF(ISERROR(MATCH(D13,$B$35:$B$200,0)),"",OFFSET($A$35,MATCH(D13,$B$35:$B$200,0)-1,0)) | E14: =IF(ISERROR(MATCH(E13,$B$35:$B$200,0)),"",OFFSET($A$35,MATCH(E13,$B$35:$B$200,0)-1,0)) | F14: =IF(ISERROR(MATCH(F13,$B$35:$B$200,0)),"",OFFSET($A$35,MATCH(F13,$B$35:$B$200,0)-1,0))
A15: =A13+7 -> 42751 | B15: =B13+7 -> 42752 | C15: =C13+7 -> 42753 | D15: =D13+7 -> 42754 | E15: =E13+7 -> 42755 | F15: =+F11+7 -> 42750
A16: =IF(ISERROR(MATCH(A15,$B$35:$B$200,0)),"",OFFSET($A$35,MATCH(A15,$B$35:$B$200,0)-1,0)) -> Martin Luther King Jr. Day | B16: =IF(ISERROR(MATCH(B15,$B$35:$B$200,0)),"",OFFSET($A$35,MATCH(B15,$B$35:$B$200,0)-1,0)) | C16: =IF(ISERROR(MATCH(C15,$B$35:$B$200,0)),"",OFFSET($A$35,MATCH(C15,$B$35:$B$200,0)-1,0)) | D16: =IF(ISERROR(MATCH(D15,$B$35:$B$200,0)),"",OFFSET($A$35,MATCH(D15,$B$35:$B$200,0)-1,0)) | E16: =IF(ISERROR(MATCH(E15,$B$35:$B$200,0)),"",OFFSET($A$35,MATCH(E15,$B$35:$B$200,0)-1,0)) | F16: =IF(ISERROR(MATCH(F15,$B$35:$B$200,0)),"",OFFSET($A$35,MATCH(F15,$B$35:$B$200,0)-1,0))
A17: =A13+7 -> 42751 | B17: =B13+7 -> 42752 | C17: =C13+7 -> 42753 | D17: =D13+7 -> 42754 | E17: =E13+7 -> 42755 | F17: =+F13+7 -> 42756
A18: =IF(ISERROR(MATCH(A17,$B$35:$B$200,0)),"",OFFSET($A$35,MATCH(A17,$B$35:$B$200,0)-1,0)) -> Martin Luther King Jr. Day | B18: =IF(ISERROR(MATCH(B17,$B$35:$B$200,0)),"",OFFSET($A$35,MATCH(B17,$B$35:$B$200,0)-1,0)) | C18: =IF(ISERROR(MATCH(C17,$B$35:$B$200,0)),"",OFFSET($A$35,MATCH(C17,$B$35:$B$200,0)-1,0)) | D18: =IF(ISERROR(MATCH(D17,$B$35:$B$200,0)),"",OFFSET($A$35,MATCH(D17,$B$35:$B$200,0)-1,0)) | E18: =IF(ISERROR(MATCH(E17,$B$35:$B$200,0)),"",OFFSET($A$35,MATCH(E17,$B$35:$B$200,0)-1,0)) | F18: =IF(ISERROR(MATCH(F17,$B$35:$B$200,0)),"",OFFSET($A$35,MATCH(F17,$B$35:$B$200,0)-1,0))
A19: =A17+7 -> 42758 | B19: =B17+7 -> 42759 | C19: =C17+7 -> 42760 | D19: =D17+7 -> 42761 | E19: =E17+7 -> 42762 | F19: =+F15+7 -> 42757
A20: =IF(ISERROR(MATCH(A19,$B$35:$B$200,0)),"",OFFSET($A$35,MATCH(A19,$B$35:$B$200,0)-1,0)) | B20: =IF(ISERROR(MATCH(B19,$B$35:$B$200,0)),"",OFFSET($A$35,MATCH(B19,$B$35:$B$200,0)-1,0)) | C20: =IF(ISERROR(MATCH(C19,$B$35:$B$200,0)),"",OFFSET($A$35,MATCH(C19,$B$35:$B$200,0)-1,0)) | D20: =IF(ISERROR(MATCH(D19,$B$35:$B$200,0)),"",OFFSET($A$35,MATCH(D19,$B$35:$B$200,0)-1,0)) | E20: =IF(ISERROR(MATCH(E19,$B$35:$B$200,0)),"",OFFSET($A$35,MATCH(E19,$B$35:$B$200,0)-1,0)) | F20: =IF(ISERROR(MATCH(F19,$B$35:$B$200,0)),"",OFFSET($A$35,MATCH(F19,$B$35:$B$200,0)-1,0))
A21: =+A17+7 -> 42758 | B21: =B17+7 -> 42759 | C21: =C17+7 -> 42760 | D21: =D17+7 -> 42761 | E21: =E17+7 -> 42762 | F21: =+F17+7 -> 42763
A22: =IF(ISERROR(MATCH(A21,$B$35:$B$200,0)),"",OFFSET($A$35,MATCH(A21,$B$35:$B$200,0)-1,0)) | B22: =IF(ISERROR(MATCH(B21,$B$35:$B$200,0)),"",OFFSET($A$35,MATCH(B21,$B$35:$B$200,0)-1,0)) | C22: =IF(ISERROR(MATCH(C21,$B$35:$B$200,0)),"",OFFSET($A$35,MATCH(C21,$B$35:$B$200,0)-1,0)) | D22: =IF(ISERROR(MATCH(D21,$B$35:$B$200,0)),"",OFFSET($A$35,MATCH(D21,$B$35:$B$200,0)-1,0)) | E22: =IF(ISERROR(MATCH(E21,$B$35:$B$200,0)),"",OFFSET($A$35,MATCH(E21,$B$35:$B$200,0)-1,0)) | F22: =IF(ISERROR(MATCH(F21,$B$35:$B$200,0)),"",OFFSET($A$35,MATCH(F21,$B$35:$B$200,0)-1,0))
A23: =A21+7 -> 42765 | B23: =B21+7 -> 42766 | C23: =C21+7 -> 42767 | D23: =D21+7 -> 42768 | E23: =E21+7 -> 42769 | F23: =+F19+7 -> 42764
A24: =IF(ISERROR(MATCH(A23,$B$35:$B$200,0)),"",OFFSET($A$35,MATCH(A23,$B$35:$B$200,0)-1,0)) | B24: =IF(ISERROR(MATCH(B23,$B$35:$B$200,0)),"",OFFSET($A$35,MATCH(B23,$B$35:$B$200,0)-1,0)) | C24: =IF(ISERROR(MATCH(C23,$B$35:$B$200,0)),"",OFFSET($A$35,MATCH(C23,$B$35:$B$200,0)-1,0)) | D24: =IF(ISERROR(MATCH(D23,$B$35:$B$200,0)),"",OFFSET($A$35,MATCH(D23,$B$35:$B$200,0)-1,0)) -> Ground Hog Day | E24: =IF(ISERROR(MATCH(E23,$B$35:$B$200,0)),"",OFFSET($A$35,MATCH(E23,$B$35:$B$200,0)-1,0)) | F24: =IF(ISERROR(MATCH(F23,$B$35:$B$200,0)),"",OFFSET($A$35,MATCH(F23,$B$35:$B$200,0)-1,0))
A25: =+A21+7 -> 42765 | B25: =B21+7 -> 42766 | C25: =C21+7 -> 42767 | D25: =D21+7 -> 42768 | E25: =E21+7 -> 42769 | F25: =+F21+7 -> 42770
A26: =IF(ISERROR(MATCH(A25,$B$35:$B$200,0)),"",OFFSET($A$35,MATCH(A25,$B$35:$B$200,0)-1,0)) | B26: =IF(ISERROR(MATCH(B25,$B$35:$B$200,0)),"",OFFSET($A$35,MATCH(B25,$B$35:$B$200,0)-1,0)) | C26: =IF(ISERROR(MATCH(C25,$B$35:$B$200,0)),"",OFFSET($A$35,MATCH(C25,$B$35:$B$200,0)-1,0)) | D26: =IF(ISERROR(MATCH(D25,$B$35:$B$200,0)),"",OFFSET($A$35,MATCH(D25,$B$35:$B$200,0)-1,0)) -> Ground Hog Day | E26: =IF(ISERROR(MATCH(E25,$B$35:$B$200,0)),"",OFFSET($A$35,MATCH(E25,$B$35:$B$200,0)-1,0)) | F26: =IF(ISERROR(MATCH(F25,$B$35:$B$200,0)),"",OFFSET($A$35,MATCH(F25,$B$35:$B$200,0)-1,0))
A27: =A25+7 -> 42772 | B27: =B25+7 -> 42773 | C27: =C25+7 -> 42774 | D27: =D25+7 -> 42775 | E27: =E25+7 -> 42776 | F27: =+F23+7 -> 42771
A28: =IF(ISERROR(MATCH(A27,$B$35:$B$200,0)),"",OFFSET($A$35,MATCH(A27,$B$35:$B$200,0)-1,0)) | B28: =IF(ISERROR(MATCH(B27,$B$35:$B$200,0)),"",OFFSET($A$35,MATCH(B27,$B$35:$B$200,0)-1,0)) | C28: =IF(ISERROR(MATCH(C27,$B$35:$B$200,0)),"",OFFSET($A$35,MATCH(C27,$B$35:$B$200,0)-1,0)) | D28: =IF(ISERROR(MATCH(D27,$B$35:$B$200,0)),"",OFFSET($A$35,MATCH(D27,$B$35:$B$200,0)-1,0)) | E28: =IF(ISERROR(MATCH(E27,$B$35:$B$200,0)),"",OFFSET($A$35,MATCH(E27,$B$35:$B$200,0)-1,0)) | F28: =IF(ISERROR(MATCH(F27,$B$35:$B$200,0)),"",OFFSET($A$35,MATCH(F27,$B$35:$B$200,0)-1,0))
B29: Adjust only the cells in yellow
A30: Current month: | B30: 1 | C30: =TEXT(DATE(C31,B30,1),"mmmm") -> January | D30: month starts on: | E30: =TEXT(F30,"NNN") -> Sunday | F30: =DATE(C31,B30,1) -> 42736 | G30: =WEEKDAY(F30) -> 1
A31: Current year-2000: | B31: =Begin_Here!C5 -> 17 | C31: =2000+B31 -> 2017 | D31: month ends on: | E31: =TEXT(F31,"NNN") -> Tuesday | F31: =DATE(C31,B30+1,0) -> 42766 | G31: =WEEKDAY(F31) -> 3
A32: Week starts on: | B32: Monday | C32: =MATCH(B32,C35:C41,0)-1 -> 1 | D32: =IF(C32+1>G30,-7,0) -> -7
A34: Events | B34: Date
A35: {=Begin_Here!B7:B400} -> Typical Holidays | B35: {=Begin_Here!E7:E293} -> 0 | C35: =TEXT(1,"NNN") -> Sunday
A36: Presidents Day | B36: 42786 | C36: =TEXT(2,"NNN") -> Monday
A37: Easter | B37: 42841 | C37: =TEXT(3,"NNN") -> Tuesday
A38: Independence day | B38: 42920 | C38: =TEXT(4,"NNN") -> Wednesday
A39: Labor Day | B39: 42982 | C39: =TEXT(5,"NNN") -> Thursday
A40: Memorial Day | B40: 42884 | C40: =TEXT(6,"NNN") -> Friday
A41: Columbus Day | B41: 43017 | C41: =TEXT(7,"NNN") -> Saturday
A42: Martin Luther King Jr. Day | B42: 42751
A43: Veterans Day | B43: 43050
A44: Ground Hog Day | B44: 42768
A45: Christmas day | B45: 43094
A46: Thanksgiving | B46: 43062
A47: 0 | B47: 0
A48: 0 | B48: 0
A49: 0 | B49: 0
A50: Seasons | B50: 0
A51: Spring | B51: 42814
A52: Summer | B52: 42907
A53: Fall | B53: 43000
A54: Winter | B54: 43090
A55: 0 | B55: 0
A56: Time Change | B56: 0
A57: Daylight Savings Time | B57: 42806
A58: Eastern Standard Time | B58: 43044
A59: 0 | B59: 0
A60: 0 | B60: 0
A61: 0 | B61: 0
A62: 0 | B62: 0
A63: 0 | B63: 0
A64: 0 | B64: 0
A65: 0 | B65: 0
A66: 0 | B66: 0
A67: 0 | B67: 0
A68: 0 | B68: 0
A69: 0 | B69: 0
A70: 0 | B70: 0
... A282: 0 | B282: 0
A283: 0
A284: 0
A285: 0
A286: 0
A287: 0
A288: 0
A289: 0
A290: 0
A291: 0
A292: 0
A293: 0
A294: 0
... A365: 0

Sheet January Notes
A1: January Notes

Sheet January Full
A1: =+C30 -> January | D1: =+C31 -> 2017
A4: =TEXT(A5,"NNN") -> Monday | B4: =TEXT(B5,"NNN") -> Tuesday | C4: =TEXT(C5,"NNN") -> Wednesday | D4: =TEXT(D5,"NNN") -> Thursday | E4: =TEXT(E5,"NNN") -> Friday | F4: =TEXT(F5,"nnn") -> Saturday | G4: =TEXT(G5,"nnn") -> Sunday
A5: =$F30-$G30+$C32+$D32+COLUMN(A5) -> 42730 | B5: =$F30-$G30+$C32+$D32+COLUMN(B5) -> 42731 | C5: =$F30-$G30+$C32+$D32+COLUMN(C5) -> 42732 | D5: =$F30-$G30+$C32+$D32+COLUMN(D5) -> 42733 | E5: =$F30-$G30+$C32+$D32+COLUMN(E5) -> 42734 | F5: =$F30-$G30+$C32+$D32+COLUMN(F5) -> 42735 | G5: =$F30-$G30+$C32+$D32+COLUMN(G5) -> 42736
A6: =IF(ISERROR(MATCH(A5,$B$35:$B$200,0)),"",OFFSET($A$35,MATCH(A5,$B$35:$B$200,0)-1,0)) | B6: =IF(ISERROR(MATCH(B5,$B$35:$B$200,0)),"",OFFSET($A$35,MATCH(B5,$B$35:$B$200,0)-1,0)) | C6: =IF(ISERROR(MATCH(C5,$B$35:$B$200,0)),"",OFFSET($A$35,MATCH(C5,$B$35:$B$200,0)-1,0)) | D6: =IF(ISERROR(MATCH(D5,$B$35:$B$200,0)),"",OFFSET($A$35,MATCH(D5,$B$35:$B$200,0)-1,0)) | E6: =IF(ISERROR(MATCH(E5,$B$35:$B$200,0)),"",OFFSET($A$35,MATCH(E5,$B$35:$B$200,0)-1,0)) | F6: =IF(ISERROR(MATCH(F5,$B$35:$B$200,0)),"",OFFSET($A$35,MATCH(F5,$B$35:$B$200,0)-1,0)) | G6: =IF(ISERROR(MATCH(G5,$B$35:$B$200,0)),"",OFFSET($A$35,MATCH(G5,$B$35:$B$200,0)-1,0))
A9: =A5+7 -> 42737 | B9: =B5+7 -> 42738 | C9: =C5+7 -> 42739 | D9: =D5+7 -> 42740 | E9: =E5+7 -> 42741 | F9: =F5+7 -> 42742 | G9: =G5+7 -> 42743
A10: =IF(ISERROR(MATCH(A9,$B$35:$B$200,0)),"",OFFSET($A$35,MATCH(A9,$B$35:$B$200,0)-1,0)) | B10: =IF(ISERROR(MATCH(B9,$B$35:$B$200,0)),"",OFFSET($A$35,MATCH(B9,$B$35:$B$200,0)-1,0)) | C10: =IF(ISERROR(MATCH(C9,$B$35:$B$200,0)),"",OFFSET($A$35,MATCH(C9,$B$35:$B$200,0)-1,0)) | D10: =IF(ISERROR(MATCH(D9,$B$35:$B$200,0)),"",OFFSET($A$35,MATCH(D9,$B$35:$B$200,0)-1,0)) | E10: =IF(ISERROR(MATCH(E9,$B$35:$B$200,0)),"",OFFSET($A$35,MATCH(E9,$B$35:$B$200,0)-1,0)) | F10: =IF(ISERROR(MATCH(F9,$B$35:$B$200,0)),"",OFFSET($A$35,MATCH(F9,$B$35:$B$200,0)-1,0)) | G10: =IF(ISERROR(MATCH(G9,$B$35:$B$200,0)),"",OFFSET($A$35,MATCH(G9,$B$35:$B$200,0)-1,0))
F11: =F7+7 -> 7
F12: =IF(ISERROR(MATCH(F11,$B$35:$B$200,0)),"",OFFSET($A$35,MATCH(F11,$B$35:$B$200,0)-1,0))
A13: =A9+7 -> 42744 | B13: =B9+7 -> 42745 | C13: =C9+7 -> 42746 | D13: =D9+7 -> 42747 | E13: =E9+7 -> 42748 | F13: =F9+7 -> 42749 | G13: =G9+7 -> 42750
A14: =IF(ISERROR(MATCH(A13,$B$35:$B$200,0)),"",OFFSET($A$35,MATCH(A13,$B$35:$B$200,0)-1,0)) | B14: =IF(ISERROR(MATCH(B13,$B$35:$B$200,0)),"",OFFSET($A$35,MATCH(B13,$B$35:$B$200,0)-1,0)) | C14: =IF(ISERROR(MATCH(C13,$B$35:$B$200,0)),"",OFFSET($A$35,MATCH(C13,$B$35:$B$200,0)-1,0)) | D14: =IF(ISERROR(MATCH(D13,$B$35:$B$200,0)),"",OFFSET($A$35,MATCH(D13,$B$35:$B$200,0)-1,0)) | E14: =IF(ISERROR(MATCH(E13,$B$35:$B$200,0)),"",OFFSET($A$35,MATCH(E13,$B$35:$B$200,0)-1,0)) | F14: =IF(ISERROR(MATCH(F13,$B$35:$B$200,0)),"",OFFSET($A$35,MATCH(F13,$B$35:$B$200,0)-1,0)) | G14: =IF(ISERROR(MATCH(G13,$B$35:$B$200,0)),"",OFFSET($A$35,MATCH(G13,$B$35:$B$200,0)-1,0))
A15: =A13+7 -> 42751 | B15: =B13+7 -> 42752 | C15: =C13+7 -> 42753 | D15: =D13+7 -> 42754 | E15: =E13+7 -> 42755 | F15: =+F11+7 -> 14
A16: =IF(ISERROR(MATCH(A15,$B$35:$B$200,0)),"",OFFSET($A$35,MATCH(A15,$B$35:$B$200,0)-1,0)) -> Martin Luther King Jr. Day | B16: =IF(ISERROR(MATCH(B15,$B$35:$B$200,0)),"",OFFSET($A$35,MATCH(B15,$B$35:$B$200,0)-1,0)) | C16: =IF(ISERROR(MATCH(C15,$B$35:$B$200,0)),"",OFFSET($A$35,MATCH(C15,$B$35:$B$200,0)-1,0)) | D16: =IF(ISERROR(MATCH(D15,$B$35:$B$200,0)),"",OFFSET($A$35,MATCH(D15,$B$35:$B$200,0)-1,0)) | E16: =IF(ISERROR(MATCH(E15,$B$35:$B$200,0)),"",OFFSET($A$35,MATCH(E15,$B$35:$B$200,0)-1,0)) | F16: =IF(ISERROR(MATCH(F15,$B$35:$B$200,0)),"",OFFSET($A$35,MATCH(F15,$B$35:$B$200,0)-1,0))
A17: =A13+7 -> 42751 | B17: =B13+7 -> 42752 | C17: =C13+7 -> 42753 | D17: =D13+7 -> 42754 | E17: =E13+7 -> 42755 | F17: =F13+7 -> 42756 | G17: =G13+7 -> 42757
A18: =IF(ISERROR(MATCH(A17,$B$35:$B$200,0)),"",OFFSET($A$35,MATCH(A17,$B$35:$B$200,0)-1,0)) -> Martin Luther King Jr. Day | B18: =IF(ISERROR(MATCH(B17,$B$35:$B$200,0)),"",OFFSET($A$35,MATCH(B17,$B$35:$B$200,0)-1,0)) | C18: =IF(ISERROR(MATCH(C17,$B$35:$B$200,0)),"",OFFSET($A$35,MATCH(C17,$B$35:$B$200,0)-1,0)) | D18: =IF(ISERROR(MATCH(D17,$B$35:$B$200,0)),"",OFFSET($A$35,MATCH(D17,$B$35:$B$200,0)-1,0)) | E18: =IF(ISERROR(MATCH(E17,$B$35:$B$200,0)),"",OFFSET($A$35,MATCH(E17,$B$35:$B$200,0)-1,0)) | F18: =IF(ISERROR(MATCH(F17,$B$35:$B$200,0)),"",OFFSET($A$35,MATCH(F17,$B$35:$B$200,0)-1,0)) | G18: =IF(ISERROR(MATCH(G17,$B$35:$B$200,0)),"",OFFSET($A$35,MATCH(G17,$B$35:$B$200,0)-1,0))
A19: =A17+7 -> 42758 | B19: =B17+7 -> 42759 | C19: =C17+7 -> 42760 | D19: =D17+7 -> 42761 | E19: =E17+7 -> 42762 | F19: =+F15+7 -> 21
A20: =IF(ISERROR(MATCH(A19,$B$35:$B$200,0)),"",OFFSET($A$35,MATCH(A19,$B$35:$B$200,0)-1,0)) | B20: =IF(ISERROR(MATCH(B19,$B$35:$B$200,0)),"",OFFSET($A$35,MATCH(B19,$B$35:$B$200,0)-1,0)) | C20: =IF(ISERROR(MATCH(C19,$B$35:$B$200,0)),"",OFFSET($A$35,MATCH(C19,$B$35:$B$200,0)-1,0)) | D20: =IF(ISERROR(MATCH(D19,$B$35:$B$200,0)),"",OFFSET($A$35,MATCH(D19,$B$35:$B$200,0)-1,0)) | E20: =IF(ISERROR(MATCH(E19,$B$35:$B$200,0)),"",OFFSET($A$35,MATCH(E19,$B$35:$B$200,0)-1,0)) | F20: =IF(ISERROR(MATCH(F19,$B$35:$B$200,0)),"",OFFSET($A$35,MATCH(F19,$B$35:$B$200,0)-1,0))
A21: =A17+7 -> 42758 | B21: =B17+7 -> 42759 | C21: =C17+7 -> 42760 | D21: =D17+7 -> 42761 | E21: =E17+7 -> 42762 | F21: =F17+7 -> 42763 | G21: =G17+7 -> 42764
A22: =IF(ISERROR(MATCH(A21,$B$35:$B$200,0)),"",OFFSET($A$35,MATCH(A21,$B$35:$B$200,0)-1,0)) | B22: =IF(ISERROR(MATCH(B21,$B$35:$B$200,0)),"",OFFSET($A$35,MATCH(B21,$B$35:$B$200,0)-1,0)) | C22: =IF(ISERROR(MATCH(C21,$B$35:$B$200,0)),"",OFFSET($A$35,MATCH(C21,$B$35:$B$200,0)-1,0)) | D22: =IF(ISERROR(MATCH(D21,$B$35:$B$200,0)),"",OFFSET($A$35,MATCH(D21,$B$35:$B$200,0)-1,0)) | E22: =IF(ISERROR(MATCH(E21,$B$35:$B$200,0)),"",OFFSET($A$35,MATCH(E21,$B$35:$B$200,0)-1,0)) | F22: =IF(ISERROR(MATCH(F21,$B$35:$B$200,0)),"",OFFSET($A$35,MATCH(F21,$B$35:$B$200,0)-1,0)) | G22: =IF(ISERROR(MATCH(G21,$B$35:$B$200,0)),"",OFFSET($A$35,MATCH(G21,$B$35:$B$200,0)-1,0))
A23: =A21+7 -> 42765 | B23: =B21+7 -> 42766 | C23: =C21+7 -> 42767 | D23: =D21+7 -> 42768 | E23: =E21+7 -> 42769 | F23: =+F19+7 -> 28
A24: =IF(ISERROR(MATCH(A23,$B$35:$B$200,0)),"",OFFSET($A$35,MATCH(A23,$B$35:$B$200,0)-1,0)) | B24: =IF(ISERROR(MATCH(B23,$B$35:$B$200,0)),"",OFFSET($A$35,MATCH(B23,$B$35:$B$200,0)-1,0)) | C24: =IF(ISERROR(MATCH(C23,$B$35:$B$200,0)),"",OFFSET($A$35,MATCH(C23,$B$35:$B$200,0)-1,0)) | D24: =IF(ISERROR(MATCH(D23,$B$35:$B$200,0)),"",OFFSET($A$35,MATCH(D23,$B$35:$B$200,0)-1,0)) -> Ground Hog Day | E24: =IF(ISERROR(MATCH(E23,$B$35:$B$200,0)),"",OFFSET($A$35,MATCH(E23,$B$35:$B$200,0)-1,0)) | F24: =IF(ISERROR(MATCH(F23,$B$35:$B$200,0)),"",OFFSET($A$35,MATCH(F23,$B$35:$B$200,0)-1,0))
A25: =A21+7 -> 42765 | B25: =B21+7 -> 42766 | C25: =C21+7 -> 42767 | D25: =D21+7 -> 42768 | E25: =E21+7 -> 42769 | F25: =F21+7 -> 42770 | G25: =G21+7 -> 42771
A26: =IF(ISERROR(MATCH(A25,$B$35:$B$200,0)),"",OFFSET($A$35,MATCH(A25,$B$35:$B$200,0)-1,0)) | B26: =IF(ISERROR(MATCH(B25,$B$35:$B$200,0)),"",OFFSET($A$35,MATCH(B25,$B$35:$B$200,0)-1,0)) | C26: =IF(ISERROR(MATCH(C25,$B$35:$B$200,0)),"",OFFSET($A$35,MATCH(C25,$B$35:$B$200,0)-1,0)) | D26: =IF(ISERROR(MATCH(D25,$B$35:$B$200,0)),"",OFFSET($A$35,MATCH(D25,$B$35:$B$200,0)-1,0)) -> Ground Hog Day | E26: =IF(ISERROR(MATCH(E25,$B$35:$B$200,0)),"",OFFSET($A$35,MATCH(E25,$B$35:$B$200,0)-1,0)) | F26: =IF(ISERROR(MATCH(F25,$B$35:$B$200,0)),"",OFFSET($A$35,MATCH(F25,$B$35:$B$200,0)-1,0))
A27: =A25+7 -> 42772 | B27: =B25+7 -> 42773 | C27: =C25+7 -> 42774 | D27: =D25+7 -> 42775 | E27: =E25+7 -> 42776 | F27: =+F23+7 -> 35
A28: =IF(ISERROR(MATCH(A27,$B$35:$B$200,0)),"",OFFSET($A$35,MATCH(A27,$B$35:$B$200,0)-1,0)) | B28: =IF(ISERROR(MATCH(B27,$B$35:$B$200,0)),"",OFFSET($A$35,MATCH(B27,$B$35:$B$200,0)-1,0)) | C28: =IF(ISERROR(MATCH(C27,$B$35:$B$200,0)),"",OFFSET($A$35,MATCH(C27,$B$35:$B$200,0)-1,0)) | D28: =IF(ISERROR(MATCH(D27,$B$35:$B$200,0)),"",OFFSET($A$35,MATCH(D27,$B$35:$B$200,0)-1,0)) | E28: =IF(ISERROR(MATCH(E27,$B$35:$B$200,0)),"",OFFSET($A$35,MATCH(E27,$B$35:$B$200,0)-1,0)) | F28: =IF(ISERROR(MATCH(F27,$B$35:$B$200,0)),"",OFFSET($A$35,MATCH(F27,$B$35:$B$200,0)-1,0))
B29: Adjust only the cells in yellow
A30: Current month: | B30: 1 | C30: =TEXT(DATE(C31,B30,1),"mmmm") -> January | D30: month starts on: | E30: =TEXT(F30,"NNN") -> Sunday | F30: =DATE(C31,B30,1) -> 42736 | G30: =WEEKDAY(F30) -> 1
A31: Current year-2000: | B31: =Begin_Here!C5 -> 17 | C31: =2000+B31 -> 2017 | D31: month ends on: | E31: =TEXT(F31,"NNN") -> Tuesday | F31: =DATE(C31,B30+1,0) -> 42766 | G31: =WEEKDAY(F31) -> 3
A32: Week starts on: | B32: Monday | C32: =MATCH(B32,C35:C41,0)-1 -> 1 | D32: =IF(C32+1>G30,-7,0) -> -7
A34: Events | B34: Date
A35: {=Begin_Here!B7:B400} -> Typical Holidays | B35: {=Begin_Here!E7:E400} -> 0 | C35: =TEXT(1,"NNN") -> Sunday
A36: Presidents Day | B36: 42786 | C36: =TEXT(2,"NNN") -> Monday
A37: Easter | B37: 42841 | C37: =TEXT(3,"NNN") -> Tuesday
A38: Independence day | B38: 42920 | C38: =TEXT(4,"NNN") -> Wednesday
A39: Labor Day | B39: 42982 | C39: =TEXT(5,"NNN") -> Thursday
A40: Memorial Day | B40: 42884 | C40: =TEXT(6,"NNN") -> Friday
A41: Columbus Day | B41: 43017 | C41: =TEXT(7,"NNN") -> Saturday
A42: Martin Luther King Jr. Day | B42: 42751
A43: Veterans Day | B43: 43050
A44: Ground Hog Day | B44: 42768
A45: Christmas day | B45: 43094
A46: Thanksgiving | B46: 43062
A47: 0 | B47: 0 | D47: =7.5/7 -> 1.0714286
A48: 0 | B48: 0
A49: 0 | B49: 0
A50: Seasons | B50: 0
A51: Spring | B51: 42814
A52: Summer | B52: 42907
A53: Fall | B53: 43000
A54: Winter | B54: 43090
A55: 0 | B55: 0
A56: Time Change | B56: 0
A57: Daylight Savings Time | B57: 42806
A58: Eastern Standard Time | B58: 43044
A59: 0 | B59: 0
A60: 0 | B60: 0
A61: 0 | B61: 0
A62: 0 | B62: 0
A63: 0 | B63: 0
A64: 0 | B64: 0
A65: 0 | B65: 0
A66: 0 | B66: 0
A67: 0 | B67: 0
A68: 0 | B68: 0
A69: 0 | B69: 0
A70: 0 | B70: 0
... A259: 0 | B259: 0
A260: 0
A261: 0
A262: 0
A263: 0
A264: 0
A265: 0
A266: 0
A267: 0
A268: 0
A269: 0
A270: 0
A271: 0
... A331: 0

Sheet January weeks
A1: =CONCATENATE(January!A1," ",Year) -> January 2017 | C1: =+B4 -> 42730 | D1: to | E1: =+E14 -> 42736 | F1: =+A1 -> January 2017 | H1: =+G4 -> 42737 | I1: to | J1: =+J14 -> 42743 | K1: =+F1 -> January 2017 | M1: =+L4 -> 42744 | N1: to | O1: =+O14 -> 42750 | P1: =+K1 -> January 2017 | R1: =+Q4 -> 42751 | S1: to | T1: =+T14 -> 42757 | U1: =+P1 -> January 2017 | W1: =+V4 -> 42758 | X1: to | Y1: =+Y14 -> 42764 | Z1: =+U1 -> January 2017 | AB1: =+AA4 -> 42765 | AC1: to | AD1: =+AD14 -> 42771
D2: Week | E2: =_xlfn.ORG.LIBREOFFICE.WEEKNUM_OOO(C1,1) -> 52 | I2: Week | J2: =_xlfn.ORG.LIBREOFFICE.WEEKNUM_OOO(H1,1) -> 1 | N2: Week | O2: =_xlfn.ORG.LIBREOFFICE.WEEKNUM_OOO(M1,1) -> 2 | S2: Week | T2: =_xlfn.ORG.LIBREOFFICE.WEEKNUM_OOO(R1,1) -> 3 | X2: Week | Y2: =_xlfn.ORG.LIBREOFFICE.WEEKNUM_OOO(W1,1) -> 4 | AC2: Week | AD2: =_xlfn.ORG.LIBREOFFICE.WEEKNUM_OOO(AB1,1) -> 5 | AF2: #Begin_Here
A4: Monday | B4: =January!A5 -> 42730 | C4: Thursday | E4: =January!D5 -> 42733 | F4: Monday | G4: =January!$A9 -> 42737 | H4: Thursday | J4: =January!$D9 -> 42740 | K4: Monday | L4: =January!$A13 -> 42744 | M4: Thursday | O4: =January!$D13 -> 42747 | P4: Monday | Q4: =January!A15 -> 42751 | R4: Thursday | T4: =January!$D17 -> 42754 | U4: Monday | V4: =January!A21 -> 42758 | W4: Thursday | Y4: =January!D21 -> 42761 | Z4: Monday | AA4: =January!A25 -> 42765 | AB4: Thursday | AD4: =January!D25 -> 42768
A5: =January!A6 | C5: =January!D6 | F5: =January!A10 | H5: =January!D10 | K5: =January!A14 | M5: =January!D14 | P5: =January!A18 -> Martin Luther King Jr. Day | R5: =January!D18 | U5: =January!A22 | W5: =January!D22 | Z5: =January!A26 | AB5: =January!D26 -> Ground Hog Day
A8: Tuesday | B8: =January!B5 -> 42731 | C8: Friday | D8: Friday | E8: =January!E5 -> 42734 | F8: Tuesday | G8: =January!$B$9 -> 42738 | H8: Friday | I8: Friday | J8: =January!E9 -> 42741 | K8: Tuesday | L8: =January!$B$13 -> 42745 | M8: Friday | N8: Friday | O8: =January!E13 -> 42748 | P8: Tuesday | Q8: =January!B17 -> 42752 | R8: Friday | S8: Friday | T8: =January!E17 -> 42755 | U8: Tuesday | V8: =January!B21 -> 42759 | W8: Friday | X8: Friday | Y8: =January!E21 -> 42762 | Z8: Tuesday | AA8: =January!B25 -> 42766 | AB8: Friday | AC8: Friday | AD8: =January!E25 -> 42769
A9: =January!B6 | C9: =January!E6 | F9: =January!B10 | H9: =January!E10 | K9: =January!B14 | M9: =January!E14 | P9: =January!B18 | R9: =January!E18 | U9: =January!B22 | W9: =January!E22 | Z9: =January!B26 | AB9: =January!E26
A12: Wednesday | B12: =January!C5 -> 42732 | C12: Saturday | E12: =January!F5 -> 42735 | F12: Wednesday | G12: =January!C9 -> 42739 | H12: Saturday | J12: =January!F9 -> 42742 | K12: Wednesday | L12: =January!C13 -> 42746 | M12: Saturday | O12: =January!F13 -> 42749 | P12: Wednesday | Q12: =January!C17 -> 42753 | R12: Saturday | T12: =January!F17 -> 42756 | U12: Wednesday | V12: =January!C21 -> 42760 | W12: Saturday | Y12: =January!F21 -> 42763 | Z12: Wednesday | AA12: =January!C25 -> 42767 | AB12: Saturday | AD12: =January!F25 -> 42770
A13: =January!C6 | C13: =January!F6 | F13: =January!C10 | H13: =January!F10 | K13: =January!C14 | M13: =January!F14 | P13: =January!C18 | R13: =January!F18 | U13: =January!C22 | W13: =January!F22 | Z13: =January!C26 | AB13: =January!F26
C14: Sunday | E14: =January!F7 -> 42736 | H14: Sunday | J14: =January!F11 -> 42743 | M14: Sunday | O14: =January!F15 -> 42750 | R14: Sunday | T14: =January!F19 -> 42757 | W14: Sunday | Y14: =January!F23 -> 42764 | AB14: Sunday | AD14: =January!F27 -> 42771
C15: =January!F8 | H15: =January!F12 | M15: =January!F16 | R15: =January!F20 | W15: =January!F24 | AB15: =January!F28
F22: =CONCATENATE(E22," ",D22)

Sheet February Cover
A1: February

Sheet February
A1: =+C30 -> February | D1: =+C31 -> 2017
A4: =TEXT(A5,"NNN") -> Monday | B4: =TEXT(B5,"NNN") -> Tuesday | C4: =TEXT(C5,"NNN") -> Wednesday | D4: =TEXT(D5,"NNN") -> Thursday | E4: =TEXT(E5,"NNN") -> Friday | F4: =TEXT(F5,"NNN") -> Saturday | G4: =TEXT(F7,"NNN") -> Sunday
A5: =$F30-$G30+$C32+$D32+COLUMN(A5) -> 42765 | B5: =$F30-$G30+$C32+$D32+COLUMN(B5) -> 42766 | C5: =$F30-$G30+$C32+$D32+COLUMN(C5) -> 42767 | D5: =$F30-$G30+$C32+$D32+COLUMN(D5) -> 42768 | E5: =$F30-$G30+$C32+$D32+COLUMN(E5) -> 42769 | F5: =$F30-$G30+$C32+$D32+COLUMN(F5) -> 42770
A6: =IF(ISERROR(MATCH(A5,$B$35:$B$195,0)),"",OFFSET($A$35,MATCH(A5,$B$35:$B$195,0)-1,0)) | B6: =IF(ISERROR(MATCH(B5,$B$35:$B$195,0)),"",OFFSET($A$35,MATCH(B5,$B$35:$B$195,0)-1,0)) | C6: =IF(ISERROR(MATCH(C5,$B$35:$B$195,0)),"",OFFSET($A$35,MATCH(C5,$B$35:$B$195,0)-1,0)) | D6: =IF(ISERROR(MATCH(D5,$B$35:$B$195,0)),"",OFFSET($A$35,MATCH(D5,$B$35:$B$195,0)-1,0)) -> Ground Hog Day | E6: =IF(ISERROR(MATCH(E5,$B$35:$B$195,0)),"",OFFSET($A$35,MATCH(E5,$B$35:$B$195,0)-1,0)) | F6: =IF(ISERROR(MATCH(F5,$B$35:$B$195,0)),"",OFFSET($A$35,MATCH(F5,$B$35:$B$195,0)-1,0))
F7: =$F30-$G30+$C32+$D32+COLUMN(G5) -> 42771
F8: =IF(ISERROR(MATCH(F7,$B$35:$B$195,0)),"",OFFSET($A$35,MATCH(F7,$B$35:$B$195,0)-1,0)) | G8: =IF(ISERROR(MATCH(G5,$B$35:$B$195,0)),"",OFFSET($A$35,MATCH(G5,$B$35:$B$195,0)-1,0)) -> Typical Holidays
A9: =A5+7 -> 42772 | B9: =B5+7 -> 42773 | C9: =C5+7 -> 42774 | D9: =D5+7 -> 42775 | E9: =E5+7 -> 42776 | F9: =F5+7 -> 42777 | G9: =G5+7 -> 7
A10: =IF(ISERROR(MATCH(A9,$B$35:$B$195,0)),"",OFFSET($A$35,MATCH(A9,$B$35:$B$195,0)-1,0)) | B10: =IF(ISERROR(MATCH(B9,$B$35:$B$195,0)),"",OFFSET($A$35,MATCH(B9,$B$35:$B$195,0)-1,0)) | C10: =IF(ISERROR(MATCH(C9,$B$35:$B$195,0)),"",OFFSET($A$35,MATCH(C9,$B$35:$B$195,0)-1,0)) | D10: =IF(ISERROR(MATCH(D9,$B$35:$B$195,0)),"",OFFSET($A$35,MATCH(D9,$B$35:$B$195,0)-1,0)) | E10: =IF(ISERROR(MATCH(E9,$B$35:$B$195,0)),"",OFFSET($A$35,MATCH(E9,$B$35:$B$195,0)-1,0)) | F10: =IF(ISERROR(MATCH(F9,$B$35:$B$195,0)),"",OFFSET($A$35,MATCH(F9,$B$35:$B$195,0)-1,0))
F11: =F7+7 -> 42778
F12: =IF(ISERROR(MATCH(F11,$B$35:$B$195,0)),"",OFFSET($A$35,MATCH(F11,$B$35:$B$195,0)-1,0)) | G12: =IF(ISERROR(MATCH(G9,$B$35:$B$195,0)),"",OFFSET($A$35,MATCH(G9,$B$35:$B$195,0)-1,0))
A13: =A9+7 -> 42779 | B13: =B9+7 -> 42780 | C13: =C9+7 -> 42781 | D13: =D9+7 -> 42782 | E13: =E9+7 -> 42783 | F13: =+F9+7 -> 42784
A14: =IF(ISERROR(MATCH(A13,$B$35:$B$195,0)),"",OFFSET($A$35,MATCH(A13,$B$35:$B$195,0)-1,0)) | B14: =IF(ISERROR(MATCH(B13,$B$35:$B$195,0)),"",OFFSET($A$35,MATCH(B13,$B$35:$B$195,0)-1,0)) | C14: =IF(ISERROR(MATCH(C13,$B$35:$B$195,0)),"",OFFSET($A$35,MATCH(C13,$B$35:$B$195,0)-1,0)) | D14: =IF(ISERROR(MATCH(D13,$B$35:$B$195,0)),"",OFFSET($A$35,MATCH(D13,$B$35:$B$195,0)-1,0)) | E14: =IF(ISERROR(MATCH(E13,$B$35:$B$195,0)),"",OFFSET($A$35,MATCH(E13,$B$35:$B$195,0)-1,0)) | F14: =IF(ISERROR(MATCH(F13,$B$35:$B$195,0)),"",OFFSET($A$35,MATCH(F13,$B$35:$B$195,0)-1,0))
A15: =A13+7 -> 42786 | B15: =B13+7 -> 42787 | C15: =C13+7 -> 42788 | D15: =D13+7 -> 42789 | E15: =E13+7 -> 42790 | F15: =+F11+7 -> 42785
A16: =IF(ISERROR(MATCH(A15,$B$35:$B$195,0)),"",OFFSET($A$35,MATCH(A15,$B$35:$B$195,0)-1,0)) -> Presidents Day | B16: =IF(ISERROR(MATCH(B15,$B$35:$B$195,0)),"",OFFSET($A$35,MATCH(B15,$B$35:$B$195,0)-1,0)) | C16: =IF(ISERROR(MATCH(C15,$B$35:$B$195,0)),"",OFFSET($A$35,MATCH(C15,$B$35:$B$195,0)-1,0)) | D16: =IF(ISERROR(MATCH(D15,$B$35:$B$195,0)),"",OFFSET($A$35,MATCH(D15,$B$35:$B$195,0)-1,0)) | E16: =IF(ISERROR(MATCH(E15,$B$35:$B$195,0)),"",OFFSET($A$35,MATCH(E15,$B$35:$B$195,0)-1,0)) | F16: =IF(ISERROR(MATCH(F15,$B$35:$B$195,0)),"",OFFSET($A$35,MATCH(F15,$B$35:$B$195,0)-1,0))
A17: =A13+7 -> 42786 | B17: =B13+7 -> 42787 | C17: =C13+7 -> 42788 | D17: =D13+7 -> 42789 | E17: =E13+7 -> 42790 | F17: =+F13+7 -> 42791
A18: =IF(ISERROR(MATCH(A17,$B$35:$B$195,0)),"",OFFSET($A$35,MATCH(A17,$B$35:$B$195,0)-1,0)) -> Presidents Day | B18: =IF(ISERROR(MATCH(B17,$B$35:$B$195,0)),"",OFFSET($A$35,MATCH(B17,$B$35:$B$195,0)-1,0)) | C18: =IF(ISERROR(MATCH(C17,$B$35:$B$195,0)),"",OFFSET($A$35,MATCH(C17,$B$35:$B$195,0)-1,0)) | D18: =IF(ISERROR(MATCH(D17,$B$35:$B$195,0)),"",OFFSET($A$35,MATCH(D17,$B$35:$B$195,0)-1,0)) | E18: =IF(ISERROR(MATCH(E17,$B$35:$B$195,0)),"",OFFSET($A$35,MATCH(E17,$B$35:$B$195,0)-1,0)) | F18: =IF(ISERROR(MATCH(F17,$B$35:$B$195,0)),"",OFFSET($A$35,MATCH(F17,$B$35:$B$195,0)-1,0))
A19: =A17+7 -> 42793 | B19: =B17+7 -> 42794 | C19: =C17+7 -> 42795 | D19: =D17+7 -> 42796 | E19: =E17+7 -> 42797 | F19: =+F15+7 -> 42792
A20: =IF(ISERROR(MATCH(A19,$B$35:$B$195,0)),"",OFFSET($A$35,MATCH(A19,$B$35:$B$195,0)-1,0)) | B20: =IF(ISERROR(MATCH(B19,$B$35:$B$195,0)),"",OFFSET($A$35,MATCH(B19,$B$35:$B$195,0)-1,0)) | C20: =IF(ISERROR(MATCH(C19,$B$35:$B$195,0)),"",OFFSET($A$35,MATCH(C19,$B$35:$B$195,0)-1,0)) | D20: =IF(ISERROR(MATCH(D19,$B$35:$B$195,0)),"",OFFSET($A$35,MATCH(D19,$B$35:$B$195,0)-1,0)) | E20: =IF(ISERROR(MATCH(E19,$B$35:$B$195,0)),"",OFFSET($A$35,MATCH(E19,$B$35:$B$195,0)-1,0)) | F20: =IF(ISERROR(MATCH(F19,$B$35:$B$195,0)),"",OFFSET($A$35,MATCH(F19,$B$35:$B$195,0)-1,0))
A21: =+A17+7 -> 42793 | B21: =B17+7 -> 42794 | C21: =C17+7 -> 42795 | D21: =D17+7 -> 42796 | E21: =E17+7 -> 42797 | F21: =+F17+7 -> 42798
A22: =IF(ISERROR(MATCH(A21,$B$35:$B$200,0)),"",OFFSET($A$35,MATCH(A21,$B$35:$B$200,0)-1,0)) | B22: =IF(ISERROR(MATCH(B21,$B$35:$B$195,0)),"",OFFSET($A$35,MATCH(B21,$B$35:$B$195,0)-1,0)) | C22: =IF(ISERROR(MATCH(C21,$B$35:$B$195,0)),"",OFFSET($A$35,MATCH(C21,$B$35:$B$195,0)-1,0)) | D22: =IF(ISERROR(MATCH(D21,$B$35:$B$200,0)),"",OFFSET($A$35,MATCH(D21,$B$35:$B$200,0)-1,0)) | E22: =IF(ISERROR(MATCH(E21,$B$35:$B$200,0)),"",OFFSET($A$35,MATCH(E21,$B$35:$B$200,0)-1,0)) | F22: =IF(ISERROR(MATCH(F21,$B$35:$B$200,0)),"",OFFSET($A$35,MATCH(F21,$B$35:$B$200,0)-1,0))
A23: =A21+7 -> 42800 | B23: =B21+7 -> 42801 | C23: =C21+7 -> 42802 | D23: =D21+7 -> 42803 | E23: =E21+7 -> 42804 | F23: =+F19+7 -> 42799
A24: =IF(ISERROR(MATCH(A23,$B$35:$B$200,0)),"",OFFSET($A$35,MATCH(A23,$B$35:$B$200,0)-1,0)) | B24: =IF(ISERROR(MATCH(B23,$B$35:$B$200,0)),"",OFFSET($A$35,MATCH(B23,$B$35:$B$200,0)-1,0)) | C24: =IF(ISERROR(MATCH(C23,$B$35:$B$200,0)),"",OFFSET($A$35,MATCH(C23,$B$35:$B$200,0)-1,0)) | D24: =IF(ISERROR(MATCH(D23,$B$35:$B$200,0)),"",OFFSET($A$35,MATCH(D23,$B$35:$B$200,0)-1,0)) | E24: =IF(ISERROR(MATCH(E23,$B$35:$B$200,0)),"",OFFSET($A$35,MATCH(E23,$B$35:$B$200,0)-1,0)) | F24: =IF(ISERROR(MATCH(F23,$B$35:$B$200,0)),"",OFFSET($A$35,MATCH(F23,$B$35:$B$200,0)-1,0))
A25: =+A21+7 -> 42800 | B25: =B21+7 -> 42801 | C25: =C21+7 -> 42802 | D25: =D21+7 -> 42803 | E25: =E21+7 -> 42804 | F25: =+F21+7 -> 42805
A26: =IF(ISERROR(MATCH(A25,$B$35:$B$200,0)),"",OFFSET($A$35,MATCH(A25,$B$35:$B$200,0)-1,0)) | B26: =IF(ISERROR(MATCH(B25,$B$35:$B$200,0)),"",OFFSET($A$35,MATCH(B25,$B$35:$B$200,0)-1,0)) | C26: =IF(ISERROR(MATCH(C25,$B$35:$B$200,0)),"",OFFSET($A$35,MATCH(C25,$B$35:$B$200,0)-1,0)) | D26: =IF(ISERROR(MATCH(D25,$B$35:$B$200,0)),"",OFFSET($A$35,MATCH(D25,$B$35:$B$200,0)-1,0)) | E26: =IF(ISERROR(MATCH(E25,$B$35:$B$200,0)),"",OFFSET($A$35,MATCH(E25,$B$35:$B$200,0)-1,0)) | F26: =IF(ISERROR(MATCH(F25,$B$35:$B$200,0)),"",OFFSET($A$35,MATCH(F25,$B$35:$B$200,0)-1,0))
A27: =A25+7 -> 42807 | B27: =B25+7 -> 42808 | C27: =C25+7 -> 42809 | D27: =D25+7 -> 42810 | E27: =E25+7 -> 42811 | F27: =+F23+7 -> 42806
A28: =IF(ISERROR(MATCH(A27,$B$35:$B$200,0)),"",OFFSET($A$35,MATCH(A27,$B$35:$B$200,0)-1,0)) | B28: =IF(ISERROR(MATCH(B27,$B$35:$B$200,0)),"",OFFSET($A$35,MATCH(B27,$B$35:$B$200,0)-1,0)) | C28: =IF(ISERROR(MATCH(C27,$B$35:$B$200,0)),"",OFFSET($A$35,MATCH(C27,$B$35:$B$200,0)-1,0)) | D28: =IF(ISERROR(MATCH(D27,$B$35:$B$200,0)),"",OFFSET($A$35,MATCH(D27,$B$35:$B$200,0)-1,0)) | E28: =IF(ISERROR(MATCH(E27,$B$35:$B$200,0)),"",OFFSET($A$35,MATCH(E27,$B$35:$B$200,0)-1,0)) | F28: =IF(ISERROR(MATCH(F27,$B$35:$B$200,0)),"",OFFSET($A$35,MATCH(F27,$B$35:$B$200,0)-1,0)) -> Daylight Savings Time
B29: Adjust only the cells in yellow
A30: Current month: | B30: 2 | C30: =TEXT(DATE(C31,B30,1),"mmmm") -> February | D30: month starts on: | E30: =TEXT(F30,"NNN") -> Wednesday | F30: =DATE(C31,B30,1) -> 42767 | G30: =WEEKDAY(F30) -> 4
A31: Current year-2000: | B31: =Begin_Here!C5 -> 17 | C31: =2000+B31 -> 2017 | D31: month ends on: | E31: =TEXT(F31,"NNN") -> Tuesday | F31: =DATE(C31,B30+1,0) -> 42794 | G31: =WEEKDAY(F31) -> 3
A32: Week starts on: | B32: Monday | C32: =MATCH(B32,C35:C41,0)-1 -> 1 | D32: =IF(C32+1>G30,-7,0) -> 0
A34: Events | B34: Date
A35: {=Begin_Here!B7:B400} -> Typical Holidays | B35: {=Begin_Here!E7:E400} -> 0 | C35: =TEXT(1,"NNN") -> Sunday
A36: Presidents Day | B36: 42786 | C36: =TEXT(2,"NNN") -> Monday
A37: Easter | B37: 42841 | C37: =TEXT(3,"NNN") -> Tuesday
A38: Independence day | B38: 42920 | C38: =TEXT(4,"NNN") -> Wednesday
A39: Labor Day | B39: 42982 | C39: =TEXT(5,"NNN") -> Thursday
A40: Memorial Day | B40: 42884 | C40: =TEXT(6,"NNN") -> Friday
A41: Columbus Day | B41: 43017 | C41: =TEXT(7,"NNN") -> Saturday
A42: Martin Luther King Jr. Day | B42: 42751
A43: Veterans Day | B43: 43050
A44: Ground Hog Day | B44: 42768
A45: Christmas day | B45: 43094
A46: Thanksgiving | B46: 43062
A47: 0 | B47: 0
A48: 0 | B48: 0
A49: 0 | B49: 0
A50: Seasons | B50: 0
A51: Spring | B51: 42814
A52: Summer | B52: 42907
A53: Fall | B53: 43000
A54: Winter | B54: 43090
A55: 0 | B55: 0
A56: Time Change | B56: 0
A57: Daylight Savings Time | B57: 42806
A58: Eastern Standard Time | B58: 43044
A59: 0 | B59: 0
A60: 0 | B60: 0
A61: 0 | B61: 0
A62: 0 | B62: 0
A63: 0 | B63: 0
A64: 0 | B64: 0
A65: 0 | B65: 0
A66: 0 | B66: 0
A67: 0 | B67: 0
A68: 0 | B68: 0
A69: 0 | B69: 0
A70: 0 | B70: 0
... A331: 0 | B331: 0
A332: =#REF! -> #REF!
A333: =#REF! -> #REF!
A334: =#REF! -> #REF!
A335: =#REF! -> #REF!
A336: =#REF! -> #REF!
A337: =#REF! -> #REF!
A338: =#REF! -> #REF!
A339: =#REF! -> #REF!
A340: =#REF! -> #REF!
A341: =#REF! -> #REF!
A342: =#REF! -> #REF!
A343: =#REF! -> #REF!
... A363: =#REF! -> #REF!

Sheet February Notes
A1: February Notes

Sheet February Full
A1: =+C30 -> February | D1: =+C31 -> 2017
A4: =TEXT(A5,"NNN") -> Monday | B4: =TEXT(B5,"NNN") -> Tuesday | C4: =TEXT(C5,"NNN") -> Wednesday | D4: =TEXT(D5,"NNN") -> Thursday | E4: =TEXT(E5,"NNN") -> Friday | F4: =TEXT(F5,"nnn") -> Saturday | G4: =TEXT(G5,"nnn") -> Sunday
A5: =$F30-$G30+$C32+$D32+COLUMN(A5) -> 42765 | B5: =$F30-$G30+$C32+$D32+COLUMN(B5) -> 42766 | C5: =$F30-$G30+$C32+$D32+COLUMN(C5) -> 42767 | D5: =$F30-$G30+$C32+$D32+COLUMN(D5) -> 42768 | E5: =$F30-$G30+$C32+$D32+COLUMN(E5) -> 42769 | F5: =$F30-$G30+$C32+$D32+COLUMN(F5) -> 42770 | G5: =$F30-$G30+$C32+$D32+COLUMN(G5) -> 42771
A6: =IF(ISERROR(MATCH(A5,$B$35:$B$200,0)),"",OFFSET($A$35,MATCH(A5,$B$35:$B$200,0)-1,0)) | B6: =IF(ISERROR(MATCH(B5,$B$35:$B$200,0)),"",OFFSET($A$35,MATCH(B5,$B$35:$B$200,0)-1,0)) | C6: =IF(ISERROR(MATCH(C5,$B$35:$B$200,0)),"",OFFSET($A$35,MATCH(C5,$B$35:$B$200,0)-1,0)) | D6: =IF(ISERROR(MATCH(D5,$B$35:$B$200,0)),"",OFFSET($A$35,MATCH(D5,$B$35:$B$200,0)-1,0)) -> Ground Hog Day | E6: =IF(ISERROR(MATCH(E5,$B$35:$B$200,0)),"",OFFSET($A$35,MATCH(E5,$B$35:$B$200,0)-1,0)) | F6: =IF(ISERROR(MATCH(F5,$B$35:$B$200,0)),"",OFFSET($A$35,MATCH(F5,$B$35:$B$200,0)-1,0)) | G6: =IF(ISERROR(MATCH(G5,$B$35:$B$200,0)),"",OFFSET($A$35,MATCH(G5,$B$35:$B$200,0)-1,0))
A9: =A5+7 -> 42772 | B9: =B5+7 -> 42773 | C9: =C5+7 -> 42774 | D9: =D5+7 -> 42775 | E9: =E5+7 -> 42776 | F9: =F5+7 -> 42777 | G9: =G5+7 -> 42778
A10: =IF(ISERROR(MATCH(A9,$B$35:$B$200,0)),"",OFFSET($A$35,MATCH(A9,$B$35:$B$200,0)-1,0)) | B10: =IF(ISERROR(MATCH(B9,$B$35:$B$200,0)),"",OFFSET($A$35,MATCH(B9,$B$35:$B$200,0)-1,0)) | C10: =IF(ISERROR(MATCH(C9,$B$35:$B$200,0)),"",OFFSET($A$35,MATCH(C9,$B$35:$B$200,0)-1,0)) | D10: =IF(ISERROR(MATCH(D9,$B$35:$B$200,0)),"",OFFSET($A$35,MATCH(D9,$B$35:$B$200,0)-1,0)) | E10: =IF(ISERROR(MATCH(E9,$B$35:$B$200,0)),"",OFFSET($A$35,MATCH(E9,$B$35:$B$200,0)-1,0)) | F10: =IF(ISERROR(MATCH(F9,$B$35:$B$200,0)),"",OFFSET($A$35,MATCH(F9,$B$35:$B$200,0)-1,0)) | G10: =IF(ISERROR(MATCH(G9,$B$35:$B$200,0)),"",OFFSET($A$35,MATCH(G9,$B$35:$B$200,0)-1,0))
F11: =F7+7 -> 7
F12: =IF(ISERROR(MATCH(F11,$B$35:$B$200,0)),"",OFFSET($A$35,MATCH(F11,$B$35:$B$200,0)-1,0))
A13: =A9+7 -> 42779 | B13: =B9+7 -> 42780 | C13: =C9+7 -> 42781 | D13: =D9+7 -> 42782 | E13: =E9+7 -> 42783 | F13: =F9+7 -> 42784 | G13: =G9+7 -> 42785
A14: =IF(ISERROR(MATCH(A13,$B$35:$B$200,0)),"",OFFSET($A$35,MATCH(A13,$B$35:$B$200,0)-1,0)) | B14: =IF(ISERROR(MATCH(B13,$B$35:$B$200,0)),"",OFFSET($A$35,MATCH(B13,$B$35:$B$200,0)-1,0)) | C14: =IF(ISERROR(MATCH(C13,$B$35:$B$200,0)),"",OFFSET($A$35,MATCH(C13,$B$35:$B$200,0)-1,0)) | D14: =IF(ISERROR(MATCH(D13,$B$35:$B$200,0)),"",OFFSET($A$35,MATCH(D13,$B$35:$B$200,0)-1,0)) | E14: =IF(ISERROR(MATCH(E13,$B$35:$B$200,0)),"",OFFSET($A$35,MATCH(E13,$B$35:$B$200,0)-1,0)) | F14: =IF(ISERROR(MATCH(F13,$B$35:$B$200,0)),"",OFFSET($A$35,MATCH(F13,$B$35:$B$200,0)-1,0)) | G14: =IF(ISERROR(MATCH(G13,$B$35:$B$200,0)),"",OFFSET($A$35,MATCH(G13,$B$35:$B$200,0)-1,0))
A15: =A13+7 -> 42786 | B15: =B13+7 -> 42787 | C15: =C13+7 -> 42788 | D15: =D13+7 -> 42789 | E15: =E13+7 -> 42790 | F15: =+F11+7 -> 14
A16: =IF(ISERROR(MATCH(A15,$B$35:$B$200,0)),"",OFFSET($A$35,MATCH(A15,$B$35:$B$200,0)-1,0)) -> Presidents Day | B16: =IF(ISERROR(MATCH(B15,$B$35:$B$200,0)),"",OFFSET($A$35,MATCH(B15,$B$35:$B$200,0)-1,0)) | C16: =IF(ISERROR(MATCH(C15,$B$35:$B$200,0)),"",OFFSET($A$35,MATCH(C15,$B$35:$B$200,0)-1,0)) | D16: =IF(ISERROR(MATCH(D15,$B$35:$B$200,0)),"",OFFSET($A$35,MATCH(D15,$B$35:$B$200,0)-1,0)) | E16: =IF(ISERROR(MATCH(E15,$B$35:$B$200,0)),"",OFFSET($A$35,MATCH(E15,$B$35:$B$200,0)-1,0)) | F16: =IF(ISERROR(MATCH(F15,$B$35:$B$200,0)),"",OFFSET($A$35,MATCH(F15,$B$35:$B$200,0)-1,0))
A17: =A13+7 -> 42786 | B17: =B13+7 -> 42787 | C17: =C13+7 -> 42788 | D17: =D13+7 -> 42789 | E17: =E13+7 -> 42790 | F17: =F13+7 -> 42791 | G17: =G13+7 -> 42792
A18: =IF(ISERROR(MATCH(A17,$B$35:$B$200,0)),"",OFFSET($A$35,MATCH(A17,$B$35:$B$200,0)-1,0)) -> Presidents Day | B18: =IF(ISERROR(MATCH(B17,$B$35:$B$200,0)),"",OFFSET($A$35,MATCH(B17,$B$35:$B$200,0)-1,0)) | C18: =IF(ISERROR(MATCH(C17,$B$35:$B$200,0)),"",OFFSET($A$35,MATCH(C17,$B$35:$B$200,0)-1,0)) | D18: =IF(ISERROR(MATCH(D17,$B$35:$B$200,0)),"",OFFSET($A$35,MATCH(D17,$B$35:$B$200,0)-1,0)) | E18: =IF(ISERROR(MATCH(E17,$B$35:$B$200,0)),"",OFFSET($A$35,MATCH(E17,$B$35:$B$200,0)-1,0)) | F18: =IF(ISERROR(MATCH(F17,$B$35:$B$200,0)),"",OFFSET($A$35,MATCH(F17,$B$35:$B$200,0)-1,0)) | G18: =IF(ISERROR(MATCH(G17,$B$35:$B$200,0)),"",OFFSET($A$35,MATCH(G17,$B$35:$B$200,0)-1,0))
A19: =A17+7 -> 42793 | B19: =B17+7 -> 42794 | C19: =C17+7 -> 42795 | D19: =D17+7 -> 42796 | E19: =E17+7 -> 42797 | F19: =+F15+7 -> 21
A20: =IF(ISERROR(MATCH(A19,$B$35:$B$200,0)),"",OFFSET($A$35,MATCH(A19,$B$35:$B$200,0)-1,0)) | B20: =IF(ISERROR(MATCH(B19,$B$35:$B$200,0)),"",OFFSET($A$35,MATCH(B19,$B$35:$B$200,0)-1,0)) | C20: =IF(ISERROR(MATCH(C19,$B$35:$B$200,0)),"",OFFSET($A$35,MATCH(C19,$B$35:$B$200,0)-1,0)) | D20: =IF(ISERROR(MATCH(D19,$B$35:$B$200,0)),"",OFFSET($A$35,MATCH(D19,$B$35:$B$200,0)-1,0)) | E20: =IF(ISERROR(MATCH(E19,$B$35:$B$200,0)),"",OFFSET($A$35,MATCH(E19,$B$35:$B$200,0)-1,0)) | F20: =IF(ISERROR(MATCH(F19,$B$35:$B$200,0)),"",OFFSET($A$35,MATCH(F19,$B$35:$B$200,0)-1,0))
A21: =A17+7 -> 42793 | B21: =B17+7 -> 42794 | C21: =C17+7 -> 42795 | D21: =D17+7 -> 42796 | E21: =E17+7 -> 42797 | F21: =F17+7 -> 42798 | G21: =G17+7 -> 42799
A22: =IF(ISERROR(MATCH(A21,$B$35:$B$200,0)),"",OFFSET($A$35,MATCH(A21,$B$35:$B$200,0)-1,0)) | B22: =IF(ISERROR(MATCH(B21,$B$35:$B$200,0)),"",OFFSET($A$35,MATCH(B21,$B$35:$B$200,0)-1,0)) | C22: =IF(ISERROR(MATCH(C21,$B$35:$B$200,0)),"",OFFSET($A$35,MATCH(C21,$B$35:$B$200,0)-1,0)) | D22: =IF(ISERROR(MATCH(D21,$B$35:$B$200,0)),"",OFFSET($A$35,MATCH(D21,$B$35:$B$200,0)-1,0)) | E22: =IF(ISERROR(MATCH(E21,$B$35:$B$200,0)),"",OFFSET($A$35,MATCH(E21,$B$35:$B$200,0)-1,0)) | F22: =IF(ISERROR(MATCH(F21,$B$35:$B$200,0)),"",OFFSET($A$35,MATCH(F21,$B$35:$B$200,0)-1,0)) | G22: =IF(ISERROR(MATCH(G21,$B$35:$B$200,0)),"",OFFSET($A$35,MATCH(G21,$B$35:$B$200,0)-1,0))
A23: =A21+7 -> 42800 | B23: =B21+7 -> 42801 | C23: =C21+7 -> 42802 | D23: =D21+7 -> 42803 | E23: =E21+7 -> 42804 | F23: =+F19+7 -> 28
A24: =IF(ISERROR(MATCH(A23,$B$35:$B$200,0)),"",OFFSET($A$35,MATCH(A23,$B$35:$B$200,0)-1,0)) | B24: =IF(ISERROR(MATCH(B23,$B$35:$B$200,0)),"",OFFSET($A$35,MATCH(B23,$B$35:$B$200,0)-1,0)) | C24: =IF(ISERROR(MATCH(C23,$B$35:$B$200,0)),"",OFFSET($A$35,MATCH(C23,$B$35:$B$200,0)-1,0)) | D24: =IF(ISERROR(MATCH(D23,$B$35:$B$200,0)),"",OFFSET($A$35,MATCH(D23,$B$35:$B$200,0)-1,0)) | E24: =IF(ISERROR(MATCH(E23,$B$35:$B$200,0)),"",OFFSET($A$35,MATCH(E23,$B$35:$B$200,0)-1,0)) | F24: =IF(ISERROR(MATCH(F23,$B$35:$B$200,0)),"",OFFSET($A$35,MATCH(F23,$B$35:$B$200,0)-1,0))
A25: =A21+7 -> 42800 | B25: =B21+7 -> 42801 | C25: =C21+7 -> 42802 | D25: =D21+7 -> 42803 | E25: =E21+7 -> 42804 | F25: =F21+7 -> 42805 | G25: =G21+7 -> 42806
A26: =IF(ISERROR(MATCH(A25,$B$35:$B$200,0)),"",OFFSET($A$35,MATCH(A25,$B$35:$B$200,0)-1,0)) | B26: =IF(ISERROR(MATCH(B25,$B$35:$B$200,0)),"",OFFSET($A$35,MATCH(B25,$B$35:$B$200,0)-1,0)) | C26: =IF(ISERROR(MATCH(C25,$B$35:$B$200,0)),"",OFFSET($A$35,MATCH(C25,$B$35:$B$200,0)-1,0)) | D26: =IF(ISERROR(MATCH(D25,$B$35:$B$200,0)),"",OFFSET($A$35,MATCH(D25,$B$35:$B$200,0)-1,0)) | E26: =IF(ISERROR(MATCH(E25,$B$35:$B$200,0)),"",OFFSET($A$35,MATCH(E25,$B$35:$B$200,0)-1,0)) | F26: =IF(ISERROR(MATCH(F25,$B$35:$B$200,0)),"",OFFSET($A$35,MATCH(F25,$B$35:$B$200,0)-1,0))
A27: =A25+7 -> 42807 | B27: =B25+7 -> 42808 | C27: =C25+7 -> 42809 | D27: =D25+7 -> 42810 | E27: =E25+7 -> 42811 | F27: =+F23+7 -> 35
A28: =IF(ISERROR(MATCH(A27,$B$35:$B$200,0)),"",OFFSET($A$35,MATCH(A27,$B$35:$B$200,0)-1,0)) | B28: =IF(ISERROR(MATCH(B27,$B$35:$B$200,0)),"",OFFSET($A$35,MATCH(B27,$B$35:$B$200,0)-1,0)) | C28: =IF(ISERROR(MATCH(C27,$B$35:$B$200,0)),"",OFFSET($A$35,MATCH(C27,$B$35:$B$200,0)-1,0)) | D28: =IF(ISERROR(MATCH(D27,$B$35:$B$200,0)),"",OFFSET($A$35,MATCH(D27,$B$35:$B$200,0)-1,0)) | E28: =IF(ISERROR(MATCH(E27,$B$35:$B$200,0)),"",OFFSET($A$35,MATCH(E27,$B$35:$B$200,0)-1,0)) | F28: =IF(ISERROR(MATCH(F27,$B$35:$B$200,0)),"",OFFSET($A$35,MATCH(F27,$B$35:$B$200,0)-1,0))
B29: Adjust only the cells in yellow
A30: Current month: | B30: 2 | C30: =TEXT(DATE(C31,B30,1),"mmmm") -> February | D30: month starts on: | E30: =TEXT(F30,"NNN") -> Wednesday | F30: =DATE(C31,B30,1) -> 42767 | G30: =WEEKDAY(F30) -> 4
A31: Current year-2000: | B31: =Begin_Here!C5 -> 17 | C31: =2000+B31 -> 2017 | D31: month ends on: | E31: =TEXT(F31,"NNN") -> Tuesday | F31: =DATE(C31,B30+1,0) -> 42794 | G31: =WEEKDAY(F31) -> 3
A32: Week starts on: | B32: Monday | C32: =MATCH(B32,C35:C41,0)-1 -> 1 | D32: =IF(C32+1>G30,-7,0) -> 0
A34: Events | B34: Date
A35: {=Begin_Here!B7:B400} -> Typical Holidays | B35: {=Begin_Here!E7:E400} -> 0 | C35: =TEXT(1,"NNN") -> Sunday
A36: Presidents Day | B36: 42786 | C36: =TEXT(2,"NNN") -> Monday
A37: Easter | B37: 42841 | C37: =TEXT(3,"NNN") -> Tuesday
A38: Independence day | B38: 42920 | C38: =TEXT(4,"NNN") -> Wednesday
A39: Labor Day | B39: 42982 | C39: =TEXT(5,"NNN") -> Thursday
A40: Memorial Day | B40: 42884 | C40: =TEXT(6,"NNN") -> Friday
A41: Columbus Day | B41: 43017 | C41: =TEXT(7,"NNN") -> Saturday
A42: Martin Luther King Jr. Day | B42: 42751
A43: Veterans Day | B43: 43050
A44: Ground Hog Day | B44: 42768
A45: Christmas day | B45: 43094
A46: Thanksgiving | B46: 43062
A47: 0 | B47: 0 | D47: =7.5/7 -> 1.0714286
A48: 0 | B48: 0
A49: 0 | B49: 0
A50: Seasons | B50: 0
A51: Spring | B51: 42814
A52: Summer | B52: 42907
A53: Fall | B53: 43000
A54: Winter | B54: 43090
A55: 0 | B55: 0
A56: Time Change | B56: 0
A57: Daylight Savings Time | B57: 42806
A58: Eastern Standard Time | B58: 43044
A59: 0 | B59: 0
A60: 0 | B60: 0
A61: 0 | B61: 0
A62: 0 | B62: 0
A63: 0 | B63: 0
A64: 0 | B64: 0
A65: 0 | B65: 0
A66: 0 | B66: 0
A67: 0 | B67: 0
A68: 0 | B68: 0
A69: 0 | B69: 0
A70: 0 | B70: 0
... A305: 0 | B305: 0
B306: 0
B307: 0
B308: 0
B309: 0
B310: 0
B311: 0
B312: 0
B313: 0
B314: 0
B315: 0
B316: 0
B317: 0
... B336: 0

Sheet February weeks
A1: =CONCATENATE(February!A1," ",Year) -> February 2017 | C1: =+B4 -> 42765 | D1: to | E1: =+E14 -> 42771 | F1: =+A1 -> February 2017 | H1: =+G4 -> 42772 | I1: to | J1: =+J14 -> 42778 | K1: =+F1 -> February 2017 | M1: =+L4 -> 42779 | N1: to | O1: =+O14 -> 42785 | P1: =+K1 -> February 2017 | R1: =+Q4 -> 42786 | S1: to | T1: =+T14 -> 42792 | U1: =+P1 -> February 2017 | W1: =+V4 -> 42793 | X1: to | Y1: =+Y14 -> 42799 | Z1: =+U1 -> February 2017 | AB1: =+AA4 -> 42800 | AC1: to | AD1: =+AD14 -> 42806
D2: Week | E2: =_xlfn.ORG.LIBREOFFICE.WEEKNUM_OOO(C1,1) -> 5 | I2: Week | J2: =_xlfn.ORG.LIBREOFFICE.WEEKNUM_OOO(H1,1) -> 6 | N2: Week | O2: =_xlfn.ORG.LIBREOFFICE.WEEKNUM_OOO(M1,1) -> 7 | S2: Week | T2: =_xlfn.ORG.LIBREOFFICE.WEEKNUM_OOO(R1,1) -> 8 | X2: Week | Y2: =_xlfn.ORG.LIBREOFFICE.WEEKNUM_OOO(W1,1) -> 9 | AC2: Week | AD2: =_xlfn.ORG.LIBREOFFICE.WEEKNUM_OOO(AB1,1) -> 10 | AF2: #Begin_Here
A4: Monday | B4: =February!A5 -> 42765 | C4: Thursday | E4: =February!D5 -> 42768 | F4: Monday | G4: =February!$A9 -> 42772 | H4: Thursday | J4: =February!$D9 -> 42775 | K4: Monday | L4: =February!$A13 -> 42779 | M4: Thursday | O4: =February!$D13 -> 42782 | P4: Monday | Q4: =February!A15 -> 42786 | R4: Thursday | T4: =February!$D17 -> 42789 | U4: Monday | V4: =February!A21 -> 42793 | W4: Thursday | Y4: =February!D21 -> 42796 | Z4: Monday | AA4: =February!A25 -> 42800 | AB4: Thursday | AD4: =February!D25 -> 42803
A5: =February!A6 | C5: =February!D6 -> Ground Hog Day | F5: =February!A10 | H5: =February!D10 | K5: =February!A14 | M5: =February!D14 | P5: =February!A18 -> Presidents Day | R5: =February!D18 | U5: =February!A22 | W5: =February!D22 | Z5: =February!A26 | AB5: =February!D26
