Workbook

Sheet Begin_Here
B5: Enter Current year (2 digits only) | C5: 17 | E5: =2000+C5 -> 2017
B6: Event Name | C6: Month | D6: Day | E6: Date
B7: Typical Holidays
B8: Presidents Day | E8: =DATE(Year,2,IF(2<WEEKDAY(DATE(Year,2,1)),10-WEEKDAY(DATE(Year,2,1)),3-WEEKDAY(DATE(Year,2,1)))+14) -> 42786
B9: Easter | E9: =_xlfn.ORG.OPENOFFICE.EASTERSUNDAY(Year) -> 42841
B10: Independence day | C10: 7 | D10: 4 | E10: =DATE(Year,Begin_Here!C10,Begin_Here!D10) -> 42920
B11: Labor Day | E11: =DATE(Year,9,1)+IF(2<WEEKDAY(DATE(Year,9,1)),7-WEEKDAY(DATE(Year,9,1))+2,2-WEEKDAY(DATE(Year,9,1)))+((1-1)*7) -> 42982
B12: Memorial Day | E12: =DATE(Year,6,IF(2<WEEKDAY(DATE(Year,6,1)),10-WEEKDAY(DATE(Year,6,1)),3-WEEKDAY(DATE(Year,6,1)))-7) -> 42884
B13: Columbus Day | C13: 10 | D13: 9 | E13: =DATE(Year,Begin_Here!C13,Begin_Here!D13) -> 43017
B14: Martin Luther King Jr. Day | E14: =DATE(Year,1,IF(2<WEEKDAY(DATE(Year,1,1)),10-WEEKDAY(DATE(Year,1,1)),3-WEEKDAY(DATE(Year,1,1)))+14) -> 42751
B15: Veterans Day | C15: 11 | D15: 11 | E15: =DATE(Year,Begin_Here!C15,Begin_Here!D15) -> 43050
B16: Ground Hog Day | C16: 2 | D16: 2 | E16: =DATE(Year,Begin_Here!C16,Begin_Here!D16) -> 42768
B17: Christmas day | C17: 12 | D17: 25 | E17: =DATE(Year,Begin_Here!C17,Begin_Here!D17) -> 43094
B18: Thanksgiving | C18: 11 | D18: 23 | E18: =DATE(Year,Begin_Here!C18,Begin_Here!D18) -> 43062
B22: Seasons
B23: Spring | C23: 3 | D23: 20 | E23: =DATE(Year,Begin_Here!C23,Begin_Here!D23) -> 42814
B24: Summer | C24: 6 | D24: 21 | E24: =DATE(Year,Begin_Here!C24,Begin_Here!D24) -> 42907
B25: Fall | C25: 9 | D25: 22 | E25: =DATE(Year,Begin_Here!C25,Begin_Here!D25) -> 43000
B26: Winter | C26: 12 | D26: 21 | E26: =DATE(Year,Begin_Here!C26,Begin_Here!D26) -> 43090
B28: Time Change
B29: Daylight Savings Time | C29: 3 | D29: 12 | E29: =DATE(Year,Begin_Here!C29,Begin_Here!D29) -> 42806
B30: Eastern Standard Time | C30: 11 | D30: 5 | E30: =DATE(Year,Begin_Here!C30,Begin_Here!D30) -> 43044
C31: 12 | D31: 13

Sheet Yearly Calendar
B1: Year | L1: Month | V1: Start Day
B2: =Begin_Here!E5 -> 2017 | L2: 1 | V2: 2
T3: 1: Sunday, 2: Monday
B10: =IF($L$2=1,B2,B2&"-"&B2+1) -> 2017
B12: =DATE($B$2,$L$2,1) -> 42736 | J12: =DATE(YEAR(B12+35),MONTH(B12+35),1) -> 42767 | R12: =DATE(YEAR(J12+35),MONTH(J12+35),1) -> 42795
B13: =INDEX({"Su","M","Tu","W","Th","F","Sa"},1+MOD($V$2+1-2,7)) -> M | C13: =INDEX({"Su","M","Tu","W","Th","F","Sa"},1+MOD($V$2+2-2,7)) -> Tu | D13: =INDEX({"Su","M","Tu","W","Th","F","Sa"},1+MOD($V$2+3-2,7)) -> W | E13: =INDEX({"Su","M","Tu","W","Th","F","Sa"},1+MOD($V$2+4-2,7)) -> Th | F13: =INDEX({"Su","M","Tu","W","Th","F","Sa"},1+MOD($V$2+5-2,7)) -> F | G13: =INDEX({"Su","M","Tu","W","Th","F","Sa"},1+MOD($V$2+6-2,7)) -> Sa | H13: =INDEX({"Su","M","Tu","W","Th","F","Sa"},1+MOD($V$2+7-2,7)) -> Su | J13: =$B$13 -> M | K13: =$C$13 -> Tu | L13: =$D$13 -> W | M13: =$E$13 -> Th | N13: =$F$13 -> F | O13: =$G$13 -> Sa | P13: =$H$13 -> Su | R13: =$B$13 -> M | S13: =$C$13 -> Tu | T13: =$D$13 -> W | U13: =$E$13 -> Th | V13: =$F$13 -> F | W13: =$G$13 -> Sa | X13: =$H$13 -> Su
B14: =IF(MONTH($B$12)<>MONTH($B$12-(WEEKDAY($B$12,1)-($V$2-1))-IF((WEEKDAY($B$12,1)-($V$2-1))<=0,7,0)+(ROW(B14)-ROW($B$14))*7+(COLUMN(B14)-COLUMN($B$14)+1)),"",$B$12-(WEEKDAY($B$12,1)-($V$2-1))-IF((WEEKDAY($B$12,1)-($V$2-1))<=0,7,0)+(ROW(B14)-ROW($B$14))*7+(COLUMN(B14)-COLUMN($B$14)+1)) | C14: =IF(MONTH($B$12)<>MONTH($B$12-(WEEKDAY($B$12,1)-($V$2-1))-IF((WEEKDAY($B$12,1)-($V$2-1))<=0,7,0)+(ROW(C14)-ROW($B$14))*7+(COLUMN(C14)-COLUMN($B$14)+1)),"",$B$12-(WEEKDAY($B$12,1)-($V$2-1))-IF((WEEKDAY($B$12,1)-($V$2-1))<=0,7,0)+(ROW(C14)-ROW($B$14))*7+(COLUMN(C14)-COLUMN($B$14)+1)) | D14: =IF(MONTH($B$12)<>MONTH($B$12-(WEEKDAY($B$12,1)-($V$2-1))-IF((WEEKDAY($B$12,1)-($V$2-1))<=0,7,0)+(ROW(D14)-ROW($B$14))*7+(COLUMN(D14)-COLUMN($B$14)+1)),"",$B$12-(WEEKDAY($B$12,1)-($V$2-1))-IF((WEEKDAY($B$12,1)-($V$2-1))<=0,7,0)+(ROW(D14)-ROW($B$14))*7+(COLUMN(D14)-COLUMN($B$14)+1)) | E14: =IF(MONTH($B$12)<>MONTH($B$12-(WEEKDAY($B$12,1)-($V$2-1))-IF((WEEKDAY($B$12,1)-($V$2-1))<=0,7,0)+(ROW(E14)-ROW($B$14))*7+(COLUMN(E14)-COLUMN($B$14)+1)),"",$B$12-(WEEKDAY($B$12,1)-($V$2-1))-IF((WEEKDAY($B$12,1)-($V$2-1))<=0,7,0)+(ROW(E14)-ROW($B$14))*7+(COLUMN(E14)-COLUMN($B$14)+1)) | F14: =IF(MONTH($B$12)<>MONTH($B$12-(WEEKDAY($B$12,1)-($V$2-1))-IF((WEEKDAY($B$12,1)-($V$2-1))<=0,7,0)+(ROW(F14)-ROW($B$14))*7+(COLUMN(F14)-COLUMN($B$14)+1)),"",$B$12-(WEEKDAY($B$12,1)-($V$2-1))-IF((WEEKDAY($B$12,1)-($V$2-1))<=0,7,0)+(ROW(F14)-ROW($B$14))*7+(COLUMN(F14)-COLUMN($B$14)+1)) | G14: =IF(MONTH($B$12)<>MONTH($B$12-(WEEKDAY($B$12,1)-($V$2-1))-IF((WEEKDAY($B$12,1)-($V$2-1))<=0,7,0)+(ROW(G14)-ROW($B$14))*7+(COLUMN(G14)-COLUMN($B$14)+1)),"",$B$12-(WEEKDAY($B$12,1)-($V$2-1))-IF((WEEKDAY($B$12,1)-($V$2-1))<=0,7,0)+(ROW(G14)-ROW($B$14))*7+(COLUMN(G14)-COLUMN($B$14)+1)) | H14: =IF(MONTH($B$12)<>MONTH($B$12-(WEEKDAY($B$12,1)-($V$2-1))-IF((WEEKDAY($B$12,1)-($V$2-1))<=0,7,0)+(ROW(H14)-ROW($B$14))*7+(COLUMN(H14)-COLUMN($B$14)+1)),"",$B$12-(WEEKDAY($B$12,1)-($V$2-1))-IF((WEEKDAY($B$12,1)-($V$2-1))<=0,7,0)+(ROW(H14)-ROW($B$14))*7+(COLUMN(H14)-COLUMN($B$14)+1)) -> 42736 | J14: =IF(MONTH($J$12)<>MONTH($J$12-(WEEKDAY($J$12,1)-($V$2-1))-IF((WEEKDAY($J$12,1)-($V$2-1))<=0,7,0)+(ROW(J14)-ROW($J$14))*7+(COLUMN(J14)-COLUMN($J$14)+1)),"",$J$12-(WEEKDAY($J$12,1)-($V$2-1))-IF((WEEKDAY($J$12,1)-($V$2-1))<=0,7,0)+(ROW(J14)-ROW($J$14))*7+(COLUMN(J14)-COLUMN($J$14)+1)) | K14: =IF(MONTH($J$12)<>MONTH($J$12-(WEEKDAY($J$12,1)-($V$2-1))-IF((WEEKDAY($J$12,1)-($V$2-1))<=0,7,0)+(ROW(K14)-ROW($J$14))*7+(COLUMN(K14)-COLUMN($J$14)+1)),"",$J$12-(WEEKDAY($J$12,1)-($V$2-1))-IF((WEEKDAY($J$12,1)-($V$2-1))<=0,7,0)+(ROW(K14)-ROW($J$14))*7+(COLUMN(K14)-COLUMN($J$14)+1)) | L14: =IF(MONTH($J$12)<>MONTH($J$12-(WEEKDAY($J$12,1)-($V$2-1))-IF((WEEKDAY($J$12,1)-($V$2-1))<=0,7,0)+(ROW(L14)-ROW($J$14))*7+(COLUMN(L14)-COLUMN($J$14)+1)),"",$J$12-(WEEKDAY($J$12,1)-($V$2-1))-IF((WEEKDAY($J$12,1)-($V$2-1))<=0,7,0)+(ROW(L14)-ROW($J$14))*7+(COLUMN(L14)-COLUMN($J$14)+1)) -> 42767 | M14: =IF(MONTH($J$12)<>MONTH($J$12-(WEEKDAY($J$12,1)-($V$2-1))-IF((WEEKDAY($J$12,1)-($V$2-1))<=0,7,0)+(ROW(M14)-ROW($J$14))*7+(COLUMN(M14)-COLUMN($J$14)+1)),"",$J$12-(WEEKDAY($J$12,1)-($V$2-1))-IF((WEEKDAY($J$12,1)-($V$2-1))<=0,7,0)+(ROW(M14)-ROW($J$14))*7+(COLUMN(M14)-COLUMN($J$14)+1)) -> 42768 | N14: =IF(MONTH($J$12)<>MONTH($J$12-(WEEKDAY($J$12,1)-($V$2-1))-IF((WEEKDAY($J$12,1)-($V$2-1))<=0,7,0)+(ROW(N14)-ROW($J$14))*7+(COLUMN(N14)-COLUMN($J$14)+1)),"",$J$12-(WEEKDAY($J$12,1)-($V$2-1))-IF((WEEKDAY($J$12,1)-($V$2-1))<=0,7,0)+(ROW(N14)-ROW($J$14))*7+(COLUMN(N14)-COLUMN($J$14)+1)) -> 42769 | O14: =IF(MONTH($J$12)<>MONTH($J$12-(WEEKDAY($J$12,1)-($V$2-1))-IF((WEEKDAY($J$12,1)-($V$2-1))<=0,7,0)+(ROW(O14)-ROW($J$14))*7+(COLUMN(O14)-COLUMN($J$14)+1)),"",$J$12-(WEEKDAY($J$12,1)-($V$2-1))-IF((WEEKDAY($J$12,1)-($V$2-1))<=0,7,0)+(ROW(O14)-ROW($J$14))*7+(COLUMN(O14)-COLUMN($J$14)+1)) -> 42770 | P14: =IF(MONTH($J$12)<>MONTH($J$12-(WEEKDAY($J$12,1)-($V$2-1))-IF((WEEKDAY($J$12,1)-($V$2-1))<=0,7,0)+(ROW(P14)-ROW($J$14))*7+(COLUMN(P14)-COLUMN($J$14)+1)),"",$J$12-(WEEKDAY($J$12,1)-($V$2-1))-IF((WEEKDAY($J$12,1)-($V$2-1))<=0,7,0)+(ROW(P14)-ROW($J$14))*7+(COLUMN(P14)-COLUMN($J$14)+1)) -> 42771 | R14: =IF(MONTH($R$12)<>MONTH($R$12-(WEEKDAY($R$12,1)-($V$2-1))-IF((WEEKDAY($R$12,1)-($V$2-1))<=0,7,0)+(ROW(R14)-ROW($R$14))*7+(COLUMN(R14)-COLUMN($R$14)+1)),"",$R$12-(WEEKDAY($R$12,1)-($V$2-1))-IF((WEEKDAY($R$12,1)-($V$2-1))<=0,7,0)+(ROW(R14)-ROW($R$14))*7+(COLUMN(R14)-COLUMN($R$14)+1)) | S14: =IF(MONTH($R$12)<>MONTH($R$12-(WEEKDAY($R$12,1)-($V$2-1))-IF((WEEKDAY($R$12,1)-($V$2-1))<=0,7,0)+(ROW(S14)-ROW($R$14))*7+(COLUMN(S14)-COLUMN($R$14)+1)),"",$R$12-(WEEKDAY($R$12,1)-($V$2-1))-IF((WEEKDAY($R$12,1)-($V$2-1))<=0,7,0)+(ROW(S14)-ROW($R$14))*7+(COLUMN(S14)-COLUMN($R$14)+1)) | T14: =IF(MONTH($R$12)<>MONTH($R$12-(WEEKDAY($R$12,1)-($V$2-1))-IF((WEEKDAY($R$12,1)-($V$2-1))<=0,7,0)+(ROW(T14)-ROW($R$14))*7+(COLUMN(T14)-COLUMN($R$14)+1)),"",$R$12-(WEEKDAY($R$12,1)-($V$2-1))-IF((WEEKDAY($R$12,1)-($V$2-1))<=0,7,0)+(ROW(T14)-ROW($R$14))*7+(COLUMN(T14)-COLUMN($R$14)+1)) -> 42795 | U14: =IF(MONTH($R$12)<>MONTH($R$12-(WEEKDAY($R$12,1)-($V$2-1))-IF((WEEKDAY($R$12,1)-($V$2-1))<=0,7,0)+(ROW(U14)-ROW($R$14))*7+(COLUMN(U14)-COLUMN($R$14)+1)),"",$R$12-(WEEKDAY($R$12,1)-($V$2-1))-IF((WEEKDAY($R$12,1)-($V$2-1))<=0,7,0)+(ROW(U14)-ROW($R$14))*7+(COLUMN(U14)-COLUMN($R$14)+1)) -> 42796 | V14: =IF(MONTH($R$12)<>MONTH($R$12-(WEEKDAY($R$12,1)-($V$2-1))-IF((WEEKDAY($R$12,1)-($V$2-1))<=0,7,0)+(ROW(V14)-ROW($R$14))*7+(COLUMN(V14)-COLUMN($R$14)+1)),"",$R$12-(WEEKDAY($R$12,1)-($V$2-1))-IF((WEEKDAY($R$12,1)-($V$2-1))<=0,7,0)+(ROW(V14)-ROW($R$14))*7+(COLUMN(V14)-COLUMN($R$14)+1)) -> 42797 | W14: =IF(MONTH($R$12)<>MONTH($R$12-(WEEKDAY($R$12,1)-($V$2-1))-IF((WEEKDAY($R$12,1)-($V$2-1))<=0,7,0)+(ROW(W14)-ROW($R$14))*7+(COLUMN(W14)-COLUMN($R$14)+1)),"",$R$12-(WEEKDAY($R$12,1)-($V$2-1))-IF((WEEKDAY($R$12,1)-($V$2-1))<=0,7,0)+(ROW(W14)-ROW($R$14))*7+(COLUMN(W14)-COLUMN($R$14)+1)) -> 42798 | X14: =IF(MONTH($R$12)<>MONTH($R$12-(WEEKDAY($R$12,1)-($V$2-1))-IF((WEEKDAY($R$12,1)-($V$2-1))<=0,7,0)+(ROW(X14)-ROW($R$14))*7+(COLUMN(X14)-COLUMN($R$14)+1)),"",$R$12-(WEEKDAY($R$12,1)-($V$2-1))-IF((WEEKDAY($R$12,1)-($V$2-1))<=0,7,0)+(ROW(X14)-ROW($R$14))*7+(COLUMN(X14)-COLUMN($R$14)+1)) -> 42799
B15: =IF(MONTH($B$12)<>MONTH($B$12-(WEEKDAY($B$12,1)-($V$2-1))-IF((WEEKDAY($B$12,1)-($V$2-1))<=0,7,0)+(ROW(B15)-ROW($B$14))*7+(COLUMN(B15)-COLUMN($B$14)+1)),"",$B$12-(WEEKDAY($B$12,1)-($V$2-1))-IF((WEEKDAY($B$12,1)-($V$2-1))<=0,7,0)+(ROW(B15)-ROW($B$14))*7+(COLUMN(B15)-COLUMN($B$14)+1)) -> 42737 | C15: =IF(MONTH($B$12)<>MONTH($B$12-(WEEKDAY($B$12,1)-($V$2-1))-IF((WEEKDAY($B$12,1)-($V$2-1))<=0,7,0)+(ROW(C15)-ROW($B$14))*7+(COLUMN(C15)-COLUMN($B$14)+1)),"",$B$12-(WEEKDAY($B$12,1)-($V$2-1))-IF((WEEKDAY($B$12,1)-($V$2-1))<=0,7,0)+(ROW(C15)-ROW($B$14))*7+(COLUMN(C15)-COLUMN($B$14)+1)) -> 42738 | D15: =IF(MONTH($B$12)<>MONTH($B$12-(WEEKDAY($B$12,1)-($V$2-1))-IF((WEEKDAY($B$12,1)-($V$2-1))<=0,7,0)+(ROW(D15)-ROW($B$14))*7+(COLUMN(D15)-COLUMN($B$14)+1)),"",$B$12-(WEEKDAY($B$12,1)-($V$2-1))-IF((WEEKDAY($B$12,1)-($V$2-1))<=0,7,0)+(ROW(D15)-ROW($B$14))*7+(COLUMN(D15)-COLUMN($B$14)+1)) -> 42739 | E15: =IF(MONTH($B$12)<>MONTH($B$12-(WEEKDAY($B$12,1)-($V$2-1))-IF((WEEKDAY($B$12,1)-($V$2-1))<=0,7,0)+(ROW(E15)-ROW($B$14))*7+(COLUMN(E15)-COLUMN($B$14)+1)),"",$B$12-(WEEKDAY($B$12,1)-($V$2-1))-IF((WEEKDAY($B$12,1)-($V$2-1))<=0,7,0)+(ROW(E15)-ROW($B$14))*7+(COLUMN(E15)-COLUMN($B$14)+1)) -> 42740 | F15: =IF(MONTH($B$12)<>MONTH($B$12-(WEEKDAY($B$12,1)-($V$2-1))-IF((WEEKDAY($B$12,1)-($V$2-1))<=0,7,0)+(ROW(F15)-ROW($B$14))*7+(COLUMN(F15)-COLUMN($B$14)+1)),"",$B$12-(WEEKDAY($B$12,1)-($V$2-1))-IF((WEEKDAY($B$12,1)-($V$2-1))<=0,7,0)+(ROW(F15)-ROW($B$14))*7+(COLUMN(F15)-COLUMN($B$14)+1)) -> 42741 | G15: =IF(MONTH($B$12)<>MONTH($B$12-(WEEKDAY($B$12,1)-($V$2-1))-IF((WEEKDAY($B$12,1)-($V$2-1))<=0,7,0)+(ROW(G15)-ROW($B$14))*7+(COLUMN(G15)-COLUMN($B$14)+1)),"",$B$12-(WEEKDAY($B$12,1)-($V$2-1))-IF((WEEKDAY($B$12,1)-($V$2-1))<=0,7,0)+(ROW(G15)-ROW($B$14))*7+(COLUMN(G15)-COLUMN($B$14)+1)) -> 42742 | H15: =IF(MONTH($B$12)<>MONTH($B$12-(WEEKDAY($B$12,1)-($V$2-1))-IF((WEEKDAY($B$12,1)-($V$2-1))<=0,7,0)+(ROW(H15)-ROW($B$14))*7+(COLUMN(H15)-COLUMN($B$14)+1)),"",$B$12-(WEEKDAY($B$12,1)-($V$2-1))-IF((WEEKDAY($B$12,1)-($V$2-1))<=0,7,0)+(ROW(H15)-ROW($B$14))*7+(COLUMN(H15)-COLUMN($B$14)+1)) -> 42743 | J15: =IF(MONTH($J$12)<>MONTH($J$12-(WEEKDAY($J$12,1)-($V$2-1))-IF((WEEKDAY($J$12,1)-($V$2-1))<=0,7,0)+(ROW(J15)-ROW($J$14))*7+(COLUMN(J15)-COLUMN($J$14)+1)),"",$J$12-(WEEKDAY($J$12,1)-($V$2-1))-IF((WEEKDAY($J$12,1)-($V$2-1))<=0,7,0)+(ROW(J15)-ROW($J$14))*7+(COLUMN(J15)-COLUMN($J$14)+1)) -> 42772 | K15: =IF(MONTH($J$12)<>MONTH($J$12-(WEEKDAY($J$12,1)-($V$2-1))-IF((WEEKDAY($J$12,1)-($V$2-1))<=0,7,0)+(ROW(K15)-ROW($J$14))*7+(COLUMN(K15)-COLUMN($J$14)+1)),"",$J$12-(WEEKDAY($J$12,1)-($V$2-1))-IF((WEEKDAY($J$12,1)-($V$2-1))<=0,7,0)+(ROW(K15)-ROW($J$14))*7+(COLUMN(K15)-COLUMN($J$14)+1)) -> 42773 | L15: =IF(MONTH($J$12)<>MONTH($J$12-(WEEKDAY($J$12,1)-($V$2-1))-IF((WEEKDAY($J$12,1)-($V$2-1))<=0,7,0)+(ROW(L15)-ROW($J$14))*7+(COLUMN(L15)-COLUMN($J$14)+1)),"",$J$12-(WEEKDAY($J$12,1)-($V$2-1))-IF((WEEKDAY($J$12,1)-($V$2-1))<=0,7,0)+(ROW(L15)-ROW($J$14))*7+(COLUMN(L15)-COLUMN($J$14)+1)) -> 42774 | M15: =IF(MONTH($J$12)<>MONTH($J$12-(WEEKDAY($J$12,1)-($V$2-1))-IF((WEEKDAY($J$12,1)-($V$2-1))<=0,7,0)+(ROW(M15)-ROW($J$14))*7+(COLUMN(M15)-COLUMN($J$14)+1)),"",$J$12-(WEEKDAY($J$12,1)-($V$2-1))-IF((WEEKDAY($J$12,1)-($V$2-1))<=0,7,0)+(ROW(M15)-ROW($J$14))*7+(COLUMN(M15)-COLUMN($J$14)+1)) -> 42775 | N15: =IF(MONTH($J$12)<>MONTH($J$12-(WEEKDAY($J$12,1)-($V$2-1))-IF((WEEKDAY($J$12,1)-($V$2-1))<=0,7,0)+(ROW(N15)-ROW($J$14))*7+(COLUMN(N15)-COLUMN($J$14)+1)),"",$J$12-(WEEKDAY($J$12,1)-($V$2-1))-IF((WEEKDAY($J$12,1)-($V$2-1))<=0,7,0)+(ROW(N15)-ROW($J$14))*7+(COLUMN(N15)-COLUMN($J$14)+1)) -> 42776 | O15: =IF(MONTH($J$12)<>MONTH($J$12-(WEEKDAY($J$12,1)-($V$2-1))-IF((WEEKDAY($J$12,1)-($V$2-1))<=0,7,0)+(ROW(O15)-ROW($J$14))*7+(COLUMN(O15)-COLUMN($J$14)+1)),"",$J$12-(WEEKDAY($J$12,1)-($V$2-1))-IF((WEEKDAY($J$12,1)-($V$2-1))<=0,7,0)+(ROW(O15)-ROW($J$14))*7+(COLUMN(O15)-COLUMN($J$14)+1)) -> 42777 | P15: =IF(MONTH($J$12)<>MONTH($J$12-(WEEKDAY($J$12,1)-($V$2-1))-IF((WEEKDAY($J$12,1)-($V$2-1))<=0,7,0)+(ROW(P15)-ROW($J$14))*7+(COLUMN(P15)-COLUMN($J$14)+1)),"",$J$12-(WEEKDAY($J$12,1)-($V$2-1))-IF((WEEKDAY($J$12,1)-($V$2-1))<=0,7,0)+(ROW(P15)-ROW($J$14))*7+(COLUMN(P15)-COLUMN($J$14)+1)) -> 42778 | R15: =IF(MONTH($R$12)<>MONTH($R$12-(WEEKDAY($R$12,1)-($V$2-1))-IF((WEEKDAY($R$12,1)-($V$2-1))<=0,7,0)+(ROW(R15)-ROW($R$14))*7+(COLUMN(R15)-COLUMN($R$14)+1)),"",$R$12-(WEEKDAY($R$12,1)-($V$2-1))-IF((WEEKDAY($R$12,1)-($V$2-1))<=0,7,0)+(ROW(R15)-ROW($R$14))*7+(COLUMN(R15)-COLUMN($R$14)+1)) -> 42800 | S15: =IF(MONTH($R$12)<>MONTH($R$12-(WEEKDAY($R$12,1)-($V$2-1))-IF((WEEKDAY($R$12,1)-($V$2-1))<=0,7,0)+(ROW(S15)-ROW($R$14))*7+(COLUMN(S15)-COLUMN($R$14)+1)),"",$R$12-(WEEKDAY($R$12,1)-($V$2-1))-IF((WEEKDAY($R$12,1)-($V$2-1))<=0,7,0)+(ROW(S15)-ROW($R$14))*7+(COLUMN(S15)-COLUMN($R$14)+1)) -> 42801 | T15: =IF(MONTH($R$12)<>MONTH($R$12-(WEEKDAY($R$12,1)-($V$2-1))-IF((WEEKDAY($R$12,1)-($V$2-1))<=0,7,0)+(ROW(T15)-ROW($R$14))*7+(COLUMN(T15)-COLUMN($R$14)+1)),"",$R$12-(WEEKDAY($R$12,1)-($V$2-1))-IF((WEEKDAY($R$12,1)-($V$2-1))<=0,7,0)+(ROW(T15)-ROW($R$14))*7+(COLUMN(T15)-COLUMN($R$14)+1)) -> 42802 | U15: =IF(MONTH($R$12)<>MONTH($R$12-(WEEKDAY($R$12,1)-($V$2-1))-IF((WEEKDAY($R$12,1)-($V$2-1))<=0,7,0)+(ROW(U15)-ROW($R$14))*7+(COLUMN(U15)-COLUMN($R$14)+1)),"",$R$12-(WEEKDAY($R$12,1)-($V$2-1))-IF((WEEKDAY($R$12,1)-($V$2-1))<=0,7,0)+(ROW(U15)-ROW($R$14))*7+(COLUMN(U15)-COLUMN($R$14)+1)) -> 42803 | V15: =IF(MONTH($R$12)<>MONTH($R$12-(WEEKDAY($R$12,1)-($V$2-1))-IF((WEEKDAY($R$12,1)-($V$2-1))<=0,7,0)+(ROW(V15)-ROW($R$14))*7+(COLUMN(V15)-COLUMN($R$14)+1)),"",$R$12-(WEEKDAY($R$12,1)-($V$2-1))-IF((WEEKDAY($R$12,1)-($V$2-1))<=0,7,0)+(ROW(V15)-ROW($R$14))*7+(COLUMN(V15)-COLUMN($R$14)+1)) -> 42804 | W15: =IF(MONTH($R$12)<>MONTH($R$12-(WEEKDAY($R$12,1)-($V$2-1))-IF((WEEKDAY($R$12,1)-($V$2-1))<=0,7,0)+(ROW(W15)-ROW($R$14))*7+(COLUMN(W15)-COLUMN($R$14)+1)),"",$R$12-(WEEKDAY($R$12,1)-($V$2-1))-IF((WEEKDAY($R$12,1)-($V$2-1))<=0,7,0)+(ROW(W15)-ROW($R$14))*7+(COLUMN(W15)-COLUMN($R$14)+1)) -> 42805 | X15: =IF(MONTH($R$12)<>MONTH($R$12-(WEEKDAY($R$12,1)-($V$2-1))-IF((WEEKDAY($R$12,1)-($V$2-1))<=0,7,0)+(ROW(X15)-ROW($R$14))*7+(COLUMN(X15)-COLUMN($R$14)+1)),"",$R$12-(WEEKDAY($R$12,1)-($V$2-1))-IF((WEEKDAY($R$12,1)-($V$2-1))<=0,7,0)+(ROW(X15)-ROW($R$14))*7+(COLUMN(X15)-COLUMN($R$14)+1)) -> 42806
B16: =IF(MONTH($B$12)<>MONTH($B$12-(WEEKDAY($B$12,1)-($V$2-1))-IF((WEEKDAY($B$12,1)-($V$2-1))<=0,7,0)+(ROW(B16)-ROW($B$14))*7+(COLUMN(B16)-COLUMN($B$14)+1)),"",$B$12-(WEEKDAY($B$12,1)-($V$2-1))-IF((WEEKDAY($B$12,1)-($V$2-1))<=0,7,0)+(ROW(B16)-ROW($B$14))*7+(COLUMN(B16)-COLUMN($B$14)+1)) -> 42744 | C16: =IF(MONTH($B$12)<>MONTH($B$12-(WEEKDAY($B$12,1)-($V$2-1))-IF((WEEKDAY($B$12,1)-($V$2-1))<=0,7,0)+(ROW(C16)-ROW($B$14))*7+(COLUMN(C16)-COLUMN($B$14)+1)),"",$B$12-(WEEKDAY($B$12,1)-($V$2-1))-IF((WEEKDAY($B$12,1)-($V$2-1))<=0,7,0)+(ROW(C16)-ROW($B$14))*7+(COLUMN(C16)-COLUMN($B$14)+1)) -> 42745 | D16: =IF(MONTH($B$12)<>MONTH($B$12-(WEEKDAY($B$12,1)-($V$2-1))-IF((WEEKDAY($B$12,1)-($V$2-1))<=0,7,0)+(ROW(D16)-ROW($B$14))*7+(COLUMN(D16)-COLUMN($B$14)+1)),"",$B$12-(WEEKDAY($B$12,1)-($V$2-1))-IF((WEEKDAY($B$12,1)-($V$2-1))<=0,7,0)+(ROW(D16)-ROW($B$14))*7+(COLUMN(D16)-COLUMN($B$14)+1)) -> 42746 | E16: =IF(MONTH($B$12)<>MONTH($B$12-(WEEKDAY($B$12,1)-($V$2-1))-IF((WEEKDAY($B$12,1)-($V$2-1))<=0,7,0)+(ROW(E16)-ROW($B$14))*7+(COLUMN(E16)-COLUMN($B$14)+1)),"",$B$12-(WEEKDAY($B$12,1)-($V$2-1))-IF((WEEKDAY($B$12,1)-($V$2-1))<=0,7,0)+(ROW(E16)-ROW($B$14))*7+(COLUMN(E16)-COLUMN($B$14)+1)) -> 42747 | F16: =IF(MONTH($B$12)<>MONTH($B$12-(WEEKDAY($B$12,1)-($V$2-1))-IF((WEEKDAY($B$12,1)-($V$2-1))<=0,7,0)+(ROW(F16)-ROW($B$14))*7+(COLUMN(F16)-COLUMN($B$14)+1)),"",$B$12-(WEEKDAY($B$12,1)-($V$2-1))-IF((WEEKDAY($B$12,1)-($V$2-1))<=0,7,0)+(ROW(F16)-ROW($B$14))*7+(COLUMN(F16)-COLUMN($B$14)+1)) -> 42748 | G16: =IF(MONTH($B$12)<>MONTH($B$12-(WEEKDAY($B$12,1)-($V$2-1))-IF((WEEKDAY($B$12,1)-($V$2-1))<=0,7,0)+(ROW(G16)-ROW($B$14))*7+(COLUMN(G16)-COLUMN($B$14)+1)),"",$B$12-(WEEKDAY($B$12,1)-($V$2-1))-IF((WEEKDAY($B$12,1)-($V$2-1))<=0,7,0)+(ROW(G16)-ROW($B$14))*7+(COLUMN(G16)-COLUMN($B$14)+1)) -> 42749 | H16: =IF(MONTH($B$12)<>MONTH($B$12-(WEEKDAY($B$12,1)-($V$2-1))-IF((WEEKDAY($B$12,1)-($V$2-1))<=0,7,0)+(ROW(H16)-ROW($B$14))*7+(COLUMN(H16)-COLUMN($B$14)+1)),"",$B$12-(WEEKDAY($B$12,1)-($V$2-1))-IF((WEEKDAY($B$12,1)-($V$2-1))<=0,7,0)+(ROW(H16)-ROW($B$14))*7+(COLUMN(H16)-COLUMN($B$14)+1)) -> 42750 | J16: =IF(MONTH($J$12)<>MONTH($J$12-(WEEKDAY($J$12,1)-($V$2-1))-IF((WEEKDAY($J$12,1)-($V$2-1))<=0,7,0)+(ROW(J16)-ROW($J$14))*7+(COLUMN(J16)-COLUMN($J$14)+1)),"",$J$12-(WEEKDAY($J$12,1)-($V$2-1))-IF((WEEKDAY($J$12,1)-($V$2-1))<=0,7,0)+(ROW(J16)-ROW($J$14))*7+(COLUMN(J16)-COLUMN($J$14)+1)) -> 42779 | K16: =IF(MONTH($J$12)<>MONTH($J$12-(WEEKDAY($J$12,1)-($V$2-1))-IF((WEEKDAY($J$12,1)-($V$2-1))<=0,7,0)+(ROW(K16)-ROW($J$14))*7+(COLUMN(K16)-COLUMN($J$14)+1)),"",$J$12-(WEEKDAY($J$12,1)-($V$2-1))-IF((WEEKDAY($J$12,1)-($V$2-1))<=0,7,0)+(ROW(K16)-ROW($J$14))*7+(COLUMN(K16)-COLUMN($J$14)+1)) -> 42780 | L16: =IF(MONTH($J$12)<>MONTH($J$12-(WEEKDAY($J$12,1)-($V$2-1))-IF((WEEKDAY($J$12,1)-($V$2-1))<=0,7,0)+(ROW(L16)-ROW($J$14))*7+(COLUMN(L16)-COLUMN($J$14)+1)),"",$J$12-(WEEKDAY($J$12,1)-($V$2-1))-IF((WEEKDAY($J$12,1)-($V$2-1))<=0,7,0)+(ROW(L16)-ROW($J$14))*7+(COLUMN(L16)-COLUMN($J$14)+1)) -> 42781 | M16: =IF(MONTH($J$12)<>MONTH($J$12-(WEEKDAY($J$12,1)-($V$2-1))-IF((WEEKDAY($J$12,1)-($V$2-1))<=0,7,0)+(ROW(M16)-ROW($J$14))*7+(COLUMN(M16)-COLUMN($J$14)+1)),"",$J$12-(WEEKDAY($J$12,1)-($V$2-1))-IF((WEEKDAY($J$12,1)-($V$2-1))<=0,7,0)+(ROW(M16)-ROW($J$14))*7+(COLUMN(M16)-COLUMN($J$14)+1)) -> 42782 | N16: =IF(MONTH($J$12)<>MONTH($J$12-(WEEKDAY($J$12,1)-($V$2-1))-IF((WEEKDAY($J$12,1)-($V$2-1))<=0,7,0)+(ROW(N16)-ROW($J$14))*7+(COLUMN(N16)-COLUMN($J$14)+1)),"",$J$12-(WEEKDAY($J$12,1)-($V$2-1))-IF((WEEKDAY($J$12,1)-($V$2-1))<=0,7,0)+(ROW(N16)-ROW($J$14))*7+(COLUMN(N16)-COLUMN($J$14)+1)) -> 42783 | O16: =IF(MONTH($J$12)<>MONTH($J$12-(WEEKDAY($J$12,1)-($V$2-1))-IF((WEEKDAY($J$12,1)-($V$2-1))<=0,7,0)+(ROW(O16)-ROW($J$14))*7+(COLUMN(O16)-COLUMN($J$14)+1)),"",$J$12-(WEEKDAY($J$12,1)-($V$2-1))-IF((WEEKDAY($J$12,1)-($V$2-1))<=0,7,0)+(ROW(O16)-ROW($J$14))*7+(COLUMN(O16)-COLUMN($J$14)+1)) -> 42784 | P16: =IF(MONTH($J$12)<>MONTH($J$12-(WEEKDAY($J$12,1)-($V$2-1))-IF((WEEKDAY($J$12,1)-($V$2-1))<=0,7,0)+(ROW(P16)-ROW($J$14))*7+(COLUMN(P16)-COLUMN($J$14)+1)),"",$J$12-(WEEKDAY($J$12,1)-($V$2-1))-IF((WEEKDAY($J$12,1)-($V$2-1))<=0,7,0)+(ROW(P16)-ROW($J$14))*7+(COLUMN(P16)-COLUMN($J$14)+1)) -> 42785 | R16: =IF(MONTH($R$12)<>MONTH($R$12-(WEEKDAY($R$12,1)-($V$2-1))-IF((WEEKDAY($R$12,1)-($V$2-1))<=0,7,0)+(ROW(R16)-ROW($R$14))*7+(COLUMN(R16)-COLUMN($R$14)+1)),"",$R$12-(WEEKDAY($R$12,1)-($V$2-1))-IF((WEEKDAY($R$12,1)-($V$2-1))<=0,7,0)+(ROW(R16)-ROW($R$14))*7+(COLUMN(R16)-COLUMN($R$14)+1)) -> 42807 | S16: =IF(MONTH($R$12)<>MONTH($R$12-(WEEKDAY($R$12,1)-($V$2-1))-IF((WEEKDAY($R$12,1)-($V$2-1))<=0,7,0)+(ROW(S16)-ROW($R$14))*7+(COLUMN(S16)-COLUMN($R$14)+1)),"",$R$12-(WEEKDAY($R$12,1)-($V$2-1))-IF((WEEKDAY($R$12,1)-($V$2-1))<=0,7,0)+(ROW(S16)-ROW($R$14))*7+(COLUMN(S16)-COLUMN($R$14)+1)) -> 42808 | T16: =IF(MONTH($R$12)<>MONTH($R$12-(WEEKDAY($R$12,1)-($V$2-1))-IF((WEEKDAY($R$12,1)-($V$2-1))<=0,7,0)+(ROW(T16)-ROW($R$14))*7+(COLUMN(T16)-COLUMN($R$14)+1)),"",$R$12-(WEEKDAY($R$12,1)-($V$2-1))-IF((WEEKDAY($R$12,1)-($V$2-1))<=0,7,0)+(ROW(T16)-ROW($R$14))*7+(COLUMN(T16)-COLUMN($R$14)+1)) -> 42809 | U16: =IF(MONTH($R$12)<>MONTH($R$12-(WEEKDAY($R$12,1)-($V$2-1))-IF((WEEKDAY($R$12,1)-($V$2-1))<=0,7,0)+(ROW(U16)-ROW($R$14))*7+(COLUMN(U16)-COLUMN($R$14)+1)),"",$R$12-(WEEKDAY($R$12,1)-($V$2-1))-IF((WEEKDAY($R$12,1)-($V$2-1))<=0,7,0)+(ROW(U16)-ROW($R$14))*7+(COLUMN(U16)-COLUMN($R$14)+1)) -> 42810 | V16: =IF(MONTH($R$12)<>MONTH($R$12-(WEEKDAY($R$12,1)-($V$2-1))-IF((WEEKDAY($R$12,1)-($V$2-1))<=0,7,0)+(ROW(V16)-ROW($R$14))*7+(COLUMN(V16)-COLUMN($R$14)+1)),"",$R$12-(WEEKDAY($R$12,1)-($V$2-1))-IF((WEEKDAY($R$12,1)-($V$2-1))<=0,7,0)+(ROW(V16)-ROW($R$14))*7+(COLUMN(V16)-COLUMN($R$14)+1)) -> 42811 | W16: =IF(MONTH($R$12)<>MONTH($R$12-(WEEKDAY($R$12,1)-($V$2-1))-IF((WEEKDAY($R$12,1)-($V$2-1))<=0,7,0)+(ROW(W16)-ROW($R$14))*7+(COLUMN(W16)-COLUMN($R$14)+1)),"",$R$12-(WEEKDAY($R$12,1)-($V$2-1))-IF((WEEKDAY($R$12,1)-($V$2-1))<=0,7,0)+(ROW(W16)-ROW($R$14))*7+(COLUMN(W16)-COLUMN($R$14)+1)) -> 42812 | X16: =IF(MONTH($R$12)<>MONTH($R$12-(WEEKDAY($R$12,1)-($V$2-1))-IF((WEEKDAY($R$12,1)-($V$2-1))<=0,7,0)+(ROW(X16)-ROW($R$14))*7+(COLUMN(X16)-COLUMN($R$14)+1)),"",$R$12-(WEEKDAY($R$12,1)-($V$2-1))-IF((WEEKDAY($R$12,1)-($V$2-1))<=0,7,0)+(ROW(X16)-ROW($R$14))*7+(COLUMN(X16)-COLUMN($R$14)+1)) -> 42813
B17: =IF(MONTH($B$12)<>MONTH($B$12-(WEEKDAY($B$12,1)-($V$2-1))-IF((WEEKDAY($B$12,1)-($V$2-1))<=0,7,0)+(ROW(B17)-ROW($B$14))*7+(COLUMN(B17)-COLUMN($B$14)+1)),"",$B$12-(WEEKDAY($B$12,1)-($V$2-1))-IF((WEEKDAY($B$12,1)-($V$2-1))<=0,7,0)+(ROW(B17)-ROW($B$14))*7+(COLUMN(B17)-COLUMN($B$14)+1)) -> 42751 | C17: =IF(MONTH($B$12)<>MONTH($B$12-(WEEKDAY($B$12,1)-($V$2-1))-IF((WEEKDAY($B$12,1)-($V$2-1))<=0,7,0)+(ROW(C17)-ROW($B$14))*7+(COLUMN(C17)-COLUMN($B$14)+1)),"",$B$12-(WEEKDAY($B$12,1)-($V$2-1))-IF((WEEKDAY($B$12,1)-($V$2-1))<=0,7,0)+(ROW(C17)-ROW($B$14))*7+(COLUMN(C17)-COLUMN($B$14)+1)) -> 42752 | D17: =IF(MONTH($B$12)<>MONTH($B$12-(WEEKDAY($B$12,1)-($V$2-1))-IF((WEEKDAY($B$12,1)-($V$2-1))<=0,7,0)+(ROW(D17)-ROW($B$14))*7+(COLUMN(D17)-COLUMN($B$14)+1)),"",$B$12-(WEEKDAY($B$12,1)-($V$2-1))-IF((WEEKDAY($B$12,1)-($V$2-1))<=0,7,0)+(ROW(D17)-ROW($B$14))*7+(COLUMN(D17)-COLUMN($B$14)+1)) -> 42753 | E17: =IF(MONTH($B$12)<>MONTH($B$12-(WEEKDAY($B$12,1)-($V$2-1))-IF((WEEKDAY($B$12,1)-($V$2-1))<=0,7,0)+(ROW(E17)-ROW($B$14))*7+(COLUMN(E17)-COLUMN($B$14)+1)),"",$B$12-(WEEKDAY($B$12,1)-($V$2-1))-IF((WEEKDAY($B$12,1)-($V$2-1))<=0,7,0)+(ROW(E17)-ROW($B$14))*7+(COLUMN(E17)-COLUMN($B$14)+1)) -> 42754 | F17: =IF(MONTH($B$12)<>MONTH($B$12-(WEEKDAY($B$12,1)-($V$2-1))-IF((WEEKDAY($B$12,1)-($V$2-1))<=0,7,0)+(ROW(F17)-ROW($B$14))*7+(COLUMN(F17)-COLUMN($B$14)+1)),"",$B$12-(WEEKDAY($B$12,1)-($V$2-1))-IF((WEEKDAY($B$12,1)-($V$2-1))<=0,7,0)+(ROW(F17)-ROW($B$14))*7+(COLUMN(F17)-COLUMN($B$14)+1)) -> 42755 | G17: =IF(MONTH($B$12)<>MONTH($B$12-(WEEKDAY($B$12,1)-($V$2-1))-IF((WEEKDAY($B$12,1)-($V$2-1))<=0,7,0)+(ROW(G17)-ROW($B$14))*7+(COLUMN(G17)-COLUMN($B$14)+1)),"",$B$12-(WEEKDAY($B$12,1)-($V$2-1))-IF((WEEKDAY($B$12,1)-($V$2-1))<=0,7,0)+(ROW(G17)-ROW($B$14))*7+(COLUMN(G17)-COLUMN($B$14)+1)) -> 42756 | H17: =IF(MONTH($B$12)<>MONTH($B$12-(WEEKDAY($B$12,1)-($V$2-1))-IF((WEEKDAY($B$12,1)-($V$2-1))<=0,7,0)+(ROW(H17)-ROW($B$14))*7+(COLUMN(H17)-COLUMN($B$14)+1)),"",$B$12-(WEEKDAY($B$12,1)-($V$2-1))-IF((WEEKDAY($B$12,1)-($V$2-1))<=0,7,0)+(ROW(H17)-ROW($B$14))*7+(COLUMN(H17)-COLUMN($B$14)+1)) -> 42757 | J17: =IF(MONTH($J$12)<>MONTH($J$12-(WEEKDAY($J$12,1)-($V$2-1))-IF((WEEKDAY($J$12,1)-($V$2-1))<=0,7,0)+(ROW(J17)-ROW($J$14))*7+(COLUMN(J17)-COLUMN($J$14)+1)),"",$J$12-(WEEKDAY($J$12,1)-($V$2-1))-IF((WEEKDAY($J$12,1)-($V$2-1))<=0,7,0)+(ROW(J17)-ROW($J$14))*7+(COLUMN(J17)-COLUMN($J$14)+1)) -> 42786 | K17: =IF(MONTH($J$12)<>MONTH($J$12-(WEEKDAY($J$12,1)-($V$2-1))-IF((WEEKDAY($J$12,1)-($V$2-1))<=0,7,0)+(ROW(K17)-ROW($J$14))*7+(COLUMN(K17)-COLUMN($J$14)+1)),"",$J$12-(WEEKDAY($J$12,1)-($V$2-1))-IF((WEEKDAY($J$12,1)-($V$2-1))<=0,7,0)+(ROW(K17)-ROW($J$14))*7+(COLUMN(K17)-COLUMN($J$14)+1)) -> 42787 | L17: =IF(MONTH($J$12)<>MONTH($J$12-(WEEKDAY($J$12,1)-($V$2-1))-IF((WEEKDAY($J$12,1)-($V$2-1))<=0,7,0)+(ROW(L17)-ROW($J$14))*7+(COLUMN(L17)-COLUMN($J$14)+1)),"",$J$12-(WEEKDAY($J$12,1)-($V$2-1))-IF((WEEKDAY($J$12,1)-($V$2-1))<=0,7,0)+(ROW(L17)-ROW($J$14))*7+(COLUMN(L17)-COLUMN($J$14)+1)) -> 42788 | M17: =IF(MONTH($J$12)<>MONTH($J$12-(WEEKDAY($J$12,1)-($V$2-1))-IF((WEEKDAY($J$12,1)-($V$2-1))<=0,7,0)+(ROW(M17)-ROW($J$14))*7+(COLUMN(M17)-COLUMN($J$14)+1)),"",$J$12-(WEEKDAY($J$12,1)-($V$2-1))-IF((WEEKDAY($J$12,1)-($V$2-1))<=0,7,0)+(ROW(M17)-ROW($J$14))*7+(COLUMN(M17)-COLUMN($J$14)+1)) -> 42789 | N17: =IF(MONTH($J$12)<>MONTH($J$12-(WEEKDAY($J$12,1)-($V$2-1))-IF((WEEKDAY($J$12,1)-($V$2-1))<=0,7,0)+(ROW(N17)-ROW($J$14))*7+(COLUMN(N17)-COLUMN($J$14)+1)),"",$J$12-(WEEKDAY($J$12,1)-($V$2-1))-IF((WEEKDAY($J$12,1)-($V$2-1))<=0,7,0)+(ROW(N17)-ROW($J$14))*7+(COLUMN(N17)-COLUMN($J$14)+1)) -> 42790 | O17: =IF(MONTH($J$12)<>MONTH($J$12-(WEEKDAY($J$12,1)-($V$2-1))-IF((WEEKDAY($J$12,1)-($V$2-1))<=0,7,0)+(ROW(O17)-ROW($J$14))*7+(COLUMN(O17)-COLUMN($J$14)+1)),"",$J$12-(WEEKDAY($J$12,1)-($V$2-1))-IF((WEEKDAY($J$12,1)-($V$2-1))<=0,7,0)+(ROW(O17)-ROW($J$14))*7+(COLUMN(O17)-COLUMN($J$14)+1)) -> 42791 | P17: =IF(MONTH($J$12)<>MONTH($J$12-(WEEKDAY($J$12,1)-($V$2-1))-IF((WEEKDAY($J$12,1)-($V$2-1))<=0,7,0)+(ROW(P17)-ROW($J$14))*7+(COLUMN(P17)-COLUMN($J$14)+1)),"",$J$12-(WEEKDAY($J$12,1)-($V$2-1))-IF((WEEKDAY($J$12,1)-($V$2-1))<=0,7,0)+(ROW(P17)-ROW($J$14))*7+(COLUMN(P17)-COLUMN($J$14)+1)) -> 42792 | R17: =IF(MONTH($R$12)<>MONTH($R$12-(WEEKDAY($R$12,1)-($V$2-1))-IF((WEEKDAY($R$12,1)-($V$2-1))<=0,7,0)+(ROW(R17)-ROW($R$14))*7+(COLUMN(R17)-COLUMN($R$14)+1)),"",$R$12-(WEEKDAY($R$12,1)-($V$2-1))-IF((WEEKDAY($R$12,1)-($V$2-1))<=0,7,0)+(ROW(R17)-ROW($R$14))*7+(COLUMN(R17)-COLUMN($R$14)+1)) -> 42814 | S17: =IF(MONTH($R$12)<>MONTH($R$12-(WEEKDAY($R$12,1)-($V$2-1))-IF((WEEKDAY($R$12,1)-($V$2-1))<=0,7,0)+(ROW(S17)-ROW($R$14))*7+(COLUMN(S17)-COLUMN($R$14)+1)),"",$R$12-(WEEKDAY($R$12,1)-($V$2-1))-IF((WEEKDAY($R$12,1)-($V$2-1))<=0,7,0)+(ROW(S17)-ROW($R$14))*7+(COLUMN(S17)-COLUMN($R$14)+1)) -> 42815 | T17: =IF(MONTH($R$12)<>MONTH($R$12-(WEEKDAY($R$12,1)-($V$2-1))-IF((WEEKDAY($R$12,1)-($V$2-1))<=0,7,0)+(ROW(T17)-ROW($R$14))*7+(COLUMN(T17)-COLUMN($R$14)+1)),"",$R$12-(WEEKDAY($R$12,1)-($V$2-1))-IF((WEEKDAY($R$12,1)-($V$2-1))<=0,7,0)+(ROW(T17)-ROW($R$14))*7+(COLUMN(T17)-COLUMN($R$14)+1)) -> 42816 | U17: =IF(MONTH($R$12)<>MONTH($R$12-(WEEKDAY($R$12,1)-($V$2-1))-IF((WEEKDAY($R$12,1)-($V$2-1))<=0,7,0)+(ROW(U17)-ROW($R$14))*7+(COLUMN(U17)-COLUMN($R$14)+1)),"",$R$12-(WEEKDAY($R$12,1)-($V$2-1))-IF((WEEKDAY($R$12,1)-($V$2-1))<=0,7,0)+(ROW(U17)-ROW($R$14))*7+(COLUMN(U17)-COLUMN($R$14)+1)) -> 42817 | V17: =IF(MONTH($R$12)<>MONTH($R$12-(WEEKDAY($R$12,1)-($V$2-1))-IF((WEEKDAY($R$12,1)-($V$2-1))<=0,7,0)+(ROW(V17)-ROW($R$14))*7+(COLUMN(V17)-COLUMN($R$14)+1)),"",$R$12-(WEEKDAY($R$12,1)-($V$2-1))-IF((WEEKDAY($R$12,1)-($V$2-1))<=0,7,0)+(ROW(V17)-ROW($R$14))*7+(COLUMN(V17)-COLUMN($R$14)+1)) -> 42818 | W17: =IF(MONTH($R$12)<>MONTH($R$12-(WEEKDAY($R$12,1)-($V$2-1))-IF((WEEKDAY($R$12,1)-($V$2-1))<=0,7,0)+(ROW(W17)-ROW($R$14))*7+(COLUMN(W17)-COLUMN($R$14)+1)),"",$R$12-(WEEKDAY($R$12,1)-($V$2-1))-IF((WEEKDAY($R$12,1)-($V$2-1))<=0,7,0)+(ROW(W17)-ROW($R$14))*7+(COLUMN(W17)-COLUMN($R$14)+1)) -> 42819 | X17: =IF(MONTH($R$12)<>MONTH($R$12-(WEEKDAY($R$12,1)-($V$2-1))-IF((WEEKDAY($R$12,1)-($V$2-1))<=0,7,0)+(ROW(X17)-ROW($R$14))*7+(COLUMN(X17)-COLUMN($R$14)+1)),"",$R$12-(WEEKDAY($R$12,1)-($V$2-1))-IF((WEEKDAY($R$12,1)-($V$2-1))<=0,7,0)+(ROW(X17)-ROW($R$14))*7+(COLUMN(X17)-COLUMN($R$14)+1)) -> 42820
B18: =IF(MONTH($B$12)<>MONTH($B$12-(WEEKDAY($B$12,1)-($V$2-1))-IF((WEEKDAY($B$12,1)-($V$2-1))<=0,7,0)+(ROW(B18)-ROW($B$14))*7+(COLUMN(B18)-COLUMN($B$14)+1)),"",$B$12-(WEEKDAY($B$12,1)-($V$2-1))-IF((WEEKDAY($B$12,1)-($V$2-1))<=0,7,0)+(ROW(B18)-ROW($B$14))*7+(COLUMN(B18)-COLUMN($B$14)+1)) -> 42758 | C18: =IF(MONTH($B$12)<>MONTH($B$12-(WEEKDAY($B$12,1)-($V$2-1))-IF((WEEKDAY($B$12,1)-($V$2-1))<=0,7,0)+(ROW(C18)-ROW($B$14))*7+(COLUMN(C18)-COLUMN($B$14)+1)),"",$B$12-(WEEKDAY($B$12,1)-($V$2-1))-IF((WEEKDAY($B$12,1)-($V$2-1))<=0,7,0)+(ROW(C18)-ROW($B$14))*7+(COLUMN(C18)-COLUMN($B$14)+1)) -> 42759 | D18: =IF(MONTH($B$12)<>MONTH($B$12-(WEEKDAY($B$12,1)-($V$2-1))-IF((WEEKDAY($B$12,1)-($V$2-1))<=0,7,0)+(ROW(D18)-ROW($B$14))*7+(COLUMN(D18)-COLUMN($B$14)+1)),"",$B$12-(WEEKDAY($B$12,1)-($V$2-1))-IF((WEEKDAY($B$12,1)-($V$2-1))<=0,7,0)+(ROW(D18)-ROW($B$14))*7+(COLUMN(D18)-COLUMN($B$14)+1)) -> 42760 | E18: =IF(MONTH($B$12)<>MONTH($B$12-(WEEKDAY($B$12,1)-($V$2-1))-IF((WEEKDAY($B$12,1)-($V$2-1))<=0,7,0)+(ROW(E18)-ROW($B$14))*7+(COLUMN(E18)-COLUMN($B$14)+1)),"",$B$12-(WEEKDAY($B$12,1)-($V$2-1))-IF((WEEKDAY($B$12,1)-($V$2-1))<=0,7,0)+(ROW(E18)-ROW($B$14))*7+(COLUMN(E18)-COLUMN($B$14)+1)) -> 42761 | F18: =IF(MONTH($B$12)<>MONTH($B$12-(WEEKDAY($B$12,1)-($V$2-1))-IF((WEEKDAY($B$12,1)-($V$2-1))<=0,7,0)+(ROW(F18)-ROW($B$14))*7+(COLUMN(F18)-COLUMN($B$14)+1)),"",$B$12-(WEEKDAY($B$12,1)-($V$2-1))-IF((WEEKDAY($B$12,1)-($V$2-1))<=0,7,0)+(ROW(F18)-ROW($B$14))*7+(COLUMN(F18)-COLUMN($B$14)+1)) -> 42762 | G18: =IF(MONTH($B$12)<>MONTH($B$12-(WEEKDAY($B$12,1)-($V$2-1))-IF((WEEKDAY($B$12,1)-($V$2-1))<=0,7,0)+(ROW(G18)-ROW($B$14))*7+(COLUMN(G18)-COLUMN($B$14)+1)),"",$B$12-(WEEKDAY($B$12,1)-($V$2-1))-IF((WEEKDAY($B$12,1)-($V$2-1))<=0,7,0)+(ROW(G18)-ROW($B$14))*7+(COLUMN(G18)-COLUMN($B$14)+1)) -> 42763 | H18: =IF(MONTH($B$12)<>MONTH($B$12-(WEEKDAY($B$12,1)-($V$2-1))-IF((WEEKDAY($B$12,1)-($V$2-1))<=0,7,0)+(ROW(H18)-ROW($B$14))*7+(COLUMN(H18)-COLUMN($B$14)+1)),"",$B$12-(WEEKDAY($B$12,1)-($V$2-1))-IF((WEEKDAY($B$12,1)-($V$2-1))<=0,7,0)+(ROW(H18)-ROW($B$14))*7+(COLUMN(H18)-COLUMN($B$14)+1)) -> 42764 | J18: =IF(MONTH($J$12)<>MONTH($J$12-(WEEKDAY($J$12,1)-($V$2-1))-IF((WEEKDAY($J$12,1)-($V$2-1))<=0,7,0)+(ROW(J18)-ROW($J$14))*7+(COLUMN(J18)-COLUMN($J$14)+1)),"",$J$12-(WEEKDAY($J$12,1)-($V$2-1))-IF((WEEKDAY($J$12,1)-($V$2-1))<=0,7,0)+(ROW(J18)-ROW($J$14))*7+(COLUMN(J18)-COLUMN($J$14)+1)) -> 42793 | K18: =IF(MONTH($J$12)<>MONTH($J$12-(WEEKDAY($J$12,1)-($V$2-1))-IF((WEEKDAY($J$12,1)-($V$2-1))<=0,7,0)+(ROW(K18)-ROW($J$14))*7+(COLUMN(K18)-COLUMN($J$14)+1)),"",$J$12-(WEEKDAY($J$12,1)-($V$2-1))-IF((WEEKDAY($J$12,1)-($V$2-1))<=0,7,0)+(ROW(K18)-ROW($J$14))*7+(COLUMN(K18)-COLUMN($J$14)+1)) -> 42794 | L18: =IF(MONTH($J$12)<>MONTH($J$12-(WEEKDAY($J$12,1)-($V$2-1))-IF((WEEKDAY($J$12,1)-($V$2-1))<=0,7,0)+(ROW(L18)-ROW($J$14))*7+(COLUMN(L18)-COLUMN($J$14)+1)),"",$J$12-(WEEKDAY($J$12,1)-($V$2-1))-IF((WEEKDAY($J$12,1)-($V$2-1))<=0,7,0)+(ROW(L18)-ROW($J$14))*7+(COLUMN(L18)-COLUMN($J$14)+1)) | M18: =IF(MONTH($J$12)<>MONTH($J$12-(WEEKDAY($J$12,1)-($V$2-1))-IF((WEEKDAY($J$12,1)-($V$2-1))<=0,7,0)+(ROW(M18)-ROW($J$14))*7+(COLUMN(M18)-COLUMN($J$14)+1)),"",$J$12-(WEEKDAY($J$12,1)-($V$2-1))-IF((WEEKDAY($J$12,1)-($V$2-1))<=0,7,0)+(ROW(M18)-ROW($J$14))*7+(COLUMN(M18)-COLUMN($J$14)+1)) | N18: =IF(MONTH($J$12)<>MONTH($J$12-(WEEKDAY($J$12,1)-($V$2-1))-IF((WEEKDAY($J$12,1)-($V$2-1))<=0,7,0)+(ROW(N18)-ROW($J$14))*7+(COLUMN(N18)-COLUMN($J$14)+1)),"",$J$12-(WEEKDAY($J$12,1)-($V$2-1))-IF((WEEKDAY($J$12,1)-($V$2-1))<=0,7,0)+(ROW(N18)-ROW($J$14))*7+(COLUMN(N18)-COLUMN($J$14)+1)) | O18: =IF(MONTH($J$12)<>MONTH($J$12-(WEEKDAY($J$12,1)-($V$2-1))-IF((WEEKDAY($J$12,1)-($V$2-1))<=0,7,0)+(ROW(O18)-ROW($J$14))*7+(COLUMN(O18)-COLUMN($J$14)+1)),"",$J$12-(WEEKDAY($J$12,1)-($V$2-1))-IF((WEEKDAY($J$12,1)-($V$2-1))<=0,7,0)+(ROW(O18)-ROW($J$14))*7+(COLUMN(O18)-COLUMN($J$14)+1)) | P18: =IF(MONTH($J$12)<>MONTH($J$12-(WEEKDAY($J$12,1)-($V$2-1))-IF((WEEKDAY($J$12,1)-($V$2-1))<=0,7,0)+(ROW(P18)-ROW($J$14))*7+(COLUMN(P18)-COLUMN($J$14)+1)),"",$J$12-(WEEKDAY($J$12,1)-($V$2-1))-IF((WEEKDAY($J$12,1)-($V$2-1))<=0,7,0)+(ROW(P18)-ROW($J$14))*7+(COLUMN(P18)-COLUMN($J$14)+1)) | R18: =IF(MONTH($R$12)<>MONTH($R$12-(WEEKDAY($R$12,1)-($V$2-1))-IF((WEEKDAY($R$12,1)-($V$2-1))<=0,7,0)+(ROW(R18)-ROW($R$14))*7+(COLUMN(R18)-COLUMN($R$14)+1)),"",$R$12-(WEEKDAY($R$12,1)-($V$2-1))-IF((WEEKDAY($R$12,1)-($V$2-1))<=0,7,0)+(ROW(R18)-ROW($R$14))*7+(COLUMN(R18)-COLUMN($R$14)+1)) -> 42821 | S18: =IF(MONTH($R$12)<>MONTH($R$12-(WEEKDAY($R$12,1)-($V$2-1))-IF((WEEKDAY($R$12,1)-($V$2-1))<=0,7,0)+(ROW(S18)-ROW($R$14))*7+(COLUMN(S18)-COLUMN($R$14)+1)),"",$R$12-(WEEKDAY($R$12,1)-($V$2-1))-IF((WEEKDAY($R$12,1)-($V$2-1))<=0,7,0)+(ROW(S18)-ROW($R$14))*7+(COLUMN(S18)-COLUMN($R$14)+1)) -> 42822 | T18: =IF(MONTH($R$12)<>MONTH($R$12-(WEEKDAY($R$12,1)-($V$2-1))-IF((WEEKDAY($R$12,1)-($V$2-1))<=0,7,0)+(ROW(T18)-ROW($R$14))*7+(COLUMN(T18)-COLUMN($R$14)+1)),"",$R$12-(WEEKDAY($R$12,1)-($V$2-1))-IF((WEEKDAY($R$12,1)-($V$2-1))<=0,7,0)+(ROW(T18)-ROW($R$14))*7+(COLUMN(T18)-COLUMN($R$14)+1)) -> 42823 | U18: =IF(MONTH($R$12)<>MONTH($R$12-(WEEKDAY($R$12,1)-($V$2-1))-IF((WEEKDAY($R$12,1)-($V$2-1))<=0,7,0)+(ROW(U18)-ROW($R$14))*7+(COLUMN(U18)-COLUMN($R$14)+1)),"",$R$12-(WEEKDAY($R$12,1)-($V$2-1))-IF((WEEKDAY($R$12,1)-($V$2-1))<=0,7,0)+(ROW(U18)-ROW($R$14))*7+(COLUMN(U18)-COLUMN($R$14)+1)) -> 42824 | V18: =IF(MONTH($R$12)<>MONTH($R$12-(WEEKDAY($R$12,1)-($V$2-1))-IF((WEEKDAY($R$12,1)-($V$2-1))<=0,7,0)+(ROW(V18)-ROW($R$14))*7+(COLUMN(V18)-COLUMN($R$14)+1)),"",$R$12-(WEEKDAY($R$12,1)-($V$2-1))-IF((WEEKDAY($R$12,1)-($V$2-1))<=0,7,0)+(ROW(V18)-ROW($R$14))*7+(COLUMN(V18)-COLUMN($R$14)+1)) -> 42825 | W18: =IF(MONTH($R$12)<>MONTH($R$12-(WEEKDAY($R$12,1)-($V$2-1))-IF((WEEKDAY($R$12,1)-($V$2-1))<=0,7,0)+(ROW(W18)-ROW($R$14))*7+(COLUMN(W18)-COLUMN($R$14)+1)),"",$R$12-(WEEKDAY($R$12,1)-($V$2-1))-IF((WEEKDAY($R$12,1)-($V$2-1))<=0,7,0)+(ROW(W18)-ROW($R$14))*7+(COLUMN(W18)-COLUMN($R$14)+1)) | X18: =IF(MONTH($R$12)<>MONTH($R$12-(WEEKDAY($R$12,1)-($V$2-1))-IF((WEEKDAY($R$12,1)-($V$2-1))<=0,7,0)+(ROW(X18)-ROW($R$14))*7+(COLUMN(X18)-COLUMN($R$14)+1)),"",$R$12-(WEEKDAY($R$12,1)-($V$2-1))-IF((WEEKDAY($R$12,1)-($V$2-1))<=0,7,0)+(ROW(X18)-ROW($R$14))*7+(COLUMN(X18)-COLUMN($R$14)+1))
B19: =IF(MONTH($B$12)<>MONTH($B$12-(WEEKDAY($B$12,1)-($V$2-1))-IF((WEEKDAY($B$12,1)-($V$2-1))<=0,7,0)+(ROW(B19)-ROW($B$14))*7+(COLUMN(B19)-COLUMN($B$14)+1)),"",$B$12-(WEEKDAY($B$12,1)-($V$2-1))-IF((WEEKDAY($B$12,1)-($V$2-1))<=0,7,0)+(ROW(B19)-ROW($B$14))*7+(COLUMN(B19)-COLUMN($B$14)+1)) -> 42765 | C19: =IF(MONTH($B$12)<>MONTH($B$12-(WEEKDAY($B$12,1)-($V$2-1))-IF((WEEKDAY($B$12,1)-($V$2-1))<=0,7,0)+(ROW(C19)-ROW($B$14))*7+(COLUMN(C19)-COLUMN($B$14)+1)),"",$B$12-(WEEKDAY($B$12,1)-($V$2-1))-IF((WEEKDAY($B$12,1)-($V$2-1))<=0,7,0)+(ROW(C19)-ROW($B$14))*7+(COLUMN(C19)-COLUMN($B$14)+1)) -> 42766 | D19: =IF(MONTH($B$12)<>MONTH($B$12-(WEEKDAY($B$12,1)-($V$2-1))-IF((WEEKDAY($B$12,1)-($V$2-1))<=0,7,0)+(ROW(D19)-ROW($B$14))*7+(COLUMN(D19)-COLUMN($B$14)+1)),"",$B$12-(WEEKDAY($B$12,1)-($V$2-1))-IF((WEEKDAY($B$12,1)-($V$2-1))<=0,7,0)+(ROW(D19)-ROW($B$14))*7+(COLUMN(D19)-COLUMN($B$14)+1)) | E19: =IF(MONTH($B$12)<>MONTH($B$12-(WEEKDAY($B$12,1)-($V$2-1))-IF((WEEKDAY($B$12,1)-($V$2-1))<=0,7,0)+(ROW(E19)-ROW($B$14))*7+(COLUMN(E19)-COLUMN($B$14)+1)),"",$B$12-(WEEKDAY($B$12,1)-($V$2-1))-IF((WEEKDAY($B$12,1)-($V$2-1))<=0,7,0)+(ROW(E19)-ROW($B$14))*7+(COLUMN(E19)-COLUMN($B$14)+1)) | F19: =IF(MONTH($B$12)<>MONTH($B$12-(WEEKDAY($B$12,1)-($V$2-1))-IF((WEEKDAY($B$12,1)-($V$2-1))<=0,7,0)+(ROW(F19)-ROW($B$14))*7+(COLUMN(F19)-COLUMN($B$14)+1)),"",$B$12-(WEEKDAY($B$12,1)-($V$2-1))-IF((WEEKDAY($B$12,1)-($V$2-1))<=0,7,0)+(ROW(F19)-ROW($B$14))*7+(COLUMN(F19)-COLUMN($B$14)+1)) | G19: =IF(MONTH($B$12)<>MONTH($B$12-(WEEKDAY($B$12,1)-($V$2-1))-IF((WEEKDAY($B$12,1)-($V$2-1))<=0,7,0)+(ROW(G19)-ROW($B$14))*7+(COLUMN(G19)-COLUMN($B$14)+1)),"",$B$12-(WEEKDAY($B$12,1)-($V$2-1))-IF((WEEKDAY($B$12,1)-($V$2-1))<=0,7,0)+(ROW(G19)-ROW($B$14))*7+(COLUMN(G19)-COLUMN($B$14)+1)) | H19: =IF(MONTH($B$12)<>MONTH($B$12-(WEEKDAY($B$12,1)-($V$2-1))-IF((WEEKDAY($B$12,1)-($V$2-1))<=0,7,0)+(ROW(H19)-ROW($B$14))*7+(COLUMN(H19)-COLUMN($B$14)+1)),"",$B$12-(WEEKDAY($B$12,1)-($V$2-1))-IF((WEEKDAY($B$12,1)-($V$2-1))<=0,7,0)+(ROW(H19)-ROW($B$14))*7+(COLUMN(H19)-COLUMN($B$14)+1)) | J19: =IF(MONTH($J$12)<>MONTH($J$12-(WEEKDAY($J$12,1)-($V$2-1))-IF((WEEKDAY($J$12,1)-($V$2-1))<=0,7,0)+(ROW(J19)-ROW($J$14))*7+(COLUMN(J19)-COLUMN($J$14)+1)),"",$J$12-(WEEKDAY($J$12,1)-($V$2-1))-IF((WEEKDAY($J$12,1)-($V$2-1))<=0,7,0)+(ROW(J19)-ROW($J$14))*7+(COLUMN(J19)-COLUMN($J$14)+1)) | K19: =IF(MONTH($J$12)<>MONTH($J$12-(WEEKDAY($J$12,1)-($V$2-1))-IF((WEEKDAY($J$12,1)-($V$2-1))<=0,7,0)+(ROW(K19)-ROW($J$14))*7+(COLUMN(K19)-COLUMN($J$14)+1)),"",$J$12-(WEEKDAY($J$12,1)-($V$2-1))-IF((WEEKDAY($J$12,1)-($V$2-1))<=0,7,0)+(ROW(K19)-ROW($J$14))*7+(COLUMN(K19)-COLUMN($J$14)+1)) | L19: =IF(MONTH($J$12)<>MONTH($J$12-(WEEKDAY($J$12,1)-($V$2-1))-IF((WEEKDAY($J$12,1)-($V$2-1))<=0,7,0)+(ROW(L19)-ROW($J$14))*7+(COLUMN(L19)-COLUMN($J$14)+1)),"",$J$12-(WEEKDAY($J$12,1)-($V$2-1))-IF((WEEKDAY($J$12,1)-($V$2-1))<=0,7,0)+(ROW(L19)-ROW($J$14))*7+(COLUMN(L19)-COLUMN($J$14)+1)) | M19: =IF(MONTH($J$12)<>MONTH($J$12-(WEEKDAY($J$12,1)-($V$2-1))-IF((WEEKDAY($J$12,1)-($V$2-1))<=0,7,0)+(ROW(M19)-ROW($J$14))*7+(COLUMN(M19)-COLUMN($J$14)+1)),"",$J$12-(WEEKDAY($J$12,1)-($V$2-1))-IF((WEEKDAY($J$12,1)-($V$2-1))<=0,7,0)+(ROW(M19)-ROW($J$14))*7+(COLUMN(M19)-COLUMN($J$14)+1)) | N19: =IF(MONTH($J$12)<>MONTH($J$12-(WEEKDAY($J$12,1)-($V$2-1))-IF((WEEKDAY($J$12,1)-($V$2-1))<=0,7,0)+(ROW(N19)-ROW($J$14))*7+(COLUMN(N19)-COLUMN($J$14)+1)),"",$J$12-(WEEKDAY($J$12,1)-($V$2-1))-IF((WEEKDAY($J$12,1)-($V$2-1))<=0,7,0)+(ROW(N19)-ROW($J$14))*7+(COLUMN(N19)-COLUMN($J$14)+1)) | O19: =IF(MONTH($J$12)<>MONTH($J$12-(WEEKDAY($J$12,1)-($V$2-1))-IF((WEEKDAY($J$12,1)-($V$2-1))<=0,7,0)+(ROW(O19)-ROW($J$14))*7+(COLUMN(O19)-COLUMN($J$14)+1)),"",$J$12-(WEEKDAY($J$12,1)-($V$2-1))-IF((WEEKDAY($J$12,1)-($V$2-1))<=0,7,0)+(ROW(O19)-ROW($J$14))*7+(COLUMN(O19)-COLUMN($J$14)+1)) | P19: =IF(MONTH($J$12)<>MONTH($J$12-(WEEKDAY($J$12,1)-($V$2-1))-IF((WEEKDAY($J$12,1)-($V$2-1))<=0,7,0)+(ROW(P19)-ROW($J$14))*7+(COLUMN(P19)-COLUMN($J$14)+1)),"",$J$12-(WEEKDAY($J$12,1)-($V$2-1))-IF((WEEKDAY($J$12,1)-($V$2-1))<=0,7,0)+(ROW(P19)-ROW($J$14))*7+(COLUMN(P19)-COLUMN($J$14)+1)) | R19: =IF(MONTH($R$12)<>MONTH($R$12-(WEEKDAY($R$12,1)-($V$2-1))-IF((WEEKDAY($R$12,1)-($V$2-1))<=0,7,0)+(ROW(R19)-ROW($R$14))*7+(COLUMN(R19)-COLUMN($R$14)+1)),"",$R$12-(WEEKDAY($R$12,1)-($V$2-1))-IF((WEEKDAY($R$12,1)-($V$2-1))<=0,7,0)+(ROW(R19)-ROW($R$14))*7+(COLUMN(R19)-COLUMN($R$14)+1)) | S19: =IF(MONTH($R$12)<>MONTH($R$12-(WEEKDAY($R$12,1)-($V$2-1))-IF((WEEKDAY($R$12,1)-($V$2-1))<=0,7,0)+(ROW(S19)-ROW($R$14))*7+(COLUMN(S19)-COLUMN($R$14)+1)),"",$R$12-(WEEKDAY($R$12,1)-($V$2-1))-IF((WEEKDAY($R$12,1)-($V$2-1))<=0,7,0)+(ROW(S19)-ROW($R$14))*7+(COLUMN(S19)-COLUMN($R$14)+1)) | T19: =IF(MONTH($R$12)<>MONTH($R$12-(WEEKDAY($R$12,1)-($V$2-1))-IF((WEEKDAY($R$12,1)-($V$2-1))<=0,7,0)+(ROW(T19)-ROW($R$14))*7+(COLUMN(T19)-COLUMN($R$14)+1)),"",$R$12-(WEEKDAY($R$12,1)-($V$2-1))-IF((WEEKDAY($R$12,1)-($V$2-1))<=0,7,0)+(ROW(T19)-ROW($R$14))*7+(COLUMN(T19)-COLUMN($R$14)+1)) | U19: =IF(MONTH($R$12)<>MONTH($R$12-(WEEKDAY($R$12,1)-($V$2-1))-IF((WEEKDAY($R$12,1)-($V$2-1))<=0,7,0)+(ROW(U19)-ROW($R$14))*7+(COLUMN(U19)-COLUMN($R$14)+1)),"",$R$12-(WEEKDAY($R$12,1)-($V$2-1))-IF((WEEKDAY($R$12,1)-($V$2-1))<=0,7,0)+(ROW(U19)-ROW($R$14))*7+(COLUMN(U19)-COLUMN($R$14)+1)) | V19: =IF(MONTH($R$12)<>MONTH($R$12-(WEEKDAY($R$12,1)-($V$2-1))-IF((WEEKDAY($R$12,1)-($V$2-1))<=0,7,0)+(ROW(V19)-ROW($R$14))*7+(COLUMN(V19)-COLUMN($R$14)+1)),"",$R$12-(WEEKDAY($R$12,1)-($V$2-1))-IF((WEEKDAY($R$12,1)-($V$2-1))<=0,7,0)+(ROW(V19)-ROW($R$14))*7+(COLUMN(V19)-COLUMN($R$14)+1)) | W19: =IF(MONTH($R$12)<>MONTH($R$12-(WEEKDAY($R$12,1)-($V$2-1))-IF((WEEKDAY($R$12,1)-($V$2-1))<=0,7,0)+(ROW(W19)-ROW($R$14))*7+(COLUMN(W19)-COLUMN($R$14)+1)),"",$R$12-(WEEKDAY($R$12,1)-($V$2-1))-IF((WEEKDAY($R$12,1)-($V$2-1))<=0,7,0)+(ROW(W19)-ROW($R$14))*7+(COLUMN(W19)-COLUMN($R$14)+1)) | X19: =IF(MONTH($R$12)<>MONTH($R$12-(WEEKDAY($R$12,1)-($V$2-1))-IF((WEEKDAY($R$12,1)-($V$2-1))<=0,7,0)+(ROW(X19)-ROW($R$14))*7+(COLUMN(X19)-COLUMN($R$14)+1)),"",$R$12-(WEEKDAY($R$12,1)-($V$2-1))-IF((WEEKDAY($R$12,1)-($V$2-1))<=0,7,0)+(ROW(X19)-ROW($R$14))*7+(COLUMN(X19)-COLUMN($R$14)+1))
B21: =DATE(YEAR(R12+35),MONTH(R12+35),1) -> 42826 | J21: =DATE(YEAR(B21+35),MONTH(B21+35),1) -> 42856 | R21: =DATE(YEAR(J21+35),MONTH(J21+35),1) -> 42887
B22: =$B$13 -> M | C22: =$C$13 -> Tu | D22: =$D$13 -> W | E22: =$E$13 -> Th | F22: =$F$13 -> F | G22: =$G$13 -> Sa | H22: =$H$13 -> Su | J22: =$B$13 -> M | K22: =$C$13 -> Tu | L22: =$D$13 -> W | M22: =$E$13 -> Th | N22: =$F$13 -> F | O22: =$G$13 -> Sa | P22: =$H$13 -> Su | R22: =$B$13 -> M | S22: =$C$13 -> Tu | T22: =$D$13 -> W | U22: =$E$13 -> Th | V22: =$F$13 -> F | W22: =$G$13 -> Sa | X22: =$H$13 -> Su
B23: =IF(MONTH($B$21)<>MONTH($B$21-(WEEKDAY($B$21,1)-($V$2-1))-IF((WEEKDAY($B$21,1)-($V$2-1))<=0,7,0)+(ROW(B23)-ROW($B$23))*7+(COLUMN(B23)-COLUMN($B$23)+1)),"",$B$21-(WEEKDAY($B$21,1)-($V$2-1))-IF((WEEKDAY($B$21,1)-($V$2-1))<=0,7,0)+(ROW(B23)-ROW($B$23))*7+(COLUMN(B23)-COLUMN($B$23)+1)) | C23: =IF(MONTH($B$21)<>MONTH($B$21-(WEEKDAY($B$21,1)-($V$2-1))-IF((WEEKDAY($B$21,1)-($V$2-1))<=0,7,0)+(ROW(C23)-ROW($B$23))*7+(COLUMN(C23)-COLUMN($B$23)+1)),"",$B$21-(WEEKDAY($B$21,1)-($V$2-1))-IF((WEEKDAY($B$21,1)-($V$2-1))<=0,7,0)+(ROW(C23)-ROW($B$23))*7+(COLUMN(C23)-COLUMN($B$23)+1)) | D23: =IF(MONTH($B$21)<>MONTH($B$21-(WEEKDAY($B$21,1)-($V$2-1))-IF((WEEKDAY($B$21,1)-($V$2-1))<=0,7,0)+(ROW(D23)-ROW($B$23))*7+(COLUMN(D23)-COLUMN($B$23)+1)),"",$B$21-(WEEKDAY($B$21,1)-($V$2-1))-IF((WEEKDAY($B$21,1)-($V$2-1))<=0,7,0)+(ROW(D23)-ROW($B$23))*7+(COLUMN(D23)-COLUMN($B$23)+1)) | E23: =IF(MONTH($B$21)<>MONTH($B$21-(WEEKDAY($B$21,1)-($V$2-1))-IF((WEEKDAY($B$21,1)-($V$2-1))<=0,7,0)+(ROW(E23)-ROW($B$23))*7+(COLUMN(E23)-COLUMN($B$23)+1)),"",$B$21-(WEEKDAY($B$21,1)-($V$2-1))-IF((WEEKDAY($B$21,1)-($V$2-1))<=0,7,0)+(ROW(E23)-ROW($B$23))*7+(COLUMN(E23)-COLUMN($B$23)+1)) | F23: =IF(MONTH($B$21)<>MONTH($B$21-(WEEKDAY($B$21,1)-($V$2-1))-IF((WEEKDAY($B$21,1)-($V$2-1))<=0,7,0)+(ROW(F23)-ROW($B$23))*7+(COLUMN(F23)-COLUMN($B$23)+1)),"",$B$21-(WEEKDAY($B$21,1)-($V$2-1))-IF((WEEKDAY($B$21,1)-($V$2-1))<=0,7,0)+(ROW(F23)-ROW($B$23))*7+(COLUMN(F23)-COLUMN($B$23)+1)) | G23: =IF(MONTH($B$21)<>MONTH($B$21-(WEEKDAY($B$21,1)-($V$2-1))-IF((WEEKDAY($B$21,1)-($V$2-1))<=0,7,0)+(ROW(G23)-ROW($B$23))*7+(COLUMN(G23)-COLUMN($B$23)+1)),"",$B$21-(WEEKDAY($B$21,1)-($V$2-1))-IF((WEEKDAY($B$21,1)-($V$2-1))<=0,7,0)+(ROW(G23)-ROW($B$23))*7+(COLUMN(G23)-COLUMN($B$23)+1)) -> 42826 | H23: =IF(MONTH($B$21)<>MONTH($B$21-(WEEKDAY($B$21,1)-($V$2-1))-IF((WEEKDAY($B$21,1)-($V$2-1))<=0,7,0)+(ROW(H23)-ROW($B$23))*7+(COLUMN(H23)-COLUMN($B$23)+1)),"",$B$21-(WEEKDAY($B$21,1)-($V$2-1))-IF((WEEKDAY($B$21,1)-($V$2-1))<=0,7,0)+(ROW(H23)-ROW($B$23))*7+(COLUMN(H23)-COLUMN($B$23)+1)) -> 42827 | J23: =IF(MONTH($J$21)<>MONTH($J$21-(WEEKDAY($J$21,1)-($V$2-1))-IF((WEEKDAY($J$21,1)-($V$2-1))<=0,7,0)+(ROW(J23)-ROW($J$23))*7+(COLUMN(J23)-COLUMN($J$23)+1)),"",$J$21-(WEEKDAY($J$21,1)-($V$2-1))-IF((WEEKDAY($J$21,1)-($V$2-1))<=0,7,0)+(ROW(J23)-ROW($J$23))*7+(COLUMN(J23)-COLUMN($J$23)+1)) -> 42856 | K23: =IF(MONTH($J$21)<>MONTH($J$21-(WEEKDAY($J$21,1)-($V$2-1))-IF((WEEKDAY($J$21,1)-($V$2-1))<=0,7,0)+(ROW(K23)-ROW($J$23))*7+(COLUMN(K23)-COLUMN($J$23)+1)),"",$J$21-(WEEKDAY($J$21,1)-($V$2-1))-IF((WEEKDAY($J$21,1)-($V$2-1))<=0,7,0)+(ROW(K23)-ROW($J$23))*7+(COLUMN(K23)-COLUMN($J$23)+1)) -> 42857 | L23: =IF(MONTH($J$21)<>MONTH($J$21-(WEEKDAY($J$21,1)-($V$2-1))-IF((WEEKDAY($J$21,1)-($V$2-1))<=0,7,0)+(ROW(L23)-ROW($J$23))*7+(COLUMN(L23)-COLUMN($J$23)+1)),"",$J$21-(WEEKDAY($J$21,1)-($V$2-1))-IF((WEEKDAY($J$21,1)-($V$2-1))<=0,7,0)+(ROW(L23)-ROW($J$23))*7+(COLUMN(L23)-COLUMN($J$23)+1)) -> 42858 | M23: =IF(MONTH($J$21)<>MONTH($J$21-(WEEKDAY($J$21,1)-($V$2-1))-IF((WEEKDAY($J$21,1)-($V$2-1))<=0,7,0)+(ROW(M23)-ROW($J$23))*7+(COLUMN(M23)-COLUMN($J$23)+1)),"",$J$21-(WEEKDAY($J$21,1)-($V$2-1))-IF((WEEKDAY($J$21,1)-($V$2-1))<=0,7,0)+(ROW(M23)-ROW($J$23))*7+(COLUMN(M23)-COLUMN($J$23)+1)) -> 42859 | N23: =IF(MONTH($J$21)<>MONTH($J$21-(WEEKDAY($J$21,1)-($V$2-1))-IF((WEEKDAY($J$21,1)-($V$2-1))<=0,7,0)+(ROW(N23)-ROW($J$23))*7+(COLUMN(N23)-COLUMN($J$23)+1)),"",$J$21-(WEEKDAY($J$21,1)-($V$2-1))-IF((WEEKDAY($J$21,1)-($V$2-1))<=0,7,0)+(ROW(N23)-ROW($J$23))*7+(COLUMN(N23)-COLUMN($J$23)+1)) -> 42860 | O23: =IF(MONTH($J$21)<>MONTH($J$21-(WEEKDAY($J$21,1)-($V$2-1))-IF((WEEKDAY($J$21,1)-($V$2-1))<=0,7,0)+(ROW(O23)-ROW($J$23))*7+(COLUMN(O23)-COLUMN($J$23)+1)),"",$J$21-(WEEKDAY($J$21,1)-($V$2-1))-IF((WEEKDAY($J$21,1)-($V$2-1))<=0,7,0)+(ROW(O23)-ROW($J$23))*7+(COLUMN(O23)-COLUMN($J$23)+1)) -> 42861 | P23: =IF(MONTH($J$21)<>MONTH($J$21-(WEEKDAY($J$21,1)-($V$2-1))-IF((WEEKDAY($J$21,1)-($V$2-1))<=0,7,0)+(ROW(P23)-ROW($J$23))*7+(COLUMN(P23)-COLUMN($J$23)+1)),"",$J$21-(WEEKDAY($J$21,1)-($V$2-1))-IF((WEEKDAY($J$21,1)-($V$2-1))<=0,7,0)+(ROW(P23)-ROW($J$23))*7+(COLUMN(P23)-COLUMN($J$23)+1)) -> 42862 | R23: =IF(MONTH($R$21)<>MONTH($R$21-(WEEKDAY($R$21,1)-($V$2-1))-IF((WEEKDAY($R$21,1)-($V$2-1))<=0,7,0)+(ROW(R23)-ROW($R$23))*7+(COLUMN(R23)-COLUMN($R$23)+1)),"",$R$21-(WEEKDAY($R$21,1)-($V$2-1))-IF((WEEKDAY($R$21,1)-($V$2-1))<=0,7,0)+(ROW(R23)-ROW($R$23))*7+(COLUMN(R23)-COLUMN($R$23)+1)) | S23: =IF(MONTH($R$21)<>MONTH($R$21-(WEEKDAY($R$21,1)-($V$2-1))-IF((WEEKDAY($R$21,1)-($V$2-1))<=0,7,0)+(ROW(S23)-ROW($R$23))*7+(COLUMN(S23)-COLUMN($R$23)+1)),"",$R$21-(WEEKDAY($R$21,1)-($V$2-1))-IF((WEEKDAY($R$21,1)-($V$2-1))<=0,7,0)+(ROW(S23)-ROW($R$23))*7+(COLUMN(S23)-COLUMN($R$23)+1)) | T23: =IF(MONTH($R$21)<>MONTH($R$21-(WEEKDAY($R$21,1)-($V$2-1))-IF((WEEKDAY($R$21,1)-($V$2-1))<=0,7,0)+(ROW(T23)-ROW($R$23))*7+(COLUMN(T23)-COLUMN($R$23)+1)),"",$R$21-(WEEKDAY($R$21,1)-($V$2-1))-IF((WEEKDAY($R$21,1)-($V$2-1))<=0,7,0)+(ROW(T23)-ROW($R$23))*7+(COLUMN(T23)-COLUMN($R$23)+1)) | U23: =IF(MONTH($R$21)<>MONTH($R$21-(WEEKDAY($R$21,1)-($V$2-1))-IF((WEEKDAY($R$21,1)-($V$2-1))<=0,7,0)+(ROW(U23)-ROW($R$23))*7+(COLUMN(U23)-COLUMN($R$23)+1)),"",$R$21-(WEEKDAY($R$21,1)-($V$2-1))-IF((WEEKDAY($R$21,1)-($V$2-1))<=0,7,0)+(ROW(U23)-ROW($R$23))*7+(COLUMN(U23)-COLUMN($R$23)+1)) -> 42887 | V23: =IF(MONTH($R$21)<>MONTH($R$21-(WEEKDAY($R$21,1)-($V$2-1))-IF((WEEKDAY($R$21,1)-($V$2-1))<=0,7,0)+(ROW(V23)-ROW($R$23))*7+(COLUMN(V23)-COLUMN($R$23)+1)),"",$R$21-(WEEKDAY($R$21,1)-($V$2-1))-IF((WEEKDAY($R$21,1)-($V$2-1))<=0,7,0)+(ROW(V23)-ROW($R$23))*7+(COLUMN(V23)-COLUMN($R$23)+1)) -> 42888 | W23: =IF(MONTH($R$21)<>MONTH($R$21-(WEEKDAY($R$21,1)-($V$2-1))-IF((WEEKDAY($R$21,1)-($V$2-1))<=0,7,0)+(ROW(W23)-ROW($R$23))*7+(COLUMN(W23)-COLUMN($R$23)+1)),"",$R$21-(WEEKDAY($R$21,1)-($V$2-1))-IF((WEEKDAY($R$21,1)-($V$2-1))<=0,7,0)+(ROW(W23)-ROW($R$23))*7+(COLUMN(W23)-COLUMN($R$23)+1)) -> 42889 | X23: =IF(MONTH($R$21)<>MONTH($R$21-(WEEKDAY($R$21,1)-($V$2-1))-IF((WEEKDAY($R$21,1)-($V$2-1))<=0,7,0)+(ROW(X23)-ROW($R$23))*7+(COLUMN(X23)-COLUMN($R$23)+1)),"",$R$21-(WEEKDAY($R$21,1)-($V$2-1))-IF((WEEKDAY($R$21,1)-($V$2-1))<=0,7,0)+(ROW(X23)-ROW($R$23))*7+(COLUMN(X23)-COLUMN($R$23)+1)) -> 42890
B24: =IF(MONTH($B$21)<>MONTH($B$21-(WEEKDAY($B$21,1)-($V$2-1))-IF((WEEKDAY($B$21,1)-($V$2-1))<=0,7,0)+(ROW(B24)-ROW($B$23))*7+(COLUMN(B24)-COLUMN($B$23)+1)),"",$B$21-(WEEKDAY($B$21,1)-($V$2-1))-IF((WEEKDAY($B$21,1)-($V$2-1))<=0,7,0)+(ROW(B24)-ROW($B$23))*7+(COLUMN(B24)-COLUMN($B$23)+1)) -> 42828 | C24: =IF(MONTH($B$21)<>MONTH($B$21-(WEEKDAY($B$21,1)-($V$2-1))-IF((WEEKDAY($B$21,1)-($V$2-1))<=0,7,0)+(ROW(C24)-ROW($B$23))*7+(COLUMN(C24)-COLUMN($B$23)+1)),"",$B$21-(WEEKDAY($B$21,1)-($V$2-1))-IF((WEEKDAY($B$21,1)-($V$2-1))<=0,7,0)+(ROW(C24)-ROW($B$23))*7+(COLUMN(C24)-COLUMN($B$23)+1)) -> 42829 | D24: =IF(MONTH($B$21)<>MONTH($B$21-(WEEKDAY($B$21,1)-($V$2-1))-IF((WEEKDAY($B$21,1)-($V$2-1))<=0,7,0)+(ROW(D24)-ROW($B$23))*7+(COLUMN(D24)-COLUMN($B$23)+1)),"",$B$21-(WEEKDAY($B$21,1)-($V$2-1))-IF((WEEKDAY($B$21,1)-($V$2-1))<=0,7,0)+(ROW(D24)-ROW($B$23))*7+(COLUMN(D24)-COLUMN($B$23)+1)) -> 42830 | E24: =IF(MONTH($B$21)<>MONTH($B$21-(WEEKDAY($B$21,1)-($V$2-1))-IF((WEEKDAY($B$21,1)-($V$2-1))<=0,7,0)+(ROW(E24)-ROW($B$23))*7+(COLUMN(E24)-COLUMN($B$23)+1)),"",$B$21-(WEEKDAY($B$21,1)-($V$2-1))-IF((WEEKDAY($B$21,1)-($V$2-1))<=0,7,0)+(ROW(E24)-ROW($B$23))*7+(COLUMN(E24)-COLUMN($B$23)+1)) -> 42831 | F24: =IF(MONTH($B$21)<>MONTH($B$21-(WEEKDAY($B$21,1)-($V$2-1))-IF((WEEKDAY($B$21,1)-($V$2-1))<=0,7,0)+(ROW(F24)-ROW($B$23))*7+(COLUMN(F24)-COLUMN($B$23)+1)),"",$B$21-(WEEKDAY($B$21,1)-($V$2-1))-IF((WEEKDAY($B$21,1)-($V$2-1))<=0,7,0)+(ROW(F24)-ROW($B$23))*7+(COLUMN(F24)-COLUMN($B$23)+1)) -> 42832 | G24: =IF(MONTH($B$21)<>MONTH($B$21-(WEEKDAY($B$21,1)-($V$2-1))-IF((WEEKDAY($B$21,1)-($V$2-1))<=0,7,0)+(ROW(G24)-ROW($B$23))*7+(COLUMN(G24)-COLUMN($B$23)+1)),"",$B$21-(WEEKDAY($B$21,1)-($V$2-1))-IF((WEEKDAY($B$21,1)-($V$2-1))<=0,7,0)+(ROW(G24)-ROW($B$23))*7+(COLUMN(G24)-COLUMN($B$23)+1)) -> 42833 | H24: =IF(MONTH($B$21)<>MONTH($B$21-(WEEKDAY($B$21,1)-($V$2-1))-IF((WEEKDAY($B$21,1)-($V$2-1))<=0,7,0)+(ROW(H24)-ROW($B$23))*7+(COLUMN(H24)-COLUMN($B$23)+1)),"",$B$21-(WEEKDAY($B$21,1)-($V$2-1))-IF((WEEKDAY($B$21,1)-($V$2-1))<=0,7,0)+(ROW(H24)-ROW($B$23))*7+(COLUMN(H24)-COLUMN($B$23)+1)) -> 42834 | J24: =IF(MONTH($J$21)<>MONTH($J$21-(WEEKDAY($J$21,1)-($V$2-1))-IF((WEEKDAY($J$21,1)-($V$2-1))<=0,7,0)+(ROW(J24)-ROW($J$23))*7+(COLUMN(J24)-COLUMN($J$23)+1)),"",$J$21-(WEEKDAY($J$21,1)-($V$2-1))-IF((WEEKDAY($J$21,1)-($V$2-1))<=0,7,0)+(ROW(J24)-ROW($J$23))*7+(COLUMN(J24)-COLUMN($J$23)+1)) -> 42863 | K24: =IF(MONTH($J$21)<>MONTH($J$21-(WEEKDAY($J$21,1)-($V$2-1))-IF((WEEKDAY($J$21,1)-($V$2-1))<=0,7,0)+(ROW(K24)-ROW($J$23))*7+(COLUMN(K24)-COLUMN($J$23)+1)),"",$J$21-(WEEKDAY($J$21,1)-($V$2-1))-IF((WEEKDAY($J$21,1)-($V$2-1))<=0,7,0)+(ROW(K24)-ROW($J$23))*7+(COLUMN(K24)-COLUMN($J$23)+1)) -> 42864 | L24: =IF(MONTH($J$21)<>MONTH($J$21-(WEEKDAY($J$21,1)-($V$2-1))-IF((WEEKDAY($J$21,1)-($V$2-1))<=0,7,0)+(ROW(L24)-ROW($J$23))*7+(COLUMN(L24)-COLUMN($J$23)+1)),"",$J$21-(WEEKDAY($J$21,1)-($V$2-1))-IF((WEEKDAY($J$21,1)-($V$2-1))<=0,7,0)+(ROW(L24)-ROW($J$23))*7+(COLUMN(L24)-COLUMN($J$23)+1)) -> 42865 | M24: =IF(MONTH($J$21)<>MONTH($J$21-(WEEKDAY($J$21,1)-($V$2-1))-IF((WEEKDAY($J$21,1)-($V$2-1))<=0,7,0)+(ROW(M24)-ROW($J$23))*7+(COLUMN(M24)-COLUMN($J$23)+1)),"",$J$21-(WEEKDAY($J$21,1)-($V$2-1))-IF((WEEKDAY($J$21,1)-($V$2-1))<=0,7,0)+(ROW(M24)-ROW($J$23))*7+(COLUMN(M24)-COLUMN($J$23)+1)) -> 42866 | N24: =IF(MONTH($J$21)<>MONTH($J$21-(WEEKDAY($J$21,1)-($V$2-1))-IF((WEEKDAY($J$21,1)-($V$2-1))<=0,7,0)+(ROW(N24)-ROW($J$23))*7+(COLUMN(N24)-COLUMN($J$23)+1)),"",$J$21-(WEEKDAY($J$21,1)-($V$2-1))-IF((WEEKDAY($J$21,1)-($V$2-1))<=0,7,0)+(ROW(N24)-ROW($J$23))*7+(COLUMN(N24)-COLUMN($J$23)+1)) -> 42867 | O24: =IF(MONTH($J$21)<>MONTH($J$21-(WEEKDAY($J$21,1)-($V$2-1))-IF((WEEKDAY($J$21,1)-($V$2-1))<=0,7,0)+(ROW(O24)-ROW($J$23))*7+(COLUMN(O24)-COLUMN($J$23)+1)),"",$J$21-(WEEKDAY($J$21,1)-($V$2-1))-IF((WEEKDAY($J$21,1)-($V$2-1))<=0,7,0)+(ROW(O24)-ROW($J$23))*7+(COLUMN(O24)-COLUMN($J$23)+1)) -> 42868 | P24: =IF(MONTH($J$21)<>MONTH($J$21-(WEEKDAY($J$21,1)-($V$2-1))-IF((WEEKDAY($J$21,1)-($V$2-1))<=0,7,0)+(ROW(P24)-ROW($J$23))*7+(COLUMN(P24)-COLUMN($J$23)+1)),"",$J$21-(WEEKDAY($J$21,1)-($V$2-1))-IF((WEEKDAY($J$21,1)-($V$2-1))<=0,7,0)+(ROW(P24)-ROW($J$23))*7+(COLUMN(P24)-COLUMN($J$23)+1)) -> 42869 | R24: =IF(MONTH($R$21)<>MONTH($R$21-(WEEKDAY($R$21,1)-($V$2-1))-IF((WEEKDAY($R$21,1)-($V$2-1))<=0,7,0)+(ROW(R24)-ROW($R$23))*7+(COLUMN(R24)-COLUMN($R$23)+1)),"",$R$21-(WEEKDAY($R$21,1)-($V$2-1))-IF((WEEKDAY($R$21,1)-($V$2-1))<=0,7,0)+(ROW(R24)-ROW($R$23))*7+(COLUMN(R24)-COLUMN($R$23)+1)) -> 42891 | S24: =IF(MONTH($R$21)<>MONTH($R$21-(WEEKDAY($R$21,1)-($V$2-1))-IF((WEEKDAY($R$21,1)-($V$2-1))<=0,7,0)+(ROW(S24)-ROW($R$23))*7+(COLUMN(S24)-COLUMN($R$23)+1)),"",$R$21-(WEEKDAY($R$21,1)-($V$2-1))-IF((WEEKDAY($R$21,1)-($V$2-1))<=0,7,0)+(ROW(S24)-ROW($R$23))*7+(COLUMN(S24)-COLUMN($R$23)+1)) -> 42892 | T24: =IF(MONTH($R$21)<>MONTH($R$21-(WEEKDAY($R$21,1)-($V$2-1))-IF((WEEKDAY($R$21,1)-($V$2-1))<=0,7,0)+(ROW(T24)-ROW($R$23))*7+(COLUMN(T24)-COLUMN($R$23)+1)),"",$R$21-(WEEKDAY($R$21,1)-($V$2-1))-IF((WEEKDAY($R$21,1)-($V$2-1))<=0,7,0)+(ROW(T24)-ROW($R$23))*7+(COLUMN(T24)-COLUMN($R$23)+1)) -> 42893 | U24: =IF(MONTH($R$21)<>MONTH($R$21-(WEEKDAY($R$21,1)-($V$2-1))-IF((WEEKDAY($R$21,1)-($V$2-1))<=0,7,0)+(ROW(U24)-ROW($R$23))*7+(COLUMN(U24)-COLUMN($R$23)+1)),"",$R$21-(WEEKDAY($R$21,1)-($V$2-1))-IF((WEEKDAY($R$21,1)-($V$2-1))<=0,7,0)+(ROW(U24)-ROW($R$23))*7+(COLUMN(U24)-COLUMN($R$23)+1)) -> 42894 | V24: =IF(MONTH($R$21)<>MONTH($R$21-(WEEKDAY($R$21,1)-($V$2-1))-IF((WEEKDAY($R$21,1)-($V$2-1))<=0,7,0)+(ROW(V24)-ROW($R$23))*7+(COLUMN(V24)-COLUMN($R$23)+1)),"",$R$21-(WEEKDAY($R$21,1)-($V$2-1))-IF((WEEKDAY($R$21,1)-($V$2-1))<=0,7,0)+(ROW(V24)-ROW($R$23))*7+(COLUMN(V24)-COLUMN($R$23)+1)) -> 42895 | W24: =IF(MONTH($R$21)<>MONTH($R$21-(WEEKDAY($R$21,1)-($V$2-1))-IF((WEEKDAY($R$21,1)-($V$2-1))<=0,7,0)+(ROW(W24)-ROW($R$23))*7+(COLUMN(W24)-COLUMN($R$23)+1)),"",$R$21-(WEEKDAY($R$21,1)-($V$2-1))-IF((WEEKDAY($R$21,1)-($V$2-1))<=0,7,0)+(ROW(W24)-ROW($R$23))*7+(COLUMN(W24)-COLUMN($R$23)+1)) -> 42896 | X24: =IF(MONTH($R$21)<>MONTH($R$21-(WEEKDAY($R$21,1)-($V$2-1))-IF((WEEKDAY($R$21,1)-($V$2-1))<=0,7,0)+(ROW(X24)-ROW($R$23))*7+(COLUMN(X24)-COLUMN($R$23)+1)),"",$R$21-(WEEKDAY($R$21,1)-($V$2-1))-IF((WEEKDAY($R$21,1)-($V$2-1))<=0,7,0)+(ROW(X24)-ROW($R$23))*7+(COLUMN(X24)-COLUMN($R$23)+1)) -> 42897
B25: =IF(MONTH($B$21)<>MONTH($B$21-(WEEKDAY($B$21,1)-($V$2-1))-IF((WEEKDAY($B$21,1)-($V$2-1))<=0,7,0)+(ROW(B25)-ROW($B$23))*7+(COLUMN(B25)-COLUMN($B$23)+1)),"",$B$21-(WEEKDAY($B$21,1)-($V$2-1))-IF((WEEKDAY($B$21,1)-($V$2-1))<=0,7,0)+(ROW(B25)-ROW($B$23))*7+(COLUMN(B25)-COLUMN($B$23)+1)) -> 42835 | C25: =IF(MONTH($B$21)<>MONTH($B$21-(WEEKDAY($B$21,1)-($V$2-1))-IF((WEEKDAY($B$21,1)-($V$2-1))<=0,7,0)+(ROW(C25)-ROW($B$23))*7+(COLUMN(C25)-COLUMN($B$23)+1)),"",$B$21-(WEEKDAY($B$21,1)-($V$2-1))-IF((WEEKDAY($B$21,1)-($V$2-1))<=0,7,0)+(ROW(C25)-ROW($B$23))*7+(COLUMN(C25)-COLUMN($B$23)+1)) -> 42836 | D25: =IF(MONTH($B$21)<>MONTH($B$21-(WEEKDAY($B$21,1)-($V$2-1))-IF((WEEKDAY($B$21,1)-($V$2-1))<=0,7,0)+(ROW(D25)-ROW($B$23))*7+(COLUMN(D25)-COLUMN($B$23)+1)),"",$B$21-(WEEKDAY($B$21,1)-($V$2-1))-IF((WEEKDAY($B$21,1)-($V$2-1))<=0,7,0)+(ROW(D25)-ROW($B$23))*7+(COLUMN(D25)-COLUMN($B$23)+1)) -> 42837 | E25: =IF(MONTH($B$21)<>MONTH($B$21-(WEEKDAY($B$21,1)-($V$2-1))-IF((WEEKDAY($B$21,1)-($V$2-1))<=0,7,0)+(ROW(E25)-ROW($B$23))*7+(COLUMN(E25)-COLUMN($B$23)+1)),"",$B$21-(WEEKDAY($B$21,1)-($V$2-1))-IF((WEEKDAY($B$21,1)-($V$2-1))<=0,7,0)+(ROW(E25)-ROW($B$23))*7+(COLUMN(E25)-COLUMN($B$23)+1)) -> 42838 | F25: =IF(MONTH($B$21)<>MONTH($B$21-(WEEKDAY($B$21,1)-($V$2-1))-IF((WEEKDAY($B$21,1)-($V$2-1))<=0,7,0)+(ROW(F25)-ROW($B$23))*7+(COLUMN(F25)-COLUMN($B$23)+1)),"",$B$21-(WEEKDAY($B$21,1)-($V$2-1))-IF((WEEKDAY($B$21,1)-($V$2-1))<=0,7,0)+(ROW(F25)-ROW($B$23))*7+(COLUMN(F25)-COLUMN($B$23)+1)) -> 42839 | G25: =IF(MONTH($B$21)<>MONTH($B$21-(WEEKDAY($B$21,1)-($V$2-1))-IF((WEEKDAY($B$21,1)-($V$2-1))<=0,7,0)+(ROW(G25)-ROW($B$23))*7+(COLUMN(G25)-COLUMN($B$23)+1)),"",$B$21-(WEEKDAY($B$21,1)-($V$2-1))-IF((WEEKDAY($B$21,1)-($V$2-1))<=0,7,0)+(ROW(G25)-ROW($B$23))*7+(COLUMN(G25)-COLUMN($B$23)+1)) -> 42840 | H25: =IF(MONTH($B$21)<>MONTH($B$21-(WEEKDAY($B$21,1)-($V$2-1))-IF((WEEKDAY($B$21,1)-($V$2-1))<=0,7,0)+(ROW(H25)-ROW($B$23))*7+(COLUMN(H25)-COLUMN($B$23)+1)),"",$B$21-(WEEKDAY($B$21,1)-($V$2-1))-IF((WEEKDAY($B$21,1)-($V$2-1))<=0,7,0)+(ROW(H25)-ROW($B$23))*7+(COLUMN(H25)-COLUMN($B$23)+1)) -> 42841 | J25: =IF(MONTH($J$21)<>MONTH($J$21-(WEEKDAY($J$21,1)-($V$2-1))-IF((WEEKDAY($J$21,1)-($V$2-1))<=0,7,0)+(ROW(J25)-ROW($J$23))*7+(COLUMN(J25)-COLUMN($J$23)+1)),"",$J$21-(WEEKDAY($J$21,1)-($V$2-1))-IF((WEEKDAY($J$21,1)-($V$2-1))<=0,7,0)+(ROW(J25)-ROW($J$23))*7+(COLUMN(J25)-COLUMN($J$23)+1)) -> 42870 | K25: =IF(MONTH($J$21)<>MONTH($J$21-(WEEKDAY($J$21,1)-($V$2-1))-IF((WEEKDAY($J$21,1)-($V$2-1))<=0,7,0)+(ROW(K25)-ROW($J$23))*7+(COLUMN(K25)-COLUMN($J$23)+1)),"",$J$21-(WEEKDAY($J$21,1)-($V$2-1))-IF((WEEKDAY($J$21,1)-($V$2-1))<=0,7,0)+(ROW(K25)-ROW($J$23))*7+(COLUMN(K25)-COLUMN($J$23)+1)) -> 42871 | L25: =IF(MONTH($J$21)<>MONTH($J$21-(WEEKDAY($J$21,1)-($V$2-1))-IF((WEEKDAY($J$21,1)-($V$2-1))<=0,7,0)+(ROW(L25)-ROW($J$23))*7+(COLUMN(L25)-COLUMN($J$23)+1)),"",$J$21-(WEEKDAY($J$21,1)-($V$2-1))-IF((WEEKDAY($J$21,1)-($V$2-1))<=0,7,0)+(ROW(L25)-ROW($J$23))*7+(COLUMN(L25)-COLUMN($J$23)+1)) -> 42872 | M25: =IF(MONTH($J$21)<>MONTH($J$21-(WEEKDAY($J$21,1)-($V$2-1))-IF((WEEKDAY($J$21,1)-($V$2-1))<=0,7,0)+(ROW(M25)-ROW($J$23))*7+(COLUMN(M25)-COLUMN($J$23)+1)),"",$J$21-(WEEKDAY($J$21,1)-($V$2-1))-IF((WEEKDAY($J$21,1)-($V$2-1))<=0,7,0)+(ROW(M25)-ROW($J$23))*7+(COLUMN(M25)-COLUMN($J$23)+1)) -> 42873 | N25: =IF(MONTH($J$21)<>MONTH($J$21-(WEEKDAY($J$21,1)-($V$2-1))-IF((WEEKDAY($J$21,1)-($V$2-1))<=0,7,0)+(ROW(N25)-ROW($J$23))*7+(COLUMN(N25)-COLUMN($J$23)+1)),"",$J$21-(WEEKDAY($J$21,1)-($V$2-1))-IF((WEEKDAY($J$21,1)-($V$2-1))<=0,7,0)+(ROW(N25)-ROW($J$23))*7+(COLUMN(N25)-COLUMN($J$23)+1)) -> 42874 | O25: =IF(MONTH($J$21)<>MONTH($J$21-(WEEKDAY($J$21,1)-($V$2-1))-IF((WEEKDAY($J$21,1)-($V$2-1))<=0,7,0)+(ROW(O25)-ROW($J$23))*7+(COLUMN(O25)-COLUMN($J$23)+1)),"",$J$21-(WEEKDAY($J$21,1)-($V$2-1))-IF((WEEKDAY($J$21,1)-($V$2-1))<=0,7,0)+(ROW(O25)-ROW($J$23))*7+(COLUMN(O25)-COLUMN($J$23)+1)) -> 42875 | P25: =IF(MONTH($J$21)<>MONTH($J$21-(WEEKDAY($J$21,1)-($V$2-1))-IF((WEEKDAY($J$21,1)-($V$2-1))<=0,7,0)+(ROW(P25)-ROW($J$23))*7+(COLUMN(P25)-COLUMN($J$23)+1)),"",$J$21-(WEEKDAY($J$21,1)-($V$2-1))-IF((WEEKDAY($J$21,1)-($V$2-1))<=0,7,0)+(ROW(P25)-ROW($J$23))*7+(COLUMN(P25)-COLUMN($J$23)+1)) -> 42876 | R25: =IF(MONTH($R$21)<>MONTH($R$21-(WEEKDAY($R$21,1)-($V$2-1))-IF((WEEKDAY($R$21,1)-($V$2-1))<=0,7,0)+(ROW(R25)-ROW($R$23))*7+(COLUMN(R25)-COLUMN($R$23)+1)),"",$R$21-(WEEKDAY($R$21,1)-($V$2-1))-IF((WEEKDAY($R$21,1)-($V$2-1))<=0,7,0)+(ROW(R25)-ROW($R$23))*7+(COLUMN(R25)-COLUMN($R$23)+1)) -> 42898 | S25: =IF(MONTH($R$21)<>MONTH($R$21-(WEEKDAY($R$21,1)-($V$2-1))-IF((WEEKDAY($R$21,1)-($V$2-1))<=0,7,0)+(ROW(S25)-ROW($R$23))*7+(COLUMN(S25)-COLUMN($R$23)+1)),"",$R$21-(WEEKDAY($R$21,1)-($V$2-1))-IF((WEEKDAY($R$21,1)-($V$2-1))<=0,7,0)+(ROW(S25)-ROW($R$23))*7+(COLUMN(S25)-COLUMN($R$23)+1)) -> 42899 | T25: =IF(MONTH($R$21)<>MONTH($R$21-(WEEKDAY($R$21,1)-($V$2-1))-IF((WEEKDAY($R$21,1)-($V$2-1))<=0,7,0)+(ROW(T25)-ROW($R$23))*7+(COLUMN(T25)-COLUMN($R$23)+1)),"",$R$21-(WEEKDAY($R$21,1)-($V$2-1))-IF((WEEKDAY($R$21,1)-($V$2-1))<=0,7,0)+(ROW(T25)-ROW($R$23))*7+(COLUMN(T25)-COLUMN($R$23)+1)) -> 42900 | U25: =IF(MONTH($R$21)<>MONTH($R$21-(WEEKDAY($R$21,1)-($V$2-1))-IF((WEEKDAY($R$21,1)-($V$2-1))<=0,7,0)+(ROW(U25)-ROW($R$23))*7+(COLUMN(U25)-COLUMN($R$23)+1)),"",$R$21-(WEEKDAY($R$21,1)-($V$2-1))-IF((WEEKDAY($R$21,1)-($V$2-1))<=0,7,0)+(ROW(U25)-ROW($R$23))*7+(COLUMN(U25)-COLUMN($R$23)+1)) -> 42901 | V25: =IF(MONTH($R$21)<>MONTH($R$21-(WEEKDAY($R$21,1)-($V$2-1))-IF((WEEKDAY($R$21,1)-($V$2-1))<=0,7,0)+(ROW(V25)-ROW($R$23))*7+(COLUMN(V25)-COLUMN($R$23)+1)),"",$R$21-(WEEKDAY($R$21,1)-($V$2-1))-IF((WEEKDAY($R$21,1)-($V$2-1))<=0,7,0)+(ROW(V25)-ROW($R$23))*7+(COLUMN(V25)-COLUMN($R$23)+1)) -> 42902 | W25: =IF(MONTH($R$21)<>MONTH($R$21-(WEEKDAY($R$21,1)-($V$2-1))-IF((WEEKDAY($R$21,1)-($V$2-1))<=0,7,0)+(ROW(W25)-ROW($R$23))*7+(COLUMN(W25)-COLUMN($R$23)+1)),"",$R$21-(WEEKDAY($R$21,1)-($V$2-1))-IF((WEEKDAY($R$21,1)-($V$2-1))<=0,7,0)+(ROW(W25)-ROW($R$23))*7+(COLUMN(W25)-COLUMN($R$23)+1)) -> 42903 | X25: =IF(MONTH($R$21)<>MONTH($R$21-(WEEKDAY($R$21,1)-($V$2-1))-IF((WEEKDAY($R$21,1)-($V$2-1))<=0,7,0)+(ROW(X25)-ROW($R$23))*7+(COLUMN(X25)-COLUMN($R$23)+1)),"",$R$21-(WEEKDAY($R$21,1)-($V$2-1))-IF((WEEKDAY($R$21,1)-($V$2-1))<=0,7,0)+(ROW(X25)-ROW($R$23))*7+(COLUMN(X25)-COLUMN($R$23)+1)) -> 42904
