Workbook

Sheet ControlChart
A1: Control Chart
A2: [Title or Process] | K2: © 2009 Vertex42 LLC
A3: [Date] | K3: More Control Charts
B5: Quality Characteristic | C5: Average Thickness (mm)
B6: Process Mean, m-hat | C6: 30.5
B7: Process St.Dev., s-hat | C7: 1.5
B8: Sample Size, n | C8: 5
B9: k | C9: 3
G25: [42]
A30: Control Limits
B31: Center Line, CL | C31: =C6 -> 30.5
B32: sX-bar | C32: =C7/SQRT(C8) -> 0.67082039
B33: UCL | C33: =C31+C9*C32 -> 32.512461 | D33: CL+ksX-bar
B34: LCL | C34: =C31-C9*C32 -> 28.487539 | D34: CL-ksX-bar
B35: a | C35: =2*(1-NORMSDIST((C33-C31)/C32)) -> 0.0026997961
B36: ARL | C36: =1/C35 -> 370.39835 | D36: samples
A38: Data Table | F38: Error Bars
A39: Sample | B39: X-bar | C39: CL | D39: UCL | E39: LCL | F39: + | G39: - | H39: Max | I39: Min
A40: 1 | B40: 32.1 | C40: =$C$31 -> 30.5 | D40: =$C$33 -> 32.512461 | E40: =$C$34 -> 28.487539 | F40: =IF(H40="","",H40-B40) | G40: =IF(I40="","",B40-I40)
A41: 2 | B41: 29.87 | C41: =$C$31 -> 30.5 | D41: =$C$33 -> 32.512461 | E41: =$C$34 -> 28.487539 | F41: =IF(H41="","",H41-B41) | G41: =IF(I41="","",B41-I41)
A42: 3 | B42: 30.88 | C42: =$C$31 -> 30.5 | D42: =$C$33 -> 32.512461 | E42: =$C$34 -> 28.487539 | F42: =IF(H42="","",H42-B42) | G42: =IF(I42="","",B42-I42)
A43: 4 | B43: 31.67 | C43: =$C$31 -> 30.5 | D43: =$C$33 -> 32.512461 | E43: =$C$34 -> 28.487539 | F43: =IF(H43="","",H43-B43) | G43: =IF(I43="","",B43-I43)
A44: 5 | B44: 29.15 | C44: =$C$31 -> 30.5 | D44: =$C$33 -> 32.512461 | E44: =$C$34 -> 28.487539 | F44: =IF(H44="","",H44-B44) | G44: =IF(I44="","",B44-I44)
A45: 6 | B45: 32.32 | C45: =$C$31 -> 30.5 | D45: =$C$33 -> 32.512461 | E45: =$C$34 -> 28.487539 | F45: =IF(H45="","",H45-B45) | G45: =IF(I45="","",B45-I45)
A46: 7 | B46: 30.43 | C46: =$C$31 -> 30.5 | D46: =$C$33 -> 32.512461 | E46: =$C$34 -> 28.487539 | F46: =IF(H46="","",H46-B46) | G46: =IF(I46="","",B46-I46)
A47: 8 | B47: 31.48 | C47: =$C$31 -> 30.5 | D47: =$C$33 -> 32.512461 | E47: =$C$34 -> 28.487539 | F47: =IF(H47="","",H47-B47) | G47: =IF(I47="","",B47-I47)
A48: 9 | B48: 29.88 | C48: =$C$31 -> 30.5 | D48: =$C$33 -> 32.512461 | E48: =$C$34 -> 28.487539 | F48: =IF(H48="","",H48-B48) | G48: =IF(I48="","",B48-I48)
A49: 10 | B49: 28.82 | C49: =$C$31 -> 30.5 | D49: =$C$33 -> 32.512461 | E49: =$C$34 -> 28.487539 | F49: =IF(H49="","",H49-B49) | G49: =IF(I49="","",B49-I49)
A50: 11 | B50: 30.54 | C50: =$C$31 -> 30.5 | D50: =$C$33 -> 32.512461 | E50: =$C$34 -> 28.487539 | F50: =IF(H50="","",H50-B50) | G50: =IF(I50="","",B50-I50)
A51: 12 | B51: 29.23 | C51: =$C$31 -> 30.5 | D51: =$C$33 -> 32.512461 | E51: =$C$34 -> 28.487539 | F51: =IF(H51="","",H51-B51) | G51: =IF(I51="","",B51-I51)
... A54: 15 | B54: 30.3 | C54: =$C$31 -> 30.5 | D54: =$C$33 -> 32.512461 | E54: =$C$34 -> 28.487539 | F54: =IF(H54="","",H54-B54) | G54: =IF(I54="","",B54-I54)
A56: Insert rows above the gray line | I56: [42]

Sheet OC_Curve
A1: Operating Characteristic (OC) Curve
A3: The OC-Curve shows the probability of failing to detect a shift in the process mean if
A4: the first sample following the shift is within the control limits, assuming the process
A5: standard deviation stays the same, and the distribution is Normal.
A6: The OC-Curve is a plot of the Type II error vs. the shift in the process mean.
A7: The probability of a Type II error decreases if you increase the sample size, n.
A26: s-shift | B26: Process Mean | C26: ZUCL | D26: ZLCL | E26: Prob, b | F26: ARL
A27: 3 | B27: =ControlChart!$C$6+A27*ControlChart!$C$7 -> 35 | C27: =(ControlChart!$C$33-B27)/ControlChart!$C$32 -> -3.7082039 | D27: =(ControlChart!$C$34-B27)/ControlChart!$C$32 -> -9.7082039 | E27: =1-((1-NORMSDIST(C27))+NORMSDIST(D27)) -> 0.00010436726 | F27: =1/(1-E27) -> 1.0001044
A28: 2.75 | B28: =ControlChart!$C$6+A28*ControlChart!$C$7 -> 34.625 | C28: =(ControlChart!$C$33-B28)/ControlChart!$C$32 -> -3.1491869 | D28: =(ControlChart!$C$34-B28)/ControlChart!$C$32 -> -9.1491869 | E28: =1-((1-NORMSDIST(C28))+NORMSDIST(D28)) -> 0.00081862713 | F28: =1/(1-E28) -> 1.0008193
A29: 2.5 | B29: =ControlChart!$C$6+A29*ControlChart!$C$7 -> 34.25 | C29: =(ControlChart!$C$33-B29)/ControlChart!$C$32 -> -2.5901699 | D29: =(ControlChart!$C$34-B29)/ControlChart!$C$32 -> -8.5901699 | E29: =1-((1-NORMSDIST(C29))+NORMSDIST(D29)) -> 0.0047964281 | F29: =1/(1-E29) -> 1.0048195
A30: 2.25 | B30: =ControlChart!$C$6+A30*ControlChart!$C$7 -> 33.875 | C30: =(ControlChart!$C$33-B30)/ControlChart!$C$32 -> -2.0311529 | D30: =(ControlChart!$C$34-B30)/ControlChart!$C$32 -> -8.0311529 | E30: =1-((1-NORMSDIST(C30))+NORMSDIST(D30)) -> 0.021119741 | F30: =1/(1-E30) -> 1.0215754
A31: 2 | B31: =ControlChart!$C$6+A31*ControlChart!$C$7 -> 33.5 | C31: =(ControlChart!$C$33-B31)/ControlChart!$C$32 -> -1.472136 | D31: =(ControlChart!$C$34-B31)/ControlChart!$C$32 -> -7.472136 | E31: =1-((1-NORMSDIST(C31))+NORMSDIST(D31)) -> 0.070492084 | F31: =1/(1-E31) -> 1.0758381
A32: 1.75 | B32: =ControlChart!$C$6+A32*ControlChart!$C$7 -> 33.125 | C32: =(ControlChart!$C$33-B32)/ControlChart!$C$32 -> -0.91311896 | D32: =(ControlChart!$C$34-B32)/ControlChart!$C$32 -> -6.913119 | E32: =1-((1-NORMSDIST(C32))+NORMSDIST(D32)) -> 0.18058999 | F32: =1/(1-E32) -> 1.2203903
A33: 1.5 | B33: =ControlChart!$C$6+A33*ControlChart!$C$7 -> 32.75 | C33: =(ControlChart!$C$33-B33)/ControlChart!$C$32 -> -0.35410197 | D33: =(ControlChart!$C$34-B33)/ControlChart!$C$32 -> -6.354102 | E33: =1-((1-NORMSDIST(C33))+NORMSDIST(D33)) -> 0.36163123 | F33: =1/(1-E33) -> 1.5664927
A34: 1.25 | B34: =ControlChart!$C$6+A34*ControlChart!$C$7 -> 32.375 | C34: =(ControlChart!$C$33-B34)/ControlChart!$C$32 -> 0.20491503 | D34: =(ControlChart!$C$34-B34)/ControlChart!$C$32 -> -5.795085 | E34: =1-((1-NORMSDIST(C34))+NORMSDIST(D34)) -> 0.58118074 | F34: =1/(1-E34) -> 2.3876648
A35: 1 | B35: =ControlChart!$C$6+A35*ControlChart!$C$7 -> 32 | C35: =(ControlChart!$C$33-B35)/ControlChart!$C$32 -> 0.76393202 | D35: =(ControlChart!$C$34-B35)/ControlChart!$C$32 -> -5.236068 | E35: =1-((1-NORMSDIST(C35))+NORMSDIST(D35)) -> 0.77754604 | F35: =1/(1-E35) -> 4.4953122
A36: 0.75 | B36: =ControlChart!$C$6+A36*ControlChart!$C$7 -> 31.625 | C36: =(ControlChart!$C$33-B36)/ControlChart!$C$32 -> 1.322949 | D36: =(ControlChart!$C$34-B36)/ControlChart!$C$32 -> -4.677051 | E36: =1-((1-NORMSDIST(C36))+NORMSDIST(D36)) -> 0.90707238 | F36: =1/(1-E36) -> 10.761063
A37: 0.5 | B37: =ControlChart!$C$6+A37*ControlChart!$C$7 -> 31.25 | C37: =(ControlChart!$C$33-B37)/ControlChart!$C$32 -> 1.881966 | D37: =(ControlChart!$C$34-B37)/ControlChart!$C$32 -> -4.118034 | E37: =1-((1-NORMSDIST(C37))+NORMSDIST(D37)) -> 0.97006058 | F37: =1/(1-E37) -> 33.400779
A38: 0.25 | B38: =ControlChart!$C$6+A38*ControlChart!$C$7 -> 30.875 | C38: =(ControlChart!$C$33-B38)/ControlChart!$C$32 -> 2.440983 | D38: =(ControlChart!$C$34-B38)/ControlChart!$C$32 -> -3.559017 | E38: =1-((1-NORMSDIST(C38))+NORMSDIST(D38)) -> 0.99249021 | F38: =1/(1-E38) -> 133.15943
A39: 0 | B39: =ControlChart!$C$6+A39*ControlChart!$C$7 -> 30.5 | C39: =(ControlChart!$C$33-B39)/ControlChart!$C$32 -> 3 | D39: =(ControlChart!$C$34-B39)/ControlChart!$C$32 -> -3 | E39: =1-((1-NORMSDIST(C39))+NORMSDIST(D39)) -> 0.9973002 | F39: =1/(1-E39) -> 370.39835

Sheet TermsOfUse
A1: Terms of Use
A2: © 2009 Vertex42 LLC. All rights reserved.
A3: http://www.vertex42.com/ExcelTemplates/control-chart.html
A4: This TermsOfUse worksheet may not be modified, removed, or deleted.
A6: Limited Use Policy
A7: You may make archival copies and customize this template (the "Software") for personal use or for your
A8: company use. The customized template (with your specific personal or company information) may be
A9: used and shared within your company, but this template or any document including or derived from
A10: this template may NOT be sold, distributed, or placed on a public server such as the internet.
A12: No Warranties
A13: THE SOFTWARE AND ANY RELATED DOCUMENTATION ARE PROVIDED TO YOU "AS IS."
A14: VERTEX42, LLC MAKES NO WARRANTIES, EXPRESS OR IMPLIED, AND EXPRESSLY DISCLAIMS ALL
... A31: so the above limitation may not apply to you.

Sheet _
A1: Control Chart Template
A2: © 2009 Vertex42 LLC
A3: http://www.vertex42.com/ExcelTemplates/control-chart.html
