Workbook

Sheet Cost Memo
D1: Correction
A2: Name of Customer
A3: Mobile Number
A5: Item | C5: Unit | E5: =IF(ITEM="","",VLOOKUP(ITEM,Items!B5:D10,2,0)) | F5: =IF(ITEM="","",VLOOKUP(ITEM,Items!B5:D10,3,0)) | G5: =UNIT*PRICE -> #VALUE! | H5: =IF(A19="",1,MAX(A19:A29)+1) -> 4 | I5: =ITEM -> 0 | J5: =UNIT&" "&IF(UNIT>=2,PACK&"s",PACK) | K5: =PRICE | L5: =G5 -> #VALUE!
A6: Paid Amount
B8: XYZ Food Products
B9: 420 Motijheel, Dhaka, Bangladesh
B10: Phone +880 -------------420
B11: Email : xyz@gmail.com
B13: COST MEMO
A15: Name of Customer: | B15: Kamal | H15: SL. | I15: Name of Customer | J15: Mobile Number | K15: Sale Amount
A16: Mobile Number: | B16: 88025445 | H16: =IF(E1="",IF('Daily Sale'!A7="",1,MAX('Daily Sale'!A7:A501)+1),E1) -> 1 | I16: =B15 -> Kamal | J16: =B16 -> 88025445 | K16: =E30 -> 28
H17: 5 | I17: Kamal | J17: 88025445 | K17: 28
A18: SL. No. | B18: Description of Items | C18: Quantity | D18: Unit Price1 | E18: Amount
A19: =IF(NC="","",IF(SL=1,SL,A19)) -> 1 | B19: =IF(NC="","",IF(SL=1,IF,B19)) -> Chicken Role | C19: =IF(NC="","",IF(SL=1,QU,C19)) -> 5 Pieces | D19: =IF(NC="","",IF(SL=1,P,D19)) -> 2 | E19: =IF(NC="","",IF(SL=1,AM,E19)) -> 10
A20: =IF(A19="","",IF(NC="","",IF(SL=A19+1,SL,A20))) -> 2 | B20: =IF(A19="","",IF(NC="","",IF(SL=A19+1,IF,B20))) -> Vegetable Role | C20: =IF(A19="","",IF(NC="","",IF(SL=A19+1,QU,C20))) -> 5 Pieces | D20: =IF(A19="","",IF(NC="","",IF(SL=A19+1,P,D20))) -> 1.2 | E20: =IF(A19="","",IF(NC="","",IF(SL=A19+1,AM,E20))) -> 6
A21: =IF(A20="","",IF(NC="","",IF(SL=A20+1,SL,A21))) -> 3 | B21: =IF(A20="","",IF(NC="","",IF(SL=A20+1,IF,B21))) -> Chicken Cutlet | C21: =IF(A20="","",IF(NC="","",IF(SL=A20+1,QU,C21))) -> 6 Pieces | D21: =IF(A20="","",IF(NC="","",IF(SL=A20+1,P,D21))) -> 2 | E21: =IF(A20="","",IF(NC="","",IF(SL=A20+1,AM,E21))) -> 12
A22: =IF(A21="","",IF(NC="","",IF(SL=A21+1,SL,A22))) | B22: =IF(A21="","",IF(NC="","",IF(SL=A21+1,IF,B22))) | C22: =IF(A21="","",IF(NC="","",IF(SL=A21+1,QU,C22))) | D22: =IF(A21="","",IF(NC="","",IF(SL=A21+1,P,D22))) | E22: =IF(A21="","",IF(NC="","",IF(SL=A21+1,AM,E22)))
A23: =IF(A22="","",IF(NC="","",IF(SL=A22+1,SL,A23))) | B23: =IF(A22="","",IF(NC="","",IF(SL=A22+1,IF,B23))) | C23: =IF(A22="","",IF(NC="","",IF(SL=A22+1,QU,C23))) | D23: =IF(A22="","",IF(NC="","",IF(SL=A22+1,P,D23))) | E23: =IF(A22="","",IF(NC="","",IF(SL=A22+1,AM,E23)))
A24: =IF(A23="","",IF(NC="","",IF(SL=A23+1,SL,A24))) | B24: =IF(A23="","",IF(NC="","",IF(SL=A23+1,IF,B24))) | C24: =IF(A23="","",IF(NC="","",IF(SL=A23+1,QU,C24))) | D24: =IF(A23="","",IF(NC="","",IF(SL=A23+1,P,D24))) | E24: =IF(A23="","",IF(NC="","",IF(SL=A23+1,AM,E24)))
A25: =IF(A24="","",IF(NC="","",IF(SL=A24+1,SL,A25))) | B25: =IF(A24="","",IF(NC="","",IF(SL=A24+1,IF,B25))) | C25: =IF(A24="","",IF(NC="","",IF(SL=A24+1,QU,C25))) | D25: =IF(A24="","",IF(NC="","",IF(SL=A24+1,P,D25))) | E25: =IF(A24="","",IF(NC="","",IF(SL=A24+1,AM,E25)))
A26: =IF(A25="","",IF(NC="","",IF(SL=A25+1,SL,A26))) | B26: =IF(A25="","",IF(NC="","",IF(SL=A25+1,IF,B26))) | C26: =IF(A25="","",IF(NC="","",IF(SL=A25+1,QU,C26))) | D26: =IF(A25="","",IF(NC="","",IF(SL=A25+1,P,D26))) | E26: =IF(A25="","",IF(NC="","",IF(SL=A25+1,AM,E26)))
A27: =IF(A26="","",IF(NC="","",IF(SL=A26+1,SL,A27))) | B27: =IF(A26="","",IF(NC="","",IF(SL=A26+1,IF,B27))) | C27: =IF(A26="","",IF(NC="","",IF(SL=A26+1,QU,C27))) | D27: =IF(A26="","",IF(NC="","",IF(SL=A26+1,P,D27))) | E27: =IF(A26="","",IF(NC="","",IF(SL=A26+1,AM,E27)))
A28: =IF(A27="","",IF(NC="","",IF(SL=A27+1,SL,A28))) | B28: =IF(A27="","",IF(NC="","",IF(SL=A27+1,IF,B28))) | C28: =IF(A27="","",IF(NC="","",IF(SL=A27+1,QU,C28))) | D28: =IF(A27="","",IF(NC="","",IF(SL=A27+1,P,D28))) | E28: =IF(A27="","",IF(NC="","",IF(SL=A27+1,AM,E28)))
A29: =IF(A28="","",IF(NC="","",IF(SL=A28+1,SL,A29))) | B29: =IF(A28="","",IF(NC="","",IF(SL=A28+1,IF,B29))) | C29: =IF(A28="","",IF(NC="","",IF(SL=A28+1,QU,C29))) | D29: =IF(A28="","",IF(NC="","",IF(SL=A28+1,P,D29))) | E29: =IF(A28="","",IF(NC="","",IF(SL=A28+1,AM,E29)))
D30: Total = | E30: =IF(E19="","",SUM(E19:E29)) -> 28
D31: Paid Amount | E31: 30
D32: Back Amount | E32: =E31-E30 -> 2
B33: PAID
A35: ="In Word : "&N43 -> In Word : Dollar Twenty Eight only
A37: Dated: | B37: =TODAY() -> 45173 | E37: Signature
N41: =E30 -> 28 | O41: Dollar | P41: Cents | R41: =N41 -> 28 | S41: =(R41-R42*100000000)*10 -> 280 | T41: =(S41-S42*100000000)*10 -> 2800 | U41: =(T41-T42*100000000)*10 -> 28000 | V41: =(U41-U42*100000000)*10 -> 280000 | W41: =(V41-V42*100000000)*10 -> 2800000 | X41: =(W41-W42*100000000)*10 -> 28000000 | Y41: =(X41-X42*100000000)*10 -> 280000000 | Z41: =(Y41-Y42*100000000)*10 -> 800000000 | ... AB41: =(AA41-AA42*100000000)*10 -> 0
O42: =IF(O41="","",O41&" ") -> Dollar | P42: =IF(P41="","",P41&" ") -> Cents | R42: =IF(R41>=900000000,9,IF(R41>=800000000,8,IF(R41>=700000000,7,IF(R41>=600000000,6,IF(R41>=500000000,5,IF(R41>=400000000,4,IF(R41>=300000000,3,IF(R41>=200000000,2,IF(R41>=100000000,1,""))))))))) | S42: =IF(S41>=900000000,9,IF(S41>=800000000,8,IF(S41>=700000000,7,IF(S41>=600000000,6,IF(S41>=500000000,5,IF(S41>=400000000,4,IF(S41>=300000000,3,IF(S41>=200000000,2,IF(S41>=100000000,1,""))))))))) | T42: =IF(T41>=900000000,9,IF(T41>=800000000,8,IF(T41>=700000000,7,IF(T41>=600000000,6,IF(T41>=500000000,5,IF(T41>=400000000,4,IF(T41>=300000000,3,IF(T41>=200000000,2,IF(T41>=100000000,1,""))))))))) | U42: =IF(U41>=900000000,9,IF(U41>=800000000,8,IF(U41>=700000000,7,IF(U41>=600000000,6,IF(U41>=500000000,5,IF(U41>=400000000,4,IF(U41>=300000000,3,IF(U41>=200000000,2,IF(U41>=100000000,1,""))))))))) | V42: =IF(V41>=900000000,9,IF(V41>=800000000,8,IF(V41>=700000000,7,IF(V41>=600000000,6,IF(V41>=500000000,5,IF(V41>=400000000,4,IF(V41>=300000000,3,IF(V41>=200000000,2,IF(V41>=100000000,1,""))))))))) | W42: =IF(W41>=900000000,9,IF(W41>=800000000,8,IF(W41>=700000000,7,IF(W41>=600000000,6,IF(W41>=500000000,5,IF(W41>=400000000,4,IF(W41>=300000000,3,IF(W41>=200000000,2,IF(W41>=100000000,1,""))))))))) | X42: =IF(X41>=900000000,9,IF(X41>=800000000,8,IF(X41>=700000000,7,IF(X41>=600000000,6,IF(X41>=500000000,5,IF(X41>=400000000,4,IF(X41>=300000000,3,IF(X41>=200000000,2,IF(X41>=100000000,1,""))))))))) | Y42: =IF(Y41>=900000000,9,IF(Y41>=800000000,8,IF(Y41>=700000000,7,IF(Y41>=600000000,6,IF(Y41>=500000000,5,IF(Y41>=400000000,4,IF(Y41>=300000000,3,IF(Y41>=200000000,2,IF(Y41>=100000000,1,""))))))))) -> 2 | ... AB42: =IF(AB41>=900000000,9,IF(AB41>=800000000,8,IF(AB41>=700000000,7,IF(AB41>=600000000,6,IF(AB41>=500000000,5,IF(AB41>=400000000,4,IF(AB41>=300000000,3,IF(AB41>=200000000,2,IF(AB41>=100000000,1,""))))))))) | AC42: =IF(AC41>9,9,IF(AC41>8,8,IF(AC41>7,7,IF(AC41>6,6,IF(AC41>5,5,IF(AC41>4,4,IF(AC41>3,3,IF(AC41>2,2,IF(AC41>1,1,"")))))))))
N43: =V152 -> Dollar Twenty Eight only
R45: One | S45: 1 | U45: =R42*10+S42 -> 0 | V45: =IF(S45=U45,R45,"") | W45: =T42*10+U42 -> 0 | X45: =IF(S45=W45,R45,"") | Y45: =V42*10+W42 -> 0 | Z45: =IF(S45=Y45,R45,"") | AA45: =X42+0 -> 0 | AB45: =IF(S45=AA45,R45,"") | AC45: =(Y42&Z42)+0 -> 28 | AD45: =IF(S45=AC45,R45,"") | AE45: =AA42*10+AB42 -> 0 | AF45: =IF(S45=AE45,R45,"")
R46: Two | S46: 2 | U46: =U45 -> 0 | V46: =IF(S46=U46,R46,"") | W46: =W45 -> 0 | X46: =IF(S46=W46,R46,"") | Y46: =Y45 -> 0 | Z46: =IF(S46=Y46,R46,"") | AA46: =AA45 -> 0 | AB46: =IF(S46=AA46,R46,"") | AC46: =AC45 -> 28 | AD46: =IF(S46=AC46,R46,"") | AE46: =AE45 -> 0 | AF46: =IF(S46=AE46,R46,"")
R47: Three | S47: 3 | U47: =U46 -> 0 | V47: =IF(S47=U47,R47,"") | W47: =W46 -> 0 | X47: =IF(S47=W47,R47,"") | Y47: =Y46 -> 0 | Z47: =IF(S47=Y47,R47,"") | AA47: =AA46 -> 0 | AB47: =IF(S47=AA47,R47,"") | AC47: =AC46 -> 28 | AD47: =IF(S47=AC47,R47,"") | AE47: =AE46 -> 0 | AF47: =IF(S47=AE47,R47,"")
R48: Four | S48: 4 | U48: =U47 -> 0 | V48: =IF(S48=U48,R48,"") | W48: =W47 -> 0 | X48: =IF(S48=W48,R48,"") | Y48: =Y47 -> 0 | Z48: =IF(S48=Y48,R48,"") | AA48: =AA47 -> 0 | AB48: =IF(S48=AA48,R48,"") | AC48: =AC47 -> 28 | AD48: =IF(S48=AC48,R48,"") | AE48: =AE47 -> 0 | AF48: =IF(S48=AE48,R48,"")
R49: Five | S49: 5 | U49: =U48 -> 0 | V49: =IF(S49=U49,R49,"") | W49: =W48 -> 0 | X49: =IF(S49=W49,R49,"") | Y49: =Y48 -> 0 | Z49: =IF(S49=Y49,R49,"") | AA49: =AA48 -> 0 | AB49: =IF(S49=AA49,R49,"") | AC49: =AC48 -> 28 | AD49: =IF(S49=AC49,R49,"") | AE49: =AE48 -> 0 | AF49: =IF(S49=AE49,R49,"")
R50: Six | S50: 6 | U50: =U49 -> 0 | V50: =IF(S50=U50,R50,"") | W50: =W49 -> 0 | X50: =IF(S50=W50,R50,"") | Y50: =Y49 -> 0 | Z50: =IF(S50=Y50,R50,"") | AA50: =AA49 -> 0 | AB50: =IF(S50=AA50,R50,"") | AC50: =AC49 -> 28 | AD50: =IF(S50=AC50,R50,"") | AE50: =AE49 -> 0 | AF50: =IF(S50=AE50,R50,"")
R51: Seven | S51: 7 | U51: =U50 -> 0 | V51: =IF(S51=U51,R51,"") | W51: =W50 -> 0 | X51: =IF(S51=W51,R51,"") | Y51: =Y50 -> 0 | Z51: =IF(S51=Y51,R51,"") | AA51: =AA50 -> 0 | AB51: =IF(S51=AA51,R51,"") | AC51: =AC50 -> 28 | AD51: =IF(S51=AC51,R51,"") | AE51: =AE50 -> 0 | AF51: =IF(S51=AE51,R51,"")
R52: Eight | S52: 8 | U52: =U51 -> 0 | V52: =IF(S52=U52,R52,"") | W52: =W51 -> 0 | X52: =IF(S52=W52,R52,"") | Y52: =Y51 -> 0 | Z52: =IF(S52=Y52,R52,"") | AA52: =AA51 -> 0 | AB52: =IF(S52=AA52,R52,"") | AC52: =AC51 -> 28 | AD52: =IF(S52=AC52,R52,"") | AE52: =AE51 -> 0 | AF52: =IF(S52=AE52,R52,"")
R53: Nine | S53: 9 | U53: =U52 -> 0 | V53: =IF(S53=U53,R53,"") | W53: =W52 -> 0 | X53: =IF(S53=W53,R53,"") | Y53: =Y52 -> 0 | Z53: =IF(S53=Y53,R53,"") | AA53: =AA52 -> 0 | AB53: =IF(S53=AA53,R53,"") | AC53: =AC52 -> 28 | AD53: =IF(S53=AC53,R53,"") | AE53: =AE52 -> 0 | AF53: =IF(S53=AE53,R53,"")
R54: Ten | S54: 10 | U54: =U53 -> 0 | V54: =IF(S54=U54,R54,"") | W54: =W53 -> 0 | X54: =IF(S54=W54,R54,"") | Y54: =Y53 -> 0 | Z54: =IF(S54=Y54,R54,"") | AA54: =AA53 -> 0 | AB54: =IF(S54=AA54,R54,"") | AC54: =AC53 -> 28 | AD54: =IF(S54=AC54,R54,"") | AE54: =AE53 -> 0 | AF54: =IF(S54=AE54,R54,"")
R55: Eleven | S55: 11 | U55: =U54 -> 0 | V55: =IF(S55=U55,R55,"") | W55: =W54 -> 0 | X55: =IF(S55=W55,R55,"") | Y55: =Y54 -> 0 | Z55: =IF(S55=Y55,R55,"") | AA55: =AA54 -> 0 | AB55: =IF(S55=AA55,R55,"") | AC55: =AC54 -> 28 | AD55: =IF(S55=AC55,R55,"") | AE55: =AE54 -> 0 | AF55: =IF(S55=AE55,R55,"")
R56: Twelve | S56: 12 | U56: =U55 -> 0 | V56: =IF(S56=U56,R56,"") | W56: =W55 -> 0 | X56: =IF(S56=W56,R56,"") | Y56: =Y55 -> 0 | Z56: =IF(S56=Y56,R56,"") | AA56: =AA55 -> 0 | AB56: =IF(S56=AA56,R56,"") | AC56: =AC55 -> 28 | AD56: =IF(S56=AC56,R56,"") | AE56: =AE55 -> 0 | AF56: =IF(S56=AE56,R56,"")
R57: Thirteen | S57: 13 | U57: =U56 -> 0 | V57: =IF(S57=U57,R57,"") | W57: =W56 -> 0 | X57: =IF(S57=W57,R57,"") | Y57: =Y56 -> 0 | Z57: =IF(S57=Y57,R57,"") | AA57: =AA56 -> 0 | AB57: =IF(S57=AA57,R57,"") | AC57: =AC56 -> 28 | AD57: =IF(S57=AC57,R57,"") | AE57: =AE56 -> 0 | AF57: =IF(S57=AE57,R57,"")
... R144: One Hundred | S144: 100 | U144: =U143 -> 0 | V144: =IF(S144=U144,R144,"") | W144: =W143 -> 0 | X144: =IF(S144=W144,R144,"") | Y144: =Y143 -> 0 | Z144: =IF(S144=Y144,R144,"") | AA144: =AA143 -> 0 | AB144: =IF(S144=AA144,R144,"") | AC144: =AC143 -> 28 | AD144: =IF(S144=AC144,R144,"") | AE144: =AE143 -> 0 | AF144: =IF(S144=AE144,R144,"")
V146: =V45&V46&V47&V48&V49&V50&V51&V52&V53&V54&V55&V56&V57&V58&V59&V60&V61&V62&V63&V64&V65&V66&V67&V68&V69&V70&V71 | X146: =X45&X46&X47&X48&X49&X50&X51&X52&X53&X54&X55&X56&X57&X58&X59&X60&X61&X62&X63&X64&X65&X66&X67&X68&X69&X70&X71 | Z146: =Z45&Z46&Z47&Z48&Z49&Z50&Z51&Z52&Z53&Z54&Z55&Z56&Z57&Z58&Z59&Z60&Z61&Z62&Z63&Z64&Z65&Z66&Z67&Z68&Z69&Z70&Z71 | AB146: =AB45&AB46&AB47&AB48&AB49&AB50&AB51&AB52&AB53&AB54&AB55&AB56&AB57&AB58&AB59&AB60&AB61&AB62&AB63&AB64&AB65&AB66&AB67&AB68&AB69&AB70&AB71 | AD146: =AD45&AD46&AD47&AD48&AD49&AD50&AD51&AD52&AD53&AD54&AD55&AD56&AD57&AD58&AD59&AD60&AD61&AD62&AD63&AD64&AD65&AD66&AD67&AD68&AD69&AD70&AD71 | AF146: =AF45&AF46&AF47&AF48&AF49&AF50&AF51&AF52&AF53&AF54&AF55&AF56&AF57&AF58&AF59&AF60&AF61&AF62&AF63&AF64&AF65&AF66&AF67&AF68&AF69&AF70&AF71
V147: =V72&V73&V74&V75&V76&V77&V78&V79&V80&V81&V82&V83&V84&V85&V86&V87&V88&V89&V90&V91&V92&V93&V94&V95&V96&V97&V98&V99&V100&V101&V102&V103&V104&V105&V106 | X147: =X72&X73&X74&X75&X76&X77&X78&X79&X80&X81&X82&X83&X84&X85&X86&X87&X88&X89&X90&X91&X92&X93&X94&X95&X96&X97&X98&X99&X100&X101&X102&X103&X104&X105&X106 | Z147: =Z72&Z73&Z74&Z75&Z76&Z77&Z78&Z79&Z80&Z81&Z82&Z83&Z84&Z85&Z86&Z87&Z88&Z89&Z90&Z91&Z92&Z93&Z94&Z95&Z96&Z97&Z98&Z99&Z100&Z101&Z102&Z103&Z104&Z105&Z106 | AB147: =AB72&AB73&AB74&AB75&AB76&AB77&AB78&AB79&AB80&AB81&AB82&AB83&AB84&AB85&AB86&AB87&AB88&AB89&AB90&AB91&AB92&AB93&AB94&AB95&AB96&AB97&AB98&AB99&AB100&AB101&AB102&AB103&AB104&AB105&AB106 | AD147: =AD72&AD73&AD74&AD75&AD76&AD77&AD78&AD79&AD80&AD81&AD82&AD83&AD84&AD85&AD86&AD87&AD88&AD89&AD90&AD91&AD92&AD93&AD94&AD95&AD96&AD97&AD98&AD99&AD100&AD101&AD102&AD103&AD104&AD105&AD106 -> Twenty Eight | AF147: =AF72&AF73&AF74&AF75&AF76&AF77&AF78&AF79&AF80&AF81&AF82&AF83&AF84&AF85&AF86&AF87&AF88&AF89&AF90&AF91&AF92&AF93&AF94&AF95&AF96&AF97&AF98&AF99&AF100&AF101&AF102&AF103&AF104&AF105&AF106
V148: =V107&V108&V109&V110&V111&V112&V113&V114&V115&V116&V117&V118&V119&V120&V121&V122&V123&V124&V125&V126&V127&V128&V129&V130&V131&V132&V133&V134&V135&V136&V137&V138&V139&V140&V141&V142&V143&V144 | X148: =X107&X108&X109&X110&X111&X112&X113&X114&X115&X116&X117&X118&X119&X120&X121&X122&X123&X124&X125&X126&X127&X128&X129&X130&X131&X132&X133&X134&X135&X136&X137&X138&X139&X140&X141&X142&X143&X144 | Z148: =Z107&Z108&Z109&Z110&Z111&Z112&Z113&Z114&Z115&Z116&Z117&Z118&Z119&Z120&Z121&Z122&Z123&Z124&Z125&Z126&Z127&Z128&Z129&Z130&Z131&Z132&Z133&Z134&Z135&Z136&Z137&Z138&Z139&Z140&Z141&Z142&Z143&Z144 | AB148: =AB107&AB108&AB109&AB110&AB111&AB112&AB113&AB114&AB115&AB116&AB117&AB118&AB119&AB120&AB121&AB122&AB123&AB124&AB125&AB126&AB127&AB128&AB129&AB130&AB131&AB132&AB133&AB134&AB135&AB136&AB137&AB138&AB139&AB140&AB141&AB142&AB143&AB144 | AD148: =AD107&AD108&AD109&AD110&AD111&AD112&AD113&AD114&AD115&AD116&AD117&AD118&AD119&AD120&AD121&AD122&AD123&AD124&AD125&AD126&AD127&AD128&AD129&AD130&AD131&AD132&AD133&AD134&AD135&AD136&AD137&AD138&AD139&AD140&AD141&AD142&AD143&AD144 | AF148: =AF107&AF108&AF109&AF110&AF111&AF112&AF113&AF114&AF115&AF116&AF117&AF118&AF119&AF120&AF121&AF122&AF123&AF124&AF125&AF126&AF127&AF128&AF129&AF130&AF131&AF132&AF133&AF134&AF135&AF136&AF137&AF138&AF139&AF140&AF141&AF142&AF143&AF144
U149: =IF(N41>=1,O42,"") -> Dollar | V149: =V146&V147&V148 | W149: =IF(V149="",""," Crore ") | X149: =X146&X147&X148 | Y149: =IF(X149="",""," Lac ") | Z149: =Z146&Z147&Z148 | AA149: =IF(Z149="",""," Thousand ") | AB149: =AB146&AB147&AB148 | AC149: =IF(AB149="",""," Hundred ") | AD149: =AD146&AD147&AD148 -> Twenty Eight | AE149: =IF(AF149="","",IF(N41>=1," and "&P42,P42)) | AF149: =AF146&AF147&AF148 | AG149: =IF(N41="",""," only ") -> only
V152: =U149&V149&W149&X149&Y149&Z149&AA149&AB149&AC149&AD149&AE149&AF149&AG149 -> Dollar Twenty Eight only

Sheet Daily Sale
A2: ='Cost Memo'!H17 -> 5 | B2: ='Cost Memo'!I17 -> Kamal | C2: ='Cost Memo'!J17 -> 88025445 | D2: ='Cost Memo'!K17 -> 28
B3: Date: | C3: 42590
B4: Total Sale | C4: =IF(D7="","",SUM(D7:D500))
A6: SL. | B6: Name of Customer | C6: Mobile Number | D6: Sale Amount
A7: =IF(d=TODAY(),IF(S=1,S,A7),"") | B7: =IF(d=TODAY(),IF(S=1,N,B7),"") | C7: =IF(d=TODAY(),IF(S=1,M,C7),"") | D7: =IF(d=TODAY(),IF(S=1,A,D7),"")
A8: =IF(A7="","",IF(d=TODAY(),IF(S=A7+1,S,A8),"")) | B8: =IF(A7="","",IF(d=TODAY(),IF(S=A7+1,N,B8),"")) | C8: =IF(A7="","",IF(d=TODAY(),IF(S=A7+1,M,C8),"")) | D8: =IF(A7="","",IF(d=TODAY(),IF(S=A7+1,A,D8),""))
A9: =IF(A8="","",IF(d=TODAY(),IF(S=A8+1,S,A9),"")) | B9: =IF(A8="","",IF(d=TODAY(),IF(S=A8+1,N,B9),"")) | C9: =IF(A8="","",IF(d=TODAY(),IF(S=A8+1,M,C9),"")) | D9: =IF(A8="","",IF(d=TODAY(),IF(S=A8+1,A,D9),""))
A10: =IF(A9="","",IF(d=TODAY(),IF(S=A9+1,S,A10),"")) | B10: =IF(A9="","",IF(d=TODAY(),IF(S=A9+1,N,B10),"")) | C10: =IF(A9="","",IF(d=TODAY(),IF(S=A9+1,M,C10),"")) | D10: =IF(A9="","",IF(d=TODAY(),IF(S=A9+1,A,D10),""))
A11: =IF(A10="","",IF(d=TODAY(),IF(S=A10+1,S,A11),"")) | B11: =IF(A10="","",IF(d=TODAY(),IF(S=A10+1,N,B11),"")) | C11: =IF(A10="","",IF(d=TODAY(),IF(S=A10+1,M,C11),"")) | D11: =IF(A10="","",IF(d=TODAY(),IF(S=A10+1,A,D11),""))
A12: =IF(A11="","",IF(d=TODAY(),IF(S=A11+1,S,A12),"")) | B12: =IF(A11="","",IF(d=TODAY(),IF(S=A11+1,N,B12),"")) | C12: =IF(A11="","",IF(d=TODAY(),IF(S=A11+1,M,C12),"")) | D12: =IF(A11="","",IF(d=TODAY(),IF(S=A11+1,A,D12),""))
A13: =IF(A12="","",IF(d=TODAY(),IF(S=A12+1,S,A13),"")) | B13: =IF(A12="","",IF(d=TODAY(),IF(S=A12+1,N,B13),"")) | C13: =IF(A12="","",IF(d=TODAY(),IF(S=A12+1,M,C13),"")) | D13: =IF(A12="","",IF(d=TODAY(),IF(S=A12+1,A,D13),""))
A14: =IF(A13="","",IF(d=TODAY(),IF(S=A13+1,S,A14),"")) | B14: =IF(A13="","",IF(d=TODAY(),IF(S=A13+1,N,B14),"")) | C14: =IF(A13="","",IF(d=TODAY(),IF(S=A13+1,M,C14),"")) | D14: =IF(A13="","",IF(d=TODAY(),IF(S=A13+1,A,D14),""))
A15: =IF(A14="","",IF(d=TODAY(),IF(S=A14+1,S,A15),"")) | B15: =IF(A14="","",IF(d=TODAY(),IF(S=A14+1,N,B15),"")) | C15: =IF(A14="","",IF(d=TODAY(),IF(S=A14+1,M,C15),"")) | D15: =IF(A14="","",IF(d=TODAY(),IF(S=A14+1,A,D15),""))
A16: =IF(A15="","",IF(d=TODAY(),IF(S=A15+1,S,A16),"")) | B16: =IF(A15="","",IF(d=TODAY(),IF(S=A15+1,N,B16),"")) | C16: =IF(A15="","",IF(d=TODAY(),IF(S=A15+1,M,C16),"")) | D16: =IF(A15="","",IF(d=TODAY(),IF(S=A15+1,A,D16),""))
A17: =IF(A16="","",IF(d=TODAY(),IF(S=A16+1,S,A17),"")) | B17: =IF(A16="","",IF(d=TODAY(),IF(S=A16+1,N,B17),"")) | C17: =IF(A16="","",IF(d=TODAY(),IF(S=A16+1,M,C17),"")) | D17: =IF(A16="","",IF(d=TODAY(),IF(S=A16+1,A,D17),""))
A18: =IF(A17="","",IF(d=TODAY(),IF(S=A17+1,S,A18),"")) | B18: =IF(A17="","",IF(d=TODAY(),IF(S=A17+1,N,B18),"")) | C18: =IF(A17="","",IF(d=TODAY(),IF(S=A17+1,M,C18),"")) | D18: =IF(A17="","",IF(d=TODAY(),IF(S=A17+1,A,D18),""))
A19: =IF(A18="","",IF(d=TODAY(),IF(S=A18+1,S,A19),"")) | B19: =IF(A18="","",IF(d=TODAY(),IF(S=A18+1,N,B19),"")) | C19: =IF(A18="","",IF(d=TODAY(),IF(S=A18+1,M,C19),"")) | D19: =IF(A18="","",IF(d=TODAY(),IF(S=A18+1,A,D19),""))
... A681: =IF(A680="","",IF(d=TODAY(),IF(S=A680+1,S,A681),"")) | B681: =IF(A680="","",IF(d=TODAY(),IF(S=A680+1,N,B681),"")) | C681: =IF(A680="","",IF(d=TODAY(),IF(S=A680+1,M,C681),"")) | D681: =IF(A680="","",IF(d=TODAY(),IF(S=A680+1,A,D681),""))

Sheet Items
A4: SL. No. | B4: Item Name | C4: Unite | D4: Price per unite
A5: 1 | B5: Chicken Role | C5: Piece | D5: 2
A6: 2 | B6: Berger | C6: Piece | D6: 1.5
A7: 3 | B7: Fish Cutlet | C7: Piece | D7: 1.5
A8: 4 | B8: Vegetable Role | C8: Piece | D8: 1.2
A9: 5 | B9: Chicken Cutlet | C9: Piece | D9: 2
A10: 6 | B10: Special Bread | C10: Piece | D10: 1
