Workbook

Sheet Cost Memo
D1: Correction
A2: Name of Customer
A3: Mobile Number
A5: Item | C5: Unit | E5: =IF(ITEM="","",VLOOKUP(ITEM,Items!B5:D10,2,0)) | F5: =IF(ITEM="","",VLOOKUP(ITEM,Items!B5:D10,3,0)) | G5: =UNIT*PRICE -> #VALUE! | H5: =IF(A19="",1,MAX(A19:A29)+1) -> 4 | I5: =ITEM -> 0 | J5: =UNIT&" "&IF(UNIT>=2,PACK&"s",PACK) | K5: =PRICE | L5: =G5 -> #VALUE!
A6: Paid Amount
B8: XYZ Food Products
B9: 420 Motijheel, Dhaka, Bangladesh
B10: Phone +880 -------------420
B11: Email : xyz@gmail.com
B13: COST MEMO
A15: Name of Customer: | B15: Kamal | H15: SL. | I15: Name of Customer | J15: Mobile Number | K15: Sale Amount
A16: Mobile Number: | B16: 88025445 | H16: =IF(E1="",IF('Daily Sale'!A7="",1,MAX('Daily Sale'!A7:A501)+1),E1) -> 1 | I16: =B15 -> Kamal | J16: =B16 -> 88025445 | K16: =E30 -> 28
H17: 5 | I17: Kamal | J17: 88025445 | K17: 28
A18: SL. No. | B18: Description of Items | C18: Quantity | D18: Unit Price1 | E18: Amount
A19: =IF(NC="","",IF(SL=1,SL,A19)) -> 1 | B19: =IF(NC="","",IF(SL=1,IF,B19)) -> Chicken Role | C19: =IF(NC="","",IF(SL=1,QU,C19)) -> 5 Pieces | D19: =IF(NC="","",IF(SL=1,P,D19)) -> 2 | E19: =IF(NC="","",IF(SL=1,AM,E19)) -> 10
A20: =IF(A19="","",IF(NC="","",IF(SL=A19+1,SL,A20))) -> 2 | B20: =IF(A19="","",IF(NC="","",IF(SL=A19+1,IF,B20))) -> Vegetable Role | C20: =IF(A19="","",IF(NC="","",IF(SL=A19+1,QU,C20))) -> 5 Pieces | D20: =IF(A19="","",IF(NC="","",IF(SL=A19+1,P,D20))) -> 1.2 | E20: =IF(A19="","",IF(NC="","",IF(SL=A19+1,AM,E20))) -> 6
A21: =IF(A20="","",IF(NC="","",IF(SL=A20+1,SL,A21))) -> 3 | B21: =IF(A20="","",IF(NC="","",IF(SL=A20+1,IF,B21))) -> Chicken Cutlet | C21: =IF(A20="","",IF(NC="","",IF(SL=A20+1,QU,C21))) -> 6 Pieces | D21: =IF(A20="","",IF(NC="","",IF(SL=A20+1,P,D21))) -> 2 | E21: =IF(A20="","",IF(NC="","",IF(SL=A20+1,AM,E21))) -> 12
A22: =IF(A21="","",IF(NC="","",IF(SL=A21+1,SL,A22))) | B22: =IF(A21="","",IF(NC="","",IF(SL=A21+1,IF,B22))) | C22: =IF(A21="","",IF(NC="","",IF(SL=A21+1,QU,C22))) | D22: =IF(A21="","",IF(NC="","",IF(SL=A21+1,P,D22))) | E22: =IF(A21="","",IF(NC="","",IF(SL=A21+1,AM,E22)))
A23: =IF(A22="","",IF(NC="","",IF(SL=A22+1,SL,A23))) | B23: =IF(A22="","",IF(NC="","",IF(SL=A22+1,IF,B23))) | C23: =IF(A22="","",IF(NC="","",IF(SL=A22+1,QU,C23))) | D23: =IF(A22="","",IF(NC="","",IF(SL=A22+1,P,D23))) | E23: =IF(A22="","",IF(NC="","",IF(SL=A22+1,AM,E23)))
A24: =IF(A23="","",IF(NC="","",IF(SL=A23+1,SL,A24))) | B24: =IF(A23="","",IF(NC="","",IF(SL=A23+1,IF,B24))) | C24: =IF(A23="","",IF(NC="","",IF(SL=A23+1,QU,C24))) | D24: =IF(A23="","",IF(NC="","",IF(SL=A23+1,P,D24))) | E24: =IF(A23="","",IF(NC="","",IF(SL=A23+1,AM,E24)))
A25: =IF(A24="","",IF(NC="","",IF(SL=A24+1,SL,A25))) | B25: =IF(A24="","",IF(NC="","",IF(SL=A24+1,IF,B25))) | C25: =IF(A24="","",IF(NC="","",IF(SL=A24+1,QU,C25))) | D25: =IF(A24="","",IF(NC="","",IF(SL=A24+1,P,D25))) | E25: =IF(A24="","",IF(NC="","",IF(SL=A24+1,AM,E25)))
A26: =IF(A25="","",IF(NC="","",IF(SL=A25+1,SL,A26))) | B26: =IF(A25="","",IF(NC="","",IF(SL=A25+1,IF,B26))) | C26: =IF(A25="","",IF(NC="","",IF(SL=A25+1,QU,C26))) | D26: =IF(A25="","",IF(NC="","",IF(SL=A25+1,P,D26))) | E26: =IF(A25="","",IF(NC="","",IF(SL=A25+1,AM,E26)))
A27: =IF(A26="","",IF(NC="","",IF(SL=A26+1,SL,A27))) | B27: =IF(A26="","",IF(NC="","",IF(SL=A26+1,IF,B27))) | C27: =IF(A26="","",IF(NC="","",IF(SL=A26+1,QU,C27))) | D27: =IF(A26="","",IF(NC="","",IF(SL=A26+1,P,D27))) | E27: =IF(A26="","",IF(NC="","",IF(SL=A26+1,AM,E27)))
A28: =IF(A27="","",IF(NC="","",IF(SL=A27+1,SL,A28))) | B28: =IF(A27="","",IF(NC="","",IF(SL=A27+1,IF,B28))) | C28: =IF(A27="","",IF(NC="","",IF(SL=A27+1,QU,C28))) | D28: =IF(A27="","",IF(NC="","",IF(SL=A27+1,P,D28))) | E28: =IF(A27="","",IF(NC="","",IF(SL=A27+1,AM,E28)))
A29: =IF(A28="","",IF(NC="","",IF(SL=A28+1,SL,A29))) | B29: =IF(A28="","",IF(NC="","",IF(SL=A28+1,IF,B29))) | C29: =IF(A28="","",IF(NC="","",IF(SL=A28+1,QU,C29))) | D29: =IF(A28="","",IF(NC="","",IF(SL=A28+1,P,D29))) | E29: =IF(A28="","",IF(NC="","",IF(SL=A28+1,AM,E29)))
D30: Total = | E30: =IF(E19="","",SUM(E19:E29)) -> 28
D31: Paid Amount | E31: 30
D32: Back Amount | E32: =E31-E30 -> 2
B33: PAID
A35: ="In Word : "&N43 -> In Word : Dollar Twenty Eight only
A37: Dated: | B37: =TODAY() -> 45173 | E37: Signature
N41: =E30 -> 28 | O41: Dollar | P41: Cents | R41: =N41 -> 28 | S41: =(R41-R42*100000000)*10 -> 280 | T41: =(S41-S42*100000000)*10 -> 2800 | U41: =(T41-T42*100000000)*10 -> 28000 | V41: =(U41-U42*100000000)*10 -> 280000 | W41: =(V41-V42*100000000)*10 -> 2800000 | X41: =(W41-W42*100000000)*10 -> 28000000 | Y41: =(X41-X42*100000000)*10 -> 280000000 | Z41: =(Y41-Y42*100000000)*10 -> 800000000 | ... AB41: =(AA41-AA42*100000000)*10 -> 0
O42: =IF(O41="","",O41&" ") -> Dollar | P42: =IF(P41="","",P41&" ") -> Cents | R42: =IF(R41>=900000000,9,IF(R41>=800000000,8,IF(R41>=700000000,7,IF(R41>=600000000,6,IF(R41>=500000000,5,IF(R41>=400000000,4,IF(R41>=300000000,3,IF(R41>=200000000,2,IF(R41>=100000000,1,""))))))))) | S42: =IF(S41>=900000000,9,IF(S41>=800000000,8,IF(S41>=700000000,7,IF(S41>=600000000,6,IF(S41>=500000000,5,IF(S41>=400000000,4,IF(S41>=300000000,3,IF(S41>=200000000,2,IF(S41>=100000000,1,""))))))))) | T42: =IF(T41>=900000000,9,IF(T41>=800000000,8,IF(T41>=700000000,7,IF(T41>=600000000,6,IF(T41>=500000000,5,IF(T41>=400000000,4,IF(T41>=300000000,3,IF(T41>=200000000,2,IF(T41>=100000000,1,""))))))))) | U42: =IF(U41>=900000000,9,IF(U41>=800000000,8,IF(U41>=700000000,7,IF(U41>=600000000,6,IF(U41>=500000000,5,IF(U41>=400000000,4,IF(U41>=300000000,3,IF(U41>=200000000,2,IF(U41>=100000000,1,""))))))))) | V42: =IF(V41>=900000000,9,IF(V41>=800000000,8,IF(V41>=700000000,7,IF(V41>=600000000,6,IF(V41>=500000000,5,IF(V41>=400000000,4,IF(V41>=300000000,3,IF(V41>=200000000,2,IF(V41>=100000000,1,""))))))))) | W42: =IF(W41>=900000000,9,IF(W41>=800000000,8,IF(W41>=700000000,7,IF(W41>=600000000,6,IF(W41>=500000000,5,IF(W41>=400000000,4,IF(W41>=300000000,3,IF(W41>=200000000,2,IF(W41>=100000000,1,""))))))))) | X42: =IF(X41>=900000000,9,IF(X41>=800000000,8,IF(X41>=700000000,7,IF(X41>=600000000,6,IF(X41>=500000000,5,IF(X41>=400000000,4,IF(X41>=300000000,3,IF(X41>=200000000,2,IF(X41>=100000000,1,""))))))))) | Y42: =IF(Y41>=900000000,9,IF(Y41>=800000000,8,IF(Y41>=700000000,7,IF(Y41>=600000000,6,IF(Y41>=500000000,5,IF(Y41>=400000000,4,IF(Y41>=300000000,3,IF(Y41>=200000000,2,IF(Y41>=100000000,1,""))))))))) -> 2 | ... AB42: =IF(AB41>=900000000,9,IF(AB41>=800000000,8,IF(AB41>=700000000,7,IF(AB41>=600000000,6,IF(AB41>=500000000,5,IF(AB41>=400000000,4,IF(AB41>=300000000,3,IF(AB41>=200000000,2,IF(AB41>=100000000,1,""))))))))) | AC42: =IF(AC41>9,9,IF(AC41>8,8,IF(AC41>7,7,IF(AC41>6,6,IF(AC41>5,5,IF(AC41>4,4,IF(AC41>3,3,IF(AC41>2,2,IF(AC41>1,1,"")))))))))
N43: =V152 -> Dollar Twenty Eight only
R45: One | S45: 1 | U45: =R42*10+S42 -> 0 | V45: =IF(S45=U45,R45,"") | W45: =T42*10+U42 -> 0 | X45: =IF(S45=W45,R45,"") | Y45: =V42*10+W42 -> 0 | Z45: =IF(S45=Y45,R45,"") | AA45: =X42+0 -> 0 | AB45: =IF(S45=AA45,R45,"") | AC45: =(Y42&Z42)+0 -> 28 | AD45: =IF(S45=AC45,R45,"") | AE45: =AA42*10+AB42 -> 0 | AF45: =IF(S45=AE45,R45,"")
R46: Two | S46: 2 | U46: =U45 -> 0 | V46: =IF(S46=U46,R46,"") | W46: =W45 -> 0 | X46: =IF(S46=W46,R46,"") | Y46: =Y45 -> 0 | Z46: =IF(S46=Y46,R46,"") | AA46: =AA45 -> 0 | AB46: =IF(S46=AA46,R46,"") | AC46: =AC45 -> 28 | AD46: =IF(S46=AC46,R46,"") | AE46: =AE45 -> 0 | AF46: =IF(S46=AE46,R46,"")
R47: Three | S47: 3 | U47: =U46 -> 0 | V47: =IF(S47=U47,R47,"") | W47: =W46 -> 0 | X47: =IF(S47=W47,R47,"") | Y47: =Y46 -> 0 | Z47: =IF(S47=Y47,R47,"") | AA47: =AA46 -> 0 | AB47: =IF(S47=AA47,R47,"") | AC47: =AC46 -> 28 | AD47: =IF(S47=AC47,R47,"") | AE47: =AE46 -> 0 | AF47: =IF(S47=AE47,R47,"")
R48: Four | S48: 4 | U48: =U47 -> 0 | V48: =IF(S48=U48,R48,"") | W48: =W47 -> 0 | X48: =IF(S48=W48,R48,"") | Y48: =Y47 -> 0 | Z48: =IF(S48=Y48,R48,"") | AA48: =AA47 -> 0 | AB48: =IF(S48=AA48,R48,"") | AC48: =AC47 -> 28 | AD48: =IF(S48=AC48,R48,"") | AE48: =AE47 -> 0 | AF48: =IF(S48=AE48,R48,"")
R49: Five | S49: 5 | U49: =U48 -> 0 | V49: =IF(S49=U49,R49,"") | W49: =W48 -> 0 | X49: =IF(S49=W49,R49,"") | Y49: =Y48 -> 0 | Z49: =IF(S49=Y49,R49,"") | AA49: =AA48 -> 0 | AB49: =IF(S49=AA49,R49,"") | AC49: =AC48 -> 28 | AD49: =IF(S49=AC49,R49,"") | AE49: =AE48 -> 0 | AF49: =IF(S49=AE49,R49,"")
R50: Six | S50: 6 | U50: =U49 -> 0 | V50: =IF(S50=U50,R50,"") | W50: =W49 -> 0 | X50: =IF(S50=W50,R50,"") | Y50: =Y49 -> 0 | Z50: =IF(S50=Y50,R50,"") | AA50: =AA49 -> 0 | AB50: =IF(S50=AA50,R50,"") | AC50: =AC49 -> 28 | AD50: =IF(S50=AC50,R50,"") | AE50: =AE49 -> 0 | AF50: =IF(S50=AE50,R50,"")
...

Sheet Daily Sale
A2: ='Cost Memo'!H17 -> 5 | B2: ='Cost Memo'!I17 -> Kamal | C2: ='Cost Memo'!J17 -> 88025445 | D2: ='Cost Memo'!K17 -> 28
B3: Date: | C3: 42590
B4: Total Sale | C4: =IF(D7="","",SUM(D7:D500))
A6: SL. | B6: Name of Customer | C6: Mobile Number | D6: Sale Amount
A7: =IF(d=TODAY(),IF(S=1,S,A7),"") | B7: =IF(d=TODAY(),IF(S=1,N,B7),"") | C7: =IF(d=TODAY(),IF(S=1,M,C7),"") | D7: =IF(d=TODAY(),IF(S=1,A,D7),"")
A8: =IF(A7="","",IF(d=TODAY(),IF(S=A7+1,S,A8),"")) | B8: =IF(A7="","",IF(d=TODAY(),IF(S=A7+1,N,B8),"")) | C8: =IF(A7="","",IF(d=TODAY(),IF(S=A7+1,M,C8),"")) | D8: =IF(A7="","",IF(d=TODAY(),IF(S=A7+1,A,D8),""))
A9: =IF(A8="","",IF(d=TODAY(),IF(S=A8+1,S,A9),"")) | B9: =IF(A8="","",IF(d=TODAY(),IF(S=A8+1,N,B9),"")) | C9: =IF(A8="","",IF(d=TODAY(),IF(S=A8+1,M,C9),"")) | D9: =IF(A8="","",IF(d=TODAY(),IF(S=A8+1,A,D9),""))
A10: =IF(A9="","",IF(d=TODAY(),IF(S=A9+1,S,A10),"")) | B10: =IF(A9="","",IF(d=TODAY(),IF(S=A9+1,N,B10),"")) | C10: =IF(A9="","",IF(d=TODAY(),IF(S=A9+1,M,C10),"")) | D10: =IF(A9="","",IF(d=TODAY(),IF(S=A9+1,A,D10),""))
A11: =IF(A10="","",IF(d=TODAY(),IF(S=A10+1,S,A11),"")) | B11: =IF(A10="","",IF(d=TODAY(),IF(S=A10+1,N,B11),"")) | C11: =IF(A10="","",IF(d=TODAY(),IF(S=A10+1,M,C11),"")) | D11: =IF(A10="","",IF(d=TODAY(),IF(S=A10+1,A,D11),""))
A12: =IF(A11="","",IF(d=TODAY(),IF(S=A11+1,S,A12),"")) | B12: =IF(A11="","",IF(d=TODAY(),IF(S=A11+1,N,B12),"")) | C12: =IF(A11="","",IF(d=TODAY(),IF(S=A11+1,M,C12),"")) | D12: =IF(A11="","",IF(d=TODAY(),IF(S=A11+1,A,D12),""))
A13: =IF(A12="","",IF(d=TODAY(),IF(S=A12+1,S,A13),"")) | B13: =IF(A12="","",IF(d=TODAY(),IF(S=A12+1,N,B13),"")) | C13: =IF(A12="","",IF(d=TODAY(),IF(S=A12+1,M,C13),"")) | D13: =IF(A12="","",IF(d=TODAY(),IF(S=A12+1,A,D13),""))
A14: =IF(A13="","",IF(d=TODAY(),IF(S=A13+1,S,A14),"")) | B14: =IF(A13="","",IF(d=TODAY(),IF(S=A13+1,N,B14),"")) | C14: =IF(A13="","",IF(d=TODAY(),IF(S=A13+1,M,C14),"")) | D14: =IF(A13="","",IF(d=TODAY(),IF(S=A13+1,A,D14),""))
A15: =IF(A14="","",IF(d=TODAY(),IF(S=A14+1,S,A15),"")) | B15: =IF(A14="","",IF(d=TODAY(),IF(S=A14+1,N,B15),"")) | C15: =IF(A14="","",IF(d=TODAY(),IF(S=A14+1,M,C15),"")) | D15: =IF(A14="","",IF(d=TODAY(),IF(S=A14+1,A,D15),""))
A16: =IF(A15="","",IF(d=TODAY(),IF(S=A15+1,S,A16),"")) | B16: =IF(A15="","",IF(d=TODAY(),IF(S=A15+1,N,B16),"")) | C16: =IF(A15="","",IF(d=TODAY(),IF(S=A15+1,M,C16),"")) | D16: =IF(A15="","",IF(d=TODAY(),IF(S=A15+1,A,D16),""))
A17: =IF(A16="","",IF(d=TODAY(),IF(S=A16+1,S,A17),"")) | B17: =IF(A16="","",IF(d=TODAY(),IF(S=A16+1,N,B17),"")) | C17: =IF(A16="","",IF(d=TODAY(),IF(S=A16+1,M,C17),"")) | D17: =IF(A16="","",IF(d=TODAY(),IF(S=A16+1,A,D17),""))
A18: =IF(A17="","",IF(d=TODAY(),IF(S=A17+1,S,A18),"")) | B18: =IF(A17="","",IF(d=TODAY(),IF(S=A17+1,N,B18),"")) | C18: =IF(A17="","",IF(d=TODAY(),IF(S=A17+1,M,C18),"")) | D18: =IF(A17="","",IF(d=TODAY(),IF(S=A17+1,A,D18),""))
A19: =IF(A18="","",IF(d=TODAY(),IF(S=A18+1,S,A19),"")) | B19: =IF(A18="","",IF(d=TODAY(),IF(S=A18+1,N,B19),"")) | C19: =IF(A18="","",IF(d=TODAY(),IF(S=A18+1,M,C19),"")) | D19: =IF(A18="","",IF(d=TODAY(),IF(S=A18+1,A,D19),""))
... A681: =IF(A680="","",IF(d=TODAY(),IF(S=A680+1,S,A681),"")) | B681: =IF(A680="","",IF(d=TODAY(),IF(S=A680+1,N,B681),"")) | C681: =IF(A680="","",IF(d=TODAY(),IF(S=A680+1,M,C681),"")) | D681: =IF(A680="","",IF(d=TODAY(),IF(S=A680+1,A,D681),""))

Sheet Items
A4: SL. No. | B4: Item Name | C4: Unite | D4: Price per unite
A5: 1 | B5: Chicken Role | C5: Piece | D5: 2
A6: 2 | B6: Berger | C6: Piece | D6: 1.5
A7: 3 | B7: Fish Cutlet | C7: Piece | D7: 1.5
A8: 4 | B8: Vegetable Role | C8: Piece | D8: 1.2
A9: 5 | B9: Chicken Cutlet | C9: Piece | D9: 2
A10: 6 | B10: Special Bread | C10: Piece | D10: 1
