Workbook

Sheet License Agreement
B3: End-User License Agreement ("Agreement")
B5: CAREFULLY READ THE FOLLOWING LICENSE AGREEMENT. BY INSTALLING, COPYING, DOWNLOADING, OR USING THIS PRODUCT YOU ARE CONSENTING TO BE BOUND BY AND ARE BECOMING A PARTY TO THIS AGREEMENT. IF YOU DO NOT AGREE TO ALL OF THE TERMS OF THIS AGREEMENT, UNINSTALL AND DELETE THE PRODUCT.
B6: Please read this End-User License Agreement ("Agreement") carefully before clicking the "I Agree" button, downloading or using Goforth Better Tools for Workforce Management ("Application").
B7: By clicking the "I Agree" button, downloading or using the Application, You are agreeing to be bound by the terms and conditions of this Agreement.
B8: This Agreement is a legal agreement between You (either an individual or a single entity) and Goforth LLC and it governs your use of the Application made available to You by Goforth LLC.
B9: If You do not agree to the terms of this Agreement, do not click on the "I Agree" button and do not download or use the Application.
B10: The Application is licensed, not sold, to You by Goforth LLC for use strictly in accordance with the terms of this Agreement.
B12: Definitions
B13: 1.1. “Affiliate” means any corporation, company or other entity that directly or indirectly controls, is controlled by, or is under common control with, Goforth LLC. For the purpose of this definition, the word “control” shall mean the direct or indirect ownership of more than fifty percent (50%) of the outstanding voting stock of the corporation, company, or other entity.
B14: 1.2. “Agreement” means this End User License Agreement, as may be renewed, modified and/or mended from time to time.
B15: 1.3. “Application” means the Goforth Better Tools for Workforce Management software distributed by Goforth LLC including upgrades, modified versions, updates, additions, and documentation.
B16: 1.4. “Customer” and “You” means the persons, entity or agents and authorized representatives accepting this agreement.
... B90: © 2019 Goforth LLC. - All rights reserved.

Sheet Copyright
A21: Better Tools for Workforce
A22: ManagementTM
A23: Goforth
A24: I
A25: Copyright © 2012-2018 Goforth, LLC. All Rights Reserved.
A26: Goforth Workbooks and Documents are the intellectual property of Goforth, LLC
A27: Any unauthorized reproduction, distribution or transmission is prohibited
A30: Custom Designs
A32: gary@goforthllc.org

Sheet Calendar
A2: 1
C3: January | H3: 2019
A4: 30 | B4: 31 | C4: 1 | D4: 2 | E4: 3 | F4: 4 | G4: 5 | I4: 6 | J4: 7 | K4: 8 | L4: 9 | M4: 10 | N4: 11 | O4: 12
A5: S | B5: M | C5: T | D5: W | E5: T | F5: F | G5: S | I5: S | J5: M | K5: T | L5: W | M5: T | N5: F | O5: S
A8: 2
A9: January | H9: 2019
A10: 13 | B10: 14 | C10: 15 | D10: 16 | E10: 17 | F10: 18 | G10: 19 | I10: 20 | J10: 21 | K10: 22 | L10: 23 | M10: 24 | N10: 25 | O10: 26
A11: S | B11: M | C11: T | D11: W | E11: T | F11: F | G11: S | I11: S | J11: M | K11: T | L11: W | M11: T | N11: F | O11: S
A14: 3
F15: February | H15: 2019
A16: 27 | B16: 28 | C16: 29 | D16: 30 | E16: 31 | F16: 1 | G16: 2 | I16: 3 | J16: 4 | K16: 5 | L16: 6 | M16: 7 | N16: 8 | O16: 9
A17: S | B17: M | C17: T | D17: W | E17: T | F17: F | G17: S | I17: S | J17: M | K17: T | L17: W | M17: T | N17: F | O17: S
A20: 4
A21: February | H21: 2019
A22: 10 | B22: 11 | C22: 12 | D22: 13 | E22: 14 | F22: 15 | G22: 16 | I22: 17 | J22: 18 | K22: 19 | L22: 20 | M22: 21 | N22: 22 | O22: 23
A23: S | B23: M | C23: T | D23: W | E23: T | F23: F | G23: S | I23: S | J23: M | K23: T | L23: W | M23: T | N23: F | O23: S
A26: 5
A27: February | F27: March | H27: 2019
A28: 24 | B28: 25 | C28: 26 | D28: 27 | E28: 28 | F28: 1 | G28: 2 | I28: 3 | J28: 4 | K28: 5 | L28: 6 | M28: 7 | N28: 8 | O28: 9
A29: S | B29: M | C29: T | D29: W | E29: T | F29: F | G29: S | I29: S | J29: M | K29: T | L29: W | M29: T | N29: F | O29: S
A32: 6
A33: March | H33: 2019
A34: 10 | B34: 11 | C34: 12 | D34: 13 | E34: 14 | F34: 15 | G34: 16 | I34: 17 | J34: 18 | K34: 19 | L34: 20 | M34: 21 | N34: 22 | O34: 23
A35: S | B35: M | C35: T | D35: W | E35: T | F35: F | G35: S | I35: S | J35: M | K35: T | L35: W | M35: T | N35: F | O35: S
A38: 7
A39: March | H39: 2019 | J39: April
A40: 24 | B40: 25 | C40: 26 | D40: 27 | E40: 28 | F40: 29 | G40: 30 | I40: 31 | J40: 1 | K40: 2 | L40: 3 | M40: 4 | N40: 5 | O40: 6
A41: S | B41: M | C41: T | D41: W | E41: T | F41: F | G41: S | I41: S | J41: M | K41: T | L41: W | M41: T | N41: F | O41: S
A44: 8
A45: April | H45: 2019
A46: 7 | B46: 8 | C46: 9 | D46: 10 | E46: 11 | F46: 12 | G46: 13 | I46: 14 | J46: 15 | K46: 16 | L46: 17 | M46: 18 | N46: 19 | O46: 20
A47: S | B47: M | C47: T | D47: W | E47: T | F47: F | G47: S | I47: S | J47: M | K47: T | L47: W | M47: T | N47: F | O47: S
A50: 9
A51: April | H51: 2019 | L51: May
A52: 21 | B52: 22 | C52: 23 | D52: 24 | E52: 25 | F52: 26 | G52: 27 | I52: 28 | J52: 29 | K52: 30 | L52: 1 | M52: 2 | N52: 3 | O52: 4
A53: S | B53: M | C53: T | D53: W | E53: T | F53: F | G53: S | I53: S | J53: M | K53: T | L53: W | M53: T | N53: F | O53: S
A56: 10
A57: May | H57: 2019
A58: 5 | B58: 6 | C58: 7 | D58: 8 | E58: 9 | F58: 10 | G58: 11 | I58: 12 | J58: 13 | K58: 14 | L58: 15 | M58: 16 | N58: 17 | O58: 18
A59: S | B59: M | C59: T | D59: W | E59: T | F59: F | G59: S | I59: S | J59: M | K59: T | L59: W | M59: T | N59: F | O59: S
...

Sheet Instructions
B2: Goforth ™
B3: Better Tools For Workforce Management
B4: Copyright © 2012-2018 Goforth, LLC. All Rights Reserved
B7: Expert Level
B8: Instructions
B11: Page | D11: All Schedules and Summaries can be viewed in Page Preview
B12: Preview | D12: Includes:
D13: PDF View
D14: Intranet View
D15: Print View
D17: The Print Range has been preset
D19: Scaling Factor to the right of Margins in tool bar will corrupt the Print Range.
D21: Use the Zoom Tool to the right of Format Page or - + at bottom right in the Status Bar
D23: Changes cannot be made in Page Preview. Close Preview to continue.
B25: Pay Periods | D25: Choose Pay Period from tabs at bottom
B27: Changes | D27: Columns highlighted Blue Gray can be changed
D28: The scheduled and unscheduled days can be changed
D29: To add a Shift, select a day and enter 1 into the Bottom Cell
D30: To remove a Shift, select a 1 and press Backspace
D31: All other areas are protected and cannot be changed
D33: Do Not Drag
D34: If you accidentally drag a cell from one area to another, press Undo on the toolbar
B36: Summaries | D36: Changes will immediately be reflected in the Budget and Employee Hours Summaries
D37: Payroll Budget Summaries
B39: Job Title | D39: Moving an employee from one Job Title to another will result in inaccurate Summaries
B41: Add a Shift | D41: Click on bottom of cell, type 1 to add a scheduled shift. Totals will auto calculate.
D42: Days will be shaded yellow if under staffed, green if overstaffed
D43: Additional Shifts can be identified by using Red Font or by entering your chosen code into the top cell
D44: The shading function is not available in Master Pay Period
D45: Monitor Productivity, Employee Hours and Budget Summaries
B47: Remove Shift | D47: Click on bottom cell and press backspace to remove a scheduled shift.
D48: Scheduled hours will be subtracted (Over / Under)
D49: Unnecessary questions must be answered if Delete is selected
D50: Enter reason in top cell
B52: Partial Shift | D52: Decrease
D53: Select a shift and enter a fraction of a shift into the bottom cell
D55: Increase
D56: Select a shift and add a fraction of a shift into the bottom cell
D58: Notes can be entered into the top cell
B60: Vacation | D60: Click on scheduled shift, type V. Regularly scheduled hours will be subtracted from Nonproductive Hours
...

Sheet Benchmark
A2: Goforth ™
A3: Better Tools For Workforce Management
A4: Copyright © 2012-2018 Goforth, LLC. All Rights Reserved
B7: 7a - 7p | D7: 7a - 7p
B8: Saturday - Sunday | D8: Monday - Friday
B11: 1 | D11: 1.2 | F11: Benchmark | G11: (Hours/Patient)
B13: 24 | D13: 24 | F13: Number of Patients (Maximum of 60)
B15: =B13*B11 -> 24 | D15: =D13*D11 -> 28.8 | F15: Hours Required
B17: =B15/12 -> 2 | D17: =D15/12 -> 2.4 | F17: Number of Employees
B21: 7p - 7a | D21: 7p - 7a | Y21: C
B22: Saturday - Sunday | D22: Monday - Friday
B24: 0.8 | D24: 0.8 | F24: Benchmark | G24: (Hours/Patient)
B26: 24 | D26: 24 | F26: Number of Patients (Maximum of 60)
B28: =B26*B24 -> 19.2 | D28: =D26*D24 -> 19.2 | F28: Hours Required
B30: =B28/12 -> 1.6 | D30: =D28/12 -> 1.6 | F30: Number of Employees
D33: =' Benchmark Schedule'!J109 -> 11.5 | F33: Total FTEs

Sheet  Benchmark Schedule
BM2: Budgeted | BN2: Actual | BO2: FTE Over | BP2: Total | BQ2: Budgeted | BR2: Productive | BS2: Nonproductive | BT2: Sick | BU2: Hours Over | BV2: Overtime | BW2: Total | BX2: Daily | BY2: RT Hours / | BZ2: Savings | CA2: Annual
BM3: FTE | BN3: FTE | BO3: FTE Under | BP3: FTE | BQ3: Hours | BR3: Hours | BS3: Hours | BT3: Hours | BU3: Hours Under | BV3: Hours | BW3: Hours | BX3: Census | BY3: Patient Day | BZ3: Pay Period | CA3: Savings
BL5: Student Intern | BM5: =AP72 -> 0 | BN5: =AQ72 -> 0 | BO5: =BM5-BN5 -> 0 | BP5: =BW5/80 -> 0 | BQ5: =BM5*80 -> 0 | BR5: =AR72 -> 0 | BS5: =AI72 -> 0 | BT5: =AJ72 -> 0 | BU5: =BQ5-(BR5-BS5-BT5) -> 0 | BV5: =AS72 -> 0 | BW5: =BR5-(BS5+BT5) -> 0 | BZ5: =BS72 -> 0 | CA5: =BT72 -> 0
BL7: Clinical Student | BM7: =AP76+AP74 -> 0 | BN7: =AQ76+AQ74 -> 0 | BO7: =BM7-BN7 -> 0 | BP7: =BW7/80 -> 0 | BQ7: =BM7*80 -> 0 | BR7: =AR76 -> 0 | BS7: =AI74+AI76 -> 0 | BT7: =AJ76+AJ74 -> 0 | BU7: =BQ7-(BR7-BS7-BT7) -> 0 | BV7: =SUM(AS74,AS76) -> 0 | BW7: =BR7-(BS7+BT7) -> 0 | BZ7: =BS76+BS74 -> 0 | CA7: =BT76 -> 0
BL8: CRT | BM8: =SUM(AP47+AP101) -> 0 | BN8: =SUM(AQ47+AQ101) -> 0 | BO8: =BM8-BN8 -> 0 | BP8: =BW8/80 -> 0 | BQ8: =BM8*80 -> 0 | BR8: =SUM(AR47+AR101) -> 0 | BS8: =SUM(AI47,AI101) -> 0 | BT8: =AJ47+AJ101 -> 0 | BU8: =BQ8-(BR8-BS8-BT8) -> 0 | BV8: =SUM(AS47+AS101) -> 0 | BW8: =BR8-(BS8+BT8) -> 0 | BZ8: =BS47+BS101 -> 0 | CA8: =BT47+BT101 -> 0
BL9: RRT | BM9: =SUM(AP33+AP35+AP37+AP39+AP41+AP43+AP45+AP49+AP51+AP53+AP55+AP57+AP59+AP61+AP64+AP67+AP69+AP79+AP81+AP83+AP85+AP87+AP89+AP91+AP93+AP95+AP97+AP99+AP101+AP104+AP106) -> 5 | BN9: =+SUM(AQ33+AQ35+AQ37+AQ39+AQ41+AQ43+AQ45+AQ49+AQ51+AQ53+AQ55+AQ57+AQ59+AQ61+AQ64+AQ67+AQ69+AQ79+AQ81+AQ83+AQ85+AQ87+AQ89+AQ91+AQ93+AQ95+AQ97+AQ99+AQ104+AQ106) -> 4 | BO9: =BM9-BN9 -> 1 | BP9: =BW9/80 -> -0.05 | BQ9: =BM9*80 -> 400 | BR9: =SUM(AR33+AR35+AR37+AR39+AR41+AR43+AR45+AR49+AR51+AR53+AR55+AR57+AR59+AR61+AR64+AR67+AR69+AR79+AR81+AR83+AR85+AR87+AR89+AR91+AR93+AR95+AR97+AR99+AR104+AR106) -> 0 | BS9: =SUM(AI33:AI45,AI48:AI69,AI79:AI99,AI104:AI106) -> 4 | BT9: =SUM(AJ33:AJ45,AJ49:AJ69,AJ79:AJ99,AJ103:AJ106) -> 0 | BU9: =BQ9-(BR9-BS9-BT9) -> 404 | BV9: =SUM(SUM(AS32:AS45,AS48:AS69,AS78:AS99,AS103:AS106)) -> 4 | BW9: =BR9-(BS9+BT9) -> -4 | BZ9: =SUM(BS33:BS45,BS47:BS69,BS79:BS101,AM104:AM106) -> 0 | CA9: =SUM(BT33:BT45,BT47:BT69,BT79:BT101,AM104:AM106) -> 0
BL10: Manager | BM10: =AP30 -> 1 | BN10: =AQ30 -> 0 | BO10: =BM10-BN10 -> 1 | BP10: =BW10/80 -> 1 | BQ10: =BM10*80 -> 80 | BR10: =BM30 -> 80 | BS10: =AI30 -> 0 | BT10: =AJ30 -> 0 | BU10: =BQ10-(BR10-BS10-BT10) -> 0 | BV10: =AS30 -> 0 | BW10: =BR10-(BS10+BT10) -> 80 | BZ10: =BS30 -> 0 | CA10: =BT30 -> 0
BL11: PFT | BM11: =AP27 -> 1 | BN11: =AQ27 -> 0 | BO11: =BM11-BN11 -> 1 | BP11: =BW11/80 -> 0.6 | BQ11: =BM11*80 -> 80 | BR11: =BM27 -> 48 | BS11: =AI27 -> 0 | BT11: =AJ27 -> 0 | BU11: =BQ11-(BR11-BS11-BT11) -> 32 | BV11: =AS27 -> 0 | BW11: =BR11-(BS11+BT11) -> 48 | BZ11: =BS27 -> 0 | CA11: =BT27 -> 0
BL13: Total | BM13: =SUM(BM5:BM12) -> 7 | BN13: =SUM(SUM(BN5:BN11)) -> 4 | BO13: =SUM(SUM(BO5:BO11)) -> 3 | BP13: =BW13/80 -> 1.55 | BQ13: =SUM(SUM(BQ5:BQ11)) -> 560 | BR13: =SUM(SUM(BR5:BR11)) -> 128 | BS13: =SUM(SUM(BS5:BS11)) -> 4 | BT13: =SUM(SUM(BT5:BT11)) -> 0 | BU13: =SUM(SUM(BU5:BU11)) -> 436 | BV13: =SUM(SUM(BV5:BV11)) -> 4 | BW13: =SUM(SUM(BW5:BW11)) -> 124 | BX13: =SUM(SUM(M123:S123,U123:AA123))/14 -> 24 | BY13: =SUM(SUM(M119:S119,U119:AA119,M121:S121,U121:AA121))/SUM(M123:S123,U123:AA123) -> 2.3571429 | BZ13: =SUM(SUM(BZ5:BZ11)) -> 0 | CA13: =SUM(SUM(CA5:CA11)) -> 0
BL16: Total Budgeted FTE | BN16: =BW13/80 -> 1.55
F17: ='Master Pay Period 1'!F17 -> Company
F18: ='Master Pay Period 1'!F18 -> 0 | W18: Goforth ™ | BL18: Total Scheduled FTE | BN18: =BP13 -> 1.55
F19: ='Master Pay Period 1'!F19 -> 0 | W19: Better Tools For Workforce Management
W20: Copyright © 2012-2018 Goforth, LLC. All Rights Reserved
A21: Wages | B21: Non | D21: Hours | M21: =Calendar!$A$2 -> 1 | AC21: =Calendar!$A$8 -> 2 | AS21: =Calendar!$A$14 -> 3
A22: Per Hour | B22: Productive | C22: Sick | D22: Over | E22: Hours | F22: Name | G22: Title | H22: Shift | I22: Budgeted | J22: Actual | K22: Actual | L22: OT | M22: =Calendar!$A$3 -> 0 | N22: =Calendar!$B$3 -> 0 | O22: =Calendar!$C$3 -> January | P22: =Calendar!$D$3 -> 0 | Q22: =Calendar!$E$3 -> 0 | R22: =Calendar!$F$3 -> 0 | S22: =Calendar!$G$3 -> 0 | T22: =Calendar!$H$3 -> 2019 | U22: =Calendar!$I$3 -> 0 | V22: =Calendar!$J$3 -> 0 | W22: =Calendar!$K$3 -> 0 | X22: =Calendar!$L$3 -> 0 | Y22: =Calendar!$M$3 -> 0 | Z22: =Calendar!$N$3 -> 0 | AA22: =Calendar!$O$3 -> 0 | AC22: =Calendar!$A$9 -> January | AD22: =Calendar!$B$9 -> 0 | AE22: =Calendar!$C$9 -> 0 | AF22: =Calendar!$D$9 -> 0 | AG22: =Calendar!$E$9 -> 0 | AH22: =Calendar!$F$9 -> 0 | AI22: =Calendar!$G$9 -> 0 | AJ22: =Calendar!$H$9 -> 2019 | AK22: =Calendar!$I$9 -> 0 | AL22: =Calendar!$J$9 -> 0 | AM22: =Calendar!$K$9 -> 0 | AN22: =Calendar!$L$9 -> 0 | AO22: =Calendar!$M$9 -> 0 | AP22: =Calendar!$N$9 -> 0 | AQ22: =Calendar!$O$9 -> 0 | AS22: =Calendar!$A$15 -> 0 | AT22: =Calendar!$B$15 -> 0 | AU22: =Calendar!$C$15 -> 0 | AV22: =Calendar!$D$15 -> 0 | AW22: =Calendar!$E$15 -> 0 | AX22: =Calendar!$F$15 -> February | AY22: =Calendar!$G$15 -> 0 | AZ22: =Calendar!$H$15 -> 2019 | BA22: =Calendar!$I$15 -> 0 | BB22: =Calendar!$J$15 -> 0 | BC22: =Calendar!$K$15 -> 0 | BD22: =Calendar!$L$15 -> 0 | BE22: =Calendar!$M$15 -> 0 | BF22: =Calendar!$N$15 -> 0 | BG22: =Calendar!$O$15 -> 0 | BL22: Budgeted | BM22: Actual | BN22: Hours | BO22: FTE | BP22: Benefit | BQ22: Total FTE | BR22: Benefits | BS22: Savings | BT22: Annual | BU22: Shifts
B23: Hours | C23: Hours | D23: Under | E23: Shift | I23: FTE | J23: FTE | K23: Hours | L23: Hours | M23: =Calendar!$A$4 -> 30 | N23: =Calendar!$B$4 -> 31 | O23: =Calendar!$C$4 -> 1 | P23: =Calendar!$D$4 -> 2 | Q23: =Calendar!$E$4 -> 3 | R23: =Calendar!$F$4 -> 4 | S23: =Calendar!$G$4 -> 5 | U23: =Calendar!$I$4 -> 6 | V23: =Calendar!$J$4 -> 7 | W23: =Calendar!$K$4 -> 8 | X23: =Calendar!$L$4 -> 9 | Y23: =Calendar!$M$4 -> 10 | Z23: =Calendar!$N$4 -> 11 | AA23: =Calendar!$O$4 -> 12 | AC23: =Calendar!$A$10 -> 13 | AD23: =Calendar!$B$10 -> 14 | AE23: =Calendar!$C$10 -> 15 | AF23: =Calendar!$D$10 -> 16 | AG23: =Calendar!$E$10 -> 17 | AH23: =Calendar!$F$10 -> 18 | AI23: =Calendar!$G$10 -> 19 | AK23: =Calendar!$I$10 -> 20 | AL23: =Calendar!$J$10 -> 21 | AM23: =Calendar!$K$10 -> 22 | AN23: =Calendar!$L$10 -> 23 | AO23: =Calendar!$M$10 -> 24 | AP23: =Calendar!$N$10 -> 25 | AQ23: =Calendar!$O$10 -> 26 | AS23: =Calendar!$A$16 -> 27 | AT23: =Calendar!$B$16 -> 28 | AU23: =Calendar!$C$16 -> 29 | AV23: =Calendar!$D$16 -> 30 | AW23: =Calendar!$E$16 -> 31 | AX23: =Calendar!$F$16 -> 1 | AY23: =Calendar!$G$16 -> 2 | BA23: =Calendar!$I$16 -> 3 | BB23: =Calendar!$J$16 -> 4 | BC23: =Calendar!$K$16 -> 5 | BD23: =Calendar!$L$16 -> 6 | BE23: =Calendar!$M$16 -> 7 | BF23: =Calendar!$N$16 -> 8 | BG23: =Calendar!$O$16 -> 9 | BL23: Hours | BM23: Hours | BN23: Saved | BO23: Saved | BP23: FTE | BQ23: Saved | BS23: Pay Period | BT23: Savings | BU23: Pay Period
M24: S | N24: M | O24: T | P24: W | Q24: T | R24: F | S24: S | U24: S | V24: M | W24: T | X24: W | Y24: T | Z24: F | AA24: S | AC24: S | AD24: M | AE24: T | AF24: W | AG24: T | AH24: F | AI24: S | AK24: S | AL24: M | AM24: T | AN24: W | AO24: T | AP24: F | AQ24: S | AS24: S | AT24: M | AU24: T | AV24: W | AW24: T | AX24: F | AY24: S | BA24: S | BB24: M | BC24: T | BD24: W | BE24: T | BF24: F | BG24: S
A27: 32 | B27: =SUM(IF(M26="V",-E26),IF(N26="V",-E26),IF(O26="V",-E26),IF(P26="V",-E26),IF(Q26="V",-E26),IF(R26="V",-E26),IF(S26="V",-E26),IF(U26="V",-E26),IF(V26="V",-E26),IF(W26="V",-E26),IF(X26="V",-E26),IF(Y26="V",-E26),IF(Z26="V",-E26),IF(AA26="V",-E26),IF(M26="H",-E26),IF(N26="H",-E26),IF(O26="H",-E26),IF(P26="H",-E26),IF(Q26="H",-E26),IF(R26="H",-E26),IF(S26="H",-E26),IF(U26="H",-E26),IF(V26="H",-E26),IF(W26="H",-E26),IF(X26="H",-E26),IF(Y26="H",-E26),IF(Z26="H",-E26),IF(AA26="H",-E26)) -> 0 | C27: =SUM(IF(M26="S",-E26),IF(N26="S",-E26),IF(O26="S",-E26),IF(P26="S",-E26),IF(Q26="S",-E26),IF(R26="S",-E26),IF(S26="S",-E26),IF(U26="S",-E26),IF(V26="S",-E26),IF(W26="S",-E26),IF(X26="S",-E26),IF(Y26="S",-E26),IF(Z26="S",-E26),IF(AA26="S",-E26)) -> 0 | D27: =(I27*80)-(K27-(B27+C27)) -> 0 | E27: 6 | G27: PFT | H27: 7a-3-30p | I27: ='Master Pay Period 1'!I27 -> 0.6 | J27: =BM27/80 -> 0.6 | K27: =E27*BU27 -> 48 | O27: 1 | P27: 1 | Q27: 1 | R27: 1 | W27: 1 | X27: 1 | Y27: 1 | Z27: 1 | AE27: 1 | AF27: 1 | AG27: 1 | AH27: 1 | AM27: 1 | AN27: 1 | AO27: 1 | AP27: 1 | AU27: 1 | AV27: 1 | AW27: 1 | AX27: 1 | BC27: 1 | BD27: 1 | BE27: 1 | BF27: 1 | BL27: =I27*80 -> 48 | BM27: =BU27*E27 -> 48 | BN27: =BL27-BM27 -> 0 | BO27: =BN27/80 -> 0 | BP27: =B28/(80) -> 0 | BQ27: =SUM(SUM(BO27,BP27)) -> 0 | BR27: =A27*0.28 -> 8.96 | BS27: =D27*A27 -> 0 | BT27: =(BR27+A27)*(D27)*26 -> 0 | BU27: =SUM(SUM(M27:AA27)) -> 8
A30: 35 | B30: =SUM(IF(M29="V",-E29),IF(N29="V",-E29),IF(O29="V",-E29),IF(P29="V",-E29),IF(Q29="V",-E29),IF(R29="V",-E29),IF(S29="V",-E29),IF(U29="V",-E29),IF(V29="V",-E29),IF(W29="V",-E29),IF(X29="V",-E29),IF(Y29="V",-E29),IF(Z29="V",-E29),IF(AA29="V",-E29),IF(M29="H",-E29),IF(N29="H",-E29),IF(O29="H",-E29),IF(P29="H",-E29),IF(Q29="H",-E29),IF(R29="H",-E29),IF(S29="H",-E29),IF(U29="H",-E29),IF(V29="H",-E29),IF(W29="H",-E29),IF(X29="H",-E29),IF(Y29="H",-E29),IF(Z29="H",-E29),IF(AA29="H",-E29)) -> 0 | C30: =SUM(IF(M29="S",-E29),IF(N29="S",-E29),IF(O29="S",-E29),IF(P29="S",-E29),IF(Q29="S",-E29),IF(R29="S",-E29),IF(S29="S",-E29),IF(U29="S",-E29),IF(V29="S",-E29),IF(W29="S",-E29),IF(X29="S",-E29),IF(Y29="S",-E29),IF(Z29="S",-E29),IF(AA29="S",-E29)) -> 0 | D30: =(I30*80)-(K30-(B30+C30)) -> 0 | E30: 8 | G30: Manager | H30: 7a-3-30p | I30: ='Master Pay Period 1'!I30 -> 1 | J30: =BM30/80 -> 1 | K30: =E30*BU30 -> 80 | N30: 1 | O30: 1 | P30: 1 | Q30: 1 | R30: 1 | V30: 1 | W30: 1 | X30: 1 | Y30: 1 | Z30: 1 | AD30: 1 | AE30: 1 | AF30: 1 | AG30: 1 | AH30: 1 | AL30: 1 | AM30: 1 | AN30: 1 | AO30: 1 | AP30: 1 | AT30: 1 | AU30: 1 | AV30: 1 | AW30: 1 | AX30: 1 | BB30: 1 | BC30: 1 | BD30: 1 | BE30: 1 | BF30: 1 | BL30: =I30*80 -> 80 | BM30: =BU30*E30 -> 80 | BN30: =BL30-BM30 -> 0 | BO30: =BN30/80 -> 0 | BP30: =B31/(80) -> 0 | BQ30: =SUM(SUM(BO30,BP30)) -> 0 | BR30: =A30*0.28 -> 9.8 | BS30: =D30*A30 -> 0 | BT30: =(BR30+A30)*(D30)*26 -> 0 | BU30: =SUM(SUM(M30:AA30)) -> 10
A33: 25 | B33: =SUM(IF(M32="V",-E32),IF(N32="V",-E32),IF(O32="V",-E32),IF(P32="V",-E32),IF(Q32="V",-E32),IF(R32="V",-E32),IF(S32="V",-E32),IF(U32="V",-E32),IF(V32="V",-E32),IF(W32="V",-E32),IF(X32="V",-E32),IF(Y32="V",-E32),IF(Z32="V",-E32),IF(AA32="V",-E32),IF(M32="H",-E32),IF(N32="H",-E32),IF(O32="H",-E32),IF(P32="H",-E32),IF(Q32="H",-E32),IF(R32="H",-E32),IF(S32="H",-E32),IF(U32="H",-E32),IF(V32="H",-E32),IF(W32="H",-E32),IF(X32="H",-E32),IF(Y32="H",-E32),IF(Z32="H",-E32),IF(AA32="H",-E32)) -> 0 | C33: =SUM(IF(M32="S",-E32),IF(N32="S",-E32),IF(O32="S",-E32),IF(P32="S",-E32),IF(Q32="S",-E32),IF(R32="S",-E32),IF(S32="S",-E32),IF(U32="S",-E32),IF(V32="S",-E32),IF(W32="S",-E32),IF(X32="S",-E32),IF(Y32="S",-E32),IF(Z32="S",-E32),IF(AA32="S",-E32)) -> 0 | D33: =(I33*80)-(K33-(B33+C33)) -> 0 | E33: 12 | G33: RRT | H33: 7a-7-30p | I33: ='Master Pay Period 1'!I33 -> 0.9 | J33: =BM33/80 -> 0.9 | K33: =E33*BU33 -> 72 | M33: =IF(Benchmark!$B$17>1,1,1) -> 1 | P33: =IF(Benchmark!$D$17>1,1,1) -> 1 | R33: =IF(Benchmark!$D$17>R30,1,1) -> 1 | V33: =IF(Benchmark!$D$17>1,1,1) -> 1 | X33: =IF(Benchmark!$D$17>1,1,1) -> 1 | Y33: =IF(Benchmark!$D$17>1,1,1) -> 1 | AD33: =IF(Benchmark!$D$17>1,1,1) -> 1 | AF33: =IF(Benchmark!$D$17>1,1,1) -> 1 | AI33: =IF(Benchmark!$B$17>1,1,1) -> 1 | AK33: =IF(Benchmark!$B$17>1,1,1) -> 1 | AM33: =IF(Benchmark!$D$17>1,1,1) -> 1 | AP33: =IF(Benchmark!$D$17>1,1,1) -> 1 | AT33: =IF(Benchmark!$D$17>1,1,1) -> 1 | AV33: =IF(Benchmark!$D$17>1,1,1) -> 1 | AW33: =IF(Benchmark!$D$17>1,1,1) -> 1 | BB33: =IF(Benchmark!$D$17>1,1,1) -> 1 | BD33: =IF(Benchmark!$D$17>1,1,1) -> 1 | BG33: =IF(Benchmark!$B$17>1,1,1) -> 1 | BL33: =I33*80 -> 72 | BM33: =BU33*E33 -> 72 | BN33: =BL33-BM33 -> 0 | BO33: =BN33/80 -> 0 | BP33: =B34/(80) -> 0 | BQ33: =SUM(SUM(BO33,BP33)) -> 0 | BR33: =A33*0.28 -> 7 | BS33: =D33*A33 -> 0 | BT33: =(BR33+A33)*(D33)*26 -> 0 | BU33: =SUM(SUM(M33:AA33)) -> 6
A35: 25 | B35: =SUM(IF(M34="V",-E34),IF(N34="V",-E34),IF(O34="V",-E34),IF(P34="V",-E34),IF(Q34="V",-E34),IF(R34="V",-E34),IF(S34="V",-E34),IF(U34="V",-E34),IF(V34="V",-E34),IF(W34="V",-E34),IF(X34="V",-E34),IF(Y34="V",-E34),IF(Z34="V",-E34),IF(AA34="V",-E34),IF(M34="H",-E34),IF(N34="H",-E34),IF(O34="H",-E34),IF(P34="H",-E34),IF(Q34="H",-E34),IF(R34="H",-E34),IF(S34="H",-E34),IF(U34="H",-E34),IF(V34="H",-E34),IF(W34="H",-E34),IF(X34="H",-E34),IF(Y34="H",-E34),IF(Z34="H",-E34),IF(AA34="H",-E34)) -> 0 | C35: =SUM(IF(M34="S",-E34),IF(N34="S",-E34),IF(O34="S",-E34),IF(P34="S",-E34),IF(Q34="S",-E34),IF(R34="S",-E34),IF(S34="S",-E34),IF(U34="S",-E34),IF(V34="S",-E34),IF(W34="S",-E34),IF(X34="S",-E34),IF(Y34="S",-E34),IF(Z34="S",-E34),IF(AA34="S",-E34)) -> 0 | D35: =(I35*80)-(K35-(B35+C35)) -> 0 | E35: 12 | G35: RRT | H35: 7a-7-30p | I35: ='Master Pay Period 1'!I35 -> 0.9 | J35: =BM35/80 -> 0.9 | K35: =E35*BU35 -> 72 | N35: =IF(Benchmark!$D$17>N33,1,0) -> 1 | O35: =IF(Benchmark!$D$17>O33,1,0) -> 1 | S35: =IF(Benchmark!$B$17>S33,1,0) -> 1 | U35: =IF(Benchmark!$B$17>U33,1,0) -> 1 | W35: =IF(Benchmark!$D$17>W33,1,0) -> 1 | Z35: =IF(Benchmark!$D$17>Z33,1,0) -> 1 | AE35: =IF(Benchmark!$D$17>AE33,1,0) -> 1 | AG35: =IF(Benchmark!$D$17>AG33,1,0) -> 1 | AH35: =IF(Benchmark!$D$17>AH33,1,0) -> 1 | AL35: =IF(Benchmark!$D$17>AL33,1,0) -> 1 | AN35: =IF(Benchmark!$D$17>AN33,1,0) -> 1 | AQ35: =IF(Benchmark!$B$17>AQ33,1,0) -> 1 | AS35: =IF(Benchmark!$B$17>AS33,1,0) -> 1 | AU35: =IF(Benchmark!$D$17>AU33,1,0) -> 1 | AX35: =IF(Benchmark!$D$17>AX33,1,0) -> 1 | BC35: =IF(Benchmark!$D$17>BC33,1,0) -> 1 | BE35: =IF(Benchmark!$D$17>BE33,1,0) -> 1 | BF35: =IF(Benchmark!$D$17>BF33,1,0) -> 1 | BL35: =I35*80 -> 72 | BM35: =BU35*E35 -> 72 | BN35: =BL35-BM35 -> 0 | BO35: =BN35/80 -> 0 | BP35: =B36/(80) -> 0 | BQ35: =SUM(SUM(BO35,BP35)) -> 0 | BR35: =A35*0.28 -> 7 | BS35: =D35*A35 -> 0 | BT35: =(BR35+A35)*(D35)*26 -> 0 | BU35: =SUM(SUM(M35:AA35)) -> 6
A37: 24.12 | B37: =SUM(IF(M36="V",-E36),IF(N36="V",-E36),IF(O36="V",-E36),IF(P36="V",-E36),IF(Q36="V",-E36),IF(R36="V",-E36),IF(S36="V",-E36),IF(U36="V",-E36),IF(V36="V",-E36),IF(W36="V",-E36),IF(X36="V",-E36),IF(Y36="V",-E36),IF(Z36="V",-E36),IF(AA36="V",-E36),IF(M36="H",-E36),IF(N36="H",-E36),IF(O36="H",-E36),IF(P36="H",-E36),IF(Q36="H",-E36),IF(R36="H",-E36),IF(S36="H",-E36),IF(U36="H",-E36),IF(V36="H",-E36),IF(W36="H",-E36),IF(X36="H",-E36),IF(Y36="H",-E36),IF(Z36="H",-E36),IF(AA36="H",-E36)) -> 0 | C37: =SUM(IF(M36="S",-E36),IF(N36="S",-E36),IF(O36="S",-E36),IF(P36="S",-E36),IF(Q36="S",-E36),IF(R36="S",-E36),IF(S36="S",-E36),IF(U36="S",-E36),IF(V36="S",-E36),IF(W36="S",-E36),IF(X36="S",-E36),IF(Y36="S",-E36),IF(Z36="S",-E36),IF(AA36="S",-E36)) -> 0 | D37: =(I37*80)-(K37-(B37+C37)) -> 0 | E37: 12 | G37: RRT | H37: 7a-7:30p | I37: ='Master Pay Period 1'!I37 -> 0.9 | J37: =BM37/80 -> 0.9 | K37: =E37*BU37 -> 72 | N37: =IF(Benchmark!$D$17>SUM(N35+N33),1,0) -> 1 | P37: =IF(Benchmark!$D$17>SUM(P35+P33),1,0) -> 1 | Q37: =IF(Benchmark!$D$17>SUM(Q35+Q33),1,0) -> 1 | V37: =IF(Benchmark!$D$17>SUM(V35+V33),1,0) -> 1 | X37: =IF(Benchmark!$D$17>SUM(X35+X33),1,0) -> 1 | AA37: =IF(Benchmark!$B$17>SUM(AA35+AA33),1,0) -> 1 | AC37: =IF(Benchmark!$B$17>SUM(AC35+AC33),1,0) -> 1 | AE37: =IF(Benchmark!$D$17>SUM(AE35+AE33),1,0) -> 1 | AG37: =IF(Benchmark!$D$17>SUM(AG35+AG33),1,0) -> 1 | AM37: =IF(Benchmark!$D$17>SUM(AM35+AM33),1,0) -> 1 | AO37: =IF(Benchmark!$D$17>SUM(AO35+AO33),1,0) -> 1 | AP37: =IF(Benchmark!$D$17>SUM(AP35+AP33),1,0) -> 1 | AT37: =IF(Benchmark!$D$17>SUM(AT35+AT33),1,0) -> 1 | AV37: =IF(Benchmark!$D$17>SUM(AV35+AV33),1,0) -> 1 | AY37: =IF(Benchmark!$B$17>SUM(AY35+AY33),1,0) -> 1 | BA37: =IF(Benchmark!$B$17>SUM(BA35+BA33),1,0) -> 1 | BC37: =IF(Benchmark!$D$17>SUM(BC35+BC33),1,0) -> 1 | BF37: =IF(Benchmark!$D$17>SUM(BF35+BF33),1,0) -> 1 | BL37: =I37*80 -> 72 | BM37: =BU37*E37 -> 72 | BN37: =BL37-BM37 -> 0 | BO37: =BN37/80 -> 0 | BP37: =B38/(80) -> 0 | BQ37: =SUM(SUM(BO37,BP37)) -> 0 | BR37: =A37*0.28 -> 6.7536 | BS37: =D37*A37 -> 0 | BT37: =(BR37+A37)*(D37)*26 -> 0 | BU37: =SUM(SUM(M37:AA37)) -> 6
A39: 25.81 | B39: =SUM(IF(M38="V",-E38),IF(N38="V",-E38),IF(O38="V",-E38),IF(P38="V",-E38),IF(Q38="V",-E38),IF(R38="V",-E38),IF(S38="V",-E38),IF(U38="V",-E38),IF(V38="V",-E38),IF(W38="V",-E38),IF(X38="V",-E38),IF(Y38="V",-E38),IF(Z38="V",-E38),IF(AA38="V",-E38),IF(M38="H",-E38),IF(N38="H",-E38),IF(O38="H",-E38),IF(P38="H",-E38),IF(Q38="H",-E38),IF(R38="H",-E38),IF(S38="H",-E38),IF(U38="H",-E38),IF(V38="H",-E38),IF(W38="H",-E38),IF(X38="H",-E38),IF(Y38="H",-E38),IF(Z38="H",-E38),IF(AA38="H",-E38)) -> 0 | C39: =SUM(IF(M38="S",-E38),IF(N38="S",-E38),IF(O38="S",-E38),IF(P38="S",-E38),IF(Q38="S",-E38),IF(R38="S",-E38),IF(S38="S",-E38),IF(U38="S",-E38),IF(V38="S",-E38),IF(W38="S",-E38),IF(X38="S",-E38),IF(Y38="S",-E38),IF(Z38="S",-E38),IF(AA38="S",-E38)) -> 0 | D39: =(I39*80)-(K39-(B39+C39)) -> 0 | E39: 12 | G39: RRT | H39: 7a-7:30p | I39: ='Master Pay Period 1'!I39 -> 0.75 | J39: =BM39/80 -> 0.75 | K39: =E39*BU39 -> 60 | M39: =IF(Benchmark!$B$17>SUM(M37+M35+M33),1,0) -> 1 | R39: =IF(Benchmark!$D$17>SUM(R37+R35+R33),1,0) -> 1 | V39: =IF(Benchmark!$D$17>SUM(V37+V35+V33),1,0) -> 1 | W39: =IF(Benchmark!$D$17>SUM(W37+W35+W33),1,0) -> 1 | Z39: =IF(Benchmark!$D$17>SUM(Z37+Z35+Z33),1,0) -> 1 | AD39: =IF(Benchmark!$D$17>SUM(AD37+AD35+AD33),1,0) -> 1 | AH39: =IF(Benchmark!$D$17>SUM(AH37+AH35+AH33),1,0) -> 1 | AI39: =IF(Benchmark!$B$17>SUM(AI37+AI35+AI33),1,0) -> 1 | AK39: =IF(Benchmark!$B$17>SUM(AK37+AK35+AK33),1,0) -> 1 | AO39: =IF(Benchmark!$D$17>SUM(AO37+AO35+AO33),1,0) -> 1 | AU39: =IF(Benchmark!$D$17>SUM(AU37+AU35+AU33),1,0) -> 1 | AV39: =IF(Benchmark!$D$17>SUM(AV37+AV35+AV33),1,0) -> 1 | AX39: =IF(Benchmark!$D$17>SUM(AX37+AX35+AX33),1,0) -> 1 | BE39: =IF(Benchmark!$D$17>SUM(BE37+BE35+BE33),1,0) -> 1 | BG39: =IF(Benchmark!$B$17>SUM(BG37+BG35+BG33),1,0) -> 1 | BL39: =I39*80 -> 60 | BM39: =BU39*E39 -> 60 | BN39: =BL39-BM39 -> 0 | BO39: =BN39/80 -> 0 | BP39: =B40/(80) -> 0 | BQ39: =SUM(SUM(BO39,BP39)) -> 0 | BR39: =A39*0.28 -> 7.2268 | BS39: =D39*A39 -> 0 | BT39: =(BR39+A39)*(D39)*26 -> 0 | BU39: =SUM(SUM(M39:AA39)) -> 5
A41: 31.35 | B41: =SUM(IF(M40="V",-E40),IF(N40="V",-E40),IF(O40="V",-E40),IF(P40="V",-E40),IF(Q40="V",-E40),IF(R40="V",-E40),IF(S40="V",-E40),IF(U40="V",-E40),IF(V40="V",-E40),IF(W40="V",-E40),IF(X40="V",-E40),IF(Y40="V",-E40),IF(Z40="V",-E40),IF(AA40="V",-E40),IF(M40="H",-E40),IF(N40="H",-E40),IF(O40="H",-E40),IF(P40="H",-E40),IF(Q40="H",-E40),IF(R40="H",-E40),IF(S40="H",-E40),IF(U40="H",-E40),IF(V40="H",-E40),IF(W40="H",-E40),IF(X40="H",-E40),IF(Y40="H",-E40),IF(Z40="H",-E40),IF(AA40="H",-E40)) -> 0 | C41: =SUM(IF(M40="S",-E40),IF(N40="S",-E40),IF(O40="S",-E40),IF(P40="S",-E40),IF(Q40="S",-E40),IF(R40="S",-E40),IF(S40="S",-E40),IF(U40="S",-E40),IF(V40="S",-E40),IF(W40="S",-E40),IF(X40="S",-E40),IF(Y40="S",-E40),IF(Z40="S",-E40),IF(AA40="S",-E40)) -> 0 | D41: =(I41*80)-(K41-(B41+C41)) -> 0 | E41: 12 | G41: RRT | H41: 7a-7:30p | I41: ='Master Pay Period 1'!I41 -> 0.9 | J41: =BM41/80 -> 0.9 | K41: =E41*BU41 -> 72 | O41: =IF(Benchmark!$D$17>SUM(O39+O37+O35+O33),1,0) -> 1 | Q41: =IF(Benchmark!$D$17>SUM(Q39+Q37+Q35+Q33),1,0) -> 1 | S41: =IF(Benchmark!$B$17>SUM(S39+S37+S35+S33),1,0) -> 1 | U41: =IF(Benchmark!$B$17>SUM(U39+U37+U35+U33),1,0) -> 1 | W41: =IF(Benchmark!$D$17>SUM(W39+W37+W35+W33),1,0) -> 1 | Y41: =IF(Benchmark!$D$17>SUM(Y39+Y37+Y35+Y33),1,0) -> 1 | AD41: =IF(Benchmark!$D$17>SUM(AD39+AD37+AD35+AD33),1,0) -> 1 | AF41: =IF(Benchmark!$D$17>SUM(AF39+AF37+AF35+AF33),1,0) -> 1 | AG41: =IF(Benchmark!$D$17>SUM(AG39+AG37+AG35+AG33),1,0) -> 1 | AL41: =IF(Benchmark!$D$17>SUM(AL39+AL37+AL35+AL33),1,0) -> 1 | AN41: =IF(Benchmark!$D$17>SUM(AN39+AN37+AN35+AN33),1,0) -> 1 | AQ41: =IF(Benchmark!$B$17>SUM(AQ39+AQ37+AQ35+AQ33),1,0) -> 1 | AS41: =IF(Benchmark!$B$17>SUM(AS39+AS37+AS35+AS33),1,0) -> 1 | AW41: =IF(Benchmark!$D$17>SUM(AW39+AW37+AW35+AW33),1,0) -> 1 | AX41: =IF(Benchmark!$D$17>SUM(AX39+AX37+AX35+AX33),1,0) -> 1 | BB41: =IF(Benchmark!$D$17>SUM(BB39+BB37+BB35+BB33),1,0) -> 1 | BD41: =IF(Benchmark!$D$17>SUM(BD39+BD37+BD35+BD33),1,0) -> 1 | BF41: =IF(Benchmark!$D$17>SUM(BF39+BF37+BF35+BF33),1,0) -> 1 | BL41: =I41*80 -> 72 | BM41: =BU41*E41 -> 72 | BN41: =BL41-BM41 -> 0 | BO41: =BN41/80 -> 0 | BP41: =B42/(80) -> 0 | BQ41: =SUM(SUM(BO41,BP41)) -> 0 | BR41: =A41*0.28 -> 8.778 | BS41: =D41*A41 -> 0 | BT41: =(BR41+A41)*(D41)*26 -> 0 | BU41: =SUM(SUM(M41:AA41)) -> 6
A43: 27.73 | B43: =SUM(IF(M42="V",-E42),IF(N42="V",-E42),IF(O42="V",-E42),IF(P42="V",-E42),IF(Q42="V",-E42),IF(R42="V",-E42),IF(S42="V",-E42),IF(U42="V",-E42),IF(V42="V",-E42),IF(W42="V",-E42),IF(X42="V",-E42),IF(Y42="V",-E42),IF(Z42="V",-E42),IF(AA42="V",-E42),IF(M42="H",-E42),IF(N42="H",-E42),IF(O42="H",-E42),IF(P42="H",-E42),IF(Q42="H",-E42),IF(R42="H",-E42),IF(S42="H",-E42),IF(U42="H",-E42),IF(V42="H",-E42),IF(W42="H",-E42),IF(X42="H",-E42),IF(Y42="H",-E42),IF(Z42="H",-E42),IF(AA42="H",-E42)) -> 0 | C43: =SUM(IF(M42="S",-E42),IF(N42="S",-E42),IF(O42="S",-E42),IF(P42="S",-E42),IF(Q42="S",-E42),IF(R42="S",-E42),IF(S42="S",-E42),IF(U42="S",-E42),IF(V42="S",-E42),IF(W42="S",-E42),IF(X42="S",-E42),IF(Y42="S",-E42),IF(Z42="S",-E42),IF(AA42="S",-E42)) -> 0 | D43: =(I43*80)-(K43-(B43+C43)) -> 0 | E43: 12 | G43: RRT | H43: 7a-7:30p | I43: ='Master Pay Period 1'!I43 -> 0.75 | J43: =BM43/80 -> 0.75 | K43: =E43*BU43 -> 60 | N43: =IF(Benchmark!$D$17>SUM(N41+N39+N37+N35+N33),1,0) -> 1 | P43: =IF(Benchmark!$D$17>SUM(P41+P39+P37+P35+P33),1,0) -> 1 | Q43: =IF(Benchmark!$D$17>SUM(Q41+Q39+Q37+Q35+Q33),1,0) -> 1 | W43: =IF(Benchmark!$D$17>SUM(W41+W39+W37+W35+W33),1,0) -> 0 | Y43: =IF(Benchmark!$D$17>SUM(Y41+Y39+Y37+Y35+Y33),1,0) -> 1 | AA43: =IF(Benchmark!$B$17>SUM(AA41+AA39+AA37+AA35+AA33),1,0) -> 1 | AC43: =IF(Benchmark!$B$17>SUM(AC41+AC39+AC37+AC35+AC33),1,0) -> 1 | AG43: =IF(Benchmark!$D$17>SUM(AG41+AG39+AG37+AG35+AG33),1,0) -> 0 | AH43: =IF(Benchmark!$D$17>SUM(AH41+AH39+AH37+AH35+AH33),1,0) -> 1 | AL43: =IF(Benchmark!$D$17>SUM(AL41+AL39+AL37+AL35+AL33),1,0) -> 1 | AM43: =IF(Benchmark!$D$17>SUM(AM41+AM39+AM37+AM35+AM33),1,0) -> 1 | AO43: =IF(Benchmark!$D$17>SUM(AO41+AO39+AO37+AO35+AO33),1,0) -> 1 | AT43: =IF(Benchmark!$D$17>SUM(AT41+AT39+AT37+AT35+AT33),1,0) -> 1 | AV43: =IF(Benchmark!$D$17>SUM(AV41+AV39+AV37+AV35+AV33),1,0) -> 0 | AY43: =IF(Benchmark!$B$17>SUM(AY41+AY39+AY37+AY35+AY33),1,0) -> 1 | BA43: =IF(Benchmark!$B$17>SUM(BA41+BA39+BA37+BA35+BA33),1,0) -> 1 | BC43: =IF(Benchmark!$D$17>SUM(BC41+BC39+BC37+BC35+BC33),1,0) -> 1 | BE43: =IF(Benchmark!$D$17>SUM(BE41+BE39+BE37+BE35+BE33),1,0) -> 1 | BL43: =I43*80 -> 60 | BM43: =BU43*E43 -> 60 | BN43: =BL43-BM43 -> 0 | BO43: =BN43/80 -> 0 | BP43: =B44/(80) -> 0 | BQ43: =SUM(SUM(BO43,BP43)) -> 0 | BR43: =A43*0.28 -> 7.7644 | BS43: =D43*A43 -> 0 | BT43: =(BR43+A43)*(D43)*26 -> 0 | BU43: =SUM(SUM(M43:AA43)) -> 5
A45: 25.93 | B45: =SUM(IF(M44="V",-E44),IF(N44="V",-E44),IF(O44="V",-E44),IF(P44="V",-E44),IF(Q44="V",-E44),IF(R44="V",-E44),IF(S44="V",-E44),IF(U44="V",-E44),IF(V44="V",-E44),IF(W44="V",-E44),IF(X44="V",-E44),IF(Y44="V",-E44),IF(Z44="V",-E44),IF(AA44="V",-E44),IF(M44="H",-E44),IF(N44="H",-E44),IF(O44="H",-E44),IF(P44="H",-E44),IF(Q44="H",-E44),IF(R44="H",-E44),IF(S44="H",-E44),IF(U44="H",-E44),IF(V44="H",-E44),IF(W44="H",-E44),IF(X44="H",-E44),IF(Y44="H",-E44),IF(Z44="H",-E44),IF(AA44="H",-E44)) -> 0 | C45: =SUM(IF(M44="S",-E44),IF(N44="S",-E44),IF(O44="S",-E44),IF(P44="S",-E44),IF(Q44="S",-E44),IF(R44="S",-E44),IF(S44="S",-E44),IF(U44="S",-E44),IF(V44="S",-E44),IF(W44="S",-E44),IF(X44="S",-E44),IF(Y44="S",-E44),IF(Z44="S",-E44),IF(AA44="S",-E44)) -> 0 | D45: =(I45*80)-(K45-(B45+C45)) -> 0 | E45: 12 | G45: RRT | H45: 7a-7:30p | I45: ='Master Pay Period 1'!I45 -> 0.6 | J45: =BM45/80 -> 0.6 | K45: =E45*BU45 -> 48 | M45: =IF(Benchmark!$B$17>SUM(M43+M41+M39+M37+M35+M33),1,0) -> 0 | O45: =IF(Benchmark!$D$17>SUM(O43+O41+O39+O37+O35+O33),1,0) -> 1 | R45: =IF(Benchmark!$D$17>SUM(R43+R41+R39+R37+R35+R33),1,0) -> 1 | V45: =IF(Benchmark!$D$17>SUM(V43+V41+V39+V37+V35+V33),1,0) -> 0 | X45: =IF(Benchmark!$D$17>SUM(X43+X41+X39+X37+X35+X33),1,0) -> 1 | Z45: =IF(Benchmark!$D$17>SUM(Z43+Z41+Z39+Z37+Z35+Z33),1,0) -> 1 | AE45: =IF(Benchmark!$D$17>SUM(AE43+AE41+AE39+AE37+AE35+AE33),1,0) -> 1 | AF45: =IF(Benchmark!$D$17>SUM(AF43+AF41+AF39+AF37+AF35+AF33),1,0) -> 1 | AI45: =IF(Benchmark!$B$17>SUM(AI43+AI41+AI39+AI37+AI35+AI33),1,0) -> 0 | AK45: =IF(Benchmark!$B$17>SUM(AK43+AK41+AK39+AK37+AK35+AK33),1,0) -> 0 | AN45: =IF(Benchmark!$D$17>SUM(AN43+AN41+AN39+AN37+AN35+AN33),1,0) -> 1 | AP45: =IF(Benchmark!$D$17>SUM(AP43+AP41+AP39+AP37+AP35+AP33),1,0) -> 1 | AT45: =IF(Benchmark!$D$17>SUM(AT43+AT41+AT39+AT37+AT35+AT33),1,0) -> 0 | AU45: =IF(Benchmark!$D$17>SUM(AU43+AU41+AU39+AU37+AU35+AU33),1,0) -> 1 | AW45: =IF(Benchmark!$D$17>SUM(AW43+AW41+AW39+AW37+AW35+AW33),1,0) -> 1 | BB45: =IF(Benchmark!$D$17>SUM(BB43+BB41+BB39+BB37+BB35+BB33),1,0) -> 1 | BD45: =IF(Benchmark!$D$17>SUM(BD43+BD41+BD39+BD37+BD35+BD33),1,0) -> 1 | BG45: =IF(Benchmark!$B$17>SUM(BG43+BG41+BG39+BG37+BG35+BG33),1,0) -> 0 | BL45: =I45*80 -> 48 | BM45: =BU45*E45 -> 48 | BN45: =BL45-BM45 -> 0 | BO45: =BN45/80 -> 0 | BP45: =B46/(80) -> 0 | BQ45: =SUM(SUM(BO45,BP45)) -> 0 | BR45: =A45*0.28 -> 7.2604 | BS45: =D45*A45 -> 0 | BT45: =(BR45+A45)*(D45)*26 -> 0 | BU45: =SUM(SUM(M45:AA45)) -> 4
A47: 24.83 | B47: =SUM(IF(M46="V",-E46),IF(N46="V",-E46),IF(O46="V",-E46),IF(P46="V",-E46),IF(Q46="V",-E46),IF(R46="V",-E46),IF(S46="V",-E46),IF(U46="V",-E46),IF(V46="V",-E46),IF(W46="V",-E46),IF(X46="V",-E46),IF(Y46="V",-E46),IF(Z46="V",-E46),IF(AA46="V",-E46),IF(M46="H",-E46),IF(N46="H",-E46),IF(O46="H",-E46),IF(P46="H",-E46),IF(Q46="H",-E46),IF(R46="H",-E46),IF(S46="H",-E46),IF(U46="H",-E46),IF(V46="H",-E46),IF(W46="H",-E46),IF(X46="H",-E46),IF(Y46="H",-E46),IF(Z46="H",-E46),IF(AA46="H",-E46)) -> 0 | C47: =SUM(IF(M46="S",-E46),IF(N46="S",-E46),IF(O46="S",-E46),IF(P46="S",-E46),IF(Q46="S",-E46),IF(R46="S",-E46),IF(S46="S",-E46),IF(U46="S",-E46),IF(V46="S",-E46),IF(W46="S",-E46),IF(X46="S",-E46),IF(Y46="S",-E46),IF(Z46="S",-E46),IF(AA46="S",-E46)) -> 0 | D47: =(I47*80)-(K47-(B47+C47)) -> 0 | E47: 12 | G47: CRT | H47: 7a-7:30p | I47: ='Master Pay Period 1'!I47 -> 0 | J47: =BM47/80 -> 0 | K47: =E47*BU47 -> 0 | O47: =IF(Benchmark!$D$17>SUM(O45+O43+O41+O39+O37,O35,O33),1,0) -> 0 | P47: =IF(Benchmark!$D$17>SUM(P45+P43+P41+P39+P37,P35,P33),1,0) -> 0 | S47: =IF(Benchmark!$B$17>SUM(S45+S43+S41+S39+S37+S35+S33),1,0) -> 0 | U47: =IF(Benchmark!$B$17>SUM(U45+U43+U41+U39+U37+U35+U33),1,0) -> 0 | Y47: =IF(Benchmark!$D$17>SUM(Y45+Y43+Y41+Y39+Y37,Y35,Y33),1,0) -> 0 | Z47: =IF(Benchmark!$D$17>SUM(Z45+Z43+Z41+Z39+Z37,Z35,Z33),1,0) -> 0 | AD47: =IF(Benchmark!$D$17>SUM(AD45+AD43+AD41+AD39+AD37,AD35,AD33),1,0) -> 0 | AE47: =IF(Benchmark!$D$17>SUM(AE45+AE43+AE41+AE39+AE37,AE35,AE33),1,0) -> 0 | AH47: =IF(Benchmark!$D$17>SUM(AH45+AH43+AH41+AH39+AH37,AH35,AH33),1,0) -> 0 | AL47: =IF(Benchmark!$D$17>SUM(AL45+AL43+AL41+AL39+AL37,AL35,AL33),1,0) -> 0 | AO47: =IF(Benchmark!$D$17>SUM(AO45+AO43+AO41+AO39+AO37,AO35,AO33),1,0) -> 0 | AQ47: =IF(Benchmark!$B$17>SUM(AQ45+AQ43+AQ41+AQ39+AQ37+AQ35+AQ33),1,0) -> 0 | AS47: =IF(Benchmark!$B$17>SUM(AS45+AS43+AS41+AS39+AS37+AS35+AS33),1,0) -> 0 | AW47: =IF(Benchmark!$D$17>SUM(AW45+AW43+AW41+AW39+AW37,AW35,AW33),1,0) -> 0 | AX47: =IF(Benchmark!$D$17>SUM(AX45+AX43+AX41+AX39+AX37,AX35,AX33),1,0) -> 0 | BB47: =IF(Benchmark!$D$17>SUM(BB45+BB43+BB41+BB39+BB37,BB35,BB33),1,0) -> 0 | BD47: =IF(Benchmark!$D$17>SUM(BD45+BD43+BD41+BD39+BD37,BD35,BD33),1,0) -> 0 | BF47: =IF(Benchmark!$D$17>SUM(BF45+BF43+BF41+BF39+BF37,BF35,BF33),1,0) -> 0 | BL47: =I47*80 -> 0 | BM47: =BU47*E47 -> 0 | BN47: =BL47-BM47 -> 0 | BO47: =BN47/80 -> 0 | BP47: =B48/(80) -> 0 | BQ47: =SUM(SUM(BO47,BP47)) -> 0 | BR47: =A47*0.28 -> 6.9524 | BS47: =D47*A47 -> 0 | BT47: =(BR47+A47)*(D47)*26 -> 0 | BU47: =SUM(SUM(M47:AA47)) -> 0
A49: 25 | B49: =SUM(IF(M48="V",-E48),IF(N48="V",-E48),IF(O48="V",-E48),IF(P48="V",-E48),IF(Q48="V",-E48),IF(R48="V",-E48),IF(S48="V",-E48),IF(U48="V",-E48),IF(V48="V",-E48),IF(W48="V",-E48),IF(X48="V",-E48),IF(Y48="V",-E48),IF(Z48="V",-E48),IF(AA48="V",-E48),IF(M48="H",-E48),IF(N48="H",-E48),IF(O48="H",-E48),IF(P48="H",-E48),IF(Q48="H",-E48),IF(R48="H",-E48),IF(S48="H",-E48),IF(U48="H",-E48),IF(V48="H",-E48),IF(W48="H",-E48),IF(X48="H",-E48),IF(Y48="H",-E48),IF(Z48="H",-E48),IF(AA48="H",-E48)) -> 0 | C49: =SUM(IF(M48="S",-E48),IF(N48="S",-E48),IF(O48="S",-E48),IF(P48="S",-E48),IF(Q48="S",-E48),IF(R48="S",-E48),IF(S48="S",-E48),IF(U48="S",-E48),IF(V48="S",-E48),IF(W48="S",-E48),IF(X48="S",-E48),IF(Y48="S",-E48),IF(Z48="S",-E48),IF(AA48="S",-E48)) -> 0 | D49: =(I49*80)-(K49-(B49+C49)) -> 0 | E49: 12 | G49: RRT | H49: 7a-7:30p | I49: ='Master Pay Period 1'!I49 -> 0 | J49: =BM49/80 -> 0 | K49: =E49*BU49 -> 0 | N49: =IF(Benchmark!$D$17>SUM(N47+N45+N43+N41+N39+N37,N35,N33),1,0) -> 0 | Q49: =IF(Benchmark!$D$17>SUM(Q47+Q45+Q43+Q41+Q39+Q37,Q35,Q33),1,0) -> 0 | R49: =IF(Benchmark!$D$17>SUM(R47+R45+R43+R41+R39+R37,R35,R33),1,0) -> 0 | V49: =IF(Benchmark!$D$17>SUM(V47+V45+V43+V41+V39+V37,V35,V33),1,0) -> 0 | X49: =IF(Benchmark!$D$17>SUM(X47+X45+X43+X41+X39+X37,X35,X33),1,0) -> 0 | AA49: =IF(Benchmark!$B$17>SUM(AA47+AA45+AA43+AA41+AA39+AA37+AA35+AA33),1,0) -> 0 | AC49: =IF(Benchmark!$B$17>SUM(AC47+AC45+AC43+AC41+AC39+AC37+AC35+AC33),1,0) -> 0 | AF49: =IF(Benchmark!$D$17>SUM(AF47+AF45+AF43+AF41+AF39+AF37,AF35,AF33),1,0) -> 0 | AH49: =IF(Benchmark!$D$17>SUM(AH47+AH45+AH43+AH41+AH39+AH37,AH35,AH33),1,0) -> 0 | AM49: =IF(Benchmark!$D$17>SUM(AM47+AM45+AM43+AM41+AM39+AM37,AM35,AM33),1,0) -> 0 | AN49: =IF(Benchmark!$D$17>SUM(AN47+AN45+AN43+AN41+AN39+AN37,AN35,AN33),1,0) -> 0 | AP49: =IF(Benchmark!$D$17>SUM(AP47+AP45+AP43+AP41+AP39+AP37,AP35,AP33),1,0) -> 0 | AU49: =IF(Benchmark!$D$17>SUM(AU47+AU45+AU43+AU41+AU39+AU37,AU35,AU33),1,0) -> 0 | AV49: =IF(Benchmark!$D$17>SUM(AV47+AV45+AV43+AV41+AV39+AV37,AV35,AV33),1,0) -> 0 | AY49: =IF(Benchmark!$B$17>SUM(AY47+AY45+AY43+AY41+AY39,AY37,AY35,AY33),1,0) -> 0 | BA49: =IF(Benchmark!$B$17>SUM(BA47+BA45+BA43+BA41+BA39,BA37,BA35,BA33),1,0) -> 0 | BC49: =IF(Benchmark!$D$17>SUM(BC47+BC45+BC43+BC41+BC39+BC37,BC35,BC33),1,0) -> 0 | BE49: =IF(Benchmark!$D$17>SUM(BE47+BE45+BE43+BE41+BE39+BE37,BE35,BE33),1,0) -> 0 | BL49: =I49*80 -> 0 | BM49: =BU49*E49 -> 0 | BN49: =BL49-BM49 -> 0 | BO49: =BN49/80 -> 0 | BP49: =B50/(80) -> 0 | BQ49: =SUM(SUM(BO49,BP49)) -> 0 | BR49: =A49*0.28 -> 7 | BS49: =D49*A49 -> 0 | BT49: =(BR49+A49)*(D49)*26 -> 0 | BU49: =SUM(SUM(M49:AA49)) -> 0
A51: 25 | B51: =SUM(IF(M50="V",-E50),IF(N50="V",-E50),IF(O50="V",-E50),IF(P50="V",-E50),IF(Q50="V",-E50),IF(R50="V",-E50),IF(S50="V",-E50),IF(U50="V",-E50),IF(V50="V",-E50),IF(W50="V",-E50),IF(X50="V",-E50),IF(Y50="V",-E50),IF(Z50="V",-E50),IF(AA50="V",-E50),IF(M50="H",-E50),IF(N50="H",-E50),IF(O50="H",-E50),IF(P50="H",-E50),IF(Q50="H",-E50),IF(R50="H",-E50),IF(S50="H",-E50),IF(U50="H",-E50),IF(V50="H",-E50),IF(W50="H",-E50),IF(X50="H",-E50),IF(Y50="H",-E50),IF(Z50="H",-E50),IF(AA50="H",-E50)) -> 0 | C51: =SUM(IF(M50="S",-E50),IF(N50="S",-E50),IF(O50="S",-E50),IF(P50="S",-E50),IF(Q50="S",-E50),IF(R50="S",-E50),IF(S50="S",-E50),IF(U50="S",-E50),IF(V50="S",-E50),IF(W50="S",-E50),IF(X50="S",-E50),IF(Y50="S",-E50),IF(Z50="S",-E50),IF(AA50="S",-E50)) -> 0 | D51: =(I51*80)-(K51-(B51+C51)) -> 0 | E51: 12 | G51: RRT | H51: 7a-7:30p | I51: ='Master Pay Period 1'!I51 -> 0 | J51: =BM51/80 -> 0 | K51: =E51*BU51 -> 0 | M51: =IF(Benchmark!$B$17>SUM(M49+M47+M45+M43+M41+M39+M37+M35+M33),1,0) -> 0 | P51: =IF(Benchmark!$D$17>SUM(P49+P47+P45+P43+P41,P39,P37,P35,P33),1,0) -> 0 | R51: =IF(Benchmark!$D$17>SUM(R49+R47+R45+R43+R41,R39,R37,R35,R33),1,0) -> 0 | W51: =IF(Benchmark!$D$17>SUM(W49+W47+W45+W43+W41,W39,W37,W35,W33),1,0) -> 0 | X51: =IF(Benchmark!$D$17>SUM(X49+X47+X45+X43+X41,X39,X37,X35,X33),1,0) -> 0 | Z51: =IF(Benchmark!$D$17>SUM(Z49+Z47+Z45+Z43+Z41,Z39,Z37,Z35,Z33),1,0) -> 0 | AD51: =IF(Benchmark!$D$17>SUM(AD49+AD47+AD45+AD43+AD41,AD39,AD37,AD35,AD33),1,0) -> 0 | AG51: =IF(Benchmark!$D$17>SUM(AG49+AG47+AG45+AG43+AG41,AG39,AG37,AG35,AG33),1,0) -> 0 | AI51: =IF(Benchmark!$B$17>SUM(AI49+AI47+AI45+AI43+AI41+AI39+AI37+AI35+AI33),1,0) -> 0 | AK51: =IF(Benchmark!$B$17>SUM(AK49+AK47+AK45+AK43+AK41+AK39+AK37+AK35+AK33),1,0) -> 0 | AO51: =IF(Benchmark!$D$17>SUM(AO49+AO47+AO45+AO43+AO41,AO39,AO37,AO35,AO33),1,0) -> 0 | AP51: =IF(Benchmark!$D$17>SUM(AP49+AP47+AP45+AP43+AP41,AP39,AP37,AP35,AP33),1,0) -> 0 | AT51: =IF(Benchmark!$D$17>SUM(AT49+AT47+AT45+AT43+AT41,AT39,AT37,AT35,AT33),1,0) -> 0 | AW51: =IF(Benchmark!$D$17>SUM(AW49+AW47+AW45+AW43+AW41,AW39,AW37,AW35,AW33),1,0) -> 0 | AX51: =IF(Benchmark!$D$17>SUM(AX49+AX47+AX45+AX43+AX41,AX39,AX37,AX35,AX33),1,0) -> 0 | BB51: =IF(Benchmark!$D$17>SUM(BB49+BB47+BB45+BB43+BB41,BB39,BB37,BB35,BB33),1,0) -> 0 | BC51: =IF(Benchmark!$D$17>SUM(BC49+BC47+BC45+BC43+BC41,BC39,BC37,BC35,BC33),1,0) -> 0 | BG51: =IF(Benchmark!$B$17>SUM(BG49+BG47+BG45+BG43+BG41+BG39+BG37+BG35+BG33),1,0) -> 0 | BL51: =I51*80 -> 0 | BM51: =BU51*E51 -> 0 | BN51: =BL51-BM51 -> 0 | BO51: =BN51/80 -> 0 | BP51: =B52/(80) -> 0 | BQ51: =SUM(SUM(BO51,BP51)) -> 0 | BR51: =A51*0.28 -> 7 | BS51: =D51*A51 -> 0 | BT51: =(BR51+A51)*(D51)*26 -> 0 | BU51: =SUM(SUM(M51:AA51)) -> 0
A53: 25 | B53: =SUM(IF(M52="V",-E52),IF(N52="V",-E52),IF(O52="V",-E52),IF(P52="V",-E52),IF(Q52="V",-E52),IF(R52="V",-E52),IF(S52="V",-E52),IF(U52="V",-E52),IF(V52="V",-E52),IF(W52="V",-E52),IF(X52="V",-E52),IF(Y52="V",-E52),IF(Z52="V",-E52),IF(AA52="V",-E52),IF(M52="H",-E52),IF(N52="H",-E52),IF(O52="H",-E52),IF(P52="H",-E52),IF(Q52="H",-E52),IF(R52="H",-E52),IF(S52="H",-E52),IF(U52="H",-E52),IF(V52="H",-E52),IF(W52="H",-E52),IF(X52="H",-E52),IF(Y52="H",-E52),IF(Z52="H",-E52),IF(AA52="H",-E52)) -> 0 | C53: =SUM(IF(M52="S",-E52),IF(N52="S",-E52),IF(O52="S",-E52),IF(P52="S",-E52),IF(Q52="S",-E52),IF(R52="S",-E52),IF(S52="S",-E52),IF(U52="S",-E52),IF(V52="S",-E52),IF(W52="S",-E52),IF(X52="S",-E52),IF(Y52="S",-E52),IF(Z52="S",-E52),IF(AA52="S",-E52)) -> 0 | D53: =(I53*80)-(K53-(B53+C53)) -> 0 | E53: 12 | G53: RRT | H53: 7a-7:30p | I53: ='Master Pay Period 1'!I53 -> 0 | J53: =BM53/80 -> 0 | K53: =E53*BU53 -> 0 | N53: =IF(Benchmark!$D$17>SUM(N51+N49+N47+N45+N43+N41,N39,N37,N35,N33),1,0) -> 0 | P53: =IF(Benchmark!$D$17>SUM(P51+P49+P47+P45+P43+P41,P39,P37,P35,P33),1,0) -> 0 | S53: =IF(Benchmark!$B$17>SUM(S51+S49+S47+S45+S43+S41+S39+S37+S35+S33),1,0) -> 0 | U53: =IF(Benchmark!$B$17>SUM(U51+U49+U47+U45+U43+U41+U39+U37+U35+U33),1,0) -> 0 | X53: =IF(Benchmark!$D$17>SUM(X51+X49+X47+X45+X43+X41,X39,X37,X35,X33),1,0) -> 0 | Y53: =IF(Benchmark!$D$17>SUM(Y51+Y49+Y47+Y45+Y43+Y41,Y39,Y37,Y35,Y33),1,0) -> 0 | AD53: =IF(Benchmark!$D$17>SUM(AD51+AD49+AD47+AD45+AD43+AD41,AD39,AD37,AD35,AD33),1,0) -> 0 | AE53: =IF(Benchmark!$D$17>SUM(AE51+AE49+AE47+AE45+AE43+AE41,AE39,AE37,AE35,AE33),1,0) -> 0 | AG53: =IF(Benchmark!$D$17>SUM(AG51+AG49+AG47+AG45+AG43+AG41,AG39,AG37,AG35,AG33),1,0) -> 0 | AL53: =IF(Benchmark!$D$17>SUM(AL51+AL49+AL47+AL45+AL43+AL41,AL39,AL37,AL35,AL33),1,0) -> 0 | AN53: =IF(Benchmark!$D$17>SUM(AN51+AN49+AN47+AN45+AN43+AN41,AN39,AN37,AN35,AN33),1,0) -> 0 | AQ53: =IF(Benchmark!$B$17>SUM(AQ51+AQ49+AQ47+AQ45+AQ43+AQ41+AQ39+AQ37+AQ35+AQ33),1,0) -> 0 | AS53: =IF(Benchmark!$B$17>SUM(AS51+AS49+AS47+AS45+AS43+AS41+AS39+AS37+AS35+AS33),1,0) -> 0 | AU53: =IF(Benchmark!$D$17>SUM(AU51+AU49+AU47+AU45+AU43+AU41,AU39,AU37,AU35,AU33),1,0) -> 0 | AW53: =IF(Benchmark!$D$17>SUM(AW51+AW49+AW47+AW45+AW43+AW41,AW39,AW37,AW35,AW33),1,0) -> 0 | BB53: =IF(Benchmark!$D$17>SUM(BB51+BB49+BB47+BB45+BB43+BB41,BB39,BB37,BB35,BB33),1,0) -> 0 | BD53: =IF(Benchmark!$D$17>SUM(BD51+BD49+BD47+BD45+BD43+BD41,BD39,BD37,BD35,BD33),1,0) -> 0 | BF53: =IF(Benchmark!$D$17>SUM(BF51+BF49+BF47+BF45+BF43+BF41,BF39,BF37,BF35,BF33),1,0) -> 0 | BL53: =I53*80 -> 0 | BM53: =BU53*E53 -> 0 | BN53: =BL53-BM53 -> 0 | BO53: =BN53/80 -> 0 | BP53: =B54/(80) -> 0 | BQ53: =SUM(SUM(BO53,BP53)) -> 0 | BR53: =A53*0.28 -> 7 | BS53: =D53*A53 -> 0 | BT53: =(BR53+A53)*(D53)*26 -> 0 | BU53: =SUM(SUM(M53:AA53)) -> 0
A55: 25 | B55: =SUM(IF(M54="V",-E54),IF(N54="V",-E54),IF(O54="V",-E54),IF(P54="V",-E54),IF(Q54="V",-E54),IF(R54="V",-E54),IF(S54="V",-E54),IF(U54="V",-E54),IF(V54="V",-E54),IF(W54="V",-E54),IF(X54="V",-E54),IF(Y54="V",-E54),IF(Z54="V",-E54),IF(AA54="V",-E54),IF(M54="H",-E54),IF(N54="H",-E54),IF(O54="H",-E54),IF(P54="H",-E54),IF(Q54="H",-E54),IF(R54="H",-E54),IF(S54="H",-E54),IF(U54="H",-E54),IF(V54="H",-E54),IF(W54="H",-E54),IF(X54="H",-E54),IF(Y54="H",-E54),IF(Z54="H",-E54),IF(AA54="H",-E54)) -> 0 | C55: =SUM(IF(M54="S",-E54),IF(N54="S",-E54),IF(O54="S",-E54),IF(P54="S",-E54),IF(Q54="S",-E54),IF(R54="S",-E54),IF(S54="S",-E54),IF(U54="S",-E54),IF(V54="S",-E54),IF(W54="S",-E54),IF(X54="S",-E54),IF(Y54="S",-E54),IF(Z54="S",-E54),IF(AA54="S",-E54)) -> 0 | D55: =(I55*80)-(K55-(B55+C55)) -> 0 | E55: 12 | G55: RRT | H55: 7a-7:30p | I55: ='Master Pay Period 1'!I55 -> 0 | J55: =BM55/80 -> 0 | K55: =E55*BU55 -> 0 | O55: =IF(Benchmark!$D$17>SUM(O53+O51+O49+O47+O45,O43,O41,O39,O37,O35,O33),1,0) -> 0 | Q55: =IF(Benchmark!$D$17>SUM(Q53+Q51+Q49+Q47+Q45,Q43,Q41,Q39,Q37,Q35,Q33),1,0) -> 0 | R55: =IF(Benchmark!$D$17>SUM(R53+R51+R49+R47+R45,R43,R41,R39,R37,R35,R33),1,0) -> 0 | V55: =IF(Benchmark!$D$17>SUM(V53+V51+V49+V47+V45,V43,V41,V39,V37,V35,V33),1,0) -> 0 | W55: =IF(Benchmark!$D$17>SUM(W53+W51+W49+W47+W45,W43,W41,W39,W37,W35,W33),1,0) -> 0 | AA55: =IF(Benchmark!$B$17>SUM(AA53+AA51+AA49+AA47+AA45+AA43+AA41+AA39+AA37+AA35+AA33),1,0) -> 0 | AC55: =IF(Benchmark!$B$17>SUM(AC53+AC51+AC49+AC47+AC45+AC43+AC41+AC39+AC37+AC35+AC33),1,0) -> 0 | AF55: =IF(Benchmark!$D$17>SUM(AF53+AF51+AF49+AF47+AF45,AF43,AF41,AF39,AF37,AF35,AF33),1,0) -> 0 | AH55: =IF(Benchmark!$D$17>SUM(AH53+AH51+AH49+AH47+AH45,AH43,AH41,AH39,AH37,AH35,AH33),1,0) -> 0 | AM55: =IF(Benchmark!$D$17>SUM(AM53+AM51+AM49+AM47+AM45,AM43,AM41,AM39,AM37,AM35,AM33),1,0) -> 0 | AN55: =IF(Benchmark!$D$17>SUM(AN53+AN51+AN49+AN47+AN45,AN43,AN41,AN39,AN37,AN35,AN33),1,0) -> 0 | AP55: =IF(Benchmark!$D$17>SUM(AP53+AP51+AP49+AP47+AP45,AP43,AP41,AP39,AP37,AP35,AP33),1,0) -> 0 | AU55: =IF(Benchmark!$D$17>SUM(AU53+AU51+AU49+AU47+AU45,AU43,AU41,AU39,AU37,AU35,AU33),1,0) -> 0 | AV55: =IF(Benchmark!$D$17>SUM(AV53+AV51+AV49+AV47+AV45,AV43,AV41,AV39,AV37,AV35,AV33),1,0) -> 0 | AY55: =IF(Benchmark!$B$17>SUM(AY53+AY51+AY49+AY47+AY45,AY43,AY41,AY39,AY37,AY35,AY33),1,0) -> 0 | BA55: =IF(Benchmark!$B$17>SUM(BA53+BA51+BA49+BA47+BA45,BA43,BA41,BA39,BA37,BA35,BA33),1,0) -> 0 | BD55: =IF(Benchmark!$D$17>SUM(BD53+BD51+BD49+BD47+BD45,BD43,BD41,BD39,BD37,BD35,BD33),1,0) -> 0 | BE55: =IF(Benchmark!$D$17>SUM(BE53+BE51+BE49+BE47+BE45,BE43,BE41,BE39,BE37,BE35,BE33),1,0) -> 0 | BL55: =I55*80 -> 0 | BM55: =BU55*E55 -> 0 | BN55: =BL55-BM55 -> 0 | BO55: =BN55/80 -> 0 | BP55: =B56/(80) -> 0 | BQ55: =SUM(SUM(BO55,BP55)) -> 0 | BR55: =A55*0.28 -> 7 | BS55: =D55*A55 -> 0 | BT55: =(BR55+A55)*(D55)*26 -> 0 | BU55: =SUM(SUM(M55:AA55)) -> 0
A57: 25 | B57: =SUM(IF(M56="V",-E56),IF(N56="V",-E56),IF(O56="V",-E56),IF(P56="V",-E56),IF(Q56="V",-E56),IF(R56="V",-E56),IF(S56="V",-E56),IF(U56="V",-E56),IF(V56="V",-E56),IF(W56="V",-E56),IF(X56="V",-E56),IF(Y56="V",-E56),IF(Z56="V",-E56),IF(AA56="V",-E56),IF(M56="H",-E56),IF(N56="H",-E56),IF(O56="H",-E56),IF(P56="H",-E56),IF(Q56="H",-E56),IF(R56="H",-E56),IF(S56="H",-E56),IF(U56="H",-E56),IF(V56="H",-E56),IF(W56="H",-E56),IF(X56="H",-E56),IF(Y56="H",-E56),IF(Z56="H",-E56),IF(AA56="H",-E56)) -> 0 | C57: =SUM(IF(M56="S",-E56),IF(N56="S",-E56),IF(O56="S",-E56),IF(P56="S",-E56),IF(Q56="S",-E56),IF(R56="S",-E56),IF(S56="S",-E56),IF(U56="S",-E56),IF(V56="S",-E56),IF(W56="S",-E56),IF(X56="S",-E56),IF(Y56="S",-E56),IF(Z56="S",-E56),IF(AA56="S",-E56)) -> 0 | D57: =(I57*80)-(K57-(B57+C57)) -> 0 | E57: 12 | G57: RRT | H57: 7a-7:30p | I57: ='Master Pay Period 1'!I57 -> 0 | J57: =BM57/80 -> 0 | K57: =E57*BU57 -> 0 | M57: =IF(Benchmark!$B$17>SUM(M55+M53+M51+M49+M47+M45+M43+M41+M39+M37+M35+M33),1,0) -> 0 | O57: =IF(Benchmark!$D$17>SUM(O55+O53+O51+O49+O47,O45,O43,O41,O39,O37,O35,O33),1,0) -> 0 | Z57: =IF(Benchmark!$D$17>SUM(Z55+Z53+Z51+Z49+Z47,Z45,Z43,Z41,Z39,Z37,Z35,Z33),1,0) -> 0 | AE57: =IF(Benchmark!$D$17>SUM(AE55+AE53+AE51+AE49+AE47,AE45,AE43,AE41,AE39,AE37,AE35,AE33),1,0) -> 0 | AI57: =IF(Benchmark!$B$17>SUM(AI55+AI53+AI51+AI49+AI47+AI45+AI43+AI41+AI39+AI37+AI35+AI33),1,0) -> 0 | AK57: =IF(Benchmark!$B$17>SUM(AK55+AK53+AK51+AK49+AK47+AK45+AK43+AK41+AK39+AK37+AK35+AK33),1,0) -> 0 | AT57: =IF(Benchmark!$D$17>SUM(AT55+AT53+AT51+AT49+AT47,AT45,AT43,AT41,AT39,AT37,AT35,AT33),1,0) -> 0 | BC57: =IF(Benchmark!$D$17>SUM(BC55+BC53+BC51+BC49+BC47,BC45,BC43,BC41,BC39,BC37,BC35,BC33),1,0) -> 0 | BG57: =IF(Benchmark!$B$17>SUM(BG55+BG53+BG51+BG49+BG47+BG45+BG43+BG41+BG39+BG37+BG35+BG33),1,0) -> 0 | BL57: =I57*80 -> 0 | BM57: =BU57*E57 -> 0 | BN57: =BL57-BM57 -> 0 | BO57: =BN57/80 -> 0 | BP57: =B58/(80) -> 0 | BQ57: =SUM(SUM(BO57,BP57)) -> 0 | BR57: =A57*0.28 -> 7 | BS57: =D57*A57 -> 0 | BT57: =(BR57+A57)*(D57)*26 -> 0 | BU57: =SUM(SUM(M57:AA57)) -> 0
A59: 25 | B59: =SUM(IF(M58="V",-E58),IF(N58="V",-E58),IF(O58="V",-E58),IF(P58="V",-E58),IF(Q58="V",-E58),IF(R58="V",-E58),IF(S58="V",-E58),IF(U58="V",-E58),IF(V58="V",-E58),IF(W58="V",-E58),IF(X58="V",-E58),IF(Y58="V",-E58),IF(Z58="V",-E58),IF(AA58="V",-E58),IF(M58="H",-E58),IF(N58="H",-E58),IF(O58="H",-E58),IF(P58="H",-E58),IF(Q58="H",-E58),IF(R58="H",-E58),IF(S58="H",-E58),IF(U58="H",-E58),IF(V58="H",-E58),IF(W58="H",-E58),IF(X58="H",-E58),IF(Y58="H",-E58),IF(Z58="H",-E58),IF(AA58="H",-E58)) -> 0 | C59: =SUM(IF(M58="S",-E58),IF(N58="S",-E58),IF(O58="S",-E58),IF(P58="S",-E58),IF(Q58="S",-E58),IF(R58="S",-E58),IF(S58="S",-E58),IF(U58="S",-E58),IF(V58="S",-E58),IF(W58="S",-E58),IF(X58="S",-E58),IF(Y58="S",-E58),IF(Z58="S",-E58),IF(AA58="S",-E58)) -> 0 | D59: =(I59*80)-(K59-(B59+C59)) -> 0 | E59: 12 | G59: RRT | H59: 7a-7:30p | I59: ='Master Pay Period 1'!I59 -> 0 | J59: =BM59/80 -> 0 | K59: =E59*BU59 -> 0 | N59: =IF(Benchmark!$D$17>SUM(N57+N55+N53+N51+N49+N47,N45,N43,N41,N39,N37,N35,N33),1,0) -> 0 | S59: =IF(Benchmark!$B$17>SUM(S57+S55+S53+S51+S49+S47+S45+S43+S41+S39,S37,S35,S33),1,0) -> 0 | U59: =IF(Benchmark!$B$17>SUM(U57+U55+U53+U51+U49+U47+U45+U43+U41+U39,U37,U35,U33),1,0) -> 0 | AF59: =IF(Benchmark!$D$17>SUM(AF57+AF55+AF53+AF51+AF49+AF47,AF45,AF43,AF41,AF39,AF37,AF35,AF33),1,0) -> 0 | AL59: =IF(Benchmark!$D$17>SUM(AL57+AL55+AL53+AL51+AL49+AL47,AL45,AL43,AL41,AL39,AL37,AL35,AL33),1,0) -> 0 | AQ59: =IF(Benchmark!$B$17>SUM(AQ57+AQ55+AQ53+AQ51+AQ49+AQ47+AQ45+AQ43+AQ41+AQ39+AQ37+AQ35+AQ33),1,0) -> 0 | AS59: =IF(Benchmark!$B$17>SUM(AS57+AS55+AS53+AS51+AS49+AS47+AS45+AS43+AS41+AS39+AS37+AS35+AS33),1,0) -> 0 | AX59: =IF(Benchmark!$D$17>SUM(AX57+AX55+AX53+AX51+AX49+AX47,AX45,AX43,AX41,AX39,AX37,AX35,AX33),1,0) -> 0 | BE59: =IF(Benchmark!$D$17>SUM(BE57+BE55+BE53+BE51+BE49+BE47,BE45,BE43,BE41,BE39,BE37,BE35,BE33),1,0) -> 0 | BL59: =I59*80 -> 0 | BM59: =BU59*E59 -> 0 | BN59: =BL59-BM59 -> 0 | BO59: =BN59/80 -> 0 | BP59: =B60/(80) -> 0 | BQ59: =SUM(SUM(BO59,BP59)) -> 0 | BR59: =A59*0.28 -> 7 | BS59: =D59*A59 -> 0 | BT59: =(BR59+A59)*(D59)*26 -> 0 | BU59: =SUM(SUM(M59:AA59)) -> 0
A61: 25 | B61: =SUM(IF(M60="V",-E60),IF(N60="V",-E60),IF(O60="V",-E60),IF(P60="V",-E60),IF(Q60="V",-E60),IF(R60="V",-E60),IF(S60="V",-E60),IF(U60="V",-E60),IF(V60="V",-E60),IF(W60="V",-E60),IF(X60="V",-E60),IF(Y60="V",-E60),IF(Z60="V",-E60),IF(AA60="V",-E60),IF(M60="H",-E60),IF(N60="H",-E60),IF(O60="H",-E60),IF(P60="H",-E60),IF(Q60="H",-E60),IF(R60="H",-E60),IF(S60="H",-E60),IF(U60="H",-E60),IF(V60="H",-E60),IF(W60="H",-E60),IF(X60="H",-E60),IF(Y60="H",-E60),IF(Z60="H",-E60),IF(AA60="H",-E60)) -> 0 | C61: =SUM(IF(M60="S",-E60),IF(N60="S",-E60),IF(O60="S",-E60),IF(P60="S",-E60),IF(Q60="S",-E60),IF(R60="S",-E60),IF(S60="S",-E60),IF(U60="S",-E60),IF(V60="S",-E60),IF(W60="S",-E60),IF(X60="S",-E60),IF(Y60="S",-E60),IF(Z60="S",-E60),IF(AA60="S",-E60)) -> 0 | D61: =(I61*80)-(K61-(B61+C61)) -> 0 | E61: 12 | G61: RRT | H61: 7a-7:30p | I61: ='Master Pay Period 1'!I61 -> 0 | J61: =BM61/80 -> 0 | K61: =E61*BU61 -> 0 | Q61: =IF(Benchmark!$D$17>SUM(Q59+Q57+Q55+Q53+Q51,Q49,Q47,Q45,Q43,Q41,Q39,Q37,Q35,Q33),1,0) -> 0 | Y61: =IF(Benchmark!$D$17>SUM(Y59+Y57+Y55+Y53+Y51,Y49,Y47,Y45,Y43,Y41,Y39,Y37,Y35,Y33),1,0) -> 0 | AA61: =IF(Benchmark!$B$17>SUM(AA59+AA57+AA55+AA53+AA51+AA49+AA47+AA45+AA43+AA41+AA39,AA37,AA35,AA33),1,0) -> 0 | AC61: =IF(Benchmark!$B$17>SUM(AC59+AC57+AC55+AC53+AC51+AC49+AC47+AC45+AC43+AC41+AC39+AC37+AC35+AC33),1,0) -> 0 | AM61: =IF(Benchmark!$D$17>SUM(AM59+AM57+AM55+AM53+AM51,AM49,AM47,AM45,AM43,AM41,AM39,AM37,AM35,AM33),1,0) -> 0 | AO61: =IF(Benchmark!$D$17>SUM(AO59+AO57+AO55+AO53+AO51,AO49,AO47,AO45,AO43,AO41,AO39,AO37,AO35,AO33),1,0) -> 0 | AY61: =IF(Benchmark!$B$17>SUM(AY59+AY57+AY55+AY53+AY51+AY49+AY47+AY45+AY43+AY41+AY39+AY37+AY35+AY33),1,0) -> 0 | BA61: =IF(Benchmark!$B$17>SUM(BA59+BA57+BA55+BA53+BA51+BA49+BA47+BA45+BA43+BA41+BA39+BA37+BA35+BA33),1,0) -> 0 | BF61: =IF(Benchmark!$D$17>SUM(BF59+BF57+BF55+BF53+BF51,BF49,BF47,BF45,BF43,BF41,BF39,BF37,BF35,BF33),1,0) -> 0 | BL61: =I61*80 -> 0 | BM61: =BU61*E61 -> 0 | BN61: =BL61-BM61 -> 0 | BO61: =BN61/80 -> 0 | BP61: =B62/(80) -> 0 | BQ61: =SUM(SUM(BO61,BP61)) -> 0 | BR61: =A61*0.28 -> 7 | BS61: =D61*A61 -> 0 | BT61: =(BR61+A61)*(D61)*26 -> 0 | BU61: =SUM(SUM(M61:AA61)) -> 0
A64: 25 | B64: =SUM(IF(M63="V",-E63),IF(N63="V",-E63),IF(O63="V",-E63),IF(P63="V",-E63),IF(Q63="V",-E63),IF(R63="V",-E63),IF(S63="V",-E63),IF(U63="V",-E63),IF(V63="V",-E63),IF(W63="V",-E63),IF(X63="V",-E63),IF(Y63="V",-E63),IF(Z63="V",-E63),IF(AA63="V",-E63),IF(M63="H",-E63),IF(N63="H",-E63),IF(O63="H",-E63),IF(P63="H",-E63),IF(Q63="H",-E63),IF(R63="H",-E63),IF(S63="H",-E63),IF(U63="H",-E63),IF(V63="H",-E63),IF(W63="H",-E63),IF(X63="H",-E63),IF(Y63="H",-E63),IF(Z63="H",-E63),IF(AA63="H",-E63)) -> 0 | C64: =SUM(IF(M63="S",-E63),IF(N63="S",-E63),IF(O63="S",-E63),IF(P63="S",-E63),IF(Q63="S",-E63),IF(R63="S",-E63),IF(S63="S",-E63),IF(U63="S",-E63),IF(V63="S",-E63),IF(W63="S",-E63),IF(X63="S",-E63),IF(Y63="S",-E63),IF(Z63="S",-E63),IF(AA63="S",-E63)) -> 0 | D64: =(I64*80)-(K64-(B64+C64)) -> 0 | E64: 8 | G64: RRT | H64: 11a-7:30p | I64: ='Master Pay Period 1'!I64 -> 0 | J64: =BM64/80 -> 0 | K64: =E64*BU64 -> 0 | BL64: =I64*80 -> 0 | BM64: =BU64*E64 -> 0 | BN64: =BL64-BM64 -> 0 | BO64: =BN64/80 -> 0 | BP64: =B65/(80) -> 0 | BQ64: =SUM(SUM(BO64,BP64)) -> 0 | BR64: =A64*0.28 -> 7 | BS64: =D64*A64 -> 0 | BT64: =(BR64+A64)*(D64)*26 -> 0 | BU64: =SUM(SUM(M64:AA64)) -> 0
A67: 25 | B67: =SUM(IF(M66="V",-E66),IF(N66="V",-E66),IF(O66="V",-E66),IF(P66="V",-E66),IF(Q66="V",-E66),IF(R66="V",-E66),IF(S66="V",-E66),IF(U66="V",-E66),IF(V66="V",-E66),IF(W66="V",-E66),IF(X66="V",-E66),IF(Y66="V",-E66),IF(Z66="V",-E66),IF(AA66="V",-E66),IF(M66="H",-E66),IF(N66="H",-E66),IF(O66="H",-E66),IF(P66="H",-E66),IF(Q66="H",-E66),IF(R66="H",-E66),IF(S66="H",-E66),IF(U66="H",-E66),IF(V66="H",-E66),IF(W66="H",-E66),IF(X66="H",-E66),IF(Y66="H",-E66),IF(Z66="H",-E66),IF(AA66="H",-E66)) -> 0 | C67: =SUM(IF(M66="S",-E66),IF(N66="S",-E66),IF(O66="S",-E66),IF(P66="S",-E66),IF(Q66="S",-E66),IF(R66="S",-E66),IF(S66="S",-E66),IF(U66="S",-E66),IF(V66="S",-E66),IF(W66="S",-E66),IF(X66="S",-E66),IF(Y66="S",-E66),IF(Z66="S",-E66),IF(AA66="S",-E66)) -> 0 | D67: =(I67*80)-(K67-(B67+C67)) -> 0 | E67: 12 | G67: RRT | H67: 11a-11:30p | I67: ='Master Pay Period 1'!I67 -> 0 | J67: =BM67/80 -> 0 | K67: =E67*BU67 -> 0 | BL67: =I67*80 -> 0 | BM67: =BU67*E67 -> 0 | BN67: =BL67-BM67 -> 0 | BO67: =BN67/80 -> 0 | BP67: =B68/(80) -> 0 | BQ67: =SUM(SUM(BO67,BP67)) -> 0 | BR67: =A67*0.28 -> 7 | BS67: =D67*A67 -> 0 | BT67: =(BR67+A67)*(D67)*26 -> 0 | BU67: =SUM(SUM(M67:AA67)) -> 0
A69: 25 | B69: =SUM(IF(M68="V",-E68),IF(N68="V",-E68),IF(O68="V",-E68),IF(P68="V",-E68),IF(Q68="V",-E68),IF(R68="V",-E68),IF(S68="V",-E68),IF(U68="V",-E68),IF(V68="V",-E68),IF(W68="V",-E68),IF(X68="V",-E68),IF(Y68="V",-E68),IF(Z68="V",-E68),IF(AA68="V",-E68),IF(M68="H",-E68),IF(N68="H",-E68),IF(O68="H",-E68),IF(P68="H",-E68),IF(Q68="H",-E68),IF(R68="H",-E68),IF(S68="H",-E68),IF(U68="H",-E68),IF(V68="H",-E68),IF(W68="H",-E68),IF(X68="H",-E68),IF(Y68="H",-E68),IF(Z68="H",-E68),IF(AA68="H",-E68)) -> 0 | C69: =SUM(IF(M68="S",-E68),IF(N68="S",-E68),IF(O68="S",-E68),IF(P68="S",-E68),IF(Q68="S",-E68),IF(R68="S",-E68),IF(S68="S",-E68),IF(U68="S",-E68),IF(V68="S",-E68),IF(W68="S",-E68),IF(X68="S",-E68),IF(Y68="S",-E68),IF(Z68="S",-E68),IF(AA68="S",-E68)) -> 0 | D69: =(I69*80)-(K69-(B69+C69)) -> 0 | E69: 12 | G69: RRT | H69: 11a-11:30p | I69: ='Master Pay Period 1'!I69 -> 0 | J69: =BM69/80 -> 0 | K69: =E69*BU69 -> 0 | BL69: =I69*80 -> 0 | BM69: =BU69*E69 -> 0 | BN69: =BL69-BM69 -> 0 | BO69: =BN69/80 -> 0 | BP69: =B70/(80) -> 0 | BQ69: =SUM(SUM(BO69,BP69)) -> 0 | BR69: =A69*0.28 -> 7 | BS69: =D69*A69 -> 0 | BT69: =(BR69+A69)*(D69)*26 -> 0 | BU69: =SUM(SUM(M69:AA69)) -> 0
A72: 8 | B72: =SUM(IF(M71="V",-E71),IF(N71="V",-E71),IF(O71="V",-E71),IF(P71="V",-E71),IF(Q71="V",-E71),IF(R71="V",-E71),IF(S71="V",-E71),IF(U71="V",-E71),IF(V71="V",-E71),IF(W71="V",-E71),IF(X71="V",-E71),IF(Y71="V",-E71),IF(Z71="V",-E71),IF(AA71="V",-E71),IF(M71="H",-E71),IF(N71="H",-E71),IF(O71="H",-E71),IF(P71="H",-E71),IF(Q71="H",-E71),IF(R71="H",-E71),IF(S71="H",-E71),IF(U71="H",-E71),IF(V71="H",-E71),IF(W71="H",-E71),IF(X71="H",-E71),IF(Y71="H",-E71),IF(Z71="H",-E71),IF(AA71="H",-E71)) -> 0 | C72: =SUM(IF(M71="S",-E71),IF(N71="S",-E71),IF(O71="S",-E71),IF(P71="S",-E71),IF(Q71="S",-E71),IF(R71="S",-E71),IF(S71="S",-E71),IF(U71="S",-E71),IF(V71="S",-E71),IF(W71="S",-E71),IF(X71="S",-E71),IF(Y71="S",-E71),IF(Z71="S",-E71),IF(AA71="S",-E71)) -> 0 | D72: =(I72*80)-(K72-(B72+C72)) -> 0 | E72: 5 | G72: Intern | H72: 5p-10p | I72: ='Master Pay Period 1'!I72 -> 0 | J72: =BM72/80 -> 0 | K72: =E72*BU72 -> 0 | BL72: =I72*80 -> 0 | BM72: =BU72*E72 -> 0 | BN72: =BL72-BM72 -> 0 | BO72: =BN72/80 -> 0 | BP72: =B73/(80) -> 0 | BQ72: =SUM(SUM(BO72,BP72)) -> 0 | BR72: =A72*0.28 -> 2.24 | BS72: =D72*A72 -> 0 | BT72: =(BR72+A72)*(D72)*26 -> 0 | BU72: =SUM(SUM(M72:AA72)) -> 0
A74: 14.2 | B74: =SUM(IF(M73="V",-E73),IF(N73="V",-E73),IF(O73="V",-E73),IF(P73="V",-E73),IF(Q73="V",-E73),IF(R73="V",-E73),IF(S73="V",-E73),IF(U73="V",-E73),IF(V73="V",-E73),IF(W73="V",-E73),IF(X73="V",-E73),IF(Y73="V",-E73),IF(Z73="V",-E73),IF(AA73="V",-E73),IF(M73="H",-E73),IF(N73="H",-E73),IF(O73="H",-E73),IF(P73="H",-E73),IF(Q73="H",-E73),IF(R73="H",-E73),IF(S73="H",-E73),IF(U73="H",-E73),IF(V73="H",-E73),IF(W73="H",-E73),IF(X73="H",-E73),IF(Y73="H",-E73),IF(Z73="H",-E73),IF(AA73="H",-E73)) -> 0 | C74: =SUM(IF(M73="S",-E73),IF(N73="S",-E73),IF(O73="S",-E73),IF(P73="S",-E73),IF(Q73="S",-E73),IF(R73="S",-E73),IF(S73="S",-E73),IF(U73="S",-E73),IF(V73="S",-E73),IF(W73="S",-E73),IF(X73="S",-E73),IF(Y73="S",-E73),IF(Z73="S",-E73),IF(AA73="S",-E73)) -> 0 | D74: =(I74*80)-(K74-(B74+C74)) -> 0 | E74: 5 | G74: Student | H74: 5p-10p | I74: ='Master Pay Period 1'!I74 -> 0 | J74: =BM74/80 -> 0 | K74: =E74*BU74 -> 0 | BL74: =I74*80 -> 0 | BM74: =BU74*E74 -> 0 | BN74: =BL74-BM74 -> 0 | BO74: =BN74/80 -> 0 | BP74: =B75/(80) -> 0 | BQ74: =SUM(SUM(BO74,BP74)) -> 0 | BR74: =A74*0.28 -> 3.976 | BS74: =D74*A74 -> 0 | BT74: =(BR74+A74)*(D74)*26 -> 0 | BU74: =SUM(SUM(M74:AA74)) -> 0
...

Sheet Master Pay Period 1
