Workbook

Sheet Epact&Moon
E2: Epact&Moon ®
E4: mailto:arck-a.borghini@libero.it | J4: by “ab Solutions”
D5: giorno | E5: mese | F5: anno
C6: Inserisci la data >>> | D6: 25 | E6: 6 | F6: 2088 | I6: data di Pasqua con L'Epatta ed il Nº d'oro | L6: =Calcoli!N5 -> 68769
I7: data di Pasqua con la formula “Domenica.di.Pasqua(anno)“ | M7: =_xlfn.ORG.OPENOFFICE.EASTERSUNDAY(F6) -> 68769
B8: in data | C8: =DATE(F6,E6,D6) -> 68844 | D8: la fase della Luna é: | F8: =Calcoli!J5 -> Luna crescente
C9: Epatta
B10: =IF(Calcoli!I5=0,"*","") | C10: 0 | D10: =IF(B10="","","Luna nuova") | I10: Quello dell'Epatta é un antico metodo ecclesiastico per calcolare la domenica di Pasqua e, dato che esso é legato al Plenilunio di Marzo, anche le varie fasi lunari durante l'anno. Un metodo antico ma pur sempre valido, anche se approssimativo (max 1 o 2 GG di errore) e ormai superato dai precisi algoritmi elaborati da alcuni matematici ed astronomi nel corso degli ultimi due secoli (1800 e 1900).
B12: =IF(Calcoli!I5=1,"*","") | C12: =C10+1 -> 1 | D12: =IF(B12="","","Luna crescente")
B13: =IF(Calcoli!I5=2,"*","") | C13: =C12+1 -> 2 | D13: =IF(B13="","","Luna crescente")
B14: =IF(Calcoli!I5=3,"*","") | C14: =C13+1 -> 3 | D14: =IF(B14="","","Luna crescente") | F14: Luna crescente | I14: The Epact is an ancient ecclesiastical method for calculating Easter Sunday and, since it is linked to the March full moon, also the various moon phases throughout the year. An ancient method but still valid, even if approximate (max. 1 or 2 GG of error) and now overcome by the precise algorithms developed by some mathematicians and astronomers over the last two centuries (1800 and 1900).
B15: =IF(Calcoli!I5=4,"*","") | C15: =C14+1 -> 4 | D15: =IF(B15="","","Luna crescente")
B16: =IF(Calcoli!I5=5,"*","") -> * | C16: =C15+1 -> 5 | D16: =IF(B16="","","Luna crescente") -> Luna crescente
B17: =IF(Calcoli!I5=6,"*","") | C17: =C16+1 -> 6 | D17: =IF(B17="","","Luna crescente")
B18: =IF(Calcoli!I5=7 OR (Calcoli!I5=8),"*","") | C18: =C17+1 -> 7 | D18: =IF(B18="","","Primo quarto")
C19: =C18+1 -> 8 | I19: Il presente template, elaborato a semplice scopo esemplificativo, utilizza il sopracitato metodo dell'Epatta (e relativo numero d'oro) ed é stato appositamente predisposto per effettuare sia il calcolo della fasi lunari che per determinare il giorno di Pasqua, però solo ed esclusivamente (per ovvi motivi pratici) nell'arco temporale che va dall'anno 1900 sino al 2199 (compresi).
B20: =IF(Calcoli!I5=9,"*","") | C20: =C19+1 -> 9 | D20: =IF(B20="","","Luna crescente")
B21: =IF(Calcoli!I5=10,"*","") | C21: =C20+1 -> 10 | D21: =IF(B21="","","Luna crescente")
B22: =IF(Calcoli!I5=11,"*","") | C22: =C21+1 -> 11 | D22: =IF(B22="","","Luna crescente")
B23: =IF(Calcoli!I5=12,"*","") | C23: =C22+1 -> 12 | D23: =IF(B23="","","Luna crescente") | I23: This template, which has been elaborated for illustration purposes only, uses the above-mentioned method of the Epact (and its relative golden number) and has been specially preparedto carry out both the lunar phase calculation and to determine the day of Easter, however, only and exclusively (for obvious practical reasons) in the time span ranging from 1900 to 2199 (inclusive).
B24: =IF(Calcoli!I5=13,"*","") | C24: =C23+1 -> 13 | D24: =IF(B24="","","Luna crescente")
B25: =IF(Calcoli!I5=14,"*","") | C25: =C24+1 -> 14 | D25: =IF(B25="","","Luna crescente")
B26: =IF(Calcoli!I5=15,"*","") | C26: =C25+1 -> 15 | D26: =IF(B26="","","Luna piena")
B28: =IF(Calcoli!I5=16,"*","") | C28: =C26+1 -> 16 | D28: =IF(B28="","","Luna calante")
B29: =IF(Calcoli!I5=17,"*","") | C29: =C28+1 -> 17 | D29: =IF(B29="","","Luna calante")
B30: =IF(Calcoli!I5=18,"*","") | C30: =C29+1 -> 18 | D30: =IF(B30="","","Luna calante") | F30: Luna calante
B31: =IF(Calcoli!I5=19,"*","") | C31: =C30+1 -> 19 | D31: =IF(B31="","","Luna calante")
B32: =IF(Calcoli!I5=20,"*","") | C32: =C31+1 -> 20 | D32: =IF(B32="","","Luna calante")
B33: =IF(Calcoli!I5=21,"*","") | C33: =C32+1 -> 21 | D33: =IF(B33="","","Luna calante")
B34: =IF(Calcoli!I5=22 OR (Calcoli!I5=23),"*","") | C34: =C33+1 -> 22 | D34: =IF(B34="","","Ultimo quarto")
C35: =C34+1 -> 23
B36: =IF(Calcoli!I5=24,"*","") | C36: =C35+1 -> 24 | D36: =IF(B36="","","Luna calante")
B37: =IF(Calcoli!I5=25,"*","") | C37: =C36+1 -> 25 | D37: =IF(B37="","","Luna calante")
B38: =IF(Calcoli!I5=26,"*","") | C38: =C37+1 -> 26 | D38: =IF(B38="","","Luna calante")
B39: =IF(Calcoli!I5=27,"*","") | C39: =C38+1 -> 27 | D39: =IF(B39="","","Luna calante")
B40: =IF(Calcoli!I5=28,"*","") | C40: =C39+1 -> 28 | D40: =IF(B40="","","Luna calante")
B41: =IF(Calcoli!I5=29,"*","") | C41: =C40+1 -> 29 | D41: =IF(B41="","","Luna calante")
D43: =IF(B43="","","Luna calante")
D44: =IF(B44="","","Luna calante")

Sheet Calcoli
B2: Anno | C2: Nº d'oro | D2: Epatta | J2: D a t a | M2: Epatta | N2: Capo mese | O2: Nº d'oro | P2: Epatta P.
B3: 1900 | C3: =MOD(B3,19)+1 -> 1 | D3: =IF(MOD(11*(C3-1) ,30)-1<0,29,MOD(11*(C3-1) ,30)-1) -> 29 | I3: ='Epact&Moon'!D6 -> 25 | J3: ='Epact&Moon'!E6 -> 6 | K3: ='Epact&Moon'!F6 -> 2088 | M3: =IF(J3=1 OR (J3=2),VLOOKUP(K3-1,B3:D302,3),VLOOKUP(K3,B3:D302,3)) -> 6 | N3: =IF(J3=1,11,IF(J3=2,12,IF(J3=3,1,IF(J3=4,2,IF(J3=5,3,IF(J3=6,4,IF(J3=7,5,IF(J3=8,6,IF(J3=9,7,IF(J3=10,8,IF(J3=11,9,IF(J3=12,10,12)))))))))))) -> 4 | O3: =VLOOKUP(K3,B3:D302,2) -> 18 | P3: =VLOOKUP(K3,B3:D302,3) -> 6
B4: =B3+1 -> 1901 | C4: =MOD(B4,19)+1 -> 2 | D4: =IF(D3+11>=30,D3+11-30,IF(C4=1,D3+11+1,D3+11)) -> 10 | I4: età Luna | J4: Fase lunare
B5: =B4+1 -> 1902 | C5: =MOD(B5,19)+1 -> 3 | D5: =IF(D4+11>=30,D4+11-30,IF(C5=1,D4+11+1,D4+11)) -> 21 | I5: =IF(I3+N3+M3>29 AND (I3+N3+M3<60),(I3+N3+M3)-30,IF(I3+N3+M3>59,(I3+N3+M3)-60,I3+N3+M3)) -> 5 | J5: =IF(I5<=0,"Luna nuova",IF(I5=7 OR (I5=8),"Primo quarto", IF(I5=15,"Luna piena",IF(I5=22 OR (I5=23),"Ultimo quarto",IF(I5>=1 AND (I5<=14),"Luna crescente",IF(I5>=16 AND (I5<= 29),"Luna calante","")))))) -> Luna crescente | L5: data di Pasqua con L'Epatta ed il Nº d'oro: | N5: =IF(WEEKDAY(M7)=1,M7+7,IF(WEEKDAY(M7)=2,M7+6,IF(WEEKDAY(M7)=3,M7+5,IF(WEEKDAY(M7)=4,M7+4,IF(WEEKDAY(M7)=5,M7+3,IF(WEEKDAY(M7)=6,M7+2,M7+1)))))) -> 68769
B6: =B5+1 -> 1903 | C6: =MOD(B6,19)+1 -> 4 | D6: =IF(D5+11>=30,D5+11-30,IF(C6=1,D5+11+1,D5+11)) -> 2 | I6: Giorno Plenilunio | V6: =IF(MOD(K3,4)=0 AND(J3>=3),1,0) -> 1
B7: =B6+1 -> 1904 | C7: =MOD(B7,19)+1 -> 5 | D7: =IF(D6+11>=30,D6+11-30,IF(C7=1,D6+11+1,D6+11)) -> 13 | I7: =IF(30-P3+14>=21,30-P3+14,IF(P3=24 OR ((P3 =25) AND (O3>11) AND (MOD(K3,4)>0)),30-P3+14+29,30-P3+14+30)) -> 38 | J7: data del Plenilunio antecedente la Pasqua: | M7: =IF(I7<=31,DATE(K3,3,I7),DATE(K3,4,I7-31)) -> 68765
B8: =B7+1 -> 1905 | C8: =MOD(B8,19)+1 -> 6 | D8: =IF(D7+11>=30,D7+11-30,IF(C8=1,D7+11+1,D7+11)) -> 24
B9: =B8+1 -> 1906 | C9: =MOD(B9,19)+1 -> 7 | D9: =IF(D8+11>=30,D8+11-30,IF(C9=1,D8+11+1,D8+11)) -> 5
B10: =B9+1 -> 1907 | C10: =MOD(B10,19)+1 -> 8 | D10: =IF(D9+11>=30,D9+11-30,IF(C10=1,D9+11+1,D9+11)) -> 16 | I10: 1 – Calcolo dell'Epatta (valido per il periodo 1900 – 2199)
B11: =B10+1 -> 1908 | C11: =MOD(B11,19)+1 -> 9 | D11: =IF(D10+11>=30,D10+11-30,IF(C11=1,D10+11+1,D10+11)) -> 27 | I11: Per calcolare l'Epatta dell'anno iniziale (1900) si deve innanzitutto partire dal calcolo del Numero d'oro relativo all'anno in oggetto. Esso si determina sommando 1 al resto ottenuto dalla divisione tra l'anno in questione e 19 – Es. anno 1900: Resto di 1900 : 19 = 0 + 1 = 1 Il valore dell'Epatta si ottiene poi sottraendo 1 dal resto della divisione tra il prodotto di 11 per il Nº d'oro - 1 e 30 – Es. Anno 1900: Resto di 11 x (1 – 1) : 30 = 0 - 1 = -1 Qualora detta operazione dia un risultato negativo, così come nel nostro caso, l'Epatta avrà valore = 29, diversamente essa avrebbe invece avuto il valore ottenuto dall'operazione sopra riportata. L'Epatta degli anni successivi si ricava poi sommando 11 all'Epatta dell'anno precedente, con l'avvertenza che qualora detta operazione dia un valore maggiore o eguale a 30 si dovrà sottrarre 30 alla suddetta somma. – Es. Epatta 1901: 29 + 11 = 40 - 30 = 10 Ulteriore eccezione si ha poi quando l'anno in oggetto ha Numero d'oro = 1; in tal caso all'Epatta dell'anno precedente andrà sommato 12 anziché 11 – Es. Anno 1919: Epatta anno precedente (1918) = 17 + 12 = 29 Detta operazione andrà poi ripetuta per tutti gli anni successivi (sino all'anno 2199) N.B. - Da notare come detti valori (Nº d'oro ed Epatta) si ripetano ogni 19 anni
B12: =B11+1 -> 1909 | C12: =MOD(B12,19)+1 -> 10 | D12: =IF(D11+11>=30,D11+11-30,IF(C12=1,D11+11+1,D11+11)) -> 8
B13: =B12+1 -> 1910 | C13: =MOD(B13,19)+1 -> 11 | D13: =IF(D12+11>=30,D12+11-30,IF(C13=1,D12+11+1,D12+11)) -> 19
B14: =B13+1 -> 1911 | C14: =MOD(B14,19)+1 -> 12 | D14: =IF(D13+11>=30,D13+11-30,IF(C14=1,D13+11+1,D13+11)) -> 0
B15: =B14+1 -> 1912 | C15: =MOD(B15,19)+1 -> 13 | D15: =IF(D14+11>=30,D14+11-30,IF(C15=1,D14+11+1,D14+11)) -> 11
B16: =B15+1 -> 1913 | C16: =MOD(B16,19)+1 -> 14 | D16: =IF(D15+11>=30,D15+11-30,IF(C16=1,D15+11+1,D15+11)) -> 22
B17: =B16+1 -> 1914 | C17: =MOD(B17,19)+1 -> 15 | D17: =IF(D16+11>=30,D16+11-30,IF(C17=1,D16+11+1,D16+11)) -> 3
B18: =B17+1 -> 1915 | C18: =MOD(B18,19)+1 -> 16 | D18: =IF(D17+11>=30,D17+11-30,IF(C18=1,D17+11+1,D17+11)) -> 14
B19: =B18+1 -> 1916 | C19: =MOD(B19,19)+1 -> 17 | D19: =IF(D18+11>=30,D18+11-30,IF(C19=1,D18+11+1,D18+11)) -> 25
B20: =B19+1 -> 1917 | C20: =MOD(B20,19)+1 -> 18 | D20: =IF(D19+11>=30,D19+11-30,IF(C20=1,D19+11+1,D19+11)) -> 6
B21: =B20+1 -> 1918 | C21: =MOD(B21,19)+1 -> 19 | D21: =IF(D20+11>=30,D20+11-30,IF(C21=1,D20+11+1,D20+11)) -> 17 | I21: 2 – Calcolo della fasi lunari (valido per il periodo 1900 – 2199)
B22: =B21+1 -> 1919 | C22: =MOD(B22,19)+1 -> 1 | D22: =IF(D21+11>=30,D21+11-30,IF(C22=1,D21+11+1,D21+11)) -> 29 | I22: Va innanzitutto premesso che l'Epatta di ciascun anno (<<< riportate qui a lato) é valida dal 1° Marzo sino al 31 Dicembre dello stesso anno, mentre per i mesi di Gennaio e Febbraio vale l'Epatta dell'anno precedente. Un ulteriore accorgimento, dovrà poi essere adottato nella numerazione progressiva dei vari mesi dell'anno (Capomese), partendo dal Nº 1 per il mese di Marzo dell'anno corrente sino ad arrivare al N° 12 per il mese di Febbraio dell'anno successivo. Passiamo quindi a calcolare l'età della Luna, ossia quanti giorni sono passati da quando é sorta la Luna nuova. Detto calcolo si effettua sommando al numero del giorno sia i relativi valori del Capomese che dell'Epatta. Qualora poi detta somma dovesse dare un valore maggiore di 29 ad essa andrà sottratto 30. – Es. data 14-4-2010: (Giorno=14 + Capomese=2 + Epatta=14) = 30 – 30 = 0 (Luna nuova) LEGENDA: se l'età della luna è = 0 "Luna nuova"; se l'età della luna è = 7 o 8 "Primo quarto"; se l'età della luna è = 15 "Luna piena"; se l'età della luna è =22 o 23 "Ultimo quarto"; se l'età della luna va da 1 a 14 "Luna crescente" e se infine l'età della luna va da 16 a 29 "Luna calante".
B23: =B22+1 -> 1920 | C23: =MOD(B23,19)+1 -> 2 | D23: =IF(D22+11>=30,D22+11-30,IF(C23=1,D22+11+1,D22+11)) -> 10
B24: =B23+1 -> 1921 | C24: =MOD(B24,19)+1 -> 3 | D24: =IF(D23+11>=30,D23+11-30,IF(C24=1,D23+11+1,D23+11)) -> 21
B25: =B24+1 -> 1922 | C25: =MOD(B25,19)+1 -> 4 | D25: =IF(D24+11>=30,D24+11-30,IF(C25=1,D24+11+1,D24+11)) -> 2
B26: =B25+1 -> 1923 | C26: =MOD(B26,19)+1 -> 5 | D26: =IF(D25+11>=30,D25+11-30,IF(C26=1,D25+11+1,D25+11)) -> 13
B27: =B26+1 -> 1924 | C27: =MOD(B27,19)+1 -> 6 | D27: =IF(D26+11>=30,D26+11-30,IF(C27=1,D26+11+1,D26+11)) -> 24
B28: =B27+1 -> 1925 | C28: =MOD(B28,19)+1 -> 7 | D28: =IF(D27+11>=30,D27+11-30,IF(C28=1,D27+11+1,D27+11)) -> 5
B29: =B28+1 -> 1926 | C29: =MOD(B29,19)+1 -> 8 | D29: =IF(D28+11>=30,D28+11-30,IF(C29=1,D28+11+1,D28+11)) -> 16
B30: =B29+1 -> 1927 | C30: =MOD(B30,19)+1 -> 9 | D30: =IF(D29+11>=30,D29+11-30,IF(C30=1,D29+11+1,D29+11)) -> 27 | I30: 3- Calcolo della Domenica di Pasqua (valido per il periodo 1900 – 2199)
B31: =B30+1 -> 1928 | C31: =MOD(B31,19)+1 -> 10 | D31: =IF(D30+11>=30,D30+11-30,IF(C31=1,D30+11+1,D30+11)) -> 8 | I31: Per poter calcolare la data del giorno di Pasqua bisogna prima calcolare la data dell'ultimo plenilunio di Marzo. Detto calcolo si effettua sottraendo a 30 l'Epatta e aggiungendo 14 (i gg. intercorrenti dal novilunio al plenilunio); se tale valore è maggiore o uguale 21 o minore o uguale a 31, quello sarà il giorno del mese di Marzo in cui cade il plenilunio; in caso contrario occorrerà prendere in considerazione il plenilunio successivo sommando altri 30 giorni al valore appena trovato. Tuttavia nel caso in cui l'Epatta sia uguale a 24 (oppure a 25 e contemporaneamente il relativo Numero d'oro sia maggiore di 11 – eventualità che comunque non si verificherà mai nell'arco di tempo da noi preso in considerazione: 1900-2199) andranno aggiunti solo 29 giorni anziché 30. – Es. Pasqua 1990: 30 – 3 (Epatta) + 14 = 41 (> 31) - 31 (dato che Marzo ha 31 giorni) = 10, la data del plenilunio antecedente la Pasqua sarà martedì 10 aprile 1990 per cui la Pasqua cadrà la successiva domenica 15 Aprile 1990 – Es. Pasqua 2000: 30 – 24 (Epatta) + 14 = 20 (<21) + 29 = 49 – 31 (dato che Marzo ha 31 giorni) = 18, la data del plenilunio antecedente la Pasqua sarà martedì 18 Aprile 2000 per cui la Pasqua cadrà la successiva domenica 23 Aprile 2000. – Es. Pasqua 2016: 30 – 21 (Epatta) + 14 = 23 (>21 e <31), la data del plenilunio antecedente la Pasqua sarà mercoledì 23 Marzo 2016 per cui la Pasqua cadrà la successiva domenica 27 Marzo 2016.
B32: =B31+1 -> 1929 | C32: =MOD(B32,19)+1 -> 11 | D32: =IF(D31+11>=30,D31+11-30,IF(C32=1,D31+11+1,D31+11)) -> 19
B33: =B32+1 -> 1930 | C33: =MOD(B33,19)+1 -> 12 | D33: =IF(D32+11>=30,D32+11-30,IF(C33=1,D32+11+1,D32+11)) -> 0
B34: =B33+1 -> 1931 | C34: =MOD(B34,19)+1 -> 13 | D34: =IF(D33+11>=30,D33+11-30,IF(C34=1,D33+11+1,D33+11)) -> 11
B35: =B34+1 -> 1932 | C35: =MOD(B35,19)+1 -> 14 | D35: =IF(D34+11>=30,D34+11-30,IF(C35=1,D34+11+1,D34+11)) -> 22
B36: =B35+1 -> 1933 | C36: =MOD(B36,19)+1 -> 15 | D36: =IF(D35+11>=30,D35+11-30,IF(C36=1,D35+11+1,D35+11)) -> 3
B37: =B36+1 -> 1934 | C37: =MOD(B37,19)+1 -> 16 | D37: =IF(D36+11>=30,D36+11-30,IF(C37=1,D36+11+1,D36+11)) -> 14
B38: =B37+1 -> 1935 | C38: =MOD(B38,19)+1 -> 17 | D38: =IF(D37+11>=30,D37+11-30,IF(C38=1,D37+11+1,D37+11)) -> 25
B39: =B38+1 -> 1936 | C39: =MOD(B39,19)+1 -> 18 | D39: =IF(D38+11>=30,D38+11-30,IF(C39=1,D38+11+1,D38+11)) -> 6
B40: =B39+1 -> 1937 | C40: =MOD(B40,19)+1 -> 19 | D40: =IF(D39+11>=30,D39+11-30,IF(C40=1,D39+11+1,D39+11)) -> 17
B41: =B40+1 -> 1938 | C41: =MOD(B41,19)+1 -> 1 | D41: =IF(D40+11>=30,D40+11-30,IF(C41=1,D40+11+1,D40+11)) -> 29
B42: =B41+1 -> 1939 | C42: =MOD(B42,19)+1 -> 2 | D42: =IF(D41+11>=30,D41+11-30,IF(C42=1,D41+11+1,D41+11)) -> 10
B43: =B42+1 -> 1940 | C43: =MOD(B43,19)+1 -> 3 | D43: =IF(D42+11>=30,D42+11-30,IF(C43=1,D42+11+1,D42+11)) -> 21
... B302: =B301+1 -> 2199 | C302: =MOD(B302,19)+1 -> 15 | D302: =IF(D301+11>=30,D301+11-30,IF(C302=1,D301+11+1,D301+11)) -> 3

Sheet Info
H4: Quest'opera è distribuita con LicenzaCreative Commons Attribuzione - Condividi allo stesso modo 4.0 Internazionale.http://creativecommons.org/licenses/by-sa/4.0/ | M4: Quest'opera è distribuita con LicenzaCreative Commons Attribuzione - Condividi allo stesso modo 4.0 Internazionale.http://creativecommons.org/licenses/by-sa/4.0/
B11: Questo modello di foglio elettronico è distribuito con la convinzione che possa essere utile, ma SENZA NESSUNA GARANZIA, IMPLICITA O ESPLICITA, di nessun genere. In nessun caso l'autore potrà essere ritenuto responsabile per qualsiasi danno diretto, indiretto o accidentale dovuto all'uso di questo prodotto, inclusi (ma non limitati a) perdita di beni, dati, profitti o quant'altro. L'USO DI QUESTO MODELLO DI FOGLIO DI CALCOLO COSTITUISCE DI PER SÈ IMPLICITA ACCETTAZIONE DI QUANTO SOPRA, NONCHÉ DEI TERMINI DELLA LICENZA D'USO. | L11: This spreadsheet model is distributed with the belief that it will be useful, but WITHOUT ANY WARRANTY, IMPLIED OR EXPRESS, of any kind. In no event shall the author be liable for any direct, indirect or incidental damages due to the use of this product, including (but not limited to) loss of property, data, profits or whatever. USE OF THIS MODEL SHEET OF CALCULATION IS IN ITSELF IMPLIED ACCEPTANCE OF THE FOREGOING, AND THE TERMS OF THE LICENSE.
C20: Ti piace il mio lavoro ? Pensi che sia utile ? Inviami un email di incoraggiamento, magari per segnalarmi possibili malfunzionamenti, bugs o, meglio ancora, eventuali suggerimenti per migliorare il presente lavoro. | M20: Like my work ? Do you think that it is useful ? Send me an email of encouragement, perhaps to signal me possible malfunctions, bugs or, better yet, any suggestions to improve this work.
K26: per contatti:
J27: mailto:arck-a.borghini@libero.it
B30: Pubblicato in collaborazione con:
B31: http://www.libresoftwareclub.it/
