{"text_format":"3","workbook":"xlsx","n_sheets":3,"sheets":["Game","Scores","Sheet2"],"not_rendered":{"defined_names":17},"read":"whole","date_system":"1900"}

{"sheet":"Game","index":0,"n_rows":1048576,"n_cols":39,"rows_kept":4500,"cut":true,"bounds":{"rows_first":2000,"rows_last":500,"rows_between":2000,"halvings":0}}
[1,2,3,4,5,6,7,8,9,10,11,12,13,14,15,16,17,18,19,20,21,22,23,24,25,26,"x","Level",6,"☻","☻",3,"Kamal",6,37,82,222]
[2,"☻","☻","☻","☻","☻","☻","☻","☻","☻","☻","☻","☻","☻","☻","☻","☻","☻","☻","☻","☻","☻","☻","☻","☻","☻","x",null,null,{"$f":"IF(AC6=\"\",\"\",\"x\")","v":""},1,{"$f":"IF(AM3>=1,IF(AC5>AL3,AM3,0),IF(AC3=\"\",0,MAX(Scores!A4:A250)+1))","v":0},{"$f":"AC6","v":0},{"$f":"AC1","v":6},{"$f":"AC4","v":""},{"$f":"AC3","v":""},{"$f":"AC5","v":""}]
[3,"☻","☻","☻","☻","☻","☻","☻","☻","☻","☻","☻","☻","☻","☻","☻","☻","☻","☻","☻","☻","☻","☻","☻","☻","☻","x","Point",{"$f":"IF(B88=0,\"\",B88)","v":""},"x",2,{"$nulls":6},{"$f":"IF(AL4=30,MIN(Scores!F4:F33),0)","v":0},{"$f":"IF(ISNA(VLOOKUP(AL3,Scores!F4:G33,2,0)),0,VLOOKUP(AL3,Scores!F4:G33,2,0))","v":0}]
[4,"☻","☻","☻","☻","☻","☻","☻","☻","☻","☻","☻","☻","☻","☻","☻","☻","☻","☻","☻","☻","☻","☻","☻","☻","☻","x","Total “x”",{"$f":"IF(SUM(B27:Z27)=0,\"\",SUM(B27:Z27))","v":""},null,3,{"$nulls":6},{"$f":"MAX(Scores!A4:A33)","v":3}]
[5,"☻","☻","☻","☻","☻","☻","☻","☻","☻","☻","☻","☻","☻","☻","☻","☻","☻","☻","☻","☻","☻","☻","☻","☻","☻","x","Score",{"$f":"IF(AC4=\"\",\"\",ROUND(AC3/AC4*100,0))","v":""},null,4]
[6,"☻","☻","☻","☻","☻","☻","☻","☻","☻","☻","☻","☻","☻","☻","☻","☻","☻","☻","☻","☻","☻","☻","☻","☻","☻","x","Name",null,null,5]
[7,"☻","☻","☻","☻","☻","☻","☻","☻","☻","☻","☻","☻","☻","☻","☻","☻","☻","☻","☻","☻","☻","☻","☻","☻","☻","x",{"$nulls":3},6]
[8,"☻","☻","☻","☻","☻","☻","☻","☻","☻","☻","☻","☻","☻","☻","☻","☻","☻","☻","☻","☻","☻","☻","☻","☻","☻","x",{"$nulls":3},7]
[9,"☻","☻","☻","☻","☻","☻","☻","☻","☻","☻","☻","☻","☻","☻","☻","☻","☻","☻","☻","☻","☻","☻","☻","☻","☻","x",{"$nulls":3},8]
[10,"☻","☻","☻","☻","☻","☻","☻","☻","☻","☻","☻","☻","☻","☻","☻","☻","☻","☻","☻","☻","☻","☻","☻","☻","☻","x",null,"Ctrl + 0",null,9]
[11,"☻","☻","☻","☻","☻","☻","☻","☻","☻","☻","☻","☻","☻","☻","☻","☻","☻","☻","☻","☻","☻","☻","☻","☻","☻","x",{"$nulls":3},10]
[12,"☻","☻","☻","☻","☻","☻","☻","☻","☻","☻","☻","☻","☻","☻","☻","☻","☻","☻","☻","☻","☻","☻","☻","☻","☻","x",null,"Write “x” on the cells",null,11]
[13,"☻","☻","☻","☻","☻","☻","☻","☻","☻","☻","☻","☻","☻","☻","☻","☻","☻","☻","☻","☻","☻","☻","☻","☻","☻","x",{"$nulls":3},12]
[14,"☻","☻","☻","☻","☻","☻","☻","☻","☻","☻","☻","☻","☻","☻","☻","☻","☻","☻","☻","☻","☻","☻","☻","☻","☻","x",{"$nulls":3},13]
[15,"☻","☻","☻","☻","☻","☻","☻","☻","☻","☻","☻","☻","☻","☻","☻","☻","☻","☻","☻","☻","☻","☻","☻","☻","☻","x",{"$nulls":3},14]
[16,"☻","☻","☻","☻","☻","☻","☻","☻","☻","☻","☻","☻","☻","☻","☻","☻","☻","☻","☻","☻","☻","☻","☻","☻","☻","x",{"$nulls":3},15]
[17,"☻","☻","☻","☻","☻","☻","☻","☻","☻","☻","☻","☻","☻","☻","☻","☻","☻","☻","☻","☻","☻","☻","☻","☻","☻","x"]
[18,"☻","☻","☻","☻","☻","☻","☻","☻","☻","☻","☻","☻","☻","☻","☻","☻","☻","☻","☻","☻","☻","☻","☻","☻","☻","x"]
[19,"☻","☻","☻","☻","☻","☻","☻","☻","☻","☻","☻","☻","☻","☻","☻","☻","☻","☻","☻","☻","☻","☻","☻","☻","☻","x"]
[20,"☻","☻","☻","☻","☻","☻","☻","☻","☻","☻","☻","☻","☻","☻","☻","☻","☻","☻","☻","☻","☻","☻","☻","☻","☻","x"]
[21,"☻","☻","☻","☻","☻","☻","☻","☻","☻","☻","☻","☻","☻","☻","☻","☻","☻","☻","☻","☻","☻","☻","☻","☻","☻","x"]
[22,"☻","☻","☻","☻","☻","☻","☻","☻","☻","☻","☻","☻","☻","☻","☻","☻","☻","☻","☻","☻","☻","☻","☻","☻","☻","x"]
[23,"☻","☻","☻","☻","☻","☻","☻","☻","☻","☻","☻","☻","☻","☻","☻","☻","☻","☻","☻","☻","☻","☻","☻","☻","☻","x"]
[24,"☻","☻","☻","☻","☻","☻","☻","☻","☻","☻","☻","☻","☻","☻","☻","☻","☻","☻","☻","☻","☻","☻","☻","☻","☻","x"]
[25,"☻","☻","☻","☻","☻","☻","☻","☻","☻","☻","☻","☻","☻","☻","☻","☻","☻","☻","☻","☻","☻","☻","☻","☻","☻","x"]
[26,"☻","☻","☻","☻","☻","☻","☻","☻","☻","☻","☻","☻","☻","☻","☻","☻","☻","☻","☻","☻","☻","☻","☻","☻","☻","x"]
["x",{"$f":"COUNTIF(B2:B26,a)","v":0},{"$f":"COUNTIF(C2:C26,a)","v":0},{"$f":"COUNTIF(D2:D26,a)","v":0},{"$f":"COUNTIF(E2:E26,a)","v":0},{"$f":"COUNTIF(F2:F26,a)","v":0},{"$f":"COUNTIF(G2:G26,a)","v":0},{"$f":"COUNTIF(H2:H26,a)","v":0},{"$f":"COUNTIF(I2:I26,a)","v":0},{"$f":"COUNTIF(J2:J26,a)","v":0},{"$f":"COUNTIF(K2:K26,a)","v":0},{"$f":"COUNTIF(L2:L26,a)","v":0},{"$f":"COUNTIF(M2:M26,a)","v":0},{"$f":"COUNTIF(N2:N26,a)","v":0},{"$f":"COUNTIF(O2:O26,a)","v":0},{"$f":"COUNTIF(P2:P26,a)","v":0},{"$f":"COUNTIF(Q2:Q26,a)","v":0},{"$f":"COUNTIF(R2:R26,a)","v":0},{"$f":"COUNTIF(S2:S26,a)","v":0},{"$f":"COUNTIF(T2:T26,a)","v":0},{"$f":"COUNTIF(U2:U26,a)","v":0},{"$f":"COUNTIF(V2:V26,a)","v":0},{"$f":"COUNTIF(W2:W26,a)","v":0},{"$f":"COUNTIF(X2:X26,a)","v":0},{"$f":"COUNTIF(Y2:Y26,a)","v":0},{"$f":"COUNTIF(Z2:Z26,a)","v":0},"x"]
[{"$nulls":26},"x"]
[{"$nulls":26},"x"]
[{"$nulls":26},"x"]
[{"$nulls":26},"x"]
[1,2,3,4,5,6,7,8,9,10,11,12,13,14,15,16,17,18,19,20,21,22,23,24,25,26,"x"]
[2,{"$f":"IF(RAND()>=0.7,1,0)","v":0},{"$f":"IF(RAND()>=0.7,1,0)","v":0},{"$f":"IF(RAND()>=0.7,1,0)","v":0},{"$f":"IF(RAND()>=0.7,1,0)","v":0},{"$f":"IF(RAND()>=0.7,1,0)","v":1},{"$f":"IF(RAND()>=0.7,1,0)","v":0},{"$f":"IF(RAND()>=0.7,1,0)","v":1},{"$f":"IF(RAND()>=0.7,1,0)","v":1},{"$f":"IF(RAND()>=0.7,1,0)","v":1},{"$f":"IF(RAND()>=0.7,1,0)","v":1},{"$f":"IF(RAND()>=0.7,1,0)","v":1},{"$f":"IF(RAND()>=0.7,1,0)","v":0},{"$f":"IF(RAND()>=0.7,1,0)","v":1},{"$f":"IF(RAND()>=0.7,1,0)","v":1},{"$f":"IF(RAND()>=0.7,1,0)","v":1},{"$f":"IF(RAND()>=0.7,1,0)","v":0},{"$f":"IF(RAND()>=0.7,1,0)","v":1},{"$f":"IF(RAND()>=0.7,1,0)","v":1},{"$f":"IF(RAND()>=0.7,1,0)","v":0},{"$f":"IF(RAND()>=0.7,1,0)","v":1},{"$f":"IF(RAND()>=0.7,1,0)","v":0},{"$f":"IF(RAND()>=0.7,1,0)","v":0},{"$f":"IF(RAND()>=0.7,1,0)","v":0},{"$f":"IF(RAND()>=0.7,1,0)","v":1},{"$f":"IF(RAND()>=0.7,1,0)","v":0},"x"]
[3,{"$f":"IF(RAND()>=0.7,1,0)","v":0},{"$f":"IF(RAND()>=0.7,1,0)","v":0},{"$f":"IF(RAND()>=0.7,1,0)","v":0},{"$f":"IF(RAND()>=0.7,1,0)","v":0},{"$f":"IF(RAND()>=0.7,1,0)","v":1},{"$f":"IF(RAND()>=0.7,1,0)","v":1},{"$f":"IF(RAND()>=0.7,1,0)","v":1},{"$f":"IF(RAND()>=0.7,1,0)","v":0},{"$f":"IF(RAND()>=0.7,1,0)","v":1},{"$f":"IF(RAND()>=0.7,1,0)","v":1},{"$f":"IF(RAND()>=0.7,1,0)","v":1},{"$f":"IF(RAND()>=0.7,1,0)","v":0},{"$f":"IF(RAND()>=0.7,1,0)","v":1},{"$f":"IF(RAND()>=0.7,1,0)","v":0},{"$f":"IF(RAND()>=0.7,1,0)","v":0},{"$f":"IF(RAND()>=0.7,1,0)","v":0},{"$f":"IF(RAND()>=0.7,1,0)","v":0},{"$f":"IF(RAND()>=0.7,1,0)","v":0},{"$f":"IF(RAND()>=0.7,1,0)","v":1},{"$f":"IF(RAND()>=0.7,1,0)","v":0},{"$f":"IF(RAND()>=0.7,1,0)","v":0},{"$f":"IF(RAND()>=0.7,1,0)","v":0},{"$f":"IF(RAND()>=0.7,1,0)","v":1},{"$f":"IF(RAND()>=0.7,1,0)","v":0},{"$f":"IF(RAND()>=0.7,1,0)","v":0},"x"]
[4,{"$f":"IF(RAND()>=0.7,1,0)","v":0},{"$f":"IF(RAND()>=0.7,1,0)","v":0},{"$f":"IF(RAND()>=0.7,1,0)","v":0},{"$f":"IF(RAND()>=0.7,1,0)","v":0},{"$f":"IF(RAND()>=0.7,1,0)","v":0},{"$f":"IF(RAND()>=0.7,1,0)","v":0},{"$f":"IF(RAND()>=0.7,1,0)","v":0},{"$f":"IF(RAND()>=0.7,1,0)","v":0},{"$f":"IF(RAND()>=0.7,1,0)","v":0},{"$f":"IF(RAND()>=0.7,1,0)","v":0},{"$f":"IF(RAND()>=0.7,1,0)","v":0},{"$f":"IF(RAND()>=0.7,1,0)","v":0},{"$f":"IF(RAND()>=0.7,1,0)","v":0},{"$f":"IF(RAND()>=0.7,1,0)","v":1},{"$f":"IF(RAND()>=0.7,1,0)","v":0},{"$f":"IF(RAND()>=0.7,1,0)","v":0},{"$f":"IF(RAND()>=0.7,1,0)","v":1},{"$f":"IF(RAND()>=0.7,1,0)","v":0},{"$f":"IF(RAND()>=0.7,1,0)","v":1},{"$f":"IF(RAND()>=0.7,1,0)","v":0},{"$f":"IF(RAND()>=0.7,1,0)","v":0},{"$f":"IF(RAND()>=0.7,1,0)","v":1},{"$f":"IF(RAND()>=0.7,1,0)","v":0},{"$f":"IF(RAND()>=0.7,1,0)","v":0},{"$f":"IF(RAND()>=0.7,1,0)","v":1},"x"]
[5,{"$f":"IF(RAND()>=0.7,1,0)","v":0},{"$f":"IF(RAND()>=0.7,1,0)","v":0},{"$f":"IF(RAND()>=0.7,1,0)","v":0},{"$f":"IF(RAND()>=0.7,1,0)","v":0},{"$f":"IF(RAND()>=0.7,1,0)","v":0},{"$f":"IF(RAND()>=0.7,1,0)","v":0},{"$f":"IF(RAND()>=0.7,1,0)","v":0},{"$f":"IF(RAND()>=0.7,1,0)","v":0},{"$f":"IF(RAND()>=0.7,1,0)","v":1},{"$f":"IF(RAND()>=0.7,1,0)","v":0},{"$f":"IF(RAND()>=0.7,1,0)","v":0},{"$f":"IF(RAND()>=0.7,1,0)","v":1},{"$f":"IF(RAND()>=0.7,1,0)","v":0},{"$f":"IF(RAND()>=0.7,1,0)","v":1},{"$f":"IF(RAND()>=0.7,1,0)","v":0},{"$f":"IF(RAND()>=0.7,1,0)","v":0},{"$f":"IF(RAND()>=0.7,1,0)","v":0},{"$f":"IF(RAND()>=0.7,1,0)","v":0},{"$f":"IF(RAND()>=0.7,1,0)","v":0},{"$f":"IF(RAND()>=0.7,1,0)","v":0},{"$f":"IF(RAND()>=0.7,1,0)","v":1},{"$f":"IF(RAND()>=0.7,1,0)","v":0},{"$f":"IF(RAND()>=0.7,1,0)","v":0},{"$f":"IF(RAND()>=0.7,1,0)","v":0},{"$f":"IF(RAND()>=0.7,1,0)","v":1},"x"]
[6,{"$f":"IF(RAND()>=0.7,1,0)","v":0},{"$f":"IF(RAND()>=0.7,1,0)","v":0},{"$f":"IF(RAND()>=0.7,1,0)","v":1},{"$f":"IF(RAND()>=0.7,1,0)","v":0},{"$f":"IF(RAND()>=0.7,1,0)","v":0},{"$f":"IF(RAND()>=0.7,1,0)","v":0},{"$f":"IF(RAND()>=0.7,1,0)","v":0},{"$f":"IF(RAND()>=0.7,1,0)","v":0},{"$f":"IF(RAND()>=0.7,1,0)","v":1},{"$f":"IF(RAND()>=0.7,1,0)","v":0},{"$f":"IF(RAND()>=0.7,1,0)","v":1},{"$f":"IF(RAND()>=0.7,1,0)","v":0},{"$f":"IF(RAND()>=0.7,1,0)","v":0},{"$f":"IF(RAND()>=0.7,1,0)","v":1},{"$f":"IF(RAND()>=0.7,1,0)","v":0},{"$f":"IF(RAND()>=0.7,1,0)","v":1},{"$f":"IF(RAND()>=0.7,1,0)","v":0},{"$f":"IF(RAND()>=0.7,1,0)","v":0},{"$f":"IF(RAND()>=0.7,1,0)","v":0},{"$f":"IF(RAND()>=0.7,1,0)","v":0},{"$f":"IF(RAND()>=0.7,1,0)","v":1},{"$f":"IF(RAND()>=0.7,1,0)","v":0},{"$f":"IF(RAND()>=0.7,1,0)","v":0},{"$f":"IF(RAND()>=0.7,1,0)","v":0},{"$f":"IF(RAND()>=0.7,1,0)","v":1},"x"]
[7,{"$f":"IF(RAND()>=0.7,1,0)","v":0},{"$f":"IF(RAND()>=0.7,1,0)","v":0},{"$f":"IF(RAND()>=0.7,1,0)","v":0},{"$f":"IF(RAND()>=0.7,1,0)","v":1},{"$f":"IF(RAND()>=0.7,1,0)","v":0},{"$f":"IF(RAND()>=0.7,1,0)","v":1},{"$f":"IF(RAND()>=0.7,1,0)","v":1},{"$f":"IF(RAND()>=0.7,1,0)","v":0},{"$f":"IF(RAND()>=0.7,1,0)","v":1},{"$f":"IF(RAND()>=0.7,1,0)","v":0},{"$f":"IF(RAND()>=0.7,1,0)","v":1},{"$f":"IF(RAND()>=0.7,1,0)","v":0},{"$f":"IF(RAND()>=0.7,1,0)","v":1},{"$f":"IF(RAND()>=0.7,1,0)","v":1},{"$f":"IF(RAND()>=0.7,1,0)","v":0},{"$f":"IF(RAND()>=0.7,1,0)","v":0},{"$f":"IF(RAND()>=0.7,1,0)","v":0},{"$f":"IF(RAND()>=0.7,1,0)","v":1},{"$f":"IF(RAND()>=0.7,1,0)","v":1},{"$f":"IF(RAND()>=0.7,1,0)","v":0},{"$f":"IF(RAND()>=0.7,1,0)","v":0},{"$f":"IF(RAND()>=0.7,1,0)","v":1},{"$f":"IF(RAND()>=0.7,1,0)","v":0},{"$f":"IF(RAND()>=0.7,1,0)","v":0},{"$f":"IF(RAND()>=0.7,1,0)","v":0},"x"]
[8,{"$f":"IF(RAND()>=0.7,1,0)","v":0},{"$f":"IF(RAND()>=0.7,1,0)","v":0},{"$f":"IF(RAND()>=0.7,1,0)","v":0},{"$f":"IF(RAND()>=0.7,1,0)","v":0},{"$f":"IF(RAND()>=0.7,1,0)","v":0},{"$f":"IF(RAND()>=0.7,1,0)","v":0},{"$f":"IF(RAND()>=0.7,1,0)","v":0},{"$f":"IF(RAND()>=0.7,1,0)","v":1},{"$f":"IF(RAND()>=0.7,1,0)","v":1},{"$f":"IF(RAND()>=0.7,1,0)","v":0},{"$f":"IF(RAND()>=0.7,1,0)","v":1},{"$f":"IF(RAND()>=0.7,1,0)","v":0},{"$f":"IF(RAND()>=0.7,1,0)","v":0},{"$f":"IF(RAND()>=0.7,1,0)","v":0},{"$f":"IF(RAND()>=0.7,1,0)","v":0},{"$f":"IF(RAND()>=0.7,1,0)","v":0},{"$f":"IF(RAND()>=0.7,1,0)","v":0},{"$f":"IF(RAND()>=0.7,1,0)","v":1},{"$f":"IF(RAND()>=0.7,1,0)","v":0},{"$f":"IF(RAND()>=0.7,1,0)","v":1},{"$f":"IF(RAND()>=0.7,1,0)","v":0},{"$f":"IF(RAND()>=0.7,1,0)","v":0},{"$f":"IF(RAND()>=0.7,1,0)","v":0},{"$f":"IF(RAND()>=0.7,1,0)","v":1},{"$f":"IF(RAND()>=0.7,1,0)","v":0},"x"]
[9,{"$f":"IF(RAND()>=0.7,1,0)","v":0},{"$f":"IF(RAND()>=0.7,1,0)","v":1},{"$f":"IF(RAND()>=0.7,1,0)","v":0},{"$f":"IF(RAND()>=0.7,1,0)","v":1},{"$f":"IF(RAND()>=0.7,1,0)","v":1},{"$f":"IF(RAND()>=0.7,1,0)","v":0},{"$f":"IF(RAND()>=0.7,1,0)","v":0},{"$f":"IF(RAND()>=0.7,1,0)","v":0},{"$f":"IF(RAND()>=0.7,1,0)","v":0},{"$f":"IF(RAND()>=0.7,1,0)","v":1},{"$f":"IF(RAND()>=0.7,1,0)","v":0},{"$f":"IF(RAND()>=0.7,1,0)","v":0},{"$f":"IF(RAND()>=0.7,1,0)","v":0},{"$f":"IF(RAND()>=0.7,1,0)","v":0},{"$f":"IF(RAND()>=0.7,1,0)","v":1},{"$f":"IF(RAND()>=0.7,1,0)","v":1},{"$f":"IF(RAND()>=0.7,1,0)","v":1},{"$f":"IF(RAND()>=0.7,1,0)","v":0},{"$f":"IF(RAND()>=0.7,1,0)","v":0},{"$f":"IF(RAND()>=0.7,1,0)","v":0},{"$f":"IF(RAND()>=0.7,1,0)","v":1},{"$f":"IF(RAND()>=0.7,1,0)","v":0},{"$f":"IF(RAND()>=0.7,1,0)","v":0},{"$f":"IF(RAND()>=0.7,1,0)","v":0},{"$f":"IF(RAND()>=0.7,1,0)","v":0},"x"]
[10,{"$f":"IF(RAND()>=0.7,1,0)","v":1},{"$f":"IF(RAND()>=0.7,1,0)","v":1},{"$f":"IF(RAND()>=0.7,1,0)","v":0},{"$f":"IF(RAND()>=0.7,1,0)","v":0},{"$f":"IF(RAND()>=0.7,1,0)","v":0},{"$f":"IF(RAND()>=0.7,1,0)","v":0},{"$f":"IF(RAND()>=0.7,1,0)","v":0},{"$f":"IF(RAND()>=0.7,1,0)","v":0},{"$f":"IF(RAND()>=0.7,1,0)","v":1},{"$f":"IF(RAND()>=0.7,1,0)","v":0},{"$f":"IF(RAND()>=0.7,1,0)","v":0},{"$f":"IF(RAND()>=0.7,1,0)","v":1},{"$f":"IF(RAND()>=0.7,1,0)","v":0},{"$f":"IF(RAND()>=0.7,1,0)","v":0},{"$f":"IF(RAND()>=0.7,1,0)","v":0},{"$f":"IF(RAND()>=0.7,1,0)","v":1},{"$f":"IF(RAND()>=0.7,1,0)","v":0},{"$f":"IF(RAND()>=0.7,1,0)","v":0},{"$f":"IF(RAND()>=0.7,1,0)","v":0},{"$f":"IF(RAND()>=0.7,1,0)","v":1},{"$f":"IF(RAND()>=0.7,1,0)","v":0},{"$f":"IF(RAND()>=0.7,1,0)","v":1},{"$f":"IF(RAND()>=0.7,1,0)","v":0},{"$f":"IF(RAND()>=0.7,1,0)","v":0},{"$f":"IF(RAND()>=0.7,1,0)","v":0},"x"]
[11,{"$f":"IF(RAND()>=0.7,1,0)","v":1},{"$f":"IF(RAND()>=0.7,1,0)","v":0},{"$f":"IF(RAND()>=0.7,1,0)","v":1},{"$f":"IF(RAND()>=0.7,1,0)","v":0},{"$f":"IF(RAND()>=0.7,1,0)","v":0},{"$f":"IF(RAND()>=0.7,1,0)","v":1},{"$f":"IF(RAND()>=0.7,1,0)","v":0},{"$f":"IF(RAND()>=0.7,1,0)","v":0},{"$f":"IF(RAND()>=0.7,1,0)","v":0},{"$f":"IF(RAND()>=0.7,1,0)","v":0},{"$f":"IF(RAND()>=0.7,1,0)","v":0},{"$f":"IF(RAND()>=0.7,1,0)","v":1},{"$f":"IF(RAND()>=0.7,1,0)","v":1},{"$f":"IF(RAND()>=0.7,1,0)","v":0},{"$f":"IF(RAND()>=0.7,1,0)","v":0},{"$f":"IF(RAND()>=0.7,1,0)","v":0},{"$f":"IF(RAND()>=0.7,1,0)","v":0},{"$f":"IF(RAND()>=0.7,1,0)","v":0},{"$f":"IF(RAND()>=0.7,1,0)","v":1},{"$f":"IF(RAND()>=0.7,1,0)","v":0},{"$f":"IF(RAND()>=0.7,1,0)","v":0},{"$f":"IF(RAND()>=0.7,1,0)","v":0},{"$f":"IF(RAND()>=0.7,1,0)","v":0},{"$f":"IF(RAND()>=0.7,1,0)","v":0},{"$f":"IF(RAND()>=0.7,1,0)","v":1},"x"]
[12,{"$f":"IF(RAND()>=0.7,1,0)","v":0},{"$f":"IF(RAND()>=0.7,1,0)","v":0},{"$f":"IF(RAND()>=0.7,1,0)","v":0},{"$f":"IF(RAND()>=0.7,1,0)","v":1},{"$f":"IF(RAND()>=0.7,1,0)","v":0},{"$f":"IF(RAND()>=0.7,1,0)","v":1},{"$f":"IF(RAND()>=0.7,1,0)","v":0},{"$f":"IF(RAND()>=0.7,1,0)","v":0},{"$f":"IF(RAND()>=0.7,1,0)","v":0},{"$f":"IF(RAND()>=0.7,1,0)","v":0},{"$f":"IF(RAND()>=0.7,1,0)","v":0},{"$f":"IF(RAND()>=0.7,1,0)","v":0},{"$f":"IF(RAND()>=0.7,1,0)","v":1},{"$f":"IF(RAND()>=0.7,1,0)","v":0},{"$f":"IF(RAND()>=0.7,1,0)","v":0},{"$f":"IF(RAND()>=0.7,1,0)","v":1},{"$f":"IF(RAND()>=0.7,1,0)","v":1},{"$f":"IF(RAND()>=0.7,1,0)","v":0},{"$f":"IF(RAND()>=0.7,1,0)","v":0},{"$f":"IF(RAND()>=0.7,1,0)","v":0},{"$f":"IF(RAND()>=0.7,1,0)","v":0},{"$f":"IF(RAND()>=0.7,1,0)","v":0},{"$f":"IF(RAND()>=0.7,1,0)","v":1},{"$f":"IF(RAND()>=0.7,1,0)","v":0},{"$f":"IF(RAND()>=0.7,1,0)","v":1},"x"]
[13,{"$f":"IF(RAND()>=0.7,1,0)","v":0},{"$f":"IF(RAND()>=0.7,1,0)","v":1},{"$f":"IF(RAND()>=0.7,1,0)","v":0},{"$f":"IF(RAND()>=0.7,1,0)","v":0},{"$f":"IF(RAND()>=0.7,1,0)","v":0},{"$f":"IF(RAND()>=0.7,1,0)","v":0},{"$f":"IF(RAND()>=0.7,1,0)","v":0},{"$f":"IF(RAND()>=0.7,1,0)","v":0},{"$f":"IF(RAND()>=0.7,1,0)","v":0},{"$f":"IF(RAND()>=0.7,1,0)","v":0},{"$f":"IF(RAND()>=0.7,1,0)","v":0},{"$f":"IF(RAND()>=0.7,1,0)","v":0},{"$f":"IF(RAND()>=0.7,1,0)","v":0},{"$f":"IF(RAND()>=0.7,1,0)","v":1},{"$f":"IF(RAND()>=0.7,1,0)","v":0},{"$f":"IF(RAND()>=0.7,1,0)","v":1},{"$f":"IF(RAND()>=0.7,1,0)","v":0},{"$f":"IF(RAND()>=0.7,1,0)","v":0},{"$f":"IF(RAND()>=0.7,1,0)","v":0},{"$f":"IF(RAND()>=0.7,1,0)","v":0},{"$f":"IF(RAND()>=0.7,1,0)","v":0},{"$f":"IF(RAND()>=0.7,1,0)","v":0},{"$f":"IF(RAND()>=0.7,1,0)","v":0},{"$f":"IF(RAND()>=0.7,1,0)","v":1},{"$f":"IF(RAND()>=0.7,1,0)","v":0},"x"]
[14,{"$f":"IF(RAND()>=0.7,1,0)","v":0},{"$f":"IF(RAND()>=0.7,1,0)","v":0},{"$f":"IF(RAND()>=0.7,1,0)","v":1},{"$f":"IF(RAND()>=0.7,1,0)","v":0},{"$f":"IF(RAND()>=0.7,1,0)","v":0},{"$f":"IF(RAND()>=0.7,1,0)","v":0},{"$f":"IF(RAND()>=0.7,1,0)","v":1},{"$f":"IF(RAND()>=0.7,1,0)","v":0},{"$f":"IF(RAND()>=0.7,1,0)","v":1},{"$f":"IF(RAND()>=0.7,1,0)","v":0},{"$f":"IF(RAND()>=0.7,1,0)","v":1},{"$f":"IF(RAND()>=0.7,1,0)","v":0},{"$f":"IF(RAND()>=0.7,1,0)","v":0},{"$f":"IF(RAND()>=0.7,1,0)","v":0},{"$f":"IF(RAND()>=0.7,1,0)","v":0},{"$f":"IF(RAND()>=0.7,1,0)","v":0},{"$f":"IF(RAND()>=0.7,1,0)","v":1},{"$f":"IF(RAND()>=0.7,1,0)","v":0},{"$f":"IF(RAND()>=0.7,1,0)","v":0},{"$f":"IF(RAND()>=0.7,1,0)","v":0},{"$f":"IF(RAND()>=0.7,1,0)","v":1},{"$f":"IF(RAND()>=0.7,1,0)","v":0},{"$f":"IF(RAND()>=0.7,1,0)","v":0},{"$f":"IF(RAND()>=0.7,1,0)","v":0},{"$f":"IF(RAND()>=0.7,1,0)","v":0},"x"]
[15,{"$f":"IF(RAND()>=0.7,1,0)","v":1},{"$f":"IF(RAND()>=0.7,1,0)","v":1},{"$f":"IF(RAND()>=0.7,1,0)","v":1},{"$f":"IF(RAND()>=0.7,1,0)","v":1},{"$f":"IF(RAND()>=0.7,1,0)","v":0},{"$f":"IF(RAND()>=0.7,1,0)","v":0},{"$f":"IF(RAND()>=0.7,1,0)","v":0},{"$f":"IF(RAND()>=0.7,1,0)","v":0},{"$f":"IF(RAND()>=0.7,1,0)","v":1},{"$f":"IF(RAND()>=0.7,1,0)","v":0},{"$f":"IF(RAND()>=0.7,1,0)","v":0},{"$f":"IF(RAND()>=0.7,1,0)","v":0},{"$f":"IF(RAND()>=0.7,1,0)","v":0},{"$f":"IF(RAND()>=0.7,1,0)","v":1},{"$f":"IF(RAND()>=0.7,1,0)","v":0},{"$f":"IF(RAND()>=0.7,1,0)","v":0},{"$f":"IF(RAND()>=0.7,1,0)","v":0},{"$f":"IF(RAND()>=0.7,1,0)","v":0},{"$f":"IF(RAND()>=0.7,1,0)","v":0},{"$f":"IF(RAND()>=0.7,1,0)","v":0},{"$f":"IF(RAND()>=0.7,1,0)","v":0},{"$f":"IF(RAND()>=0.7,1,0)","v":0},{"$f":"IF(RAND()>=0.7,1,0)","v":0},{"$f":"IF(RAND()>=0.7,1,0)","v":1},{"$f":"IF(RAND()>=0.7,1,0)","v":0},"x"]
[16,{"$f":"IF(RAND()>=0.7,1,0)","v":0},{"$f":"IF(RAND()>=0.7,1,0)","v":1},{"$f":"IF(RAND()>=0.7,1,0)","v":1},{"$f":"IF(RAND()>=0.7,1,0)","v":0},{"$f":"IF(RAND()>=0.7,1,0)","v":0},{"$f":"IF(RAND()>=0.7,1,0)","v":1},{"$f":"IF(RAND()>=0.7,1,0)","v":1},{"$f":"IF(RAND()>=0.7,1,0)","v":1},{"$f":"IF(RAND()>=0.7,1,0)","v":1},{"$f":"IF(RAND()>=0.7,1,0)","v":1},{"$f":"IF(RAND()>=0.7,1,0)","v":0},{"$f":"IF(RAND()>=0.7,1,0)","v":0},{"$f":"IF(RAND()>=0.7,1,0)","v":0},{"$f":"IF(RAND()>=0.7,1,0)","v":1},{"$f":"IF(RAND()>=0.7,1,0)","v":0},{"$f":"IF(RAND()>=0.7,1,0)","v":0},{"$f":"IF(RAND()>=0.7,1,0)","v":0},{"$f":"IF(RAND()>=0.7,1,0)","v":0},{"$f":"IF(RAND()>=0.7,1,0)","v":0},{"$f":"IF(RAND()>=0.7,1,0)","v":0},{"$f":"IF(RAND()>=0.7,1,0)","v":0},{"$f":"IF(RAND()>=0.7,1,0)","v":0},{"$f":"IF(RAND()>=0.7,1,0)","v":1},{"$f":"IF(RAND()>=0.7,1,0)","v":0},{"$f":"IF(RAND()>=0.7,1,0)","v":0},"x"]
[17,{"$f":"IF(RAND()>=0.7,1,0)","v":0},{"$f":"IF(RAND()>=0.7,1,0)","v":0},{"$f":"IF(RAND()>=0.7,1,0)","v":1},{"$f":"IF(RAND()>=0.7,1,0)","v":1},{"$f":"IF(RAND()>=0.7,1,0)","v":0},{"$f":"IF(RAND()>=0.7,1,0)","v":0},{"$f":"IF(RAND()>=0.7,1,0)","v":0},{"$f":"IF(RAND()>=0.7,1,0)","v":1},{"$f":"IF(RAND()>=0.7,1,0)","v":0},{"$f":"IF(RAND()>=0.7,1,0)","v":0},{"$f":"IF(RAND()>=0.7,1,0)","v":0},{"$f":"IF(RAND()>=0.7,1,0)","v":1},{"$f":"IF(RAND()>=0.7,1,0)","v":0},{"$f":"IF(RAND()>=0.7,1,0)","v":0},{"$f":"IF(RAND()>=0.7,1,0)","v":0},{"$f":"IF(RAND()>=0.7,1,0)","v":0},{"$f":"IF(RAND()>=0.7,1,0)","v":0},{"$f":"IF(RAND()>=0.7,1,0)","v":1},{"$f":"IF(RAND()>=0.7,1,0)","v":1},{"$f":"IF(RAND()>=0.7,1,0)","v":0},{"$f":"IF(RAND()>=0.7,1,0)","v":0},{"$f":"IF(RAND()>=0.7,1,0)","v":1},{"$f":"IF(RAND()>=0.7,1,0)","v":1},{"$f":"IF(RAND()>=0.7,1,0)","v":0},{"$f":"IF(RAND()>=0.7,1,0)","v":0},"x"]
[18,{"$f":"IF(RAND()>=0.7,1,0)","v":1},{"$f":"IF(RAND()>=0.7,1,0)","v":1},{"$f":"IF(RAND()>=0.7,1,0)","v":0},{"$f":"IF(RAND()>=0.7,1,0)","v":0},{"$f":"IF(RAND()>=0.7,1,0)","v":0},{"$f":"IF(RAND()>=0.7,1,0)","v":0},{"$f":"IF(RAND()>=0.7,1,0)","v":0},{"$f":"IF(RAND()>=0.7,1,0)","v":0},{"$f":"IF(RAND()>=0.7,1,0)","v":0},{"$f":"IF(RAND()>=0.7,1,0)","v":0},{"$f":"IF(RAND()>=0.7,1,0)","v":0},{"$f":"IF(RAND()>=0.7,1,0)","v":0},{"$f":"IF(RAND()>=0.7,1,0)","v":1},{"$f":"IF(RAND()>=0.7,1,0)","v":1},{"$f":"IF(RAND()>=0.7,1,0)","v":0},{"$f":"IF(RAND()>=0.7,1,0)","v":0},{"$f":"IF(RAND()>=0.7,1,0)","v":1},{"$f":"IF(RAND()>=0.7,1,0)","v":1},{"$f":"IF(RAND()>=0.7,1,0)","v":1},{"$f":"IF(RAND()>=0.7,1,0)","v":0},{"$f":"IF(RAND()>=0.7,1,0)","v":0},{"$f":"IF(RAND()>=0.7,1,0)","v":0},{"$f":"IF(RAND()>=0.7,1,0)","v":1},{"$f":"IF(RAND()>=0.7,1,0)","v":0},{"$f":"IF(RAND()>=0.7,1,0)","v":0},"x"]
[19,{"$f":"IF(RAND()>=0.7,1,0)","v":1},{"$f":"IF(RAND()>=0.7,1,0)","v":0},{"$f":"IF(RAND()>=0.7,1,0)","v":0},{"$f":"IF(RAND()>=0.7,1,0)","v":0},{"$f":"IF(RAND()>=0.7,1,0)","v":0},{"$f":"IF(RAND()>=0.7,1,0)","v":0},{"$f":"IF(RAND()>=0.7,1,0)","v":0},{"$f":"IF(RAND()>=0.7,1,0)","v":1},{"$f":"IF(RAND()>=0.7,1,0)","v":0},{"$f":"IF(RAND()>=0.7,1,0)","v":0},{"$f":"IF(RAND()>=0.7,1,0)","v":0},{"$f":"IF(RAND()>=0.7,1,0)","v":1},{"$f":"IF(RAND()>=0.7,1,0)","v":1},{"$f":"IF(RAND()>=0.7,1,0)","v":1},{"$f":"IF(RAND()>=0.7,1,0)","v":0},{"$f":"IF(RAND()>=0.7,1,0)","v":0},{"$f":"IF(RAND()>=0.7,1,0)","v":0},{"$f":"IF(RAND()>=0.7,1,0)","v":0},{"$f":"IF(RAND()>=0.7,1,0)","v":0},{"$f":"IF(RAND()>=0.7,1,0)","v":0},{"$f":"IF(RAND()>=0.7,1,0)","v":0},{"$f":"IF(RAND()>=0.7,1,0)","v":0},{"$f":"IF(RAND()>=0.7,1,0)","v":1},{"$f":"IF(RAND()>=0.7,1,0)","v":1},{"$f":"IF(RAND()>=0.7,1,0)","v":0},"x"]
[20,{"$f":"IF(RAND()>=0.7,1,0)","v":0},{"$f":"IF(RAND()>=0.7,1,0)","v":0},{"$f":"IF(RAND()>=0.7,1,0)","v":1},{"$f":"IF(RAND()>=0.7,1,0)","v":1},{"$f":"IF(RAND()>=0.7,1,0)","v":1},{"$f":"IF(RAND()>=0.7,1,0)","v":0},{"$f":"IF(RAND()>=0.7,1,0)","v":0},{"$f":"IF(RAND()>=0.7,1,0)","v":0},{"$f":"IF(RAND()>=0.7,1,0)","v":0},{"$f":"IF(RAND()>=0.7,1,0)","v":1},{"$f":"IF(RAND()>=0.7,1,0)","v":0},{"$f":"IF(RAND()>=0.7,1,0)","v":0},{"$f":"IF(RAND()>=0.7,1,0)","v":0},{"$f":"IF(RAND()>=0.7,1,0)","v":0},{"$f":"IF(RAND()>=0.7,1,0)","v":0},{"$f":"IF(RAND()>=0.7,1,0)","v":0},{"$f":"IF(RAND()>=0.7,1,0)","v":0},{"$f":"IF(RAND()>=0.7,1,0)","v":0},{"$f":"IF(RAND()>=0.7,1,0)","v":0},{"$f":"IF(RAND()>=0.7,1,0)","v":1},{"$f":"IF(RAND()>=0.7,1,0)","v":0},{"$f":"IF(RAND()>=0.7,1,0)","v":0},{"$f":"IF(RAND()>=0.7,1,0)","v":0},{"$f":"IF(RAND()>=0.7,1,0)","v":0},{"$f":"IF(RAND()>=0.7,1,0)","v":1},"x"]
[21,{"$f":"IF(RAND()>=0.7,1,0)","v":1},{"$f":"IF(RAND()>=0.7,1,0)","v":1},{"$f":"IF(RAND()>=0.7,1,0)","v":0},{"$f":"IF(RAND()>=0.7,1,0)","v":0},{"$f":"IF(RAND()>=0.7,1,0)","v":0},{"$f":"IF(RAND()>=0.7,1,0)","v":0},{"$f":"IF(RAND()>=0.7,1,0)","v":1},{"$f":"IF(RAND()>=0.7,1,0)","v":0},{"$f":"IF(RAND()>=0.7,1,0)","v":0},{"$f":"IF(RAND()>=0.7,1,0)","v":1},{"$f":"IF(RAND()>=0.7,1,0)","v":0},{"$f":"IF(RAND()>=0.7,1,0)","v":0},{"$f":"IF(RAND()>=0.7,1,0)","v":0},{"$f":"IF(RAND()>=0.7,1,0)","v":0},{"$f":"IF(RAND()>=0.7,1,0)","v":1},{"$f":"IF(RAND()>=0.7,1,0)","v":0},{"$f":"IF(RAND()>=0.7,1,0)","v":1},{"$f":"IF(RAND()>=0.7,1,0)","v":0},{"$f":"IF(RAND()>=0.7,1,0)","v":0},{"$f":"IF(RAND()>=0.7,1,0)","v":0},{"$f":"IF(RAND()>=0.7,1,0)","v":0},{"$f":"IF(RAND()>=0.7,1,0)","v":0},{"$f":"IF(RAND()>=0.7,1,0)","v":1},{"$f":"IF(RAND()>=0.7,1,0)","v":1},{"$f":"IF(RAND()>=0.7,1,0)","v":1},"x"]
[22,{"$f":"IF(RAND()>=0.7,1,0)","v":1},{"$f":"IF(RAND()>=0.7,1,0)","v":1},{"$f":"IF(RAND()>=0.7,1,0)","v":1},{"$f":"IF(RAND()>=0.7,1,0)","v":1},{"$f":"IF(RAND()>=0.7,1,0)","v":0},{"$f":"IF(RAND()>=0.7,1,0)","v":0},{"$f":"IF(RAND()>=0.7,1,0)","v":0},{"$f":"IF(RAND()>=0.7,1,0)","v":0},{"$f":"IF(RAND()>=0.7,1,0)","v":0},{"$f":"IF(RAND()>=0.7,1,0)","v":0},{"$f":"IF(RAND()>=0.7,1,0)","v":0},{"$f":"IF(RAND()>=0.7,1,0)","v":1},{"$f":"IF(RAND()>=0.7,1,0)","v":0},{"$f":"IF(RAND()>=0.7,1,0)","v":0},{"$f":"IF(RAND()>=0.7,1,0)","v":0},{"$f":"IF(RAND()>=0.7,1,0)","v":1},{"$f":"IF(RAND()>=0.7,1,0)","v":0},{"$f":"IF(RAND()>=0.7,1,0)","v":0},{"$f":"IF(RAND()>=0.7,1,0)","v":0},{"$f":"IF(RAND()>=0.7,1,0)","v":0},{"$f":"IF(RAND()>=0.7,1,0)","v":0},{"$f":"IF(RAND()>=0.7,1,0)","v":0},{"$f":"IF(RAND()>=0.7,1,0)","v":1},{"$f":"IF(RAND()>=0.7,1,0)","v":0},{"$f":"IF(RAND()>=0.7,1,0)","v":1},"x"]
[23,{"$f":"IF(RAND()>=0.7,1,0)","v":0},{"$f":"IF(RAND()>=0.7,1,0)","v":0},{"$f":"IF(RAND()>=0.7,1,0)","v":0},{"$f":"IF(RAND()>=0.7,1,0)","v":0},{"$f":"IF(RAND()>=0.7,1,0)","v":1},{"$f":"IF(RAND()>=0.7,1,0)","v":0},{"$f":"IF(RAND()>=0.7,1,0)","v":0},{"$f":"IF(RAND()>=0.7,1,0)","v":0},{"$f":"IF(RAND()>=0.7,1,0)","v":0},{"$f":"IF(RAND()>=0.7,1,0)","v":0},{"$f":"IF(RAND()>=0.7,1,0)","v":0},{"$f":"IF(RAND()>=0.7,1,0)","v":0},{"$f":"IF(RAND()>=0.7,1,0)","v":0},{"$f":"IF(RAND()>=0.7,1,0)","v":0},{"$f":"IF(RAND()>=0.7,1,0)","v":0},{"$f":"IF(RAND()>=0.7,1,0)","v":0},{"$f":"IF(RAND()>=0.7,1,0)","v":0},{"$f":"IF(RAND()>=0.7,1,0)","v":0},{"$f":"IF(RAND()>=0.7,1,0)","v":0},{"$f":"IF(RAND()>=0.7,1,0)","v":0},{"$f":"IF(RAND()>=0.7,1,0)","v":0},{"$f":"IF(RAND()>=0.7,1,0)","v":0},{"$f":"IF(RAND()>=0.7,1,0)","v":1},{"$f":"IF(RAND()>=0.7,1,0)","v":0},{"$f":"IF(RAND()>=0.7,1,0)","v":1},"x"]
[24,{"$f":"IF(RAND()>=0.7,1,0)","v":0},{"$f":"IF(RAND()>=0.7,1,0)","v":1},{"$f":"IF(RAND()>=0.7,1,0)","v":1},{"$f":"IF(RAND()>=0.7,1,0)","v":0},{"$f":"IF(RAND()>=0.7,1,0)","v":0},{"$f":"IF(RAND()>=0.7,1,0)","v":0},{"$f":"IF(RAND()>=0.7,1,0)","v":0},{"$f":"IF(RAND()>=0.7,1,0)","v":0},{"$f":"IF(RAND()>=0.7,1,0)","v":0},{"$f":"IF(RAND()>=0.7,1,0)","v":0},{"$f":"IF(RAND()>=0.7,1,0)","v":0},{"$f":"IF(RAND()>=0.7,1,0)","v":0},{"$f":"IF(RAND()>=0.7,1,0)","v":1},{"$f":"IF(RAND()>=0.7,1,0)","v":0},{"$f":"IF(RAND()>=0.7,1,0)","v":1},{"$f":"IF(RAND()>=0.7,1,0)","v":0},{"$f":"IF(RAND()>=0.7,1,0)","v":0},{"$f":"IF(RAND()>=0.7,1,0)","v":0},{"$f":"IF(RAND()>=0.7,1,0)","v":0},{"$f":"IF(RAND()>=0.7,1,0)","v":0},{"$f":"IF(RAND()>=0.7,1,0)","v":0},{"$f":"IF(RAND()>=0.7,1,0)","v":1},{"$f":"IF(RAND()>=0.7,1,0)","v":1},{"$f":"IF(RAND()>=0.7,1,0)","v":0},{"$f":"IF(RAND()>=0.7,1,0)","v":0},"x"]
[25,{"$f":"IF(RAND()>=0.7,1,0)","v":0},{"$f":"IF(RAND()>=0.7,1,0)","v":1},{"$f":"IF(RAND()>=0.7,1,0)","v":0},{"$f":"IF(RAND()>=0.7,1,0)","v":0},{"$f":"IF(RAND()>=0.7,1,0)","v":1},{"$f":"IF(RAND()>=0.7,1,0)","v":1},{"$f":"IF(RAND()>=0.7,1,0)","v":0},{"$f":"IF(RAND()>=0.7,1,0)","v":1},{"$f":"IF(RAND()>=0.7,1,0)","v":0},{"$f":"IF(RAND()>=0.7,1,0)","v":1},{"$f":"IF(RAND()>=0.7,1,0)","v":1},{"$f":"IF(RAND()>=0.7,1,0)","v":0},{"$f":"IF(RAND()>=0.7,1,0)","v":0},{"$f":"IF(RAND()>=0.7,1,0)","v":0},{"$f":"IF(RAND()>=0.7,1,0)","v":0},{"$f":"IF(RAND()>=0.7,1,0)","v":0},{"$f":"IF(RAND()>=0.7,1,0)","v":1},{"$f":"IF(RAND()>=0.7,1,0)","v":1},{"$f":"IF(RAND()>=0.7,1,0)","v":1},{"$f":"IF(RAND()>=0.7,1,0)","v":0},{"$f":"IF(RAND()>=0.7,1,0)","v":1},{"$f":"IF(RAND()>=0.7,1,0)","v":0},{"$f":"IF(RAND()>=0.7,1,0)","v":0},{"$f":"IF(RAND()>=0.7,1,0)","v":0},{"$f":"IF(RAND()>=0.7,1,0)","v":0},"x"]
[26,{"$f":"IF(RAND()>=0.7,1,0)","v":1},{"$f":"IF(RAND()>=0.7,1,0)","v":1},{"$f":"IF(RAND()>=0.7,1,0)","v":0},{"$f":"IF(RAND()>=0.7,1,0)","v":0},{"$f":"IF(RAND()>=0.7,1,0)","v":0},{"$f":"IF(RAND()>=0.7,1,0)","v":0},{"$f":"IF(RAND()>=0.7,1,0)","v":0},{"$f":"IF(RAND()>=0.7,1,0)","v":1},{"$f":"IF(RAND()>=0.7,1,0)","v":0},{"$f":"IF(RAND()>=0.7,1,0)","v":0},{"$f":"IF(RAND()>=0.7,1,0)","v":1},{"$f":"IF(RAND()>=0.7,1,0)","v":0},{"$f":"IF(RAND()>=0.7,1,0)","v":1},{"$f":"IF(RAND()>=0.7,1,0)","v":0},{"$f":"IF(RAND()>=0.7,1,0)","v":0},{"$f":"IF(RAND()>=0.7,1,0)","v":0},{"$f":"IF(RAND()>=0.7,1,0)","v":1},{"$f":"IF(RAND()>=0.7,1,0)","v":0},{"$f":"IF(RAND()>=0.7,1,0)","v":0},{"$f":"IF(RAND()>=0.7,1,0)","v":0},{"$f":"IF(RAND()>=0.7,1,0)","v":1},{"$f":"IF(RAND()>=0.7,1,0)","v":0},{"$f":"IF(RAND()>=0.7,1,0)","v":0},{"$f":"IF(RAND()>=0.7,1,0)","v":1},{"$f":"IF(RAND()>=0.7,1,0)","v":0},"x"]
[{"$nulls":26},"x"]
[{"$nulls":26},"x"]
[{"$nulls":26},"x"]
[{"$nulls":26},"x"]
[1,2,3,4,5,6,7,8,9,10,11,12,13,14,15,16,17,18,19,20,21,22,23,24,25,26,"x"]
[2,{"$f":"IF(Sheet2!B32=\"x\",IF(Sheet2!B2>=3,Sheet2!B2,0),0)","v":0},{"$f":"IF(Sheet2!C32=\"x\",IF(Sheet2!C2>=3,Sheet2!C2,0),0)","v":0},{"$f":"IF(Sheet2!D32=\"x\",IF(Sheet2!D2>=3,Sheet2!D2,0),0)","v":0},{"$f":"IF(Sheet2!E32=\"x\",IF(Sheet2!E2>=3,Sheet2!E2,0),0)","v":0},{"$f":"IF(Sheet2!F32=\"x\",IF(Sheet2!F2>=3,Sheet2!F2,0),0)","v":0},{"$f":"IF(Sheet2!G32=\"x\",IF(Sheet2!G2>=3,Sheet2!G2,0),0)","v":0},{"$f":"IF(Sheet2!H32=\"x\",IF(Sheet2!H2>=3,Sheet2!H2,0),0)","v":0},{"$f":"IF(Sheet2!I32=\"x\",IF(Sheet2!I2>=3,Sheet2!I2,0),0)","v":0},{"$f":"IF(Sheet2!J32=\"x\",IF(Sheet2!J2>=3,Sheet2!J2,0),0)","v":0},{"$f":"IF(Sheet2!K32=\"x\",IF(Sheet2!K2>=3,Sheet2!K2,0),0)","v":0},{"$f":"IF(Sheet2!L32=\"x\",IF(Sheet2!L2>=3,Sheet2!L2,0),0)","v":0},{"$f":"IF(Sheet2!M32=\"x\",IF(Sheet2!M2>=3,Sheet2!M2,0),0)","v":0},{"$f":"IF(Sheet2!N32=\"x\",IF(Sheet2!N2>=3,Sheet2!N2,0),0)","v":0},{"$f":"IF(Sheet2!O32=\"x\",IF(Sheet2!O2>=3,Sheet2!O2,0),0)","v":0},{"$f":"IF(Sheet2!P32=\"x\",IF(Sheet2!P2>=3,Sheet2!P2,0),0)","v":0},{"$f":"IF(Sheet2!Q32=\"x\",IF(Sheet2!Q2>=3,Sheet2!Q2,0),0)","v":0},{"$f":"IF(Sheet2!R32=\"x\",IF(Sheet2!R2>=3,Sheet2!R2,0),0)","v":0},{"$f":"IF(Sheet2!S32=\"x\",IF(Sheet2!S2>=3,Sheet2!S2,0),0)","v":0},{"$f":"IF(Sheet2!T32=\"x\",IF(Sheet2!T2>=3,Sheet2!T2,0),0)","v":0},{"$f":"IF(Sheet2!U32=\"x\",IF(Sheet2!U2>=3,Sheet2!U2,0),0)","v":0},{"$f":"IF(Sheet2!V32=\"x\",IF(Sheet2!V2>=3,Sheet2!V2,0),0)","v":0},{"$f":"IF(Sheet2!W32=\"x\",IF(Sheet2!W2>=3,Sheet2!W2,0),0)","v":0},{"$f":"IF(Sheet2!X32=\"x\",IF(Sheet2!X2>=3,Sheet2!X2,0),0)","v":0},{"$f":"IF(Sheet2!Y32=\"x\",IF(Sheet2!Y2>=3,Sheet2!Y2,0),0)","v":0},{"$f":"IF(Sheet2!Z32=\"x\",IF(Sheet2!Z2>=3,Sheet2!Z2,0),0)","v":0},"x"]
[3,{"$f":"IF(Sheet2!B33=\"x\",IF(Sheet2!B3>=3,Sheet2!B3,0),0)","v":0},{"$f":"IF(Sheet2!C33=\"x\",IF(Sheet2!C3>=3,Sheet2!C3,0),0)","v":0},{"$f":"IF(Sheet2!D33=\"x\",IF(Sheet2!D3>=3,Sheet2!D3,0),0)","v":0},{"$f":"IF(Sheet2!E33=\"x\",IF(Sheet2!E3>=3,Sheet2!E3,0),0)","v":0},{"$f":"IF(Sheet2!F33=\"x\",IF(Sheet2!F3>=3,Sheet2!F3,0),0)","v":0},{"$f":"IF(Sheet2!G33=\"x\",IF(Sheet2!G3>=3,Sheet2!G3,0),0)","v":0},{"$f":"IF(Sheet2!H33=\"x\",IF(Sheet2!H3>=3,Sheet2!H3,0),0)","v":0},{"$f":"IF(Sheet2!I33=\"x\",IF(Sheet2!I3>=3,Sheet2!I3,0),0)","v":0},{"$f":"IF(Sheet2!J33=\"x\",IF(Sheet2!J3>=3,Sheet2!J3,0),0)","v":0},{"$f":"IF(Sheet2!K33=\"x\",IF(Sheet2!K3>=3,Sheet2!K3,0),0)","v":0},{"$f":"IF(Sheet2!L33=\"x\",IF(Sheet2!L3>=3,Sheet2!L3,0),0)","v":0},{"$f":"IF(Sheet2!M33=\"x\",IF(Sheet2!M3>=3,Sheet2!M3,0),0)","v":0},{"$f":"IF(Sheet2!N33=\"x\",IF(Sheet2!N3>=3,Sheet2!N3,0),0)","v":0},{"$f":"IF(Sheet2!O33=\"x\",IF(Sheet2!O3>=3,Sheet2!O3,0),0)","v":0},{"$f":"IF(Sheet2!P33=\"x\",IF(Sheet2!P3>=3,Sheet2!P3,0),0)","v":0},{"$f":"IF(Sheet2!Q33=\"x\",IF(Sheet2!Q3>=3,Sheet2!Q3,0),0)","v":0},{"$f":"IF(Sheet2!R33=\"x\",IF(Sheet2!R3>=3,Sheet2!R3,0),0)","v":0},{"$f":"IF(Sheet2!S33=\"x\",IF(Sheet2!S3>=3,Sheet2!S3,0),0)","v":0},{"$f":"IF(Sheet2!T33=\"x\",IF(Sheet2!T3>=3,Sheet2!T3,0),0)","v":0},{"$f":"IF(Sheet2!U33=\"x\",IF(Sheet2!U3>=3,Sheet2!U3,0),0)","v":0},{"$f":"IF(Sheet2!V33=\"x\",IF(Sheet2!V3>=3,Sheet2!V3,0),0)","v":0},{"$f":"IF(Sheet2!W33=\"x\",IF(Sheet2!W3>=3,Sheet2!W3,0),0)","v":0},{"$f":"IF(Sheet2!X33=\"x\",IF(Sheet2!X3>=3,Sheet2!X3,0),0)","v":0},{"$f":"IF(Sheet2!Y33=\"x\",IF(Sheet2!Y3>=3,Sheet2!Y3,0),0)","v":0},{"$f":"IF(Sheet2!Z33=\"x\",IF(Sheet2!Z3>=3,Sheet2!Z3,0),0)","v":0},"x"]
[4,{"$f":"IF(Sheet2!B34=\"x\",IF(Sheet2!B4>=3,Sheet2!B4,0),0)","v":0},{"$f":"IF(Sheet2!C34=\"x\",IF(Sheet2!C4>=3,Sheet2!C4,0),0)","v":0},{"$f":"IF(Sheet2!D34=\"x\",IF(Sheet2!D4>=3,Sheet2!D4,0),0)","v":0},{"$f":"IF(Sheet2!E34=\"x\",IF(Sheet2!E4>=3,Sheet2!E4,0),0)","v":0},{"$f":"IF(Sheet2!F34=\"x\",IF(Sheet2!F4>=3,Sheet2!F4,0),0)","v":0},{"$f":"IF(Sheet2!G34=\"x\",IF(Sheet2!G4>=3,Sheet2!G4,0),0)","v":0},{"$f":"IF(Sheet2!H34=\"x\",IF(Sheet2!H4>=3,Sheet2!H4,0),0)","v":0},{"$f":"IF(Sheet2!I34=\"x\",IF(Sheet2!I4>=3,Sheet2!I4,0),0)","v":0},{"$f":"IF(Sheet2!J34=\"x\",IF(Sheet2!J4>=3,Sheet2!J4,0),0)","v":0},{"$f":"IF(Sheet2!K34=\"x\",IF(Sheet2!K4>=3,Sheet2!K4,0),0)","v":0},{"$f":"IF(Sheet2!L34=\"x\",IF(Sheet2!L4>=3,Sheet2!L4,0),0)","v":0},{"$f":"IF(Sheet2!M34=\"x\",IF(Sheet2!M4>=3,Sheet2!M4,0),0)","v":0},{"$f":"IF(Sheet2!N34=\"x\",IF(Sheet2!N4>=3,Sheet2!N4,0),0)","v":0},{"$f":"IF(Sheet2!O34=\"x\",IF(Sheet2!O4>=3,Sheet2!O4,0),0)","v":0},{"$f":"IF(Sheet2!P34=\"x\",IF(Sheet2!P4>=3,Sheet2!P4,0),0)","v":0},{"$f":"IF(Sheet2!Q34=\"x\",IF(Sheet2!Q4>=3,Sheet2!Q4,0),0)","v":0},{"$f":"IF(Sheet2!R34=\"x\",IF(Sheet2!R4>=3,Sheet2!R4,0),0)","v":0},{"$f":"IF(Sheet2!S34=\"x\",IF(Sheet2!S4>=3,Sheet2!S4,0),0)","v":0},{"$f":"IF(Sheet2!T34=\"x\",IF(Sheet2!T4>=3,Sheet2!T4,0),0)","v":0},{"$f":"IF(Sheet2!U34=\"x\",IF(Sheet2!U4>=3,Sheet2!U4,0),0)","v":0},{"$f":"IF(Sheet2!V34=\"x\",IF(Sheet2!V4>=3,Sheet2!V4,0),0)","v":0},{"$f":"IF(Sheet2!W34=\"x\",IF(Sheet2!W4>=3,Sheet2!W4,0),0)","v":0},{"$f":"IF(Sheet2!X34=\"x\",IF(Sheet2!X4>=3,Sheet2!X4,0),0)","v":0},{"$f":"IF(Sheet2!Y34=\"x\",IF(Sheet2!Y4>=3,Sheet2!Y4,0),0)","v":0},{"$f":"IF(Sheet2!Z34=\"x\",IF(Sheet2!Z4>=3,Sheet2!Z4,0),0)","v":0},"x"]
[5,{"$f":"IF(Sheet2!B35=\"x\",IF(Sheet2!B5>=3,Sheet2!B5,0),0)","v":0},{"$f":"IF(Sheet2!C35=\"x\",IF(Sheet2!C5>=3,Sheet2!C5,0),0)","v":0},{"$f":"IF(Sheet2!D35=\"x\",IF(Sheet2!D5>=3,Sheet2!D5,0),0)","v":0},{"$f":"IF(Sheet2!E35=\"x\",IF(Sheet2!E5>=3,Sheet2!E5,0),0)","v":0},{"$f":"IF(Sheet2!F35=\"x\",IF(Sheet2!F5>=3,Sheet2!F5,0),0)","v":0},{"$f":"IF(Sheet2!G35=\"x\",IF(Sheet2!G5>=3,Sheet2!G5,0),0)","v":0},{"$f":"IF(Sheet2!H35=\"x\",IF(Sheet2!H5>=3,Sheet2!H5,0),0)","v":0},{"$f":"IF(Sheet2!I35=\"x\",IF(Sheet2!I5>=3,Sheet2!I5,0),0)","v":0},{"$f":"IF(Sheet2!J35=\"x\",IF(Sheet2!J5>=3,Sheet2!J5,0),0)","v":0},{"$f":"IF(Sheet2!K35=\"x\",IF(Sheet2!K5>=3,Sheet2!K5,0),0)","v":0},{"$f":"IF(Sheet2!L35=\"x\",IF(Sheet2!L5>=3,Sheet2!L5,0),0)","v":0},{"$f":"IF(Sheet2!M35=\"x\",IF(Sheet2!M5>=3,Sheet2!M5,0),0)","v":0},{"$f":"IF(Sheet2!N35=\"x\",IF(Sheet2!N5>=3,Sheet2!N5,0),0)","v":0},{"$f":"IF(Sheet2!O35=\"x\",IF(Sheet2!O5>=3,Sheet2!O5,0),0)","v":0},{"$f":"IF(Sheet2!P35=\"x\",IF(Sheet2!P5>=3,Sheet2!P5,0),0)","v":0},{"$f":"IF(Sheet2!Q35=\"x\",IF(Sheet2!Q5>=3,Sheet2!Q5,0),0)","v":0},{"$f":"IF(Sheet2!R35=\"x\",IF(Sheet2!R5>=3,Sheet2!R5,0),0)","v":0},{"$f":"IF(Sheet2!S35=\"x\",IF(Sheet2!S5>=3,Sheet2!S5,0),0)","v":0},{"$f":"IF(Sheet2!T35=\"x\",IF(Sheet2!T5>=3,Sheet2!T5,0),0)","v":0},{"$f":"IF(Sheet2!U35=\"x\",IF(Sheet2!U5>=3,Sheet2!U5,0),0)","v":0},{"$f":"IF(Sheet2!V35=\"x\",IF(Sheet2!V5>=3,Sheet2!V5,0),0)","v":0},{"$f":"IF(Sheet2!W35=\"x\",IF(Sheet2!W5>=3,Sheet2!W5,0),0)","v":0},{"$f":"IF(Sheet2!X35=\"x\",IF(Sheet2!X5>=3,Sheet2!X5,0),0)","v":0},{"$f":"IF(Sheet2!Y35=\"x\",IF(Sheet2!Y5>=3,Sheet2!Y5,0),0)","v":0},{"$f":"IF(Sheet2!Z35=\"x\",IF(Sheet2!Z5>=3,Sheet2!Z5,0),0)","v":0},"x"]
[6,{"$f":"IF(Sheet2!B36=\"x\",IF(Sheet2!B6>=3,Sheet2!B6,0),0)","v":0},{"$f":"IF(Sheet2!C36=\"x\",IF(Sheet2!C6>=3,Sheet2!C6,0),0)","v":0},{"$f":"IF(Sheet2!D36=\"x\",IF(Sheet2!D6>=3,Sheet2!D6,0),0)","v":0},{"$f":"IF(Sheet2!E36=\"x\",IF(Sheet2!E6>=3,Sheet2!E6,0),0)","v":0},{"$f":"IF(Sheet2!F36=\"x\",IF(Sheet2!F6>=3,Sheet2!F6,0),0)","v":0},{"$f":"IF(Sheet2!G36=\"x\",IF(Sheet2!G6>=3,Sheet2!G6,0),0)","v":0},{"$f":"IF(Sheet2!H36=\"x\",IF(Sheet2!H6>=3,Sheet2!H6,0),0)","v":0},{"$f":"IF(Sheet2!I36=\"x\",IF(Sheet2!I6>=3,Sheet2!I6,0),0)","v":0},{"$f":"IF(Sheet2!J36=\"x\",IF(Sheet2!J6>=3,Sheet2!J6,0),0)","v":0},{"$f":"IF(Sheet2!K36=\"x\",IF(Sheet2!K6>=3,Sheet2!K6,0),0)","v":0},{"$f":"IF(Sheet2!L36=\"x\",IF(Sheet2!L6>=3,Sheet2!L6,0),0)","v":0},{"$f":"IF(Sheet2!M36=\"x\",IF(Sheet2!M6>=3,Sheet2!M6,0),0)","v":0},{"$f":"IF(Sheet2!N36=\"x\",IF(Sheet2!N6>=3,Sheet2!N6,0),0)","v":0},{"$f":"IF(Sheet2!O36=\"x\",IF(Sheet2!O6>=3,Sheet2!O6,0),0)","v":0},{"$f":"IF(Sheet2!P36=\"x\",IF(Sheet2!P6>=3,Sheet2!P6,0),0)","v":0},{"$f":"IF(Sheet2!Q36=\"x\",IF(Sheet2!Q6>=3,Sheet2!Q6,0),0)","v":0},{"$f":"IF(Sheet2!R36=\"x\",IF(Sheet2!R6>=3,Sheet2!R6,0),0)","v":0},{"$f":"IF(Sheet2!S36=\"x\",IF(Sheet2!S6>=3,Sheet2!S6,0),0)","v":0},{"$f":"IF(Sheet2!T36=\"x\",IF(Sheet2!T6>=3,Sheet2!T6,0),0)","v":0},{"$f":"IF(Sheet2!U36=\"x\",IF(Sheet2!U6>=3,Sheet2!U6,0),0)","v":0},{"$f":"IF(Sheet2!V36=\"x\",IF(Sheet2!V6>=3,Sheet2!V6,0),0)","v":0},{"$f":"IF(Sheet2!W36=\"x\",IF(Sheet2!W6>=3,Sheet2!W6,0),0)","v":0},{"$f":"IF(Sheet2!X36=\"x\",IF(Sheet2!X6>=3,Sheet2!X6,0),0)","v":0},{"$f":"IF(Sheet2!Y36=\"x\",IF(Sheet2!Y6>=3,Sheet2!Y6,0),0)","v":0},{"$f":"IF(Sheet2!Z36=\"x\",IF(Sheet2!Z6>=3,Sheet2!Z6,0),0)","v":0},"x"]
[7,{"$f":"IF(Sheet2!B37=\"x\",IF(Sheet2!B7>=3,Sheet2!B7,0),0)","v":0},{"$f":"IF(Sheet2!C37=\"x\",IF(Sheet2!C7>=3,Sheet2!C7,0),0)","v":0},{"$f":"IF(Sheet2!D37=\"x\",IF(Sheet2!D7>=3,Sheet2!D7,0),0)","v":0},{"$f":"IF(Sheet2!E37=\"x\",IF(Sheet2!E7>=3,Sheet2!E7,0),0)","v":0},{"$f":"IF(Sheet2!F37=\"x\",IF(Sheet2!F7>=3,Sheet2!F7,0),0)","v":0},{"$f":"IF(Sheet2!G37=\"x\",IF(Sheet2!G7>=3,Sheet2!G7,0),0)","v":0},{"$f":"IF(Sheet2!H37=\"x\",IF(Sheet2!H7>=3,Sheet2!H7,0),0)","v":0},{"$f":"IF(Sheet2!I37=\"x\",IF(Sheet2!I7>=3,Sheet2!I7,0),0)","v":0},{"$f":"IF(Sheet2!J37=\"x\",IF(Sheet2!J7>=3,Sheet2!J7,0),0)","v":0},{"$f":"IF(Sheet2!K37=\"x\",IF(Sheet2!K7>=3,Sheet2!K7,0),0)","v":0},{"$f":"IF(Sheet2!L37=\"x\",IF(Sheet2!L7>=3,Sheet2!L7,0),0)","v":0},{"$f":"IF(Sheet2!M37=\"x\",IF(Sheet2!M7>=3,Sheet2!M7,0),0)","v":0},{"$f":"IF(Sheet2!N37=\"x\",IF(Sheet2!N7>=3,Sheet2!N7,0),0)","v":0},{"$f":"IF(Sheet2!O37=\"x\",IF(Sheet2!O7>=3,Sheet2!O7,0),0)","v":0},{"$f":"IF(Sheet2!P37=\"x\",IF(Sheet2!P7>=3,Sheet2!P7,0),0)","v":0},{"$f":"IF(Sheet2!Q37=\"x\",IF(Sheet2!Q7>=3,Sheet2!Q7,0),0)","v":0},{"$f":"IF(Sheet2!R37=\"x\",IF(Sheet2!R7>=3,Sheet2!R7,0),0)","v":0},{"$f":"IF(Sheet2!S37=\"x\",IF(Sheet2!S7>=3,Sheet2!S7,0),0)","v":0},{"$f":"IF(Sheet2!T37=\"x\",IF(Sheet2!T7>=3,Sheet2!T7,0),0)","v":0},{"$f":"IF(Sheet2!U37=\"x\",IF(Sheet2!U7>=3,Sheet2!U7,0),0)","v":0},{"$f":"IF(Sheet2!V37=\"x\",IF(Sheet2!V7>=3,Sheet2!V7,0),0)","v":0},{"$f":"IF(Sheet2!W37=\"x\",IF(Sheet2!W7>=3,Sheet2!W7,0),0)","v":0},{"$f":"IF(Sheet2!X37=\"x\",IF(Sheet2!X7>=3,Sheet2!X7,0),0)","v":0},{"$f":"IF(Sheet2!Y37=\"x\",IF(Sheet2!Y7>=3,Sheet2!Y7,0),0)","v":0},{"$f":"IF(Sheet2!Z37=\"x\",IF(Sheet2!Z7>=3,Sheet2!Z7,0),0)","v":0},"x"]
[8,{"$f":"IF(Sheet2!B38=\"x\",IF(Sheet2!B8>=3,Sheet2!B8,0),0)","v":0},{"$f":"IF(Sheet2!C38=\"x\",IF(Sheet2!C8>=3,Sheet2!C8,0),0)","v":0},{"$f":"IF(Sheet2!D38=\"x\",IF(Sheet2!D8>=3,Sheet2!D8,0),0)","v":0},{"$f":"IF(Sheet2!E38=\"x\",IF(Sheet2!E8>=3,Sheet2!E8,0),0)","v":0},{"$f":"IF(Sheet2!F38=\"x\",IF(Sheet2!F8>=3,Sheet2!F8,0),0)","v":0},{"$f":"IF(Sheet2!G38=\"x\",IF(Sheet2!G8>=3,Sheet2!G8,0),0)","v":0},{"$f":"IF(Sheet2!H38=\"x\",IF(Sheet2!H8>=3,Sheet2!H8,0),0)","v":0},{"$f":"IF(Sheet2!I38=\"x\",IF(Sheet2!I8>=3,Sheet2!I8,0),0)","v":0},{"$f":"IF(Sheet2!J38=\"x\",IF(Sheet2!J8>=3,Sheet2!J8,0),0)","v":0},{"$f":"IF(Sheet2!K38=\"x\",IF(Sheet2!K8>=3,Sheet2!K8,0),0)","v":0},{"$f":"IF(Sheet2!L38=\"x\",IF(Sheet2!L8>=3,Sheet2!L8,0),0)","v":0},{"$f":"IF(Sheet2!M38=\"x\",IF(Sheet2!M8>=3,Sheet2!M8,0),0)","v":0},{"$f":"IF(Sheet2!N38=\"x\",IF(Sheet2!N8>=3,Sheet2!N8,0),0)","v":0},{"$f":"IF(Sheet2!O38=\"x\",IF(Sheet2!O8>=3,Sheet2!O8,0),0)","v":0},{"$f":"IF(Sheet2!P38=\"x\",IF(Sheet2!P8>=3,Sheet2!P8,0),0)","v":0},{"$f":"IF(Sheet2!Q38=\"x\",IF(Sheet2!Q8>=3,Sheet2!Q8,0),0)","v":0},{"$f":"IF(Sheet2!R38=\"x\",IF(Sheet2!R8>=3,Sheet2!R8,0),0)","v":0},{"$f":"IF(Sheet2!S38=\"x\",IF(Sheet2!S8>=3,Sheet2!S8,0),0)","v":0},{"$f":"IF(Sheet2!T38=\"x\",IF(Sheet2!T8>=3,Sheet2!T8,0),0)","v":0},{"$f":"IF(Sheet2!U38=\"x\",IF(Sheet2!U8>=3,Sheet2!U8,0),0)","v":0},{"$f":"IF(Sheet2!V38=\"x\",IF(Sheet2!V8>=3,Sheet2!V8,0),0)","v":0},{"$f":"IF(Sheet2!W38=\"x\",IF(Sheet2!W8>=3,Sheet2!W8,0),0)","v":0},{"$f":"IF(Sheet2!X38=\"x\",IF(Sheet2!X8>=3,Sheet2!X8,0),0)","v":0},{"$f":"IF(Sheet2!Y38=\"x\",IF(Sheet2!Y8>=3,Sheet2!Y8,0),0)","v":0},{"$f":"IF(Sheet2!Z38=\"x\",IF(Sheet2!Z8>=3,Sheet2!Z8,0),0)","v":0},"x"]
[9,{"$f":"IF(Sheet2!B39=\"x\",IF(Sheet2!B9>=3,Sheet2!B9,0),0)","v":0},{"$f":"IF(Sheet2!C39=\"x\",IF(Sheet2!C9>=3,Sheet2!C9,0),0)","v":0},{"$f":"IF(Sheet2!D39=\"x\",IF(Sheet2!D9>=3,Sheet2!D9,0),0)","v":0},{"$f":"IF(Sheet2!E39=\"x\",IF(Sheet2!E9>=3,Sheet2!E9,0),0)","v":0},{"$f":"IF(Sheet2!F39=\"x\",IF(Sheet2!F9>=3,Sheet2!F9,0),0)","v":0},{"$f":"IF(Sheet2!G39=\"x\",IF(Sheet2!G9>=3,Sheet2!G9,0),0)","v":0},{"$f":"IF(Sheet2!H39=\"x\",IF(Sheet2!H9>=3,Sheet2!H9,0),0)","v":0},{"$f":"IF(Sheet2!I39=\"x\",IF(Sheet2!I9>=3,Sheet2!I9,0),0)","v":0},{"$f":"IF(Sheet2!J39=\"x\",IF(Sheet2!J9>=3,Sheet2!J9,0),0)","v":0},{"$f":"IF(Sheet2!K39=\"x\",IF(Sheet2!K9>=3,Sheet2!K9,0),0)","v":0},{"$f":"IF(Sheet2!L39=\"x\",IF(Sheet2!L9>=3,Sheet2!L9,0),0)","v":0},{"$f":"IF(Sheet2!M39=\"x\",IF(Sheet2!M9>=3,Sheet2!M9,0),0)","v":0},{"$f":"IF(Sheet2!N39=\"x\",IF(Sheet2!N9>=3,Sheet2!N9,0),0)","v":0},{"$f":"IF(Sheet2!O39=\"x\",IF(Sheet2!O9>=3,Sheet2!O9,0),0)","v":0},{"$f":"IF(Sheet2!P39=\"x\",IF(Sheet2!P9>=3,Sheet2!P9,0),0)","v":0},{"$f":"IF(Sheet2!Q39=\"x\",IF(Sheet2!Q9>=3,Sheet2!Q9,0),0)","v":0},{"$f":"IF(Sheet2!R39=\"x\",IF(Sheet2!R9>=3,Sheet2!R9,0),0)","v":0},{"$f":"IF(Sheet2!S39=\"x\",IF(Sheet2!S9>=3,Sheet2!S9,0),0)","v":0},{"$f":"IF(Sheet2!T39=\"x\",IF(Sheet2!T9>=3,Sheet2!T9,0),0)","v":0},{"$f":"IF(Sheet2!U39=\"x\",IF(Sheet2!U9>=3,Sheet2!U9,0),0)","v":0},{"$f":"IF(Sheet2!V39=\"x\",IF(Sheet2!V9>=3,Sheet2!V9,0),0)","v":0},{"$f":"IF(Sheet2!W39=\"x\",IF(Sheet2!W9>=3,Sheet2!W9,0),0)","v":0},{"$f":"IF(Sheet2!X39=\"x\",IF(Sheet2!X9>=3,Sheet2!X9,0),0)","v":0},{"$f":"IF(Sheet2!Y39=\"x\",IF(Sheet2!Y9>=3,Sheet2!Y9,0),0)","v":0},{"$f":"IF(Sheet2!Z39=\"x\",IF(Sheet2!Z9>=3,Sheet2!Z9,0),0)","v":0},"x"]
[10,{"$f":"IF(Sheet2!B40=\"x\",IF(Sheet2!B10>=3,Sheet2!B10,0),0)","v":0},{"$f":"IF(Sheet2!C40=\"x\",IF(Sheet2!C10>=3,Sheet2!C10,0),0)","v":0},{"$f":"IF(Sheet2!D40=\"x\",IF(Sheet2!D10>=3,Sheet2!D10,0),0)","v":0},{"$f":"IF(Sheet2!E40=\"x\",IF(Sheet2!E10>=3,Sheet2!E10,0),0)","v":0},{"$f":"IF(Sheet2!F40=\"x\",IF(Sheet2!F10>=3,Sheet2!F10,0),0)","v":0},{"$f":"IF(Sheet2!G40=\"x\",IF(Sheet2!G10>=3,Sheet2!G10,0),0)","v":0},{"$f":"IF(Sheet2!H40=\"x\",IF(Sheet2!H10>=3,Sheet2!H10,0),0)","v":0},{"$f":"IF(Sheet2!I40=\"x\",IF(Sheet2!I10>=3,Sheet2!I10,0),0)","v":0},{"$f":"IF(Sheet2!J40=\"x\",IF(Sheet2!J10>=3,Sheet2!J10,0),0)","v":0},{"$f":"IF(Sheet2!K40=\"x\",IF(Sheet2!K10>=3,Sheet2!K10,0),0)","v":0},{"$f":"IF(Sheet2!L40=\"x\",IF(Sheet2!L10>=3,Sheet2!L10,0),0)","v":0},{"$f":"IF(Sheet2!M40=\"x\",IF(Sheet2!M10>=3,Sheet2!M10,0),0)","v":0},{"$f":"IF(Sheet2!N40=\"x\",IF(Sheet2!N10>=3,Sheet2!N10,0),0)","v":0},{"$f":"IF(Sheet2!O40=\"x\",IF(Sheet2!O10>=3,Sheet2!O10,0),0)","v":0},{"$f":"IF(Sheet2!P40=\"x\",IF(Sheet2!P10>=3,Sheet2!P10,0),0)","v":0},{"$f":"IF(Sheet2!Q40=\"x\",IF(Sheet2!Q10>=3,Sheet2!Q10,0),0)","v":0},{"$f":"IF(Sheet2!R40=\"x\",IF(Sheet2!R10>=3,Sheet2!R10,0),0)","v":0},{"$f":"IF(Sheet2!S40=\"x\",IF(Sheet2!S10>=3,Sheet2!S10,0),0)","v":0},{"$f":"IF(Sheet2!T40=\"x\",IF(Sheet2!T10>=3,Sheet2!T10,0),0)","v":0},{"$f":"IF(Sheet2!U40=\"x\",IF(Sheet2!U10>=3,Sheet2!U10,0),0)","v":0},{"$f":"IF(Sheet2!V40=\"x\",IF(Sheet2!V10>=3,Sheet2!V10,0),0)","v":0},{"$f":"IF(Sheet2!W40=\"x\",IF(Sheet2!W10>=3,Sheet2!W10,0),0)","v":0},{"$f":"IF(Sheet2!X40=\"x\",IF(Sheet2!X10>=3,Sheet2!X10,0),0)","v":0},{"$f":"IF(Sheet2!Y40=\"x\",IF(Sheet2!Y10>=3,Sheet2!Y10,0),0)","v":0},{"$f":"IF(Sheet2!Z40=\"x\",IF(Sheet2!Z10>=3,Sheet2!Z10,0),0)","v":0},"x"]
[11,{"$f":"IF(Sheet2!B41=\"x\",IF(Sheet2!B11>=3,Sheet2!B11,0),0)","v":0},{"$f":"IF(Sheet2!C41=\"x\",IF(Sheet2!C11>=3,Sheet2!C11,0),0)","v":0},{"$f":"IF(Sheet2!D41=\"x\",IF(Sheet2!D11>=3,Sheet2!D11,0),0)","v":0},{"$f":"IF(Sheet2!E41=\"x\",IF(Sheet2!E11>=3,Sheet2!E11,0),0)","v":0},{"$f":"IF(Sheet2!F41=\"x\",IF(Sheet2!F11>=3,Sheet2!F11,0),0)","v":0},{"$f":"IF(Sheet2!G41=\"x\",IF(Sheet2!G11>=3,Sheet2!G11,0),0)","v":0},{"$f":"IF(Sheet2!H41=\"x\",IF(Sheet2!H11>=3,Sheet2!H11,0),0)","v":0},{"$f":"IF(Sheet2!I41=\"x\",IF(Sheet2!I11>=3,Sheet2!I11,0),0)","v":0},{"$f":"IF(Sheet2!J41=\"x\",IF(Sheet2!J11>=3,Sheet2!J11,0),0)","v":0},{"$f":"IF(Sheet2!K41=\"x\",IF(Sheet2!K11>=3,Sheet2!K11,0),0)","v":0},{"$f":"IF(Sheet2!L41=\"x\",IF(Sheet2!L11>=3,Sheet2!L11,0),0)","v":0},{"$f":"IF(Sheet2!M41=\"x\",IF(Sheet2!M11>=3,Sheet2!M11,0),0)","v":0},{"$f":"IF(Sheet2!N41=\"x\",IF(Sheet2!N11>=3,Sheet2!N11,0),0)","v":0},{"$f":"IF(Sheet2!O41=\"x\",IF(Sheet2!O11>=3,Sheet2!O11,0),0)","v":0},{"$f":"IF(Sheet2!P41=\"x\",IF(Sheet2!P11>=3,Sheet2!P11,0),0)","v":0},{"$f":"IF(Sheet2!Q41=\"x\",IF(Sheet2!Q11>=3,Sheet2!Q11,0),0)","v":0},{"$f":"IF(Sheet2!R41=\"x\",IF(Sheet2!R11>=3,Sheet2!R11,0),0)","v":0},{"$f":"IF(Sheet2!S41=\"x\",IF(Sheet2!S11>=3,Sheet2!S11,0),0)","v":0},{"$f":"IF(Sheet2!T41=\"x\",IF(Sheet2!T11>=3,Sheet2!T11,0),0)","v":0},{"$f":"IF(Sheet2!U41=\"x\",IF(Sheet2!U11>=3,Sheet2!U11,0),0)","v":0},{"$f":"IF(Sheet2!V41=\"x\",IF(Sheet2!V11>=3,Sheet2!V11,0),0)","v":0},{"$f":"IF(Sheet2!W41=\"x\",IF(Sheet2!W11>=3,Sheet2!W11,0),0)","v":0},{"$f":"IF(Sheet2!X41=\"x\",IF(Sheet2!X11>=3,Sheet2!X11,0),0)","v":0},{"$f":"IF(Sheet2!Y41=\"x\",IF(Sheet2!Y11>=3,Sheet2!Y11,0),0)","v":0},{"$f":"IF(Sheet2!Z41=\"x\",IF(Sheet2!Z11>=3,Sheet2!Z11,0),0)","v":0},"x"]
[12,{"$f":"IF(Sheet2!B42=\"x\",IF(Sheet2!B12>=3,Sheet2!B12,0),0)","v":0},{"$f":"IF(Sheet2!C42=\"x\",IF(Sheet2!C12>=3,Sheet2!C12,0),0)","v":0},{"$f":"IF(Sheet2!D42=\"x\",IF(Sheet2!D12>=3,Sheet2!D12,0),0)","v":0},{"$f":"IF(Sheet2!E42=\"x\",IF(Sheet2!E12>=3,Sheet2!E12,0),0)","v":0},{"$f":"IF(Sheet2!F42=\"x\",IF(Sheet2!F12>=3,Sheet2!F12,0),0)","v":0},{"$f":"IF(Sheet2!G42=\"x\",IF(Sheet2!G12>=3,Sheet2!G12,0),0)","v":0},{"$f":"IF(Sheet2!H42=\"x\",IF(Sheet2!H12>=3,Sheet2!H12,0),0)","v":0},{"$f":"IF(Sheet2!I42=\"x\",IF(Sheet2!I12>=3,Sheet2!I12,0),0)","v":0},{"$f":"IF(Sheet2!J42=\"x\",IF(Sheet2!J12>=3,Sheet2!J12,0),0)","v":0},{"$f":"IF(Sheet2!K42=\"x\",IF(Sheet2!K12>=3,Sheet2!K12,0),0)","v":0},{"$f":"IF(Sheet2!L42=\"x\",IF(Sheet2!L12>=3,Sheet2!L12,0),0)","v":0},{"$f":"IF(Sheet2!M42=\"x\",IF(Sheet2!M12>=3,Sheet2!M12,0),0)","v":0},{"$f":"IF(Sheet2!N42=\"x\",IF(Sheet2!N12>=3,Sheet2!N12,0),0)","v":0},{"$f":"IF(Sheet2!O42=\"x\",IF(Sheet2!O12>=3,Sheet2!O12,0),0)","v":0},{"$f":"IF(Sheet2!P42=\"x\",IF(Sheet2!P12>=3,Sheet2!P12,0),0)","v":0},{"$f":"IF(Sheet2!Q42=\"x\",IF(Sheet2!Q12>=3,Sheet2!Q12,0),0)","v":0},{"$f":"IF(Sheet2!R42=\"x\",IF(Sheet2!R12>=3,Sheet2!R12,0),0)","v":0},{"$f":"IF(Sheet2!S42=\"x\",IF(Sheet2!S12>=3,Sheet2!S12,0),0)","v":0},{"$f":"IF(Sheet2!T42=\"x\",IF(Sheet2!T12>=3,Sheet2!T12,0),0)","v":0},{"$f":"IF(Sheet2!U42=\"x\",IF(Sheet2!U12>=3,Sheet2!U12,0),0)","v":0},{"$f":"IF(Sheet2!V42=\"x\",IF(Sheet2!V12>=3,Sheet2!V12,0),0)","v":0},{"$f":"IF(Sheet2!W42=\"x\",IF(Sheet2!W12>=3,Sheet2!W12,0),0)","v":0},{"$f":"IF(Sheet2!X42=\"x\",IF(Sheet2!X12>=3,Sheet2!X12,0),0)","v":0},{"$f":"IF(Sheet2!Y42=\"x\",IF(Sheet2!Y12>=3,Sheet2!Y12,0),0)","v":0},{"$f":"IF(Sheet2!Z42=\"x\",IF(Sheet2!Z12>=3,Sheet2!Z12,0),0)","v":0},"x"]
[13,{"$f":"IF(Sheet2!B43=\"x\",IF(Sheet2!B13>=3,Sheet2!B13,0),0)","v":0},{"$f":"IF(Sheet2!C43=\"x\",IF(Sheet2!C13>=3,Sheet2!C13,0),0)","v":0},{"$f":"IF(Sheet2!D43=\"x\",IF(Sheet2!D13>=3,Sheet2!D13,0),0)","v":0},{"$f":"IF(Sheet2!E43=\"x\",IF(Sheet2!E13>=3,Sheet2!E13,0),0)","v":0},{"$f":"IF(Sheet2!F43=\"x\",IF(Sheet2!F13>=3,Sheet2!F13,0),0)","v":0},{"$f":"IF(Sheet2!G43=\"x\",IF(Sheet2!G13>=3,Sheet2!G13,0),0)","v":0},{"$f":"IF(Sheet2!H43=\"x\",IF(Sheet2!H13>=3,Sheet2!H13,0),0)","v":0},{"$f":"IF(Sheet2!I43=\"x\",IF(Sheet2!I13>=3,Sheet2!I13,0),0)","v":0},{"$f":"IF(Sheet2!J43=\"x\",IF(Sheet2!J13>=3,Sheet2!J13,0),0)","v":0},{"$f":"IF(Sheet2!K43=\"x\",IF(Sheet2!K13>=3,Sheet2!K13,0),0)","v":0},{"$f":"IF(Sheet2!L43=\"x\",IF(Sheet2!L13>=3,Sheet2!L13,0),0)","v":0},{"$f":"IF(Sheet2!M43=\"x\",IF(Sheet2!M13>=3,Sheet2!M13,0),0)","v":0},{"$f":"IF(Sheet2!N43=\"x\",IF(Sheet2!N13>=3,Sheet2!N13,0),0)","v":0},{"$f":"IF(Sheet2!O43=\"x\",IF(Sheet2!O13>=3,Sheet2!O13,0),0)","v":0},{"$f":"IF(Sheet2!P43=\"x\",IF(Sheet2!P13>=3,Sheet2!P13,0),0)","v":0},{"$f":"IF(Sheet2!Q43=\"x\",IF(Sheet2!Q13>=3,Sheet2!Q13,0),0)","v":0},{"$f":"IF(Sheet2!R43=\"x\",IF(Sheet2!R13>=3,Sheet2!R13,0),0)","v":0},{"$f":"IF(Sheet2!S43=\"x\",IF(Sheet2!S13>=3,Sheet2!S13,0),0)","v":0},{"$f":"IF(Sheet2!T43=\"x\",IF(Sheet2!T13>=3,Sheet2!T13,0),0)","v":0},{"$f":"IF(Sheet2!U43=\"x\",IF(Sheet2!U13>=3,Sheet2!U13,0),0)","v":0},{"$f":"IF(Sheet2!V43=\"x\",IF(Sheet2!V13>=3,Sheet2!V13,0),0)","v":0},{"$f":"IF(Sheet2!W43=\"x\",IF(Sheet2!W13>=3,Sheet2!W13,0),0)","v":0},{"$f":"IF(Sheet2!X43=\"x\",IF(Sheet2!X13>=3,Sheet2!X13,0),0)","v":0},{"$f":"IF(Sheet2!Y43=\"x\",IF(Sheet2!Y13>=3,Sheet2!Y13,0),0)","v":0},{"$f":"IF(Sheet2!Z43=\"x\",IF(Sheet2!Z13>=3,Sheet2!Z13,0),0)","v":0},"x"]
[14,{"$f":"IF(Sheet2!B44=\"x\",IF(Sheet2!B14>=3,Sheet2!B14,0),0)","v":0},{"$f":"IF(Sheet2!C44=\"x\",IF(Sheet2!C14>=3,Sheet2!C14,0),0)","v":0},{"$f":"IF(Sheet2!D44=\"x\",IF(Sheet2!D14>=3,Sheet2!D14,0),0)","v":0},{"$f":"IF(Sheet2!E44=\"x\",IF(Sheet2!E14>=3,Sheet2!E14,0),0)","v":0},{"$f":"IF(Sheet2!F44=\"x\",IF(Sheet2!F14>=3,Sheet2!F14,0),0)","v":0},{"$f":"IF(Sheet2!G44=\"x\",IF(Sheet2!G14>=3,Sheet2!G14,0),0)","v":0},{"$f":"IF(Sheet2!H44=\"x\",IF(Sheet2!H14>=3,Sheet2!H14,0),0)","v":0},{"$f":"IF(Sheet2!I44=\"x\",IF(Sheet2!I14>=3,Sheet2!I14,0),0)","v":0},{"$f":"IF(Sheet2!J44=\"x\",IF(Sheet2!J14>=3,Sheet2!J14,0),0)","v":0},{"$f":"IF(Sheet2!K44=\"x\",IF(Sheet2!K14>=3,Sheet2!K14,0),0)","v":0},{"$f":"IF(Sheet2!L44=\"x\",IF(Sheet2!L14>=3,Sheet2!L14,0),0)","v":0},{"$f":"IF(Sheet2!M44=\"x\",IF(Sheet2!M14>=3,Sheet2!M14,0),0)","v":0},{"$f":"IF(Sheet2!N44=\"x\",IF(Sheet2!N14>=3,Sheet2!N14,0),0)","v":0},{"$f":"IF(Sheet2!O44=\"x\",IF(Sheet2!O14>=3,Sheet2!O14,0),0)","v":0},{"$f":"IF(Sheet2!P44=\"x\",IF(Sheet2!P14>=3,Sheet2!P14,0),0)","v":0},{"$f":"IF(Sheet2!Q44=\"x\",IF(Sheet2!Q14>=3,Sheet2!Q14,0),0)","v":0},{"$f":"IF(Sheet2!R44=\"x\",IF(Sheet2!R14>=3,Sheet2!R14,0),0)","v":0},{"$f":"IF(Sheet2!S44=\"x\",IF(Sheet2!S14>=3,Sheet2!S14,0),0)","v":0},{"$f":"IF(Sheet2!T44=\"x\",IF(Sheet2!T14>=3,Sheet2!T14,0),0)","v":0},{"$f":"IF(Sheet2!U44=\"x\",IF(Sheet2!U14>=3,Sheet2!U14,0),0)","v":0},{"$f":"IF(Sheet2!V44=\"x\",IF(Sheet2!V14>=3,Sheet2!V14,0),0)","v":0},{"$f":"IF(Sheet2!W44=\"x\",IF(Sheet2!W14>=3,Sheet2!W14,0),0)","v":0},{"$f":"IF(Sheet2!X44=\"x\",IF(Sheet2!X14>=3,Sheet2!X14,0),0)","v":0},{"$f":"IF(Sheet2!Y44=\"x\",IF(Sheet2!Y14>=3,Sheet2!Y14,0),0)","v":0},{"$f":"IF(Sheet2!Z44=\"x\",IF(Sheet2!Z14>=3,Sheet2!Z14,0),0)","v":0},"x"]
[15,{"$f":"IF(Sheet2!B45=\"x\",IF(Sheet2!B15>=3,Sheet2!B15,0),0)","v":0},{"$f":"IF(Sheet2!C45=\"x\",IF(Sheet2!C15>=3,Sheet2!C15,0),0)","v":0},{"$f":"IF(Sheet2!D45=\"x\",IF(Sheet2!D15>=3,Sheet2!D15,0),0)","v":0},{"$f":"IF(Sheet2!E45=\"x\",IF(Sheet2!E15>=3,Sheet2!E15,0),0)","v":0},{"$f":"IF(Sheet2!F45=\"x\",IF(Sheet2!F15>=3,Sheet2!F15,0),0)","v":0},{"$f":"IF(Sheet2!G45=\"x\",IF(Sheet2!G15>=3,Sheet2!G15,0),0)","v":0},{"$f":"IF(Sheet2!H45=\"x\",IF(Sheet2!H15>=3,Sheet2!H15,0),0)","v":0},{"$f":"IF(Sheet2!I45=\"x\",IF(Sheet2!I15>=3,Sheet2!I15,0),0)","v":0},{"$f":"IF(Sheet2!J45=\"x\",IF(Sheet2!J15>=3,Sheet2!J15,0),0)","v":0},{"$f":"IF(Sheet2!K45=\"x\",IF(Sheet2!K15>=3,Sheet2!K15,0),0)","v":0},{"$f":"IF(Sheet2!L45=\"x\",IF(Sheet2!L15>=3,Sheet2!L15,0),0)","v":0},{"$f":"IF(Sheet2!M45=\"x\",IF(Sheet2!M15>=3,Sheet2!M15,0),0)","v":0},{"$f":"IF(Sheet2!N45=\"x\",IF(Sheet2!N15>=3,Sheet2!N15,0),0)","v":0},{"$f":"IF(Sheet2!O45=\"x\",IF(Sheet2!O15>=3,Sheet2!O15,0),0)","v":0},{"$f":"IF(Sheet2!P45=\"x\",IF(Sheet2!P15>=3,Sheet2!P15,0),0)","v":0},{"$f":"IF(Sheet2!Q45=\"x\",IF(Sheet2!Q15>=3,Sheet2!Q15,0),0)","v":0},{"$f":"IF(Sheet2!R45=\"x\",IF(Sheet2!R15>=3,Sheet2!R15,0),0)","v":0},{"$f":"IF(Sheet2!S45=\"x\",IF(Sheet2!S15>=3,Sheet2!S15,0),0)","v":0},{"$f":"IF(Sheet2!T45=\"x\",IF(Sheet2!T15>=3,Sheet2!T15,0),0)","v":0},{"$f":"IF(Sheet2!U45=\"x\",IF(Sheet2!U15>=3,Sheet2!U15,0),0)","v":0},{"$f":"IF(Sheet2!V45=\"x\",IF(Sheet2!V15>=3,Sheet2!V15,0),0)","v":0},{"$f":"IF(Sheet2!W45=\"x\",IF(Sheet2!W15>=3,Sheet2!W15,0),0)","v":0},{"$f":"IF(Sheet2!X45=\"x\",IF(Sheet2!X15>=3,Sheet2!X15,0),0)","v":0},{"$f":"IF(Sheet2!Y45=\"x\",IF(Sheet2!Y15>=3,Sheet2!Y15,0),0)","v":0},{"$f":"IF(Sheet2!Z45=\"x\",IF(Sheet2!Z15>=3,Sheet2!Z15,0),0)","v":0},"x"]
[16,{"$f":"IF(Sheet2!B46=\"x\",IF(Sheet2!B16>=3,Sheet2!B16,0),0)","v":0},{"$f":"IF(Sheet2!C46=\"x\",IF(Sheet2!C16>=3,Sheet2!C16,0),0)","v":0},{"$f":"IF(Sheet2!D46=\"x\",IF(Sheet2!D16>=3,Sheet2!D16,0),0)","v":0},{"$f":"IF(Sheet2!E46=\"x\",IF(Sheet2!E16>=3,Sheet2!E16,0),0)","v":0},{"$f":"IF(Sheet2!F46=\"x\",IF(Sheet2!F16>=3,Sheet2!F16,0),0)","v":0},{"$f":"IF(Sheet2!G46=\"x\",IF(Sheet2!G16>=3,Sheet2!G16,0),0)","v":0},{"$f":"IF(Sheet2!H46=\"x\",IF(Sheet2!H16>=3,Sheet2!H16,0),0)","v":0},{"$f":"IF(Sheet2!I46=\"x\",IF(Sheet2!I16>=3,Sheet2!I16,0),0)","v":0},{"$f":"IF(Sheet2!J46=\"x\",IF(Sheet2!J16>=3,Sheet2!J16,0),0)","v":0},{"$f":"IF(Sheet2!K46=\"x\",IF(Sheet2!K16>=3,Sheet2!K16,0),0)","v":0},{"$f":"IF(Sheet2!L46=\"x\",IF(Sheet2!L16>=3,Sheet2!L16,0),0)","v":0},{"$f":"IF(Sheet2!M46=\"x\",IF(Sheet2!M16>=3,Sheet2!M16,0),0)","v":0},{"$f":"IF(Sheet2!N46=\"x\",IF(Sheet2!N16>=3,Sheet2!N16,0),0)","v":0},{"$f":"IF(Sheet2!O46=\"x\",IF(Sheet2!O16>=3,Sheet2!O16,0),0)","v":0},{"$f":"IF(Sheet2!P46=\"x\",IF(Sheet2!P16>=3,Sheet2!P16,0),0)","v":0},{"$f":"IF(Sheet2!Q46=\"x\",IF(Sheet2!Q16>=3,Sheet2!Q16,0),0)","v":0},{"$f":"IF(Sheet2!R46=\"x\",IF(Sheet2!R16>=3,Sheet2!R16,0),0)","v":0},{"$f":"IF(Sheet2!S46=\"x\",IF(Sheet2!S16>=3,Sheet2!S16,0),0)","v":0},{"$f":"IF(Sheet2!T46=\"x\",IF(Sheet2!T16>=3,Sheet2!T16,0),0)","v":0},{"$f":"IF(Sheet2!U46=\"x\",IF(Sheet2!U16>=3,Sheet2!U16,0),0)","v":0},{"$f":"IF(Sheet2!V46=\"x\",IF(Sheet2!V16>=3,Sheet2!V16,0),0)","v":0},{"$f":"IF(Sheet2!W46=\"x\",IF(Sheet2!W16>=3,Sheet2!W16,0),0)","v":0},{"$f":"IF(Sheet2!X46=\"x\",IF(Sheet2!X16>=3,Sheet2!X16,0),0)","v":0},{"$f":"IF(Sheet2!Y46=\"x\",IF(Sheet2!Y16>=3,Sheet2!Y16,0),0)","v":0},{"$f":"IF(Sheet2!Z46=\"x\",IF(Sheet2!Z16>=3,Sheet2!Z16,0),0)","v":0},"x"]
[17,{"$f":"IF(Sheet2!B47=\"x\",IF(Sheet2!B17>=3,Sheet2!B17,0),0)","v":0},{"$f":"IF(Sheet2!C47=\"x\",IF(Sheet2!C17>=3,Sheet2!C17,0),0)","v":0},{"$f":"IF(Sheet2!D47=\"x\",IF(Sheet2!D17>=3,Sheet2!D17,0),0)","v":0},{"$f":"IF(Sheet2!E47=\"x\",IF(Sheet2!E17>=3,Sheet2!E17,0),0)","v":0},{"$f":"IF(Sheet2!F47=\"x\",IF(Sheet2!F17>=3,Sheet2!F17,0),0)","v":0},{"$f":"IF(Sheet2!G47=\"x\",IF(Sheet2!G17>=3,Sheet2!G17,0),0)","v":0},{"$f":"IF(Sheet2!H47=\"x\",IF(Sheet2!H17>=3,Sheet2!H17,0),0)","v":0},{"$f":"IF(Sheet2!I47=\"x\",IF(Sheet2!I17>=3,Sheet2!I17,0),0)","v":0},{"$f":"IF(Sheet2!J47=\"x\",IF(Sheet2!J17>=3,Sheet2!J17,0),0)","v":0},{"$f":"IF(Sheet2!K47=\"x\",IF(Sheet2!K17>=3,Sheet2!K17,0),0)","v":0},{"$f":"IF(Sheet2!L47=\"x\",IF(Sheet2!L17>=3,Sheet2!L17,0),0)","v":0},{"$f":"IF(Sheet2!M47=\"x\",IF(Sheet2!M17>=3,Sheet2!M17,0),0)","v":0},{"$f":"IF(Sheet2!N47=\"x\",IF(Sheet2!N17>=3,Sheet2!N17,0),0)","v":0},{"$f":"IF(Sheet2!O47=\"x\",IF(Sheet2!O17>=3,Sheet2!O17,0),0)","v":0},{"$f":"IF(Sheet2!P47=\"x\",IF(Sheet2!P17>=3,Sheet2!P17,0),0)","v":0},{"$f":"IF(Sheet2!Q47=\"x\",IF(Sheet2!Q17>=3,Sheet2!Q17,0),0)","v":0},{"$f":"IF(Sheet2!R47=\"x\",IF(Sheet2!R17>=3,Sheet2!R17,0),0)","v":0},{"$f":"IF(Sheet2!S47=\"x\",IF(Sheet2!S17>=3,Sheet2!S17,0),0)","v":0},{"$f":"IF(Sheet2!T47=\"x\",IF(Sheet2!T17>=3,Sheet2!T17,0),0)","v":0},{"$f":"IF(Sheet2!U47=\"x\",IF(Sheet2!U17>=3,Sheet2!U17,0),0)","v":0},{"$f":"IF(Sheet2!V47=\"x\",IF(Sheet2!V17>=3,Sheet2!V17,0),0)","v":0},{"$f":"IF(Sheet2!W47=\"x\",IF(Sheet2!W17>=3,Sheet2!W17,0),0)","v":0},{"$f":"IF(Sheet2!X47=\"x\",IF(Sheet2!X17>=3,Sheet2!X17,0),0)","v":0},{"$f":"IF(Sheet2!Y47=\"x\",IF(Sheet2!Y17>=3,Sheet2!Y17,0),0)","v":0},{"$f":"IF(Sheet2!Z47=\"x\",IF(Sheet2!Z17>=3,Sheet2!Z17,0),0)","v":0},"x"]
[18,{"$f":"IF(Sheet2!B48=\"x\",IF(Sheet2!B18>=3,Sheet2!B18,0),0)","v":0},{"$f":"IF(Sheet2!C48=\"x\",IF(Sheet2!C18>=3,Sheet2!C18,0),0)","v":0},{"$f":"IF(Sheet2!D48=\"x\",IF(Sheet2!D18>=3,Sheet2!D18,0),0)","v":0},{"$f":"IF(Sheet2!E48=\"x\",IF(Sheet2!E18>=3,Sheet2!E18,0),0)","v":0},{"$f":"IF(Sheet2!F48=\"x\",IF(Sheet2!F18>=3,Sheet2!F18,0),0)","v":0},{"$f":"IF(Sheet2!G48=\"x\",IF(Sheet2!G18>=3,Sheet2!G18,0),0)","v":0},{"$f":"IF(Sheet2!H48=\"x\",IF(Sheet2!H18>=3,Sheet2!H18,0),0)","v":0},{"$f":"IF(Sheet2!I48=\"x\",IF(Sheet2!I18>=3,Sheet2!I18,0),0)","v":0},{"$f":"IF(Sheet2!J48=\"x\",IF(Sheet2!J18>=3,Sheet2!J18,0),0)","v":0},{"$f":"IF(Sheet2!K48=\"x\",IF(Sheet2!K18>=3,Sheet2!K18,0),0)","v":0},{"$f":"IF(Sheet2!L48=\"x\",IF(Sheet2!L18>=3,Sheet2!L18,0),0)","v":0},{"$f":"IF(Sheet2!M48=\"x\",IF(Sheet2!M18>=3,Sheet2!M18,0),0)","v":0},{"$f":"IF(Sheet2!N48=\"x\",IF(Sheet2!N18>=3,Sheet2!N18,0),0)","v":0},{"$f":"IF(Sheet2!O48=\"x\",IF(Sheet2!O18>=3,Sheet2!O18,0),0)","v":0},{"$f":"IF(Sheet2!P48=\"x\",IF(Sheet2!P18>=3,Sheet2!P18,0),0)","v":0},{"$f":"IF(Sheet2!Q48=\"x\",IF(Sheet2!Q18>=3,Sheet2!Q18,0),0)","v":0},{"$f":"IF(Sheet2!R48=\"x\",IF(Sheet2!R18>=3,Sheet2!R18,0),0)","v":0},{"$f":"IF(Sheet2!S48=\"x\",IF(Sheet2!S18>=3,Sheet2!S18,0),0)","v":0},{"$f":"IF(Sheet2!T48=\"x\",IF(Sheet2!T18>=3,Sheet2!T18,0),0)","v":0},{"$f":"IF(Sheet2!U48=\"x\",IF(Sheet2!U18>=3,Sheet2!U18,0),0)","v":0},{"$f":"IF(Sheet2!V48=\"x\",IF(Sheet2!V18>=3,Sheet2!V18,0),0)","v":0},{"$f":"IF(Sheet2!W48=\"x\",IF(Sheet2!W18>=3,Sheet2!W18,0),0)","v":0},{"$f":"IF(Sheet2!X48=\"x\",IF(Sheet2!X18>=3,Sheet2!X18,0),0)","v":0},{"$f":"IF(Sheet2!Y48=\"x\",IF(Sheet2!Y18>=3,Sheet2!Y18,0),0)","v":0},{"$f":"IF(Sheet2!Z48=\"x\",IF(Sheet2!Z18>=3,Sheet2!Z18,0),0)","v":0},"x"]
[19,{"$f":"IF(Sheet2!B49=\"x\",IF(Sheet2!B19>=3,Sheet2!B19,0),0)","v":0},{"$f":"IF(Sheet2!C49=\"x\",IF(Sheet2!C19>=3,Sheet2!C19,0),0)","v":0},{"$f":"IF(Sheet2!D49=\"x\",IF(Sheet2!D19>=3,Sheet2!D19,0),0)","v":0},{"$f":"IF(Sheet2!E49=\"x\",IF(Sheet2!E19>=3,Sheet2!E19,0),0)","v":0},{"$f":"IF(Sheet2!F49=\"x\",IF(Sheet2!F19>=3,Sheet2!F19,0),0)","v":0},{"$f":"IF(Sheet2!G49=\"x\",IF(Sheet2!G19>=3,Sheet2!G19,0),0)","v":0},{"$f":"IF(Sheet2!H49=\"x\",IF(Sheet2!H19>=3,Sheet2!H19,0),0)","v":0},{"$f":"IF(Sheet2!I49=\"x\",IF(Sheet2!I19>=3,Sheet2!I19,0),0)","v":0},{"$f":"IF(Sheet2!J49=\"x\",IF(Sheet2!J19>=3,Sheet2!J19,0),0)","v":0},{"$f":"IF(Sheet2!K49=\"x\",IF(Sheet2!K19>=3,Sheet2!K19,0),0)","v":0},{"$f":"IF(Sheet2!L49=\"x\",IF(Sheet2!L19>=3,Sheet2!L19,0),0)","v":0},{"$f":"IF(Sheet2!M49=\"x\",IF(Sheet2!M19>=3,Sheet2!M19,0),0)","v":0},{"$f":"IF(Sheet2!N49=\"x\",IF(Sheet2!N19>=3,Sheet2!N19,0),0)","v":0},{"$f":"IF(Sheet2!O49=\"x\",IF(Sheet2!O19>=3,Sheet2!O19,0),0)","v":0},{"$f":"IF(Sheet2!P49=\"x\",IF(Sheet2!P19>=3,Sheet2!P19,0),0)","v":0},{"$f":"IF(Sheet2!Q49=\"x\",IF(Sheet2!Q19>=3,Sheet2!Q19,0),0)","v":0},{"$f":"IF(Sheet2!R49=\"x\",IF(Sheet2!R19>=3,Sheet2!R19,0),0)","v":0},{"$f":"IF(Sheet2!S49=\"x\",IF(Sheet2!S19>=3,Sheet2!S19,0),0)","v":0},{"$f":"IF(Sheet2!T49=\"x\",IF(Sheet2!T19>=3,Sheet2!T19,0),0)","v":0},{"$f":"IF(Sheet2!U49=\"x\",IF(Sheet2!U19>=3,Sheet2!U19,0),0)","v":0},{"$f":"IF(Sheet2!V49=\"x\",IF(Sheet2!V19>=3,Sheet2!V19,0),0)","v":0},{"$f":"IF(Sheet2!W49=\"x\",IF(Sheet2!W19>=3,Sheet2!W19,0),0)","v":0},{"$f":"IF(Sheet2!X49=\"x\",IF(Sheet2!X19>=3,Sheet2!X19,0),0)","v":0},{"$f":"IF(Sheet2!Y49=\"x\",IF(Sheet2!Y19>=3,Sheet2!Y19,0),0)","v":0},{"$f":"IF(Sheet2!Z49=\"x\",IF(Sheet2!Z19>=3,Sheet2!Z19,0),0)","v":0},"x"]
[20,{"$f":"IF(Sheet2!B50=\"x\",IF(Sheet2!B20>=3,Sheet2!B20,0),0)","v":0},{"$f":"IF(Sheet2!C50=\"x\",IF(Sheet2!C20>=3,Sheet2!C20,0),0)","v":0},{"$f":"IF(Sheet2!D50=\"x\",IF(Sheet2!D20>=3,Sheet2!D20,0),0)","v":0},{"$f":"IF(Sheet2!E50=\"x\",IF(Sheet2!E20>=3,Sheet2!E20,0),0)","v":0},{"$f":"IF(Sheet2!F50=\"x\",IF(Sheet2!F20>=3,Sheet2!F20,0),0)","v":0},{"$f":"IF(Sheet2!G50=\"x\",IF(Sheet2!G20>=3,Sheet2!G20,0),0)","v":0},{"$f":"IF(Sheet2!H50=\"x\",IF(Sheet2!H20>=3,Sheet2!H20,0),0)","v":0},{"$f":"IF(Sheet2!I50=\"x\",IF(Sheet2!I20>=3,Sheet2!I20,0),0)","v":0},{"$f":"IF(Sheet2!J50=\"x\",IF(Sheet2!J20>=3,Sheet2!J20,0),0)","v":0},{"$f":"IF(Sheet2!K50=\"x\",IF(Sheet2!K20>=3,Sheet2!K20,0),0)","v":0},{"$f":"IF(Sheet2!L50=\"x\",IF(Sheet2!L20>=3,Sheet2!L20,0),0)","v":0},{"$f":"IF(Sheet2!M50=\"x\",IF(Sheet2!M20>=3,Sheet2!M20,0),0)","v":0},{"$f":"IF(Sheet2!N50=\"x\",IF(Sheet2!N20>=3,Sheet2!N20,0),0)","v":0},{"$f":"IF(Sheet2!O50=\"x\",IF(Sheet2!O20>=3,Sheet2!O20,0),0)","v":0},{"$f":"IF(Sheet2!P50=\"x\",IF(Sheet2!P20>=3,Sheet2!P20,0),0)","v":0},{"$f":"IF(Sheet2!Q50=\"x\",IF(Sheet2!Q20>=3,Sheet2!Q20,0),0)","v":0},{"$f":"IF(Sheet2!R50=\"x\",IF(Sheet2!R20>=3,Sheet2!R20,0),0)","v":0},{"$f":"IF(Sheet2!S50=\"x\",IF(Sheet2!S20>=3,Sheet2!S20,0),0)","v":0},{"$f":"IF(Sheet2!T50=\"x\",IF(Sheet2!T20>=3,Sheet2!T20,0),0)","v":0},{"$f":"IF(Sheet2!U50=\"x\",IF(Sheet2!U20>=3,Sheet2!U20,0),0)","v":0},{"$f":"IF(Sheet2!V50=\"x\",IF(Sheet2!V20>=3,Sheet2!V20,0),0)","v":0},{"$f":"IF(Sheet2!W50=\"x\",IF(Sheet2!W20>=3,Sheet2!W20,0),0)","v":0},{"$f":"IF(Sheet2!X50=\"x\",IF(Sheet2!X20>=3,Sheet2!X20,0),0)","v":0},{"$f":"IF(Sheet2!Y50=\"x\",IF(Sheet2!Y20>=3,Sheet2!Y20,0),0)","v":0},{"$f":"IF(Sheet2!Z50=\"x\",IF(Sheet2!Z20>=3,Sheet2!Z20,0),0)","v":0},"x"]
[21,{"$f":"IF(Sheet2!B51=\"x\",IF(Sheet2!B21>=3,Sheet2!B21,0),0)","v":0},{"$f":"IF(Sheet2!C51=\"x\",IF(Sheet2!C21>=3,Sheet2!C21,0),0)","v":0},{"$f":"IF(Sheet2!D51=\"x\",IF(Sheet2!D21>=3,Sheet2!D21,0),0)","v":0},{"$f":"IF(Sheet2!E51=\"x\",IF(Sheet2!E21>=3,Sheet2!E21,0),0)","v":0},{"$f":"IF(Sheet2!F51=\"x\",IF(Sheet2!F21>=3,Sheet2!F21,0),0)","v":0},{"$f":"IF(Sheet2!G51=\"x\",IF(Sheet2!G21>=3,Sheet2!G21,0),0)","v":0},{"$f":"IF(Sheet2!H51=\"x\",IF(Sheet2!H21>=3,Sheet2!H21,0),0)","v":0},{"$f":"IF(Sheet2!I51=\"x\",IF(Sheet2!I21>=3,Sheet2!I21,0),0)","v":0},{"$f":"IF(Sheet2!J51=\"x\",IF(Sheet2!J21>=3,Sheet2!J21,0),0)","v":0},{"$f":"IF(Sheet2!K51=\"x\",IF(Sheet2!K21>=3,Sheet2!K21,0),0)","v":0},{"$f":"IF(Sheet2!L51=\"x\",IF(Sheet2!L21>=3,Sheet2!L21,0),0)","v":0},{"$f":"IF(Sheet2!M51=\"x\",IF(Sheet2!M21>=3,Sheet2!M21,0),0)","v":0},{"$f":"IF(Sheet2!N51=\"x\",IF(Sheet2!N21>=3,Sheet2!N21,0),0)","v":0},{"$f":"IF(Sheet2!O51=\"x\",IF(Sheet2!O21>=3,Sheet2!O21,0),0)","v":0},{"$f":"IF(Sheet2!P51=\"x\",IF(Sheet2!P21>=3,Sheet2!P21,0),0)","v":0},{"$f":"IF(Sheet2!Q51=\"x\",IF(Sheet2!Q21>=3,Sheet2!Q21,0),0)","v":0},{"$f":"IF(Sheet2!R51=\"x\",IF(Sheet2!R21>=3,Sheet2!R21,0),0)","v":0},{"$f":"IF(Sheet2!S51=\"x\",IF(Sheet2!S21>=3,Sheet2!S21,0),0)","v":0},{"$f":"IF(Sheet2!T51=\"x\",IF(Sheet2!T21>=3,Sheet2!T21,0),0)","v":0},{"$f":"IF(Sheet2!U51=\"x\",IF(Sheet2!U21>=3,Sheet2!U21,0),0)","v":0},{"$f":"IF(Sheet2!V51=\"x\",IF(Sheet2!V21>=3,Sheet2!V21,0),0)","v":0},{"$f":"IF(Sheet2!W51=\"x\",IF(Sheet2!W21>=3,Sheet2!W21,0),0)","v":0},{"$f":"IF(Sheet2!X51=\"x\",IF(Sheet2!X21>=3,Sheet2!X21,0),0)","v":0},{"$f":"IF(Sheet2!Y51=\"x\",IF(Sheet2!Y21>=3,Sheet2!Y21,0),0)","v":0},{"$f":"IF(Sheet2!Z51=\"x\",IF(Sheet2!Z21>=3,Sheet2!Z21,0),0)","v":0},"x"]
[22,{"$f":"IF(Sheet2!B52=\"x\",IF(Sheet2!B22>=3,Sheet2!B22,0),0)","v":0},{"$f":"IF(Sheet2!C52=\"x\",IF(Sheet2!C22>=3,Sheet2!C22,0),0)","v":0},{"$f":"IF(Sheet2!D52=\"x\",IF(Sheet2!D22>=3,Sheet2!D22,0),0)","v":0},{"$f":"IF(Sheet2!E52=\"x\",IF(Sheet2!E22>=3,Sheet2!E22,0),0)","v":0},{"$f":"IF(Sheet2!F52=\"x\",IF(Sheet2!F22>=3,Sheet2!F22,0),0)","v":0},{"$f":"IF(Sheet2!G52=\"x\",IF(Sheet2!G22>=3,Sheet2!G22,0),0)","v":0},{"$f":"IF(Sheet2!H52=\"x\",IF(Sheet2!H22>=3,Sheet2!H22,0),0)","v":0},{"$f":"IF(Sheet2!I52=\"x\",IF(Sheet2!I22>=3,Sheet2!I22,0),0)","v":0},{"$f":"IF(Sheet2!J52=\"x\",IF(Sheet2!J22>=3,Sheet2!J22,0),0)","v":0},{"$f":"IF(Sheet2!K52=\"x\",IF(Sheet2!K22>=3,Sheet2!K22,0),0)","v":0},{"$f":"IF(Sheet2!L52=\"x\",IF(Sheet2!L22>=3,Sheet2!L22,0),0)","v":0},{"$f":"IF(Sheet2!M52=\"x\",IF(Sheet2!M22>=3,Sheet2!M22,0),0)","v":0},{"$f":"IF(Sheet2!N52=\"x\",IF(Sheet2!N22>=3,Sheet2!N22,0),0)","v":0},{"$f":"IF(Sheet2!O52=\"x\",IF(Sheet2!O22>=3,Sheet2!O22,0),0)","v":0},{"$f":"IF(Sheet2!P52=\"x\",IF(Sheet2!P22>=3,Sheet2!P22,0),0)","v":0},{"$f":"IF(Sheet2!Q52=\"x\",IF(Sheet2!Q22>=3,Sheet2!Q22,0),0)","v":0},{"$f":"IF(Sheet2!R52=\"x\",IF(Sheet2!R22>=3,Sheet2!R22,0),0)","v":0},{"$f":"IF(Sheet2!S52=\"x\",IF(Sheet2!S22>=3,Sheet2!S22,0),0)","v":0},{"$f":"IF(Sheet2!T52=\"x\",IF(Sheet2!T22>=3,Sheet2!T22,0),0)","v":0},{"$f":"IF(Sheet2!U52=\"x\",IF(Sheet2!U22>=3,Sheet2!U22,0),0)","v":0},{"$f":"IF(Sheet2!V52=\"x\",IF(Sheet2!V22>=3,Sheet2!V22,0),0)","v":0},{"$f":"IF(Sheet2!W52=\"x\",IF(Sheet2!W22>=3,Sheet2!W22,0),0)","v":0},{"$f":"IF(Sheet2!X52=\"x\",IF(Sheet2!X22>=3,Sheet2!X22,0),0)","v":0},{"$f":"IF(Sheet2!Y52=\"x\",IF(Sheet2!Y22>=3,Sheet2!Y22,0),0)","v":0},{"$f":"IF(Sheet2!Z52=\"x\",IF(Sheet2!Z22>=3,Sheet2!Z22,0),0)","v":0},"x"]
[23,{"$f":"IF(Sheet2!B53=\"x\",IF(Sheet2!B23>=3,Sheet2!B23,0),0)","v":0},{"$f":"IF(Sheet2!C53=\"x\",IF(Sheet2!C23>=3,Sheet2!C23,0),0)","v":0},{"$f":"IF(Sheet2!D53=\"x\",IF(Sheet2!D23>=3,Sheet2!D23,0),0)","v":0},{"$f":"IF(Sheet2!E53=\"x\",IF(Sheet2!E23>=3,Sheet2!E23,0),0)","v":0},{"$f":"IF(Sheet2!F53=\"x\",IF(Sheet2!F23>=3,Sheet2!F23,0),0)","v":0},{"$f":"IF(Sheet2!G53=\"x\",IF(Sheet2!G23>=3,Sheet2!G23,0),0)","v":0},{"$f":"IF(Sheet2!H53=\"x\",IF(Sheet2!H23>=3,Sheet2!H23,0),0)","v":0},{"$f":"IF(Sheet2!I53=\"x\",IF(Sheet2!I23>=3,Sheet2!I23,0),0)","v":0},{"$f":"IF(Sheet2!J53=\"x\",IF(Sheet2!J23>=3,Sheet2!J23,0),0)","v":0},{"$f":"IF(Sheet2!K53=\"x\",IF(Sheet2!K23>=3,Sheet2!K23,0),0)","v":0},{"$f":"IF(Sheet2!L53=\"x\",IF(Sheet2!L23>=3,Sheet2!L23,0),0)","v":0},{"$f":"IF(Sheet2!M53=\"x\",IF(Sheet2!M23>=3,Sheet2!M23,0),0)","v":0},{"$f":"IF(Sheet2!N53=\"x\",IF(Sheet2!N23>=3,Sheet2!N23,0),0)","v":0},{"$f":"IF(Sheet2!O53=\"x\",IF(Sheet2!O23>=3,Sheet2!O23,0),0)","v":0},{"$f":"IF(Sheet2!P53=\"x\",IF(Sheet2!P23>=3,Sheet2!P23,0),0)","v":0},{"$f":"IF(Sheet2!Q53=\"x\",IF(Sheet2!Q23>=3,Sheet2!Q23,0),0)","v":0},{"$f":"IF(Sheet2!R53=\"x\",IF(Sheet2!R23>=3,Sheet2!R23,0),0)","v":0},{"$f":"IF(Sheet2!S53=\"x\",IF(Sheet2!S23>=3,Sheet2!S23,0),0)","v":0},{"$f":"IF(Sheet2!T53=\"x\",IF(Sheet2!T23>=3,Sheet2!T23,0),0)","v":0},{"$f":"IF(Sheet2!U53=\"x\",IF(Sheet2!U23>=3,Sheet2!U23,0),0)","v":0},{"$f":"IF(Sheet2!V53=\"x\",IF(Sheet2!V23>=3,Sheet2!V23,0),0)","v":0},{"$f":"IF(Sheet2!W53=\"x\",IF(Sheet2!W23>=3,Sheet2!W23,0),0)","v":0},{"$f":"IF(Sheet2!X53=\"x\",IF(Sheet2!X23>=3,Sheet2!X23,0),0)","v":0},{"$f":"IF(Sheet2!Y53=\"x\",IF(Sheet2!Y23>=3,Sheet2!Y23,0),0)","v":0},{"$f":"IF(Sheet2!Z53=\"x\",IF(Sheet2!Z23>=3,Sheet2!Z23,0),0)","v":0},"x"]
[24,{"$f":"IF(Sheet2!B54=\"x\",IF(Sheet2!B24>=3,Sheet2!B24,0),0)","v":0},{"$f":"IF(Sheet2!C54=\"x\",IF(Sheet2!C24>=3,Sheet2!C24,0),0)","v":0},{"$f":"IF(Sheet2!D54=\"x\",IF(Sheet2!D24>=3,Sheet2!D24,0),0)","v":0},{"$f":"IF(Sheet2!E54=\"x\",IF(Sheet2!E24>=3,Sheet2!E24,0),0)","v":0},{"$f":"IF(Sheet2!F54=\"x\",IF(Sheet2!F24>=3,Sheet2!F24,0),0)","v":0},{"$f":"IF(Sheet2!G54=\"x\",IF(Sheet2!G24>=3,Sheet2!G24,0),0)","v":0},{"$f":"IF(Sheet2!H54=\"x\",IF(Sheet2!H24>=3,Sheet2!H24,0),0)","v":0},{"$f":"IF(Sheet2!I54=\"x\",IF(Sheet2!I24>=3,Sheet2!I24,0),0)","v":0},{"$f":"IF(Sheet2!J54=\"x\",IF(Sheet2!J24>=3,Sheet2!J24,0),0)","v":0},{"$f":"IF(Sheet2!K54=\"x\",IF(Sheet2!K24>=3,Sheet2!K24,0),0)","v":0},{"$f":"IF(Sheet2!L54=\"x\",IF(Sheet2!L24>=3,Sheet2!L24,0),0)","v":0},{"$f":"IF(Sheet2!M54=\"x\",IF(Sheet2!M24>=3,Sheet2!M24,0),0)","v":0},{"$f":"IF(Sheet2!N54=\"x\",IF(Sheet2!N24>=3,Sheet2!N24,0),0)","v":0},{"$f":"IF(Sheet2!O54=\"x\",IF(Sheet2!O24>=3,Sheet2!O24,0),0)","v":0},{"$f":"IF(Sheet2!P54=\"x\",IF(Sheet2!P24>=3,Sheet2!P24,0),0)","v":0},{"$f":"IF(Sheet2!Q54=\"x\",IF(Sheet2!Q24>=3,Sheet2!Q24,0),0)","v":0},{"$f":"IF(Sheet2!R54=\"x\",IF(Sheet2!R24>=3,Sheet2!R24,0),0)","v":0},{"$f":"IF(Sheet2!S54=\"x\",IF(Sheet2!S24>=3,Sheet2!S24,0),0)","v":0},{"$f":"IF(Sheet2!T54=\"x\",IF(Sheet2!T24>=3,Sheet2!T24,0),0)","v":0},{"$f":"IF(Sheet2!U54=\"x\",IF(Sheet2!U24>=3,Sheet2!U24,0),0)","v":0},{"$f":"IF(Sheet2!V54=\"x\",IF(Sheet2!V24>=3,Sheet2!V24,0),0)","v":0},{"$f":"IF(Sheet2!W54=\"x\",IF(Sheet2!W24>=3,Sheet2!W24,0),0)","v":0},{"$f":"IF(Sheet2!X54=\"x\",IF(Sheet2!X24>=3,Sheet2!X24,0),0)","v":0},{"$f":"IF(Sheet2!Y54=\"x\",IF(Sheet2!Y24>=3,Sheet2!Y24,0),0)","v":0},{"$f":"IF(Sheet2!Z54=\"x\",IF(Sheet2!Z24>=3,Sheet2!Z24,0),0)","v":0},"x"]
[25,{"$f":"IF(Sheet2!B55=\"x\",IF(Sheet2!B25>=3,Sheet2!B25,0),0)","v":0},{"$f":"IF(Sheet2!C55=\"x\",IF(Sheet2!C25>=3,Sheet2!C25,0),0)","v":0},{"$f":"IF(Sheet2!D55=\"x\",IF(Sheet2!D25>=3,Sheet2!D25,0),0)","v":0},{"$f":"IF(Sheet2!E55=\"x\",IF(Sheet2!E25>=3,Sheet2!E25,0),0)","v":0},{"$f":"IF(Sheet2!F55=\"x\",IF(Sheet2!F25>=3,Sheet2!F25,0),0)","v":0},{"$f":"IF(Sheet2!G55=\"x\",IF(Sheet2!G25>=3,Sheet2!G25,0),0)","v":0},{"$f":"IF(Sheet2!H55=\"x\",IF(Sheet2!H25>=3,Sheet2!H25,0),0)","v":0},{"$f":"IF(Sheet2!I55=\"x\",IF(Sheet2!I25>=3,Sheet2!I25,0),0)","v":0},{"$f":"IF(Sheet2!J55=\"x\",IF(Sheet2!J25>=3,Sheet2!J25,0),0)","v":0},{"$f":"IF(Sheet2!K55=\"x\",IF(Sheet2!K25>=3,Sheet2!K25,0),0)","v":0},{"$f":"IF(Sheet2!L55=\"x\",IF(Sheet2!L25>=3,Sheet2!L25,0),0)","v":0},{"$f":"IF(Sheet2!M55=\"x\",IF(Sheet2!M25>=3,Sheet2!M25,0),0)","v":0},{"$f":"IF(Sheet2!N55=\"x\",IF(Sheet2!N25>=3,Sheet2!N25,0),0)","v":0},{"$f":"IF(Sheet2!O55=\"x\",IF(Sheet2!O25>=3,Sheet2!O25,0),0)","v":0},{"$f":"IF(Sheet2!P55=\"x\",IF(Sheet2!P25>=3,Sheet2!P25,0),0)","v":0},{"$f":"IF(Sheet2!Q55=\"x\",IF(Sheet2!Q25>=3,Sheet2!Q25,0),0)","v":0},{"$f":"IF(Sheet2!R55=\"x\",IF(Sheet2!R25>=3,Sheet2!R25,0),0)","v":0},{"$f":"IF(Sheet2!S55=\"x\",IF(Sheet2!S25>=3,Sheet2!S25,0),0)","v":0},{"$f":"IF(Sheet2!T55=\"x\",IF(Sheet2!T25>=3,Sheet2!T25,0),0)","v":0},{"$f":"IF(Sheet2!U55=\"x\",IF(Sheet2!U25>=3,Sheet2!U25,0),0)","v":0},{"$f":"IF(Sheet2!V55=\"x\",IF(Sheet2!V25>=3,Sheet2!V25,0),0)","v":0},{"$f":"IF(Sheet2!W55=\"x\",IF(Sheet2!W25>=3,Sheet2!W25,0),0)","v":0},{"$f":"IF(Sheet2!X55=\"x\",IF(Sheet2!X25>=3,Sheet2!X25,0),0)","v":0},{"$f":"IF(Sheet2!Y55=\"x\",IF(Sheet2!Y25>=3,Sheet2!Y25,0),0)","v":0},{"$f":"IF(Sheet2!Z55=\"x\",IF(Sheet2!Z25>=3,Sheet2!Z25,0),0)","v":0},"x"]
[26,{"$f":"IF(Sheet2!B56=\"x\",IF(Sheet2!B26>=3,Sheet2!B26,0),0)","v":0},{"$f":"IF(Sheet2!C56=\"x\",IF(Sheet2!C26>=3,Sheet2!C26,0),0)","v":0},{"$f":"IF(Sheet2!D56=\"x\",IF(Sheet2!D26>=3,Sheet2!D26,0),0)","v":0},{"$f":"IF(Sheet2!E56=\"x\",IF(Sheet2!E26>=3,Sheet2!E26,0),0)","v":0},{"$f":"IF(Sheet2!F56=\"x\",IF(Sheet2!F26>=3,Sheet2!F26,0),0)","v":0},{"$f":"IF(Sheet2!G56=\"x\",IF(Sheet2!G26>=3,Sheet2!G26,0),0)","v":0},{"$f":"IF(Sheet2!H56=\"x\",IF(Sheet2!H26>=3,Sheet2!H26,0),0)","v":0},{"$f":"IF(Sheet2!I56=\"x\",IF(Sheet2!I26>=3,Sheet2!I26,0),0)","v":0},{"$f":"IF(Sheet2!J56=\"x\",IF(Sheet2!J26>=3,Sheet2!J26,0),0)","v":0},{"$f":"IF(Sheet2!K56=\"x\",IF(Sheet2!K26>=3,Sheet2!K26,0),0)","v":0},{"$f":"IF(Sheet2!L56=\"x\",IF(Sheet2!L26>=3,Sheet2!L26,0),0)","v":0},{"$f":"IF(Sheet2!M56=\"x\",IF(Sheet2!M26>=3,Sheet2!M26,0),0)","v":0},{"$f":"IF(Sheet2!N56=\"x\",IF(Sheet2!N26>=3,Sheet2!N26,0),0)","v":0},{"$f":"IF(Sheet2!O56=\"x\",IF(Sheet2!O26>=3,Sheet2!O26,0),0)","v":0},{"$f":"IF(Sheet2!P56=\"x\",IF(Sheet2!P26>=3,Sheet2!P26,0),0)","v":0},{"$f":"IF(Sheet2!Q56=\"x\",IF(Sheet2!Q26>=3,Sheet2!Q26,0),0)","v":0},{"$f":"IF(Sheet2!R56=\"x\",IF(Sheet2!R26>=3,Sheet2!R26,0),0)","v":0},{"$f":"IF(Sheet2!S56=\"x\",IF(Sheet2!S26>=3,Sheet2!S26,0),0)","v":0},{"$f":"IF(Sheet2!T56=\"x\",IF(Sheet2!T26>=3,Sheet2!T26,0),0)","v":0},{"$f":"IF(Sheet2!U56=\"x\",IF(Sheet2!U26>=3,Sheet2!U26,0),0)","v":0},{"$f":"IF(Sheet2!V56=\"x\",IF(Sheet2!V26>=3,Sheet2!V26,0),0)","v":0},{"$f":"IF(Sheet2!W56=\"x\",IF(Sheet2!W26>=3,Sheet2!W26,0),0)","v":0},{"$f":"IF(Sheet2!X56=\"x\",IF(Sheet2!X26>=3,Sheet2!X26,0),0)","v":0},{"$f":"IF(Sheet2!Y56=\"x\",IF(Sheet2!Y26>=3,Sheet2!Y26,0),0)","v":0},{"$f":"IF(Sheet2!Z56=\"x\",IF(Sheet2!Z26>=3,Sheet2!Z26,0),0)","v":0},"x"]
[null,{"$f":"SUM(B63:Z87)","v":0},{"$nulls":24},"x"]
[{"$nulls":26},"x"]
[{"$nulls":26},"x"]
[{"$nulls":26},"x"]
[{"$nulls":26},"x"]
[{"$nulls":26},"x"]
[{"$nulls":26},"x"]
[{"$nulls":26},"x"]
[{"$nulls":26},"x"]
[{"$nulls":26},"x"]
[{"$nulls":26},"x"]
[{"$nulls":26},"x"]
[{"$nulls":26},"x"]
[{"$nulls":26},"x"]
[{"$nulls":26},"x"]
[{"$nulls":26},"x"]
[{"$nulls":26},"x"]
[{"$nulls":26},"x"]
[{"$nulls":26},"x"]
[{"$nulls":26},"x"]
[{"$nulls":26},"x"]
[{"$nulls":26},"x"]
[{"$nulls":26},"x"]
[{"$nulls":26},"x"]
[{"$nulls":26},"x"]
[{"$nulls":26},"x"]
[{"$nulls":26},"x"]
[{"$nulls":26},"x"]
[{"$nulls":26},"x"]
[{"$nulls":26},"x"]
[{"$nulls":26},"x"]
[{"$nulls":26},"x"]
[{"$nulls":26},"x"]
[{"$nulls":26},"x"]
[{"$nulls":26},"x"]
[{"$nulls":26},"x"]
[{"$nulls":26},"x"]
[{"$nulls":26},"x"]
[{"$nulls":26},"x"]
[{"$nulls":26},"x"]
[{"$nulls":26},"x"]
[{"$nulls":26},"x"]
[{"$nulls":26},"x"]
[{"$nulls":26},"x"]
[{"$nulls":26},"x"]
[{"$nulls":26},"x"]
[{"$nulls":26},"x"]
[{"$nulls":26},"x"]
[{"$nulls":26},"x"]
[{"$nulls":26},"x"]
[{"$nulls":26},"x"]
[{"$nulls":26},"x"]
[{"$nulls":26},"x"]
[{"$nulls":26},"x"]
[{"$nulls":26},"x"]
[{"$nulls":26},"x"]
[{"$nulls":26},"x"]
[{"$nulls":26},"x"]
[{"$nulls":26},"x"]
[{"$nulls":26},"x"]
[{"$nulls":26},"x"]
[{"$nulls":26},"x"]
[{"$nulls":26},"x"]
[{"$nulls":26},"x"]
[{"$nulls":26},"x"]
[{"$nulls":26},"x"]
[{"$nulls":26},"x"]
[{"$nulls":26},"x"]
[{"$nulls":26},"x"]
[{"$nulls":26},"x"]
[{"$nulls":26},"x"]
[{"$nulls":26},"x"]
[{"$nulls":26},"x"]
[{"$nulls":26},"x"]
[{"$nulls":26},"x"]
[{"$nulls":26},"x"]
[{"$nulls":26},"x"]
[{"$nulls":26},"x"]
[{"$nulls":26},"x"]
[{"$nulls":26},"x"]
[{"$nulls":26},"x"]
[{"$nulls":26},"x"]
[{"$nulls":26},"x"]
[{"$nulls":26},"x"]
[{"$nulls":26},"x"]
[{"$nulls":26},"x"]
[{"$nulls":26},"x"]
[{"$nulls":26},"x"]
[{"$nulls":26},"x"]
[{"$nulls":26},"x"]
[{"$nulls":26},"x"]
[{"$nulls":26},"x"]
[{"$nulls":26},"x"]
[{"$nulls":26},"x"]
[{"$nulls":26},"x"]
[{"$nulls":26},"x"]
[{"$nulls":26},"x"]
[{"$nulls":26},"x"]
[{"$nulls":26},"x"]
[{"$nulls":26},"x"]
[{"$nulls":26},"x"]
[{"$nulls":26},"x"]
[{"$nulls":26},"x"]
[{"$nulls":26},"x"]
[{"$nulls":26},"x"]
[{"$nulls":26},"x"]
[{"$nulls":26},"x"]
[{"$nulls":26},"x"]
[{"$nulls":26},"x"]
[{"$nulls":26},"x"]
[{"$nulls":26},"x"]
[{"$nulls":26},"x"]
[{"$nulls":26},"x"]
[{"$nulls":26},"x"]
[{"$nulls":26},"x"]
[{"$nulls":26},"x"]
[{"$nulls":26},"x"]
[{"$nulls":26},"x"]
[{"$nulls":26},"x"]
[{"$nulls":26},"x"]
[{"$nulls":26},"x"]
[{"$nulls":26},"x"]
[{"$nulls":26},"x"]
[{"$nulls":26},"x"]
[{"$nulls":26},"x"]
[{"$nulls":26},"x"]
[{"$nulls":26},"x"]
[{"$nulls":26},"x"]
[{"$nulls":26},"x"]
[{"$nulls":26},"x"]
[{"$nulls":26},"x"]
[{"$nulls":26},"x"]
[{"$nulls":26},"x"]
[{"$nulls":26},"x"]
[{"$nulls":26},"x"]
[{"$nulls":26},"x"]
[{"$nulls":26},"x"]
[{"$nulls":26},"x"]
[{"$nulls":26},"x"]
[{"$nulls":26},"x"]
[{"$nulls":26},"x"]
[{"$nulls":26},"x"]
[{"$nulls":26},"x"]
[{"$nulls":26},"x"]
[{"$nulls":26},"x"]
[{"$nulls":26},"x"]
[{"$nulls":26},"x"]
[{"$nulls":26},"x"]
[{"$nulls":26},"x"]
[{"$nulls":26},"x"]
[{"$nulls":26},"x"]
[{"$nulls":26},"x"]
[{"$nulls":26},"x"]
[{"$nulls":26},"x"]
[{"$nulls":26},"x"]
[{"$nulls":26},"x"]
[{"$nulls":26},"x"]
[{"$nulls":26},"x"]
[{"$nulls":26},"x"]
[{"$nulls":26},"x"]
[{"$nulls":26},"x"]
[{"$nulls":26},"x"]
[{"$nulls":26},"x"]
[{"$nulls":26},"x"]
[{"$nulls":26},"x"]
[{"$nulls":26},"x"]
[{"$nulls":26},"x"]
[{"$nulls":26},"x"]
[{"$nulls":26},"x"]
[{"$nulls":26},"x"]
[{"$nulls":26},"x"]
[{"$nulls":26},"x"]
[{"$nulls":26},"x"]
[{"$nulls":26},"x"]
[{"$nulls":26},"x"]
[{"$nulls":26},"x"]
[{"$nulls":26},"x"]
[{"$nulls":26},"x"]
[{"$nulls":26},"x"]
[{"$nulls":26},"x"]
[{"$nulls":26},"x"]
[{"$nulls":26},"x"]
[{"$nulls":26},"x"]
[{"$nulls":26},"x"]
[{"$nulls":26},"x"]
[{"$nulls":26},"x"]
[{"$nulls":26},"x"]
[{"$nulls":26},"x"]
[{"$nulls":26},"x"]
[{"$nulls":26},"x"]
[{"$nulls":26},"x"]
[{"$nulls":26},"x"]
[{"$nulls":26},"x"]
[{"$nulls":26},"x"]
[{"$nulls":26},"x"]
[{"$nulls":26},"x"]
[{"$nulls":26},"x"]
[{"$nulls":26},"x"]
[{"$nulls":26},"x"]
[{"$nulls":26},"x"]
[{"$nulls":26},"x"]
[{"$nulls":26},"x"]
[{"$nulls":26},"x"]
[{"$nulls":26},"x"]
[{"$nulls":26},"x"]
[{"$nulls":26},"x"]
[{"$nulls":26},"x"]
[{"$nulls":26},"x"]
[{"$nulls":26},"x"]
[{"$nulls":26},"x"]
[{"$nulls":26},"x"]
[{"$nulls":26},"x"]
[{"$nulls":26},"x"]
[{"$nulls":26},"x"]
[{"$nulls":26},"x"]
[{"$nulls":26},"x"]
[{"$nulls":26},"x"]
[{"$nulls":26},"x"]
[{"$nulls":26},"x"]
[{"$nulls":26},"x"]
[{"$nulls":26},"x"]
[{"$nulls":26},"x"]
[{"$nulls":26},"x"]
[{"$nulls":26},"x"]
[{"$nulls":26},"x"]
[{"$nulls":26},"x"]
[{"$nulls":26},"x"]
[{"$nulls":26},"x"]
[{"$nulls":26},"x"]
[{"$nulls":26},"x"]
[{"$nulls":26},"x"]
[{"$nulls":26},"x"]
[{"$nulls":26},"x"]
[{"$nulls":26},"x"]
[{"$nulls":26},"x"]
[{"$nulls":26},"x"]
[{"$nulls":26},"x"]
[{"$nulls":26},"x"]
[{"$nulls":26},"x"]
[{"$nulls":26},"x"]
[{"$nulls":26},"x"]
[{"$nulls":26},"x"]
[{"$nulls":26},"x"]
[{"$nulls":26},"x"]
[{"$nulls":26},"x"]
[{"$nulls":26},"x"]
[{"$nulls":26},"x"]
[{"$nulls":26},"x"]
[{"$nulls":26},"x"]
[{"$nulls":26},"x"]
[{"$nulls":26},"x"]
[{"$nulls":26},"x"]
[{"$nulls":26},"x"]
[{"$nulls":26},"x"]
[{"$nulls":26},"x"]
[{"$nulls":26},"x"]
[{"$nulls":26},"x"]
[{"$nulls":26},"x"]
[{"$nulls":26},"x"]
[{"$nulls":26},"x"]
[{"$nulls":26},"x"]
[{"$nulls":26},"x"]
[{"$nulls":26},"x"]
[{"$nulls":26},"x"]
[{"$nulls":26},"x"]
[{"$nulls":26},"x"]
[{"$nulls":26},"x"]
[{"$nulls":26},"x"]
[{"$nulls":26},"x"]
[{"$nulls":26},"x"]
[{"$nulls":26},"x"]
[{"$nulls":26},"x"]
[{"$nulls":26},"x"]
[{"$nulls":26},"x"]
[{"$nulls":26},"x"]
[{"$nulls":26},"x"]
[{"$nulls":26},"x"]
[{"$nulls":26},"x"]
[{"$nulls":26},"x"]
[{"$nulls":26},"x"]
[{"$nulls":26},"x"]
[{"$nulls":26},"x"]
[{"$nulls":26},"x"]
[{"$nulls":26},"x"]
[{"$nulls":26},"x"]
[{"$nulls":26},"x"]
[{"$nulls":26},"x"]
[{"$nulls":26},"x"]
[{"$nulls":26},"x"]
[{"$nulls":26},"x"]
[{"$nulls":26},"x"]
[{"$nulls":26},"x"]
[{"$nulls":26},"x"]
[{"$nulls":26},"x"]
[{"$nulls":26},"x"]
[{"$nulls":26},"x"]
[{"$nulls":26},"x"]
[{"$nulls":26},"x"]
[{"$nulls":26},"x"]
[{"$nulls":26},"x"]
[{"$nulls":26},"x"]
[{"$nulls":26},"x"]
[{"$nulls":26},"x"]
[{"$nulls":26},"x"]
[{"$nulls":26},"x"]
[{"$nulls":26},"x"]
[{"$nulls":26},"x"]
[{"$nulls":26},"x"]
[{"$nulls":26},"x"]
[{"$nulls":26},"x"]
[{"$nulls":26},"x"]
[{"$nulls":26},"x"]
[{"$nulls":26},"x"]
[{"$nulls":26},"x"]
[{"$nulls":26},"x"]
[{"$nulls":26},"x"]
[{"$nulls":26},"x"]
[{"$nulls":26},"x"]
[{"$nulls":26},"x"]
[{"$nulls":26},"x"]
[{"$nulls":26},"x"]
[{"$nulls":26},"x"]
[{"$nulls":26},"x"]
[{"$nulls":26},"x"]
[{"$nulls":26},"x"]
[{"$nulls":26},"x"]
[{"$nulls":26},"x"]
[{"$nulls":26},"x"]
[{"$nulls":26},"x"]
[{"$nulls":26},"x"]
[{"$nulls":26},"x"]
[{"$nulls":26},"x"]
[{"$nulls":26},"x"]
[{"$nulls":26},"x"]
[{"$nulls":26},"x"]
[{"$nulls":26},"x"]
[{"$nulls":26},"x"]
[{"$nulls":26},"x"]
[{"$nulls":26},"x"]
[{"$nulls":26},"x"]
[{"$nulls":26},"x"]
[{"$nulls":26},"x"]
[{"$nulls":26},"x"]
[{"$nulls":26},"x"]
[{"$nulls":26},"x"]
[{"$nulls":26},"x"]
[{"$nulls":26},"x"]
[{"$nulls":26},"x"]
[{"$nulls":26},"x"]
[{"$nulls":26},"x"]
[{"$nulls":26},"x"]
[{"$nulls":26},"x"]
[{"$nulls":26},"x"]
[{"$nulls":26},"x"]
[{"$nulls":26},"x"]
[{"$nulls":26},"x"]
[{"$nulls":26},"x"]
[{"$nulls":26},"x"]
[{"$nulls":26},"x"]
[{"$nulls":26},"x"]
[{"$nulls":26},"x"]
[{"$nulls":26},"x"]
[{"$nulls":26},"x"]
[{"$nulls":26},"x"]
[{"$nulls":26},"x"]
[{"$nulls":26},"x"]
[{"$nulls":26},"x"]
[{"$nulls":26},"x"]
[{"$nulls":26},"x"]
[{"$nulls":26},"x"]
[{"$nulls":26},"x"]
[{"$nulls":26},"x"]
[{"$nulls":26},"x"]
[{"$nulls":26},"x"]
[{"$nulls":26},"x"]
[{"$nulls":26},"x"]
[{"$nulls":26},"x"]
[{"$nulls":26},"x"]
[{"$nulls":26},"x"]
[{"$nulls":26},"x"]
[{"$nulls":26},"x"]
[{"$nulls":26},"x"]
[{"$nulls":26},"x"]
[{"$nulls":26},"x"]
[{"$nulls":26},"x"]
[{"$nulls":26},"x"]
[{"$nulls":26},"x"]
[{"$nulls":26},"x"]
[{"$nulls":26},"x"]
[{"$nulls":26},"x"]
[{"$nulls":26},"x"]
[{"$nulls":26},"x"]
[{"$nulls":26},"x"]
[{"$nulls":26},"x"]
[{"$nulls":26},"x"]
[{"$nulls":26},"x"]
[{"$nulls":26},"x"]
[{"$nulls":26},"x"]
[{"$nulls":26},"x"]
[{"$nulls":26},"x"]
[{"$nulls":26},"x"]
[{"$nulls":26},"x"]
[{"$nulls":26},"x"]
[{"$nulls":26},"x"]
[{"$nulls":26},"x"]
[{"$nulls":26},"x"]
[{"$nulls":26},"x"]
[{"$nulls":26},"x"]
[{"$nulls":26},"x"]
[{"$nulls":26},"x"]
[{"$nulls":26},"x"]
[{"$nulls":26},"x"]
[{"$nulls":26},"x"]
[{"$nulls":26},"x"]
[{"$nulls":26},"x"]
[{"$nulls":26},"x"]
[{"$nulls":26},"x"]
[{"$nulls":26},"x"]
[{"$nulls":26},"x"]
[{"$nulls":26},"x"]
[{"$nulls":26},"x"]
[{"$nulls":26},"x"]
[{"$nulls":26},"x"]
[{"$nulls":26},"x"]
[{"$nulls":26},"x"]
[{"$nulls":26},"x"]
[{"$nulls":26},"x"]
[{"$nulls":26},"x"]
[{"$nulls":26},"x"]
[{"$nulls":26},"x"]
[{"$nulls":26},"x"]
[{"$nulls":26},"x"]
[{"$nulls":26},"x"]
[{"$nulls":26},"x"]
[{"$nulls":26},"x"]
[{"$nulls":26},"x"]
[{"$nulls":26},"x"]
[{"$nulls":26},"x"]
[{"$nulls":26},"x"]
[{"$nulls":26},"x"]
[{"$nulls":26},"x"]
[{"$nulls":26},"x"]
[{"$nulls":26},"x"]
[{"$nulls":26},"x"]
[{"$nulls":26},"x"]
[{"$nulls":26},"x"]
[{"$nulls":26},"x"]
[{"$nulls":26},"x"]
[{"$nulls":26},"x"]
[{"$nulls":26},"x"]
[{"$nulls":26},"x"]
[{"$nulls":26},"x"]
[{"$nulls":26},"x"]
[{"$nulls":26},"x"]
[{"$nulls":26},"x"]
[{"$nulls":26},"x"]
[{"$nulls":26},"x"]
[{"$nulls":26},"x"]
[{"$nulls":26},"x"]
[{"$nulls":26},"x"]
[{"$nulls":26},"x"]
[{"$nulls":26},"x"]
[{"$nulls":26},"x"]
[{"$nulls":26},"x"]
[{"$nulls":26},"x"]
[{"$nulls":26},"x"]
[{"$nulls":26},"x"]
[{"$nulls":26},"x"]
[{"$nulls":26},"x"]
[{"$nulls":26},"x"]
[{"$nulls":26},"x"]
[{"$nulls":26},"x"]
[{"$nulls":26},"x"]
[{"$nulls":26},"x"]
[{"$nulls":26},"x"]
[{"$nulls":26},"x"]
[{"$nulls":26},"x"]
[{"$nulls":26},"x"]
[{"$nulls":26},"x"]
[{"$nulls":26},"x"]
[{"$nulls":26},"x"]
[{"$nulls":26},"x"]
[{"$nulls":26},"x"]
[{"$nulls":26},"x"]
[{"$nulls":26},"x"]
[{"$nulls":26},"x"]
[{"$nulls":26},"x"]
[{"$nulls":26},"x"]
[{"$nulls":26},"x"]
[{"$nulls":26},"x"]
[{"$nulls":26},"x"]
[{"$nulls":26},"x"]
[{"$nulls":26},"x"]
[{"$nulls":26},"x"]
[{"$nulls":26},"x"]
[{"$nulls":26},"x"]
[{"$nulls":26},"x"]
[{"$nulls":26},"x"]
[{"$nulls":26},"x"]
[{"$nulls":26},"x"]
[{"$nulls":26},"x"]
[{"$nulls":26},"x"]
[{"$nulls":26},"x"]
[{"$nulls":26},"x"]
[{"$nulls":26},"x"]
[{"$nulls":26},"x"]
[{"$nulls":26},"x"]
[{"$nulls":26},"x"]
[{"$nulls":26},"x"]
[{"$nulls":26},"x"]
[{"$nulls":26},"x"]
[{"$nulls":26},"x"]
[{"$nulls":26},"x"]
[{"$nulls":26},"x"]
[{"$nulls":26},"x"]
[{"$nulls":26},"x"]
[{"$nulls":26},"x"]
[{"$nulls":26},"x"]
[{"$nulls":26},"x"]
[{"$nulls":26},"x"]
[{"$nulls":26},"x"]
[{"$nulls":26},"x"]
[{"$nulls":26},"x"]
[{"$nulls":26},"x"]
[{"$nulls":26},"x"]
[{"$nulls":26},"x"]
[{"$nulls":26},"x"]
[{"$nulls":26},"x"]
[{"$nulls":26},"x"]
[{"$nulls":26},"x"]
[{"$nulls":26},"x"]
[{"$nulls":26},"x"]
[{"$nulls":26},"x"]
[{"$nulls":26},"x"]
[{"$nulls":26},"x"]
[{"$nulls":26},"x"]
[{"$nulls":26},"x"]
[{"$nulls":26},"x"]
[{"$nulls":26},"x"]
[{"$nulls":26},"x"]
[{"$nulls":26},"x"]
[{"$nulls":26},"x"]
[{"$nulls":26},"x"]
[{"$nulls":26},"x"]
[{"$nulls":26},"x"]
[{"$nulls":26},"x"]
[{"$nulls":26},"x"]
[{"$nulls":26},"x"]
[{"$nulls":26},"x"]
[{"$nulls":26},"x"]
[{"$nulls":26},"x"]
[{"$nulls":26},"x"]
[{"$nulls":26},"x"]
[{"$nulls":26},"x"]
[{"$nulls":26},"x"]
[{"$nulls":26},"x"]
[{"$nulls":26},"x"]
[{"$nulls":26},"x"]
[{"$nulls":26},"x"]
[{"$nulls":26},"x"]
[{"$nulls":26},"x"]
[{"$nulls":26},"x"]
[{"$nulls":26},"x"]
[{"$nulls":26},"x"]
[{"$nulls":26},"x"]
[{"$nulls":26},"x"]
[{"$nulls":26},"x"]
[{"$nulls":26},"x"]
[{"$nulls":26},"x"]
[{"$nulls":26},"x"]
[{"$nulls":26},"x"]
[{"$nulls":26},"x"]
[{"$nulls":26},"x"]
[{"$nulls":26},"x"]
[{"$nulls":26},"x"]
[{"$nulls":26},"x"]
[{"$nulls":26},"x"]
[{"$nulls":26},"x"]
[{"$nulls":26},"x"]
[{"$nulls":26},"x"]
[{"$nulls":26},"x"]
[{"$nulls":26},"x"]
[{"$nulls":26},"x"]
[{"$nulls":26},"x"]
[{"$nulls":26},"x"]
[{"$nulls":26},"x"]
[{"$nulls":26},"x"]
[{"$nulls":26},"x"]
[{"$nulls":26},"x"]
[{"$nulls":26},"x"]
[{"$nulls":26},"x"]
[{"$nulls":26},"x"]
[{"$nulls":26},"x"]
[{"$nulls":26},"x"]
[{"$nulls":26},"x"]
[{"$nulls":26},"x"]
[{"$nulls":26},"x"]
[{"$nulls":26},"x"]
[{"$nulls":26},"x"]
[{"$nulls":26},"x"]
[{"$nulls":26},"x"]
[{"$nulls":26},"x"]
[{"$nulls":26},"x"]
[{"$nulls":26},"x"]
[{"$nulls":26},"x"]
[{"$nulls":26},"x"]
[{"$nulls":26},"x"]
[{"$nulls":26},"x"]
[{"$nulls":26},"x"]
[{"$nulls":26},"x"]
[{"$nulls":26},"x"]
[{"$nulls":26},"x"]
[{"$nulls":26},"x"]
[{"$nulls":26},"x"]
[{"$nulls":26},"x"]
[{"$nulls":26},"x"]
[{"$nulls":26},"x"]
[{"$nulls":26},"x"]
[{"$nulls":26},"x"]
[{"$nulls":26},"x"]
[{"$nulls":26},"x"]
[{"$nulls":26},"x"]
[{"$nulls":26},"x"]
[{"$nulls":26},"x"]
[{"$nulls":26},"x"]
[{"$nulls":26},"x"]
[{"$nulls":26},"x"]
[{"$nulls":26},"x"]
[{"$nulls":26},"x"]
[{"$nulls":26},"x"]
[{"$nulls":26},"x"]
[{"$nulls":26},"x"]
[{"$nulls":26},"x"]
[{"$nulls":26},"x"]
[{"$nulls":26},"x"]
[{"$nulls":26},"x"]
[{"$nulls":26},"x"]
[{"$nulls":26},"x"]
[{"$nulls":26},"x"]
[{"$nulls":26},"x"]
[{"$nulls":26},"x"]
[{"$nulls":26},"x"]
[{"$nulls":26},"x"]
[{"$nulls":26},"x"]
[{"$nulls":26},"x"]
[{"$nulls":26},"x"]
[{"$nulls":26},"x"]
[{"$nulls":26},"x"]
[{"$nulls":26},"x"]
[{"$nulls":26},"x"]
[{"$nulls":26},"x"]
[{"$nulls":26},"x"]
[{"$nulls":26},"x"]
[{"$nulls":26},"x"]
[{"$nulls":26},"x"]
[{"$nulls":26},"x"]
[{"$nulls":26},"x"]
[{"$nulls":26},"x"]
[{"$nulls":26},"x"]
[{"$nulls":26},"x"]
[{"$nulls":26},"x"]
[{"$nulls":26},"x"]
[{"$nulls":26},"x"]
[{"$nulls":26},"x"]
[{"$nulls":26},"x"]
[{"$nulls":26},"x"]
[{"$nulls":26},"x"]
[{"$nulls":26},"x"]
[{"$nulls":26},"x"]
[{"$nulls":26},"x"]
[{"$nulls":26},"x"]
[{"$nulls":26},"x"]
[{"$nulls":26},"x"]
[{"$nulls":26},"x"]
[{"$nulls":26},"x"]
[{"$nulls":26},"x"]
[{"$nulls":26},"x"]
[{"$nulls":26},"x"]
[{"$nulls":26},"x"]
[{"$nulls":26},"x"]
[{"$nulls":26},"x"]
[{"$nulls":26},"x"]
[{"$nulls":26},"x"]
[{"$nulls":26},"x"]
[{"$nulls":26},"x"]
[{"$nulls":26},"x"]
[{"$nulls":26},"x"]
[{"$nulls":26},"x"]
[{"$nulls":26},"x"]
[{"$nulls":26},"x"]
[{"$nulls":26},"x"]
[{"$nulls":26},"x"]
[{"$nulls":26},"x"]
[{"$nulls":26},"x"]
[{"$nulls":26},"x"]
[{"$nulls":26},"x"]
[{"$nulls":26},"x"]
[{"$nulls":26},"x"]
[{"$nulls":26},"x"]
[{"$nulls":26},"x"]
[{"$nulls":26},"x"]
[{"$nulls":26},"x"]
[{"$nulls":26},"x"]
[{"$nulls":26},"x"]
[{"$nulls":26},"x"]
[{"$nulls":26},"x"]
[{"$nulls":26},"x"]
[{"$nulls":26},"x"]
[{"$nulls":26},"x"]
[{"$nulls":26},"x"]
[{"$nulls":26},"x"]
[{"$nulls":26},"x"]
[{"$nulls":26},"x"]
[{"$nulls":26},"x"]
[{"$nulls":26},"x"]
[{"$nulls":26},"x"]
[{"$nulls":26},"x"]
[{"$nulls":26},"x"]
[{"$nulls":26},"x"]
[{"$nulls":26},"x"]
[{"$nulls":26},"x"]
[{"$nulls":26},"x"]
[{"$nulls":26},"x"]
[{"$nulls":26},"x"]
[{"$nulls":26},"x"]
[{"$nulls":26},"x"]
[{"$nulls":26},"x"]
[{"$nulls":26},"x"]
[{"$nulls":26},"x"]
[{"$nulls":26},"x"]
[{"$nulls":26},"x"]
[{"$nulls":26},"x"]
[{"$nulls":26},"x"]
[{"$nulls":26},"x"]
[{"$nulls":26},"x"]
[{"$nulls":26},"x"]
[{"$nulls":26},"x"]
[{"$nulls":26},"x"]
[{"$nulls":26},"x"]
[{"$nulls":26},"x"]
[{"$nulls":26},"x"]
[{"$nulls":26},"x"]
[{"$nulls":26},"x"]
[{"$nulls":26},"x"]
[{"$nulls":26},"x"]
[{"$nulls":26},"x"]
[{"$nulls":26},"x"]
[{"$nulls":26},"x"]
[{"$nulls":26},"x"]
[{"$nulls":26},"x"]
[{"$nulls":26},"x"]
[{"$nulls":26},"x"]
[{"$nulls":26},"x"]
[{"$nulls":26},"x"]
[{"$nulls":26},"x"]
[{"$nulls":26},"x"]
[{"$nulls":26},"x"]
[{"$nulls":26},"x"]
[{"$nulls":26},"x"]
[{"$nulls":26},"x"]
[{"$nulls":26},"x"]
[{"$nulls":26},"x"]
[{"$nulls":26},"x"]
[{"$nulls":26},"x"]
[{"$nulls":26},"x"]
[{"$nulls":26},"x"]
[{"$nulls":26},"x"]
[{"$nulls":26},"x"]
[{"$nulls":26},"x"]
[{"$nulls":26},"x"]
[{"$nulls":26},"x"]
[{"$nulls":26},"x"]
[{"$nulls":26},"x"]
[{"$nulls":26},"x"]
[{"$nulls":26},"x"]
[{"$nulls":26},"x"]
[{"$nulls":26},"x"]
[{"$nulls":26},"x"]
[{"$nulls":26},"x"]
[{"$nulls":26},"x"]
[{"$nulls":26},"x"]
[{"$nulls":26},"x"]
[{"$nulls":26},"x"]
[{"$nulls":26},"x"]
[{"$nulls":26},"x"]
[{"$nulls":26},"x"]
[{"$nulls":26},"x"]
[{"$nulls":26},"x"]
[{"$nulls":26},"x"]
[{"$nulls":26},"x"]
[{"$nulls":26},"x"]
[{"$nulls":26},"x"]
[{"$nulls":26},"x"]
[{"$nulls":26},"x"]
[{"$nulls":26},"x"]
[{"$nulls":26},"x"]
[{"$nulls":26},"x"]
[{"$nulls":26},"x"]
[{"$nulls":26},"x"]
[{"$nulls":26},"x"]
[{"$nulls":26},"x"]
[{"$nulls":26},"x"]
[{"$nulls":26},"x"]
[{"$nulls":26},"x"]
[{"$nulls":26},"x"]
[{"$nulls":26},"x"]
[{"$nulls":26},"x"]
[{"$nulls":26},"x"]
[{"$nulls":26},"x"]
[{"$nulls":26},"x"]
[{"$nulls":26},"x"]
[{"$nulls":26},"x"]
[{"$nulls":26},"x"]
[{"$nulls":26},"x"]
[{"$nulls":26},"x"]
[{"$nulls":26},"x"]
[{"$nulls":26},"x"]
[{"$nulls":26},"x"]
[{"$nulls":26},"x"]
[{"$nulls":26},"x"]
[{"$nulls":26},"x"]
[{"$nulls":26},"x"]
[{"$nulls":26},"x"]
[{"$nulls":26},"x"]
[{"$nulls":26},"x"]
[{"$nulls":26},"x"]
[{"$nulls":26},"x"]
[{"$nulls":26},"x"]
[{"$nulls":26},"x"]
[{"$nulls":26},"x"]
[{"$nulls":26},"x"]
[{"$nulls":26},"x"]
[{"$nulls":26},"x"]
[{"$nulls":26},"x"]
[{"$nulls":26},"x"]
[{"$nulls":26},"x"]
[{"$nulls":26},"x"]
[{"$nulls":26},"x"]
[{"$nulls":26},"x"]
[{"$nulls":26},"x"]
[{"$nulls":26},"x"]
[{"$nulls":26},"x"]
[{"$nulls":26},"x"]
[{"$nulls":26},"x"]
[{"$nulls":26},"x"]
[{"$nulls":26},"x"]
[{"$nulls":26},"x"]
[{"$nulls":26},"x"]
[{"$nulls":26},"x"]
[{"$nulls":26},"x"]
[{"$nulls":26},"x"]
[{"$nulls":26},"x"]
[{"$nulls":26},"x"]
[{"$nulls":26},"x"]
[{"$nulls":26},"x"]
[{"$nulls":26},"x"]
[{"$nulls":26},"x"]
[{"$nulls":26},"x"]
[{"$nulls":26},"x"]
[{"$nulls":26},"x"]
[{"$nulls":26},"x"]
[{"$nulls":26},"x"]
[{"$nulls":26},"x"]
[{"$nulls":26},"x"]
[{"$nulls":26},"x"]
[{"$nulls":26},"x"]
[{"$nulls":26},"x"]
[{"$nulls":26},"x"]
[{"$nulls":26},"x"]
[{"$nulls":26},"x"]
[{"$nulls":26},"x"]
[{"$nulls":26},"x"]
[{"$nulls":26},"x"]
[{"$nulls":26},"x"]
[{"$nulls":26},"x"]
[{"$nulls":26},"x"]
[{"$nulls":26},"x"]
[{"$nulls":26},"x"]
[{"$nulls":26},"x"]
[{"$nulls":26},"x"]
[{"$nulls":26},"x"]
[{"$nulls":26},"x"]
[{"$nulls":26},"x"]
[{"$nulls":26},"x"]
[{"$nulls":26},"x"]
[{"$nulls":26},"x"]
[{"$nulls":26},"x"]
[{"$nulls":26},"x"]
[{"$nulls":26},"x"]
[{"$nulls":26},"x"]
[{"$nulls":26},"x"]
[{"$nulls":26},"x"]
[{"$nulls":26},"x"]
[{"$nulls":26},"x"]
[{"$nulls":26},"x"]
[{"$nulls":26},"x"]
[{"$nulls":26},"x"]
[{"$nulls":26},"x"]
[{"$nulls":26},"x"]
[{"$nulls":26},"x"]
[{"$nulls":26},"x"]
[{"$nulls":26},"x"]
[{"$nulls":26},"x"]
[{"$nulls":26},"x"]
[{"$nulls":26},"x"]
[{"$nulls":26},"x"]
[{"$nulls":26},"x"]
[{"$nulls":26},"x"]
[{"$nulls":26},"x"]
[{"$nulls":26},"x"]
[{"$nulls":26},"x"]
[{"$nulls":26},"x"]
[{"$nulls":26},"x"]
[{"$nulls":26},"x"]
[{"$nulls":26},"x"]
[{"$nulls":26},"x"]
[{"$nulls":26},"x"]
[{"$nulls":26},"x"]
[{"$nulls":26},"x"]
[{"$nulls":26},"x"]
[{"$nulls":26},"x"]
[{"$nulls":26},"x"]
[{"$nulls":26},"x"]
[{"$nulls":26},"x"]
[{"$nulls":26},"x"]
[{"$nulls":26},"x"]
[{"$nulls":26},"x"]
[{"$nulls":26},"x"]
[{"$nulls":26},"x"]
[{"$nulls":26},"x"]
[{"$nulls":26},"x"]
[{"$nulls":26},"x"]
[{"$nulls":26},"x"]
[{"$nulls":26},"x"]
[{"$nulls":26},"x"]
[{"$nulls":26},"x"]
[{"$nulls":26},"x"]
[{"$nulls":26},"x"]
[{"$nulls":26},"x"]
[{"$nulls":26},"x"]
[{"$nulls":26},"x"]
[{"$nulls":26},"x"]
[{"$nulls":26},"x"]
[{"$nulls":26},"x"]
[{"$nulls":26},"x"]
[{"$nulls":26},"x"]
[{"$nulls":26},"x"]
[{"$nulls":26},"x"]
[{"$nulls":26},"x"]
[{"$nulls":26},"x"]
[{"$nulls":26},"x"]
[{"$nulls":26},"x"]
[{"$nulls":26},"x"]
[{"$nulls":26},"x"]
[{"$nulls":26},"x"]
[{"$nulls":26},"x"]
[{"$nulls":26},"x"]
[{"$nulls":26},"x"]
[{"$nulls":26},"x"]
[{"$nulls":26},"x"]
[{"$nulls":26},"x"]
[{"$nulls":26},"x"]
[{"$nulls":26},"x"]
[{"$nulls":26},"x"]
[{"$nulls":26},"x"]
[{"$nulls":26},"x"]
[{"$nulls":26},"x"]
[{"$nulls":26},"x"]
[{"$nulls":26},"x"]
[{"$nulls":26},"x"]
[{"$nulls":26},"x"]
[{"$nulls":26},"x"]
[{"$nulls":26},"x"]
[{"$nulls":26},"x"]
[{"$nulls":26},"x"]
[{"$nulls":26},"x"]
[{"$nulls":26},"x"]
[{"$nulls":26},"x"]
[{"$nulls":26},"x"]
[{"$nulls":26},"x"]
[{"$nulls":26},"x"]
[{"$nulls":26},"x"]
[{"$nulls":26},"x"]
[{"$nulls":26},"x"]
[{"$nulls":26},"x"]
[{"$nulls":26},"x"]
[{"$nulls":26},"x"]
[{"$nulls":26},"x"]
[{"$nulls":26},"x"]
[{"$nulls":26},"x"]
[{"$nulls":26},"x"]
[{"$nulls":26},"x"]
[{"$nulls":26},"x"]
[{"$nulls":26},"x"]
[{"$nulls":26},"x"]
[{"$nulls":26},"x"]
[{"$nulls":26},"x"]
[{"$nulls":26},"x"]
[{"$nulls":26},"x"]
[{"$nulls":26},"x"]
[{"$nulls":26},"x"]
[{"$nulls":26},"x"]
[{"$nulls":26},"x"]
[{"$nulls":26},"x"]
[{"$nulls":26},"x"]
[{"$nulls":26},"x"]
[{"$nulls":26},"x"]
[{"$nulls":26},"x"]
[{"$nulls":26},"x"]
[{"$nulls":26},"x"]
[{"$nulls":26},"x"]
[{"$nulls":26},"x"]
[{"$nulls":26},"x"]
[{"$nulls":26},"x"]
[{"$nulls":26},"x"]
[{"$nulls":26},"x"]
[{"$nulls":26},"x"]
[{"$nulls":26},"x"]
[{"$nulls":26},"x"]
[{"$nulls":26},"x"]
[{"$nulls":26},"x"]
[{"$nulls":26},"x"]
[{"$nulls":26},"x"]
[{"$nulls":26},"x"]
[{"$nulls":26},"x"]
[{"$nulls":26},"x"]
[{"$nulls":26},"x"]
[{"$nulls":26},"x"]
[{"$nulls":26},"x"]
[{"$nulls":26},"x"]
[{"$nulls":26},"x"]
[{"$nulls":26},"x"]
[{"$nulls":26},"x"]
[{"$nulls":26},"x"]
[{"$nulls":26},"x"]
[{"$nulls":26},"x"]
[{"$nulls":26},"x"]
[{"$nulls":26},"x"]
[{"$nulls":26},"x"]
[{"$nulls":26},"x"]
[{"$nulls":26},"x"]
[{"$nulls":26},"x"]
[{"$nulls":26},"x"]
[{"$nulls":26},"x"]
[{"$nulls":26},"x"]
[{"$nulls":26},"x"]
[{"$nulls":26},"x"]
[{"$nulls":26},"x"]
[{"$nulls":26},"x"]
[{"$nulls":26},"x"]
[{"$nulls":26},"x"]
[{"$nulls":26},"x"]
[{"$nulls":26},"x"]
[{"$nulls":26},"x"]
[{"$nulls":26},"x"]
[{"$nulls":26},"x"]
[{"$nulls":26},"x"]
[{"$nulls":26},"x"]
[{"$nulls":26},"x"]
[{"$nulls":26},"x"]
[{"$nulls":26},"x"]
[{"$nulls":26},"x"]
[{"$nulls":26},"x"]
[{"$nulls":26},"x"]
[{"$nulls":26},"x"]
[{"$nulls":26},"x"]
[{"$nulls":26},"x"]
[{"$nulls":26},"x"]
[{"$nulls":26},"x"]
[{"$nulls":26},"x"]
[{"$nulls":26},"x"]
[{"$nulls":26},"x"]
[{"$nulls":26},"x"]
[{"$nulls":26},"x"]
[{"$nulls":26},"x"]
[{"$nulls":26},"x"]
[{"$nulls":26},"x"]
[{"$nulls":26},"x"]
[{"$nulls":26},"x"]
[{"$nulls":26},"x"]
[{"$nulls":26},"x"]
[{"$nulls":26},"x"]
[{"$nulls":26},"x"]
[{"$nulls":26},"x"]
[{"$nulls":26},"x"]
[{"$nulls":26},"x"]
[{"$nulls":26},"x"]
[{"$nulls":26},"x"]
[{"$nulls":26},"x"]
[{"$nulls":26},"x"]
[{"$nulls":26},"x"]
[{"$nulls":26},"x"]
[{"$nulls":26},"x"]
[{"$nulls":26},"x"]
[{"$nulls":26},"x"]
[{"$nulls":26},"x"]
[{"$nulls":26},"x"]
[{"$nulls":26},"x"]
[{"$nulls":26},"x"]
[{"$nulls":26},"x"]
[{"$nulls":26},"x"]
[{"$nulls":26},"x"]
[{"$nulls":26},"x"]
[{"$nulls":26},"x"]
[{"$nulls":26},"x"]
[{"$nulls":26},"x"]
[{"$nulls":26},"x"]
[{"$nulls":26},"x"]
[{"$nulls":26},"x"]
[{"$nulls":26},"x"]
[{"$nulls":26},"x"]
[{"$nulls":26},"x"]
[{"$nulls":26},"x"]
[{"$nulls":26},"x"]
[{"$nulls":26},"x"]
[{"$nulls":26},"x"]
[{"$nulls":26},"x"]
[{"$nulls":26},"x"]
[{"$nulls":26},"x"]
[{"$nulls":26},"x"]
[{"$nulls":26},"x"]
[{"$nulls":26},"x"]
[{"$nulls":26},"x"]
[{"$nulls":26},"x"]
[{"$nulls":26},"x"]
[{"$nulls":26},"x"]
[{"$nulls":26},"x"]
[{"$nulls":26},"x"]
[{"$nulls":26},"x"]
[{"$nulls":26},"x"]
[{"$nulls":26},"x"]
[{"$nulls":26},"x"]
[{"$nulls":26},"x"]
[{"$nulls":26},"x"]
[{"$nulls":26},"x"]
[{"$nulls":26},"x"]
[{"$nulls":26},"x"]
[{"$nulls":26},"x"]
[{"$nulls":26},"x"]
[{"$nulls":26},"x"]
[{"$nulls":26},"x"]
[{"$nulls":26},"x"]
[{"$nulls":26},"x"]
[{"$nulls":26},"x"]
[{"$nulls":26},"x"]
[{"$nulls":26},"x"]
[{"$nulls":26},"x"]
[{"$nulls":26},"x"]
[{"$nulls":26},"x"]
[{"$nulls":26},"x"]
[{"$nulls":26},"x"]
[{"$nulls":26},"x"]
[{"$nulls":26},"x"]
[{"$nulls":26},"x"]
[{"$nulls":26},"x"]
[{"$nulls":26},"x"]
[{"$nulls":26},"x"]
[{"$nulls":26},"x"]
[{"$nulls":26},"x"]
[{"$nulls":26},"x"]
[{"$nulls":26},"x"]
[{"$nulls":26},"x"]
[{"$nulls":26},"x"]
[{"$nulls":26},"x"]
[{"$nulls":26},"x"]
[{"$nulls":26},"x"]
[{"$nulls":26},"x"]
[{"$nulls":26},"x"]
[{"$nulls":26},"x"]
[{"$nulls":26},"x"]
[{"$nulls":26},"x"]
[{"$nulls":26},"x"]
[{"$nulls":26},"x"]
[{"$nulls":26},"x"]
[{"$nulls":26},"x"]
[{"$nulls":26},"x"]
[{"$nulls":26},"x"]
[{"$nulls":26},"x"]
[{"$nulls":26},"x"]
[{"$nulls":26},"x"]
[{"$nulls":26},"x"]
[{"$nulls":26},"x"]
[{"$nulls":26},"x"]
[{"$nulls":26},"x"]
[{"$nulls":26},"x"]
[{"$nulls":26},"x"]
[{"$nulls":26},"x"]
[{"$nulls":26},"x"]
[{"$nulls":26},"x"]
[{"$nulls":26},"x"]
[{"$nulls":26},"x"]
[{"$nulls":26},"x"]
[{"$nulls":26},"x"]
[{"$nulls":26},"x"]
[{"$nulls":26},"x"]
[{"$nulls":26},"x"]
[{"$nulls":26},"x"]
[{"$nulls":26},"x"]
[{"$nulls":26},"x"]
[{"$nulls":26},"x"]
[{"$nulls":26},"x"]
[{"$nulls":26},"x"]
[{"$nulls":26},"x"]
[{"$nulls":26},"x"]
[{"$nulls":26},"x"]
[{"$nulls":26},"x"]
[{"$nulls":26},"x"]
[{"$nulls":26},"x"]
[{"$nulls":26},"x"]
[{"$nulls":26},"x"]
[{"$nulls":26},"x"]
[{"$nulls":26},"x"]
[{"$nulls":26},"x"]
[{"$nulls":26},"x"]
[{"$nulls":26},"x"]
[{"$nulls":26},"x"]
[{"$nulls":26},"x"]
[{"$nulls":26},"x"]
[{"$nulls":26},"x"]
[{"$nulls":26},"x"]
[{"$nulls":26},"x"]
[{"$nulls":26},"x"]
[{"$nulls":26},"x"]
[{"$nulls":26},"x"]
[{"$nulls":26},"x"]
[{"$nulls":26},"x"]
[{"$nulls":26},"x"]
[{"$nulls":26},"x"]
[{"$nulls":26},"x"]
[{"$nulls":26},"x"]
[{"$nulls":26},"x"]
[{"$nulls":26},"x"]
[{"$nulls":26},"x"]
[{"$nulls":26},"x"]
[{"$nulls":26},"x"]
[{"$nulls":26},"x"]
[{"$nulls":26},"x"]
[{"$nulls":26},"x"]
[{"$nulls":26},"x"]
[{"$nulls":26},"x"]
[{"$nulls":26},"x"]
[{"$nulls":26},"x"]
[{"$nulls":26},"x"]
[{"$nulls":26},"x"]
[{"$nulls":26},"x"]
[{"$nulls":26},"x"]
[{"$nulls":26},"x"]
[{"$nulls":26},"x"]
[{"$nulls":26},"x"]
[{"$nulls":26},"x"]
[{"$nulls":26},"x"]
[{"$nulls":26},"x"]
[{"$nulls":26},"x"]
[{"$nulls":26},"x"]
[{"$nulls":26},"x"]
[{"$nulls":26},"x"]
[{"$nulls":26},"x"]
[{"$nulls":26},"x"]
[{"$nulls":26},"x"]
[{"$nulls":26},"x"]
[{"$nulls":26},"x"]
[{"$nulls":26},"x"]
[{"$nulls":26},"x"]
[{"$nulls":26},"x"]
[{"$nulls":26},"x"]
[{"$nulls":26},"x"]
[{"$nulls":26},"x"]
[{"$nulls":26},"x"]
[{"$nulls":26},"x"]
[{"$nulls":26},"x"]
[{"$nulls":26},"x"]
[{"$nulls":26},"x"]
[{"$nulls":26},"x"]
[{"$nulls":26},"x"]
[{"$nulls":26},"x"]
[{"$nulls":26},"x"]
[{"$nulls":26},"x"]
[{"$nulls":26},"x"]
[{"$nulls":26},"x"]
[{"$nulls":26},"x"]
[{"$nulls":26},"x"]
[{"$nulls":26},"x"]
[{"$nulls":26},"x"]
[{"$nulls":26},"x"]
[{"$nulls":26},"x"]
[{"$nulls":26},"x"]
[{"$nulls":26},"x"]
[{"$nulls":26},"x"]
[{"$nulls":26},"x"]
[{"$nulls":26},"x"]
[{"$nulls":26},"x"]
[{"$nulls":26},"x"]
[{"$nulls":26},"x"]
[{"$nulls":26},"x"]
[{"$nulls":26},"x"]
[{"$nulls":26},"x"]
[{"$nulls":26},"x"]
[{"$nulls":26},"x"]
[{"$nulls":26},"x"]
[{"$nulls":26},"x"]
[{"$nulls":26},"x"]
[{"$nulls":26},"x"]
[{"$nulls":26},"x"]
[{"$nulls":26},"x"]
[{"$nulls":26},"x"]
[{"$nulls":26},"x"]
[{"$nulls":26},"x"]
[{"$nulls":26},"x"]
[{"$nulls":26},"x"]
[{"$nulls":26},"x"]
[{"$nulls":26},"x"]
[{"$nulls":26},"x"]
[{"$nulls":26},"x"]
[{"$nulls":26},"x"]
[{"$nulls":26},"x"]
[{"$nulls":26},"x"]
[{"$nulls":26},"x"]
[{"$nulls":26},"x"]
[{"$nulls":26},"x"]
[{"$nulls":26},"x"]
[{"$nulls":26},"x"]
[{"$nulls":26},"x"]
[{"$nulls":26},"x"]
[{"$nulls":26},"x"]
[{"$nulls":26},"x"]
[{"$nulls":26},"x"]
[{"$nulls":26},"x"]
[{"$nulls":26},"x"]
[{"$nulls":26},"x"]
[{"$nulls":26},"x"]
[{"$nulls":26},"x"]
[{"$nulls":26},"x"]
[{"$nulls":26},"x"]
[{"$nulls":26},"x"]
[{"$nulls":26},"x"]
[{"$nulls":26},"x"]
[{"$nulls":26},"x"]
[{"$nulls":26},"x"]
[{"$nulls":26},"x"]
[{"$nulls":26},"x"]
[{"$nulls":26},"x"]
[{"$nulls":26},"x"]
[{"$nulls":26},"x"]
[{"$nulls":26},"x"]
[{"$nulls":26},"x"]
[{"$nulls":26},"x"]
[{"$nulls":26},"x"]
[{"$nulls":26},"x"]
[{"$nulls":26},"x"]
[{"$nulls":26},"x"]
[{"$nulls":26},"x"]
[{"$nulls":26},"x"]
[{"$nulls":26},"x"]
[{"$nulls":26},"x"]
[{"$nulls":26},"x"]
[{"$nulls":26},"x"]
[{"$nulls":26},"x"]
[{"$nulls":26},"x"]
[{"$nulls":26},"x"]
[{"$nulls":26},"x"]
[{"$nulls":26},"x"]
[{"$nulls":26},"x"]
[{"$nulls":26},"x"]
[{"$nulls":26},"x"]
[{"$nulls":26},"x"]
[{"$nulls":26},"x"]
[{"$nulls":26},"x"]
[{"$nulls":26},"x"]
[{"$nulls":26},"x"]
[{"$nulls":26},"x"]
[{"$nulls":26},"x"]
[{"$nulls":26},"x"]
[{"$nulls":26},"x"]
[{"$nulls":26},"x"]
[{"$nulls":26},"x"]
[{"$nulls":26},"x"]
[{"$nulls":26},"x"]
[{"$nulls":26},"x"]
[{"$nulls":26},"x"]
[{"$nulls":26},"x"]
[{"$nulls":26},"x"]
[{"$nulls":26},"x"]
[{"$nulls":26},"x"]
[{"$nulls":26},"x"]
[{"$nulls":26},"x"]
[{"$nulls":26},"x"]
[{"$nulls":26},"x"]
[{"$nulls":26},"x"]
[{"$nulls":26},"x"]
[{"$nulls":26},"x"]
[{"$nulls":26},"x"]
[{"$nulls":26},"x"]
[{"$nulls":26},"x"]
[{"$nulls":26},"x"]
[{"$nulls":26},"x"]
[{"$nulls":26},"x"]
[{"$nulls":26},"x"]
[{"$nulls":26},"x"]
[{"$nulls":26},"x"]
[{"$nulls":26},"x"]
[{"$nulls":26},"x"]
[{"$nulls":26},"x"]
[{"$nulls":26},"x"]
[{"$nulls":26},"x"]
[{"$nulls":26},"x"]
[{"$nulls":26},"x"]
[{"$nulls":26},"x"]
[{"$nulls":26},"x"]
[{"$nulls":26},"x"]
[{"$nulls":26},"x"]
[{"$nulls":26},"x"]
[{"$nulls":26},"x"]
[{"$nulls":26},"x"]
[{"$nulls":26},"x"]
[{"$nulls":26},"x"]
[{"$nulls":26},"x"]
[{"$nulls":26},"x"]
[{"$nulls":26},"x"]
[{"$nulls":26},"x"]
[{"$nulls":26},"x"]
[{"$nulls":26},"x"]
[{"$nulls":26},"x"]
[{"$nulls":26},"x"]
[{"$nulls":26},"x"]
[{"$nulls":26},"x"]
[{"$nulls":26},"x"]
[{"$nulls":26},"x"]
[{"$nulls":26},"x"]
[{"$nulls":26},"x"]
[{"$nulls":26},"x"]
[{"$nulls":26},"x"]
[{"$nulls":26},"x"]
[{"$nulls":26},"x"]
[{"$nulls":26},"x"]
[{"$nulls":26},"x"]
[{"$nulls":26},"x"]
[{"$nulls":26},"x"]
[{"$nulls":26},"x"]
[{"$nulls":26},"x"]
[{"$nulls":26},"x"]
[{"$nulls":26},"x"]
[{"$nulls":26},"x"]
[{"$nulls":26},"x"]
[{"$nulls":26},"x"]
[{"$nulls":26},"x"]
[{"$nulls":26},"x"]
[{"$nulls":26},"x"]
[{"$nulls":26},"x"]
[{"$nulls":26},"x"]
[{"$nulls":26},"x"]
[{"$nulls":26},"x"]
[{"$nulls":26},"x"]
[{"$nulls":26},"x"]
[{"$nulls":26},"x"]
[{"$nulls":26},"x"]
[{"$nulls":26},"x"]
[{"$nulls":26},"x"]
[{"$nulls":26},"x"]
[{"$nulls":26},"x"]
[{"$nulls":26},"x"]
[{"$nulls":26},"x"]
[{"$nulls":26},"x"]
[{"$nulls":26},"x"]
[{"$nulls":26},"x"]
[{"$nulls":26},"x"]
[{"$nulls":26},"x"]
[{"$nulls":26},"x"]
[{"$nulls":26},"x"]
[{"$nulls":26},"x"]
[{"$nulls":26},"x"]
[{"$nulls":26},"x"]
[{"$nulls":26},"x"]
[{"$nulls":26},"x"]
[{"$nulls":26},"x"]
[{"$nulls":26},"x"]
[{"$nulls":26},"x"]
[{"$nulls":26},"x"]
[{"$nulls":26},"x"]
[{"$nulls":26},"x"]
[{"$nulls":26},"x"]
[{"$nulls":26},"x"]
[{"$nulls":26},"x"]
[{"$nulls":26},"x"]
[{"$nulls":26},"x"]
[{"$nulls":26},"x"]
[{"$nulls":26},"x"]
[{"$nulls":26},"x"]
[{"$nulls":26},"x"]
[{"$nulls":26},"x"]
[{"$nulls":26},"x"]
[{"$nulls":26},"x"]
[{"$nulls":26},"x"]
[{"$nulls":26},"x"]
[{"$nulls":26},"x"]
[{"$nulls":26},"x"]
[{"$nulls":26},"x"]
[{"$nulls":26},"x"]
[{"$nulls":26},"x"]
[{"$nulls":26},"x"]
[{"$nulls":26},"x"]
[{"$nulls":26},"x"]
[{"$nulls":26},"x"]
[{"$nulls":26},"x"]
[{"$nulls":26},"x"]
[{"$nulls":26},"x"]
[{"$nulls":26},"x"]
[{"$nulls":26},"x"]
[{"$nulls":26},"x"]
[{"$nulls":26},"x"]
[{"$nulls":26},"x"]
[{"$nulls":26},"x"]
[{"$nulls":26},"x"]
[{"$nulls":26},"x"]
[{"$nulls":26},"x"]
[{"$nulls":26},"x"]
[{"$nulls":26},"x"]
[{"$nulls":26},"x"]
[{"$nulls":26},"x"]
[{"$nulls":26},"x"]
[{"$nulls":26},"x"]
[{"$nulls":26},"x"]
[{"$nulls":26},"x"]
[{"$nulls":26},"x"]
[{"$nulls":26},"x"]
[{"$nulls":26},"x"]
[{"$nulls":26},"x"]
[{"$nulls":26},"x"]
[{"$nulls":26},"x"]
[{"$nulls":26},"x"]
[{"$nulls":26},"x"]
[{"$nulls":26},"x"]
[{"$nulls":26},"x"]
[{"$nulls":26},"x"]
[{"$nulls":26},"x"]
[{"$nulls":26},"x"]
[{"$nulls":26},"x"]
[{"$nulls":26},"x"]
[{"$nulls":26},"x"]
[{"$nulls":26},"x"]
[{"$nulls":26},"x"]
[{"$nulls":26},"x"]
[{"$nulls":26},"x"]
[{"$nulls":26},"x"]
[{"$nulls":26},"x"]
[{"$nulls":26},"x"]
[{"$nulls":26},"x"]
[{"$nulls":26},"x"]
[{"$nulls":26},"x"]
[{"$nulls":26},"x"]
[{"$nulls":26},"x"]
[{"$nulls":26},"x"]
[{"$nulls":26},"x"]
[{"$nulls":26},"x"]
[{"$nulls":26},"x"]
[{"$nulls":26},"x"]
[{"$nulls":26},"x"]
[{"$nulls":26},"x"]
[{"$nulls":26},"x"]
[{"$nulls":26},"x"]
[{"$nulls":26},"x"]
[{"$nulls":26},"x"]
[{"$nulls":26},"x"]
[{"$nulls":26},"x"]
[{"$nulls":26},"x"]
[{"$nulls":26},"x"]
[{"$nulls":26},"x"]
[{"$nulls":26},"x"]
[{"$nulls":26},"x"]
[{"$nulls":26},"x"]
[{"$nulls":26},"x"]
[{"$nulls":26},"x"]
[{"$nulls":26},"x"]
[{"$nulls":26},"x"]
[{"$nulls":26},"x"]
[{"$nulls":26},"x"]
[{"$nulls":26},"x"]
[{"$nulls":26},"x"]
[{"$nulls":26},"x"]
[{"$nulls":26},"x"]
[{"$nulls":26},"x"]
[{"$nulls":26},"x"]
[{"$nulls":26},"x"]
[{"$nulls":26},"x"]
[{"$nulls":26},"x"]
[{"$nulls":26},"x"]
[{"$nulls":26},"x"]
[{"$nulls":26},"x"]
[{"$nulls":26},"x"]
[{"$nulls":26},"x"]
[{"$nulls":26},"x"]
[{"$nulls":26},"x"]
[{"$nulls":26},"x"]
[{"$nulls":26},"x"]
[{"$nulls":26},"x"]
[{"$nulls":26},"x"]
[{"$nulls":26},"x"]
[{"$nulls":26},"x"]
[{"$nulls":26},"x"]
[{"$nulls":26},"x"]
[{"$nulls":26},"x"]
[{"$nulls":26},"x"]
[{"$nulls":26},"x"]
[{"$nulls":26},"x"]
[{"$nulls":26},"x"]
[{"$nulls":26},"x"]
[{"$nulls":26},"x"]
[{"$nulls":26},"x"]
[{"$nulls":26},"x"]
[{"$nulls":26},"x"]
[{"$nulls":26},"x"]
[{"$nulls":26},"x"]
[{"$nulls":26},"x"]
[{"$nulls":26},"x"]
[{"$nulls":26},"x"]
[{"$nulls":26},"x"]
[{"$nulls":26},"x"]
[{"$nulls":26},"x"]
[{"$nulls":26},"x"]
[{"$nulls":26},"x"]
[{"$nulls":26},"x"]
[{"$nulls":26},"x"]
[{"$nulls":26},"x"]
[{"$nulls":26},"x"]
[{"$nulls":26},"x"]
[{"$nulls":26},"x"]
[{"$nulls":26},"x"]
[{"$nulls":26},"x"]
[{"$nulls":26},"x"]
[{"$nulls":26},"x"]
[{"$nulls":26},"x"]
[{"$nulls":26},"x"]
[{"$nulls":26},"x"]
[{"$nulls":26},"x"]
[{"$nulls":26},"x"]
[{"$nulls":26},"x"]
[{"$nulls":26},"x"]
[{"$nulls":26},"x"]
[{"$nulls":26},"x"]
[{"$nulls":26},"x"]
[{"$nulls":26},"x"]
[{"$nulls":26},"x"]
[{"$nulls":26},"x"]
[{"$nulls":26},"x"]
[{"$nulls":26},"x"]
[{"$nulls":26},"x"]
[{"$nulls":26},"x"]
[{"$nulls":26},"x"]
[{"$nulls":26},"x"]
[{"$nulls":26},"x"]
[{"$nulls":26},"x"]
[{"$nulls":26},"x"]
[{"$nulls":26},"x"]
[{"$nulls":26},"x"]
[{"$nulls":26},"x"]
[{"$nulls":26},"x"]
[{"$nulls":26},"x"]
[{"$nulls":26},"x"]
[{"$nulls":26},"x"]
[{"$nulls":26},"x"]
[{"$nulls":26},"x"]
[{"$nulls":26},"x"]
[{"$nulls":26},"x"]
[{"$nulls":26},"x"]
[{"$nulls":26},"x"]
[{"$nulls":26},"x"]
[{"$nulls":26},"x"]
[{"$nulls":26},"x"]
[{"$nulls":26},"x"]
[{"$nulls":26},"x"]
[{"$nulls":26},"x"]
[{"$nulls":26},"x"]
[{"$nulls":26},"x"]
[{"$nulls":26},"x"]
[{"$nulls":26},"x"]
[{"$nulls":26},"x"]
[{"$nulls":26},"x"]
[{"$nulls":26},"x"]
[{"$nulls":26},"x"]
[{"$nulls":26},"x"]
[{"$nulls":26},"x"]
[{"$nulls":26},"x"]
[{"$nulls":26},"x"]
[{"$nulls":26},"x"]
[{"$nulls":26},"x"]
[{"$nulls":26},"x"]
[{"$nulls":26},"x"]
[{"$nulls":26},"x"]
[{"$nulls":26},"x"]
[{"$nulls":26},"x"]
[{"$nulls":26},"x"]
[{"$nulls":26},"x"]
[{"$nulls":26},"x"]
[{"$nulls":26},"x"]
[{"$nulls":26},"x"]
[{"$nulls":26},"x"]
[{"$nulls":26},"x"]
[{"$nulls":26},"x"]
[{"$nulls":26},"x"]
[{"$nulls":26},"x"]
[{"$nulls":26},"x"]
[{"$nulls":26},"x"]
[{"$nulls":26},"x"]
[{"$nulls":26},"x"]
[{"$nulls":26},"x"]
[{"$nulls":26},"x"]
[{"$nulls":26},"x"]
[{"$nulls":26},"x"]
[{"$nulls":26},"x"]
[{"$nulls":26},"x"]
[{"$nulls":26},"x"]
[{"$nulls":26},"x"]
[{"$nulls":26},"x"]
[{"$nulls":26},"x"]
[{"$nulls":26},"x"]
[{"$nulls":26},"x"]
[{"$nulls":26},"x"]
[{"$nulls":26},"x"]
[{"$nulls":26},"x"]
[{"$nulls":26},"x"]
[{"$nulls":26},"x"]
[{"$nulls":26},"x"]
[{"$nulls":26},"x"]
[{"$nulls":26},"x"]
[{"$nulls":26},"x"]
[{"$nulls":26},"x"]
[{"$nulls":26},"x"]
[{"$nulls":26},"x"]
[{"$nulls":26},"x"]
[{"$nulls":26},"x"]
[{"$nulls":26},"x"]
[{"$nulls":26},"x"]
[{"$nulls":26},"x"]
[{"$nulls":26},"x"]
[{"$nulls":26},"x"]
[{"$nulls":26},"x"]
[{"$nulls":26},"x"]
[{"$nulls":26},"x"]
[{"$nulls":26},"x"]
[{"$nulls":26},"x"]
[{"$nulls":26},"x"]
[{"$nulls":26},"x"]
[{"$nulls":26},"x"]
[{"$nulls":26},"x"]
[{"$nulls":26},"x"]
[{"$nulls":26},"x"]
[{"$nulls":26},"x"]
[{"$nulls":26},"x"]
[{"$nulls":26},"x"]
[{"$nulls":26},"x"]
[{"$nulls":26},"x"]
[{"$nulls":26},"x"]
[{"$nulls":26},"x"]
[{"$nulls":26},"x"]
[{"$nulls":26},"x"]
[{"$nulls":26},"x"]
[{"$nulls":26},"x"]
[{"$nulls":26},"x"]
[{"$nulls":26},"x"]
[{"$nulls":26},"x"]
[{"$nulls":26},"x"]
[{"$nulls":26},"x"]
[{"$nulls":26},"x"]
[{"$nulls":26},"x"]
[{"$nulls":26},"x"]
[{"$nulls":26},"x"]
[{"$nulls":26},"x"]
[{"$nulls":26},"x"]
[{"$nulls":26},"x"]
[{"$nulls":26},"x"]
[{"$nulls":26},"x"]
[{"$nulls":26},"x"]
[{"$nulls":26},"x"]
[{"$nulls":26},"x"]
[{"$nulls":26},"x"]
[{"$nulls":26},"x"]
[{"$nulls":26},"x"]
[{"$nulls":26},"x"]
[{"$nulls":26},"x"]
[{"$nulls":26},"x"]
[{"$nulls":26},"x"]
[{"$nulls":26},"x"]
[{"$nulls":26},"x"]
[{"$nulls":26},"x"]
[{"$nulls":26},"x"]
[{"$nulls":26},"x"]
[{"$nulls":26},"x"]
[{"$nulls":26},"x"]
[{"$nulls":26},"x"]
[{"$nulls":26},"x"]
[{"$nulls":26},"x"]
[{"$nulls":26},"x"]
[{"$nulls":26},"x"]
[{"$nulls":26},"x"]
[{"$nulls":26},"x"]
[{"$nulls":26},"x"]
[{"$nulls":26},"x"]
[{"$nulls":26},"x"]
[{"$nulls":26},"x"]
[{"$nulls":26},"x"]
[{"$nulls":26},"x"]
[{"$nulls":26},"x"]
[{"$nulls":26},"x"]
[{"$nulls":26},"x"]
[{"$nulls":26},"x"]
[{"$nulls":26},"x"]
[{"$nulls":26},"x"]
[{"$nulls":26},"x"]
[{"$nulls":26},"x"]
[{"$nulls":26},"x"]
[{"$nulls":26},"x"]
[{"$nulls":26},"x"]
[{"$nulls":26},"x"]
[{"$nulls":26},"x"]
[{"$nulls":26},"x"]
[{"$nulls":26},"x"]
[{"$nulls":26},"x"]
[{"$nulls":26},"x"]
[{"$nulls":26},"x"]
[{"$nulls":26},"x"]
[{"$nulls":26},"x"]
[{"$nulls":26},"x"]
[{"$nulls":26},"x"]
[{"$nulls":26},"x"]
[{"$nulls":26},"x"]
[{"$nulls":26},"x"]
[{"$nulls":26},"x"]
[{"$nulls":26},"x"]
[{"$nulls":26},"x"]
[{"$nulls":26},"x"]
[{"$nulls":26},"x"]
[{"$nulls":26},"x"]
[{"$nulls":26},"x"]
[{"$nulls":26},"x"]
[{"$nulls":26},"x"]
[{"$nulls":26},"x"]
[{"$nulls":26},"x"]
[{"$nulls":26},"x"]
[{"$nulls":26},"x"]
[{"$nulls":26},"x"]
[{"$nulls":26},"x"]
[{"$nulls":26},"x"]
[{"$nulls":26},"x"]
[{"$nulls":26},"x"]
[{"$nulls":26},"x"]
[{"$nulls":26},"x"]
[{"$nulls":26},"x"]
[{"$nulls":26},"x"]
[{"$nulls":26},"x"]
[{"$nulls":26},"x"]
[{"$nulls":26},"x"]
[{"$nulls":26},"x"]
[{"$nulls":26},"x"]
[{"$nulls":26},"x"]
[{"$nulls":26},"x"]
[{"$nulls":26},"x"]
[{"$nulls":26},"x"]
[{"$nulls":26},"x"]
[{"$nulls":26},"x"]
[{"$nulls":26},"x"]
[{"$nulls":26},"x"]
[{"$nulls":26},"x"]
[{"$nulls":26},"x"]
[{"$nulls":26},"x"]
[{"$nulls":26},"x"]
[{"$nulls":26},"x"]
[{"$nulls":26},"x"]
[{"$nulls":26},"x"]
[{"$nulls":26},"x"]
[{"$nulls":26},"x"]
[{"$nulls":26},"x"]
[{"$nulls":26},"x"]
[{"$nulls":26},"x"]
[{"$nulls":26},"x"]
[{"$nulls":26},"x"]
[{"$nulls":26},"x"]
[{"$nulls":26},"x"]
[{"$nulls":26},"x"]
[{"$nulls":26},"x"]
[{"$nulls":26},"x"]
[{"$nulls":26},"x"]
[{"$nulls":26},"x"]
[{"$nulls":26},"x"]
[{"$nulls":26},"x"]
[{"$nulls":26},"x"]
[{"$nulls":26},"x"]
[{"$nulls":26},"x"]
[{"$nulls":26},"x"]
[{"$nulls":26},"x"]
[{"$nulls":26},"x"]
[{"$nulls":26},"x"]
[{"$nulls":26},"x"]
[{"$nulls":26},"x"]
[{"$nulls":26},"x"]
[{"$nulls":26},"x"]
[{"$nulls":26},"x"]
[{"$nulls":26},"x"]
[{"$nulls":26},"x"]
[{"$nulls":26},"x"]
[{"$nulls":26},"x"]
[{"$nulls":26},"x"]
[{"$nulls":26},"x"]
[{"$nulls":26},"x"]
[{"$nulls":26},"x"]
[{"$nulls":26},"x"]
[{"$nulls":26},"x"]
[{"$nulls":26},"x"]
[{"$nulls":26},"x"]
[{"$nulls":26},"x"]
[{"$nulls":26},"x"]
[{"$nulls":26},"x"]
[{"$nulls":26},"x"]
[{"$nulls":26},"x"]
[{"$nulls":26},"x"]
[{"$nulls":26},"x"]
[{"$nulls":26},"x"]
[{"$nulls":26},"x"]
[{"$nulls":26},"x"]
[{"$nulls":26},"x"]
[{"$nulls":26},"x"]
[{"$nulls":26},"x"]
[{"$nulls":26},"x"]
[{"$nulls":26},"x"]
[{"$nulls":26},"x"]
[{"$nulls":26},"x"]
[{"$nulls":26},"x"]
[{"$nulls":26},"x"]
[{"$nulls":26},"x"]
[{"$nulls":26},"x"]
[{"$nulls":26},"x"]
[{"$nulls":26},"x"]
[{"$nulls":26},"x"]
[{"$nulls":26},"x"]
[{"$nulls":26},"x"]
[{"$nulls":26},"x"]
[{"$nulls":26},"x"]
[{"$nulls":26},"x"]
[{"$nulls":26},"x"]
[{"$nulls":26},"x"]
[{"$nulls":26},"x"]
[{"$nulls":26},"x"]
[{"$nulls":26},"x"]
[{"$nulls":26},"x"]
[{"$nulls":26},"x"]
[{"$nulls":26},"x"]
[{"$nulls":26},"x"]
[{"$nulls":26},"x"]
[{"$nulls":26},"x"]
[{"$nulls":26},"x"]
[{"$nulls":26},"x"]
[{"$nulls":26},"x"]
[{"$nulls":26},"x"]
[{"$nulls":26},"x"]
[{"$nulls":26},"x"]
[{"$nulls":26},"x"]
[{"$nulls":26},"x"]
[{"$nulls":26},"x"]
[{"$nulls":26},"x"]
[{"$nulls":26},"x"]
[{"$nulls":26},"x"]
[{"$nulls":26},"x"]
[{"$nulls":26},"x"]
[{"$nulls":26},"x"]
[{"$nulls":26},"x"]
[{"$nulls":26},"x"]
[{"$nulls":26},"x"]
[{"$nulls":26},"x"]
[{"$nulls":26},"x"]
[{"$nulls":26},"x"]
[{"$nulls":26},"x"]
[{"$nulls":26},"x"]
[{"$nulls":26},"x"]
[{"$nulls":26},"x"]
[{"$nulls":26},"x"]
[{"$nulls":26},"x"]
[{"$nulls":26},"x"]
[{"$nulls":26},"x"]
[{"$nulls":26},"x"]
[{"$nulls":26},"x"]
[{"$nulls":26},"x"]
[{"$nulls":26},"x"]
[{"$nulls":26},"x"]
[{"$nulls":26},"x"]
[{"$nulls":26},"x"]
[{"$nulls":26},"x"]
[{"$nulls":26},"x"]
[{"$nulls":26},"x"]
[{"$nulls":26},"x"]
[{"$nulls":26},"x"]
[{"$nulls":26},"x"]
[{"$nulls":26},"x"]
[{"$nulls":26},"x"]
[{"$nulls":26},"x"]
[{"$nulls":26},"x"]
[{"$nulls":26},"x"]
[{"$nulls":26},"x"]
[{"$nulls":26},"x"]
[{"$nulls":26},"x"]
[{"$nulls":26},"x"]
[{"$nulls":26},"x"]
[{"$nulls":26},"x"]
[{"$nulls":26},"x"]
[{"$nulls":26},"x"]
[{"$nulls":26},"x"]
[{"$nulls":26},"x"]
[{"$nulls":26},"x"]
[{"$nulls":26},"x"]
[{"$nulls":26},"x"]
[{"$nulls":26},"x"]
[{"$nulls":26},"x"]
[{"$nulls":26},"x"]
[{"$nulls":26},"x"]
[{"$nulls":26},"x"]
[{"$nulls":26},"x"]
[{"$nulls":26},"x"]
[{"$nulls":26},"x"]
[{"$nulls":26},"x"]
[{"$nulls":26},"x"]
[{"$nulls":26},"x"]
[{"$nulls":26},"x"]
[{"$nulls":26},"x"]
[{"$nulls":26},"x"]
[{"$nulls":26},"x"]
[{"$nulls":26},"x"]
[{"$nulls":26},"x"]
[{"$nulls":26},"x"]
[{"$nulls":26},"x"]
[{"$nulls":26},"x"]
[{"$nulls":26},"x"]
[{"$nulls":26},"x"]
[{"$nulls":26},"x"]
[{"$nulls":26},"x"]
[{"$nulls":26},"x"]
[{"$nulls":26},"x"]
[{"$nulls":26},"x"]
[{"$nulls":26},"x"]
[{"$nulls":26},"x"]
[{"$nulls":26},"x"]
[{"$nulls":26},"x"]
[{"$nulls":26},"x"]
[{"$nulls":26},"x"]
[{"$nulls":26},"x"]
[{"$nulls":26},"x"]
[{"$nulls":26},"x"]
[{"$nulls":26},"x"]
[{"$nulls":26},"x"]
[{"$nulls":26},"x"]
[{"$nulls":26},"x"]
[{"$nulls":26},"x"]
[{"$nulls":26},"x"]
[{"$nulls":26},"x"]
[{"$nulls":26},"x"]
[{"$nulls":26},"x"]
[{"$nulls":26},"x"]
[{"$nulls":26},"x"]
[{"$nulls":26},"x"]
[{"$nulls":26},"x"]
[{"$nulls":26},"x"]
[{"$nulls":26},"x"]
[{"$nulls":26},"x"]
[{"$nulls":26},"x"]
[{"$nulls":26},"x"]
[{"$nulls":26},"x"]
[{"$nulls":26},"x"]
[{"$nulls":26},"x"]
[{"$nulls":26},"x"]
[{"$nulls":26},"x"]
[{"$nulls":26},"x"]
[{"$nulls":26},"x"]
[{"$nulls":26},"x"]
[{"$nulls":26},"x"]
[{"$nulls":26},"x"]
[{"$nulls":26},"x"]
[{"$nulls":26},"x"]
[{"$nulls":26},"x"]
[{"$nulls":26},"x"]
[{"$nulls":26},"x"]
[{"$nulls":26},"x"]
[{"$nulls":26},"x"]
[{"$nulls":26},"x"]
[{"$nulls":26},"x"]
[{"$nulls":26},"x"]
[{"$nulls":26},"x"]
[{"$nulls":26},"x"]
[{"$nulls":26},"x"]
[{"$nulls":26},"x"]
[{"$nulls":26},"x"]
[{"$nulls":26},"x"]
[{"$nulls":26},"x"]
[{"$nulls":26},"x"]
[{"$nulls":26},"x"]
[{"$nulls":26},"x"]
[{"$nulls":26},"x"]
[{"$nulls":26},"x"]
[{"$nulls":26},"x"]
[{"$nulls":26},"x"]
[{"$nulls":26},"x"]
[{"$nulls":26},"x"]
[{"$nulls":26},"x"]
[{"$nulls":26},"x"]
[{"$nulls":26},"x"]
[{"$nulls":26},"x"]
[{"$nulls":26},"x"]
[{"$nulls":26},"x"]
[{"$nulls":26},"x"]
[{"$nulls":26},"x"]
[{"$nulls":26},"x"]
[{"$nulls":26},"x"]
[{"$nulls":26},"x"]
[{"$nulls":26},"x"]
[{"$nulls":26},"x"]
[{"$nulls":26},"x"]
[{"$nulls":26},"x"]
[{"$nulls":26},"x"]
[{"$nulls":26},"x"]
[{"$nulls":26},"x"]
[{"$nulls":26},"x"]
[{"$nulls":26},"x"]
[{"$nulls":26},"x"]
[{"$nulls":26},"x"]
[{"$nulls":26},"x"]
[{"$nulls":26},"x"]
[{"$nulls":26},"x"]
[{"$nulls":26},"x"]
[{"$nulls":26},"x"]
[{"$nulls":26},"x"]
[{"$nulls":26},"x"]
[{"$nulls":26},"x"]
[{"$nulls":26},"x"]
[{"$nulls":26},"x"]
[{"$nulls":26},"x"]
[{"$nulls":26},"x"]
[{"$nulls":26},"x"]
[{"$nulls":26},"x"]
[{"$nulls":26},"x"]
[{"$nulls":26},"x"]
[{"$nulls":26},"x"]
[{"$nulls":26},"x"]
[{"$nulls":26},"x"]
[{"$nulls":26},"x"]
[{"$nulls":26},"x"]
[{"$nulls":26},"x"]
[{"$nulls":26},"x"]
[{"$nulls":26},"x"]
[{"$nulls":26},"x"]
[{"$nulls":26},"x"]
[{"$nulls":26},"x"]
[{"$nulls":26},"x"]
[{"$nulls":26},"x"]
[{"$nulls":26},"x"]
[{"$nulls":26},"x"]
[{"$nulls":26},"x"]
[{"$nulls":26},"x"]
[{"$nulls":26},"x"]
[{"$nulls":26},"x"]
[{"$nulls":26},"x"]
[{"$nulls":26},"x"]
[{"$nulls":26},"x"]
[{"$nulls":26},"x"]
[{"$nulls":26},"x"]
[{"$nulls":26},"x"]
[{"$nulls":26},"x"]
[{"$nulls":26},"x"]
[{"$nulls":26},"x"]
[{"$nulls":26},"x"]
[{"$nulls":26},"x"]
[{"$nulls":26},"x"]
[{"$nulls":26},"x"]
[{"$nulls":26},"x"]
[{"$nulls":26},"x"]
[{"$nulls":26},"x"]
[{"$nulls":26},"x"]
[{"$nulls":26},"x"]
[{"$nulls":26},"x"]
[{"$nulls":26},"x"]
[{"$nulls":26},"x"]
[{"$nulls":26},"x"]
[{"$nulls":26},"x"]
[{"$nulls":26},"x"]
[{"$nulls":26},"x"]
[{"$nulls":26},"x"]
[{"$nulls":26},"x"]
[{"$nulls":26},"x"]
[{"$nulls":26},"x"]
[{"$nulls":26},"x"]
[{"$nulls":26},"x"]
[{"$nulls":26},"x"]
[{"$nulls":26},"x"]
[{"$nulls":26},"x"]
[{"$nulls":26},"x"]
[{"$nulls":26},"x"]
[{"$nulls":26},"x"]
[{"$nulls":26},"x"]
[{"$nulls":26},"x"]
[{"$nulls":26},"x"]
[{"$nulls":26},"x"]
[{"$nulls":26},"x"]
[{"$nulls":26},"x"]
[{"$nulls":26},"x"]
[{"$nulls":26},"x"]
[{"$nulls":26},"x"]
[{"$nulls":26},"x"]
[{"$nulls":26},"x"]
[{"$nulls":26},"x"]
[{"$nulls":26},"x"]
[{"$nulls":26},"x"]
[{"$nulls":26},"x"]
[{"$nulls":26},"x"]
[{"$nulls":26},"x"]
[{"$nulls":26},"x"]
[{"$nulls":26},"x"]
[{"$nulls":26},"x"]
[{"$nulls":26},"x"]
[{"$nulls":26},"x"]
[{"$nulls":26},"x"]
[{"$nulls":26},"x"]
[{"$nulls":26},"x"]
[{"$nulls":26},"x"]
[{"$nulls":26},"x"]
[{"$nulls":26},"x"]
[{"$nulls":26},"x"]
[{"$nulls":26},"x"]
[{"$nulls":26},"x"]
[{"$nulls":26},"x"]
[{"$nulls":26},"x"]
[{"$nulls":26},"x"]
[{"$nulls":26},"x"]
[{"$nulls":26},"x"]
[{"$nulls":26},"x"]
[{"$nulls":26},"x"]
[{"$nulls":26},"x"]
[{"$nulls":26},"x"]
[{"$nulls":26},"x"]
[{"$nulls":26},"x"]
[{"$nulls":26},"x"]
[{"$nulls":26},"x"]
[{"$nulls":26},"x"]
[{"$nulls":26},"x"]
[{"$nulls":26},"x"]
[{"$nulls":26},"x"]
[{"$nulls":26},"x"]
[{"$nulls":26},"x"]
[{"$nulls":26},"x"]
[{"$nulls":26},"x"]
[{"$nulls":26},"x"]
[{"$nulls":26},"x"]
[{"$nulls":26},"x"]
[{"$nulls":26},"x"]
[{"$nulls":26},"x"]
[{"$nulls":26},"x"]
[{"$nulls":26},"x"]
[{"$nulls":26},"x"]
[{"$nulls":26},"x"]
[{"$nulls":26},"x"]
[{"$nulls":26},"x"]
[{"$nulls":26},"x"]
[{"$nulls":26},"x"]
[{"$nulls":26},"x"]
[{"$nulls":26},"x"]
[{"$nulls":26},"x"]
[{"$nulls":26},"x"]
[{"$nulls":26},"x"]
[{"$nulls":26},"x"]
[{"$nulls":26},"x"]
[{"$nulls":26},"x"]
[{"$nulls":26},"x"]
[{"$nulls":26},"x"]
[{"$nulls":26},"x"]
[{"$nulls":26},"x"]
[{"$nulls":26},"x"]
[{"$nulls":26},"x"]
[{"$nulls":26},"x"]
[{"$nulls":26},"x"]
[{"$nulls":26},"x"]
[{"$nulls":26},"x"]
[{"$nulls":26},"x"]
[{"$nulls":26},"x"]
[{"$nulls":26},"x"]
[{"$nulls":26},"x"]
[{"$nulls":26},"x"]
[{"$nulls":26},"x"]
[{"$nulls":26},"x"]
[{"$nulls":26},"x"]
[{"$nulls":26},"x"]
[{"$nulls":26},"x"]
[{"$nulls":26},"x"]
[{"$nulls":26},"x"]
[{"$nulls":26},"x"]
[{"$nulls":26},"x"]
[{"$nulls":26},"x"]
[{"$nulls":26},"x"]
[{"$nulls":26},"x"]
[{"$nulls":26},"x"]
[{"$nulls":26},"x"]
[{"$nulls":26},"x"]
[{"$nulls":26},"x"]
[{"$nulls":26},"x"]
[{"$nulls":26},"x"]
[{"$nulls":26},"x"]
[{"$nulls":26},"x"]
[{"$nulls":26},"x"]
[{"$nulls":26},"x"]
[{"$nulls":26},"x"]
[{"$nulls":26},"x"]
[{"$nulls":26},"x"]
[{"$nulls":26},"x"]
[{"$nulls":26},"x"]
[{"$nulls":26},"x"]
[{"$nulls":26},"x"]
[{"$nulls":26},"x"]
[{"$nulls":26},"x"]
[{"$nulls":26},"x"]
[{"$nulls":26},"x"]
[{"$nulls":26},"x"]
[{"$nulls":26},"x"]
[{"$nulls":26},"x"]
[{"$nulls":26},"x"]
[{"$nulls":26},"x"]
[{"$nulls":26},"x"]
[{"$nulls":26},"x"]
[{"$nulls":26},"x"]
[{"$nulls":26},"x"]
[{"$nulls":26},"x"]
[{"$nulls":26},"x"]
[{"$nulls":26},"x"]
[{"$nulls":26},"x"]
[{"$nulls":26},"x"]
[{"$nulls":26},"x"]
[{"$nulls":26},"x"]
[{"$nulls":26},"x"]
[{"$nulls":26},"x"]
[{"$nulls":26},"x"]
[{"$nulls":26},"x"]
[{"$nulls":26},"x"]
[{"$nulls":26},"x"]
[{"$nulls":26},"x"]
[{"$nulls":26},"x"]
[{"$nulls":26},"x"]
[{"$nulls":26},"x"]
[{"$nulls":26},"x"]
[{"$nulls":26},"x"]
[{"$nulls":26},"x"]
[{"$nulls":26},"x"]
[{"$nulls":26},"x"]
[{"$nulls":26},"x"]
[{"$nulls":26},"x"]
[{"$nulls":26},"x"]
[{"$nulls":26},"x"]
[{"$nulls":26},"x"]
[{"$nulls":26},"x"]
[{"$nulls":26},"x"]
[{"$nulls":26},"x"]
[{"$nulls":26},"x"]
[{"$nulls":26},"x"]
[{"$nulls":26},"x"]
[{"$nulls":26},"x"]
[{"$nulls":26},"x"]
[{"$nulls":26},"x"]
[{"$nulls":26},"x"]
[{"$nulls":26},"x"]
[{"$nulls":26},"x"]
[{"$nulls":26},"x"]
[{"$nulls":26},"x"]
[{"$nulls":26},"x"]
[{"$nulls":26},"x"]
[{"$nulls":26},"x"]
[{"$nulls":26},"x"]
[{"$nulls":26},"x"]
[{"$nulls":26},"x"]
[{"$nulls":26},"x"]
[{"$nulls":26},"x"]
[{"$nulls":26},"x"]
[{"$nulls":26},"x"]
[{"$nulls":26},"x"]
[{"$nulls":26},"x"]
[{"$nulls":26},"x"]
[{"$nulls":26},"x"]
[{"$nulls":26},"x"]
[{"$nulls":26},"x"]
[{"$nulls":26},"x"]
[{"$nulls":26},"x"]
[{"$nulls":26},"x"]
[{"$nulls":26},"x"]
[{"$nulls":26},"x"]
[{"$nulls":26},"x"]
[{"$nulls":26},"x"]
[{"$nulls":26},"x"]
[{"$nulls":26},"x"]
[{"$nulls":26},"x"]
[{"$nulls":26},"x"]
[{"$nulls":26},"x"]
[{"$nulls":26},"x"]
[{"$nulls":26},"x"]
[{"$nulls":26},"x"]
[{"$nulls":26},"x"]
[{"$nulls":26},"x"]
[{"$nulls":26},"x"]
[{"$nulls":26},"x"]
[{"$nulls":26},"x"]
[{"$nulls":26},"x"]
[{"$nulls":26},"x"]
[{"$nulls":26},"x"]
[{"$nulls":26},"x"]
[{"$nulls":26},"x"]
[{"$nulls":26},"x"]
[{"$nulls":26},"x"]
[{"$nulls":26},"x"]
[{"$nulls":26},"x"]
[{"$nulls":26},"x"]
[{"$nulls":26},"x"]
[{"$nulls":26},"x"]
[{"$nulls":26},"x"]
[{"$nulls":26},"x"]
[{"$nulls":26},"x"]
[{"$nulls":26},"x"]
[{"$nulls":26},"x"]
[{"$nulls":26},"x"]
[{"$nulls":26},"x"]
[{"$nulls":26},"x"]
[{"$nulls":26},"x"]
[{"$nulls":26},"x"]
[{"$nulls":26},"x"]
[{"$nulls":26},"x"]
[{"$nulls":26},"x"]
[{"$nulls":26},"x"]
[{"$nulls":26},"x"]
[{"$nulls":26},"x"]
[{"$nulls":26},"x"]
[{"$nulls":26},"x"]
[{"$nulls":26},"x"]
[{"$nulls":26},"x"]
[{"$nulls":26},"x"]
[{"$nulls":26},"x"]
[{"$nulls":26},"x"]
[{"$nulls":26},"x"]
[{"$nulls":26},"x"]
[{"$nulls":26},"x"]
[{"$nulls":26},"x"]
[{"$nulls":26},"x"]
[{"$nulls":26},"x"]
[{"$nulls":26},"x"]
[{"$nulls":26},"x"]
[{"$nulls":26},"x"]
[{"$nulls":26},"x"]
[{"$nulls":26},"x"]
[{"$nulls":26},"x"]
[{"$nulls":26},"x"]
[{"$nulls":26},"x"]
[{"$nulls":26},"x"]
[{"$nulls":26},"x"]
[{"$nulls":26},"x"]
[{"$nulls":26},"x"]
[{"$nulls":26},"x"]
[{"$nulls":26},"x"]
[{"$nulls":26},"x"]
[{"$nulls":26},"x"]
[{"$nulls":26},"x"]
[{"$nulls":26},"x"]
[{"$nulls":26},"x"]
[{"$nulls":26},"x"]
[{"$nulls":26},"x"]
[{"$nulls":26},"x"]
[{"$nulls":26},"x"]
[{"$nulls":26},"x"]
[{"$nulls":26},"x"]
[{"$nulls":26},"x"]
[{"$nulls":26},"x"]
[{"$nulls":26},"x"]
[{"$nulls":26},"x"]
[{"$nulls":26},"x"]
[{"$nulls":26},"x"]
[{"$nulls":26},"x"]
[{"$nulls":26},"x"]
[{"$nulls":26},"x"]
[{"$nulls":26},"x"]
[{"$nulls":26},"x"]
[{"$nulls":26},"x"]
[{"$nulls":26},"x"]
[{"$nulls":26},"x"]
[{"$nulls":26},"x"]
[{"$nulls":26},"x"]
[{"$nulls":26},"x"]
[{"$nulls":26},"x"]
[{"$nulls":26},"x"]
[{"$nulls":26},"x"]
[{"$nulls":26},"x"]
[{"$nulls":26},"x"]
[{"$nulls":26},"x"]
[{"$nulls":26},"x"]
[{"$nulls":26},"x"]
[{"$nulls":26},"x"]
[{"$nulls":26},"x"]
[{"$nulls":26},"x"]
[{"$nulls":26},"x"]
[{"$nulls":26},"x"]
[{"$nulls":26},"x"]
[{"$nulls":26},"x"]
[{"$nulls":26},"x"]
[{"$nulls":26},"x"]
[{"$nulls":26},"x"]
[{"$nulls":26},"x"]
[{"$nulls":26},"x"]
[{"$nulls":26},"x"]
[{"$nulls":26},"x"]
[{"$nulls":26},"x"]
[{"$nulls":26},"x"]
[{"$nulls":26},"x"]
[{"$nulls":26},"x"]
[{"$nulls":26},"x"]
[{"$nulls":26},"x"]
[{"$nulls":26},"x"]
[{"$nulls":26},"x"]
[{"$nulls":26},"x"]
[{"$nulls":26},"x"]
[{"$nulls":26},"x"]
[{"$nulls":26},"x"]
[{"$nulls":26},"x"]
[{"$nulls":26},"x"]
[{"$nulls":26},"x"]
[{"$nulls":26},"x"]
[{"$nulls":26},"x"]
[{"$nulls":26},"x"]
[{"$nulls":26},"x"]
[{"$nulls":26},"x"]
[{"$nulls":26},"x"]
[{"$nulls":26},"x"]
[{"$nulls":26},"x"]
[{"$nulls":26},"x"]
[{"$nulls":26},"x"]
[{"$nulls":26},"x"]
[{"$nulls":26},"x"]
[{"$nulls":26},"x"]
[{"$nulls":26},"x"]
[{"$nulls":26},"x"]
[{"$nulls":26},"x"]
[{"$nulls":26},"x"]
[{"$nulls":26},"x"]
[{"$nulls":26},"x"]
[{"$nulls":26},"x"]
[{"$nulls":26},"x"]
[{"$nulls":26},"x"]
[{"$nulls":26},"x"]
[{"$nulls":26},"x"]
[{"$nulls":26},"x"]
[{"$nulls":26},"x"]
[{"$nulls":26},"x"]
[{"$nulls":26},"x"]
[{"$nulls":26},"x"]
[{"$nulls":26},"x"]
[{"$nulls":26},"x"]
[{"$nulls":26},"x"]
[{"$nulls":26},"x"]
[{"$nulls":26},"x"]
[{"$nulls":26},"x"]
[{"$nulls":26},"x"]
[{"$nulls":26},"x"]
[{"$nulls":26},"x"]
[{"$nulls":26},"x"]
[{"$nulls":26},"x"]
[{"$nulls":26},"x"]
[{"$nulls":26},"x"]
[{"$nulls":26},"x"]
[{"$nulls":26},"x"]
[{"$nulls":26},"x"]
[{"$nulls":26},"x"]
[{"$nulls":26},"x"]
[{"$nulls":26},"x"]
[{"$nulls":26},"x"]
[{"$nulls":26},"x"]
[{"$nulls":26},"x"]
[{"$nulls":26},"x"]
[{"$nulls":26},"x"]
[{"$nulls":26},"x"]
[{"$nulls":26},"x"]
[{"$nulls":26},"x"]
[{"$nulls":26},"x"]
[{"$nulls":26},"x"]
[{"$nulls":26},"x"]
[{"$nulls":26},"x"]
[{"$nulls":26},"x"]
[{"$nulls":26},"x"]
[{"$nulls":26},"x"]
[{"$nulls":26},"x"]
[{"$nulls":26},"x"]
[{"$nulls":26},"x"]
[{"$nulls":26},"x"]
[{"$nulls":26},"x"]
[{"$nulls":26},"x"]
[{"$nulls":26},"x"]
[{"$nulls":26},"x"]
[{"$nulls":26},"x"]
[{"$nulls":26},"x"]
[{"$nulls":26},"x"]
[{"$nulls":26},"x"]
[{"$nulls":26},"x"]
[{"$nulls":26},"x"]
[{"$nulls":26},"x"]
[{"$nulls":26},"x"]
[{"$nulls":26},"x"]
[{"$nulls":26},"x"]
[{"$nulls":26},"x"]
[{"$nulls":26},"x"]
[{"$nulls":26},"x"]
[{"$nulls":26},"x"]
[{"$nulls":26},"x"]
[{"$nulls":26},"x"]
[{"$nulls":26},"x"]
[{"$nulls":26},"x"]
[{"$nulls":26},"x"]
[{"$nulls":26},"x"]
[{"$nulls":26},"x"]
[{"$nulls":26},"x"]
[{"$nulls":26},"x"]
[{"$nulls":26},"x"]
[{"$nulls":26},"x"]
[{"$nulls":26},"x"]
[{"$nulls":26},"x"]
[{"$nulls":26},"x"]
[{"$nulls":26},"x"]
[{"$nulls":26},"x"]
[{"$nulls":26},"x"]
[{"$nulls":26},"x"]
[{"$nulls":26},"x"]
[{"$nulls":26},"x"]
[{"$nulls":26},"x"]
[{"$nulls":26},"x"]
[{"$nulls":26},"x"]
[{"$nulls":26},"x"]
[{"$nulls":26},"x"]
[{"$nulls":26},"x"]
[{"$nulls":26},"x"]
[{"$nulls":26},"x"]
[{"$nulls":26},"x"]
[{"$nulls":26},"x"]
[{"$nulls":26},"x"]
[{"$nulls":26},"x"]
[{"$nulls":26},"x"]
[{"$nulls":26},"x"]
[{"$nulls":26},"x"]
[{"$nulls":26},"x"]
[{"$nulls":26},"x"]
[{"$nulls":26},"x"]
[{"$nulls":26},"x"]
[{"$nulls":26},"x"]
[{"$nulls":26},"x"]
[{"$nulls":26},"x"]
[{"$nulls":26},"x"]
[{"$nulls":26},"x"]
[{"$nulls":26},"x"]
[{"$nulls":26},"x"]
[{"$nulls":26},"x"]
[{"$nulls":26},"x"]
[{"$nulls":26},"x"]
[{"$nulls":26},"x"]
[{"$nulls":26},"x"]
[{"$nulls":26},"x"]
[{"$nulls":26},"x"]
[{"$nulls":26},"x"]
[{"$nulls":26},"x"]
[{"$nulls":26},"x"]
[{"$nulls":26},"x"]
[{"$nulls":26},"x"]
[{"$nulls":26},"x"]
[{"$nulls":26},"x"]
[{"$nulls":26},"x"]
[{"$nulls":26},"x"]
[{"$nulls":26},"x"]
[{"$nulls":26},"x"]
[{"$nulls":26},"x"]
[{"$nulls":26},"x"]
[{"$nulls":26},"x"]
[{"$nulls":26},"x"]
[{"$nulls":26},"x"]
[{"$nulls":26},"x"]
[{"$nulls":26},"x"]
[{"$nulls":26},"x"]
[{"$nulls":26},"x"]
[{"$nulls":26},"x"]
[{"$nulls":26},"x"]
[{"$nulls":26},"x"]
[{"$nulls":26},"x"]
[{"$nulls":26},"x"]
[{"$nulls":26},"x"]
[{"$nulls":26},"x"]
[{"$nulls":26},"x"]
[{"$nulls":26},"x"]
[{"$nulls":26},"x"]
[{"$nulls":26},"x"]
[{"$nulls":26},"x"]
[{"$nulls":26},"x"]
[{"$nulls":26},"x"]
[{"$nulls":26},"x"]
[{"$nulls":26},"x"]
[{"$nulls":26},"x"]
[{"$nulls":26},"x"]
[{"$nulls":26},"x"]
[{"$nulls":26},"x"]
[{"$nulls":26},"x"]
[{"$nulls":26},"x"]
[{"$nulls":26},"x"]
[{"$nulls":26},"x"]
[{"$nulls":26},"x"]
[{"$nulls":26},"x"]
[{"$nulls":26},"x"]
[{"$nulls":26},"x"]
[{"$nulls":26},"x"]
[{"$nulls":26},"x"]
[{"$nulls":26},"x"]
[{"$nulls":26},"x"]
[{"$nulls":26},"x"]
[{"$nulls":26},"x"]
[{"$nulls":26},"x"]
[{"$nulls":26},"x"]
[{"$nulls":26},"x"]
[{"$nulls":26},"x"]
[{"$nulls":26},"x"]
[{"$nulls":26},"x"]
[{"$nulls":26},"x"]
[{"$nulls":26},"x"]
[{"$nulls":26},"x"]
[{"$nulls":26},"x"]
[{"$nulls":26},"x"]
[{"$nulls":26},"x"]
[{"$nulls":26},"x"]
[{"$nulls":26},"x"]
[{"$nulls":26},"x"]
[{"$nulls":26},"x"]
[{"$nulls":26},"x"]
[{"$nulls":26},"x"]
[{"$nulls":26},"x"]
[{"$nulls":26},"x"]
[{"$nulls":26},"x"]
[{"$nulls":26},"x"]
[{"$nulls":26},"x"]
[{"$nulls":26},"x"]
[{"$nulls":26},"x"]
[{"$nulls":26},"x"]
[{"$nulls":26},"x"]
[{"$nulls":26},"x"]
[{"$nulls":26},"x"]
[{"$nulls":26},"x"]
[{"$nulls":26},"x"]
[{"$nulls":26},"x"]
[{"$nulls":26},"x"]
[{"$nulls":26},"x"]
[{"$nulls":26},"x"]
[{"$nulls":26},"x"]
[{"$nulls":26},"x"]
[{"$nulls":26},"x"]
[{"$nulls":26},"x"]
[{"$nulls":26},"x"]
[{"$nulls":26},"x"]
[{"$nulls":26},"x"]
[{"$nulls":26},"x"]
[{"$nulls":26},"x"]
[{"$nulls":26},"x"]
[{"$nulls":26},"x"]
[{"$nulls":26},"x"]
[{"$nulls":26},"x"]
[{"$nulls":26},"x"]
[{"$nulls":26},"x"]
[{"$nulls":26},"x"]
[{"$nulls":26},"x"]
[{"$nulls":26},"x"]
[{"$nulls":26},"x"]
[{"$nulls":26},"x"]
[{"$nulls":26},"x"]
[{"$nulls":26},"x"]
[{"$nulls":26},"x"]
[{"$nulls":26},"x"]
[{"$nulls":26},"x"]
[{"$nulls":26},"x"]
[{"$nulls":26},"x"]
[{"$nulls":26},"x"]
[{"$nulls":26},"x"]
[{"$nulls":26},"x"]
[{"$nulls":26},"x"]
[{"$nulls":26},"x"]
[{"$nulls":26},"x"]
[{"$nulls":26},"x"]
[{"$nulls":26},"x"]
[{"$nulls":26},"x"]
[{"$nulls":26},"x"]
[{"$nulls":26},"x"]
[{"$nulls":26},"x"]
[{"$nulls":26},"x"]
[{"$nulls":26},"x"]
[{"$nulls":26},"x"]
[{"$nulls":26},"x"]
[{"$nulls":26},"x"]
[{"$nulls":26},"x"]
[{"$nulls":26},"x"]
[{"$nulls":26},"x"]
[{"$nulls":26},"x"]
[{"$nulls":26},"x"]
[{"$nulls":26},"x"]
[{"$nulls":26},"x"]
[{"$nulls":26},"x"]
[{"$nulls":26},"x"]
[{"$nulls":26},"x"]
[{"$nulls":26},"x"]
[{"$nulls":26},"x"]
[{"$nulls":26},"x"]
[{"$nulls":26},"x"]
[{"$nulls":26},"x"]
[{"$nulls":26},"x"]
[{"$nulls":26},"x"]
[{"$nulls":26},"x"]
[{"$nulls":26},"x"]
[{"$nulls":26},"x"]
[{"$nulls":26},"x"]
[{"$nulls":26},"x"]
[{"$nulls":26},"x"]
[{"$nulls":26},"x"]
[{"$nulls":26},"x"]
[{"$nulls":26},"x"]
[{"$nulls":26},"x"]
[{"$nulls":26},"x"]
[{"$nulls":26},"x"]
[{"$nulls":26},"x"]
[{"$nulls":26},"x"]
[{"$nulls":26},"x"]
[{"$nulls":26},"x"]
[{"$nulls":26},"x"]
[{"$nulls":26},"x"]
[{"$nulls":26},"x"]
[{"$nulls":26},"x"]
[{"$nulls":26},"x"]
[{"$nulls":26},"x"]
[{"$nulls":26},"x"]
[{"$nulls":26},"x"]
[{"$nulls":26},"x"]
[{"$nulls":26},"x"]
[{"$nulls":26},"x"]
[{"$nulls":26},"x"]
[{"$nulls":26},"x"]
[{"$nulls":26},"x"]
[{"$nulls":26},"x"]
[{"$nulls":26},"x"]
[{"$nulls":26},"x"]
[{"$nulls":26},"x"]
[{"$nulls":26},"x"]
[{"$nulls":26},"x"]
[{"$nulls":26},"x"]
[{"$nulls":26},"x"]
[{"$nulls":26},"x"]
[{"$nulls":26},"x"]
[{"$nulls":26},"x"]
[{"$nulls":26},"x"]
[{"$nulls":26},"x"]
[{"$nulls":26},"x"]
[{"$nulls":26},"x"]
[{"$nulls":26},"x"]
[{"$nulls":26},"x"]
[{"$nulls":26},"x"]
[{"$nulls":26},"x"]
[{"$nulls":26},"x"]
[{"$nulls":26},"x"]
[{"$nulls":26},"x"]
[{"$nulls":26},"x"]
[{"$nulls":26},"x"]
[{"$nulls":26},"x"]
[{"$nulls":26},"x"]
[{"$nulls":26},"x"]
[{"$nulls":26},"x"]
[{"$nulls":26},"x"]
[{"$nulls":26},"x"]
[{"$nulls":26},"x"]
[{"$nulls":26},"x"]
[{"$nulls":26},"x"]
[{"$nulls":26},"x"]
[{"$nulls":26},"x"]
[{"$nulls":26},"x"]
[{"$nulls":26},"x"]
[{"$nulls":26},"x"]
[{"$nulls":26},"x"]
[{"$nulls":26},"x"]
[{"$nulls":26},"x"]
[{"$nulls":26},"x"]
[{"$nulls":26},"x"]
[{"$nulls":26},"x"]
[{"$nulls":26},"x"]
[{"$nulls":26},"x"]
[{"$nulls":26},"x"]
[{"$nulls":26},"x"]
[{"$nulls":26},"x"]
[{"$nulls":26},"x"]
[{"$nulls":26},"x"]
[{"$nulls":26},"x"]
[{"$nulls":26},"x"]
[{"$nulls":26},"x"]
[{"$nulls":26},"x"]
[{"$nulls":26},"x"]
[{"$nulls":26},"x"]
[{"$nulls":26},"x"]
[{"$nulls":26},"x"]
[{"$nulls":26},"x"]
[{"$nulls":26},"x"]
[{"$nulls":26},"x"]
[{"$nulls":26},"x"]
[{"$nulls":26},"x"]
[{"$nulls":26},"x"]
[{"$nulls":26},"x"]
[{"$nulls":26},"x"]
[{"$nulls":26},"x"]
[{"$nulls":26},"x"]
[{"$nulls":26},"x"]
[{"$nulls":26},"x"]
[{"$nulls":26},"x"]
[{"$nulls":26},"x"]
[{"$nulls":26},"x"]
[{"$nulls":26},"x"]
[{"$nulls":26},"x"]
[{"$nulls":26},"x"]
[{"$nulls":26},"x"]
[{"$nulls":26},"x"]
[{"$nulls":26},"x"]
[{"$nulls":26},"x"]
[{"$nulls":26},"x"]
[{"$nulls":26},"x"]
[{"$nulls":26},"x"]
[{"$nulls":26},"x"]
[{"$nulls":26},"x"]
[{"$nulls":26},"x"]
[{"$nulls":26},"x"]
[{"$nulls":26},"x"]
[{"$nulls":26},"x"]
[{"$nulls":26},"x"]
[{"$nulls":26},"x"]
[{"$nulls":26},"x"]
[{"$nulls":26},"x"]
[{"$nulls":26},"x"]
[{"$nulls":26},"x"]
[{"$nulls":26},"x"]
[{"$nulls":26},"x"]
[{"$nulls":26},"x"]
[{"$nulls":26},"x"]
[{"$nulls":26},"x"]
[{"$nulls":26},"x"]
[{"$nulls":26},"x"]
[{"$nulls":26},"x"]
[{"$nulls":26},"x"]
[{"$nulls":26},"x"]
[{"$nulls":26},"x"]
[{"$nulls":26},"x"]
[{"$nulls":26},"x"]
[{"$nulls":26},"x"]
[{"$nulls":26},"x"]
[{"$nulls":26},"x"]
[{"$nulls":26},"x"]
[{"$nulls":26},"x"]
[{"$nulls":26},"x"]
[{"$nulls":26},"x"]
[{"$nulls":26},"x"]
[{"$nulls":26},"x"]
[{"$nulls":26},"x"]
[{"$nulls":26},"x"]
[{"$nulls":26},"x"]
[{"$nulls":26},"x"]
[{"$nulls":26},"x"]
[{"$nulls":26},"x"]
[{"$nulls":26},"x"]
[{"$nulls":26},"x"]
[{"$nulls":26},"x"]
[{"$nulls":26},"x"]
[{"$nulls":26},"x"]
[{"$nulls":26},"x"]
[{"$nulls":26},"x"]
[{"$nulls":26},"x"]
[{"$nulls":26},"x"]
[{"$nulls":26},"x"]
[{"$nulls":26},"x"]
[{"$nulls":26},"x"]
[{"$nulls":26},"x"]
[{"$nulls":26},"x"]
[{"$nulls":26},"x"]
[{"$nulls":26},"x"]
[{"$nulls":26},"x"]
[{"$nulls":26},"x"]
[{"$nulls":26},"x"]
[{"$nulls":26},"x"]
[{"$nulls":26},"x"]
[{"$nulls":26},"x"]
[{"$nulls":26},"x"]
[{"$nulls":26},"x"]
[{"$nulls":26},"x"]
[{"$nulls":26},"x"]
[{"$nulls":26},"x"]
[{"$nulls":26},"x"]
[{"$nulls":26},"x"]
[{"$nulls":26},"x"]
[{"$nulls":26},"x"]
[{"$nulls":26},"x"]
[{"$nulls":26},"x"]
[{"$nulls":26},"x"]
[{"$nulls":26},"x"]
[{"$nulls":26},"x"]
[{"$nulls":26},"x"]
[{"$nulls":26},"x"]
[{"$nulls":26},"x"]
[{"$nulls":26},"x"]
[{"$nulls":26},"x"]
[{"$nulls":26},"x"]
[{"$nulls":26},"x"]
[{"$nulls":26},"x"]
[{"$nulls":26},"x"]
[{"$nulls":26},"x"]
[{"$nulls":26},"x"]
[{"$nulls":26},"x"]
[{"$nulls":26},"x"]
[{"$nulls":26},"x"]
[{"$nulls":26},"x"]
[{"$nulls":26},"x"]
[{"$nulls":26},"x"]
[{"$nulls":26},"x"]
[{"$nulls":26},"x"]
[{"$nulls":26},"x"]
[{"$nulls":26},"x"]
[{"$nulls":26},"x"]
[{"$nulls":26},"x"]
[{"$nulls":26},"x"]
[{"$nulls":26},"x"]
[{"$nulls":26},"x"]
[{"$nulls":26},"x"]
[{"$nulls":26},"x"]
[{"$nulls":26},"x"]
[{"$nulls":26},"x"]
[{"$nulls":26},"x"]
[{"$nulls":26},"x"]
[{"$nulls":26},"x"]
[{"$nulls":26},"x"]
[{"$nulls":26},"x"]
[{"$nulls":26},"x"]
[{"$nulls":26},"x"]
[{"$nulls":26},"x"]
[{"$nulls":26},"x"]
[{"$nulls":26},"x"]
[{"$nulls":26},"x"]
[{"$nulls":26},"x"]
[{"$nulls":26},"x"]
[{"$nulls":26},"x"]
[{"$nulls":26},"x"]
[{"$nulls":26},"x"]
[{"$nulls":26},"x"]
[{"$nulls":26},"x"]
[{"$nulls":26},"x"]
[{"$nulls":26},"x"]
[{"$nulls":26},"x"]
[{"$nulls":26},"x"]
[{"$nulls":26},"x"]
[{"$nulls":26},"x"]
[{"$nulls":26},"x"]
[{"$nulls":26},"x"]
[{"$nulls":26},"x"]
[{"$nulls":26},"x"]
[{"$nulls":26},"x"]
[{"$nulls":26},"x"]
[{"$nulls":26},"x"]
[{"$nulls":26},"x"]
[{"$nulls":26},"x"]
[{"$nulls":26},"x"]
[{"$nulls":26},"x"]
[{"$nulls":26},"x"]
[{"$nulls":26},"x"]
[{"$nulls":26},"x"]
[{"$nulls":26},"x"]
[{"$nulls":26},"x"]
[{"$nulls":26},"x"]
[{"$nulls":26},"x"]
[{"$nulls":26},"x"]
[{"$nulls":26},"x"]
[{"$nulls":26},"x"]
[{"$nulls":26},"x"]
[{"$nulls":26},"x"]
[{"$nulls":26},"x"]
[{"$nulls":26},"x"]
[{"$nulls":26},"x"]
[{"$nulls":26},"x"]
[{"$nulls":26},"x"]
[{"$nulls":26},"x"]
[{"$nulls":26},"x"]
[{"$nulls":26},"x"]
[{"$nulls":26},"x"]
[{"$nulls":26},"x"]
[{"$nulls":26},"x"]
[{"$nulls":26},"x"]
[{"$nulls":26},"x"]
[{"$nulls":26},"x"]
[{"$nulls":26},"x"]
[{"$nulls":26},"x"]
[{"$nulls":26},"x"]
[{"$nulls":26},"x"]
[{"$nulls":26},"x"]
[{"$nulls":26},"x"]
[{"$nulls":26},"x"]
[{"$nulls":26},"x"]
[{"$nulls":26},"x"]
[{"$nulls":26},"x"]
[{"$nulls":26},"x"]
[{"$nulls":26},"x"]
[{"$nulls":26},"x"]
[{"$nulls":26},"x"]
[{"$nulls":26},"x"]
[{"$nulls":26},"x"]
[{"$nulls":26},"x"]
[{"$nulls":26},"x"]
[{"$nulls":26},"x"]
[{"$nulls":26},"x"]
[{"$nulls":26},"x"]
[{"$nulls":26},"x"]
[{"$nulls":26},"x"]
[{"$nulls":26},"x"]
[{"$nulls":26},"x"]
[{"$nulls":26},"x"]
[{"$nulls":26},"x"]
[{"$nulls":26},"x"]
[{"$nulls":26},"x"]
[{"$nulls":26},"x"]
[{"$nulls":26},"x"]
[{"$nulls":26},"x"]
[{"$nulls":26},"x"]
[{"$nulls":26},"x"]
[{"$nulls":26},"x"]
[{"$nulls":26},"x"]
[{"$nulls":26},"x"]
[{"$nulls":26},"x"]
[{"$nulls":26},"x"]
[{"$nulls":26},"x"]
[{"$nulls":26},"x"]
[{"$nulls":26},"x"]
[{"$nulls":26},"x"]
[{"$nulls":26},"x"]
[{"$nulls":26},"x"]
[{"$nulls":26},"x"]
[{"$nulls":26},"x"]
[{"$nulls":26},"x"]
[{"$nulls":26},"x"]
[{"$nulls":26},"x"]
[{"$nulls":26},"x"]
[{"$nulls":26},"x"]
[{"$nulls":26},"x"]
[{"$nulls":26},"x"]
[{"$nulls":26},"x"]
[{"$nulls":26},"x"]
[{"$nulls":26},"x"]
[{"$nulls":26},"x"]
[{"$nulls":26},"x"]
[{"$nulls":26},"x"]
[{"$nulls":26},"x"]
[{"$nulls":26},"x"]
[{"$nulls":26},"x"]
[{"$nulls":26},"x"]
[{"$nulls":26},"x"]
[{"$nulls":26},"x"]
[{"$nulls":26},"x"]
[{"$nulls":26},"x"]
[{"$nulls":26},"x"]
[{"$nulls":26},"x"]
[{"$nulls":26},"x"]
[{"$nulls":26},"x"]
[{"$nulls":26},"x"]
[{"$nulls":26},"x"]
[{"$nulls":26},"x"]
[{"$nulls":26},"x"]
[{"$nulls":26},"x"]
[{"$nulls":26},"x"]
[{"$nulls":26},"x"]
[{"$nulls":26},"x"]
[{"$nulls":26},"x"]
[{"$nulls":26},"x"]
[{"$nulls":26},"x"]
[{"$nulls":26},"x"]
[{"$nulls":26},"x"]
[{"$nulls":26},"x"]
[{"$nulls":26},"x"]
[{"$nulls":26},"x"]
[{"$nulls":26},"x"]
[{"$nulls":26},"x"]
[{"$nulls":26},"x"]
[{"$nulls":26},"x"]
[{"$nulls":26},"x"]
[{"$nulls":26},"x"]
[{"$nulls":26},"x"]
[{"$nulls":26},"x"]
[{"$nulls":26},"x"]
[{"$nulls":26},"x"]
[{"$nulls":26},"x"]
[{"$nulls":26},"x"]
[{"$nulls":26},"x"]
[{"$nulls":26},"x"]
[{"$nulls":26},"x"]
[{"$nulls":26},"x"]
[{"$nulls":26},"x"]
[{"$nulls":26},"x"]
[{"$nulls":26},"x"]
[{"$nulls":26},"x"]
[{"$nulls":26},"x"]
[{"$nulls":26},"x"]
[{"$nulls":26},"x"]
[{"$nulls":26},"x"]
[{"$nulls":26},"x"]
[{"$nulls":26},"x"]
[{"$nulls":26},"x"]
[{"$nulls":26},"x"]
[{"$nulls":26},"x"]
[{"$nulls":26},"x"]
[{"$nulls":26},"x"]
[{"$nulls":26},"x"]
[{"$nulls":26},"x"]
[{"$nulls":26},"x"]
[{"$nulls":26},"x"]
[{"$nulls":26},"x"]
[{"$nulls":26},"x"]
[{"$nulls":26},"x"]
[{"$nulls":26},"x"]
[{"$nulls":26},"x"]
[{"$nulls":26},"x"]
[{"$nulls":26},"x"]
[{"$nulls":26},"x"]
[{"$nulls":26},"x"]
[{"$nulls":26},"x"]
[{"$nulls":26},"x"]
[{"$nulls":26},"x"]
[{"$nulls":26},"x"]
[{"$nulls":26},"x"]
[{"$nulls":26},"x"]
[{"$nulls":26},"x"]
[{"$nulls":26},"x"]
[{"$nulls":26},"x"]
[{"$nulls":26},"x"]
[{"$nulls":26},"x"]
[{"$nulls":26},"x"]
[{"$nulls":26},"x"]
[{"$nulls":26},"x"]
[{"$nulls":26},"x"]
[{"$nulls":26},"x"]
[{"$nulls":26},"x"]
[{"$nulls":26},"x"]
[{"$nulls":26},"x"]
[{"$nulls":26},"x"]
[{"$nulls":26},"x"]
[{"$nulls":26},"x"]
[{"$nulls":26},"x"]
[{"$nulls":26},"x"]
[{"$nulls":26},"x"]
[{"$nulls":26},"x"]
[{"$nulls":26},"x"]
[{"$nulls":26},"x"]
[{"$nulls":26},"x"]
[{"$nulls":26},"x"]
[{"$nulls":26},"x"]
[{"$nulls":26},"x"]
[{"$nulls":26},"x"]
[{"$nulls":26},"x"]
[{"$nulls":26},"x"]
[{"$nulls":26},"x"]
[{"$nulls":26},"x"]
[{"$nulls":26},"x"]
[{"$nulls":26},"x"]
[{"$nulls":26},"x"]
[{"$nulls":26},"x"]
[{"$nulls":26},"x"]
[{"$nulls":26},"x"]
[{"$nulls":26},"x"]
[{"$nulls":26},"x"]
[{"$nulls":26},"x"]
[{"$nulls":26},"x"]
[{"$nulls":26},"x"]
[{"$nulls":26},"x"]
[{"$nulls":26},"x"]
[{"$nulls":26},"x"]
[{"$nulls":26},"x"]
[{"$nulls":26},"x"]
[{"$nulls":26},"x"]
[{"$nulls":26},"x"]
[{"$nulls":26},"x"]
[{"$nulls":26},"x"]
[{"$nulls":26},"x"]
[{"$nulls":26},"x"]
[{"$nulls":26},"x"]
[{"$nulls":26},"x"]
[{"$nulls":26},"x"]
[{"$nulls":26},"x"]
[{"$nulls":26},"x"]
[{"$nulls":26},"x"]
[{"$nulls":26},"x"]
[{"$nulls":26},"x"]
[{"$nulls":26},"x"]
[{"$nulls":26},"x"]
[{"$nulls":26},"x"]
[{"$nulls":26},"x"]
[{"$nulls":26},"x"]
[{"$nulls":26},"x"]
[{"$nulls":26},"x"]
[{"$nulls":26},"x"]
[{"$nulls":26},"x"]
[{"$nulls":26},"x"]
[{"$nulls":26},"x"]
[{"$nulls":26},"x"]
[{"$nulls":26},"x"]
[{"$nulls":26},"x"]
[{"$nulls":26},"x"]
[{"$nulls":26},"x"]
[{"$nulls":26},"x"]
[{"$nulls":26},"x"]
[{"$nulls":26},"x"]
[{"$nulls":26},"x"]
[{"$nulls":26},"x"]
[{"$nulls":26},"x"]
[{"$nulls":26},"x"]
[{"$nulls":26},"x"]
[{"$nulls":26},"x"]
[{"$nulls":26},"x"]
[{"$nulls":26},"x"]
[{"$nulls":26},"x"]
[{"$nulls":26},"x"]
[{"$nulls":26},"x"]
[{"$nulls":26},"x"]
[{"$nulls":26},"x"]
[{"$nulls":26},"x"]
[{"$nulls":26},"x"]
[{"$nulls":26},"x"]
[{"$nulls":26},"x"]
[{"$nulls":26},"x"]
[{"$nulls":26},"x"]
[{"$nulls":26},"x"]
[{"$nulls":26},"x"]
[{"$nulls":26},"x"]
[{"$nulls":26},"x"]
[{"$nulls":26},"x"]
[{"$nulls":26},"x"]
[{"$nulls":26},"x"]
[{"$nulls":26},"x"]
[{"$nulls":26},"x"]
[{"$nulls":26},"x"]
[{"$nulls":26},"x"]
[{"$nulls":26},"x"]
[{"$nulls":26},"x"]
[{"$nulls":26},"x"]
[{"$nulls":26},"x"]
[{"$nulls":26},"x"]
[{"$nulls":26},"x"]
[{"$nulls":26},"x"]
[{"$nulls":26},"x"]
[{"$nulls":26},"x"]
[{"$nulls":26},"x"]
[{"$nulls":26},"x"]
[{"$nulls":26},"x"]
[{"$nulls":26},"x"]
[{"$nulls":26},"x"]
[{"$nulls":26},"x"]
[{"$nulls":26},"x"]
[{"$nulls":26},"x"]
[{"$nulls":26},"x"]
[{"$nulls":26},"x"]
[{"$nulls":26},"x"]
[{"$nulls":26},"x"]
[{"$nulls":26},"x"]
[{"$nulls":26},"x"]
[{"$nulls":26},"x"]
[{"$nulls":26},"x"]
[{"$nulls":26},"x"]
[{"$nulls":26},"x"]
[{"$nulls":26},"x"]
[{"$nulls":26},"x"]
[{"$nulls":26},"x"]
[{"$nulls":26},"x"]
[{"$nulls":26},"x"]
[{"$nulls":26},"x"]
[{"$nulls":26},"x"]
[{"$nulls":26},"x"]
[{"$nulls":26},"x"]
[{"$nulls":26},"x"]
[{"$nulls":26},"x"]
[{"$nulls":26},"x"]
[{"$nulls":26},"x"]
[{"$nulls":26},"x"]
[{"$nulls":26},"x"]
[{"$nulls":26},"x"]
[{"$nulls":26},"x"]
[{"$nulls":26},"x"]
[{"$nulls":26},"x"]
[{"$nulls":26},"x"]
[{"$nulls":26},"x"]
[{"$nulls":26},"x"]
[{"$nulls":26},"x"]
[{"$nulls":26},"x"]
[{"$nulls":26},"x"]
[{"$nulls":26},"x"]
[{"$nulls":26},"x"]
[{"$nulls":26},"x"]
[{"$nulls":26},"x"]
[{"$nulls":26},"x"]
[{"$nulls":26},"x"]
[{"$nulls":26},"x"]
[{"$nulls":26},"x"]
[{"$nulls":26},"x"]
[{"$nulls":26},"x"]
[{"$nulls":26},"x"]
[{"$nulls":26},"x"]
[{"$nulls":26},"x"]
[{"$nulls":26},"x"]
[{"$nulls":26},"x"]
[{"$nulls":26},"x"]
[{"$nulls":26},"x"]
[{"$nulls":26},"x"]
[{"$nulls":26},"x"]
[{"$nulls":26},"x"]
[{"$nulls":26},"x"]
[{"$nulls":26},"x"]
[{"$nulls":26},"x"]
[{"$nulls":26},"x"]
[{"$nulls":26},"x"]
[{"$nulls":26},"x"]
[{"$nulls":26},"x"]
[{"$nulls":26},"x"]
[{"$nulls":26},"x"]
[{"$nulls":26},"x"]
[{"$nulls":26},"x"]
[{"$nulls":26},"x"]
[{"$nulls":26},"x"]
[{"$nulls":26},"x"]
[{"$nulls":26},"x"]
[{"$nulls":26},"x"]
[{"$nulls":26},"x"]
[{"$nulls":26},"x"]
[{"$nulls":26},"x"]
[{"$nulls":26},"x"]
[{"$nulls":26},"x"]
[{"$nulls":26},"x"]
[{"$nulls":26},"x"]
[{"$nulls":26},"x"]
[{"$nulls":26},"x"]
[{"$nulls":26},"x"]
[{"$nulls":26},"x"]
[{"$nulls":26},"x"]
[{"$nulls":26},"x"]
[{"$nulls":26},"x"]
[{"$nulls":26},"x"]
[{"$nulls":26},"x"]
[{"$nulls":26},"x"]
[{"$nulls":26},"x"]
[{"$nulls":26},"x"]
[{"$nulls":26},"x"]
[{"$nulls":26},"x"]
[{"$nulls":26},"x"]
[{"$nulls":26},"x"]
[{"$nulls":26},"x"]
[{"$nulls":26},"x"]
[{"$nulls":26},"x"]
[{"$nulls":26},"x"]
[{"$nulls":26},"x"]
[{"$nulls":26},"x"]
[{"$nulls":26},"x"]
[{"$nulls":26},"x"]
[{"$nulls":26},"x"]
[{"$nulls":26},"x"]
[{"$nulls":26},"x"]
[{"$nulls":26},"x"]
[{"$nulls":26},"x"]
[{"$nulls":26},"x"]
[{"$nulls":26},"x"]
[{"$nulls":26},"x"]
[{"$nulls":26},"x"]
[{"$nulls":26},"x"]
[{"$nulls":26},"x"]
[{"$nulls":26},"x"]
[{"$nulls":26},"x"]
[{"$nulls":26},"x"]
[{"$nulls":26},"x"]
[{"$nulls":26},"x"]
[{"$nulls":26},"x"]
[{"$nulls":26},"x"]
[{"$nulls":26},"x"]
[{"$nulls":26},"x"]
[{"$nulls":26},"x"]
[{"$nulls":26},"x"]
[{"$nulls":26},"x"]
[{"$nulls":26},"x"]
[{"$nulls":26},"x"]
[{"$nulls":26},"x"]
[{"$nulls":26},"x"]
[{"$nulls":26},"x"]
[{"$nulls":26},"x"]
[{"$nulls":26},"x"]
[{"$nulls":26},"x"]
[{"$nulls":26},"x"]
[{"$nulls":26},"x"]
[{"$nulls":26},"x"]
[{"$nulls":26},"x"]
[{"$nulls":26},"x"]
[{"$nulls":26},"x"]
[{"$nulls":26},"x"]
[{"$nulls":26},"x"]
[{"$nulls":26},"x"]
[{"$nulls":26},"x"]
[{"$nulls":26},"x"]
[{"$nulls":26},"x"]
[{"$nulls":26},"x"]
[{"$nulls":26},"x"]
[{"$nulls":26},"x"]
[{"$nulls":26},"x"]
[{"$nulls":26},"x"]
[{"$nulls":26},"x"]
[{"$nulls":26},"x"]
[{"$nulls":26},"x"]
[{"$nulls":26},"x"]
[{"$nulls":26},"x"]
[{"$nulls":26},"x"]
[{"$nulls":26},"x"]
[{"$nulls":26},"x"]
[{"$nulls":26},"x"]
[{"$nulls":26},"x"]
[{"$nulls":26},"x"]
[{"$nulls":26},"x"]
[{"$nulls":26},"x"]
[{"$nulls":26},"x"]
[{"$nulls":26},"x"]
[{"$nulls":26},"x"]
[{"$nulls":26},"x"]
[{"$nulls":26},"x"]
[{"$nulls":26},"x"]
[{"$nulls":26},"x"]
[{"$nulls":26},"x"]
[{"$nulls":26},"x"]
[{"$nulls":26},"x"]
[{"$nulls":26},"x"]
[{"$nulls":26},"x"]
[{"$nulls":26},"x"]
[{"$nulls":26},"x"]
[{"$nulls":26},"x"]
[{"$nulls":26},"x"]
[{"$nulls":26},"x"]
[{"$nulls":26},"x"]
[{"$nulls":26},"x"]
[{"$nulls":26},"x"]
[{"$nulls":26},"x"]
[{"$nulls":26},"x"]
[{"$nulls":26},"x"]
[{"$nulls":26},"x"]
[{"$nulls":26},"x"]
[{"$nulls":26},"x"]
[{"$nulls":26},"x"]
[{"$nulls":26},"x"]
[{"$nulls":26},"x"]
[{"$nulls":26},"x"]
[{"$nulls":26},"x"]
[{"$nulls":26},"x"]
[{"$nulls":26},"x"]
[{"$nulls":26},"x"]
[{"$nulls":26},"x"]
[{"$nulls":26},"x"]
[{"$nulls":26},"x"]
[{"$nulls":26},"x"]
[{"$nulls":26},"x"]
[{"$nulls":26},"x"]
[{"$nulls":26},"x"]
[{"$nulls":26},"x"]
[{"$nulls":26},"x"]
[{"$nulls":26},"x"]
[{"$nulls":26},"x"]
[{"$nulls":26},"x"]
[{"$nulls":26},"x"]
[{"$nulls":26},"x"]
[{"$nulls":26},"x"]
[{"$nulls":26},"x"]
[{"$nulls":26},"x"]
[{"$nulls":26},"x"]
[{"$nulls":26},"x"]
[{"$nulls":26},"x"]
[{"$nulls":26},"x"]
[{"$nulls":26},"x"]
[{"$nulls":26},"x"]
[{"$nulls":26},"x"]
[{"$nulls":26},"x"]
[{"$nulls":26},"x"]
[{"$nulls":26},"x"]
[{"$nulls":26},"x"]
[{"$nulls":26},"x"]
[{"$nulls":26},"x"]
[{"$nulls":26},"x"]
[{"$nulls":26},"x"]
[{"$nulls":26},"x"]
[{"$nulls":26},"x"]
[{"$nulls":26},"x"]
[{"$nulls":26},"x"]
[{"$nulls":26},"x"]
[{"$nulls":26},"x"]
[{"$nulls":26},"x"]
[{"$nulls":26},"x"]
[{"$nulls":26},"x"]
[{"$nulls":26},"x"]
[{"$nulls":26},"x"]
[{"$nulls":26},"x"]
[{"$nulls":26},"x"]
[{"$nulls":26},"x"]
[{"$nulls":26},"x"]
[{"$nulls":26},"x"]
[{"$nulls":26},"x"]
[{"$nulls":26},"x"]
[{"$nulls":26},"x"]
[{"$nulls":26},"x"]
[{"$nulls":26},"x"]
[{"$nulls":26},"x"]
[{"$nulls":26},"x"]
[{"$nulls":26},"x"]
[{"$nulls":26},"x"]
[{"$nulls":26},"x"]
[{"$nulls":26},"x"]
[{"$nulls":26},"x"]
[{"$nulls":26},"x"]
[{"$nulls":26},"x"]
[{"$nulls":26},"x"]
[{"$nulls":26},"x"]
[{"$nulls":26},"x"]
[{"$nulls":26},"x"]
[{"$nulls":26},"x"]
[{"$nulls":26},"x"]
[{"$nulls":26},"x"]
[{"$nulls":26},"x"]
[{"$nulls":26},"x"]
[{"$nulls":26},"x"]
[{"$nulls":26},"x"]
[{"$nulls":26},"x"]
[{"$nulls":26},"x"]
[{"$nulls":26},"x"]
[{"$nulls":26},"x"]
[{"$nulls":26},"x"]
[{"$nulls":26},"x"]
[{"$nulls":26},"x"]
[{"$nulls":26},"x"]
[{"$nulls":26},"x"]
[{"$nulls":26},"x"]
[{"$nulls":26},"x"]
[{"$nulls":26},"x"]
[{"$nulls":26},"x"]
[{"$nulls":26},"x"]
[{"$nulls":26},"x"]
[{"$nulls":26},"x"]
[{"$nulls":26},"x"]
[{"$nulls":26},"x"]
[{"$nulls":26},"x"]
[{"$nulls":26},"x"]
[{"$nulls":26},"x"]
[{"$nulls":26},"x"]
[{"$nulls":26},"x"]
[{"$nulls":26},"x"]
[{"$nulls":26},"x"]
[{"$nulls":26},"x"]
[{"$nulls":26},"x"]
[{"$nulls":26},"x"]
[{"$nulls":26},"x"]
[{"$nulls":26},"x"]
[{"$nulls":26},"x"]
[{"$nulls":26},"x"]
[{"$nulls":26},"x"]
[{"$nulls":26},"x"]
[{"$nulls":26},"x"]
[{"$nulls":26},"x"]
[{"$nulls":26},"x"]
[{"$nulls":26},"x"]
[{"$nulls":26},"x"]
[{"$nulls":26},"x"]
[{"$nulls":26},"x"]
[{"$nulls":26},"x"]
[{"$nulls":26},"x"]
[{"$nulls":26},"x"]
[{"$nulls":26},"x"]
[{"$nulls":26},"x"]
[{"$nulls":26},"x"]
[{"$nulls":26},"x"]
[{"$nulls":26},"x"]
[{"$nulls":26},"x"]
[{"$nulls":26},"x"]
[{"$nulls":26},"x"]
[{"$nulls":26},"x"]
[{"$nulls":26},"x"]
[{"$nulls":26},"x"]
[{"$nulls":26},"x"]
[{"$nulls":26},"x"]
[{"$nulls":26},"x"]
[{"$nulls":26},"x"]
[{"$nulls":26},"x"]
[{"$nulls":26},"x"]
[{"$nulls":26},"x"]
[{"$nulls":26},"x"]
[{"$nulls":26},"x"]
[{"$nulls":26},"x"]
[{"$nulls":26},"x"]
[{"$nulls":26},"x"]
[{"$nulls":26},"x"]
[{"$nulls":26},"x"]
[{"$nulls":26},"x"]
[{"$nulls":26},"x"]
[{"$nulls":26},"x"]
[{"$nulls":26},"x"]
[{"$nulls":26},"x"]
[{"$nulls":26},"x"]
[{"$nulls":26},"x"]
[{"$nulls":26},"x"]
[{"$nulls":26},"x"]
[{"$nulls":26},"x"]
[{"$nulls":26},"x"]
[{"$nulls":26},"x"]
[{"$nulls":26},"x"]
[{"$nulls":26},"x"]
[{"$nulls":26},"x"]
[{"$nulls":26},"x"]
[{"$nulls":26},"x"]
[{"$nulls":26},"x"]
[{"$nulls":26},"x"]
[{"$nulls":26},"x"]
[{"$nulls":26},"x"]
[{"$nulls":26},"x"]
[{"$nulls":26},"x"]
[{"$nulls":26},"x"]
[{"$nulls":26},"x"]
[{"$nulls":26},"x"]
[{"$nulls":26},"x"]
[{"$nulls":26},"x"]
[{"$nulls":26},"x"]
[{"$nulls":26},"x"]
[{"$nulls":26},"x"]
[{"$nulls":26},"x"]
[{"$nulls":26},"x"]
[{"$nulls":26},"x"]
[{"$nulls":26},"x"]
[{"$nulls":26},"x"]
[{"$nulls":26},"x"]
[{"$nulls":26},"x"]
[{"$nulls":26},"x"]
[{"$nulls":26},"x"]
[{"$nulls":26},"x"]
[{"$nulls":26},"x"]
[{"$nulls":26},"x"]
[{"$nulls":26},"x"]
[{"$nulls":26},"x"]
[{"$nulls":26},"x"]
[{"$nulls":26},"x"]
[{"$nulls":26},"x"]
[{"$nulls":26},"x"]
[{"$nulls":26},"x"]
[{"$nulls":26},"x"]
[{"$nulls":26},"x"]
[{"$nulls":26},"x"]
[{"$nulls":26},"x"]
[{"$nulls":26},"x"]
[{"$nulls":26},"x"]
[{"$nulls":26},"x"]
[{"$nulls":26},"x"]
[{"$nulls":26},"x"]
[{"$nulls":26},"x"]
[{"$nulls":26},"x"]
[{"$nulls":26},"x"]
[{"$nulls":26},"x"]
[{"$nulls":26},"x"]
[{"$nulls":26},"x"]
[{"$nulls":26},"x"]
[{"$nulls":26},"x"]
[{"$nulls":26},"x"]
[{"$nulls":26},"x"]
[{"$nulls":26},"x"]
[{"$nulls":26},"x"]
[{"$nulls":26},"x"]
[{"$nulls":26},"x"]
[{"$nulls":26},"x"]
[{"$nulls":26},"x"]
[{"$nulls":26},"x"]
[{"$nulls":26},"x"]
[{"$nulls":26},"x"]
[{"$nulls":26},"x"]
[{"$nulls":26},"x"]
[{"$nulls":26},"x"]
[{"$nulls":26},"x"]
[{"$nulls":26},"x"]
[{"$nulls":26},"x"]
[{"$nulls":26},"x"]
[{"$nulls":26},"x"]
[{"$nulls":26},"x"]
[{"$nulls":26},"x"]
[{"$nulls":26},"x"]
[{"$nulls":26},"x"]
[{"$nulls":26},"x"]
[{"$nulls":26},"x"]
[{"$nulls":26},"x"]
[{"$nulls":26},"x"]
[{"$nulls":26},"x"]
[{"$nulls":26},"x"]
[{"$nulls":26},"x"]
[{"$nulls":26},"x"]
[{"$nulls":26},"x"]
[{"$nulls":26},"x"]
[{"$nulls":26},"x"]
[{"$nulls":26},"x"]
[{"$nulls":26},"x"]
[{"$nulls":26},"x"]
[{"$nulls":26},"x"]
[{"$nulls":26},"x"]
[{"$nulls":26},"x"]
[{"$nulls":26},"x"]
[{"$nulls":26},"x"]
[{"$nulls":26},"x"]
[{"$nulls":26},"x"]
[{"$nulls":26},"x"]
[{"$nulls":26},"x"]
[{"$nulls":26},"x"]
[{"$nulls":26},"x"]
[{"$nulls":26},"x"]
[{"$nulls":26},"x"]
[{"$nulls":26},"x"]
[{"$nulls":26},"x"]
[{"$nulls":26},"x"]
[{"$nulls":26},"x"]
[{"$nulls":26},"x"]
[{"$nulls":26},"x"]
[{"$nulls":26},"x"]
[{"$nulls":26},"x"]
[{"$nulls":26},"x"]
[{"$nulls":26},"x"]
[{"$nulls":26},"x"]
[{"$nulls":26},"x"]
[{"$nulls":26},"x"]
[{"$nulls":26},"x"]
[{"$nulls":26},"x"]
[{"$nulls":26},"x"]
[{"$nulls":26},"x"]
[{"$nulls":26},"x"]
[{"$nulls":26},"x"]
[{"$nulls":26},"x"]
[{"$nulls":26},"x"]
[{"$nulls":26},"x"]
[{"$nulls":26},"x"]
[{"$nulls":26},"x"]
[{"$nulls":26},"x"]
[{"$nulls":26},"x"]
[{"$nulls":26},"x"]
[{"$nulls":26},"x"]
[{"$nulls":26},"x"]
[{"$nulls":26},"x"]
[{"$nulls":26},"x"]
[{"$nulls":26},"x"]
[{"$nulls":26},"x"]
[{"$nulls":26},"x"]
[{"$nulls":26},"x"]
[{"$nulls":26},"x"]
[{"$nulls":26},"x"]
[{"$nulls":26},"x"]
[{"$nulls":26},"x"]
[{"$nulls":26},"x"]
[{"$nulls":26},"x"]
[{"$nulls":26},"x"]
[{"$nulls":26},"x"]
[{"$nulls":26},"x"]
[{"$nulls":26},"x"]
[{"$nulls":26},"x"]
[{"$nulls":26},"x"]
[{"$nulls":26},"x"]
[{"$nulls":26},"x"]
[{"$nulls":26},"x"]
[{"$nulls":26},"x"]
[{"$nulls":26},"x"]
[{"$nulls":26},"x"]
[{"$nulls":26},"x"]
[{"$nulls":26},"x"]
[{"$nulls":26},"x"]
[{"$nulls":26},"x"]
[{"$nulls":26},"x"]
[{"$nulls":26},"x"]
[{"$nulls":26},"x"]
[{"$nulls":26},"x"]
[{"$nulls":26},"x"]
[{"$nulls":26},"x"]
[{"$nulls":26},"x"]
[{"$nulls":26},"x"]
[{"$nulls":26},"x"]
[{"$nulls":26},"x"]
[{"$nulls":26},"x"]
[{"$nulls":26},"x"]
[{"$nulls":26},"x"]
[{"$nulls":26},"x"]
[{"$nulls":26},"x"]
[{"$nulls":26},"x"]
[{"$nulls":26},"x"]
[{"$nulls":26},"x"]
[{"$nulls":26},"x"]
[{"$nulls":26},"x"]
[{"$nulls":26},"x"]
[{"$nulls":26},"x"]
[{"$nulls":26},"x"]
[{"$nulls":26},"x"]
[{"$nulls":26},"x"]
[{"$nulls":26},"x"]
[{"$nulls":26},"x"]
[{"$nulls":26},"x"]
[{"$nulls":26},"x"]
[{"$nulls":26},"x"]
[{"$nulls":26},"x"]
[{"$nulls":26},"x"]
[{"$nulls":26},"x"]
[{"$nulls":26},"x"]
[{"$nulls":26},"x"]
[{"$nulls":26},"x"]
[{"$nulls":26},"x"]
[{"$nulls":26},"x"]
[{"$nulls":26},"x"]
[{"$nulls":26},"x"]
[{"$nulls":26},"x"]
[{"$nulls":26},"x"]
[{"$nulls":26},"x"]
[{"$nulls":26},"x"]
[{"$nulls":26},"x"]
[{"$nulls":26},"x"]
[{"$nulls":26},"x"]
[{"$nulls":26},"x"]
[{"$nulls":26},"x"]
[{"$nulls":26},"x"]
[{"$nulls":26},"x"]
[{"$nulls":26},"x"]
[{"$nulls":26},"x"]
[{"$nulls":26},"x"]
[{"$nulls":26},"x"]
[{"$nulls":26},"x"]
[{"$nulls":26},"x"]
[{"$nulls":26},"x"]
[{"$nulls":26},"x"]
[{"$nulls":26},"x"]
[{"$nulls":26},"x"]
[{"$nulls":26},"x"]
[{"$nulls":26},"x"]
[{"$nulls":26},"x"]
[{"$nulls":26},"x"]
[{"$nulls":26},"x"]
[{"$nulls":26},"x"]
[{"$nulls":26},"x"]
[{"$nulls":26},"x"]
[{"$nulls":26},"x"]
[{"$nulls":26},"x"]
[{"$nulls":26},"x"]
[{"$nulls":26},"x"]
[{"$nulls":26},"x"]
[{"$nulls":26},"x"]
[{"$nulls":26},"x"]
[{"$nulls":26},"x"]
[{"$nulls":26},"x"]
[{"$nulls":26},"x"]
[{"$nulls":26},"x"]
[{"$nulls":26},"x"]
[{"$nulls":26},"x"]
[{"$nulls":26},"x"]
[{"$nulls":26},"x"]
[{"$nulls":26},"x"]
[{"$nulls":26},"x"]
[{"$nulls":26},"x"]
[{"$nulls":26},"x"]
[{"$nulls":26},"x"]
[{"$nulls":26},"x"]
[{"$nulls":26},"x"]
[{"$nulls":26},"x"]
[{"$nulls":26},"x"]
[{"$nulls":26},"x"]
[{"$nulls":26},"x"]
[{"$nulls":26},"x"]
[{"$nulls":26},"x"]
[{"$nulls":26},"x"]
[{"$nulls":26},"x"]
[{"$nulls":26},"x"]
[{"$nulls":26},"x"]
[{"$nulls":26},"x"]
[{"$nulls":26},"x"]
[{"$nulls":26},"x"]
[{"$nulls":26},"x"]
[{"$nulls":26},"x"]
[{"$nulls":26},"x"]
[{"$nulls":26},"x"]
[{"$nulls":26},"x"]
[{"$nulls":26},"x"]
[{"$nulls":26},"x"]
[{"$nulls":26},"x"]
[{"$nulls":26},"x"]
[{"$nulls":26},"x"]
[{"$nulls":26},"x"]
[{"$nulls":26},"x"]
[{"$nulls":26},"x"]
[{"$nulls":26},"x"]
[{"$nulls":26},"x"]
[{"$nulls":26},"x"]
[{"$nulls":26},"x"]
[{"$nulls":26},"x"]
[{"$nulls":26},"x"]
[{"$nulls":26},"x"]
[{"$nulls":26},"x"]
[{"$nulls":26},"x"]
[{"$nulls":26},"x"]
[{"$nulls":26},"x"]
[{"$nulls":26},"x"]
[{"$nulls":26},"x"]
[{"$nulls":26},"x"]
[{"$nulls":26},"x"]
[{"$nulls":26},"x"]
[{"$nulls":26},"x"]
[{"$nulls":26},"x"]
[{"$nulls":26},"x"]
[{"$nulls":26},"x"]
[{"$nulls":26},"x"]
[{"$nulls":26},"x"]
[{"$nulls":26},"x"]
[{"$nulls":26},"x"]
[{"$nulls":26},"x"]
[{"$nulls":26},"x"]
[{"$nulls":26},"x"]
[{"$nulls":26},"x"]
[{"$nulls":26},"x"]
[{"$nulls":26},"x"]
[{"$nulls":26},"x"]
[{"$nulls":26},"x"]
[{"$nulls":26},"x"]
[{"$nulls":26},"x"]
[{"$nulls":26},"x"]
[{"$nulls":26},"x"]
[{"$nulls":26},"x"]
[{"$nulls":26},"x"]
[{"$nulls":26},"x"]
[{"$nulls":26},"x"]
[{"$nulls":26},"x"]
[{"$nulls":26},"x"]
[{"$nulls":26},"x"]
[{"$nulls":26},"x"]
[{"$nulls":26},"x"]
[{"$nulls":26},"x"]
[{"$nulls":26},"x"]
[{"$nulls":26},"x"]
[{"$nulls":26},"x"]
[{"$nulls":26},"x"]
[{"$nulls":26},"x"]
[{"$nulls":26},"x"]
[{"$nulls":26},"x"]
[{"$nulls":26},"x"]
[{"$nulls":26},"x"]
[{"$nulls":26},"x"]
[{"$nulls":26},"x"]
[{"$nulls":26},"x"]
[{"$nulls":26},"x"]
[{"$nulls":26},"x"]
[{"$nulls":26},"x"]
[{"$nulls":26},"x"]
[{"$nulls":26},"x"]
[{"$nulls":26},"x"]
[{"$nulls":26},"x"]
[{"$nulls":26},"x"]
[{"$nulls":26},"x"]
[{"$nulls":26},"x"]
[{"$nulls":26},"x"]
[{"$nulls":26},"x"]
[{"$nulls":26},"x"]
[{"$nulls":26},"x"]
[{"$nulls":26},"x"]
[{"$nulls":26},"x"]
[{"$nulls":26},"x"]
[{"$nulls":26},"x"]
[{"$nulls":26},"x"]
[{"$nulls":26},"x"]
[{"$nulls":26},"x"]
[{"$nulls":26},"x"]
[{"$nulls":26},"x"]
[{"$nulls":26},"x"]
[{"$nulls":26},"x"]
[{"$nulls":26},"x"]
[{"$nulls":26},"x"]
[{"$nulls":26},"x"]
[{"$nulls":26},"x"]
[{"$nulls":26},"x"]
[{"$nulls":26},"x"]
[{"$nulls":26},"x"]
[{"$nulls":26},"x"]
[{"$nulls":26},"x"]
[{"$nulls":26},"x"]
[{"$nulls":26},"x"]
[{"$nulls":26},"x"]
[{"$nulls":26},"x"]
[{"$nulls":26},"x"]
[{"$nulls":26},"x"]
[{"$nulls":26},"x"]
[{"$nulls":26},"x"]
[{"$nulls":26},"x"]
[{"$nulls":26},"x"]
[{"$nulls":26},"x"]
[{"$nulls":26},"x"]
[{"$nulls":26},"x"]
[{"$nulls":26},"x"]
[{"$nulls":26},"x"]
[{"$nulls":26},"x"]
[{"$nulls":26},"x"]
[{"$nulls":26},"x"]
[{"$nulls":26},"x"]
[{"$nulls":26},"x"]
[{"$nulls":26},"x"]
[{"$nulls":26},"x"]
[{"$nulls":26},"x"]
[{"$nulls":26},"x"]
[{"$nulls":26},"x"]
[{"$nulls":26},"x"]
[{"$nulls":26},"x"]
[{"$nulls":26},"x"]
[{"$nulls":26},"x"]
[{"$nulls":26},"x"]
[{"$nulls":26},"x"]
[{"$nulls":26},"x"]
[{"$nulls":26},"x"]
[{"$nulls":26},"x"]
[{"$nulls":26},"x"]
[{"$nulls":26},"x"]
[{"$nulls":26},"x"]
[{"$nulls":26},"x"]
[{"$nulls":26},"x"]
[{"$nulls":26},"x"]
[{"$nulls":26},"x"]
[{"$nulls":26},"x"]
[{"$nulls":26},"x"]
[{"$nulls":26},"x"]
[{"$nulls":26},"x"]
[{"$nulls":26},"x"]
[{"$nulls":26},"x"]
[{"$nulls":26},"x"]
[{"$nulls":26},"x"]
[{"$nulls":26},"x"]
[{"$nulls":26},"x"]
[{"$nulls":26},"x"]
[{"$nulls":26},"x"]
[{"$nulls":26},"x"]
[{"$nulls":26},"x"]
[{"$nulls":26},"x"]
[{"$nulls":26},"x"]
[{"$nulls":26},"x"]
[{"$nulls":26},"x"]
[{"$nulls":26},"x"]
[{"$nulls":26},"x"]
[{"$nulls":26},"x"]
[{"$nulls":26},"x"]
[{"$nulls":26},"x"]
[{"$nulls":26},"x"]
[{"$nulls":26},"x"]
[{"$nulls":26},"x"]
[{"$nulls":26},"x"]
[{"$nulls":26},"x"]
[{"$nulls":26},"x"]
[{"$nulls":26},"x"]
[{"$nulls":26},"x"]
[{"$nulls":26},"x"]
[{"$nulls":26},"x"]
[{"$nulls":26},"x"]
[{"$nulls":26},"x"]
[{"$nulls":26},"x"]
[{"$nulls":26},"x"]
[{"$nulls":26},"x"]
[{"$nulls":26},"x"]
[{"$nulls":26},"x"]
[{"$nulls":26},"x"]
[{"$nulls":26},"x"]
[{"$nulls":26},"x"]
[{"$nulls":26},"x"]
[{"$nulls":26},"x"]
[{"$nulls":26},"x"]
[{"$nulls":26},"x"]
[{"$nulls":26},"x"]
[{"$nulls":26},"x"]
[{"$nulls":26},"x"]
[{"$nulls":26},"x"]
[{"$nulls":26},"x"]
[{"$nulls":26},"x"]
[{"$nulls":26},"x"]
[{"$nulls":26},"x"]
[{"$nulls":26},"x"]
[{"$nulls":26},"x"]
[{"$nulls":26},"x"]
[{"$nulls":26},"x"]
[{"$nulls":26},"x"]
[{"$nulls":26},"x"]
[{"$nulls":26},"x"]
[{"$nulls":26},"x"]
[{"$nulls":26},"x"]
[{"$nulls":26},"x"]
[{"$nulls":26},"x"]
[{"$nulls":26},"x"]
[{"$nulls":26},"x"]
[{"$nulls":26},"x"]
[{"$nulls":26},"x"]
[{"$nulls":26},"x"]
[{"$nulls":26},"x"]
[{"$nulls":26},"x"]
[{"$nulls":26},"x"]
[{"$nulls":26},"x"]
[{"$nulls":26},"x"]
[{"$nulls":26},"x"]
[{"$nulls":26},"x"]
[{"$nulls":26},"x"]
[{"$nulls":26},"x"]
[{"$nulls":26},"x"]
[{"$nulls":26},"x"]
[{"$nulls":26},"x"]
[{"$nulls":26},"x"]
[{"$nulls":26},"x"]
[{"$nulls":26},"x"]
[{"$nulls":26},"x"]
[{"$nulls":26},"x"]
[{"$nulls":26},"x"]
[{"$nulls":26},"x"]
[{"$nulls":26},"x"]
[{"$nulls":26},"x"]
[{"$nulls":26},"x"]
[{"$nulls":26},"x"]
[{"$nulls":26},"x"]
[{"$nulls":26},"x"]
[{"$nulls":26},"x"]
[{"$nulls":26},"x"]
[{"$nulls":26},"x"]
[{"$nulls":26},"x"]
[{"$nulls":26},"x"]
[{"$nulls":26},"x"]
[{"$nulls":26},"x"]
[{"$nulls":26},"x"]
[{"$nulls":26},"x"]
[{"$nulls":26},"x"]
[{"$nulls":26},"x"]
[{"$nulls":26},"x"]
[{"$nulls":26},"x"]
[{"$nulls":26},"x"]
[{"$nulls":26},"x"]
[{"$nulls":26},"x"]
[{"$nulls":26},"x"]
[{"$nulls":26},"x"]
[{"$nulls":26},"x"]
[{"$nulls":26},"x"]
[{"$nulls":26},"x"]
[{"$nulls":26},"x"]
[{"$nulls":26},"x"]
[{"$nulls":26},"x"]
[{"$nulls":26},"x"]
[{"$nulls":26},"x"]
[{"$nulls":26},"x"]
[{"$nulls":26},"x"]
[{"$nulls":26},"x"]
[{"$nulls":26},"x"]
[{"$nulls":26},"x"]
[{"$nulls":26},"x"]
[{"$nulls":26},"x"]
[{"$nulls":26},"x"]
[{"$nulls":26},"x"]
[{"$nulls":26},"x"]
[{"$nulls":26},"x"]
[{"$nulls":26},"x"]
[{"$nulls":26},"x"]
[{"$nulls":26},"x"]
[{"$nulls":26},"x"]
[{"$nulls":26},"x"]
[{"$nulls":26},"x"]
[{"$nulls":26},"x"]
[{"$nulls":26},"x"]
[{"$nulls":26},"x"]
[{"$nulls":26},"x"]
[{"$nulls":26},"x"]
[{"$nulls":26},"x"]
[{"$nulls":26},"x"]
[{"$nulls":26},"x"]
[{"$nulls":26},"x"]
[{"$nulls":26},"x"]
[{"$nulls":26},"x"]
[{"$nulls":26},"x"]
[{"$nulls":26},"x"]
[{"$nulls":26},"x"]
[{"$nulls":26},"x"]
[{"$nulls":26},"x"]
[{"$nulls":26},"x"]
[{"$nulls":26},"x"]
[{"$nulls":26},"x"]
[{"$nulls":26},"x"]
[{"$nulls":26},"x"]
[{"$nulls":26},"x"]
[{"$nulls":26},"x"]
[{"$nulls":26},"x"]
[{"$nulls":26},"x"]
[{"$nulls":26},"x"]
[{"$nulls":26},"x"]
[{"$nulls":26},"x"]
[{"$nulls":26},"x"]
[{"$nulls":26},"x"]
[{"$nulls":26},"x"]
[{"$nulls":26},"x"]
[{"$nulls":26},"x"]
[{"$nulls":26},"x"]
[{"$nulls":26},"x"]
[{"$nulls":26},"x"]
[{"$nulls":26},"x"]
[{"$nulls":26},"x"]
[{"$nulls":26},"x"]
[{"$nulls":26},"x"]
[{"$nulls":26},"x"]
[{"$nulls":26},"x"]
[{"$nulls":26},"x"]
[{"$nulls":26},"x"]
[{"$nulls":26},"x"]
[{"$nulls":26},"x"]
[{"$nulls":26},"x"]
[{"$nulls":26},"x"]
[{"$nulls":26},"x"]
[{"$nulls":26},"x"]
[{"$nulls":26},"x"]
[{"$nulls":26},"x"]
[{"$nulls":26},"x"]
[{"$nulls":26},"x"]
[{"$nulls":26},"x"]
[{"$nulls":26},"x"]
[{"$nulls":26},"x"]
[{"$nulls":26},"x"]
[{"$nulls":26},"x"]
[{"$nulls":26},"x"]
[{"$nulls":26},"x"]
[{"$nulls":26},"x"]
[{"$nulls":26},"x"]
[{"$nulls":26},"x"]
[{"$nulls":26},"x"]
[{"$nulls":26},"x"]
[{"$nulls":26},"x"]
[{"$nulls":26},"x"]
[{"$nulls":26},"x"]
[{"$nulls":26},"x"]
[{"$nulls":26},"x"]
[{"$nulls":26},"x"]
[{"$nulls":26},"x"]
[{"$nulls":26},"x"]
[{"$nulls":26},"x"]
[{"$nulls":26},"x"]
[{"$nulls":26},"x"]
[{"$nulls":26},"x"]
[{"$nulls":26},"x"]
[{"$nulls":26},"x"]
[{"$nulls":26},"x"]
[{"$nulls":26},"x"]
[{"$nulls":26},"x"]
[{"$nulls":26},"x"]
[{"$nulls":26},"x"]
[{"$nulls":26},"x"]
[{"$nulls":26},"x"]
[{"$nulls":26},"x"]
[{"$nulls":26},"x"]
[{"$nulls":26},"x"]
[{"$nulls":26},"x"]
[{"$nulls":26},"x"]
[{"$nulls":26},"x"]
[{"$nulls":26},"x"]
[{"$nulls":26},"x"]
[{"$nulls":26},"x"]
[{"$nulls":26},"x"]
[{"$nulls":26},"x"]
[{"$nulls":26},"x"]
[{"$nulls":26},"x"]
[{"$nulls":26},"x"]
[{"$nulls":26},"x"]
[{"$nulls":26},"x"]
[{"$nulls":26},"x"]
[{"$nulls":26},"x"]
[{"$nulls":26},"x"]
[{"$nulls":26},"x"]
[{"$nulls":26},"x"]
[{"$nulls":26},"x"]
[{"$nulls":26},"x"]
[{"$nulls":26},"x"]
[{"$nulls":26},"x"]
[{"$nulls":26},"x"]
[{"$nulls":26},"x"]
[{"$nulls":26},"x"]
[{"$nulls":26},"x"]
[{"$nulls":26},"x"]
[{"$nulls":26},"x"]
[{"$nulls":26},"x"]
[{"$nulls":26},"x"]
[{"$nulls":26},"x"]
[{"$nulls":26},"x"]
[{"$nulls":26},"x"]
[{"$nulls":26},"x"]
[{"$nulls":26},"x"]
[{"$nulls":26},"x"]
[{"$nulls":26},"x"]
[{"$nulls":26},"x"]
[{"$nulls":26},"x"]
[{"$nulls":26},"x"]
[{"$nulls":26},"x"]
[{"$nulls":26},"x"]
[{"$nulls":26},"x"]
[{"$nulls":26},"x"]
[{"$nulls":26},"x"]
[{"$nulls":26},"x"]
[{"$nulls":26},"x"]
[{"$nulls":26},"x"]
[{"$nulls":26},"x"]
[{"$nulls":26},"x"]
[{"$nulls":26},"x"]
[{"$nulls":26},"x"]
[{"$nulls":26},"x"]
[{"$nulls":26},"x"]
[{"$nulls":26},"x"]
[{"$nulls":26},"x"]
[{"$nulls":26},"x"]
[{"$nulls":26},"x"]
[{"$nulls":26},"x"]
[{"$nulls":26},"x"]
[{"$nulls":26},"x"]
[{"$nulls":26},"x"]
[{"$nulls":26},"x"]
[{"$nulls":26},"x"]
[{"$nulls":26},"x"]
[{"$nulls":26},"x"]
[{"$nulls":26},"x"]
[{"$nulls":26},"x"]
[{"$nulls":26},"x"]

{"sheet":"Scores","index":1,"n_rows":35,"n_cols":7,"rows_kept":35}
[{"$f":"Game!AF1","v":3},{"$f":"Game!AG1","v":"Kamal"},{"$f":"Game!AH1","v":6},{"$f":"Game!AI1","v":37},{"$f":"Game!AJ1","v":82},{"$f":"Game!AK1","v":222}]
["Score Board",{"$nulls":5},{"$f":"MAX(F4:F33)","v":269}]
["SL.","Name","Level","Total “x”","Point","Score"]
[{"$f":"IF(s=1,s,A4)","v":1},{"$f":"IF(s=1,n,B4)","v":"Ali"},{"$f":"IF(s=1,l,C4)","v":15},{"$f":"IF(s=1,t,D4)","v":15},{"$f":"IF(s=1,p,E4)","v":31},{"$f":"IF(s=1,sc,F4)","v":207},1]
[{"$f":"IF(A4=\"\",\"\",IF(s=A4+1,s,A5))","v":2},{"$f":"IF(A4=\"\",\"\",IF(s=A4+1,n,B5))","v":"Msali"},{"$f":"IF(A4=\"\",\"\",IF(s=A4+1,l,C5))","v":7},{"$f":"IF(A4=\"\",\"\",IF(s=A4+1,t,D5))","v":35},{"$f":"IF(A4=\"\",\"\",IF(s=A4+1,p,E5))","v":94},{"$f":"IF(A4=\"\",\"\",IF(s=A4+1,sc,F5))","v":269},2]
[{"$f":"IF(A5=\"\",\"\",IF(s=A5+1,s,A6))","v":3},{"$f":"IF(A5=\"\",\"\",IF(s=A5+1,n,B6))","v":"Kamal"},{"$f":"IF(A5=\"\",\"\",IF(s=A5+1,l,C6))","v":6},{"$f":"IF(A5=\"\",\"\",IF(s=A5+1,t,D6))","v":37},{"$f":"IF(A5=\"\",\"\",IF(s=A5+1,p,E6))","v":82},{"$f":"IF(A5=\"\",\"\",IF(s=A5+1,sc,F6))","v":222},3]
[{"$f":"IF(A6=\"\",\"\",IF(s=A6+1,s,A7))","v":""},{"$f":"IF(A6=\"\",\"\",IF(s=A6+1,n,B7))","v":""},{"$f":"IF(A6=\"\",\"\",IF(s=A6+1,l,C7))","v":""},{"$f":"IF(A6=\"\",\"\",IF(s=A6+1,t,D7))","v":""},{"$f":"IF(A6=\"\",\"\",IF(s=A6+1,p,E7))","v":""},{"$f":"IF(A6=\"\",\"\",IF(s=A6+1,sc,F7))","v":""},4]
[{"$f":"IF(A7=\"\",\"\",IF(s=A7+1,s,A8))","v":""},{"$f":"IF(A7=\"\",\"\",IF(s=A7+1,n,B8))","v":""},{"$f":"IF(A7=\"\",\"\",IF(s=A7+1,l,C8))","v":""},{"$f":"IF(A7=\"\",\"\",IF(s=A7+1,t,D8))","v":""},{"$f":"IF(A7=\"\",\"\",IF(s=A7+1,p,E8))","v":""},{"$f":"IF(A7=\"\",\"\",IF(s=A7+1,sc,F8))","v":""},5]
[{"$f":"IF(A8=\"\",\"\",IF(s=A8+1,s,A9))","v":""},{"$f":"IF(A8=\"\",\"\",IF(s=A8+1,n,B9))","v":""},{"$f":"IF(A8=\"\",\"\",IF(s=A8+1,l,C9))","v":""},{"$f":"IF(A8=\"\",\"\",IF(s=A8+1,t,D9))","v":""},{"$f":"IF(A8=\"\",\"\",IF(s=A8+1,p,E9))","v":""},{"$f":"IF(A8=\"\",\"\",IF(s=A8+1,sc,F9))","v":""},6]
[{"$f":"IF(A9=\"\",\"\",IF(s=A9+1,s,A10))","v":""},{"$f":"IF(A9=\"\",\"\",IF(s=A9+1,n,B10))","v":""},{"$f":"IF(A9=\"\",\"\",IF(s=A9+1,l,C10))","v":""},{"$f":"IF(A9=\"\",\"\",IF(s=A9+1,t,D10))","v":""},{"$f":"IF(A9=\"\",\"\",IF(s=A9+1,p,E10))","v":""},{"$f":"IF(A9=\"\",\"\",IF(s=A9+1,sc,F10))","v":""},7]
[{"$f":"IF(A10=\"\",\"\",IF(s=A10+1,s,A11))","v":""},{"$f":"IF(A10=\"\",\"\",IF(s=A10+1,n,B11))","v":""},{"$f":"IF(A10=\"\",\"\",IF(s=A10+1,l,C11))","v":""},{"$f":"IF(A10=\"\",\"\",IF(s=A10+1,t,D11))","v":""},{"$f":"IF(A10=\"\",\"\",IF(s=A10+1,p,E11))","v":""},{"$f":"IF(A10=\"\",\"\",IF(s=A10+1,sc,F11))","v":""},8]
[{"$f":"IF(A11=\"\",\"\",IF(s=A11+1,s,A12))","v":""},{"$f":"IF(A11=\"\",\"\",IF(s=A11+1,n,B12))","v":""},{"$f":"IF(A11=\"\",\"\",IF(s=A11+1,l,C12))","v":""},{"$f":"IF(A11=\"\",\"\",IF(s=A11+1,t,D12))","v":""},{"$f":"IF(A11=\"\",\"\",IF(s=A11+1,p,E12))","v":""},{"$f":"IF(A11=\"\",\"\",IF(s=A11+1,sc,F12))","v":""},9]
[{"$f":"IF(A12=\"\",\"\",IF(s=A12+1,s,A13))","v":""},{"$f":"IF(A12=\"\",\"\",IF(s=A12+1,n,B13))","v":""},{"$f":"IF(A12=\"\",\"\",IF(s=A12+1,l,C13))","v":""},{"$f":"IF(A12=\"\",\"\",IF(s=A12+1,t,D13))","v":""},{"$f":"IF(A12=\"\",\"\",IF(s=A12+1,p,E13))","v":""},{"$f":"IF(A12=\"\",\"\",IF(s=A12+1,sc,F13))","v":""},10]
[{"$f":"IF(A13=\"\",\"\",IF(s=A13+1,s,A14))","v":""},{"$f":"IF(A13=\"\",\"\",IF(s=A13+1,n,B14))","v":""},{"$f":"IF(A13=\"\",\"\",IF(s=A13+1,l,C14))","v":""},{"$f":"IF(A13=\"\",\"\",IF(s=A13+1,t,D14))","v":""},{"$f":"IF(A13=\"\",\"\",IF(s=A13+1,p,E14))","v":""},{"$f":"IF(A13=\"\",\"\",IF(s=A13+1,sc,F14))","v":""},11]
[{"$f":"IF(A14=\"\",\"\",IF(s=A14+1,s,A15))","v":""},{"$f":"IF(A14=\"\",\"\",IF(s=A14+1,n,B15))","v":""},{"$f":"IF(A14=\"\",\"\",IF(s=A14+1,l,C15))","v":""},{"$f":"IF(A14=\"\",\"\",IF(s=A14+1,t,D15))","v":""},{"$f":"IF(A14=\"\",\"\",IF(s=A14+1,p,E15))","v":""},{"$f":"IF(A14=\"\",\"\",IF(s=A14+1,sc,F15))","v":""},12]
[{"$f":"IF(A15=\"\",\"\",IF(s=A15+1,s,A16))","v":""},{"$f":"IF(A15=\"\",\"\",IF(s=A15+1,n,B16))","v":""},{"$f":"IF(A15=\"\",\"\",IF(s=A15+1,l,C16))","v":""},{"$f":"IF(A15=\"\",\"\",IF(s=A15+1,t,D16))","v":""},{"$f":"IF(A15=\"\",\"\",IF(s=A15+1,p,E16))","v":""},{"$f":"IF(A15=\"\",\"\",IF(s=A15+1,sc,F16))","v":""},13]
[{"$f":"IF(A16=\"\",\"\",IF(s=A16+1,s,A17))","v":""},{"$f":"IF(A16=\"\",\"\",IF(s=A16+1,n,B17))","v":""},{"$f":"IF(A16=\"\",\"\",IF(s=A16+1,l,C17))","v":""},{"$f":"IF(A16=\"\",\"\",IF(s=A16+1,t,D17))","v":""},{"$f":"IF(A16=\"\",\"\",IF(s=A16+1,p,E17))","v":""},{"$f":"IF(A16=\"\",\"\",IF(s=A16+1,sc,F17))","v":""},14]
[{"$f":"IF(A17=\"\",\"\",IF(s=A17+1,s,A18))","v":""},{"$f":"IF(A17=\"\",\"\",IF(s=A17+1,n,B18))","v":""},{"$f":"IF(A17=\"\",\"\",IF(s=A17+1,l,C18))","v":""},{"$f":"IF(A17=\"\",\"\",IF(s=A17+1,t,D18))","v":""},{"$f":"IF(A17=\"\",\"\",IF(s=A17+1,p,E18))","v":""},{"$f":"IF(A17=\"\",\"\",IF(s=A17+1,sc,F18))","v":""},15]
[{"$f":"IF(A18=\"\",\"\",IF(s=A18+1,s,A19))","v":""},{"$f":"IF(A18=\"\",\"\",IF(s=A18+1,n,B19))","v":""},{"$f":"IF(A18=\"\",\"\",IF(s=A18+1,l,C19))","v":""},{"$f":"IF(A18=\"\",\"\",IF(s=A18+1,t,D19))","v":""},{"$f":"IF(A18=\"\",\"\",IF(s=A18+1,p,E19))","v":""},{"$f":"IF(A18=\"\",\"\",IF(s=A18+1,sc,F19))","v":""},16]
[{"$f":"IF(A19=\"\",\"\",IF(s=A19+1,s,A20))","v":""},{"$f":"IF(A19=\"\",\"\",IF(s=A19+1,n,B20))","v":""},{"$f":"IF(A19=\"\",\"\",IF(s=A19+1,l,C20))","v":""},{"$f":"IF(A19=\"\",\"\",IF(s=A19+1,t,D20))","v":""},{"$f":"IF(A19=\"\",\"\",IF(s=A19+1,p,E20))","v":""},{"$f":"IF(A19=\"\",\"\",IF(s=A19+1,sc,F20))","v":""},17]
[{"$f":"IF(A20=\"\",\"\",IF(s=A20+1,s,A21))","v":""},{"$f":"IF(A20=\"\",\"\",IF(s=A20+1,n,B21))","v":""},{"$f":"IF(A20=\"\",\"\",IF(s=A20+1,l,C21))","v":""},{"$f":"IF(A20=\"\",\"\",IF(s=A20+1,t,D21))","v":""},{"$f":"IF(A20=\"\",\"\",IF(s=A20+1,p,E21))","v":""},{"$f":"IF(A20=\"\",\"\",IF(s=A20+1,sc,F21))","v":""},18]
[{"$f":"IF(A21=\"\",\"\",IF(s=A21+1,s,A22))","v":""},{"$f":"IF(A21=\"\",\"\",IF(s=A21+1,n,B22))","v":""},{"$f":"IF(A21=\"\",\"\",IF(s=A21+1,l,C22))","v":""},{"$f":"IF(A21=\"\",\"\",IF(s=A21+1,t,D22))","v":""},{"$f":"IF(A21=\"\",\"\",IF(s=A21+1,p,E22))","v":""},{"$f":"IF(A21=\"\",\"\",IF(s=A21+1,sc,F22))","v":""},19]
[{"$f":"IF(A22=\"\",\"\",IF(s=A22+1,s,A23))","v":""},{"$f":"IF(A22=\"\",\"\",IF(s=A22+1,n,B23))","v":""},{"$f":"IF(A22=\"\",\"\",IF(s=A22+1,l,C23))","v":""},{"$f":"IF(A22=\"\",\"\",IF(s=A22+1,t,D23))","v":""},{"$f":"IF(A22=\"\",\"\",IF(s=A22+1,p,E23))","v":""},{"$f":"IF(A22=\"\",\"\",IF(s=A22+1,sc,F23))","v":""},20]
[{"$f":"IF(A23=\"\",\"\",IF(s=A23+1,s,A24))","v":""},{"$f":"IF(A23=\"\",\"\",IF(s=A23+1,n,B24))","v":""},{"$f":"IF(A23=\"\",\"\",IF(s=A23+1,l,C24))","v":""},{"$f":"IF(A23=\"\",\"\",IF(s=A23+1,t,D24))","v":""},{"$f":"IF(A23=\"\",\"\",IF(s=A23+1,p,E24))","v":""},{"$f":"IF(A23=\"\",\"\",IF(s=A23+1,sc,F24))","v":""},21]
[{"$f":"IF(A24=\"\",\"\",IF(s=A24+1,s,A25))","v":""},{"$f":"IF(A24=\"\",\"\",IF(s=A24+1,n,B25))","v":""},{"$f":"IF(A24=\"\",\"\",IF(s=A24+1,l,C25))","v":""},{"$f":"IF(A24=\"\",\"\",IF(s=A24+1,t,D25))","v":""},{"$f":"IF(A24=\"\",\"\",IF(s=A24+1,p,E25))","v":""},{"$f":"IF(A24=\"\",\"\",IF(s=A24+1,sc,F25))","v":""},22]
[{"$f":"IF(A25=\"\",\"\",IF(s=A25+1,s,A26))","v":""},{"$f":"IF(A25=\"\",\"\",IF(s=A25+1,n,B26))","v":""},{"$f":"IF(A25=\"\",\"\",IF(s=A25+1,l,C26))","v":""},{"$f":"IF(A25=\"\",\"\",IF(s=A25+1,t,D26))","v":""},{"$f":"IF(A25=\"\",\"\",IF(s=A25+1,p,E26))","v":""},{"$f":"IF(A25=\"\",\"\",IF(s=A25+1,sc,F26))","v":""},23]
[{"$f":"IF(A26=\"\",\"\",IF(s=A26+1,s,A27))","v":""},{"$f":"IF(A26=\"\",\"\",IF(s=A26+1,n,B27))","v":""},{"$f":"IF(A26=\"\",\"\",IF(s=A26+1,l,C27))","v":""},{"$f":"IF(A26=\"\",\"\",IF(s=A26+1,t,D27))","v":""},{"$f":"IF(A26=\"\",\"\",IF(s=A26+1,p,E27))","v":""},{"$f":"IF(A26=\"\",\"\",IF(s=A26+1,sc,F27))","v":""},24]
[{"$f":"IF(A27=\"\",\"\",IF(s=A27+1,s,A28))","v":""},{"$f":"IF(A27=\"\",\"\",IF(s=A27+1,n,B28))","v":""},{"$f":"IF(A27=\"\",\"\",IF(s=A27+1,l,C28))","v":""},{"$f":"IF(A27=\"\",\"\",IF(s=A27+1,t,D28))","v":""},{"$f":"IF(A27=\"\",\"\",IF(s=A27+1,p,E28))","v":""},{"$f":"IF(A27=\"\",\"\",IF(s=A27+1,sc,F28))","v":""},25]
[{"$f":"IF(A28=\"\",\"\",IF(s=A28+1,s,A29))","v":""},{"$f":"IF(A28=\"\",\"\",IF(s=A28+1,n,B29))","v":""},{"$f":"IF(A28=\"\",\"\",IF(s=A28+1,l,C29))","v":""},{"$f":"IF(A28=\"\",\"\",IF(s=A28+1,t,D29))","v":""},{"$f":"IF(A28=\"\",\"\",IF(s=A28+1,p,E29))","v":""},{"$f":"IF(A28=\"\",\"\",IF(s=A28+1,sc,F29))","v":""},26]
[{"$f":"IF(A29=\"\",\"\",IF(s=A29+1,s,A30))","v":""},{"$f":"IF(A29=\"\",\"\",IF(s=A29+1,n,B30))","v":""},{"$f":"IF(A29=\"\",\"\",IF(s=A29+1,l,C30))","v":""},{"$f":"IF(A29=\"\",\"\",IF(s=A29+1,t,D30))","v":""},{"$f":"IF(A29=\"\",\"\",IF(s=A29+1,p,E30))","v":""},{"$f":"IF(A29=\"\",\"\",IF(s=A29+1,sc,F30))","v":""},27]
[{"$f":"IF(A30=\"\",\"\",IF(s=A30+1,s,A31))","v":""},{"$f":"IF(A30=\"\",\"\",IF(s=A30+1,n,B31))","v":""},{"$f":"IF(A30=\"\",\"\",IF(s=A30+1,l,C31))","v":""},{"$f":"IF(A30=\"\",\"\",IF(s=A30+1,t,D31))","v":""},{"$f":"IF(A30=\"\",\"\",IF(s=A30+1,p,E31))","v":""},{"$f":"IF(A30=\"\",\"\",IF(s=A30+1,sc,F31))","v":""},28]
[{"$f":"IF(A31=\"\",\"\",IF(s=A31+1,s,A32))","v":""},{"$f":"IF(A31=\"\",\"\",IF(s=A31+1,n,B32))","v":""},{"$f":"IF(A31=\"\",\"\",IF(s=A31+1,l,C32))","v":""},{"$f":"IF(A31=\"\",\"\",IF(s=A31+1,t,D32))","v":""},{"$f":"IF(A31=\"\",\"\",IF(s=A31+1,p,E32))","v":""},{"$f":"IF(A31=\"\",\"\",IF(s=A31+1,sc,F32))","v":""},29]
[{"$f":"IF(A32=\"\",\"\",IF(s=A32+1,s,A33))","v":""},{"$f":"IF(A32=\"\",\"\",IF(s=A32+1,n,B33))","v":""},{"$f":"IF(A32=\"\",\"\",IF(s=A32+1,l,C33))","v":""},{"$f":"IF(A32=\"\",\"\",IF(s=A32+1,t,D33))","v":""},{"$f":"IF(A32=\"\",\"\",IF(s=A32+1,p,E33))","v":""},{"$f":"IF(A32=\"\",\"\",IF(s=A32+1,sc,F33))","v":""},30]
[{"$f":"IF(A33=\"\",\"\",IF(s=A33+1,s,A34))","v":""},{"$f":"IF(A33=\"\",\"\",IF(s=A33+1,n,B34))","v":""},{"$f":"IF(A33=\"\",\"\",IF(s=A33+1,l,C34))","v":""},{"$f":"IF(A33=\"\",\"\",IF(s=A33+1,t,D34))","v":""},{"$f":"IF(A33=\"\",\"\",IF(s=A33+1,p,E34))","v":""},{"$f":"IF(A33=\"\",\"\",IF(s=A33+1,sc,F34))","v":""}]
[{"$f":"IF(A34=\"\",\"\",IF(s=A34+1,s,A35))","v":""},{"$f":"IF(A34=\"\",\"\",IF(s=A34+1,n,B35))","v":""},{"$f":"IF(A34=\"\",\"\",IF(s=A34+1,l,C35))","v":""},{"$f":"IF(A34=\"\",\"\",IF(s=A34+1,t,D35))","v":""},{"$f":"IF(A34=\"\",\"\",IF(s=A34+1,p,E35))","v":""},{"$f":"IF(A34=\"\",\"\",IF(s=A34+1,sc,F35))","v":""}]

{"sheet":"Sheet2","index":2,"n_rows":56,"n_cols":26,"rows_kept":56,"hidden":true}
[1,2,3,4,5,6,7,8,9,10,11,12,13,14,15,16,17,18,19,20,21,22,23,24,25,26]
[2,{"$f":"IF(Game!AC1>=8,0,Game!AC1)","v":6},{"$f":"IF(B2-1=0,0,IF(B2-1<0,4,B2-1))","v":5},{"$f":"IF(C2-1=0,0,IF(C2-1<0,4,C2-1))","v":4},{"$f":"IF(D2-1=0,0,IF(D2-1<0,3,D2-1))","v":3},{"$f":"IF(E2-1=0,0,IF(E2-1<0,4,E2-1))","v":2},{"$f":"IF(F2-1=0,0,IF(F2-1<0,4,F2-1))","v":1},{"$f":"IF(G2-1=0,0,IF(G2-1<0,4,G2-1))","v":0},{"$f":"IF(H2-1=0,0,IF(H2-1<0,4,H2-1))","v":4},{"$f":"IF(I2-1=0,0,IF(I2-1<0,4,I2-1))","v":3},{"$f":"IF(J2-1=0,0,IF(J2-1<0,3,J2-1))","v":2},{"$f":"IF(K2-1=0,0,IF(K2-1<0,4,K2-1))","v":1},{"$f":"IF(L2-1=0,0,IF(L2-1<0,4,L2-1))","v":0},{"$f":"IF(M2-1=0,0,IF(M2-1<0,4,M2-1))","v":4},{"$f":"IF(N2-1=0,0,IF(N2-1<0,4,N2-1))","v":3},{"$f":"IF(O2-1=0,0,IF(O2-1<0,4,O2-1))","v":2},{"$f":"IF(P2-1=0,0,IF(P2-1<0,3,P2-1))","v":1},{"$f":"IF(Q2-1=0,0,IF(Q2-1<0,4,Q2-1))","v":0},{"$f":"IF(R2-1=0,0,IF(R2-1<0,4,R2-1))","v":4},{"$f":"IF(S2-1=0,0,IF(S2-1<0,4,S2-1))","v":3},{"$f":"IF(T2-1=0,0,IF(T2-1<0,4,T2-1))","v":2},{"$f":"IF(U2-1=0,0,IF(U2-1<0,4,U2-1))","v":1},{"$f":"IF(V2-1=0,0,IF(V2-1<0,4,V2-1))","v":0},{"$f":"IF(W2-1=0,0,IF(W2-1<0,3,W2-1))","v":3},{"$f":"IF(X2-1=0,0,IF(X2-1<0,4,X2-1))","v":2},{"$f":"IF(Y2-1=0,0,IF(Y2-1<0,4,Y2-1))","v":1}]
[3,{"$f":"IF(B2-1=0,0,IF(B2-1<0,4,B2-1))","v":5},{"$f":"IF(C2-1=0,0,IF(C2-1<0,4,C2-1))","v":4},{"$f":"IF(D2-2=0,0,IF(D2-2<0,4,D2-2))","v":2},{"$f":"IF(E2-1=0,0,IF(E2-1<0,4,E2-1))","v":2},{"$f":"IF(F2-1=0,0,IF(F2-1<0,4,F2-1))","v":1},{"$f":"IF(G2-1=0,0,IF(G2-1<0,4,G2-1))","v":0},{"$f":"IF(H2-1=0,0,IF(H2-1<0,4,H2-1))","v":4},{"$f":"IF(I2-1=0,0,IF(I2-1<0,4,I2-1))","v":3},{"$f":"IF(J2-1=0,0,IF(J2-1<0,4,J2-1))","v":2},{"$f":"IF(K2-2=0,0,IF(K2-2<0,4,K2-2))","v":0},{"$f":"IF(L2-1=0,0,IF(L2-1<0,4,L2-1))","v":0},{"$f":"IF(M2-1=0,0,IF(M2-1<0,4,M2-1))","v":4},{"$f":"IF(N2-3=0,0,IF(N2-3<0,4,N2-3))","v":1},{"$f":"IF(O2-1=0,0,IF(O2-1<0,4,O2-1))","v":2},{"$f":"IF(P2-2=0,0,IF(P2-2<0,4,P2-2))","v":0},{"$f":"IF(Q2-1=0,0,IF(Q2-1<0,4,Q2-1))","v":0},{"$f":"IF(R2-1=0,0,IF(R2-1<0,3,R2-1))","v":3},{"$f":"IF(S2-1=0,0,IF(S2-1<0,4,S2-1))","v":3},{"$f":"IF(T2-1=0,0,IF(T2-1<0,4,T2-1))","v":2},{"$f":"IF(U2-1=0,0,IF(U2-1<0,4,U2-1))","v":1},{"$f":"IF(V2-2=0,0,IF(V2-2<0,4,V2-2))","v":4},{"$f":"IF(W2-1=0,0,IF(W2-1<0,4,W2-1))","v":4},{"$f":"IF(X2-1=0,0,IF(X2-1<0,3,X2-1))","v":2},{"$f":"IF(Y2-1=0,0,IF(Y2-1<0,4,Y2-1))","v":1},{"$f":"IF(Z2-1=0,0,IF(Z2-1<0,4,Z2-1))","v":0}]
[4,{"$f":"IF(B3-1=0,0,IF(B3-1<0,4,B3-1))","v":4},{"$f":"IF(C3-1=0,0,IF(C3-1<0,4,C3-1))","v":3},{"$f":"IF(D3-1=0,0,IF(D3-1<0,4,D3-1))","v":1},{"$f":"IF(E3-1=0,0,IF(E3-1<0,4,E3-1))","v":1},{"$f":"IF(F3-1=0,0,IF(F3-1<0,0,F3-1))","v":0},{"$f":"IF(G3-1=0,0,IF(G3-1<0,4,G3-1))","v":4},{"$f":"IF(H3-1=0,0,IF(H3-1<0,4,H3-1))","v":3},{"$f":"IF(I3-1=0,0,IF(I3-1<0,4,I3-1))","v":2},{"$f":"IF(J3-1=0,0,IF(J3-1<0,4,J3-1))","v":1},{"$f":"IF(K3-1=0,0,IF(K3-1<0,4,K3-1))","v":4},{"$f":"IF(L3-1=0,0,IF(L3-1<0,4,L3-1))","v":4},{"$f":"IF(M3-1=0,0,IF(M3-1<0,4,M3-1))","v":3},{"$f":"IF(N3-1=0,0,IF(N3-1<0,4,N3-1))","v":0},{"$f":"IF(O3-1=0,0,IF(O3-1<0,4,O3-1))","v":1},{"$f":"IF(P3-1=0,0,IF(P3-1<0,4,P3-1))","v":4},{"$f":"IF(Q3-1=0,0,IF(Q3-1<0,4,Q3-1))","v":4},{"$f":"IF(R3-1=0,0,IF(R3-1<0,3,R3-1))","v":2},{"$f":"IF(S3-1=0,0,IF(S3-1<0,4,S3-1))","v":2},{"$f":"IF(T3-1=0,0,IF(T3-1<0,4,T3-1))","v":1},{"$f":"IF(U3-1=0,0,IF(U3-1<0,4,U3-1))","v":0},{"$f":"IF(V3-1=0,0,IF(V3-1<0,4,V3-1))","v":3},{"$f":"IF(W3-1=0,0,IF(W3-1<0,4,W3-1))","v":3},{"$f":"IF(X3-1=0,0,IF(X3-1<0,3,X3-1))","v":1},{"$f":"IF(Y3-1=0,0,IF(Y3-1<0,4,Y3-1))","v":0},{"$f":"IF(Z3-1=0,0,IF(Z3-1<0,4,Z3-1))","v":4}]
[5,{"$f":"IF(B4-1=0,0,IF(B4-1<0,4,B4-1))","v":3},{"$f":"IF(C4-1=0,0,IF(C4-1<0,4,C4-1))","v":2},{"$f":"IF(D4-1=0,0,IF(D4-1<0,4,D4-1))","v":0},{"$f":"IF(E4-1=0,0,IF(E4-1<0,4,E4-1))","v":0},{"$f":"IF(F4-1=0,0,IF(F4-1<0,4,F4-1))","v":4},{"$f":"IF(G4-1=0,0,IF(G4-1<0,4,G4-1))","v":3},{"$f":"IF(H4-1=0,0,IF(H4-1<0,4,H4-1))","v":2},{"$f":"IF(I4-1=0,0,IF(I4-1<0,4,I4-1))","v":1},{"$f":"IF(J4-1=0,0,IF(J4-1<0,4,J4-1))","v":0},{"$f":"IF(K4-1=0,0,IF(K4-1<0,4,K4-1))","v":3},{"$f":"IF(L4-1=0,0,IF(L4-1<0,4,L4-1))","v":3},{"$f":"IF(M4-1=0,0,IF(M4-1<0,4,M4-1))","v":2},{"$f":"IF(N4-1=0,0,IF(N4-1<0,4,N4-1))","v":4},{"$f":"IF(O4-1=0,0,IF(O4-1<0,4,O4-1))","v":0},{"$f":"IF(P4-1=0,0,IF(P4-1<0,4,P4-1))","v":3},{"$f":"IF(Q4-1=0,0,IF(Q4-1<0,4,Q4-1))","v":3},{"$f":"IF(R4-1=0,0,IF(R4-1<0,3,R4-1))","v":1},{"$f":"IF(S4-1=0,0,IF(S4-1<0,4,S4-1))","v":1},{"$f":"IF(T4-1=0,0,IF(T4-1<0,4,T4-1))","v":0},{"$f":"IF(U4-1=0,0,IF(U4-1<0,4,U4-1))","v":4},{"$f":"IF(V4-1=0,0,IF(V4-1<0,4,V4-1))","v":2},{"$f":"IF(W4-1=0,0,IF(W4-1<0,4,W4-1))","v":2},{"$f":"IF(X4-1=0,0,IF(X4-1<0,3,X4-1))","v":0},{"$f":"IF(Y4-1=0,0,IF(Y4-1<0,4,Y4-1))","v":4},{"$f":"IF(Z4-1=0,0,IF(Z4-1<0,4,Z4-1))","v":3}]
[6,{"$f":"IF(B5-1=0,0,IF(B5-1<0,4,B5-1))","v":2},{"$f":"IF(C5-1=0,0,IF(C5-1<0,4,C5-1))","v":1},{"$f":"IF(D5-1=0,0,IF(D5-1<0,3,D5-1))","v":3},{"$f":"IF(E5-1=0,0,IF(E5-1<0,0,E5-1))","v":0},{"$f":"IF(F5-1=0,0,IF(F5-1<0,4,F5-1))","v":3},{"$f":"IF(G5-1=0,0,IF(G5-1<0,4,G5-1))","v":2},{"$f":"IF(H5-1=0,0,IF(H5-1<0,4,H5-1))","v":1},{"$f":"IF(I5-1=0,0,IF(I5-1<0,4,I5-1))","v":0},{"$f":"IF(J5-1=0,0,IF(J5-1<0,4,J5-1))","v":4},{"$f":"IF(K5-1=0,0,IF(K5-1<0,4,K5-1))","v":2},{"$f":"IF(L5-1=0,0,IF(L5-1<0,4,L5-1))","v":2},{"$f":"IF(M5-1=0,0,IF(M5-1<0,4,M5-1))","v":1},{"$f":"IF(N5-1=0,0,IF(N5-1<0,4,N5-1))","v":3},{"$f":"IF(O5-1=0,0,IF(O5-1<0,0,O5-1))","v":0},{"$f":"IF(P5-1=0,0,IF(P5-1<0,4,P5-1))","v":2},{"$f":"IF(Q5-1=0,0,IF(Q5-1<0,4,Q5-1))","v":2},{"$f":"IF(R5-1=0,0,IF(R5-1<0,3,R5-1))","v":0},{"$f":"IF(S5-1=0,0,IF(S5-1<0,4,S5-1))","v":0},{"$f":"IF(T5-1=0,0,IF(T5-1<0,4,T5-1))","v":4},{"$f":"IF(U5-1=0,0,IF(U5-1<0,4,U5-1))","v":3},{"$f":"IF(V5-1=0,0,IF(V5-1<0,4,V5-1))","v":1},{"$f":"IF(W5-1=0,0,IF(W5-1<0,4,W5-1))","v":1},{"$f":"IF(X5-1=0,0,IF(X5-1<0,3,X5-1))","v":3},{"$f":"IF(Y5-1=0,0,IF(Y5-1<0,4,Y5-1))","v":3},{"$f":"IF(Z5-1=0,0,IF(Z5-1<0,4,Z5-1))","v":2}]
[7,{"$f":"IF(B6-1=0,0,IF(B6-1<0,4,B6-1))","v":1},{"$f":"IF(C6-1=0,0,IF(C6-1<0,0,C6-1))","v":0},{"$f":"IF(D6-1=0,0,IF(D6-1<0,4,D6-1))","v":2},{"$f":"IF(E6-1=0,0,IF(E6-1<0,4,E6-1))","v":4},{"$f":"IF(F6-1=0,0,IF(F6-1<0,4,F6-1))","v":2},{"$f":"IF(G6-1=0,0,IF(G6-1<0,4,G6-1))","v":1},{"$f":"IF(H6-1=0,0,IF(H6-1<0,4,H6-1))","v":0},{"$f":"IF(I6-1=0,0,IF(I6-1<0,4,I6-1))","v":4},{"$f":"IF(J6-1=0,0,IF(J6-1<0,4,J6-1))","v":3},{"$f":"IF(K6-1=0,0,IF(K6-1<0,4,K6-1))","v":1},{"$f":"IF(L6-1=0,0,IF(L6-1<0,10,L6-1))","v":1},{"$f":"IF(M6-1=0,0,IF(M6-1<0,4,M6-1))","v":0},{"$f":"IF(N6-1=0,0,IF(N6-1<0,4,N6-1))","v":2},{"$f":"IF(O6-1=0,0,IF(O6-1<0,4,O6-1))","v":4},{"$f":"IF(P6-1=0,0,IF(P6-1<0,4,P6-1))","v":1},{"$f":"IF(Q6-1=0,0,IF(Q6-1<0,4,Q6-1))","v":1},{"$f":"IF(R6-1=0,0,IF(R6-1<0,10,R6-1))","v":10},{"$f":"IF(S6-1=0,0,IF(S6-1<0,4,S6-1))","v":4},{"$f":"IF(T6-1=0,0,IF(T6-1<0,4,T6-1))","v":3},{"$f":"IF(U6-1=0,0,IF(U6-1<0,4,U6-1))","v":2},{"$f":"IF(V6-1=0,0,IF(V6-1<0,4,V6-1))","v":0},{"$f":"IF(W6-1=0,0,IF(W6-1<0,4,W6-1))","v":0},{"$f":"IF(X6-1=0,0,IF(X6-1<0,3,X6-1))","v":2},{"$f":"IF(Y6-1=0,0,IF(Y6-1<0,4,Y6-1))","v":2},{"$f":"IF(Z6-1=0,0,IF(Z6-1<0,4,Z6-1))","v":1}]
[8,{"$f":"IF(B7-1=0,0,IF(B7-1<0,4,B7-1))","v":0},{"$f":"IF(C7-1=0,0,IF(C7-1<0,4,C7-1))","v":4},{"$f":"IF(D7-1=0,0,IF(D7-1<0,4,D7-1))","v":1},{"$f":"IF(E7-1=0,0,IF(E7-1<0,10,E7-1))","v":3},{"$f":"IF(F7-1=0,0,IF(F7-1<0,4,F7-1))","v":1},{"$f":"IF(G7-1=0,0,IF(G7-1<0,3,G7-1))","v":0},{"$f":"IF(H7-1=0,0,IF(H7-1<0,4,H7-1))","v":4},{"$f":"IF(I7-1=0,0,IF(I7-1<0,4,I7-1))","v":3},{"$f":"IF(J7-1=0,0,IF(J7-1<0,4,J7-1))","v":2},{"$f":"IF(K7-1=0,0,IF(K7-1<0,4,K7-1))","v":0},{"$f":"IF(L7-1=0,0,IF(L7-1<0,4,L7-1))","v":0},{"$f":"IF(M7-1=0,0,IF(M7-1<0,4,M7-1))","v":4},{"$f":"IF(N7-1=0,0,IF(N7-1<0,4,N7-1))","v":1},{"$f":"IF(O7-1=0,0,IF(O7-1<0,4,O7-1))","v":3},{"$f":"IF(P7-1=0,0,IF(P7-1<0,4,P7-1))","v":0},{"$f":"IF(Q7-1=0,0,IF(Q7-1<0,4,Q7-1))","v":0},{"$f":"IF(R7-1=0,0,IF(R7-1<0,3,R7-1))","v":9},{"$f":"IF(S7-1=0,0,IF(S7-1<0,4,S7-1))","v":3},{"$f":"IF(T7-1=0,0,IF(T7-1<0,3,T7-1))","v":2},{"$f":"IF(U7-1=0,0,IF(U7-1<0,4,U7-1))","v":1},{"$f":"IF(V7-1=0,0,IF(V7-1<0,4,V7-1))","v":4},{"$f":"IF(W7-1=0,0,IF(W7-1<0,4,W7-1))","v":4},{"$f":"IF(X7-1=0,0,IF(X7-1<0,3,X7-1))","v":1},{"$f":"IF(Y7-1=0,0,IF(Y7-1<0,4,Y7-1))","v":1},{"$f":"IF(Z7-1=0,0,IF(Z7-1<0,4,Z7-1))","v":0}]
[9,{"$f":"IF(B8-1=0,0,IF(B8-1<0,4,B8-1))","v":4},{"$f":"IF(C8-1=0,0,IF(C8-1<0,4,C8-1))","v":3},{"$f":"IF(D8-1=0,0,IF(D8-1<0,4,D8-1))","v":0},{"$f":"IF(E8-1=0,0,IF(E8-1<0,4,E8-1))","v":2},{"$f":"IF(F8-1=0,0,IF(F8-1<0,4,F8-1))","v":0},{"$f":"IF(G8-1=0,0,IF(G8-1<0,3,G8-1))","v":3},{"$f":"IF(H8-1=0,0,IF(H8-1<0,4,H8-1))","v":3},{"$f":"IF(I8-1=0,0,IF(I8-1<0,4,I8-1))","v":2},{"$f":"IF(J8-1=0,0,IF(J8-1<0,4,J8-1))","v":1},{"$f":"IF(K8-1=0,0,IF(K8-1<0,4,K8-1))","v":4},{"$f":"IF(L8-1=0,0,IF(L8-1<0,0,L8-1))","v":0},{"$f":"IF(M8-1=0,0,IF(M8-1<0,4,M8-1))","v":3},{"$f":"IF(N8-1=0,0,IF(N8-1<0,4,N8-1))","v":0},{"$f":"IF(O8-1=0,0,IF(O8-1<0,4,O8-1))","v":2},{"$f":"IF(P8-1=0,0,IF(P8-1<0,4,P8-1))","v":4},{"$f":"IF(Q8-1=0,0,IF(Q8-1<0,4,Q8-1))","v":4},{"$f":"IF(R8-1=0,0,IF(R8-1<0,3,R8-1))","v":8},{"$f":"IF(S8-1=0,0,IF(S8-1<0,4,S8-1))","v":2},{"$f":"IF(T8-1=0,0,IF(T8-1<0,3,T8-1))","v":1},{"$f":"IF(U8-1=0,0,IF(U8-1<0,4,U8-1))","v":0},{"$f":"IF(V8-1=0,0,IF(V8-1<0,4,V8-1))","v":3},{"$f":"IF(W8-1=0,0,IF(W8-1<0,4,W8-1))","v":3},{"$f":"IF(X8-1=0,0,IF(X8-1<0,3,X8-1))","v":0},{"$f":"IF(Y8-1=0,0,IF(Y8-1<0,4,Y8-1))","v":0},{"$f":"IF(Z8-1=0,0,IF(Z8-1<0,4,Z8-1))","v":4}]
[10,{"$f":"IF(B9-1=0,0,IF(B9-1<0,4,B9-1))","v":3},{"$f":"IF(C9-1=0,0,IF(C9-1<0,4,C9-1))","v":2},{"$f":"IF(D9-1=0,0,IF(D9-1<0,4,D9-1))","v":4},{"$f":"IF(E9-1=0,0,IF(E9-1<0,4,E9-1))","v":1},{"$f":"IF(F9-1=0,0,IF(F9-1<0,4,F9-1))","v":4},{"$f":"IF(G9-1=0,0,IF(G9-1<0,3,G9-1))","v":2},{"$f":"IF(H9-1=0,0,IF(H9-1<0,4,H9-1))","v":2},{"$f":"IF(I9-1=0,0,IF(I9-1<0,4,I9-1))","v":1},{"$f":"IF(J9-1=0,0,IF(J9-1<0,8,J9-1))","v":0},{"$f":"IF(K9-1=0,0,IF(K9-1<0,4,K9-1))","v":3},{"$f":"IF(L9-1=0,0,IF(L9-1<0,4,L9-1))","v":4},{"$f":"IF(M9-1=0,0,IF(M9-1<0,4,M9-1))","v":2},{"$f":"IF(N9-1=0,0,IF(N9-1<0,4,N9-1))","v":4},{"$f":"IF(O9-1=0,0,IF(O9-1<0,4,O9-1))","v":1},{"$f":"IF(P9-1=0,0,IF(P9-1<0,4,P9-1))","v":3},{"$f":"IF(Q9-1=0,0,IF(Q9-1<0,4,Q9-1))","v":3},{"$f":"IF(R9-1=0,0,IF(R9-1<0,3,R9-1))","v":7},{"$f":"IF(S9-1=0,0,IF(S9-1<0,4,S9-1))","v":1},{"$f":"IF(T9-1=0,0,IF(T9-1<0,3,T9-1))","v":0},{"$f":"IF(U9-1=0,0,IF(U9-1<0,4,U9-1))","v":4},{"$f":"IF(V9-1=0,0,IF(V9-1<0,4,V9-1))","v":2},{"$f":"IF(W9-1=0,0,IF(W9-1<0,4,W9-1))","v":2},{"$f":"IF(X9-1=0,0,IF(X9-1<0,3,X9-1))","v":3},{"$f":"IF(Y9-1=0,0,IF(Y9-1<0,4,Y9-1))","v":4},{"$f":"IF(Z9-1=0,0,IF(Z9-1<0,4,Z9-1))","v":3}]
[11,{"$f":"IF(B10-1=0,0,IF(B10-1<0,4,B10-1))","v":2},{"$f":"IF(C10-1=0,0,IF(C10-1<0,4,C10-1))","v":1},{"$f":"IF(D10-1=0,0,IF(D10-1<0,4,D10-1))","v":3},{"$f":"IF(E10-1=0,0,IF(E10-1<0,0,E10-1))","v":0},{"$f":"IF(F10-1=0,0,IF(F10-1<0,4,F10-1))","v":3},{"$f":"IF(G10-1=0,0,IF(G10-1<0,3,G10-1))","v":1},{"$f":"IF(H10-1=0,0,IF(H10-1<0,4,H10-1))","v":1},{"$f":"IF(I10-1=0,0,IF(I10-1<0,4,I10-1))","v":0},{"$f":"IF(J10-1=0,0,IF(J10-1<0,4,J10-1))","v":4},{"$f":"IF(K10-1=0,0,IF(K10-1<0,4,K10-1))","v":2},{"$f":"IF(L10-1=0,0,IF(L10-1<0,4,L10-1))","v":3},{"$f":"IF(M10-1=0,0,IF(M10-1<0,4,M10-1))","v":1},{"$f":"IF(N10-1=0,0,IF(N10-1<0,4,N10-1))","v":3},{"$f":"IF(O10-1=0,0,IF(O10-1<0,4,O10-1))","v":0},{"$f":"IF(P10-1=0,0,IF(P10-1<0,4,P10-1))","v":2},{"$f":"IF(Q10-1=0,0,IF(Q10-1<0,4,Q10-1))","v":2},{"$f":"IF(R10-1=0,0,IF(R10-1<0,3,R10-1))","v":6},{"$f":"IF(S10-1=0,0,IF(S10-1<0,4,S10-1))","v":0},{"$f":"IF(T10-1=0,0,IF(T10-1<0,3,T10-1))","v":3},{"$f":"IF(U10-1=0,0,IF(U10-1<0,4,U10-1))","v":3},{"$f":"IF(V10-1=0,0,IF(V10-1<0,4,V10-1))","v":1},{"$f":"IF(W10-1=0,0,IF(W10-1<0,4,W10-1))","v":1},{"$f":"IF(X10-1=0,0,IF(X10-1<0,3,X10-1))","v":2},{"$f":"IF(Y10-1=0,0,IF(Y10-1<0,4,Y10-1))","v":3},{"$f":"IF(Z10-1=0,0,IF(Z10-1<0,4,Z10-1))","v":2}]
[12,{"$f":"IF(B11-1=0,0,IF(B11-1<0,4,B11-1))","v":1},{"$f":"IF(C11-1=0,0,IF(C11-1<0,4,C11-1))","v":0},{"$f":"IF(D11-1=0,0,IF(D11-1<0,4,D11-1))","v":2},{"$f":"IF(E11-1=0,0,IF(E11-1<0,4,E11-1))","v":4},{"$f":"IF(F11-1=0,0,IF(F11-1<0,4,F11-1))","v":2},{"$f":"IF(G11-1=0,0,IF(G11-1<0,3,G11-1))","v":0},{"$f":"IF(H11-1=0,0,IF(H11-1<0,4,H11-1))","v":0},{"$f":"IF(I11-1=0,0,IF(I11-1<0,0,I11-1))","v":0},{"$f":"IF(J11-1=0,0,IF(J11-1<0,4,J11-1))","v":3},{"$f":"IF(K11-1=0,0,IF(K11-1<0,4,K11-1))","v":1},{"$f":"IF(L11-1=0,0,IF(L11-1<0,4,L11-1))","v":2},{"$f":"IF(M11-1=0,0,IF(M11-1<0,4,M11-1))","v":0},{"$f":"IF(N11-1=0,0,IF(N11-1<0,4,N11-1))","v":2},{"$f":"IF(O11-1=0,0,IF(O11-1<0,3,O11-1))","v":3},{"$f":"IF(P11-1=0,0,IF(P11-1<0,4,P11-1))","v":1},{"$f":"IF(Q11-1=0,0,IF(Q11-1<0,4,Q11-1))","v":1},{"$f":"IF(R11-1=0,0,IF(R11-1<0,3,R11-1))","v":5},{"$f":"IF(S11-1=0,0,IF(S11-1<0,4,S11-1))","v":4},{"$f":"IF(T11-1=0,0,IF(T11-1<0,3,T11-1))","v":2},{"$f":"IF(U11-1=0,0,IF(U11-1<0,4,U11-1))","v":2},{"$f":"IF(V11-1=0,0,IF(V11-1<0,4,V11-1))","v":0},{"$f":"IF(W11-1=0,0,IF(W11-1<0,6,W11-1))","v":0},{"$f":"IF(X11-1=0,0,IF(X11-1<0,3,X11-1))","v":1},{"$f":"IF(Y11-1=0,0,IF(Y11-1<0,4,Y11-1))","v":2},{"$f":"IF(Z11-1=0,0,IF(Z11-1<0,4,Z11-1))","v":1}]
[13,{"$f":"IF(B12-1=0,0,IF(B12-1<0,4,B12-1))","v":0},{"$f":"IF(C12-1=0,0,IF(C12-1<0,4,C12-1))","v":4},{"$f":"IF(D12-1=0,0,IF(D12-1<0,4,D12-1))","v":1},{"$f":"IF(E12-1=0,0,IF(E12-1<0,4,E12-1))","v":3},{"$f":"IF(F12-1=0,0,IF(F12-1<0,4,F12-1))","v":1},{"$f":"IF(G12-1=0,0,IF(G12-1<0,3,G12-1))","v":3},{"$f":"IF(H12-1=0,0,IF(H12-1<0,4,H12-1))","v":4},{"$f":"IF(I12-1=0,0,IF(I12-1<0,4,I12-1))","v":4},{"$f":"IF(J12-1=0,0,IF(J12-1<0,4,J12-1))","v":2},{"$f":"IF(K12-1=0,0,IF(K12-1<0,4,K12-1))","v":0},{"$f":"IF(L12-1=0,0,IF(L12-1<0,4,L12-1))","v":1},{"$f":"IF(M12-1=0,0,IF(M12-1<0,4,M12-1))","v":4},{"$f":"IF(N12-1=0,0,IF(N12-1<0,4,N12-1))","v":1},{"$f":"IF(O12-1=0,0,IF(O12-1<0,3,O12-1))","v":2},{"$f":"IF(P12-1=0,0,IF(P12-1<0,4,P12-1))","v":0},{"$f":"IF(Q12-1=0,0,IF(Q12-1<0,4,Q12-1))","v":0},{"$f":"IF(R12-1=0,0,IF(R12-1<0,3,R12-1))","v":4},{"$f":"IF(S12-1=0,0,IF(S12-1<0,4,S12-1))","v":3},{"$f":"IF(T12-1=0,0,IF(T12-1<0,3,T12-1))","v":1},{"$f":"IF(U12-1=0,0,IF(U12-1<0,4,U12-1))","v":1},{"$f":"IF(V12-1=0,0,IF(V12-1<0,4,V12-1))","v":4},{"$f":"IF(W12-1=0,0,IF(W12-1<0,4,W12-1))","v":4},{"$f":"IF(X12-1=0,0,IF(X12-1<0,3,X12-1))","v":0},{"$f":"IF(Y12-1=0,0,IF(Y12-1<0,4,Y12-1))","v":1},{"$f":"IF(Z12-1=0,0,IF(Z12-1<0,4,Z12-1))","v":0}]
[14,{"$f":"IF(B13-1=0,0,IF(B13-1<0,4,B13-1))","v":4},{"$f":"IF(C13-1=0,0,IF(C13-1<0,4,C13-1))","v":3},{"$f":"IF(D13-1=0,0,IF(D13-1<0,4,D13-1))","v":0},{"$f":"IF(E13-1=0,0,IF(E13-1<0,4,E13-1))","v":2},{"$f":"IF(F13-1=0,0,IF(F13-1<0,4,F13-1))","v":0},{"$f":"IF(G13-1=0,0,IF(G13-1<0,3,G13-1))","v":2},{"$f":"IF(H13-1=0,0,IF(H13-1<0,4,H13-1))","v":3},{"$f":"IF(I13-1=0,0,IF(I13-1<0,4,I13-1))","v":3},{"$f":"IF(J13-1=0,0,IF(J13-1<0,4,J13-1))","v":1},{"$f":"IF(K13-1=0,0,IF(K13-1<0,4,K13-1))","v":4},{"$f":"IF(L13-1=0,0,IF(L13-1<0,0,L13-1))","v":0},{"$f":"IF(M13-1=0,0,IF(M13-1<0,4,M13-1))","v":3},{"$f":"IF(N13-1=0,0,IF(N13-1<0,4,N13-1))","v":0},{"$f":"IF(O13-1=0,0,IF(O13-1<0,3,O13-1))","v":1},{"$f":"IF(P13-1=0,0,IF(P13-1<0,4,P13-1))","v":4},{"$f":"IF(Q13-1=0,0,IF(Q13-1<0,4,Q13-1))","v":4},{"$f":"IF(R13-1=0,0,IF(R13-1<0,3,R13-1))","v":3},{"$f":"IF(S13-1=0,0,IF(S13-1<0,4,S13-1))","v":2},{"$f":"IF(T13-1=0,0,IF(T13-1<0,3,T13-1))","v":0},{"$f":"IF(U13-1=0,0,IF(U13-1<0,4,U13-1))","v":0},{"$f":"IF(V13-1=0,0,IF(V13-1<0,3,V13-1))","v":3},{"$f":"IF(W13-1=0,0,IF(W13-1<0,4,W13-1))","v":3},{"$f":"IF(X13-1=0,0,IF(X13-1<0,3,X13-1))","v":3},{"$f":"IF(Y13-1=0,0,IF(Y13-1<0,4,Y13-1))","v":0},{"$f":"IF(Z13-1=0,0,IF(Z13-1<0,4,Z13-1))","v":4}]
[15,{"$f":"IF(B14-1=0,0,IF(B14-1<0,4,B14-1))","v":3},{"$f":"IF(C14-1=0,0,IF(C14-1<0,4,C14-1))","v":2},{"$f":"IF(D14-1=0,0,IF(D14-1<0,5,D14-1))","v":5},{"$f":"IF(E14-1=0,0,IF(E14-1<0,4,E14-1))","v":1},{"$f":"IF(F14-1=0,0,IF(F14-1<0,4,F14-1))","v":4},{"$f":"IF(G14-1=0,0,IF(G14-1<0,3,G14-1))","v":1},{"$f":"IF(H14-1=0,0,IF(H14-1<0,4,H14-1))","v":2},{"$f":"IF(I14-1=0,0,IF(I14-1<0,4,I14-1))","v":2},{"$f":"IF(J14-1=0,0,IF(J14-1<0,4,J14-1))","v":0},{"$f":"IF(K14-1=0,0,IF(K14-1<0,4,K14-1))","v":3},{"$f":"IF(L14-1=0,0,IF(L14-1<0,4,L14-1))","v":4},{"$f":"IF(M14-1=0,0,IF(M14-1<0,4,M14-1))","v":2},{"$f":"IF(N14-1=0,0,IF(N14-1<0,4,N14-1))","v":4},{"$f":"IF(O14-1=0,0,IF(O14-1<0,3,O14-1))","v":0},{"$f":"IF(P14-1=0,0,IF(P14-1<0,4,P14-1))","v":3},{"$f":"IF(Q14-1=0,0,IF(Q14-1<0,4,Q14-1))","v":3},{"$f":"IF(R14-1=0,0,IF(R14-1<0,3,R14-1))","v":2},{"$f":"IF(S14-1=0,0,IF(S14-1<0,4,S14-1))","v":1},{"$f":"IF(T14-1=0,0,IF(T14-1<0,3,T14-1))","v":3},{"$f":"IF(U14-1=0,0,IF(U14-1<0,4,U14-1))","v":4},{"$f":"IF(V14-1=0,0,IF(V14-1<0,3,V14-1))","v":2},{"$f":"IF(W14-1=0,0,IF(W14-1<0,4,W14-1))","v":2},{"$f":"IF(X14-1=0,0,IF(X14-1<0,3,X14-1))","v":2},{"$f":"IF(Y14-1=0,0,IF(Y14-1<0,4,Y14-1))","v":4},{"$f":"IF(Z14-1=0,0,IF(Z14-1<0,4,Z14-1))","v":3}]
[16,{"$f":"IF(B15-1=0,0,IF(B15-1<0,4,B15-1))","v":2},{"$f":"IF(C15-1=0,0,IF(C15-1<0,4,C15-1))","v":1},{"$f":"IF(D15-1=0,0,IF(D15-1<0,4,D15-1))","v":4},{"$f":"IF(E15-1=0,0,IF(E15-1<0,4,E15-1))","v":0},{"$f":"IF(F15-1=0,0,IF(F15-1<0,4,F15-1))","v":3},{"$f":"IF(G15-1=0,0,IF(G15-1<0,3,G15-1))","v":0},{"$f":"IF(H15-1=0,0,IF(H15-1<0,4,H15-1))","v":1},{"$f":"IF(I15-1=0,0,IF(I15-1<0,4,I15-1))","v":1},{"$f":"IF(J15-1=0,0,IF(J15-1<0,4,J15-1))","v":4},{"$f":"IF(K15-1=0,0,IF(K15-1<0,4,K15-1))","v":2},{"$f":"IF(L15-1=0,0,IF(L15-1<0,4,L15-1))","v":3},{"$f":"IF(M15-1=0,0,IF(M15-1<0,4,M15-1))","v":1},{"$f":"IF(N15-1=0,0,IF(N15-1<0,4,N15-1))","v":3},{"$f":"IF(O15-1=0,0,IF(O15-1<0,3,O15-1))","v":3},{"$f":"IF(P15-1=0,0,IF(P15-1<0,4,P15-1))","v":2},{"$f":"IF(Q15-1=0,0,IF(Q15-1<0,4,Q15-1))","v":2},{"$f":"IF(R15-1=0,0,IF(R15-1<0,3,R15-1))","v":1},{"$f":"IF(S15-1=0,0,IF(S15-1<0,4,S15-1))","v":0},{"$f":"IF(T15-1=0,0,IF(T15-1<0,3,T15-1))","v":2},{"$f":"IF(U15-1=0,0,IF(U15-1<0,4,U15-1))","v":3},{"$f":"IF(V15-1=0,0,IF(V15-1<0,3,V15-1))","v":1},{"$f":"IF(W15-1=0,0,IF(W15-1<0,4,W15-1))","v":1},{"$f":"IF(X15-1=0,0,IF(X15-1<0,3,X15-1))","v":1},{"$f":"IF(Y15-1=0,0,IF(Y15-1<0,4,Y15-1))","v":3},{"$f":"IF(Z15-1=0,0,IF(Z15-1<0,4,Z15-1))","v":2}]
[17,{"$f":"IF(B16-1=0,0,IF(B16-1<0,4,B16-1))","v":1},{"$f":"IF(C16-1=0,0,IF(C16-1<0,4,C16-1))","v":0},{"$f":"IF(D16-1=0,0,IF(D16-1<0,4,D16-1))","v":3},{"$f":"IF(E16-1=0,0,IF(E16-1<0,4,E16-1))","v":4},{"$f":"IF(F16-1=0,0,IF(F16-1<0,4,F16-1))","v":2},{"$f":"IF(G16-1=0,0,IF(G16-1<0,3,G16-1))","v":3},{"$f":"IF(H16-1=0,0,IF(H16-1<0,4,H16-1))","v":0},{"$f":"IF(I16-1=0,0,IF(I16-1<0,4,I16-1))","v":0},{"$f":"IF(J16-1=0,0,IF(J16-1<0,4,J16-1))","v":3},{"$f":"IF(K16-1=0,0,IF(K16-1<0,4,K16-1))","v":1},{"$f":"IF(L16-1=0,0,IF(L16-1<0,4,L16-1))","v":2},{"$f":"IF(M16-1=0,0,IF(M16-1<0,4,M16-1))","v":0},{"$f":"IF(N16-1=0,0,IF(N16-1<0,4,N16-1))","v":2},{"$f":"IF(O16-1=0,0,IF(O16-1<0,3,O16-1))","v":2},{"$f":"IF(P16-1=0,0,IF(P16-1<0,4,P16-1))","v":1},{"$f":"IF(Q16-1=0,0,IF(Q16-1<0,4,Q16-1))","v":1},{"$f":"IF(R16-1=0,0,IF(R16-1<0,3,R16-1))","v":0},{"$f":"IF(S16-1=0,0,IF(S16-1<0,4,S16-1))","v":4},{"$f":"IF(T16-1=0,0,IF(T16-1<0,3,T16-1))","v":1},{"$f":"IF(U16-1=0,0,IF(U16-1<0,4,U16-1))","v":2},{"$f":"IF(V16-1=0,0,IF(V16-1<0,3,V16-1))","v":0},{"$f":"IF(W16-1=0,0,IF(W16-1<0,4,W16-1))","v":0},{"$f":"IF(X16-1=0,0,IF(X16-1<0,3,X16-1))","v":0},{"$f":"IF(Y16-1=0,0,IF(Y16-1<0,4,Y16-1))","v":2},{"$f":"IF(Z16-1=0,0,IF(Z16-1<0,4,Z16-1))","v":1}]
[18,{"$f":"IF(B17-1=0,0,IF(B17-1<0,4,B17-1))","v":0},{"$f":"IF(C17-1=0,0,IF(C17-1<0,0,C17-1))","v":0},{"$f":"IF(D17-1=0,0,IF(D17-1<0,4,D17-1))","v":2},{"$f":"IF(E17-1=0,0,IF(E17-1<0,4,E17-1))","v":3},{"$f":"IF(F17-1=0,0,IF(F17-1<0,4,F17-1))","v":1},{"$f":"IF(G17-1=0,0,IF(G17-1<0,3,G17-1))","v":2},{"$f":"IF(H17-1=0,0,IF(H17-1<0,4,H17-1))","v":4},{"$f":"IF(I17-1=0,0,IF(I17-1<0,4,I17-1))","v":4},{"$f":"IF(J17-1=0,0,IF(J17-1<0,4,J17-1))","v":2},{"$f":"IF(K17-1=0,0,IF(K17-1<0,4,K17-1))","v":0},{"$f":"IF(L17-1=0,0,IF(L17-1<0,4,L17-1))","v":1},{"$f":"IF(M17-1=0,0,IF(M17-1<0,4,M17-1))","v":4},{"$f":"IF(N17-1=0,0,IF(N17-1<0,4,N17-1))","v":1},{"$f":"IF(O17-1=0,0,IF(O17-1<0,3,O17-1))","v":1},{"$f":"IF(P17-1=0,0,IF(P17-1<0,4,P17-1))","v":0},{"$f":"IF(Q17-1=0,0,IF(Q17-1<0,4,Q17-1))","v":0},{"$f":"IF(R17-1=0,0,IF(R17-1<0,3,R17-1))","v":3},{"$f":"IF(S17-1=0,0,IF(S17-1<0,4,S17-1))","v":3},{"$f":"IF(T17-1=0,0,IF(T17-1<0,3,T17-1))","v":0},{"$f":"IF(U17-1=0,0,IF(U17-1<0,4,U17-1))","v":1},{"$f":"IF(V17-1=0,0,IF(V17-1<0,3,V17-1))","v":3},{"$f":"IF(W17-1=0,0,IF(W17-1<0,4,W17-1))","v":4},{"$f":"IF(X17-1=0,0,IF(X17-1<0,3,X17-1))","v":3},{"$f":"IF(Y17-1=0,0,IF(Y17-1<0,4,Y17-1))","v":1},{"$f":"IF(Z17-1=0,0,IF(Z17-1<0,4,Z17-1))","v":0}]
[19,{"$f":"IF(B18-1=0,0,IF(B18-1<0,4,B18-1))","v":4},{"$f":"IF(C18-1=0,0,IF(C18-1<0,4,C18-1))","v":4},{"$f":"IF(D18-1=0,0,IF(D18-1<0,4,D18-1))","v":1},{"$f":"IF(E18-1=0,0,IF(E18-1<0,4,E18-1))","v":2},{"$f":"IF(F18-1=0,0,IF(F18-1<0,4,F18-1))","v":0},{"$f":"IF(G18-1=0,0,IF(G18-1<0,3,G18-1))","v":1},{"$f":"IF(H18-1=0,0,IF(H18-1<0,4,H18-1))","v":3},{"$f":"IF(I18-1=0,0,IF(I18-1<0,4,I18-1))","v":3},{"$f":"IF(J18-1=0,0,IF(J18-1<0,4,J18-1))","v":1},{"$f":"IF(K18-1=0,0,IF(K18-1<0,4,K18-1))","v":4},{"$f":"IF(L18-1=0,0,IF(L18-1<0,4,L18-1))","v":0},{"$f":"IF(M18-1=0,0,IF(M18-1<0,4,M18-1))","v":3},{"$f":"IF(N18-1=0,0,IF(N18-1<0,4,N18-1))","v":0},{"$f":"IF(O18-1=0,0,IF(O18-1<0,3,O18-1))","v":0},{"$f":"IF(P18-1=0,0,IF(P18-1<0,4,P18-1))","v":4},{"$f":"IF(Q18-1=0,0,IF(Q18-1<0,4,Q18-1))","v":4},{"$f":"IF(R18-1=0,0,IF(R18-1<0,3,R18-1))","v":2},{"$f":"IF(S18-1=0,0,IF(S18-1<0,4,S18-1))","v":2},{"$f":"IF(T18-1=0,0,IF(T18-1<0,3,T18-1))","v":3},{"$f":"IF(U18-1=0,0,IF(U18-1<0,6,U18-1))","v":0},{"$f":"IF(V18-1=0,0,IF(V18-1<0,3,V18-1))","v":2},{"$f":"IF(W18-1=0,0,IF(W18-1<0,4,W18-1))","v":3},{"$f":"IF(X18-1=0,0,IF(X18-1<0,3,X18-1))","v":2},{"$f":"IF(Y18-1=0,0,IF(Y18-1<0,4,Y18-1))","v":0},{"$f":"IF(Z18-1=0,0,IF(Z18-1<0,4,Z18-1))","v":4}]
[20,{"$f":"IF(B19-1=0,0,IF(B19-1<0,4,B19-1))","v":3},{"$f":"IF(C19-1=0,0,IF(C19-1<0,4,C19-1))","v":3},{"$f":"IF(D19-1=0,0,IF(D19-1<0,4,D19-1))","v":0},{"$f":"IF(E19-1=0,0,IF(E19-1<0,4,E19-1))","v":1},{"$f":"IF(F19-1=0,0,IF(F19-1<0,4,F19-1))","v":4},{"$f":"IF(G19-1=0,0,IF(G19-1<0,6,G19-1))","v":0},{"$f":"IF(H19-1=0,0,IF(H19-1<0,4,H19-1))","v":2},{"$f":"IF(I19-1=0,0,IF(I19-1<0,4,I19-1))","v":2},{"$f":"IF(J19-1=0,0,IF(J19-1<0,4,J19-1))","v":0},{"$f":"IF(K19-1=0,0,IF(K19-1<0,4,K19-1))","v":3},{"$f":"IF(L19-1=0,0,IF(L19-1<0,4,L19-1))","v":4},{"$f":"IF(M19-1=0,0,IF(M19-1<0,4,M19-1))","v":2},{"$f":"IF(N19-1=0,0,IF(N19-1<0,4,N19-1))","v":4},{"$f":"IF(O19-1=0,0,IF(O19-1<0,3,O19-1))","v":3},{"$f":"IF(P19-1=0,0,IF(P19-1<0,4,P19-1))","v":3},{"$f":"IF(Q19-1=0,0,IF(Q19-1<0,4,Q19-1))","v":3},{"$f":"IF(R19-1=0,0,IF(R19-1<0,3,R19-1))","v":1},{"$f":"IF(S19-1=0,0,IF(S19-1<0,4,S19-1))","v":1},{"$f":"IF(T19-1=0,0,IF(T19-1<0,3,T19-1))","v":2},{"$f":"IF(U19-1=0,0,IF(U19-1<0,4,U19-1))","v":4},{"$f":"IF(V19-1=0,0,IF(V19-1<0,3,V19-1))","v":1},{"$f":"IF(W19-1=0,0,IF(W19-1<0,4,W19-1))","v":2},{"$f":"IF(X19-1=0,0,IF(X19-1<0,3,X19-1))","v":1},{"$f":"IF(Y19-1=0,0,IF(Y19-1<0,4,Y19-1))","v":4},{"$f":"IF(Z19-1=0,0,IF(Z19-1<0,4,Z19-1))","v":3}]
[21,{"$f":"IF(B20-1=0,0,IF(B20-1<0,4,B20-1))","v":2},{"$f":"IF(C20-1=0,0,IF(C20-1<0,4,C20-1))","v":2},{"$f":"IF(D20-1=0,0,IF(D20-1<0,4,D20-1))","v":4},{"$f":"IF(E20-1=0,0,IF(E20-1<0,4,E20-1))","v":0},{"$f":"IF(F20-1=0,0,IF(F20-1<0,4,F20-1))","v":3},{"$f":"IF(G20-1=0,0,IF(G20-1<0,3,G20-1))","v":3},{"$f":"IF(H20-1=0,0,IF(H20-1<0,4,H20-1))","v":1},{"$f":"IF(I20-1=0,0,IF(I20-1<0,4,I20-1))","v":1},{"$f":"IF(J20-1=0,0,IF(J20-1<0,4,J20-1))","v":4},{"$f":"IF(K20-1=0,0,IF(K20-1<0,4,K20-1))","v":2},{"$f":"IF(L20-1=0,0,IF(L20-1<0,4,L20-1))","v":3},{"$f":"IF(M20-1=0,0,IF(M20-1<0,4,M20-1))","v":1},{"$f":"IF(N20-1=0,0,IF(N20-1<0,4,N20-1))","v":3},{"$f":"IF(O20-1=0,0,IF(O20-1<0,3,O20-1))","v":2},{"$f":"IF(P20-1=0,0,IF(P20-1<0,4,P20-1))","v":2},{"$f":"IF(Q20-1=0,0,IF(Q20-1<0,4,Q20-1))","v":2},{"$f":"IF(R20-1=0,0,IF(R20-1<0,3,R20-1))","v":0},{"$f":"IF(S20-1=0,0,IF(S20-1<0,4,S20-1))","v":0},{"$f":"IF(T20-1=0,0,IF(T20-1<0,3,T20-1))","v":1},{"$f":"IF(U20-1=0,0,IF(U20-1<0,4,U20-1))","v":3},{"$f":"IF(V20-1=0,0,IF(V20-1<0,3,V20-1))","v":0},{"$f":"IF(W20-1=0,0,IF(W20-1<0,4,W20-1))","v":1},{"$f":"IF(X20-1=0,0,IF(X20-1<0,3,X20-1))","v":0},{"$f":"IF(Y20-1=0,0,IF(Y20-1<0,4,Y20-1))","v":3},{"$f":"IF(Z20-1=0,0,IF(Z20-1<0,4,Z20-1))","v":2}]
[22,{"$f":"IF(B21-1=0,0,IF(B21-1<0,4,B21-1))","v":1},{"$f":"IF(C21-1=0,0,IF(C21-1<0,4,C21-1))","v":1},{"$f":"IF(D21-1=0,0,IF(D21-1<0,4,D21-1))","v":3},{"$f":"IF(E21-1=0,0,IF(E21-1<0,4,E21-1))","v":4},{"$f":"IF(F21-1=0,0,IF(F21-1<0,4,F21-1))","v":2},{"$f":"IF(G21-1=0,0,IF(G21-1<0,3,G21-1))","v":2},{"$f":"IF(H21-1=0,0,IF(H21-1<0,4,H21-1))","v":0},{"$f":"IF(I21-1=0,0,IF(I21-1<0,4,I21-1))","v":0},{"$f":"IF(J21-1=0,0,IF(J21-1<0,4,J21-1))","v":3},{"$f":"IF(K21-1=0,0,IF(K21-1<0,4,K21-1))","v":1},{"$f":"IF(L21-1=0,0,IF(L21-1<0,4,L21-1))","v":2},{"$f":"IF(M21-1=0,0,IF(M21-1<0,4,M21-1))","v":0},{"$f":"IF(N21-1=0,0,IF(N21-1<0,0,N21-1))","v":2},{"$f":"IF(O21-1=0,0,IF(O21-1<0,3,O21-1))","v":1},{"$f":"IF(P21-1=0,0,IF(P21-1<0,4,P21-1))","v":1},{"$f":"IF(Q21-1=0,0,IF(Q21-1<0,4,Q21-1))","v":1},{"$f":"IF(R21-1=0,0,IF(R21-1<0,3,R21-1))","v":3},{"$f":"IF(S21-1=0,0,IF(S21-1<0,4,S21-1))","v":4},{"$f":"IF(T21-1=0,0,IF(T21-1<0,3,T21-1))","v":0},{"$f":"IF(U21-1=0,0,IF(U21-1<0,4,U21-1))","v":2},{"$f":"IF(V21-1=0,0,IF(V21-1<0,3,V21-1))","v":3},{"$f":"IF(W21-1=0,0,IF(W21-1<0,4,W21-1))","v":0},{"$f":"IF(X21-1=0,0,IF(X21-1<0,3,X21-1))","v":3},{"$f":"IF(Y21-1=0,0,IF(Y21-1<0,4,Y21-1))","v":2},{"$f":"IF(Z21-1=0,0,IF(Z21-1<0,4,Z21-1))","v":1}]
[23,{"$f":"IF(B22-1=0,0,IF(B22-1<0,4,B22-1))","v":0},{"$f":"IF(C22-1=0,0,IF(C22-1<0,4,C22-1))","v":0},{"$f":"IF(D22-1=0,0,IF(D22-1<0,4,D22-1))","v":2},{"$f":"IF(E22-1=0,0,IF(E22-1<0,4,E22-1))","v":3},{"$f":"IF(F22-1=0,0,IF(F22-1<0,4,F22-1))","v":1},{"$f":"IF(G22-1=0,0,IF(G22-1<0,3,G22-1))","v":1},{"$f":"IF(H22-1=0,0,IF(H22-1<0,4,H22-1))","v":4},{"$f":"IF(I22-1=0,0,IF(I22-1<0,4,I22-1))","v":4},{"$f":"IF(J22-1=0,0,IF(J22-1<0,4,J22-1))","v":2},{"$f":"IF(K22-1=0,0,IF(K22-1<0,4,K22-1))","v":0},{"$f":"IF(L22-1=0,0,IF(L22-1<0,4,L22-1))","v":1},{"$f":"IF(M22-1=0,0,IF(M22-1<0,4,M22-1))","v":4},{"$f":"IF(N22-1=0,0,IF(N22-1<0,4,N22-1))","v":1},{"$f":"IF(O22-1=0,0,IF(O22-1<0,3,O22-1))","v":0},{"$f":"IF(P22-1=0,0,IF(P22-1<0,4,P22-1))","v":0},{"$f":"IF(Q22-1=0,0,IF(Q22-1<0,4,Q22-1))","v":0},{"$f":"IF(R22-1=0,0,IF(R22-1<0,3,R22-1))","v":2},{"$f":"IF(S22-1=0,0,IF(S22-1<0,4,S22-1))","v":3},{"$f":"IF(T22-1=0,0,IF(T22-1<0,3,T22-1))","v":3},{"$f":"IF(U22-1=0,0,IF(U22-1<0,4,U22-1))","v":1},{"$f":"IF(V22-1=0,0,IF(V22-1<0,3,V22-1))","v":2},{"$f":"IF(W22-1=0,0,IF(W22-1<0,4,W22-1))","v":4},{"$f":"IF(X22-1=0,0,IF(X22-1<0,3,X22-1))","v":2},{"$f":"IF(Y22-1=0,0,IF(Y22-1<0,4,Y22-1))","v":1},{"$f":"IF(Z22-1=0,0,IF(Z22-1<0,4,Z22-1))","v":0}]
[24,{"$f":"IF(B23-1=0,0,IF(B23-1<0,4,B23-1))","v":4},{"$f":"IF(C23-1=0,0,IF(C23-1<0,4,C23-1))","v":4},{"$f":"IF(D23-1=0,0,IF(D23-1<0,4,D23-1))","v":1},{"$f":"IF(E23-1=0,0,IF(E23-1<0,4,E23-1))","v":2},{"$f":"IF(F23-1=0,0,IF(F23-1<0,4,F23-1))","v":0},{"$f":"IF(G23-1=0,0,IF(G23-1<0,3,G23-1))","v":0},{"$f":"IF(H23-1=0,0,IF(H23-1<0,4,H23-1))","v":3},{"$f":"IF(I23-1=0,0,IF(I23-1<0,4,I23-1))","v":3},{"$f":"IF(J23-1=0,0,IF(J23-1<0,4,J23-1))","v":1},{"$f":"IF(K23-1=0,0,IF(K23-1<0,4,K23-1))","v":4},{"$f":"IF(L23-1=0,0,IF(L23-1<0,4,L23-1))","v":0},{"$f":"IF(M23-1=0,0,IF(M23-1<0,4,M23-1))","v":3},{"$f":"IF(N23-1=0,0,IF(N23-1<0,4,N23-1))","v":0},{"$f":"IF(O23-1=0,0,IF(O23-1<0,3,O23-1))","v":3},{"$f":"IF(P23-1=0,0,IF(P23-1<0,4,P23-1))","v":4},{"$f":"IF(Q23-1=0,0,IF(Q23-1<0,4,Q23-1))","v":4},{"$f":"IF(R23-1=0,0,IF(R23-1<0,3,R23-1))","v":1},{"$f":"IF(S23-1=0,0,IF(S23-1<0,4,S23-1))","v":2},{"$f":"IF(T23-1=0,0,IF(T23-1<0,3,T23-1))","v":2},{"$f":"IF(U23-1=0,0,IF(U23-1<0,4,U23-1))","v":0},{"$f":"IF(V23-1=0,0,IF(V23-1<0,3,V23-1))","v":1},{"$f":"IF(W23-1=0,0,IF(W23-1<0,4,W23-1))","v":3},{"$f":"IF(X23-1=0,0,IF(X23-1<0,3,X23-1))","v":1},{"$f":"IF(Y23-1=0,0,IF(Y23-1<0,4,Y23-1))","v":0},{"$f":"IF(Z23-1=0,0,IF(Z23-1<0,4,Z23-1))","v":4}]
[25,{"$f":"IF(B24-1=0,0,IF(B24-1<0,4,B24-1))","v":3},{"$f":"IF(C24-1=0,0,IF(C24-1<0,4,C24-1))","v":3},{"$f":"IF(D24-1=0,0,IF(D24-1<0,4,D24-1))","v":0},{"$f":"IF(E24-1=0,0,IF(E24-1<0,4,E24-1))","v":1},{"$f":"IF(F24-1=0,0,IF(F24-1<0,4,F24-1))","v":4},{"$f":"IF(G24-1=0,0,IF(G24-1<0,3,G24-1))","v":3},{"$f":"IF(H24-1=0,0,IF(H24-1<0,4,H24-1))","v":2},{"$f":"IF(I24-1=0,0,IF(I24-1<0,4,I24-1))","v":2},{"$f":"IF(J24-1=0,0,IF(J24-1<0,4,J24-1))","v":0},{"$f":"IF(K24-1=0,0,IF(K24-1<0,4,K24-1))","v":3},{"$f":"IF(L24-1=0,0,IF(L24-1<0,4,L24-1))","v":4},{"$f":"IF(M24-1=0,0,IF(M24-1<0,4,M24-1))","v":2},{"$f":"IF(N24-1=0,0,IF(N24-1<0,4,N24-1))","v":4},{"$f":"IF(O24-1=0,0,IF(O24-1<0,3,O24-1))","v":2},{"$f":"IF(P24-1=0,0,IF(P24-1<0,4,P24-1))","v":3},{"$f":"IF(Q24-1=0,0,IF(Q24-1<0,4,Q24-1))","v":3},{"$f":"IF(R24-1=0,0,IF(R24-1<0,3,R24-1))","v":0},{"$f":"IF(S24-1=0,0,IF(S24-1<0,4,S24-1))","v":1},{"$f":"IF(T24-1=0,0,IF(T24-1<0,3,T24-1))","v":1},{"$f":"IF(U24-1=0,0,IF(U24-1<0,4,U24-1))","v":4},{"$f":"IF(V24-1=0,0,IF(V24-1<0,3,V24-1))","v":0},{"$f":"IF(W24-1=0,0,IF(W24-1<0,4,W24-1))","v":2},{"$f":"IF(X24-1=0,0,IF(X24-1<0,3,X24-1))","v":0},{"$f":"IF(Y24-1=0,0,IF(Y24-1<0,4,Y24-1))","v":4},{"$f":"IF(Z24-1=0,0,IF(Z24-1<0,4,Z24-1))","v":3}]
[26,{"$f":"IF(B25-1=0,0,IF(B25-1<0,4,B25-1))","v":2},{"$f":"IF(C25-1=0,0,IF(C25-1<0,4,C25-1))","v":2},{"$f":"IF(D25-1=0,0,IF(D25-1<0,4,D25-1))","v":4},{"$f":"IF(E25-1=0,0,IF(E25-1<0,4,E25-1))","v":0},{"$f":"IF(F25-1=0,0,IF(F25-1<0,4,F25-1))","v":3},{"$f":"IF(G25-1=0,0,IF(G25-1<0,3,G25-1))","v":2},{"$f":"IF(H25-1=0,0,IF(H25-1<0,4,H25-1))","v":1},{"$f":"IF(I25-1=0,0,IF(I25-1<0,4,I25-1))","v":1},{"$f":"IF(J25-1=0,0,IF(J25-1<0,4,J25-1))","v":4},{"$f":"IF(K25-1=0,0,IF(K25-1<0,4,K25-1))","v":2},{"$f":"IF(L25-1=0,0,IF(L25-1<0,4,L25-1))","v":3},{"$f":"IF(M25-1=0,0,IF(M25-1<0,4,M25-1))","v":1},{"$f":"IF(N25-1=0,0,IF(N25-1<0,4,N25-1))","v":3},{"$f":"IF(O25-1=0,0,IF(O25-1<0,3,O25-1))","v":1},{"$f":"IF(P25-1=0,0,IF(P25-1<0,4,P25-1))","v":2},{"$f":"IF(Q25-1=0,0,IF(Q25-1<0,4,Q25-1))","v":2},{"$f":"IF(R25-1=0,0,IF(R25-1<0,3,R25-1))","v":3},{"$f":"IF(S25-1=0,0,IF(S25-1<0,4,S25-1))","v":0},{"$f":"IF(T25-1=0,0,IF(T25-1<0,3,T25-1))","v":0},{"$f":"IF(U25-1=0,0,IF(U25-1<0,4,U25-1))","v":3},{"$f":"IF(V25-1=0,0,IF(V25-1<0,3,V25-1))","v":3},{"$f":"IF(W25-1=0,0,IF(W25-1<0,4,W25-1))","v":1},{"$f":"IF(X25-1=0,0,IF(X25-1<0,3,X25-1))","v":3},{"$f":"IF(Y25-1=0,0,IF(Y25-1<0,4,Y25-1))","v":3},{"$f":"IF(Z25-1=0,0,IF(Z25-1<0,4,Z25-1))","v":2}]
[]
[]
[]
[]
[1,2,3,4,5,6,7,8,9,10,11,12,13,14,15,16,17,18,19,20,21,22,23,24,25,26]
[2,{"$f":"Game!B2","v":"☻"},{"$f":"Game!C2","v":"☻"},{"$f":"Game!D2","v":"☻"},{"$f":"Game!E2","v":"☻"},{"$f":"Game!F2","v":"☻"},{"$f":"Game!G2","v":"☻"},{"$f":"Game!H2","v":"☻"},{"$f":"Game!I2","v":"☻"},{"$f":"Game!J2","v":"☻"},{"$f":"Game!K2","v":"☻"},{"$f":"Game!L2","v":"☻"},{"$f":"Game!M2","v":"☻"},{"$f":"Game!N2","v":"☻"},{"$f":"Game!O2","v":"☻"},{"$f":"Game!P2","v":"☻"},{"$f":"Game!Q2","v":"☻"},{"$f":"Game!R2","v":"☻"},{"$f":"Game!S2","v":"☻"},{"$f":"Game!T2","v":"☻"},{"$f":"Game!U2","v":"☻"},{"$f":"Game!V2","v":"☻"},{"$f":"Game!W2","v":"☻"},{"$f":"Game!X2","v":"☻"},{"$f":"Game!Y2","v":"☻"},{"$f":"Game!Z2","v":"☻"}]
[3,{"$f":"Game!B3","v":"☻"},{"$f":"Game!C3","v":"☻"},{"$f":"Game!D3","v":"☻"},{"$f":"Game!E3","v":"☻"},{"$f":"Game!F3","v":"☻"},{"$f":"Game!G3","v":"☻"},{"$f":"Game!H3","v":"☻"},{"$f":"Game!I3","v":"☻"},{"$f":"Game!J3","v":"☻"},{"$f":"Game!K3","v":"☻"},{"$f":"Game!L3","v":"☻"},{"$f":"Game!M3","v":"☻"},{"$f":"Game!N3","v":"☻"},{"$f":"Game!O3","v":"☻"},{"$f":"Game!P3","v":"☻"},{"$f":"Game!Q3","v":"☻"},{"$f":"Game!R3","v":"☻"},{"$f":"Game!S3","v":"☻"},{"$f":"Game!T3","v":"☻"},{"$f":"Game!U3","v":"☻"},{"$f":"Game!V3","v":"☻"},{"$f":"Game!W3","v":"☻"},{"$f":"Game!X3","v":"☻"},{"$f":"Game!Y3","v":"☻"},{"$f":"Game!Z3","v":"☻"}]
[4,{"$f":"Game!B4","v":"☻"},{"$f":"Game!C4","v":"☻"},{"$f":"Game!D4","v":"☻"},{"$f":"Game!E4","v":"☻"},{"$f":"Game!F4","v":"☻"},{"$f":"Game!G4","v":"☻"},{"$f":"Game!H4","v":"☻"},{"$f":"Game!I4","v":"☻"},{"$f":"Game!J4","v":"☻"},{"$f":"Game!K4","v":"☻"},{"$f":"Game!L4","v":"☻"},{"$f":"Game!M4","v":"☻"},{"$f":"Game!N4","v":"☻"},{"$f":"Game!O4","v":"☻"},{"$f":"Game!P4","v":"☻"},{"$f":"Game!Q4","v":"☻"},{"$f":"Game!R4","v":"☻"},{"$f":"Game!S4","v":"☻"},{"$f":"Game!T4","v":"☻"},{"$f":"Game!U4","v":"☻"},{"$f":"Game!V4","v":"☻"},{"$f":"Game!W4","v":"☻"},{"$f":"Game!X4","v":"☻"},{"$f":"Game!Y4","v":"☻"},{"$f":"Game!Z4","v":"☻"}]
[5,{"$f":"Game!B5","v":"☻"},{"$f":"Game!C5","v":"☻"},{"$f":"Game!D5","v":"☻"},{"$f":"Game!E5","v":"☻"},{"$f":"Game!F5","v":"☻"},{"$f":"Game!G5","v":"☻"},{"$f":"Game!H5","v":"☻"},{"$f":"Game!I5","v":"☻"},{"$f":"Game!J5","v":"☻"},{"$f":"Game!K5","v":"☻"},{"$f":"Game!L5","v":"☻"},{"$f":"Game!M5","v":"☻"},{"$f":"Game!N5","v":"☻"},{"$f":"Game!O5","v":"☻"},{"$f":"Game!P5","v":"☻"},{"$f":"Game!Q5","v":"☻"},{"$f":"Game!R5","v":"☻"},{"$f":"Game!S5","v":"☻"},{"$f":"Game!T5","v":"☻"},{"$f":"Game!U5","v":"☻"},{"$f":"Game!V5","v":"☻"},{"$f":"Game!W5","v":"☻"},{"$f":"Game!X5","v":"☻"},{"$f":"Game!Y5","v":"☻"},{"$f":"Game!Z5","v":"☻"}]
[6,{"$f":"Game!B6","v":"☻"},{"$f":"Game!C6","v":"☻"},{"$f":"Game!D6","v":"☻"},{"$f":"Game!E6","v":"☻"},{"$f":"Game!F6","v":"☻"},{"$f":"Game!G6","v":"☻"},{"$f":"Game!H6","v":"☻"},{"$f":"Game!I6","v":"☻"},{"$f":"Game!J6","v":"☻"},{"$f":"Game!K6","v":"☻"},{"$f":"Game!L6","v":"☻"},{"$f":"Game!M6","v":"☻"},{"$f":"Game!N6","v":"☻"},{"$f":"Game!O6","v":"☻"},{"$f":"Game!P6","v":"☻"},{"$f":"Game!Q6","v":"☻"},{"$f":"Game!R6","v":"☻"},{"$f":"Game!S6","v":"☻"},{"$f":"Game!T6","v":"☻"},{"$f":"Game!U6","v":"☻"},{"$f":"Game!V6","v":"☻"},{"$f":"Game!W6","v":"☻"},{"$f":"Game!X6","v":"☻"},{"$f":"Game!Y6","v":"☻"},{"$f":"Game!Z6","v":"☻"}]
[7,{"$f":"Game!B7","v":"☻"},{"$f":"Game!C7","v":"☻"},{"$f":"Game!D7","v":"☻"},{"$f":"Game!E7","v":"☻"},{"$f":"Game!F7","v":"☻"},{"$f":"Game!G7","v":"☻"},{"$f":"Game!H7","v":"☻"},{"$f":"Game!I7","v":"☻"},{"$f":"Game!J7","v":"☻"},{"$f":"Game!K7","v":"☻"},{"$f":"Game!L7","v":"☻"},{"$f":"Game!M7","v":"☻"},{"$f":"Game!N7","v":"☻"},{"$f":"Game!O7","v":"☻"},{"$f":"Game!P7","v":"☻"},{"$f":"Game!Q7","v":"☻"},{"$f":"Game!R7","v":"☻"},{"$f":"Game!S7","v":"☻"},{"$f":"Game!T7","v":"☻"},{"$f":"Game!U7","v":"☻"},{"$f":"Game!V7","v":"☻"},{"$f":"Game!W7","v":"☻"},{"$f":"Game!X7","v":"☻"},{"$f":"Game!Y7","v":"☻"},{"$f":"Game!Z7","v":"☻"}]
[8,{"$f":"Game!B8","v":"☻"},{"$f":"Game!C8","v":"☻"},{"$f":"Game!D8","v":"☻"},{"$f":"Game!E8","v":"☻"},{"$f":"Game!F8","v":"☻"},{"$f":"Game!G8","v":"☻"},{"$f":"Game!H8","v":"☻"},{"$f":"Game!I8","v":"☻"},{"$f":"Game!J8","v":"☻"},{"$f":"Game!K8","v":"☻"},{"$f":"Game!L8","v":"☻"},{"$f":"Game!M8","v":"☻"},{"$f":"Game!N8","v":"☻"},{"$f":"Game!O8","v":"☻"},{"$f":"Game!P8","v":"☻"},{"$f":"Game!Q8","v":"☻"},{"$f":"Game!R8","v":"☻"},{"$f":"Game!S8","v":"☻"},{"$f":"Game!T8","v":"☻"},{"$f":"Game!U8","v":"☻"},{"$f":"Game!V8","v":"☻"},{"$f":"Game!W8","v":"☻"},{"$f":"Game!X8","v":"☻"},{"$f":"Game!Y8","v":"☻"},{"$f":"Game!Z8","v":"☻"}]
[9,{"$f":"Game!B9","v":"☻"},{"$f":"Game!C9","v":"☻"},{"$f":"Game!D9","v":"☻"},{"$f":"Game!E9","v":"☻"},{"$f":"Game!F9","v":"☻"},{"$f":"Game!G9","v":"☻"},{"$f":"Game!H9","v":"☻"},{"$f":"Game!I9","v":"☻"},{"$f":"Game!J9","v":"☻"},{"$f":"Game!K9","v":"☻"},{"$f":"Game!L9","v":"☻"},{"$f":"Game!M9","v":"☻"},{"$f":"Game!N9","v":"☻"},{"$f":"Game!O9","v":"☻"},{"$f":"Game!P9","v":"☻"},{"$f":"Game!Q9","v":"☻"},{"$f":"Game!R9","v":"☻"},{"$f":"Game!S9","v":"☻"},{"$f":"Game!T9","v":"☻"},{"$f":"Game!U9","v":"☻"},{"$f":"Game!V9","v":"☻"},{"$f":"Game!W9","v":"☻"},{"$f":"Game!X9","v":"☻"},{"$f":"Game!Y9","v":"☻"},{"$f":"Game!Z9","v":"☻"}]
[10,{"$f":"Game!B10","v":"☻"},{"$f":"Game!C10","v":"☻"},{"$f":"Game!D10","v":"☻"},{"$f":"Game!E10","v":"☻"},{"$f":"Game!F10","v":"☻"},{"$f":"Game!G10","v":"☻"},{"$f":"Game!H10","v":"☻"},{"$f":"Game!I10","v":"☻"},{"$f":"Game!J10","v":"☻"},{"$f":"Game!K10","v":"☻"},{"$f":"Game!L10","v":"☻"},{"$f":"Game!M10","v":"☻"},{"$f":"Game!N10","v":"☻"},{"$f":"Game!O10","v":"☻"},{"$f":"Game!P10","v":"☻"},{"$f":"Game!Q10","v":"☻"},{"$f":"Game!R10","v":"☻"},{"$f":"Game!S10","v":"☻"},{"$f":"Game!T10","v":"☻"},{"$f":"Game!U10","v":"☻"},{"$f":"Game!V10","v":"☻"},{"$f":"Game!W10","v":"☻"},{"$f":"Game!X10","v":"☻"},{"$f":"Game!Y10","v":"☻"},{"$f":"Game!Z10","v":"☻"}]
[11,{"$f":"Game!B11","v":"☻"},{"$f":"Game!C11","v":"☻"},{"$f":"Game!D11","v":"☻"},{"$f":"Game!E11","v":"☻"},{"$f":"Game!F11","v":"☻"},{"$f":"Game!G11","v":"☻"},{"$f":"Game!H11","v":"☻"},{"$f":"Game!I11","v":"☻"},{"$f":"Game!J11","v":"☻"},{"$f":"Game!K11","v":"☻"},{"$f":"Game!L11","v":"☻"},{"$f":"Game!M11","v":"☻"},{"$f":"Game!N11","v":"☻"},{"$f":"Game!O11","v":"☻"},{"$f":"Game!P11","v":"☻"},{"$f":"Game!Q11","v":"☻"},{"$f":"Game!R11","v":"☻"},{"$f":"Game!S11","v":"☻"},{"$f":"Game!T11","v":"☻"},{"$f":"Game!U11","v":"☻"},{"$f":"Game!V11","v":"☻"},{"$f":"Game!W11","v":"☻"},{"$f":"Game!X11","v":"☻"},{"$f":"Game!Y11","v":"☻"},{"$f":"Game!Z11","v":"☻"}]
[12,{"$f":"Game!B12","v":"☻"},{"$f":"Game!C12","v":"☻"},{"$f":"Game!D12","v":"☻"},{"$f":"Game!E12","v":"☻"},{"$f":"Game!F12","v":"☻"},{"$f":"Game!G12","v":"☻"},{"$f":"Game!H12","v":"☻"},{"$f":"Game!I12","v":"☻"},{"$f":"Game!J12","v":"☻"},{"$f":"Game!K12","v":"☻"},{"$f":"Game!L12","v":"☻"},{"$f":"Game!M12","v":"☻"},{"$f":"Game!N12","v":"☻"},{"$f":"Game!O12","v":"☻"},{"$f":"Game!P12","v":"☻"},{"$f":"Game!Q12","v":"☻"},{"$f":"Game!R12","v":"☻"},{"$f":"Game!S12","v":"☻"},{"$f":"Game!T12","v":"☻"},{"$f":"Game!U12","v":"☻"},{"$f":"Game!V12","v":"☻"},{"$f":"Game!W12","v":"☻"},{"$f":"Game!X12","v":"☻"},{"$f":"Game!Y12","v":"☻"},{"$f":"Game!Z12","v":"☻"}]
[13,{"$f":"Game!B13","v":"☻"},{"$f":"Game!C13","v":"☻"},{"$f":"Game!D13","v":"☻"},{"$f":"Game!E13","v":"☻"},{"$f":"Game!F13","v":"☻"},{"$f":"Game!G13","v":"☻"},{"$f":"Game!H13","v":"☻"},{"$f":"Game!I13","v":"☻"},{"$f":"Game!J13","v":"☻"},{"$f":"Game!K13","v":"☻"},{"$f":"Game!L13","v":"☻"},{"$f":"Game!M13","v":"☻"},{"$f":"Game!N13","v":"☻"},{"$f":"Game!O13","v":"☻"},{"$f":"Game!P13","v":"☻"},{"$f":"Game!Q13","v":"☻"},{"$f":"Game!R13","v":"☻"},{"$f":"Game!S13","v":"☻"},{"$f":"Game!T13","v":"☻"},{"$f":"Game!U13","v":"☻"},{"$f":"Game!V13","v":"☻"},{"$f":"Game!W13","v":"☻"},{"$f":"Game!X13","v":"☻"},{"$f":"Game!Y13","v":"☻"},{"$f":"Game!Z13","v":"☻"}]
[14,{"$f":"Game!B14","v":"☻"},{"$f":"Game!C14","v":"☻"},{"$f":"Game!D14","v":"☻"},{"$f":"Game!E14","v":"☻"},{"$f":"Game!F14","v":"☻"},{"$f":"Game!G14","v":"☻"},{"$f":"Game!H14","v":"☻"},{"$f":"Game!I14","v":"☻"},{"$f":"Game!J14","v":"☻"},{"$f":"Game!K14","v":"☻"},{"$f":"Game!L14","v":"☻"},{"$f":"Game!M14","v":"☻"},{"$f":"Game!N14","v":"☻"},{"$f":"Game!O14","v":"☻"},{"$f":"Game!P14","v":"☻"},{"$f":"Game!Q14","v":"☻"},{"$f":"Game!R14","v":"☻"},{"$f":"Game!S14","v":"☻"},{"$f":"Game!T14","v":"☻"},{"$f":"Game!U14","v":"☻"},{"$f":"Game!V14","v":"☻"},{"$f":"Game!W14","v":"☻"},{"$f":"Game!X14","v":"☻"},{"$f":"Game!Y14","v":"☻"},{"$f":"Game!Z14","v":"☻"}]
[15,{"$f":"Game!B15","v":"☻"},{"$f":"Game!C15","v":"☻"},{"$f":"Game!D15","v":"☻"},{"$f":"Game!E15","v":"☻"},{"$f":"Game!F15","v":"☻"},{"$f":"Game!G15","v":"☻"},{"$f":"Game!H15","v":"☻"},{"$f":"Game!I15","v":"☻"},{"$f":"Game!J15","v":"☻"},{"$f":"Game!K15","v":"☻"},{"$f":"Game!L15","v":"☻"},{"$f":"Game!M15","v":"☻"},{"$f":"Game!N15","v":"☻"},{"$f":"Game!O15","v":"☻"},{"$f":"Game!P15","v":"☻"},{"$f":"Game!Q15","v":"☻"},{"$f":"Game!R15","v":"☻"},{"$f":"Game!S15","v":"☻"},{"$f":"Game!T15","v":"☻"},{"$f":"Game!U15","v":"☻"},{"$f":"Game!V15","v":"☻"},{"$f":"Game!W15","v":"☻"},{"$f":"Game!X15","v":"☻"},{"$f":"Game!Y15","v":"☻"},{"$f":"Game!Z15","v":"☻"}]
[16,{"$f":"Game!B16","v":"☻"},{"$f":"Game!C16","v":"☻"},{"$f":"Game!D16","v":"☻"},{"$f":"Game!E16","v":"☻"},{"$f":"Game!F16","v":"☻"},{"$f":"Game!G16","v":"☻"},{"$f":"Game!H16","v":"☻"},{"$f":"Game!I16","v":"☻"},{"$f":"Game!J16","v":"☻"},{"$f":"Game!K16","v":"☻"},{"$f":"Game!L16","v":"☻"},{"$f":"Game!M16","v":"☻"},{"$f":"Game!N16","v":"☻"},{"$f":"Game!O16","v":"☻"},{"$f":"Game!P16","v":"☻"},{"$f":"Game!Q16","v":"☻"},{"$f":"Game!R16","v":"☻"},{"$f":"Game!S16","v":"☻"},{"$f":"Game!T16","v":"☻"},{"$f":"Game!U16","v":"☻"},{"$f":"Game!V16","v":"☻"},{"$f":"Game!W16","v":"☻"},{"$f":"Game!X16","v":"☻"},{"$f":"Game!Y16","v":"☻"},{"$f":"Game!Z16","v":"☻"}]
[17,{"$f":"Game!B17","v":"☻"},{"$f":"Game!C17","v":"☻"},{"$f":"Game!D17","v":"☻"},{"$f":"Game!E17","v":"☻"},{"$f":"Game!F17","v":"☻"},{"$f":"Game!G17","v":"☻"},{"$f":"Game!H17","v":"☻"},{"$f":"Game!I17","v":"☻"},{"$f":"Game!J17","v":"☻"},{"$f":"Game!K17","v":"☻"},{"$f":"Game!L17","v":"☻"},{"$f":"Game!M17","v":"☻"},{"$f":"Game!N17","v":"☻"},{"$f":"Game!O17","v":"☻"},{"$f":"Game!P17","v":"☻"},{"$f":"Game!Q17","v":"☻"},{"$f":"Game!R17","v":"☻"},{"$f":"Game!S17","v":"☻"},{"$f":"Game!T17","v":"☻"},{"$f":"Game!U17","v":"☻"},{"$f":"Game!V17","v":"☻"},{"$f":"Game!W17","v":"☻"},{"$f":"Game!X17","v":"☻"},{"$f":"Game!Y17","v":"☻"},{"$f":"Game!Z17","v":"☻"}]
[18,{"$f":"Game!B18","v":"☻"},{"$f":"Game!C18","v":"☻"},{"$f":"Game!D18","v":"☻"},{"$f":"Game!E18","v":"☻"},{"$f":"Game!F18","v":"☻"},{"$f":"Game!G18","v":"☻"},{"$f":"Game!H18","v":"☻"},{"$f":"Game!I18","v":"☻"},{"$f":"Game!J18","v":"☻"},{"$f":"Game!K18","v":"☻"},{"$f":"Game!L18","v":"☻"},{"$f":"Game!M18","v":"☻"},{"$f":"Game!N18","v":"☻"},{"$f":"Game!O18","v":"☻"},{"$f":"Game!P18","v":"☻"},{"$f":"Game!Q18","v":"☻"},{"$f":"Game!R18","v":"☻"},{"$f":"Game!S18","v":"☻"},{"$f":"Game!T18","v":"☻"},{"$f":"Game!U18","v":"☻"},{"$f":"Game!V18","v":"☻"},{"$f":"Game!W18","v":"☻"},{"$f":"Game!X18","v":"☻"},{"$f":"Game!Y18","v":"☻"},{"$f":"Game!Z18","v":"☻"}]
[19,{"$f":"Game!B19","v":"☻"},{"$f":"Game!C19","v":"☻"},{"$f":"Game!D19","v":"☻"},{"$f":"Game!E19","v":"☻"},{"$f":"Game!F19","v":"☻"},{"$f":"Game!G19","v":"☻"},{"$f":"Game!H19","v":"☻"},{"$f":"Game!I19","v":"☻"},{"$f":"Game!J19","v":"☻"},{"$f":"Game!K19","v":"☻"},{"$f":"Game!L19","v":"☻"},{"$f":"Game!M19","v":"☻"},{"$f":"Game!N19","v":"☻"},{"$f":"Game!O19","v":"☻"},{"$f":"Game!P19","v":"☻"},{"$f":"Game!Q19","v":"☻"},{"$f":"Game!R19","v":"☻"},{"$f":"Game!S19","v":"☻"},{"$f":"Game!T19","v":"☻"},{"$f":"Game!U19","v":"☻"},{"$f":"Game!V19","v":"☻"},{"$f":"Game!W19","v":"☻"},{"$f":"Game!X19","v":"☻"},{"$f":"Game!Y19","v":"☻"},{"$f":"Game!Z19","v":"☻"}]
[20,{"$f":"Game!B20","v":"☻"},{"$f":"Game!C20","v":"☻"},{"$f":"Game!D20","v":"☻"},{"$f":"Game!E20","v":"☻"},{"$f":"Game!F20","v":"☻"},{"$f":"Game!G20","v":"☻"},{"$f":"Game!H20","v":"☻"},{"$f":"Game!I20","v":"☻"},{"$f":"Game!J20","v":"☻"},{"$f":"Game!K20","v":"☻"},{"$f":"Game!L20","v":"☻"},{"$f":"Game!M20","v":"☻"},{"$f":"Game!N20","v":"☻"},{"$f":"Game!O20","v":"☻"},{"$f":"Game!P20","v":"☻"},{"$f":"Game!Q20","v":"☻"},{"$f":"Game!R20","v":"☻"},{"$f":"Game!S20","v":"☻"},{"$f":"Game!T20","v":"☻"},{"$f":"Game!U20","v":"☻"},{"$f":"Game!V20","v":"☻"},{"$f":"Game!W20","v":"☻"},{"$f":"Game!X20","v":"☻"},{"$f":"Game!Y20","v":"☻"},{"$f":"Game!Z20","v":"☻"}]
[21,{"$f":"Game!B21","v":"☻"},{"$f":"Game!C21","v":"☻"},{"$f":"Game!D21","v":"☻"},{"$f":"Game!E21","v":"☻"},{"$f":"Game!F21","v":"☻"},{"$f":"Game!G21","v":"☻"},{"$f":"Game!H21","v":"☻"},{"$f":"Game!I21","v":"☻"},{"$f":"Game!J21","v":"☻"},{"$f":"Game!K21","v":"☻"},{"$f":"Game!L21","v":"☻"},{"$f":"Game!M21","v":"☻"},{"$f":"Game!N21","v":"☻"},{"$f":"Game!O21","v":"☻"},{"$f":"Game!P21","v":"☻"},{"$f":"Game!Q21","v":"☻"},{"$f":"Game!R21","v":"☻"},{"$f":"Game!S21","v":"☻"},{"$f":"Game!T21","v":"☻"},{"$f":"Game!U21","v":"☻"},{"$f":"Game!V21","v":"☻"},{"$f":"Game!W21","v":"☻"},{"$f":"Game!X21","v":"☻"},{"$f":"Game!Y21","v":"☻"},{"$f":"Game!Z21","v":"☻"}]
[22,{"$f":"Game!B22","v":"☻"},{"$f":"Game!C22","v":"☻"},{"$f":"Game!D22","v":"☻"},{"$f":"Game!E22","v":"☻"},{"$f":"Game!F22","v":"☻"},{"$f":"Game!G22","v":"☻"},{"$f":"Game!H22","v":"☻"},{"$f":"Game!I22","v":"☻"},{"$f":"Game!J22","v":"☻"},{"$f":"Game!K22","v":"☻"},{"$f":"Game!L22","v":"☻"},{"$f":"Game!M22","v":"☻"},{"$f":"Game!N22","v":"☻"},{"$f":"Game!O22","v":"☻"},{"$f":"Game!P22","v":"☻"},{"$f":"Game!Q22","v":"☻"},{"$f":"Game!R22","v":"☻"},{"$f":"Game!S22","v":"☻"},{"$f":"Game!T22","v":"☻"},{"$f":"Game!U22","v":"☻"},{"$f":"Game!V22","v":"☻"},{"$f":"Game!W22","v":"☻"},{"$f":"Game!X22","v":"☻"},{"$f":"Game!Y22","v":"☻"},{"$f":"Game!Z22","v":"☻"}]
[23,{"$f":"Game!B23","v":"☻"},{"$f":"Game!C23","v":"☻"},{"$f":"Game!D23","v":"☻"},{"$f":"Game!E23","v":"☻"},{"$f":"Game!F23","v":"☻"},{"$f":"Game!G23","v":"☻"},{"$f":"Game!H23","v":"☻"},{"$f":"Game!I23","v":"☻"},{"$f":"Game!J23","v":"☻"},{"$f":"Game!K23","v":"☻"},{"$f":"Game!L23","v":"☻"},{"$f":"Game!M23","v":"☻"},{"$f":"Game!N23","v":"☻"},{"$f":"Game!O23","v":"☻"},{"$f":"Game!P23","v":"☻"},{"$f":"Game!Q23","v":"☻"},{"$f":"Game!R23","v":"☻"},{"$f":"Game!S23","v":"☻"},{"$f":"Game!T23","v":"☻"},{"$f":"Game!U23","v":"☻"},{"$f":"Game!V23","v":"☻"},{"$f":"Game!W23","v":"☻"},{"$f":"Game!X23","v":"☻"},{"$f":"Game!Y23","v":"☻"},{"$f":"Game!Z23","v":"☻"}]
[24,{"$f":"Game!B24","v":"☻"},{"$f":"Game!C24","v":"☻"},{"$f":"Game!D24","v":"☻"},{"$f":"Game!E24","v":"☻"},{"$f":"Game!F24","v":"☻"},{"$f":"Game!G24","v":"☻"},{"$f":"Game!H24","v":"☻"},{"$f":"Game!I24","v":"☻"},{"$f":"Game!J24","v":"☻"},{"$f":"Game!K24","v":"☻"},{"$f":"Game!L24","v":"☻"},{"$f":"Game!M24","v":"☻"},{"$f":"Game!N24","v":"☻"},{"$f":"Game!O24","v":"☻"},{"$f":"Game!P24","v":"☻"},{"$f":"Game!Q24","v":"☻"},{"$f":"Game!R24","v":"☻"},{"$f":"Game!S24","v":"☻"},{"$f":"Game!T24","v":"☻"},{"$f":"Game!U24","v":"☻"},{"$f":"Game!V24","v":"☻"},{"$f":"Game!W24","v":"☻"},{"$f":"Game!X24","v":"☻"},{"$f":"Game!Y24","v":"☻"},{"$f":"Game!Z24","v":"☻"}]
[25,{"$f":"Game!B25","v":"☻"},{"$f":"Game!C25","v":"☻"},{"$f":"Game!D25","v":"☻"},{"$f":"Game!E25","v":"☻"},{"$f":"Game!F25","v":"☻"},{"$f":"Game!G25","v":"☻"},{"$f":"Game!H25","v":"☻"},{"$f":"Game!I25","v":"☻"},{"$f":"Game!J25","v":"☻"},{"$f":"Game!K25","v":"☻"},{"$f":"Game!L25","v":"☻"},{"$f":"Game!M25","v":"☻"},{"$f":"Game!N25","v":"☻"},{"$f":"Game!O25","v":"☻"},{"$f":"Game!P25","v":"☻"},{"$f":"Game!Q25","v":"☻"},{"$f":"Game!R25","v":"☻"},{"$f":"Game!S25","v":"☻"},{"$f":"Game!T25","v":"☻"},{"$f":"Game!U25","v":"☻"},{"$f":"Game!V25","v":"☻"},{"$f":"Game!W25","v":"☻"},{"$f":"Game!X25","v":"☻"},{"$f":"Game!Y25","v":"☻"},{"$f":"Game!Z25","v":"☻"}]
[26,{"$f":"Game!B26","v":"☻"},{"$f":"Game!C26","v":"☻"},{"$f":"Game!D26","v":"☻"},{"$f":"Game!E26","v":"☻"},{"$f":"Game!F26","v":"☻"},{"$f":"Game!G26","v":"☻"},{"$f":"Game!H26","v":"☻"},{"$f":"Game!I26","v":"☻"},{"$f":"Game!J26","v":"☻"},{"$f":"Game!K26","v":"☻"},{"$f":"Game!L26","v":"☻"},{"$f":"Game!M26","v":"☻"},{"$f":"Game!N26","v":"☻"},{"$f":"Game!O26","v":"☻"},{"$f":"Game!P26","v":"☻"},{"$f":"Game!Q26","v":"☻"},{"$f":"Game!R26","v":"☻"},{"$f":"Game!S26","v":"☻"},{"$f":"Game!T26","v":"☻"},{"$f":"Game!U26","v":"☻"},{"$f":"Game!V26","v":"☻"},{"$f":"Game!W26","v":"☻"},{"$f":"Game!X26","v":"☻"},{"$f":"Game!Y26","v":"☻"},{"$f":"Game!Z26","v":"☻"}]