Workbook

Sheet Dashboard
B1: Excel Users Salary Survey Analysis | V1: ? | AJ1: By Jean-Marc Voyer
B3: Random facts from the study | V3: Average salary by Continent by Job Type, Experience, Daily usage of Excel
B5: • | C5: =+Calculations!CU3 -> #VALUE! | E5: =+Calculations!CV3 -> Participants are using Excel 0 hours a day. | V5: Choose Continent : | AA5: North America | AH5: Continent Average | AL5: =+Calculations!J47 -> #DIV/0!
B6: • | C6: =+Calculations!CU4 -> #VALUE! | E6: =+Calculations!CV4 -> Participants working as Accountant have more then 15 years of experience. | V6: Experience | Z6: From : | AA6: 0 | AC6: To : | AE6: 99 | AH6: World Average | AL6: =+Calculations!I47 -> #DIV/0!
B7: • | C7: =+Calculations!CU5 -> 100% | E7: =+Calculations!CV5 -> Participants love Chandoo.org ! | V7: Choose Excel usage : | AA7: *
B8: • | C8: =+Calculations!CU6 -> #VALUE! | E8: =+Calculations!CV6 -> Participants living in Asia.
B9: • | C9: =+Calculations!CU7 -> #VALUE! | E9: =+Calculations!CV7 -> Average salary of participants living in Europe.
B11: Top 5 countries by…
B13: # | D13: Country | H13: Average Salary | M13: Experience | P13: Nb of responses
B14: =+Calculations!BL8 -> 1 | C14: =+Calculations!BM8 -> #N/A | F14: =+Calculations!BN8 -> #N/A | L14: =+Calculations!BO8 -> #N/A | P14: =+Calculations!BP8 -> #N/A | S14: =IF(P14<WarningResponse,"*","") -> #N/A
B15: =+Calculations!BL9 -> 2 | C15: =+Calculations!BM9 -> #N/A | F15: =+Calculations!BN9 -> #N/A | L15: =+Calculations!BO9 -> #N/A | P15: =+Calculations!BP9 -> #N/A | S15: =IF(P15<WarningResponse,"*","") -> #N/A
B16: =+Calculations!BL10 -> 3 | C16: =+Calculations!BM10 -> #N/A | F16: =+Calculations!BN10 -> #N/A | L16: =+Calculations!BO10 -> #N/A | P16: =+Calculations!BP10 -> #N/A | S16: =IF(P16<WarningResponse,"*","") -> #N/A
B17: =+Calculations!BL11 -> 4 | C17: =+Calculations!BM11 -> #N/A | F17: =+Calculations!BN11 -> #N/A | L17: =+Calculations!BO11 -> #N/A | P17: =+Calculations!BP11 -> #N/A | S17: =IF(P17<WarningResponse,"*","") -> #N/A
B18: =+Calculations!BL12 -> 5 | C18: =+Calculations!BM12 -> #N/A | F18: =+Calculations!BN12 -> #N/A | L18: =+Calculations!BO12 -> #N/A | P18: =+Calculations!BP12 -> #N/A | S18: =IF(P18<WarningResponse,"*","") -> #N/A
B19: * Note : Less then 10 responses for this country. Use data with diligence.
B20: Average salary by… | L20: choose : | M20: Years of experience with Excel
V24: Salary boxplot | AK24: Legend :
V26: Choose Continent #1 | AA26: Asia | AK26: Q1 | AL26: Q2 | AM26: Q3 | AN26: Q4
V27: Choose Continent #2 | AA27: North America | AK27: Q1 | AL27: Q2 | AM27: Q3 | AN27: Q4
B32: Proportion of participants by… | L32: choose : | M32: Daily usage of Excel in hours

Sheet mapping
B1: Mapping Sheet | G1: Source: Xrates on 6/21/2012 | H1: and xe.com | N1: Added data >>> | R1: Continent Mapping | U1: List of countries by GDP (PPP) per capita | AB1: Liste of Job types | AD1: List of clean Country
R2: http://www.worldatlas.com/cntycont.htm | U2: PPP : Purchasing Power Parity | AB2: (sorted filtered list from Data) | AD2: (sorted filtered list from Data)
N3: Clean Continent | P3: Clean PPP | R3: modified cells | U3: http://en.wikipedia.org/wiki/List_of_countries_by_GDP_(PPP)_per_capita
B4: Currency Mapping | L4: Country Mapping | P4: NA = 1 | U4: International Monetary Fund (2010-11) | AB4: List Job Types | AD4: List Clean Country | AF4: Continent | AH4: How many hours of a day you work on Excel | AI4: Min | AJ4: Max | AL4: Lists for Graph
B5: Currency | C5: in USD | G5: Value of 1 American Dollar | L5: Actual | M5: Mapping | N5: Continent | O5: PPP Factor | P5: Clean PPP | R5: Country | S5: Continent | V5: Ref = USA : | W5: 48387 | AB5: Accountant | AD5: Albania | AF5: Asia | AH5: * | AI5: -1 | AJ5: 99 | AL5: Years of experience with Excel
B6: USD | C6: 1 | G6: Argentine Peso | H6: 4.49273 | I6: ARS | L6: USA | M6: USA | N6: =VLOOKUP(tblCountries#this row;mapping,tblContinent#all,2,0) -> #VALUE! | O6: =VLOOKUP(tblCountries#this row;mapping,tblPPP,3,0) -> #VALUE! | P6: =IFERROR(tblCountries#this row;ppp factor,1) -> #VALUE! | R6: Afghanistan | S6: Asia | U6: Country | V6: Intl $ | W6: PPP Ratio Vs US | AB6: Analyst | AD6: Arabian Gulf | AF6: Europe | AH6: Excel ?!? What Excel? | AI6: 1 | AJ6: 1 | AL6: Daily usage of Excel in hours
B7: EUR | C7: =1/INDEX($H$6:$H$66,MATCH(tblXrate#this row;currency,$I$6:$I$66,0)) -> #VALUE! | G7: Australian Dollar | H7: 0.980479 | I7: AUD | L7: India | M7: India | N7: =VLOOKUP(tblCountries#this row;mapping,tblContinent#all,2,0) -> #VALUE! | O7: =VLOOKUP(tblCountries#this row;mapping,tblPPP,3,0) -> #VALUE! | P7: =IFERROR(tblCountries#this row;ppp factor,1) -> #VALUE! | R7: Albania | S7: Europe | U7: Afghanistan | V7: 956 | W7: =$W$5/V7 -> 50.614017 | AB7: Consultant | AD7: Argentina | AF7: Africa | AH7: 1 or 2 hours a day | AI7: 2 | AJ7: 2
B8: PKR | C8: =1/INDEX($H$6:$H$66,MATCH(tblXrate#this row;currency,$I$6:$I$66,0)) -> #VALUE! | G8: Botswana Pula | H8: 7.65697 | I8: BWP | L8: UK | M8: UK | N8: =VLOOKUP(tblCountries#this row;mapping,tblContinent#all,2,0) -> #VALUE! | O8: =VLOOKUP(tblCountries#this row;mapping,tblPPP,3,0) -> #VALUE! | P8: =IFERROR(tblCountries#this row;ppp factor,1) -> #VALUE! | R8: Algeria | S8: Africa | U8: Albania | V8: 7741 | W8: =$W$5/V8 -> 6.2507428 | AB8: Controller | AD8: Armenia | AF8: North Amer. | AH8: 2 to 3 hours per day | AI8: 3 | AJ8: 3
B9: INR | C9: =1/INDEX($H$6:$H$66,MATCH(tblXrate#this row;currency,$I$6:$I$66,0)) -> #VALUE! | G9: Brazilian Real | H9: 2.02314 | I9: BRL | L9: Australia | M9: Australia | N9: =VLOOKUP(tblCountries#this row;mapping,tblContinent#all,2,0) -> #VALUE! | O9: =VLOOKUP(tblCountries#this row;mapping,tblPPP,3,0) -> #VALUE! | P9: =IFERROR(tblCountries#this row;ppp factor,1) -> #VALUE! | R9: Andorra | S9: Europe | U9: Algeria | V9: 7333 | W9: =$W$5/V9 -> 6.5985272 | AB9: CXO or Top Mgmt. | AD9: Aruba | AF9: South Amer. | AH9: 4 to 6 hours a day | AI9: 4 | AJ9: 4
B10: GBP | C10: =1/INDEX($H$6:$H$66,MATCH(tblXrate#this row;currency,$I$6:$I$66,0)) -> #VALUE! | G10: British Pound | H10: 0.634446 | I10: GBP | L10: Canada | M10: Canada | N10: =VLOOKUP(tblCountries#this row;mapping,tblContinent#all,2,0) -> #VALUE! | O10: =VLOOKUP(tblCountries#this row;mapping,tblPPP,3,0) -> #VALUE! | P10: =IFERROR(tblCountries#this row;ppp factor,1) -> #VALUE! | R10: Angola | S10: Africa | U10: Angola | V10: 5895 | W10: =$W$5/V10 -> 8.2081425 | AB10: Engineer | AD10: Asia | AF10: Oceania | AH10: All the 8 hours baby, all the 8! | AI10: 5 | AJ10: 5
B11: AUD | C11: =1/INDEX($H$6:$H$66,MATCH(tblXrate#this row;currency,$I$6:$I$66,0)) -> #VALUE! | G11: Brunei dollar | H11: 1.2687 | I11: BND | L11: Pakistan | M11: Pakistan | N11: =VLOOKUP(tblCountries#this row;mapping,tblContinent#all,2,0) -> #VALUE! | O11: =VLOOKUP(tblCountries#this row;mapping,tblPPP,3,0) -> #VALUE! | P11: =IFERROR(tblCountries#this row;ppp factor,1) -> #VALUE! | R11: Antigua and Barbuda | S11: North Amer. | U11: Antigua and Barbuda | V11: 17981 | W11: =$W$5/V11 -> 2.6910072 | AB11: Manager | AD11: Australia
B12: CAD | C12: =1/INDEX($H$6:$H$66,MATCH(tblXrate#this row;currency,$I$6:$I$66,0)) -> #VALUE! | G12: Bulgarian Lev | H12: 1.53952 | I12: BGN | L12: South Africa | M12: South Africa | N12: =VLOOKUP(tblCountries#this row;mapping,tblContinent#all,2,0) -> #VALUE! | O12: =VLOOKUP(tblCountries#this row;mapping,tblPPP,3,0) -> #VALUE! | P12: =IFERROR(tblCountries#this row;ppp factor,1) -> #VALUE! | R12: Argentina | S12: South Amer. | U12: Argentina | V12: 17516 | W12: =$W$5/V12 -> 2.7624458 | AB12: Misc. | AD12: Austria
B13: PHP | C13: =1/INDEX($H$6:$H$66,MATCH(tblXrate#this row;currency,$I$6:$I$66,0)) -> #VALUE! | G13: Canadian Dollar | H13: 1.01692 | I13: CAD | L13: Germany | M13: Germany | N13: =VLOOKUP(tblCountries#this row;mapping,tblContinent#all,2,0) -> #VALUE! | O13: =VLOOKUP(tblCountries#this row;mapping,tblPPP,3,0) -> #VALUE! | P13: =IFERROR(tblCountries#this row;ppp factor,1) -> #VALUE! | R13: Armenia | S13: Europe | U13: Armenia | V13: 5384 | W13: =$W$5/V13 -> 8.9871842 | AB13: Reporting | AD13: Azerbaijan
B14: AED | C14: =1/INDEX($H$6:$H$66,MATCH(tblXrate#this row;currency,$I$6:$I$66,0)) -> #VALUE! | G14: Chilean Peso | H14: 497.268 | I14: CLP | L14: UAE | M14: UAE | N14: =VLOOKUP(tblCountries#this row;mapping,tblContinent#all,2,0) -> #VALUE! | O14: =VLOOKUP(tblCountries#this row;mapping,tblPPP,3,0) -> #VALUE! | P14: =IFERROR(tblCountries#this row;ppp factor,1) -> #VALUE! | R14: Australia | S14: Oceania | U14: Australia | V14: 40234 | W14: =$W$5/V14 -> 1.2026396 | AB14: Specialist | AD14: Baltic | AF14: Continent (full)
B15: MXN | C15: =1/INDEX($H$6:$H$66,MATCH(tblXrate#this row;currency,$I$6:$I$66,0)) -> #VALUE! | G15: Chinese Yuan | H15: 6.36091 | I15: CNY | L15: Brazil | M15: Brazil | N15: =VLOOKUP(tblCountries#this row;mapping,tblContinent#all,2,0) -> #VALUE! | O15: =VLOOKUP(tblCountries#this row;mapping,tblPPP,3,0) -> #VALUE! | P15: =IFERROR(tblCountries#this row;ppp factor,1) -> #VALUE! | R15: Austria | S15: Europe | U15: Austria | V15: 41822 | W15: =$W$5/V15 -> 1.1569748 | AD15: Bangladesh | AF15: Asia
B16: SEK | C16: =1/INDEX($H$6:$H$66,MATCH(tblXrate#this row;currency,$I$6:$I$66,0)) -> #VALUE! | G16: Colombian Peso | H16: 1769.79 | I16: COP | L16: Netherlands | M16: Netherlands | N16: =VLOOKUP(tblCountries#this row;mapping,tblContinent#all,2,0) -> #VALUE! | O16: =VLOOKUP(tblCountries#this row;mapping,tblPPP,3,0) -> #VALUE! | P16: =IFERROR(tblCountries#this row;ppp factor,1) -> #VALUE! | R16: Azerbaijan | S16: Europe | U16: Azerbaijan | V16: 10202 | W16: =$W$5/V16 -> 4.7428936 | AD16: Belgium | AF16: Europe
B17: BDT | C17: =1/INDEX($H$6:$H$66,MATCH(tblXrate#this row;currency,$I$6:$I$66,0)) -> #VALUE! | G17: Croatian Kuna | H17: 5.93671 | I17: HRK | L17: Singapore | M17: Singapore | N17: =VLOOKUP(tblCountries#this row;mapping,tblContinent#all,2,0) -> #VALUE! | O17: =VLOOKUP(tblCountries#this row;mapping,tblPPP,3,0) -> #VALUE! | P17: =IFERROR(tblCountries#this row;ppp factor,1) -> #VALUE! | R17: Bahamas | S17: North Amer. | U17: Bahamas, The | V17: 30959 | W17: =$W$5/V17 -> 1.5629381 | AD17: Bermuda | AF17: Africa
B18: COSTARICAN | C18: =1/INDEX($H$6:$H$66,MATCH(tblXrate#this row;currency,$I$6:$I$66,0)) -> #VALUE! | G18: Danish Krone | H18: 5.85123 | I18: DKK | L18: Philippines | M18: Philippines | N18: =VLOOKUP(tblCountries#this row;mapping,tblContinent#all,2,0) -> #VALUE! | O18: =VLOOKUP(tblCountries#this row;mapping,tblPPP,3,0) -> #VALUE! | P18: =IFERROR(tblCountries#this row;ppp factor,1) -> #VALUE! | R18: Bahrain | S18: Asia | U18: Bahrain | V18: 27556 | W18: =$W$5/V18 -> 1.7559515 | AD18: Bhutan | AF18: North America
B19: ZAR | C19: =1/INDEX($H$6:$H$66,MATCH(tblXrate#this row;currency,$I$6:$I$66,0)) -> #VALUE! | G19: Euro | H19: 0.787154 | I19: EUR | L19: Portugal | M19: Portugal | N19: =VLOOKUP(tblCountries#this row;mapping,tblContinent#all,2,0) -> #VALUE! | O19: =VLOOKUP(tblCountries#this row;mapping,tblPPP,3,0) -> #VALUE! | P19: =IFERROR(tblCountries#this row;ppp factor,1) -> #VALUE! | R19: Bangladesh | S19: Asia | U19: Bangladesh | V19: 1693 | W19: =$W$5/V19 -> 28.580626 | AD19: Bolivia | AF19: South America
B20: NZD | C20: =1/INDEX($H$6:$H$66,MATCH(tblXrate#this row;currency,$I$6:$I$66,0)) -> #VALUE! | G20: Hong Kong Dollar | H20: 7.75889 | I20: HKD | L20: Spain | M20: Spain | N20: =VLOOKUP(tblCountries#this row;mapping,tblContinent#all,2,0) -> #VALUE! | O20: =VLOOKUP(tblCountries#this row;mapping,tblPPP,3,0) -> #VALUE! | P20: =IFERROR(tblCountries#this row;ppp factor,1) -> #VALUE! | R20: Barbados | S20: North Amer. | U20: Barbados | V20: 23417 | W20: =$W$5/V20 -> 2.0663193 | AD20: Brazil | AF20: Oceania
B21: CNY | C21: =1/INDEX($H$6:$H$66,MATCH(tblXrate#this row;currency,$I$6:$I$66,0)) -> #VALUE! | G21: Hungarian Forint | H21: 225.874 | I21: HUF | L21: New Zealand | M21: New Zealand | N21: =VLOOKUP(tblCountries#this row;mapping,tblContinent#all,2,0) -> #VALUE! | O21: =VLOOKUP(tblCountries#this row;mapping,tblPPP,3,0) -> #VALUE! | P21: =IFERROR(tblCountries#this row;ppp factor,1) -> #VALUE! | R21: Belarus | S21: Europe | U21: Belarus | V21: 15028 | W21: =$W$5/V21 -> 3.2197897 | AD21: Bulgaria
B22: EGYPT | C22: =1/INDEX($H$6:$H$66,MATCH(tblXrate#this row;currency,$I$6:$I$66,0)) -> #VALUE! | G22: Iceland Krona | H22: 124.697 | I22: ISK | L22: Russia | M22: Russia | N22: =VLOOKUP(tblCountries#this row;mapping,tblContinent#all,2,0) -> #VALUE! | O22: =VLOOKUP(tblCountries#this row;mapping,tblPPP,3,0) -> #VALUE! | P22: =IFERROR(tblCountries#this row;ppp factor,1) -> #VALUE! | R22: Belgium | S22: Europe | U22: Belgium | V22: 37737 | W22: =$W$5/V22 -> 1.2822164 | AD22: Cambodia
B23: NAIRA | C23: =1/INDEX($H$6:$H$66,MATCH(tblXrate#this row;currency,$I$6:$I$66,0)) -> #VALUE! | G23: Indian Rupee | H23: 56.1548 | I23: INR | L23: Saudi Arabia | M23: Saudi Arabia | N23: =VLOOKUP(tblCountries#this row;mapping,tblContinent#all,2,0) -> #VALUE! | O23: =VLOOKUP(tblCountries#this row;mapping,tblPPP,3,0) -> #VALUE! | P23: =IFERROR(tblCountries#this row;ppp factor,1) -> #VALUE! | R23: Belize | S23: North Amer. | U23: Belize | V23: 8264 | W23: =$W$5/V23 -> 5.8551549 | AD23: Canada
B24: AED | C24: =1/INDEX($H$6:$H$66,MATCH(tblXrate#this row;currency,$I$6:$I$66,0)) -> #VALUE! | G24: Indonesian Rupiah | H24: 9443.81 | I24: IDR | L24: Mexico | M24: Mexico | N24: =VLOOKUP(tblCountries#this row;mapping,tblContinent#all,2,0) -> #VALUE! | O24: =VLOOKUP(tblCountries#this row;mapping,tblPPP,3,0) -> #VALUE! | P24: =IFERROR(tblCountries#this row;ppp factor,1) -> #VALUE! | R24: Benin | S24: Africa | U24: Benin | V24: 1481 | W24: =$W$5/V24 -> 32.671843 | AD24: CEE
B25: BRL | C25: =1/INDEX($H$6:$H$66,MATCH(tblXrate#this row;currency,$I$6:$I$66,0)) -> #VALUE! | G25: Israeli New Shekel | H25: 3.86721 | I25: ILS | L25: Indonesia | M25: Indonesia | N25: =VLOOKUP(tblCountries#this row;mapping,tblContinent#all,2,0) -> #VALUE! | O25: =VLOOKUP(tblCountries#this row;mapping,tblPPP,3,0) -> #VALUE! | P25: =IFERROR(tblCountries#this row;ppp factor,1) -> #VALUE! | R25: Bhutan | S25: Asia | U25: Bhutan | V25: 6112 | W25: =$W$5/V25 -> 7.9167212 | AD25: Central America
B26: RON | C26: =1/INDEX($H$6:$H$66,MATCH(tblXrate#this row;currency,$I$6:$I$66,0)) -> #VALUE! | G26: Japanese Yen | H26: 78.9043 | I26: JPY | L26: Norway | M26: Norway | N26: =VLOOKUP(tblCountries#this row;mapping,tblContinent#all,2,0) -> #VALUE! | O26: =VLOOKUP(tblCountries#this row;mapping,tblPPP,3,0) -> #VALUE! | P26: =IFERROR(tblCountries#this row;ppp factor,1) -> #VALUE! | R26: Bolivia | S26: South Amer. | U26: Bolivia | V26: 4789 | W26: =$W$5/V26 -> 10.103779 | AD26: China
B27: USD | C27: 1 | G27: Kazakhstani Tenge | H27: 148.88 | I27: KZT | L27: malaysia | M27: Malaysia | N27: =VLOOKUP(tblCountries#this row;mapping,tblContinent#all,2,0) -> #VALUE! | O27: =VLOOKUP(tblCountries#this row;mapping,tblPPP,3,0) -> #VALUE! | P27: =IFERROR(tblCountries#this row;ppp factor,1) -> #VALUE! | R27: Bosnia and Herzegovina | S27: Europe | U27: Bosnia and Herzegovina | V27: 8133 | W27: =$W$5/V27 -> 5.9494651 | AD27: Colombia
B28: MYR | C28: =1/INDEX($H$6:$H$66,MATCH(tblXrate#this row;currency,$I$6:$I$66,0)) -> #VALUE! | G28: Kuwaiti Dinar | H28: 0.2794 | I28: KWD | L28: The Netherlands | M28: Netherlands | N28: =VLOOKUP(tblCountries#this row;mapping,tblContinent#all,2,0) -> #VALUE! | O28: =VLOOKUP(tblCountries#this row;mapping,tblPPP,3,0) -> #VALUE! | P28: =IFERROR(tblCountries#this row;ppp factor,1) -> #VALUE! | R28: Botswana | S28: Africa | U28: Botswana | V28: 16030 | W28: =$W$5/V28 -> 3.0185278 | AD28: Costa Rica
B29: LKR | C29: =1/INDEX($H$6:$H$66,MATCH(tblXrate#this row;currency,$I$6:$I$66,0)) -> #VALUE! | G29: Latvian Lat | H29: 0.548489 | I29: LVL | L29: Romania | M29: Romania | N29: =VLOOKUP(tblCountries#this row;mapping,tblContinent#all,2,0) -> #VALUE! | O29: =VLOOKUP(tblCountries#this row;mapping,tblPPP,3,0) -> #VALUE! | P29: =IFERROR(tblCountries#this row;ppp factor,1) -> #VALUE! | R29: Brazil | S29: South Amer. | U29: Brazil | V29: 11769 | W29: =$W$5/V29 -> 4.1113943 | AD29: Croatia
B30: SGD | C30: =1/INDEX($H$6:$H$66,MATCH(tblXrate#this row;currency,$I$6:$I$66,0)) -> #VALUE! | G30: Libyan Dinar | H30: 1.9324 | I30: LYD | L30: Poland | M30: Poland | N30: =VLOOKUP(tblCountries#this row;mapping,tblContinent#all,2,0) -> #VALUE! | O30: =VLOOKUP(tblCountries#this row;mapping,tblPPP,3,0) -> #VALUE! | P30: =IFERROR(tblCountries#this row;ppp factor,1) -> #VALUE! | R30: Brunei | S30: Asia | U30: Brunei | V30: 49384 | W30: =$W$5/V30 -> 0.97981127 | AD30: Czech Republic
B31: GBP | C31: =1/INDEX($H$6:$H$66,MATCH(tblXrate#this row;currency,$I$6:$I$66,0)) -> #VALUE! | G31: Lithuanian Litas | H31: 2.71788 | I31: LTL | L31: italy | M31: italy | N31: =VLOOKUP(tblCountries#this row;mapping,tblContinent#all,2,0) -> #VALUE! | O31: =VLOOKUP(tblCountries#this row;mapping,tblPPP,3,0) -> #VALUE! | P31: =IFERROR(tblCountries#this row;ppp factor,1) -> #VALUE! | R31: Bulgaria | S31: Europe | U31: Bulgaria | V31: 13597 | W31: =$W$5/V31 -> 3.5586526 | AD31: Denmark
B32: DOP | C32: =1/INDEX($H$6:$H$66,MATCH(tblXrate#this row;currency,$I$6:$I$66,0)) -> #VALUE! | G32: Malaysian Ringgit | H32: 3.15656 | I32: MYR | L32: Hungary | M32: Hungary | N32: =VLOOKUP(tblCountries#this row;mapping,tblContinent#all,2,0) -> #VALUE! | O32: =VLOOKUP(tblCountries#this row;mapping,tblPPP,3,0) -> #VALUE! | P32: =IFERROR(tblCountries#this row;ppp factor,1) -> #VALUE! | R32: Burkina | S32: Africa | U32: Burkina Faso | V32: 1466 | W32: =$W$5/V32 -> 33.006139 | AD32: Dominican Republic
B33: PLN | C33: =1/INDEX($H$6:$H$66,MATCH(tblXrate#this row;currency,$I$6:$I$66,0)) -> #VALUE! | G33: Mauritius Rupee | H33: 30.7159 | I33: MUR | L33: Denmark | M33: Denmark | N33: =VLOOKUP(tblCountries#this row;mapping,tblContinent#all,2,0) -> #VALUE! | O33: =VLOOKUP(tblCountries#this row;mapping,tblPPP,3,0) -> #VALUE! | P33: =IFERROR(tblCountries#this row;ppp factor,1) -> #VALUE! | R33: Burma (Myanmar) | S33: Asia | U33: Burma | V33: 1325 | W33: =$W$5/V33 -> 36.518491 | AD33: Dubai
B34: KENYA | C34: =1/INDEX($H$6:$H$66,MATCH(tblXrate#this row;currency,$I$6:$I$66,0)) -> #VALUE! | G34: Mexican Peso | H34: 13.6899 | I34: MXN | L34: Ireland | M34: Ireland | N34: =VLOOKUP(tblCountries#this row;mapping,tblContinent#all,2,0) -> #VALUE! | O34: =VLOOKUP(tblCountries#this row;mapping,tblPPP,3,0) -> #VALUE! | P34: =IFERROR(tblCountries#this row;ppp factor,1) -> #VALUE! | R34: Burundi | S34: Africa | U34: Burundi | V34: 615 | W34: =$W$5/V34 -> 78.678049 | AD34: Egypt
B35: DKK | C35: =1/INDEX($H$6:$H$66,MATCH(tblXrate#this row;currency,$I$6:$I$66,0)) -> #VALUE! | G35: Nepalese Rupee | H35: 89.65 | I35: NPR | L35: Israel | M35: Israel | N35: =VLOOKUP(tblCountries#this row;mapping,tblContinent#all,2,0) -> #VALUE! | O35: =VLOOKUP(tblCountries#this row;mapping,tblPPP,3,0) -> #VALUE! | P35: =IFERROR(tblCountries#this row;ppp factor,1) -> #VALUE! | R35: Cambodia | S35: Asia | U35: Cambodia | V35: 2216 | W35: =$W$5/V35 -> 21.835289 | AD35: Estonia
B36: IDR | C36: =1/INDEX($H$6:$H$66,MATCH(tblXrate#this row;currency,$I$6:$I$66,0)) -> #VALUE! | G36: New Zealand Dollar | H36: 1.25378 | I36: NZD | L36: France | M36: France | N36: =VLOOKUP(tblCountries#this row;mapping,tblContinent#all,2,0) -> #VALUE! | O36: =VLOOKUP(tblCountries#this row;mapping,tblPPP,3,0) -> #VALUE! | P36: =IFERROR(tblCountries#this row;ppp factor,1) -> #VALUE! | R36: Cameroon | S36: Africa | U36: Cameroon | V36: 2257 | W36: =$W$5/V36 -> 21.438635 | AD36: Ethiopia
B37: MONGOLIAN | C37: =1/INDEX($H$6:$H$66,MATCH(tblXrate#this row;currency,$I$6:$I$66,0)) -> #VALUE! | G37: Norwegian Kroner | H37: 5.90838 | I37: NOK | L37: Colombia | M37: Colombia | N37: =VLOOKUP(tblCountries#this row;mapping,tblContinent#all,2,0) -> #VALUE! | O37: =VLOOKUP(tblCountries#this row;mapping,tblPPP,3,0) -> #VALUE! | P37: =IFERROR(tblCountries#this row;ppp factor,1) -> #VALUE! | R37: Canada | S37: North Amer. | U37: Canada | V37: 40541 | W37: =$W$5/V37 -> 1.1935325 | AD37: Europe
B38: JPY | C38: =1/INDEX($H$6:$H$66,MATCH(tblXrate#this row;currency,$I$6:$I$66,0)) -> #VALUE! | G38: Omani Rial | H38: 0.3845 | I38: OMR | L38: Switzerland | M38: Switzerland | N38: =VLOOKUP(tblCountries#this row;mapping,tblContinent#all,2,0) -> #VALUE! | O38: =VLOOKUP(tblCountries#this row;mapping,tblPPP,3,0) -> #VALUE! | P38: =IFERROR(tblCountries#this row;ppp factor,1) -> #VALUE! | R38: Cape Verde | S38: Africa | U38: Cape Verde | V38: 3947 | W38: =$W$5/V38 -> 12.259184 | AD38: Finland
B39: SAR | C39: =1/INDEX($H$6:$H$66,MATCH(tblXrate#this row;currency,$I$6:$I$66,0)) -> #VALUE! | G39: Pakistan Rupee | H39: 94.2144 | I39: PKR | L39: Sri Lanka | M39: Sri Lanka | N39: =VLOOKUP(tblCountries#this row;mapping,tblContinent#all,2,0) -> #VALUE! | O39: =VLOOKUP(tblCountries#this row;mapping,tblPPP,3,0) -> #VALUE! | P39: =IFERROR(tblCountries#this row;ppp factor,1) -> #VALUE! | R39: Central African Republic | S39: Africa | U39: Central African Republic | V39: 768 | W39: =$W$5/V39 -> 63.003906 | AD39: France
... B44: ETB | C44: =1/INDEX($H$6:$H$66,MATCH(tblXrate#this row;currency,$I$6:$I$66,0)) -> #VALUE! | G44: Saudi Riyal | H44: 3.75 | I44: SAR | L44: iran | M44: iran | N44: =VLOOKUP(tblCountries#this row;mapping,tblContinent#all,2,0) -> #VALUE! | O44: =VLOOKUP(tblCountries#this row;mapping,tblPPP,3,0) -> #VALUE! | P44: =IFERROR(tblCountries#this row;ppp factor,1) -> #VALUE! | R44: Comoros | S44: Africa | U44: Comoros | V44: 1232 | W44: =$W$5/V44 -> 39.275162 | AD44: Hong Kong
...

Sheet Data
B1: Excel Salary Survey Data | G1: 12 | P1: PPP ? | Q1: =FALSE() -> 0
B3: Note: Experience data is not available for first few hundred rows. | N3: Added data >>>>>
B5: Unique ID | C5: Timestamp | D5: Your Salary | E5: clean Salary (in local currency) | F5: Currency | G5: Salary in USD | H5: Your Job Title | I5: Job Type | J5: Where do you work | K5: clean Country | L5: How many hours of a day you work on Excel | M5: Years of Experience | N5: Continent | O5: Code Hours | P5: PPP Factor | Q5: Salary
B6: ID0001 | C6: 41054.133 | D6: 5846 | E6: 5846 | F6: USD | G6: =tblSalaries#this row;clean salary (in local currency)*VLOOKUP(tblSalaries#this row;currency,tblXrate,2,0) -> #VALUE! | H6: MIS Analyst | I6: Analyst | J6: India | K6: =VLOOKUP(tblSalaries#this row;where do you work,tblCountriesactual:mapping,2,0) -> #VALUE! | L6: 4 to 6 hours a day | N6: =VLOOKUP(K6,tblCountries,3,0) -> #VALUE! | O6: =VLOOKUP(tblSalaries#this row;how many hours of a day you work on excel,tblHours,2,0) -> #VALUE! | P6: =VLOOKUP(tblSalaries#this row;clean country,tblCountries,5,0) -> #VALUE! | Q6: =IF($Q$1,tblSalaries#this row;ppp factor*tblSalaries#this row;salary in usd,tblSalaries#this row;salary in usd) -> #VALUE!
B7: ID0002 | C7: 41054.134 | D7: 15000 usd | E7: 15000 | F7: USD | G7: =tblSalaries#this row;clean salary (in local currency)*VLOOKUP(tblSalaries#this row;currency,tblXrate,2,0) -> #VALUE! | H7: cost control | I7: Controller | J7: europe/Croatia | K7: =VLOOKUP(tblSalaries#this row;where do you work,tblCountriesactual:mapping,2,0) -> #VALUE! | L7: All the 8 hours baby, all the 8! | N7: =VLOOKUP(K7,tblCountries,3,0) -> #VALUE! | O7: =VLOOKUP(tblSalaries#this row;how many hours of a day you work on excel,tblHours,2,0) -> #VALUE! | P7: =VLOOKUP(tblSalaries#this row;clean country,tblCountries,5,0) -> #VALUE! | Q7: =IF($Q$1,tblSalaries#this row;ppp factor*tblSalaries#this row;salary in usd,tblSalaries#this row;salary in usd) -> #VALUE!
B8: ID0003 | C8: 41054.136 | D8: 58000 | E8: 58000 | F8: USD | G8: =tblSalaries#this row;clean salary (in local currency)*VLOOKUP(tblSalaries#this row;currency,tblXrate,2,0) -> #VALUE! | H8: Financial Analyst | I8: Analyst | J8: USA | K8: =VLOOKUP(tblSalaries#this row;where do you work,tblCountriesactual:mapping,2,0) -> #VALUE! | L8: All the 8 hours baby, all the 8! | N8: =VLOOKUP(K8,tblCountries,3,0) -> #VALUE! | O8: =VLOOKUP(tblSalaries#this row;how many hours of a day you work on excel,tblHours,2,0) -> #VALUE! | P8: =VLOOKUP(tblSalaries#this row;clean country,tblCountries,5,0) -> #VALUE! | Q8: =IF($Q$1,tblSalaries#this row;ppp factor*tblSalaries#this row;salary in usd,tblSalaries#this row;salary in usd) -> #VALUE!
B9: ID0004 | C9: 41054.141 | D9: 48000 | E9: 48000 | F9: USD | G9: =tblSalaries#this row;clean salary (in local currency)*VLOOKUP(tblSalaries#this row;currency,tblXrate,2,0) -> #VALUE! | H9: Quality Control | I9: Controller | J9: Pakistan | K9: =VLOOKUP(tblSalaries#this row;where do you work,tblCountriesactual:mapping,2,0) -> #VALUE! | L9: 2 to 3 hours per day | N9: =VLOOKUP(K9,tblCountries,3,0) -> #VALUE! | O9: =VLOOKUP(tblSalaries#this row;how many hours of a day you work on excel,tblHours,2,0) -> #VALUE! | P9: =VLOOKUP(tblSalaries#this row;clean country,tblCountries,5,0) -> #VALUE! | Q9: =IF($Q$1,tblSalaries#this row;ppp factor*tblSalaries#this row;salary in usd,tblSalaries#this row;salary in usd) -> #VALUE!
B10: ID0005 | C10: 41054.144 | D10: 54000 | E10: 54000 | F10: USD | G10: =tblSalaries#this row;clean salary (in local currency)*VLOOKUP(tblSalaries#this row;currency,tblXrate,2,0) -> #VALUE! | H10: Quality Engineer | I10: Engineer | J10: USA | K10: =VLOOKUP(tblSalaries#this row;where do you work,tblCountriesactual:mapping,2,0) -> #VALUE! | L10: All the 8 hours baby, all the 8! | N10: =VLOOKUP(K10,tblCountries,3,0) -> #VALUE! | O10: =VLOOKUP(tblSalaries#this row;how many hours of a day you work on excel,tblHours,2,0) -> #VALUE! | P10: =VLOOKUP(tblSalaries#this row;clean country,tblCountries,5,0) -> #VALUE! | Q10: =IF($Q$1,tblSalaries#this row;ppp factor*tblSalaries#this row;salary in usd,tblSalaries#this row;salary in usd) -> #VALUE!
B11: ID0006 | C11: 41054.145 | D11: 41731 | E11: 41731 | F11: USD | G11: =tblSalaries#this row;clean salary (in local currency)*VLOOKUP(tblSalaries#this row;currency,tblXrate,2,0) -> #VALUE! | H11: Analyst | I11: Analyst | J11: Iceland | K11: =VLOOKUP(tblSalaries#this row;where do you work,tblCountriesactual:mapping,2,0) -> #VALUE! | L11: All the 8 hours baby, all the 8! | N11: =VLOOKUP(K11,tblCountries,3,0) -> #VALUE! | O11: =VLOOKUP(tblSalaries#this row;how many hours of a day you work on excel,tblHours,2,0) -> #VALUE! | P11: =VLOOKUP(tblSalaries#this row;clean country,tblCountries,5,0) -> #VALUE! | Q11: =IF($Q$1,tblSalaries#this row;ppp factor*tblSalaries#this row;salary in usd,tblSalaries#this row;salary in usd) -> #VALUE!
B12: ID0007 | C12: 41054.149 | D12: 145000 | E12: 145000 | F12: EUR | G12: =tblSalaries#this row;clean salary (in local currency)*VLOOKUP(tblSalaries#this row;currency,tblXrate,2,0) -> #VALUE! | H12: senior project manager | I12: Manager | J12: Germany | K12: =VLOOKUP(tblSalaries#this row;where do you work,tblCountriesactual:mapping,2,0) -> #VALUE! | L12: 1 or 2 hours a day | N12: =VLOOKUP(K12,tblCountries,3,0) -> #VALUE! | O12: =VLOOKUP(tblSalaries#this row;how many hours of a day you work on excel,tblHours,2,0) -> #VALUE! | P12: =VLOOKUP(tblSalaries#this row;clean country,tblCountries,5,0) -> #VALUE! | Q12: =IF($Q$1,tblSalaries#this row;ppp factor*tblSalaries#this row;salary in usd,tblSalaries#this row;salary in usd) -> #VALUE!
B13: ID0008 | C13: 41054.15 | D13: 12000 | E13: 12000 | F13: USD | G13: =tblSalaries#this row;clean salary (in local currency)*VLOOKUP(tblSalaries#this row;currency,tblXrate,2,0) -> #VALUE! | H13: Assistant SP&A | I13: Analyst | J13: Ukraine | K13: =VLOOKUP(tblSalaries#this row;where do you work,tblCountriesactual:mapping,2,0) -> #VALUE! | L13: All the 8 hours baby, all the 8! | N13: =VLOOKUP(K13,tblCountries,3,0) -> #VALUE! | O13: =VLOOKUP(tblSalaries#this row;how many hours of a day you work on excel,tblHours,2,0) -> #VALUE! | P13: =VLOOKUP(tblSalaries#this row;clean country,tblCountries,5,0) -> #VALUE! | Q13: =IF($Q$1,tblSalaries#this row;ppp factor*tblSalaries#this row;salary in usd,tblSalaries#this row;salary in usd) -> #VALUE!
B14: ID0009 | C14: 41054.151 | D14: 44000 $ | E14: 44000 | F14: USD | G14: =tblSalaries#this row;clean salary (in local currency)*VLOOKUP(tblSalaries#this row;currency,tblXrate,2,0) -> #VALUE! | H14: CFO | I14: CXO or Top Mgmt. | J14: Portugal | K14: =VLOOKUP(tblSalaries#this row;where do you work,tblCountriesactual:mapping,2,0) -> #VALUE! | L14: 1 or 2 hours a day | N14: =VLOOKUP(K14,tblCountries,3,0) -> #VALUE! | O14: =VLOOKUP(tblSalaries#this row;how many hours of a day you work on excel,tblHours,2,0) -> #VALUE! | P14: =VLOOKUP(tblSalaries#this row;clean country,tblCountries,5,0) -> #VALUE! | Q14: =IF($Q$1,tblSalaries#this row;ppp factor*tblSalaries#this row;salary in usd,tblSalaries#this row;salary in usd) -> #VALUE!
B15: ID0010 | C15: 41054.152 | D15: PKR 8,000 | E15: 1152000 | F15: PKR | G15: =tblSalaries#this row;clean salary (in local currency)*VLOOKUP(tblSalaries#this row;currency,tblXrate,2,0) -> #VALUE! | H15: Audit Trainee | I15: Accountant | J15: Pakistan | K15: =VLOOKUP(tblSalaries#this row;where do you work,tblCountriesactual:mapping,2,0) -> #VALUE! | L15: All the 8 hours baby, all the 8! | N15: =VLOOKUP(K15,tblCountries,3,0) -> #VALUE! | O15: =VLOOKUP(tblSalaries#this row;how many hours of a day you work on excel,tblHours,2,0) -> #VALUE! | P15: =VLOOKUP(tblSalaries#this row;clean country,tblCountries,5,0) -> #VALUE! | Q15: =IF($Q$1,tblSalaries#this row;ppp factor*tblSalaries#this row;salary in usd,tblSalaries#this row;salary in usd) -> #VALUE!
B16: ID0011 | C16: 41054.155 | D16: â‚¬ 51650 | E16: 51650 | F16: EUR | G16: =tblSalaries#this row;clean salary (in local currency)*VLOOKUP(tblSalaries#this row;currency,tblXrate,2,0) -> #VALUE! | H16: Training Specialist | I16: Specialist | J16: Ireland | K16: =VLOOKUP(tblSalaries#this row;where do you work,tblCountriesactual:mapping,2,0) -> #VALUE! | L16: 2 to 3 hours per day | N16: =VLOOKUP(K16,tblCountries,3,0) -> #VALUE! | O16: =VLOOKUP(tblSalaries#this row;how many hours of a day you work on excel,tblHours,2,0) -> #VALUE! | P16: =VLOOKUP(tblSalaries#this row;clean country,tblCountries,5,0) -> #VALUE! | Q16: =IF($Q$1,tblSalaries#this row;ppp factor*tblSalaries#this row;salary in usd,tblSalaries#this row;salary in usd) -> #VALUE!
B17: ID0012 | C17: 41054.156 | D17: 14000 | E17: 14000 | F17: USD | G17: =tblSalaries#this row;clean salary (in local currency)*VLOOKUP(tblSalaries#this row;currency,tblXrate,2,0) -> #VALUE! | H17: quality engineer | I17: Engineer | J17: Hungary | K17: =VLOOKUP(tblSalaries#this row;where do you work,tblCountriesactual:mapping,2,0) -> #VALUE! | L17: 4 to 6 hours a day | N17: =VLOOKUP(K17,tblCountries,3,0) -> #VALUE! | O17: =VLOOKUP(tblSalaries#this row;how many hours of a day you work on excel,tblHours,2,0) -> #VALUE! | P17: =VLOOKUP(tblSalaries#this row;clean country,tblCountries,5,0) -> #VALUE! | Q17: =IF($Q$1,tblSalaries#this row;ppp factor*tblSalaries#this row;salary in usd,tblSalaries#this row;salary in usd) -> #VALUE!
B18: ID0013 | C18: 41054.159 | D18: 749000 INR | E18: 749000 | F18: INR | G18: =tblSalaries#this row;clean salary (in local currency)*VLOOKUP(tblSalaries#this row;currency,tblXrate,2,0) -> #VALUE! | H18: Senion Analyst | I18: Analyst | J18: India | K18: =VLOOKUP(tblSalaries#this row;where do you work,tblCountriesactual:mapping,2,0) -> #VALUE! | L18: All the 8 hours baby, all the 8! | N18: =VLOOKUP(K18,tblCountries,3,0) -> #VALUE! | O18: =VLOOKUP(tblSalaries#this row;how many hours of a day you work on excel,tblHours,2,0) -> #VALUE! | P18: =VLOOKUP(tblSalaries#this row;clean country,tblCountries,5,0) -> #VALUE! | Q18: =IF($Q$1,tblSalaries#this row;ppp factor*tblSalaries#this row;salary in usd,tblSalaries#this row;salary in usd) -> #VALUE!
B19: ID0014 | C19: 41054.16 | D19: 49000 | E19: 49000 | F19: USD | G19: =tblSalaries#this row;clean salary (in local currency)*VLOOKUP(tblSalaries#this row;currency,tblXrate,2,0) -> #VALUE! | H19: business analyst | I19: Analyst | J19: USA | K19: =VLOOKUP(tblSalaries#this row;where do you work,tblCountriesactual:mapping,2,0) -> #VALUE! | L19: All the 8 hours baby, all the 8! | N19: =VLOOKUP(K19,tblCountries,3,0) -> #VALUE! | O19: =VLOOKUP(tblSalaries#this row;how many hours of a day you work on excel,tblHours,2,0) -> #VALUE! | P19: =VLOOKUP(tblSalaries#this row;clean country,tblCountries,5,0) -> #VALUE! | Q19: =IF($Q$1,tblSalaries#this row;ppp factor*tblSalaries#this row;salary in usd,tblSalaries#this row;salary in usd) -> #VALUE!
B20: ID0015 | C20: 41054.162 | D20: 85000 | E20: 85000 | F20: USD | G20: =tblSalaries#this row;clean salary (in local currency)*VLOOKUP(tblSalaries#this row;currency,tblXrate,2,0) -> #VALUE! | H20: Project Engineer | I20: Engineer | J20: USA | K20: =VLOOKUP(tblSalaries#this row;where do you work,tblCountriesactual:mapping,2,0) -> #VALUE! | L20: 1 or 2 hours a day | N20: =VLOOKUP(K20,tblCountries,3,0) -> #VALUE! | O20: =VLOOKUP(tblSalaries#this row;how many hours of a day you work on excel,tblHours,2,0) -> #VALUE! | P20: =VLOOKUP(tblSalaries#this row;clean country,tblCountries,5,0) -> #VALUE! | Q20: =IF($Q$1,tblSalaries#this row;ppp factor*tblSalaries#this row;salary in usd,tblSalaries#this row;salary in usd) -> #VALUE!
B21: ID0016 | C21: 41054.164 | D21: 75000 | E21: 75000 | F21: USD | G21: =tblSalaries#this row;clean salary (in local currency)*VLOOKUP(tblSalaries#this row;currency,tblXrate,2,0) -> #VALUE! | H21: Sr Project Engineer | I21: Engineer | J21: USA | K21: =VLOOKUP(tblSalaries#this row;where do you work,tblCountriesactual:mapping,2,0) -> #VALUE! | L21: All the 8 hours baby, all the 8! | N21: =VLOOKUP(K21,tblCountries,3,0) -> #VALUE! | O21: =VLOOKUP(tblSalaries#this row;how many hours of a day you work on excel,tblHours,2,0) -> #VALUE! | P21: =VLOOKUP(tblSalaries#this row;clean country,tblCountries,5,0) -> #VALUE! | Q21: =IF($Q$1,tblSalaries#this row;ppp factor*tblSalaries#this row;salary in usd,tblSalaries#this row;salary in usd) -> #VALUE!
B22: ID0017 | C22: 41054.174 | D22: 107000 | E22: 107000 | F22: USD | G22: =tblSalaries#this row;clean salary (in local currency)*VLOOKUP(tblSalaries#this row;currency,tblXrate,2,0) -> #VALUE! | H22: Business Development | I22: Manager | J22: Switzerland | K22: =VLOOKUP(tblSalaries#this row;where do you work,tblCountriesactual:mapping,2,0) -> #VALUE! | L22: 4 to 6 hours a day | N22: =VLOOKUP(K22,tblCountries,3,0) -> #VALUE! | O22: =VLOOKUP(tblSalaries#this row;how many hours of a day you work on excel,tblHours,2,0) -> #VALUE! | P22: =VLOOKUP(tblSalaries#this row;clean country,tblCountries,5,0) -> #VALUE! | Q22: =IF($Q$1,tblSalaries#this row;ppp factor*tblSalaries#this row;salary in usd,tblSalaries#this row;salary in usd) -> #VALUE!
B23: ID0018 | C23: 41054.174 | D23: 45000 | E23: 45000 | F23: USD | G23: =tblSalaries#this row;clean salary (in local currency)*VLOOKUP(tblSalaries#this row;currency,tblXrate,2,0) -> #VALUE! | H23: Excel Report Writer | I23: Reporting | J23: South Africa | K23: =VLOOKUP(tblSalaries#this row;where do you work,tblCountriesactual:mapping,2,0) -> #VALUE! | L23: All the 8 hours baby, all the 8! | N23: =VLOOKUP(K23,tblCountries,3,0) -> #VALUE! | O23: =VLOOKUP(tblSalaries#this row;how many hours of a day you work on excel,tblHours,2,0) -> #VALUE! | P23: =VLOOKUP(tblSalaries#this row;clean country,tblCountries,5,0) -> #VALUE! | Q23: =IF($Q$1,tblSalaries#this row;ppp factor*tblSalaries#this row;salary in usd,tblSalaries#this row;salary in usd) -> #VALUE!
B24: ID0019 | C24: 41054.178 | D24: 550000 | E24: 550000 | F24: INR | G24: =tblSalaries#this row;clean salary (in local currency)*VLOOKUP(tblSalaries#this row;currency,tblXrate,2,0) -> #VALUE! | H24: AGM | I24: Manager | J24: India | K24: =VLOOKUP(tblSalaries#this row;where do you work,tblCountriesactual:mapping,2,0) -> #VALUE! | L24: 2 to 3 hours per day | N24: =VLOOKUP(K24,tblCountries,3,0) -> #VALUE! | O24: =VLOOKUP(tblSalaries#this row;how many hours of a day you work on excel,tblHours,2,0) -> #VALUE! | P24: =VLOOKUP(tblSalaries#this row;clean country,tblCountries,5,0) -> #VALUE! | Q24: =IF($Q$1,tblSalaries#this row;ppp factor*tblSalaries#this row;salary in usd,tblSalaries#this row;salary in usd) -> #VALUE!
B25: ID0020 | C25: 41054.18 | D25: 50000 | E25: 50000 | F25: USD | G25: =tblSalaries#this row;clean salary (in local currency)*VLOOKUP(tblSalaries#this row;currency,tblXrate,2,0) -> #VALUE! | H25: GM | I25: Manager | J25: India | K25: =VLOOKUP(tblSalaries#this row;where do you work,tblCountriesactual:mapping,2,0) -> #VALUE! | L25: 1 or 2 hours a day | N25: =VLOOKUP(K25,tblCountries,3,0) -> #VALUE! | O25: =VLOOKUP(tblSalaries#this row;how many hours of a day you work on excel,tblHours,2,0) -> #VALUE! | P25: =VLOOKUP(tblSalaries#this row;clean country,tblCountries,5,0) -> #VALUE! | Q25: =IF($Q$1,tblSalaries#this row;ppp factor*tblSalaries#this row;salary in usd,tblSalaries#this row;salary in usd) -> #VALUE!
B26: ID0021 | C26: 41054.183 | D26: 13500 | E26: 13500 | F26: USD | G26: =tblSalaries#this row;clean salary (in local currency)*VLOOKUP(tblSalaries#this row;currency,tblXrate,2,0) -> #VALUE! | H26: DSE Co-ordinator | I26: Manager | J26: India | K26: =VLOOKUP(tblSalaries#this row;where do you work,tblCountriesactual:mapping,2,0) -> #VALUE! | L26: 4 to 6 hours a day | N26: =VLOOKUP(K26,tblCountries,3,0) -> #VALUE! | O26: =VLOOKUP(tblSalaries#this row;how many hours of a day you work on excel,tblHours,2,0) -> #VALUE! | P26: =VLOOKUP(tblSalaries#this row;clean country,tblCountries,5,0) -> #VALUE! | Q26: =IF($Q$1,tblSalaries#this row;ppp factor*tblSalaries#this row;salary in usd,tblSalaries#this row;salary in usd) -> #VALUE!
B27: ID0022 | C27: 41054.183 | D27: 96000 | E27: 96000 | F27: USD | G27: =tblSalaries#this row;clean salary (in local currency)*VLOOKUP(tblSalaries#this row;currency,tblXrate,2,0) -> #VALUE! | H27: Analyst | I27: Analyst | J27: USA | K27: =VLOOKUP(tblSalaries#this row;where do you work,tblCountriesactual:mapping,2,0) -> #VALUE! | L27: 2 to 3 hours per day | N27: =VLOOKUP(K27,tblCountries,3,0) -> #VALUE! | O27: =VLOOKUP(tblSalaries#this row;how many hours of a day you work on excel,tblHours,2,0) -> #VALUE! | P27: =VLOOKUP(tblSalaries#this row;clean country,tblCountries,5,0) -> #VALUE! | Q27: =IF($Q$1,tblSalaries#this row;ppp factor*tblSalaries#this row;salary in usd,tblSalaries#this row;salary in usd) -> #VALUE!
B28: ID0023 | C28: 41054.189 | D28: 1000000 | E28: 1000000 | F28: INR | G28: =tblSalaries#this row;clean salary (in local currency)*VLOOKUP(tblSalaries#this row;currency,tblXrate,2,0) -> #VALUE! | H28: Manager | I28: Manager | J28: India | K28: =VLOOKUP(tblSalaries#this row;where do you work,tblCountriesactual:mapping,2,0) -> #VALUE! | L28: 4 to 6 hours a day | N28: =VLOOKUP(K28,tblCountries,3,0) -> #VALUE! | O28: =VLOOKUP(tblSalaries#this row;how many hours of a day you work on excel,tblHours,2,0) -> #VALUE! | P28: =VLOOKUP(tblSalaries#this row;clean country,tblCountries,5,0) -> #VALUE! | Q28: =IF($Q$1,tblSalaries#this row;ppp factor*tblSalaries#this row;salary in usd,tblSalaries#this row;salary in usd) -> #VALUE!
B29: ID0024 | C29: 41054.189 | D29: 75000 | E29: 75000 | F29: USD | G29: =tblSalaries#this row;clean salary (in local currency)*VLOOKUP(tblSalaries#this row;currency,tblXrate,2,0) -> #VALUE! | H29: Marketing Director | I29: CXO or Top Mgmt. | J29: USA | K29: =VLOOKUP(tblSalaries#this row;where do you work,tblCountriesactual:mapping,2,0) -> #VALUE! | L29: 4 to 6 hours a day | N29: =VLOOKUP(K29,tblCountries,3,0) -> #VALUE! | O29: =VLOOKUP(tblSalaries#this row;how many hours of a day you work on excel,tblHours,2,0) -> #VALUE! | P29: =VLOOKUP(tblSalaries#this row;clean country,tblCountries,5,0) -> #VALUE! | Q29: =IF($Q$1,tblSalaries#this row;ppp factor*tblSalaries#this row;salary in usd,tblSalaries#this row;salary in usd) -> #VALUE!
B30: ID0025 | C30: 41054.197 | D30: 40000 us | E30: 40000 | F30: USD | G30: =tblSalaries#this row;clean salary (in local currency)*VLOOKUP(tblSalaries#this row;currency,tblXrate,2,0) -> #VALUE! | H30: sales and marketing | I30: Manager | J30: USA | K30: =VLOOKUP(tblSalaries#this row;where do you work,tblCountriesactual:mapping,2,0) -> #VALUE! | L30: 2 to 3 hours per day | N30: =VLOOKUP(K30,tblCountries,3,0) -> #VALUE! | O30: =VLOOKUP(tblSalaries#this row;how many hours of a day you work on excel,tblHours,2,0) -> #VALUE! | P30: =VLOOKUP(tblSalaries#this row;clean country,tblCountries,5,0) -> #VALUE! | Q30: =IF($Q$1,tblSalaries#this row;ppp factor*tblSalaries#this row;salary in usd,tblSalaries#this row;salary in usd) -> #VALUE!
B31: ID0026 | C31: 41054.198 | D31: 60000 | E31: 60000 | F31: USD | G31: =tblSalaries#this row;clean salary (in local currency)*VLOOKUP(tblSalaries#this row;currency,tblXrate,2,0) -> #VALUE! | H31: Analyst II | I31: Analyst | J31: USA | K31: =VLOOKUP(tblSalaries#this row;where do you work,tblCountriesactual:mapping,2,0) -> #VALUE! | L31: All the 8 hours baby, all the 8! | N31: =VLOOKUP(K31,tblCountries,3,0) -> #VALUE! | O31: =VLOOKUP(tblSalaries#this row;how many hours of a day you work on excel,tblHours,2,0) -> #VALUE! | P31: =VLOOKUP(tblSalaries#this row;clean country,tblCountries,5,0) -> #VALUE! | Q31: =IF($Q$1,tblSalaries#this row;ppp factor*tblSalaries#this row;salary in usd,tblSalaries#this row;salary in usd) -> #VALUE!
B32: ID0028 | C32: 41054.2 | D32: 2700 | E32: 32400 | F32: EUR | G32: =tblSalaries#this row;clean salary (in local currency)*VLOOKUP(tblSalaries#this row;currency,tblXrate,2,0) -> #VALUE! | H32: Project Leader | I32: Manager | J32: Belgium | K32: =VLOOKUP(tblSalaries#this row;where do you work,tblCountriesactual:mapping,2,0) -> #VALUE! | L32: 4 to 6 hours a day | N32: =VLOOKUP(K32,tblCountries,3,0) -> #VALUE! | O32: =VLOOKUP(tblSalaries#this row;how many hours of a day you work on excel,tblHours,2,0) -> #VALUE! | P32: =VLOOKUP(tblSalaries#this row;clean country,tblCountries,5,0) -> #VALUE! | Q32: =IF($Q$1,tblSalaries#this row;ppp factor*tblSalaries#this row;salary in usd,tblSalaries#this row;salary in usd) -> #VALUE!
B33: ID0029 | C33: 41054.203 | D33: 900000 INR | E33: 900000 | F33: INR | G33: =tblSalaries#this row;clean salary (in local currency)*VLOOKUP(tblSalaries#this row;currency,tblXrate,2,0) -> #VALUE! | H33: Applications Engineer | I33: Engineer | J33: India | K33: =VLOOKUP(tblSalaries#this row;where do you work,tblCountriesactual:mapping,2,0) -> #VALUE! | L33: 1 or 2 hours a day | N33: =VLOOKUP(K33,tblCountries,3,0) -> #VALUE! | O33: =VLOOKUP(tblSalaries#this row;how many hours of a day you work on excel,tblHours,2,0) -> #VALUE! | P33: =VLOOKUP(tblSalaries#this row;clean country,tblCountries,5,0) -> #VALUE! | Q33: =IF($Q$1,tblSalaries#this row;ppp factor*tblSalaries#this row;salary in usd,tblSalaries#this row;salary in usd) -> #VALUE!
B34: ID0030 | C34: 41054.205 | D34: Rs 600000 | E34: 600000 | F34: INR | G34: =tblSalaries#this row;clean salary (in local currency)*VLOOKUP(tblSalaries#this row;currency,tblXrate,2,0) -> #VALUE! | H34: strategy manager | I34: Manager | J34: India | K34: =VLOOKUP(tblSalaries#this row;where do you work,tblCountriesactual:mapping,2,0) -> #VALUE! | L34: 4 to 6 hours a day | N34: =VLOOKUP(K34,tblCountries,3,0) -> #VALUE! | O34: =VLOOKUP(tblSalaries#this row;how many hours of a day you work on excel,tblHours,2,0) -> #VALUE! | P34: =VLOOKUP(tblSalaries#this row;clean country,tblCountries,5,0) -> #VALUE! | Q34: =IF($Q$1,tblSalaries#this row;ppp factor*tblSalaries#this row;salary in usd,tblSalaries#this row;salary in usd) -> #VALUE!
B35: ID0031 | C35: 41054.205 | D35: 41000 | E35: 41000 | F35: USD | G35: =tblSalaries#this row;clean salary (in local currency)*VLOOKUP(tblSalaries#this row;currency,tblXrate,2,0) -> #VALUE! | H35: Chief of the department of public budget analisis and forecasting | I35: Manager | J35: Russia | K35: =VLOOKUP(tblSalaries#this row;where do you work,tblCountriesactual:mapping,2,0) -> #VALUE! | L35: All the 8 hours baby, all the 8! | N35: =VLOOKUP(K35,tblCountries,3,0) -> #VALUE! | O35: =VLOOKUP(tblSalaries#this row;how many hours of a day you work on excel,tblHours,2,0) -> #VALUE! | P35: =VLOOKUP(tblSalaries#this row;clean country,tblCountries,5,0) -> #VALUE! | Q35: =IF($Q$1,tblSalaries#this row;ppp factor*tblSalaries#this row;salary in usd,tblSalaries#this row;salary in usd) -> #VALUE!
B36: ID0032 | C36: 41054.206 | D36: 360000 INR | E36: 360000 | F36: INR | G36: =tblSalaries#this row;clean salary (in local currency)*VLOOKUP(tblSalaries#this row;currency,tblXrate,2,0) -> #VALUE! | H36: Specialist | I36: Specialist | J36: India | K36: =VLOOKUP(tblSalaries#this row;where do you work,tblCountriesactual:mapping,2,0) -> #VALUE! | L36: 4 to 6 hours a day | N36: =VLOOKUP(K36,tblCountries,3,0) -> #VALUE! | O36: =VLOOKUP(tblSalaries#this row;how many hours of a day you work on excel,tblHours,2,0) -> #VALUE! | P36: =VLOOKUP(tblSalaries#this row;clean country,tblCountries,5,0) -> #VALUE! | Q36: =IF($Q$1,tblSalaries#this row;ppp factor*tblSalaries#this row;salary in usd,tblSalaries#this row;salary in usd) -> #VALUE!
B37: ID0033 | C37: 41054.207 | D37: Â£35000 | E37: 35000 | F37: GBP | G37: =tblSalaries#this row;clean salary (in local currency)*VLOOKUP(tblSalaries#this row;currency,tblXrate,2,0) -> #VALUE! | H37: Management Information Analyst | I37: Analyst | J37: UK | K37: =VLOOKUP(tblSalaries#this row;where do you work,tblCountriesactual:mapping,2,0) -> #VALUE! | L37: All the 8 hours baby, all the 8! | N37: =VLOOKUP(K37,tblCountries,3,0) -> #VALUE! | O37: =VLOOKUP(tblSalaries#this row;how many hours of a day you work on excel,tblHours,2,0) -> #VALUE! | P37: =VLOOKUP(tblSalaries#this row;clean country,tblCountries,5,0) -> #VALUE! | Q37: =IF($Q$1,tblSalaries#this row;ppp factor*tblSalaries#this row;salary in usd,tblSalaries#this row;salary in usd) -> #VALUE!
B38: ID0035 | C38: 41054.209 | D38: 1600 $ | E38: 19200 | F38: USD | G38: =tblSalaries#this row;clean salary (in local currency)*VLOOKUP(tblSalaries#this row;currency,tblXrate,2,0) -> #VALUE! | H38: Analyst | I38: Analyst | J38: Poland | K38: =VLOOKUP(tblSalaries#this row;where do you work,tblCountriesactual:mapping,2,0) -> #VALUE! | L38: 2 to 3 hours per day | N38: =VLOOKUP(K38,tblCountries,3,0) -> #VALUE! | O38: =VLOOKUP(tblSalaries#this row;how many hours of a day you work on excel,tblHours,2,0) -> #VALUE! | P38: =VLOOKUP(tblSalaries#this row;clean country,tblCountries,5,0) -> #VALUE! | Q38: =IF($Q$1,tblSalaries#this row;ppp factor*tblSalaries#this row;salary in usd,tblSalaries#this row;salary in usd) -> #VALUE!
B39: ID0036 | C39: 41054.211 | D39: 500000 | E39: 500000 | F39: INR | G39: =tblSalaries#this row;clean salary (in local currency)*VLOOKUP(tblSalaries#this row;currency,tblXrate,2,0) -> #VALUE! | H39: Senior Consultant | I39: Consultant | J39: India | K39: =VLOOKUP(tblSalaries#this row;where do you work,tblCountriesactual:mapping,2,0) -> #VALUE! | L39: All the 8 hours baby, all the 8! | N39: =VLOOKUP(K39,tblCountries,3,0) -> #VALUE! | O39: =VLOOKUP(tblSalaries#this row;how many hours of a day you work on excel,tblHours,2,0) -> #VALUE! | P39: =VLOOKUP(tblSalaries#this row;clean country,tblCountries,5,0) -> #VALUE! | Q39: =IF($Q$1,tblSalaries#this row;ppp factor*tblSalaries#this row;salary in usd,tblSalaries#this row;salary in usd) -> #VALUE!
B40: ID0037 | C40: 41054.214 | D40: 150000 | E40: 150000 | F40: USD | G40: =tblSalaries#this row;clean salary (in local currency)*VLOOKUP(tblSalaries#this row;currency,tblXrate,2,0) -> #VALUE! | H40: Portfolio Manager | I40: Manager | J40: USA | K40: =VLOOKUP(tblSalaries#this row;where do you work,tblCountriesactual:mapping,2,0) -> #VALUE! | L40: 2 to 3 hours per day | N40: =VLOOKUP(K40,tblCountries,3,0) -> #VALUE! | O40: =VLOOKUP(tblSalaries#this row;how many hours of a day you work on excel,tblHours,2,0) -> #VALUE! | P40: =VLOOKUP(tblSalaries#this row;clean country,tblCountries,5,0) -> #VALUE! | Q40: =IF($Q$1,tblSalaries#this row;ppp factor*tblSalaries#this row;salary in usd,tblSalaries#this row;salary in usd) -> #VALUE!
B41: ID0038 | C41: 41054.216 | D41: 69000 | E41: 69000 | F41: USD | G41: =tblSalaries#this row;clean salary (in local currency)*VLOOKUP(tblSalaries#this row;currency,tblXrate,2,0) -> #VALUE! | H41: Design Engineer | I41: Engineer | J41: USA | K41: =VLOOKUP(tblSalaries#this row;where do you work,tblCountriesactual:mapping,2,0) -> #VALUE! | L41: 4 to 6 hours a day | N41: =VLOOKUP(K41,tblCountries,3,0) -> #VALUE! | O41: =VLOOKUP(tblSalaries#this row;how many hours of a day you work on excel,tblHours,2,0) -> #VALUE! | P41: =VLOOKUP(tblSalaries#this row;clean country,tblCountries,5,0) -> #VALUE! | Q41: =IF($Q$1,tblSalaries#this row;ppp factor*tblSalaries#this row;salary in usd,tblSalaries#this row;salary in usd) -> #VALUE!
B42: ID0039 | C42: 41054.216 | D42: 30000 | E42: 30000 | F42: USD | G42: =tblSalaries#this row;clean salary (in local currency)*VLOOKUP(tblSalaries#this row;currency,tblXrate,2,0) -> #VALUE! | H42: Academic Advisor | I42: Consultant | J42: USA | K42: =VLOOKUP(tblSalaries#this row;where do you work,tblCountriesactual:mapping,2,0) -> #VALUE! | L42: 2 to 3 hours per day | N42: =VLOOKUP(K42,tblCountries,3,0) -> #VALUE! | O42: =VLOOKUP(tblSalaries#this row;how many hours of a day you work on excel,tblHours,2,0) -> #VALUE! | P42: =VLOOKUP(tblSalaries#this row;clean country,tblCountries,5,0) -> #VALUE! | Q42: =IF($Q$1,tblSalaries#this row;ppp factor*tblSalaries#this row;salary in usd,tblSalaries#this row;salary in usd) -> #VALUE!
...

Sheet Calculations
B1: Average salary by Continent by Job Type, Experience, Daily usage of Excel | N1: Salary boxplot | AG1: Proportion of participants by… | AW1: Average salary by… | BL1: Top 5 countries by… | CB1: Random facts from the study
N2: Continent #1 | W2: Continent #2 | AG2: =+Dashboard!M32 -> Daily usage of Excel in hours | AW2: =+Dashboard!M20 -> Years of experience with Excel | CT2: No | CU2: Message
D3: min | E3: max | AG3: Selection : | AH3: =MATCH(AG2,lstGraph2,0) -> 2 | AW3: Selection : | AX3: =MATCH(AW2,lstGraph2,0) -> 1 | BL3: Selected Metrics : | BN3: 4 | BO3: =+CHOOSE($BN$3,BM6,BN6,BO6,BP6) -> Nb responses | CT3: 1 | CU3: =+INDEX($CU$18:$CU$33,MATCH(CT3,$CT$18:$CT$33,0)) -> #VALUE! | CV3: =+INDEX($CV$18:$CV$33,MATCH(CT3,$CT$18:$CT$33,0)) -> Participants are using Excel 0 hours a day.
B4: Experience | D4: =+Dashboard!AA6 -> 0 | E4: =+Dashboard!AE6 -> 99 | O4: Min | P4: 1st Quartile | Q4: Median | R4: 3rd Quartile | S4: Max | X4: Min | Y4: 1st Quartile | Z4: Median | AA4: 3rd Quartile | AB4: Max | CT4: 2 | CU4: =+INDEX($CU$18:$CU$33,MATCH(CT4,$CT$18:$CT$33,0)) -> #VALUE! | CV4: =+INDEX($CV$18:$CV$33,MATCH(CT4,$CT$18:$CT$33,0)) -> Participants working as Accountant have more then 15 years of experience.
B5: # hours per day | C5: =+Dashboard!AA7 -> * | D5: =+VLOOKUP(C5,tblHours,2)-0.1 -> -1.1 | E5: =+VLOOKUP(C5,tblHours,3)+0.1 -> 99.1 | O5: 0 | P5: 1 | Q5: 2 | R5: 3 | S5: 4 | X5: 0 | Y5: 1 | Z5: 2 | AA5: 3 | AB5: 4 | AG5: Experience | AO5: # hours / day | AW5: Experience | BE5: # hours / day | BL5: 5 Countries from the scroll bar position | BO5: 0 | CT5: 3 | CU5: =+INDEX($CU$18:$CU$33,MATCH(CT5,$CT$18:$CT$33,0)) -> 100% | CV5: =+INDEX($CV$18:$CV$33,MATCH(CT5,$CT$18:$CT$33,0)) -> Participants love Chandoo.org !
B6: Selected cont | C6: =Dashboard!AA5 -> North America | D6: =INDEX(lstContinents,MATCH(C6,lstContinents2,0)) -> North Amer. | N6: Selection | O6: =+Dashboard!AA26 -> Asia | W6: Selection | X6: =+Dashboard!AA27 -> North America | AG6: Min | AH6: 0 | AI6: 2 | AJ6: 5 | AK6: 10 | AL6: 15 | AO6: Code Hours | AP6: 1 | AQ6: 2 | AR6: 3 | AS6: 4 | AT6: 5 | AW6: Min | AX6: 0 | AY6: 2 | AZ6: 5 | BA6: 10 | BB6: 15 | BE6: Code | BF6: 1 | BG6: 2 | BH6: 3 | BI6: 4 | BJ6: 5 | BL6: Index | BM6: Country | BN6: Salary | BO6: Experience | BP6: Nb responses | CT6: 4 | CU6: =+INDEX($CU$18:$CU$33,MATCH(CT6,$CT$18:$CT$33,0)) -> #VALUE! | CV6: =+INDEX($CV$18:$CV$33,MATCH(CT6,$CT$18:$CT$33,0)) -> Participants living in Asia.
B7: Total Salaries | O7: =INDEX(lstContinents,MATCH(O6,lstContinents2,0)) -> Asia | P7: =+O7 -> Asia | Q7: =+P7 -> Asia | R7: =+Q7 -> Asia | S7: =+R7 -> Asia | X7: =INDEX(lstContinents,MATCH(X6,lstContinents2,0)) -> North Amer. | Y7: =+X7 -> North Amer. | Z7: =+Y7 -> North Amer. | AA7: =+Z7 -> North Amer. | AB7: =+AA7 -> North Amer. | AG7: Max | AH7: 2 | AI7: 5 | AJ7: 10 | AK7: 15 | AL7: 99 | AW7: Max | AX7: 2 | AY7: 5 | AZ7: 10 | BA7: 15 | BB7: 99 | BL7: Max | BN7: =MAX(BN18:BN120) -> #VALUE! | BO7: =MAX(BO18:BO120) -> 0 | BP7: =MAX(BP18:BP120) -> #VALUE! | CT7: 5 | CU7: =+INDEX($CU$18:$CU$33,MATCH(CT7,$CT$18:$CT$33,0)) -> #VALUE! | CV7: =+INDEX($CV$18:$CV$33,MATCH(CT7,$CT$18:$CT$33,0)) -> Average salary of participants living in Europe.
C8: Asia | D8: Europe | E8: Africa | F8: North Amer. | G8: South Amer. | H8: Oceania | I8: Worldwide | J8: Selected Continent | O8: Min | P8: 1st Quartile | Q8: Median | R8: 3rd Quartile | S8: Max | X8: Min | Y8: 1st Quartile | Z8: Median | AA8: 3rd Quartile | AB8: Max | BL8: =1+BO5 -> 1 | BM8: =INDEX($BU$18:$BY$120,$BL8,COLUMNS($BL$8:BM8)) -> #N/A | BN8: =INDEX($BU$18:$BY$120,$BL8,COLUMNS($BL$8:BN8)) -> #N/A | BO8: =INDEX($BU$18:$BY$120,$BL8,COLUMNS($BL$8:BO8)) -> #N/A | BP8: =INDEX($BU$18:$BY$120,$BL8,COLUMNS($BL$8:BP8)) -> #N/A
B9: Accountant | C9: {=SUM((Continent=C$8)*(JobType=$B9)*(YearsExp>$D$4)*(YearsExp<$E$4)*(CodeHours>$D$5)*(CodeHours<$E$5)*Salaries)} -> #VALUE! | D9: {=SUM((Continent=D$8)*(JobType=$B9)*(YearsExp>$D$4)*(YearsExp<$E$4)*(CodeHours>$D$5)*(CodeHours<$E$5)*Salaries)} -> #VALUE! | E9: {=SUM((Continent=E$8)*(JobType=$B9)*(YearsExp>$D$4)*(YearsExp<$E$4)*(CodeHours>$D$5)*(CodeHours<$E$5)*Salaries)} -> #VALUE! | F9: {=SUM((Continent=F$8)*(JobType=$B9)*(YearsExp>$D$4)*(YearsExp<$E$4)*(CodeHours>$D$5)*(CodeHours<$E$5)*Salaries)} -> #VALUE! | G9: {=SUM((Continent=G$8)*(JobType=$B9)*(YearsExp>$D$4)*(YearsExp<$E$4)*(CodeHours>$D$5)*(CodeHours<$E$5)*Salaries)} -> #VALUE! | H9: {=SUM((Continent=H$8)*(JobType=$B9)*(YearsExp>$D$4)*(YearsExp<$E$4)*(CodeHours>$D$5)*(CodeHours<$E$5)*Salaries)} -> #VALUE! | I9: =SUM(C9:H9) -> #VALUE! | J9: =INDEX(C9:H9,,MATCH($D$6,$C$8:$H$8,0)) -> #VALUE! | N9: Accountant | O9: {=QUARTILE(IF((Continent=O$7)*(JobType=$B9)*1,Salaries),O$5)} -> #VALUE! | P9: {=QUARTILE(IF((Continent=P$7)*(JobType=$B9),Salaries),P$5)} -> #VALUE! | Q9: {=QUARTILE(IF((Continent=Q$7)*(JobType=$B9),Salaries),Q$5)} -> #VALUE! | R9: {=QUARTILE(IF((Continent=R$7)*(JobType=$B9),Salaries),R$5)} -> #VALUE! | S9: {=QUARTILE(IF((Continent=S$7)*(JobType=$B9),Salaries),S$5)} -> #VALUE! | W9: Accountant | X9: {=QUARTILE(IF((Continent=X$7)*(JobType=$B9),Salaries),X$5)} -> #VALUE! | Y9: {=QUARTILE(IF((Continent=Y$7)*(JobType=$B9),Salaries),Y$5)} -> #VALUE! | Z9: {=QUARTILE(IF((Continent=Z$7)*(JobType=$B9),Salaries),Z$5)} -> #VALUE! | AA9: {=QUARTILE(IF((Continent=AA$7)*(JobType=$B9),Salaries),AA$5)} -> #VALUE! | AB9: {=QUARTILE(IF((Continent=AB$7)*(JobType=$B9),Salaries),AB$5)} -> #VALUE! | AH9: 0 - 2 yrs | AI9: 2 - 5 yrs | AJ9: 5 - 10 yrs | AK9: 10 - 15 yrs | AL9: 15+ yrs | AM9: Total | AP9: 0 hrs | AQ9: 1 - 2 hrs | AR9: 2 - 3 hrs | AS9: 4 - 6 hrs | AT9: 8+ hrs | AU9: Total | AX9: 0 - 2 yrs | AY9: 2 - 5 yrs | AZ9: 5 - 10 yrs | BA9: 10 - 15 yrs | BB9: 15+ yrs | BF9: 0 hrs | BG9: 1 - 2 hrs | BH9: 2 - 3 hrs | BI9: 4 - 6 hrs | BJ9: 8+ hrs | BL9: =+BL8+1 -> 2 | BM9: =INDEX($BU$18:$BY$120,$BL9,COLUMNS($BL$8:BM9)) -> #N/A | BN9: =INDEX($BU$18:$BY$120,$BL9,COLUMNS($BL$8:BN9)) -> #N/A | BO9: =INDEX($BU$18:$BY$120,$BL9,COLUMNS($BL$8:BO9)) -> #N/A | BP9: =INDEX($BU$18:$BY$120,$BL9,COLUMNS($BL$8:BP9)) -> #N/A
B10: Analyst | C10: {=SUM((Continent=C$8)*(JobType=$B10)*(YearsExp>$D$4)*(YearsExp<$E$4)*(CodeHours>$D$5)*(CodeHours<$E$5)*Salaries)} -> #VALUE! | D10: {=SUM((Continent=D$8)*(JobType=$B10)*(YearsExp>$D$4)*(YearsExp<$E$4)*(CodeHours>$D$5)*(CodeHours<$E$5)*Salaries)} -> #VALUE! | E10: {=SUM((Continent=E$8)*(JobType=$B10)*(YearsExp>$D$4)*(YearsExp<$E$4)*(CodeHours>$D$5)*(CodeHours<$E$5)*Salaries)} -> #VALUE! | F10: {=SUM((Continent=F$8)*(JobType=$B10)*(YearsExp>$D$4)*(YearsExp<$E$4)*(CodeHours>$D$5)*(CodeHours<$E$5)*Salaries)} -> #VALUE! | G10: {=SUM((Continent=G$8)*(JobType=$B10)*(YearsExp>$D$4)*(YearsExp<$E$4)*(CodeHours>$D$5)*(CodeHours<$E$5)*Salaries)} -> #VALUE! | H10: {=SUM((Continent=H$8)*(JobType=$B10)*(YearsExp>$D$4)*(YearsExp<$E$4)*(CodeHours>$D$5)*(CodeHours<$E$5)*Salaries)} -> #VALUE! | I10: =SUM(C10:H10) -> #VALUE! | J10: =INDEX(C10:H10,,MATCH($D$6,$C$8:$H$8,0)) -> #VALUE! | N10: Analyst | O10: {=QUARTILE(IF((Continent=O$7)*(JobType=$B10)*1,Salaries),O$5)} -> #VALUE! | P10: {=QUARTILE(IF((Continent=P$7)*(JobType=$B10),Salaries),P$5)} -> #VALUE! | Q10: {=QUARTILE(IF((Continent=Q$7)*(JobType=$B10),Salaries),Q$5)} -> #VALUE! | R10: {=QUARTILE(IF((Continent=R$7)*(JobType=$B10),Salaries),R$5)} -> #VALUE! | S10: {=QUARTILE(IF((Continent=S$7)*(JobType=$B10),Salaries),S$5)} -> #VALUE! | W10: Analyst | X10: {=QUARTILE(IF((Continent=X$7)*(JobType=$B10),Salaries),X$5)} -> #VALUE! | Y10: {=QUARTILE(IF((Continent=Y$7)*(JobType=$B10),Salaries),Y$5)} -> #VALUE! | Z10: {=QUARTILE(IF((Continent=Z$7)*(JobType=$B10),Salaries),Z$5)} -> #VALUE! | AA10: {=QUARTILE(IF((Continent=AA$7)*(JobType=$B10),Salaries),AA$5)} -> #VALUE! | AB10: {=QUARTILE(IF((Continent=AB$7)*(JobType=$B10),Salaries),AB$5)} -> #VALUE! | AG10: Asia | AH10: {=SUM((Continent=$AG10)*(YearsExp>AH$6)*(YearsExp<=AH$7))} -> #VALUE! | AI10: {=SUM((Continent=$AG10)*(YearsExp>AI$6)*(YearsExp<=AI$7))} -> #VALUE! | AJ10: {=SUM((Continent=$AG10)*(YearsExp>AJ$6)*(YearsExp<=AJ$7))} -> #VALUE! | AK10: {=SUM((Continent=$AG10)*(YearsExp>AK$6)*(YearsExp<=AK$7))} -> #VALUE! | AL10: {=SUM((Continent=$AG10)*(YearsExp>AL$6)*(YearsExp<=AL$7))} -> #VALUE! | AM10: =SUM(AH10:AL10) -> #VALUE! | AO10: Asia | AP10: {=SUMPRODUCT((Continent=$AO10)*(CodeHours=AP$6))} -> #VALUE! | AQ10: {=SUMPRODUCT((Continent=$AO10)*(CodeHours=AQ$6))} -> #VALUE! | AR10: {=SUMPRODUCT((Continent=$AO10)*(CodeHours=AR$6))} -> #VALUE! | AS10: {=SUMPRODUCT((Continent=$AO10)*(CodeHours=AS$6))} -> #VALUE! | AT10: {=SUMPRODUCT((Continent=$AO10)*(CodeHours=AT$6))} -> #VALUE! | AU10: =SUM(AP10:AT10) -> #VALUE! | AW10: Asia | AX10: {=SUM((Continent=$AG10)*(YearsExp>AX$6)*(YearsExp<=AX$7)*Salaries)/AH10} -> #VALUE! | AY10: {=SUM((Continent=$AG10)*(YearsExp>AY$6)*(YearsExp<=AY$7)*Salaries)/AI10} -> #VALUE! | AZ10: {=SUM((Continent=$AG10)*(YearsExp>AZ$6)*(YearsExp<=AZ$7)*Salaries)/AJ10} -> #VALUE! | BA10: {=SUM((Continent=$AG10)*(YearsExp>BA$6)*(YearsExp<=BA$7)*Salaries)/AK10} -> #VALUE! | BB10: {=SUM((Continent=$AG10)*(YearsExp>BB$6)*(YearsExp<=BB$7)*Salaries)/AL10} -> #VALUE! | BE10: Asia | BF10: {=IFERROR(SUM((Continent=$AO10)*(CodeHours=BF$6)*Salaries)/AP10,"")} | BG10: {=IFERROR(SUM((Continent=$AO10)*(CodeHours=BG$6)*Salaries)/AQ10,"")} | BH10: {=IFERROR(SUM((Continent=$AO10)*(CodeHours=BH$6)*Salaries)/AR10,"")} | BI10: {=IFERROR(SUM((Continent=$AO10)*(CodeHours=BI$6)*Salaries)/AS10,"")} | BJ10: {=IFERROR(SUM((Continent=$AO10)*(CodeHours=BJ$6)*Salaries)/AT10,"")} | BL10: =+BL9+1 -> 3 | BM10: =INDEX($BU$18:$BY$120,$BL10,COLUMNS($BL$8:BM10)) -> #N/A | BN10: =INDEX($BU$18:$BY$120,$BL10,COLUMNS($BL$8:BN10)) -> #N/A | BO10: =INDEX($BU$18:$BY$120,$BL10,COLUMNS($BL$8:BO10)) -> #N/A | BP10: =INDEX($BU$18:$BY$120,$BL10,COLUMNS($BL$8:BP10)) -> #N/A
