Workbook

Sheet Top Sheet
A1: Annex 2
A6: Example of
A7: PRODUCTION BUDGET
A9: Name of applicant (company):
A11: Production Title:
A12: Production Type:
A14: Acct # | B14: Description | C14: Page # | D14: Adjustments | E14: Notes | F14: Total
A15: 1100 | B15: Story and Other Rights | C15: 2 | F15: =Story!$H$24 -> 0
A16: 1200 | B16: Producer | C16: 3 | F16: =(Producer!$H$24)*1.3 -> 0
A17: 1300 | B17: Director | C17: 4 | F17: =(Director!$H$25)*1.3 -> 0
A18: 1400 | B18: Cast | C18: 5 | F18: =(Cast!$H$35)*1.3 -> 0
A19: 1500 | B19: Travel and Living | C19: 6 | F19: ='Travel, Misc, Fringes'!$H$14 -> 0
A20: 1600 | B20: Miscellaneous | C20: 6 | F20: ='Travel, Misc, Fringes'!$H$21 -> 0
A21: 1900 | B21: Fringe Benefits | C21: 6 | F21: ='Travel, Misc, Fringes'!$H$31 -> 0
B22: TOTAL ABOVE-THE-LINE | F22: =SUM(F15:F21) -> 0
A23: 2000 | B23: Production Staff | C23: 7 | F23: =('Production Staff'!$H$57)*1.3 -> 0
B24: Casting
A25: 2100 | B25: Extra Talent | C25: 8 | F25: =(Extras!$H$24)*1.3 -> 0
A26: 2200 | B26: Art Direction | C26: 9 | F26: =('Art Direction'!$H$29)*1.3 -> 0
A27: 2300 | B27: Set Construction | C27: 10 | F27: ='Set Construction'!$H$14 -> 0
A28: 2400 | B28: Set Striking | C28: 10 | F28: =('Set Construction'!$H$21)*1.3 -> 0
A29: 2500 | B29: Set Operations | C29: 11 | F29: =('Set Operations'!$H$56)*1.3 -> 0
A30: 2600 | B30: Special Effects | C30: 12 | F30: ='Special Effects'!$H$24 -> 0
A31: 2700 | B31: Set Dressing | C31: 13 | F31: =('Set Dressing'!$H$27)*1.3 -> 0
A32: 2800 | B32: Property | C32: 14 | F32: =(Property!$H$35)*1.3 -> 0
A33: 2900 | B33: Wardrobe | C33: 15 | F33: =Wardrobe!$H$31*1.3 -> 0
A34: 3000 | B34: Hair & Make-Up | C34: 17 | F34: ='Hair & Make-Up'!$H$40*1.3 -> 0
A35: 3100 | B35: Electrical, Rigging, and Operations | C35: 18 | F35: =Electrical!$H$43*1.3 -> 0
A36: 3200 | B36: Camera Operations | C36: 19 | F36: =Camera!$H$35 -> 0
A37: 3300 | B37: Sound Operations | C37: 20 | F37: =Sound!$H$29*1.3 -> 0
A38: 3400 | B38: Transportation | C38: 21 | F38: =Transportation!$H$37 -> 0
A39: 3500 | B39: Location | C39: 22 | F39: =Location!$H$33 -> 0
A40: 3600 | B40: Production Film and Lab | C40: 23 | F40: ='Film and Lab'!$H$30 -> 0
A41: 3700 | B41: Stage Facilities | C41: 24 | F41: =Stage!$H$16 -> 0
A42: 3800 | B42: Process and Rear Projection | C42: 24 | F42: =Stage!$H$26 -> 0
A43: 3900 | B43: Second Unit | C43: 25 | F43: ='Second Unit'!$H$44 -> 0
B44: TOTAL PRODUCTION PERIOD | F44: ='Second Unit'!$H$44 -> 0
A45: 4000 | B45: Editing | C45: 27 | F45: =Editing!$H$42*1.3 -> 0
A46: 4100 | B46: Music | C46: 28 | F46: =Music!$H$30 -> 0
A47: 4200 | B47: Post Production Sound | C47: 29 | F47: ='Post Prod. Sound'!$H$32*1.3 -> 0
...

Sheet Story
A3: Acct # | B3: Description | C3: Amount | D3: Units | E3: X | F3: Rate | G3: Subtotal | H3: Total
A4: 1100 | B4: Story and Other Rights
A5: 1101 | B5: Story Purchase | G5: =C5*D5*F5 -> 0
G6: =C6*D6*F6 -> 0
A7: 1111 | B7: Screenplay Purchase | G7: =C7*D7*F7 -> 0
A8: 1112 | B8: Writer Fee | G8: =C8*D8*F8 -> 0
G9: =C9*D9*F9 -> 0
A10: 1114 | B10: Sequel Rights | G10: =C10*D10*F10 -> 0
G11: =C11*D11*F11 -> 0
A12: 1121 | B12: Secretary | G12: =C12*D12*F12 -> 0
G13: =C13*D13*F13 -> 0
A14: 1131 | B14: Copying | G14: =C14*D14*F14 -> 0
G15: =C15*D15*F15 -> 0
A16: 1141 | B16: Research and Clearance | G16: =C16*D16*F16 -> 0
G17: =C17*D17*F17 -> 0
A18: 1151 | B18: Script Timing | G18: =C18*D18*F18 -> 0
G19: =C19*D19*F19 -> 0
G20: =C20*D20*F20 -> 0
A21: 1161 | B21: Script Consultant | G21: =C21*D21*F21 -> 0
G22: =C22*D22*F22 -> 0
G23: =C23*D23*F23 -> 0
F24: Total for 1100 | H24: =SUM(G5:G23) -> 0

Sheet Producer
A1: Acct # | B1: Description | C1: Amount | D1: Units | E1: X | F1: Rate | G1: Subtotal | H1: Total
A2: 1200 | B2: Producer
A3: 1201 | B3: Producer(s) | G3: =C3*D3*F3 -> 0
B4: Living Allowance | G4: =C4*D4*F4 -> 0
G5: =C5*D5*F5 -> 0
A6: 1211 | B6: Executive Producer(s) | G6: =C6*D6*F6 -> 0
G7: =C7*D7*F7 -> 0
G8: =C8*D8*F8 -> 0
A9: 1221 | B9: Co-Producer(s) | G9: =C9*D9*F9 -> 0
G10: =C10*D10*F10 -> 0
G11: =C11*D11*F11 -> 0
A12: 1231 | B12: Production Executive(s) | G12: =C12*D12*F12 -> 0
G13: =C13*D13*F13 -> 0
G14: =C14*D14*F14 -> 0
A15: 1251 | B15: Secretaries | G15: =C15*D15*F15 -> 0
G16: =C16*D16*F16 -> 0
G17: =C17*D17*F17 -> 0
A18: 1271 | B18: Assistant(s) | G18: =C18*D18*F18 -> 0
G19: =C19*D19*F19 -> 0
G20: =C20*D20*F20 -> 0
A21: 1285 | B21: Other Charges | G21: =C21*D21*F21 -> 0
G22: =C22*D22*F22 -> 0
G23: =C23*D23*F23 -> 0
F24: Total for 1200 | H24: =SUM(G3:G23) -> 0

Sheet Director
A1: Acct # | B1: Description | C1: Amount | D1: Units | E1: X | F1: Rate | G1: Subtotal | H1: Total
A2: 1300 | B2: Director
A3: 1301 | B3: Director(s) | G3: =C3*D3*F3 -> 0
B4: PREP | G4: =C4*D4*F4 -> 0
B5: SHOOT | G5: =C5*D5*F5 -> 0
B6: WRAP | G6: =C6*D6*F6 -> 0
G7: =C7*D7*F7 -> 0
A8: 1302 | B8: Assistant Director(s) | G8: =C8*D8*F8 -> 0
G12: =C12*D12*F12 -> 0
A13: 1305 | B13: Second Unit Director(s) | G13: =C13*D13*F13 -> 0
G14: =C14*D14*F14 -> 0
G15: =C15*D15*F15 -> 0
A16: 1306 | B16: Dialogue Coach (es) | G16: =C16*D16*F16 -> 0
G17: =C17*D17*F17 -> 0
G18: =C18*D18*F18 -> 0
A19: 1351 | B19: Personal Assistant(s) | G19: =C19*D19*F19 -> 0
G20: =C20*D20*F20 -> 0
G21: =C21*D21*F21 -> 0
A22: 1385 | B22: Other Charges | G22: =C22*D22*F22 -> 0
G23: =C23*D23*F23 -> 0
G24: =C24*D24*F24 -> 0
F25: Total for 1300 | H25: =SUM(G3:G24) -> 0

Sheet Cast
A1: Acct # | B1: Description | C1: Amount | D1: Units | E1: X | F1: Rate | G1: Subtotal | H1: Total
A2: 1400 | B2: Cast
A3: 1401 | B3: Lead cast
G4: =C4*D4*F4 -> 0
G5: =C5*D5*F5 -> 0
G6: =C6*D6*F6 -> 0
G7: =C7*D7*F7 -> 0
G8: =C8*D8*F8 -> 0
G9: =C9*D9*F9 -> 0
A10: 1421 | B10: Supporting Cast
G11: =C11*D11*F11 -> 0
G12: =C12*D12*F12 -> 0
G13: =C13*D13*F13 -> 0
A14: 1441 | B14: Day Players
G15: =C15*D15*F15 -> 0
G16: =C16*D16*F16 -> 0
G17: =C17*D17*F17 -> 0
G18: =C18*D18*F18 -> 0
G19: =C19*D19*F19 -> 0
G20: =C20*D20*F20 -> 0
G21: =C21*D21*F21 -> 0
A22: 1471 | B22: Stunt Coordinator | G22: =C22*D22*F22 -> 0
G23: =C23*D23*F23 -> 0
A24: 1473 | B24: Stunt Personnel | G24: =C24*D24*F24 -> 0
A25: 1475 | B25: Stunt Adjustments | G25: =C25*D25*F25 -> 0
G26: =C26*D26*F26 -> 0
A27: 1481 | B27: Overtime | G27: =C27*D27*F27 -> 0
B28: Allowance | G28: =C28*D28*F28 -> 0
G29: =C29*D29*F29 -> 0
A30: 1483 | B30: Looping, Fitting, etc. | G30: =C30*D30*F30 -> 0
G31: =C31*D31*F31 -> 0
A32: 1485 | B32: Other Charges | G32: =C32*D32*F32 -> 0
F35: Total for 1400 | H35: =SUM(G3:G34) -> 0

Sheet Travel, Misc, Fringes
A1: Acct # | B1: Description | C1: Amount | D1: Units | E1: X | F1: Rate | G1: Subtotal | H1: Total
A2: 1500 | B2: Travel and Living
A3: 1501 | B3: Travel and Living Expenses | G3: =C3*D3*F3 -> 0
G4: =C4*D4*F4 -> 0
A5: 1511 | B5: Accommodations | G5: =C5*D5*F5 -> 0
G6: =C6*D6*F6 -> 0
A7: 1521 | B7: Per Diem | G7: =C7*D7*F7 -> 0
G8: =C8*D8*F8 -> 0
A9: 1551 | B9: General Allowance | G9: =C9*D9*F9 -> 0
G10: =C10*D10*F10 -> 0
A11: 1585 | B11: Other Expense | G11: =C11*D11*F11 -> 0
G12: =C12*D12*F12 -> 0
G13: =C13*D13*F13 -> 0
F14: Total for 1500 | H14: =SUM(G3:G13) -> 0
A17: 1600 | B17: Miscellaneous
A18: 1601 | B18: Miscellaneous | G18: =C18*D18*F18 -> 0
G19: =C19*D19*F19 -> 0
G20: =C20*D20*F20 -> 0
F21: Total for 1600 | H21: =SUM(G18:G20) -> 0
A24: 1900 | B24: Fringe Benefits
A25: 1901 | B25: Payroll Service Charges | G25: =C25*D25*F25 -> 0
G26: =C26*D26*F26 -> 0
G27: =C27*D27*F27 -> 0
A28: 1999 | B28: Fringes | G28: =C28*D28*F28 -> 0
B29: Details | G29: =C29*D29*F29 -> 0
G30: =C30*D30*F30 -> 0
F31: Total for 1900 | H31: =SUM(G25:G30) -> 0

Sheet Production Staff
A1: Acct # | B1: Description | C1: Amount | D1: Units | E1: X | F1: Rate | G1: Subtotal | H1: Total
A2: 2000 | B2: Production Staff
A3: 2001 | B3: Production Manager | G3: =C3*D3*F3 -> 0
B4: PREP | G4: =C4*D4*F4 -> 0
B5: SHOOT | G5: =C5*D5*F5 -> 0
B6: WRAP | G6: =C6*D6*F6 -> 0
G7: =C7*D7*F7 -> 0
A8: 2005 | B8: Unit Production Manager | E8: week | G8: =C8*D8*F8 -> 0
B9: Asst UPM | G9: =C9*D9*F9 -> 0
A11: 2011 | B11: First Assistant Directors | G11: =C11*D11*F11 -> 0 | I11: in ATL directors
B12: PREP | E12: week | G12: =C12*D12*F12 -> 0
B13: SHOOT | E13: week | G13: =C13*D13*F13 -> 0
B14: WRAP | G14: =C14*D14*F14 -> 0
G15: =C15*D15*F15 -> 0
A16: 2021 | B16: Second Assistant Directors | G16: =C16*D16*F16 -> 0
B17: PREP | E17: week | G17: =C17*D17*F17 -> 0
B18: SHOOT | E18: week | G18: =C18*D18*F18 -> 0
B19: WRAP | G19: =C19*D19*F19 -> 0
G20: =C20*D20*F20 -> 0
A21: 2029 | B21: DGA Trainee | G21: =C21*D21*F21 -> 0
G22: =C22*D22*F22 -> 0
A23: 2031 | B23: Script Supervisor | G23: =C23*D23*F23 -> 0
B24: PREP | E24: week | G24: =C24*D24*F24 -> 0
B25: SHOOT | E25: week | G25: =C25*D25*F25 -> 0
B26: WRAP | G26: =C26*D26*F26 -> 0
G27: =C27*D27*F27 -> 0
A28: 2032 | B28: Technical Advisors | G28: =C28*D28*F28 -> 0
G29: =C29*D29*F29 -> 0
A30: 2033 | B30: Production Coordinator | G30: =C30*D30*F30 -> 0
B31: PREP | G31: =C31*D31*F31 -> 0
B32: SHOOT | G32: =C32*D32*F32 -> 0
B33: WRAP | G33: =C33*D33*F33 -> 0
G34: =C34*D34*F34 -> 0
A35: 2035 | B35: Production Secretary | G35: =C35*D35*F35 -> 0
G36: =C36*D36*F36 -> 0
A37: 2037 | B37: Production Assistant(s) | E37: week | G37: =C37*D37*F37 -> 0
E38: week | G38: =C38*D38*F38 -> 0
E39: week | G39: =C39*D39*F39 -> 0
G40: =C40*D40*F40 -> 0
A41: 2041 | B41: Choreographer(s) | G41: =C41*D41*F41 -> 0
...

Sheet Casting
A2: Acct # | B2: Description | C2: Amount | D2: Units | E2: X | F2: Rate | G2: Subtotal | H2: Total
B3: Casting
G4: =C4*D4*F4 -> 0
B5: Casting Director | G5: =C5*D5*F5 -> 0
G6: =C6*D6*F6 -> 0
G7: =C7*D7*F7 -> 0
B8: Casting Assistant(s) | G8: =C8*D8*F8 -> 0
G9: =C9*D9*F9 -> 0
G10: =C10*D10*F10 -> 0
G11: =C11*D11*F11 -> 0
B12: Other Charges | G12: =C12*D12*F12 -> 0
G13: =C13*D13*F13 -> 0
G14: =C14*D14*F14 -> 0
F15: Total for 1300 | H15: =SUM(G4:G14) -> 0

Sheet Extras
A1: Acct # | B1: Description | C1: Amount | D1: Units | E1: X | F1: Rate | G1: Subtotal | H1: Total
A2: 2100 | B2: Extra Talent
A3: 2101 | B3: Stand-ins | G3: =C3*D3*F3 -> 0
G5: =C5*D5*F5 -> 0
A6: 2103 | B6: Extras | G6: =C6*D6*F6 -> 0
B7: Extras | G7: =C7*D7*F7 -> 0
G8: =C8*D8*F8 -> 0
A9: 2105 | B9: Crowd Extras | G9: =C9*D9*F9 -> 0
G10: =C10*D10*F10 -> 0
A11: 2107 | B11: Dancers, Skaters, etc. | G11: =C11*D11*F11 -> 0
G12: =C12*D12*F12 -> 0
A13: 2121 | B13: Teachers, Welfare Workers | G13: =C13*D13*F13 -> 0
G14: =C14*D14*F14 -> 0
A15: 2123 | B15: Interviews and Transportation | G15: =C15*D15*F15 -> 0
G16: =C16*D16*F16 -> 0
A17: 2125 | B17: Picture Vehicles | G17: =C17*D17*F17 -> 0 | I17: why under Extras? We have to decide if this budget is a template or a guideline
G18: =C18*D18*F18 -> 0
A19: 2181 | B19: Casting Fees - Extras | G19: =C19*D19*F19 -> 0
G20: =C20*D20*F20 -> 0
A21: 2185 | B21: Other Charges | G21: =C21*D21*F21 -> 0
G22: =C22*D22*F22 -> 0
G23: =C23*D23*F23 -> 0
F24: Total for 2100 | H24: =SUM(G3:G23) -> 0

Sheet Art Direction
A1: Acct # | B1: Description | C1: Amount | D1: Units | E1: X | F1: Rate | G1: Subtotal | H1: Total
A2: 2200 | B2: Art Direction
A3: 2201 | B3: Production Designer | G3: =C3*D3*F3 -> 0
B4: PREP | G4: =C4*D4*F4 -> 0
B5: SHOOT | G5: =C5*D5*F5 -> 0
B6: WRAP | G6: =C6*D6*F6 -> 0
G7: =C7*D7*F7 -> 0
A8: 2211 | B8: Art Director | G8: =C8*D8*F8 -> 0
G9: =C9*D9*F9 -> 0
A10: 2215 | B10: Assistant Art Director | G10: =C10*D10*F10 -> 0
G11: =C11*D11*F11 -> 0
A12: 2217 | B12: Set Construction Coordinator | G12: =C12*D12*F12 -> 0
G13: =C13*D13*F13 -> 0
A14: 2219 | B14: Set Designers and Draftsman | G14: =C14*D14*F14 -> 0
G15: =C15*D15*F15 -> 0
A16: 2221 | B16: Model Makers | G16: =C16*D16*F16 -> 0
G17: =C17*D17*F17 -> 0
A18: 2231 | B18: Sketch Artists | G18: =C18*D18*F18 -> 0
G19: =C19*D19*F19 -> 0
A20: 2241 | B20: Set Estimators | G20: =C20*D20*F20 -> 0
G21: =C21*D21*F21 -> 0
A22: 2261 | B22: Materials | G22: =C22*D22*F22 -> 0
G23: =C23*D23*F23 -> 0
A24: 2271 | B24: Purchases | G24: =C24*D24*F24 -> 0
G25: =C25*D25*F25 -> 0
A26: 2285 | B26: Other Charges | G26: =C26*D26*F26 -> 0
G27: =C27*D27*F27 -> 0
G28: =C28*D28*F28 -> 0
F29: Total for 2200 | H29: =SUM(G3:G28) -> 0

Sheet Set Construction
A1: Acct # | B1: Description | C1: Amount | D1: Units | E1: X | F1: Rate | G1: Subtotal | H1: Total
A2: 2300 | B2: Set Construction
A3: 2301 | B3: Set Construction - Payroll | G3: =C3*D3*F3 -> 0
G4: =C4*D4*F4 -> 0
A5: 2302 | B5: Set Construction - Materials | G5: =C5*D5*F5 -> 0
G6: =C6*D6*F6 -> 0
A7: 2303 | B7: Set Construction - Purchases | G7: =C7*D7*F7 -> 0
B8: Contractor | G8: =C8*D8*F8 -> 0
A9: 2304 | B9: Set-Construction - Rentals | G9: =C9*D9*F9 -> 0
G10: =C10*D10*F10 -> 0
A11: 2305 | B11: Electric Scaffolding | G11: =C11*D11*F11 -> 0
G12: =C12*D12*F12 -> 0
G13: =C13*D13*F13 -> 0
F14: Total for 2300 | H14: =SUM(G3:G13) -> 0
A17: 2400 | B17: Set Striking
A18: 2401 | B18: Set Striking | G18: =C18*D18*F18 -> 0
B19: 10 Workers | G19: =C19*D19*F19 -> 0
G20: =C20*D20*F20 -> 0
F21: Total for 2400 | H21: =SUM(G18:G20) -> 0

Sheet Set Operations
A1: Acct # | B1: Description | C1: Amount | D1: Units | E1: X | F1: Rate | G1: Subtotal | H1: Total
A2: 2500 | B2: Set Operations
A3: 2501 | B3: Key Grip | G3: =C3*D3*F3 -> 0
B4: PREP | G4: =C4*D4*F4 -> 0
B5: SHOOT | G5: =C5*D5*F5 -> 0
B6: WRAP | G6: =C6*D6*F6 -> 0
G7: =C7*D7*F7 -> 0
A8: 2511 | B8: Second Grip | G8: =C8*D8*F8 -> 0
G9: =C9*D9*F9 -> 0
A10: 2515 | B10: Dolly Grip | G10: =C10*D10*F10 -> 0
B11: PREP | G11: =C11*D11*F11 -> 0
B12: SHOOT | G12: =C12*D12*F12 -> 0
B13: WRAP | G13: =C13*D13*F13 -> 0
G14: =C14*D14*F14 -> 0
A15: 2517 | B15: Crane Operators | G15: =C15*D15*F15 -> 0
G16: =C16*D16*F16 -> 0
A17: 2519 | B17: Grips | G17: =C17*D17*F17 -> 0
B18: PREP | G18: =C18*D18*F18 -> 0
B19: SHOOT | G19: =C19*D19*F19 -> 0
B20: WRAP | G20: =C20*D20*F20 -> 0
G21: =C21*D21*F21 -> 0
A22: 2521 | B22: Greensman | G22: =C22*D22*F22 -> 0
G23: =C23*D23*F23 -> 0
A24: 2523 | B24: Painters | G24: =C24*D24*F24 -> 0
G25: =C25*D25*F25 -> 0
A26: 2531 | B26: Craft Service Person(s) | G26: =C26*D26*F26 -> 0
B27: PREP | G27: =C27*D27*F27 -> 0
B28: SHOOT | G28: =C28*D28*F28 -> 0
B29: WRAP | G29: =C29*D29*F29 -> 0
G30: =C30*D30*F30 -> 0
A31: 2537 | B31: Set Laborer(s) | G31: =C31*D31*F31 -> 0
G32: =C32*D32*F32 -> 0
A33: 2541 | B33: Grip Equipment - Studio | G33: =C33*D33*F33 -> 0
G34: =C34*D34*F34 -> 0
A35: 2545 | B35: Grip Equipment - Location | G35: =C35*D35*F35 -> 0
G36: =C36*D36*F36 -> 0
A37: 2551 | B37: Purchases | G37: =C37*D37*F37 -> 0
G38: =C38*D38*F38 -> 0
A39: 2555 | B39: Condor(s) | G39: =C39*D39*F39 -> 0
G40: =C40*D40*F40 -> 0
...

Sheet Special Effects
A1: Acct # | B1: Description | C1: Amount | D1: Units | E1: X | F1: Rate | G1: Subtotal | H1: Total
A2: 2600 | B2: Special Effects
A3: 2601 | B3: Foreman | G3: =C3*D3*F3 -> 0
G4: =C4*D4*F4 -> 0
A5: 2602 | B5: Other Effectsman | G5: =C5*D5*F5 -> 0
G6: =C6*D6*F6 -> 0
A7: 2603 | B7: Rigging - Effects and Explosions | G7: =C7*D7*F7 -> 0
G8: =C8*D8*F8 -> 0
A9: 2604 | B9: Effects - Striking | G9: =C9*D9*F9 -> 0
G10: =C10*D10*F10 -> 0
A11: 2605 | B11: Other Department Labor | G11: =C11*D11*F11 -> 0
G12: =C12*D12*F12 -> 0
A13: 2606 | B13: Materials | G13: =C13*D13*F13 -> 0
G14: =C14*D14*F14 -> 0
A15: 2607 | B15: Purchases | G15: =C15*D15*F15 -> 0
G16: =C16*D16*F16 -> 0
A17: 2608 | B17: Rentals | G17: =C17*D17*F17 -> 0
G18: =C18*D18*F18 -> 0
A19: 2609 | B19: Effects Boxes | G19: =C19*D19*F19 -> 0
G20: =C20*D20*F20 -> 0
A21: 2685 | B21: Other Charges | G21: =C21*D21*F21 -> 0
G22: =C22*D22*F22 -> 0
G23: =C23*D23*F23 -> 0
F24: Total for 2600 | H24: =SUM(G3:G23) -> 0

Sheet Set Dressing
A1: Acct # | B1: Description | C1: Amount | D1: Units | E1: X | F1: Rate | G1: Subtotal | H1: Total
A2: 2700 | B2: Set Dressing
A3: 2701 | B3: Set Decorator | G3: =C3*D3*F3 -> 0
B4: PREP | G4: =C4*D4*F4 -> 0
B5: SHOOT | G5: =C5*D5*F5 -> 0
B6: WRAP | G6: =C6*D6*F6 -> 0
G7: =C7*D7*F7 -> 0
A8: 2711 | B8: On-Set Dresser | G8: =C8*D8*F8 -> 0
G9: =C9*D9*F9 -> 0
A10: 2721 | B10: Lead Person | G10: =C10*D10*F10 -> 0
G11: =C11*D11*F11 -> 0
A12: 2725 | B12: Swing Crew | G12: =C12*D12*F12 -> 0
G13: =C13*D13*F13 -> 0
A14: 2747 | B14: Manufacturing Labor | G14: =C14*D14*F14 -> 0
G15: =C15*D15*F15 -> 0
A16: 2751 | B16: Purchases | G16: =C16*D16*F16 -> 0
G17: =C17*D17*F17 -> 0
A18: 2761 | B18: Rentals | G18: =C18*D18*F18 -> 0
G19: =C19*D19*F19 -> 0
A20: 2781 | B20: Box Rentals | G20: =C20*D20*F20 -> 0
G21: =C21*D21*F21 -> 0
A22: 2783 | B22: Repairs and Damages | G22: =C22*D22*F22 -> 0
G23: =C23*D23*F23 -> 0
A24: 2785 | B24: Other Charges | G24: =C24*D24*F24 -> 0
G25: =C25*D25*F25 -> 0
G26: =C26*D26*F26 -> 0
F27: Total for 2700 | H27: =SUM(G3:G26) -> 0

Sheet Property
A1: Acct # | B1: Description | C1: Amount | D1: Units | E1: X | F1: Rate | G1: Subtotal | H1: Total
A2: 2800 | B2: Property
A3: 2801 | B3: Property Master | G3: =C3*D3*F3 -> 0
B4: PREP | G4: =C4*D4*F4 -> 0
B5: SHOOT | G5: =C5*D5*F5 -> 0
B6: WRAP | G6: =C6*D6*F6 -> 0
G7: =C7*D7*F7 -> 0
A8: 2803 | B8: Assistant Property Master | G8: =C8*D8*F8 -> 0
G9: =C9*D9*F9 -> 0
A10: 2805 | B10: Third Property Man | G10: =C10*D10*F10 -> 0
G11: =C11*D11*F11 -> 0
A12: 2811 | B12: Animal Handlers - Trainers | G12: =C12*D12*F12 -> 0
G13: =C13*D13*F13 -> 0
A14: 2821 | B14: Animals | G14: =C14*D14*F14 -> 0
G15: =C15*D15*F15 -> 0
A16: 2831 | B16: Purchases | G16: =C16*D16*F16 -> 0
G17: =C17*D17*F17 -> 0
A18: 2835 | B18: Rentals | G18: =C18*D18*F18 -> 0
G19: =C19*D19*F19 -> 0
A20: 2841 | B20: General | G20: =C20*D20*F20 -> 0
G21: =C21*D21*F21 -> 0
A22: 2845 | B22: Special Items | G22: =C22*D22*F22 -> 0
G23: =C23*D23*F23 -> 0
A24: 2849 | B24: Ammunition and Explosions | G24: =C24*D24*F24 -> 0
G25: =C25*D25*F25 -> 0
A26: 2851 | B26: Expendables | G26: =C26*D26*F26 -> 0
G27: =C27*D27*F27 -> 0
A28: 2881 | B28: Box Rentals | G28: =C28*D28*F28 -> 0
G29: =C29*D29*F29 -> 0
A30: 2883 | B30: Loss and Damage | G30: =C30*D30*F30 -> 0
G31: =C31*D31*F31 -> 0
A32: 2885 | B32: Other Charges | G32: =C32*D32*F32 -> 0
G33: =C33*D33*F33 -> 0
G34: =C34*D34*F34 -> 0
F35: Total for 2800 | H35: =SUM(G3:G34) -> 0

Sheet Wardrobe
A1: Acct # | B1: Description | C1: Amount | D1: Units | E1: X | F1: Rate | G1: Subtotal | H1: Total
A2: 2900 | B2: Wardrobe
A3: 2901 | B3: Costume Designer | G3: 0
G4: 0
A5: 2903 | B5: Wardrobe Supervisor | G5: 0
B6: PREP | G6: 0
B7: SHOOT | G7: 0
B8: WRAP | G8: 0
G9: 0
A10: 2905 | B10: First Wardrobe | G10: 0
G11: 0
A12: 2907 | B12: Second Wardrobe | G12: 0
G13: 0
A14: 2909 | B14: Local Labor | G14: 0
G15: 0
A16: 2911 | B16: Wardrobe Manufacturing | G16: 0
G17: 0
A18: 2921 | B18: Wardrobe Purchases | G18: 0
G19: 0
A20: 2931 | B20: Wardrobe Rentals | G20: 0
G21: 0
A22: 2941 | B22: Wardrobe Cleaning | G22: 0
B23: Daily wardrobe cleaning/repair | G23: 0
A24: 2981 | B24: Wardrobe Damages | G24: 0
G25: 0
A26: 2983 | B26: Box Rentals | G26: 0
G27: 0
A28: 2985 | B28: Other Charges | G28: 0
G29: 0
G30: 0
F31: Total for 2900 | H31: =SUM(G3:G30) -> 0

Sheet Hair & Make-Up
A1: Acct # | B1: Description | C1: Amount | D1: Units | E1: X | F1: Rate | G1: Subtotal | H1: Total
A2: 3000 | B2: Hair & Make-Up
A3: 3001 | B3: Makeup Supervisor | G3: =C3*D3*F3 -> 0
B4: PREP | G4: =C4*D4*F4 -> 0
B5: SHOOT | G5: =C5*D5*F5 -> 0
B6: WRAP | G6: =C6*D6*F6 -> 0
G7: =C7*D7*F7 -> 0
A8: 3003 | B8: Second Makeup Artist | G8: =C8*D8*F8 -> 0
G9: =C9*D9*F9 -> 0
A10: 3005 | B10: Additional Labour | G10: =C10*D10*F10 -> 0
G11: =C11*D11*F11 -> 0
A12: 3007 | B12: Hair Stylist | G12: =C12*D12*F12 -> 0
G13: =C13*D13*F13 -> 0
A14: 3011 | B14: Hairdressing Supervisor | G14: =C14*D14*F14 -> 0
B15: PREP | G15: =C15*D15*F15 -> 0
B16: SHOOT | G16: =C16*D16*F16 -> 0
B17: WRAP | G17: =C17*D17*F17 -> 0
G18: =C18*D18*F18 -> 0
A19: 3013 | B19: Second Hairstylist | G19: =C19*D19*F19 -> 0
G20: =C20*D20*F20 -> 0
A21: 3021 | B21: Body Makeup | G21: =C21*D21*F21 -> 0
G22: =C22*D22*F22 -> 0
A23: 3031 | B23: Purchases | G23: =C23*D23*F23 -> 0
G24: =C24*D24*F24 -> 0
A25: 3033 | B25: Appliances Manufacturing | G25: =C25*D25*F25 -> 0
G26: =C26*D26*F26 -> 0
A27: 3041 | B27: Rentals | G27: =C27*D27*F27 -> 0
G28: =C28*D28*F28 -> 0
A29: 3043 | B29: Box Rentals - Makeup | G29: =C29*D29*F29 -> 0
G30: =C30*D30*F30 -> 0
A31: 3045 | B31: Box Rentals - Hair Stylists | G31: =C31*D31*F31 -> 0
G32: =C32*D32*F32 -> 0
A33: 3051 | B33: Purchases - Hair Pieces | G33: =C33*D33*F33 -> 0
G34: =C34*D34*F34 -> 0
A35: 3053 | B35: Rentals - Hair Pieces | G35: =C35*D35*F35 -> 0
G36: =C36*D36*F36 -> 0
A37: 3085 | B37: Other Charges | G37: =C37*D37*F37 -> 0
G38: =C38*D38*F38 -> 0
G39: =C39*D39*F39 -> 0
F40: Total for 3000 | H40: =SUM(G3:G39) -> 0

Sheet Electrical
A1: Acct # | B1: Description | C1: Amount | D1: Units | E1: X | F1: Rate | G1: Subtotal | H1: Total
A2: 3100 | B2: Electrical
A3: 3101 | B3: Gaffer | G3: =C3*D3*F3 -> 0
B4: PREP | G4: =C4*D4*F4 -> 0
B5: SHOOT | G5: =C5*D5*F5 -> 0
B6: WRAP | G6: =C6*D6*F6 -> 0
G7: =C7*D7*F7 -> 0
A8: 3111 | B8: Best Boy | G8: =C8*D8*F8 -> 0
B9: PREP | G9: =C9*D9*F9 -> 0
B10: SHOOT | G10: =C10*D10*F10 -> 0
B11: WRAP | G11: =C11*D11*F11 -> 0
G12: =C12*D12*F12 -> 0
A13: 3121 | B13: Electrical Operations - Labour | G13: =C13*D13*F13 -> 0
B14: PREP | G14: =C14*D14*F14 -> 0
B15: SHOOT | G15: =C15*D15*F15 -> 0
B16: WRAP | G16: =C16*D16*F16 -> 0
G17: =C17*D17*F17 -> 0
A18: 3131 | B18: Generator | G18: =C18*D18*F18 -> 0
G19: =C19*D19*F19 -> 0
A20: 3141 | B20: Wind Machine Operator | G20: =C20*D20*F20 -> 0
G21: =C21*D21*F21 -> 0
A22: 3145 | B22: Local Electrical Operators | G22: =C22*D22*F22 -> 0
G23: =C23*D23*F23 -> 0
A24: 3151 | B24: Electrical Equipment | G24: =C24*D24*F24 -> 0
G25: =C25*D25*F25 -> 0
A26: 3165 | B26: Bulbs and Expendables | G26: =C26*D26*F26 -> 0
G27: =C27*D27*F27 -> 0
A28: 3171 | B28: Repairs | G28: =C28*D28*F28 -> 0
G29: =C29*D29*F29 -> 0
A30: 3175 | B30: Generator Rentals | G30: =C30*D30*F30 -> 0
G31: =C31*D31*F31 -> 0
A32: 3177 | B32: Fuel (Generators) | G32: =C32*D32*F32 -> 0
G33: =C33*D33*F33 -> 0
A34: 3179 | B34: Purchases | G34: =C34*D34*F34 -> 0
G35: =C35*D35*F35 -> 0
A36: 3181 | B36: Box Rentals | G36: =C36*D36*F36 -> 0
G37: =C37*D37*F37 -> 0
A38: 3183 | B38: Loss / Damage | G38: =C38*D38*F38 -> 0
G39: =C39*D39*F39 -> 0
A40: 3185 | B40: Other Charges | G40: =C40*D40*F40 -> 0
...

Sheet Camera
A1: Acct # | B1: Description | C1: Amount | D1: Units | E1: X | F1: Rate | G1: Subtotal | H1: Total
A2: 3200 | B2: Camera Operations
A3: 3201 | B3: Director of Photography | G3: =C3*D3*F3 -> 0
B4: PREP | G4: =C4*D4*F4 -> 0
B5: SHOOT | G5: =C5*D5*F5 -> 0
B6: WRAP | G6: =C6*D6*F6 -> 0
G7: =C7*D7*F7 -> 0
A8: 3211 | B8: Camera Operator(s) | G8: =C8*D8*F8 -> 0
G9: =C9*D9*F9 -> 0
A10: 3221 | B10: Camera Assistant(s) | G10: =C10*D10*F10 -> 0
B11: First Assistant | G11: =C11*D11*F11 -> 0
B12: PREP | G12: =C12*D12*F12 -> 0
B13: SHOOT | G13: =C13*D13*F13 -> 0
B14: WRAP | G14: =C14*D14*F14 -> 0
B15: Second Assistant | G15: =C15*D15*F15 -> 0
B16: PREP | G16: =C16*D16*F16 -> 0
B17: SHOOT | G17: =C17*D17*F17 -> 0
B18: WRAP | G18: =C18*D18*F18 -> 0
G19: =C19*D19*F19 -> 0
A20: 3231 | B20: Loader(s) | G20: =C20*D20*F20 -> 0
G21: =C21*D21*F21 -> 0
A22: 3241 | B22: Still Photographer | G22: =C22*D22*F22 -> 0
G23: =C23*D23*F23 -> 0
A24: 3251 | B24: Camera Package | G24: =C24*D24*F24 -> 0
G25: =C25*D25*F25 -> 0
A26: 3261 | B26: Expendables | G26: =C26*D26*F26 -> 0
G27: =C27*D27*F27 -> 0
A28: 3271 | B28: Special Equipment | G28: =C28*D28*F28 -> 0
G29: =C29*D29*F29 -> 0
A30: 3281 | B30: Box Rentals | G30: =C30*D30*F30 -> 0
G31: =C31*D31*F31 -> 0
A32: 3285 | B32: Other Charges | G32: =C32*D32*F32 -> 0
G33: =C33*D33*F33 -> 0
G34: =C34*D34*F34 -> 0
F35: Total for 3200 | H35: =SUM(G3:G34) -> 0

Sheet Sound
A1: Acct # | B1: Description | C1: Amount | D1: Units | E1: X | F1: Rate | G1: Subtotal | H1: Total
A2: 3300 | B2: Sound Operation
A3: 3301 | B3: Sound Mixer | G3: =C3*D3*F3 -> 0
B4: Package | G4: =C4*D4*F4 -> 0
G5: =C5*D5*F5 -> 0
A6: 3311 | B6: Boom Person | G6: =C6*D6*F6 -> 0
G7: =C7*D7*F7 -> 0
A8: 3315 | B8: Sound Utility | G8: =C8*D8*F8 -> 0
G9: =C9*D9*F9 -> 0
A10: 3317 | B10: Playback Operator(s) | G10: =C10*D10*F10 -> 0
G11: =C11*D11*F11 -> 0
A12: 3320 | B12: Purchases | G12: =C12*D12*F12 -> 0
G13: =C13*D13*F13 -> 0
A14: 3321 | B14: Tape | G14: =C14*D14*F14 -> 0
G15: =C15*D15*F15 -> 0
A16: 3331 | B16: Sound Channel | G16: =C16*D16*F16 -> 0
G17: =C17*D17*F17 -> 0
A18: 3331 | B18: Walkie Talkies | G18: =C18*D18*F18 -> 0 | I18: (pairs)
G19: =C19*D19*F19 -> 0
A20: 3351 | B20: Special Equipment | G20: =C20*D20*F20 -> 0
G21: =C21*D21*F21 -> 0
A22: 3352 | B22: Playback | G22: =C22*D22*F22 -> 0
G23: =C23*D23*F23 -> 0
A24: 3383 | B24: Equipment Repairs | G24: =C24*D24*F24 -> 0
G25: =C25*D25*F25 -> 0
A26: 3385 | B26: Other Charges | G26: =C26*D26*F26 -> 0
G27: =C27*D27*F27 -> 0
G28: =C28*D28*F28 -> 0
F29: Total for 3300 | H29: =SUM(G3:G28) -> 0

Sheet Transportation
A1: Acct # | B1: Description | C1: Amount | D1: Units | E1: X | F1: Rate | G1: Subtotal | H1: Total
A2: 3400 | B2: Transportation
A3: 3401 | B3: Transportation Coordinator | G3: =C3*D3*F3 -> 0
B4: PREP | G4: =C4*D4*F4 -> 0
B5: SHOOT | G5: =C5*D5*F5 -> 0
B6: WRAP | G6: =C6*D6*F6 -> 0
G7: =C7*D7*F7 -> 0
A8: 3403 | B8: Driver Captain | G8: =C8*D8*F8 -> 0
G9: =C9*D9*F9 -> 0
A10: 3405 | B10: Driver Co-Captain | G10: =C10*D10*F10 -> 0
G11: =C11*D11*F11 -> 0
A12: 3411 | B12: Drivers | G12: =C12*D12*F12 -> 0
B13: PREP | G13: =C13*D13*F13 -> 0
B14: SHOOT | G14: =C14*D14*F14 -> 0
B15: WRAP | G15: =C15*D15*F15 -> 0
G16: =C16*D16*F16 -> 0
A17: 3431 | B17: Vehicle Rentals | G17: =C17*D17*F17 -> 0
B18: Production Van | G18: =C18*D18*F18 -> 0
B19: Camera / Sound Van | G19: =C19*D19*F19 -> 0
B20: Prop / Set Van | G20: =C20*D20*F20 -> 0
B21: Makeup / Wardrobe Trailer | G21: =C21*D21*F21 -> 0
G22: =C22*D22*F22 -> 0
A23: 3451 | B23: Dressing Room Rentals | G23: =C23*D23*F23 -> 0
B24: Honeywagon | G24: =C24*D24*F24 -> 0
G25: =C25*D25*F25 -> 0
A26: 3471 | B26: Picture Cars | G26: =C26*D26*F26 -> 0
G27: =C27*D27*F27 -> 0
A28: 3481 | B28: Fuel | G28: =C28*D28*F28 -> 0
G29: =C29*D29*F29 -> 0
A30: 3483 | B30: Repairs and Maintenance | G30: =C30*D30*F30 -> 0
G31: =C31*D31*F31 -> 0
A32: 3484 | B32: Mileage Allowance | G32: =C32*D32*F32 -> 0
G33: =C33*D33*F33 -> 0
A34: 3485 | B34: Other Charges | G34: =C34*D34*F34 -> 0
G35: =C35*D35*F35 -> 0
G36: =C36*D36*F36 -> 0
F37: Total for | G37: 3400 | H37: =SUM(G3:G36) -> 0

Sheet Location
A1: Acct # | B1: Description | C1: Amount | D1: Units | E1: X | F1: Rate | G1: Subtotal | H1: Total
A2: 3500 | B2: Location
A3: 3501 | B3: Location Manager(s) | G3: =C3*D3*F3 -> 0
G4: =C4*D4*F4 -> 0
A5: 3511 | B5: Police / Fire Personnel | G5: =C5*D5*F5 -> 0
B6: Security | G6: =C6*D6*F6 -> 0
G7: =C7*D7*F7 -> 0
A8: 3521 | B8: Meals | G8: =C8*D8*F8 -> 0
G9: =C9*D9*F9 -> 0
A10: 3531 | B10: Site Rentals | G10: =C10*D10*F10 -> 0
G11: =C11*D11*F11 -> 0
A12: 3541 | B12: Travel / Accommodations | G12: =C12*D12*F12 -> 0
G13: =C13*D13*F13 -> 0
A14: 3545 | B14: Courtesy Payments | G14: =C14*D14*F14 -> 0
G15: =C15*D15*F15 -> 0
A16: 3551 | B16: Custom Fees, Duties, etc. | G16: =C16*D16*F16 -> 0
G17: =C17*D17*F17 -> 0
A18: 3553 | B18: Film Shipment | G18: =C18*D18*F18 -> 0
G19: =C19*D19*F19 -> 0
A20: 3555 | B20: Foreign Travel Permits | G20: =C20*D20*F20 -> 0
G21: =C21*D21*F21 -> 0
A22: 3557 | B22: Flight Insurance | G22: =C22*D22*F22 -> 0
G23: =C23*D23*F23 -> 0
A24: 3561 | B24: Location Scouting | G24: =C24*D24*F24 -> 0
G25: =C25*D25*F25 -> 0
A26: 3571 | B26: Location Contact | G26: =C26*D26*F26 -> 0
G27: =C27*D27*F27 -> 0
A28: 3583 | B28: Loss and Damage | G28: =C28*D28*F28 -> 0
G29: =C29*D29*F29 -> 0
A30: 3585 | B30: Other Charges | G30: =C30*D30*F30 -> 0
G31: =C31*D31*F31 -> 0
G32: =C32*D32*F32 -> 0
F33: Total for | G33: 3500 | H33: =SUM(G3:G32) -> 0

Sheet Film and Lab
A1: Acct # | B1: Description | C1: Amount | D1: Units | E1: X | F1: Rate | G1: Subtotal | H1: Total
A2: 3600 | B2: Production Film and Lab
A3: 3601 | B3: Picture Negative | G3: =C3*D3*F3 -> 0
G4: =C4*D4*F4 -> 0
A5: 3611 | B5: Film Processing | G5: =C5*D5*F5 -> 0
B6: Includes video preparation | G6: =C6*D6*F6 -> 0
G7: =C7*D7*F7 -> 0
A8: 3615 | B8: Normal Developing | G8: =C8*D8*F8 -> 0
B9: AVID-style transfer | G9: =C9*D9*F9 -> 0
G10: =C10*D10*F10 -> 0
A11: 3619 | B11: Forced Developing | G11: =C11*D11*F11 -> 0
G12: =C12*D12*F12 -> 0
A13: 3621 | B13: One Light Dailies | G13: =C13*D13*F13 -> 0
G14: =C14*D14*F14 -> 0
A15: 3625 | B15: Timed Dailies | G15: =C15*D15*F15 -> 0
G16: =C16*D16*F16 -> 0
A17: 3631 | B17: Special Laboratory Work | G17: =C17*D17*F17 -> 0
G18: =C18*D18*F18 -> 0
A19: 3641 | B19: Stills - Negative and Lab | G19: =C19*D19*F19 -> 0
G20: =C20*D20*F20 -> 0
A21: 3651 | B21: Sound Transfer Dailies | G21: =C21*D21*F21 -> 0
G22: =C22*D22*F22 -> 0
A23: 3653 | B23: Labor | G23: =C23*D23*F23 -> 0
G24: =C24*D24*F24 -> 0
A25: 3655 | B25: Magnetic Stripe | G25: =C25*D25*F25 -> 0
G26: =C26*D26*F26 -> 0
A27: 3685 | B27: Other Charges | G27: =C27*D27*F27 -> 0
G28: =C28*D28*F28 -> 0
G29: =C29*D29*F29 -> 0
F30: Total for 3600 | H30: =SUM(G3:G29) -> 0

Sheet Stage
A1: Acct # | B1: Description | C1: Amount | D1: Units | E1: X | F1: Rate | G1: Subtotal | H1: Total
A2: 3700 | B2: Stage Facilities
A3: 3701 | B3: Studio Stage Rental | G3: =C3*D3*F3 -> 0
G4: =C4*D4*F4 -> 0
A5: 3702 | B5: Distant Location Stage Rental | G5: =C5*D5*F5 -> 0
G6: =C6*D6*F6 -> 0
A7: 3703 | B7: Test Stage Rental | G7: =C7*D7*F7 -> 0
G8: =C8*D8*F8 -> 0
A9: 3704 | B9: Additional Studio Facilities | G9: =C9*D9*F9 -> 0
G10: =C10*D10*F10 -> 0
A11: 3705 | B11: Studio Personnel Required | G11: =C11*D11*F11 -> 0
G12: =C12*D12*F12 -> 0
A13: 3785 | B13: Other Charges | G13: =C13*D13*F13 -> 0
G14: =C14*D14*F14 -> 0
G15: =C15*D15*F15 -> 0
F16: Total for 3700 | H16: =SUM(G3:G15) -> 0
A19: Acct # | B19: Description | C19: Amount | D19: Units | E19: X | F19: Rate | G19: Subtotal | H19: Total
A20: 3800 | B20: Process and Rear Projection
A21: 3801 | B21: Rear Projection | G21: =C21*D21*F21 -> 0
G22: =C22*D22*F22 -> 0
A23: 3885 | B23: Other Charges | G23: =C23*D23*F23 -> 0
G24: =C24*D24*F24 -> 0
G25: =C25*D25*F25 -> 0
F26: Total for 3800 | H26: =SUM(G21:G25) -> 0

Sheet Second Unit
A1: Acct # | B1: Description | C1: Amount | D1: Units | E1: X | F1: Rate | G1: Subtotal | H1: Total
A2: 3900 | B2: Second Unit
A3: 3901 | B3: Production Staff | G3: =C3*D3*F3 -> 0
G4: =C4*D4*F4 -> 0
A5: 3902 | B5: Cast | G5: =C5*D5*F5 -> 0
G6: =C6*D6*F6 -> 0
A7: 3903 | B7: Extra Talent | G7: =C7*D7*F7 -> 0
G8: =C8*D8*F8 -> 0
A9: 3904 | B9: Set Construction | G9: =C9*D9*F9 -> 0
G10: =C10*D10*F10 -> 0
A11: 3905 | B11: Set Striking | G11: =C11*D11*F11 -> 0
G12: =C12*D12*F12 -> 0
A13: 3906 | B13: Set Operations | G13: =C13*D13*F13 -> 0
G14: =C14*D14*F14 -> 0
A15: 3907 | B15: Set Dressing | G15: =C15*D15*F15 -> 0
G16: =C16*D16*F16 -> 0
A17: 3908 | B17: Property | G17: =C17*D17*F17 -> 0
G18: =C18*D18*F18 -> 0
A19: 3909 | B19: Men's Wardrobe | G19: =C19*D19*F19 -> 0
G20: =C20*D20*F20 -> 0
A21: 3910 | B21: Women's Wardrobe | G21: =C21*D21*F21 -> 0
G22: =C22*D22*F22 -> 0
A23: 3911 | B23: Makeup and Hairdressing | G23: =C23*D23*F23 -> 0
G24: =C24*D24*F24 -> 0
A25: 3912 | B25: Electrical | G25: =C25*D25*F25 -> 0
G26: =C26*D26*F26 -> 0
A27: 3913 | B27: Camera | G27: =C27*D27*F27 -> 0
G28: =C28*D28*F28 -> 0
A29: 3914 | B29: Sound | G29: =C29*D29*F29 -> 0
G30: =C30*D30*F30 -> 0
A31: 3915 | B31: Special Effects | G31: =C31*D31*F31 -> 0
G32: =C32*D32*F32 -> 0
A33: 3916 | B33: Locations | G33: =C33*D33*F33 -> 0
G34: =C34*D34*F34 -> 0
A35: 3917 | B35: Transportation | G35: =C35*D35*F35 -> 0
G36: =C36*D36*F36 -> 0
A37: 3918 | B37: Purchases | G37: =C37*D37*F37 -> 0
G38: =C38*D38*F38 -> 0
A39: 3919 | B39: Rentals | G39: =C39*D39*F39 -> 0
G40: =C40*D40*F40 -> 0
...

Sheet Editing
A1: Acct # | B1: Description | C1: Amount | D1: Units | E1: X | F1: Rate | G1: Subtotal | H1: Total
A2: 4000 | B2: Editing
A3: 4001 | B3: Editor | G3: =C3*D3*F3 -> 0
B4: PREP | G4: =C4*D4*F4 -> 0
B5: SHOOT | G5: =C5*D5*F5 -> 0
B6: POST | G6: =C6*D6*F6 -> 0
G7: =C7*D7*F7 -> 0
A8: 4011 | B8: Assistant Editor(s) | G8: =C8*D8*F8 -> 0
G9: =C9*D9*F9 -> 0
A10: 4015 | B10: Apprentice Editor | G10: =C10*D10*F10 -> 0
G11: =C11*D11*F11 -> 0
A12: 4017 | B12: Additional Hire | G12: =C12*D12*F12 -> 0
G13: =C13*D13*F13 -> 0
A14: 4021 | B14: ADR Editor | G14: =C14*D14*F14 -> 0
G15: =C15*D15*F15 -> 0
A16: 4025 | B16: Sound Effects Editor | G16: =C16*D16*F16 -> 0
G17: =C17*D17*F17 -> 0
A18: 4031 | B18: Music Editor | G18: =C18*D18*F18 -> 0
G19: =C19*D19*F19 -> 0
A20: 4051 | B20: Projection | G20: =C20*D20*F20 -> 0
G21: =C21*D21*F21 -> 0
A22: 4055 | B22: Projection Location | G22: =C22*D22*F22 -> 0
G23: =C23*D23*F23 -> 0
A24: 4059 | B24: Film Messenger | G24: =C24*D24*F24 -> 0
G25: =C25*D25*F25 -> 0
A26: 4061 | B26: Cutting Rooms | G26: =C26*D26*F26 -> 0
G27: =C27*D27*F27 -> 0
A28: 4065 | B28: Equipment Rentals | G28: =C28*D28*F28 -> 0
B29: PREP | G29: =C29*D29*F29 -> 0
B30: SHOOT | G30: =C30*D30*F30 -> 0
B31: POST | G31: =C31*D31*F31 -> 0
G32: =C32*D32*F32 -> 0
A33: 4071 | B33: Purchases | G33: =C33*D33*F33 -> 0
G34: =C34*D34*F34 -> 0
A35: 4077 | B35: Coding | G35: =C35*D35*F35 -> 0
G36: =C36*D36*F36 -> 0
A37: 4083 | B37: Continuity Script | G37: =C37*D37*F37 -> 0
G38: =C38*D38*F38 -> 0
A39: 4085 | B39: Other Charges | G39: =C39*D39*F39 -> 0
G40: =C40*D40*F40 -> 0
...

Sheet Music
A1: Acct # | B1: Description | C1: Amount | D1: Units | E1: X | F1: Rate | G1: Subtotal | H1: Total
A2: 4100 | B2: Music
A3: 4101 | B3: Composer/Conductor | G3: =C3*D3*F3 -> 0
G4: =C4*D4*F4 -> 0
A5: 4111 | B5: Musicians | G5: =C4*D4*F4 -> 0
G6: =C6*D6*F6 -> 0
A7: 4113 | B7: Arrangers | G7: =C7*D7*F7 -> 0
G8: =C8*D8*F8 -> 0
A9: 4114 | B9: Copyists | G9: =C9*D9*F9 -> 0
G10: =C10*D10*F10 -> 0
A11: 4117 | B11: Lyricist | G11: =C11*D11*F11 -> 0
G12: =C12*D12*F12 -> 0
A13: 4121 | B13: Coaches, Vocal Instructor | G13: =C13*D13*F13 -> 0
G14: =C14*D14*F14 -> 0
A15: 4131 | B15: Singers, Chorus | G15: =C14*D14*F14 -> 0
G16: =C16*D16*F16 -> 0
A17: 4141 | B17: Labor, Moving Instruments | G17: =C17*D17*F17 -> 0
G18: =C18*D18*F18 -> 0
A19: 4151 | B19: Synchronization License | G19: =C19*D19*F19 -> 0
G20: =C20*D20*F20 -> 0
A21: 4153 | B21: Recording Rights | G21: =C21*D21*F21 -> 0
G22: =C22*D22*F22 -> 0
A23: 4161 | B23: Music Fees | G23: =C23*D23*F23 -> 0
G24: =C24*D24*F24 -> 0
A25: 4171 | B25: Special Instrument Rental | G25: =C24*D24*F24 -> 0
G26: =C26*D26*F26 -> 0
A27: 4185 | B27: Other Charges | G27: =C27*D27*F27 -> 0
G28: =C28*D28*F28 -> 0
G29: =C29*D29*F29 -> 0
F30: Total for 4100 | H30: =SUM(G3:G29) -> 0

Sheet Post Prod. Sound
A1: Acct # | B1: Description | C1: Amount | D1: Units | E1: X | F1: Rate | G1: Subtotal | H1: Total
A2: 4200 | B2: Post Production Sound
A3: 4201 | B3: Transfer | G3: =C3*D3*F3 -> 0
G4: =C4*D4*F4 -> 0
A5: 4211 | B5: ADR Facilities | G5: =C5*D5*F5 -> 0
G6: =C6*D6*F6 -> 0
A7: 4215 | B7: Foley Facilities | G7: =C7*D7*F7 -> 0
G8: =C8*D8*F8 -> 0
A9: 4217 | B9: Scoring | G9: =C9*D9*F9 -> 0
G10: =C10*D10*F10 -> 0
A11: 4221 | B11: Music Dub Down | G11: =C11*D11*F11 -> 0
G12: =C12*D12*F12 -> 0
A13: 4223 | B13: Narration | G13: =C13*D13*F13 -> 0
G14: =C14*D14*F14 -> 0
A15: 4241 | B15: Temporary Dub | G15: =C15*D15*F15 -> 0
G16: =C16*D16*F16 -> 0
A17: 4243 | B17: Pre Dub | G17: =C17*D17*F17 -> 0
G18: =C18*D18*F18 -> 0
A19: 4251 | B19: Dubbing | G19: =C19*D19*F19 -> 0
G20: =C20*D20*F20 -> 0
A21: 4257 | B21: Magnetic Stock | G21: =C21*D21*F21 -> 0
G22: =C22*D22*F22 -> 0
A23: 4261 | B23: Music and Effects (Foreign) | G23: =C23*D23*F23 -> 0
G24: =C24*D24*F24 -> 0
A25: 4271 | B25: Other Purchases | G25: =C25*D25*F25 -> 0
G26: =C26*D26*F26 -> 0
A27: 4275 | B27: Rentals | G27: =C27*D27*F27 -> 0
G28: =C28*D28*F28 -> 0
A29: 4285 | B29: Other Charges | G29: =C29*D29*F29 -> 0
B30: Sound Sweetening | G30: =C30*D30*F30 -> 0
G31: =C31*D31*F31 -> 0
F32: Total for 4200 | H32: =SUM(G3:G31) -> 0

Sheet Post Film and Lab
A1: Acct # | B1: Description | C1: Amount | D1: Units | E1: X | F1: Rate | G1: Subtotal | H1: Total
A2: 4300 | B2: Post Production Film and Lab
A3: 4301 | B3: Reprints - One Light Color | G3: =C3*D3*F3 -> 0
G4: =C4*D4*F4 -> 0
A5: 4305 | B5: Black and White Reversal Prints | G5: =C5*D5*F5 -> 0
G6: =C6*D6*F6 -> 0
A7: 4311 | B7: Negative Cutting | G7: =C7*D7*F7 -> 0
G8: =C8*D8*F8 -> 0
A9: 4321 | B9: Answer Print | G9: =C9*D9*F9 -> 0
G10: =C10*D10*F10 -> 0
A11: 4331 | B11: Protective Master Positives | G11: =C11*D11*F11 -> 0
G12: =C12*D12*F12 -> 0
A13: 4335 | B13: Inter Negatives | G13: =C13*D13*F13 -> 0
G14: =C14*D14*F14 -> 0
A15: 4341 | B15: Optical Effects | G15: =C15*D15*F15 -> 0
G16: =C16*D16*F16 -> 0
A17: 4351 | B17: Optical Negative - Processing/Print | G17: =C17*D17*F17 -> 0
G18: =C18*D18*F18 -> 0
A19: 4361 | B19: Process Plates | G19: =C19*D19*F19 -> 0
G20: =C20*D20*F20 -> 0
A21: 4363 | B21: Stock Footage | G21: =C21*D21*F21 -> 0
G22: =C22*D22*F22 -> 0
A23: 4371 | B23: Video Transfers | G23: =C23*D23*F23 -> 0
G24: =C24*D24*F24 -> 0
A25: 4375 | B25: One-inch Video Masters | G25: =C25*D25*F25 -> 0
G26: =C26*D26*F26 -> 0
A27: 4383 | B27: Shipping Charges | G27: =C27*D27*F27 -> 0
G28: =C28*D28*F28 -> 0
A29: 4385 | B29: Other Charges | G29: =C29*D29*F29 -> 0
G30: =C30*D30*F30 -> 0
G31: =C31*D31*F31 -> 0
F32: Total for 4300 | H32: =SUM(G3:G31) -> 0

Sheet Titles
A1: Acct # | B1: Description | C1: Amount | D1: Units | E1: X | F1: Rate | G1: Subtotal | H1: Total
A2: 4400 | B2: Main and End Titles
A3: 4401 | B3: Main and End Titles | G3: =C3*D3*F3 -> 0
G4: =C4*D4*F4 -> 0
A5: 4411 | B5: Foreign Textless Version | G5: =C5*D5*F5 -> 0
G6: =C6*D6*F6 -> 0
G7: =C7*D7*F7 -> 0
F8: Total for 4400 | H8: =SUM(G3:G7) -> 0

Sheet Publicity
A1: Acct # | B1: Description | C1: Amount | D1: Units | E1: X | F1: Rate | G1: Subtotal | H1: Total
A2: 5500 | B2: Publicity
A3: 5501 | B3: Publicity Firm Fee | G3: =C3*D3*F3 -> 0
G4: =C4*D4*F4 -> 0
A5: 5502 | B5: Unit Publicist | G5: =C5*D5*F5 -> 0
G6: =C5*D5*F5 -> 0
A7: 5503 | B7: Negatives, Prints, Supplies | G7: =C7*D7*F7 -> 0
G8: =C8*D8*F8 -> 0
A9: 5504 | B9: Production Publicity Costs | G9: =C9*D9*F9 -> 0
G10: =C10*D10*F10 -> 0
A11: 5585 | B11: Other Charges | G11: =C11*D11*F11 -> 0
G12: =C12*D12*F12 -> 0
G13: =C13*D13*F13 -> 0
F14: Total for 5500 | H14: =SUM(G3:G13) -> 0

Sheet Insurance
A1: Acct # | B1: Description | C1: Amount | D1: Units | E1: X | F1: Rate | G1: Subtotal | H1: Total
A2: 5700 | B2: Insurance
A3: 5701 | B3: Cast Insurance | G3: =C3*D3*F3 -> 0
G4: =C4*D4*F4 -> 0
A5: 5702 | B5: Negative Insurance | G5: =C5*D5*F5 -> 0
G6: =C5*D5*F5 -> 0
A7: 5703 | B7: Errors and Omissions | G7: =C7*D7*F7 -> 0
G8: =C8*D8*F8 -> 0
A9: 5704 | B9: Faulty Raw Stock and Camera | G9: =C9*D9*F9 -> 0
G10: =C10*D10*F10 -> 0
A11: 5705 | B11: Liability | G11: =C11*D11*F11 -> 0
G12: =C12*D12*F12 -> 0
A13: 5706 | B13: Worker's Compensation | G13: =C13*D13*F13 -> 0
G14: =C14*D14*F14 -> 0
A15: 5707 | B15: Local Insurance | G15: =C15*D15*F15 -> 0
G16: =C15*D15*F15 -> 0
A17: 5708 | B17: Miscellaneous Equipment | G17: =C17*D17*F17 -> 0
G18: =C18*D18*F18 -> 0
A19: 5709 | B19: Comprehensive Liability | G19: =C19*D19*F19 -> 0
G20: =C20*D20*F20 -> 0
A21: 5710 | B21: Property Damage Liability | G21: =C21*D21*F21 -> 0
G22: =C22*D22*F22 -> 0
A23: 5785 | B23: Other Charges | G23: =C23*D23*F23 -> 0
G24: =C24*D24*F24 -> 0
B25: Inclusinve estimate | G25: =C25*D25*F25 -> 0
F26: Total for 5700 | H26: =SUM(G3:G25) -> 0

Sheet Fees & Charges
A1: Acct # | B1: Description | C1: Amount | D1: Units | E1: X | F1: Rate | G1: Subtotal | H1: Total
A2: 5800 | B2: General Overhead
A3: 5801 | B3: Corporate Expense | G3: =C3*D3*F3 -> 0
G4: =C4*D4*F4 -> 0
A5: 5811 | B5: Office Rentals | G5: =C5*D5*F5 -> 0
G6: =C5*D5*F5 -> 0
A7: 5821 | B7: Furniture/Equipment Rentals | G7: =C7*D7*F7 -> 0
G8: =C8*D8*F8 -> 0
A9: 5835 | B9: Office Supplies | G9: =C9*D9*F9 -> 0
G10: =C10*D10*F10 -> 0
A11: 5841 | B11: Telephone - Fixed & mobile | G11: =C11*D11*F11 -> 0
G12: =C12*D12*F12 -> 0
A13: 5851 | B13: Printing and Copying | G13: =C13*D13*F13 -> 0
G14: =C14*D14*F14 -> 0
A15: 5855 | B15: Postage and Delivery | G15: =C15*D15*F15 -> 0
G16: =C15*D15*F15 -> 0
A17: 5861 | B17: Entertainment | G17: =C17*D17*F17 -> 0
G18: =C18*D18*F18 -> 0
A19: 5871 | B19: Additional Allowances | G19: =C19*D19*F19 -> 0
G20: =C20*D20*F20 -> 0
A21: 5875 | B21: Production Service Organization | G21: =C21*D21*F21 -> 0
G22: =C22*D22*F22 -> 0
A23: 5885 | B23: Other Charges | G23: =C23*D23*F23 -> 0
G24: =C24*D24*F24 -> 0
G25: =C25*D25*F25 -> 0
F26: Total for 5800 | H26: =SUM(G3:G25) -> 0
A29: Acct # | B29: Description | C29: Amount | D29: Units | E29: X | F29: Rate | G29: Subtotal | H29: Total
A30: 6500 | B30: Fees, Charges, and Misc.
A31: 6501 | B31: Legal Fee | G31: =C31*D31*F31 -> 0
G32: =C32*D32*F32 -> 0
A33: 6511 | B33: Tax Accounting | G33: =C33*D33*F33 -> 0
G34: =C34*D34*F34 -> 0
A35: 6531 | B35: MPAA Rating Fee | G35: =C35*D35*F35 -> 0
G36: =C36*D36*F36 -> 0
A37: 6541 | B37: Dialogue Continuity | G37: =C36*D36*F36 -> 0
G38: =C38*D38*F38 -> 0
A39: 6585 | B39: Other Charges | G39: =C39*D39*F39 -> 0
B40: Production Fee | G40: =C40*D40*F40 -> 0
G41: =C41*D41*F41 -> 0
F42: Total for 6500 | H42: =SUM(G31:G41) -> 0
