{"text_format":"3","workbook":"xlsx","n_sheets":39,"sheets":["Explanation","Misc data","Attendance","Professionalism","Course 1 Class","Course 1 Lab","Course 2 Class","Course 2 Lab","Course 3 Class","Course 3 Lab","Course 4 Class","Course 4 Lab","Course 5 Class","Course 5 Lab","Student 1","Student 2","Student 3","Student 4","Student 5","Student 6","Student 7","Student 8","Student 9","Student 10","Student 11","Student 12","Student 13","Student 14","Student 15","Student 16","Student 17","Student 18","Student 19","Student 20","Student 21","Student 22","Student 23","Student 24","Student 25"],"read":"whole","date_system":"1900"}

{"sheet":"Explanation","index":0,"n_rows":18,"n_cols":1,"rows_kept":18}
["You can safely delete this sheet once you have read it."]
["This work book is an attempt at creating a grade book that can be used in several different classes."]
["Each class has a class room component and a lab component."]
["The data from the lab component is imported in to the class sheet, for grade calculations."]
["There is one sheet or tab for each student. All information on the student sheet is updated as data is changed in the class sheet."]
["Using open offices excellent PDF converter, each sheet or tab can be converted to PDF for emailing to the students"]
["Or you can simply print of the sheets sequentially and give to the student."]
["The Misc data sheet contains the student ID and names, this information is used in the subsequent sheets."]
["Class names are also given in that sheet, and used in subsequent sheets."]
["The next sheet is attendance. You copy and paste the date set to the right for the next day."]
["Accumulated attendance and percentage is calculated, using the perfect attendance data."]
["The next sheet is professionalism. Here the attendance data is used as weighted data for a professionalism grade."]
["Next several sheets are the classes and lab sheets. Note that if a student fails a competency, the shop grade is 0."]
["Note that a letter grade is calculated using a nested IF – THEN statement. Possibly a look up table would be better."]
["The number of points available in class is calculated from the individual test, homework, and lab work sheets."]
["If the number of points is changed on one or more of the assignments on one or more of the class sheet(s), all other sheets will automatically update."]
["Finally, the information specific to each student is tabulated in a sheet for that student. Data from all the classes are imported."]
["Notice that the memory footprint of this work book is small, relative to the amount of data it contains."]

{"sheet":"Misc data","index":1,"n_rows":26,"n_cols":8,"rows_kept":26,"merged":[[1,4,1,5],[17,5,18,9]]}
["ID:","First:","Last:",null,"Final ","Grade:",null,"Classes:"]
[{"v":1,"d":"00000001"},"Student","One",null,"Final Grade",null,null,"Course 1 Engine Diagnosis. Class"]
[{"v":2,"d":"00000002"},"Student","Two",null,{"v":0,"d":"0%"},"F",null,"Course 1 Engine Diagnosis. Lab"]
[{"v":3,"d":"00000003"},"Student","Three",null,{"v":0.695,"d":"70%"},"D-",null,"Course 2 Engine Theory & Repair. Class"]
[{"v":4,"d":"00000004"},"Student","Four",null,{"v":0.715,"d":"72%"},"D",null,"Course 2 Engine Theory & Repair. Lab"]
[{"v":5,"d":"00000005"},"Student","Five",null,{"v":0.735,"d":"74%"},"D+",null,"Course 3 Steering & Suspension. Class."]
[{"v":6,"d":"00000006"},"Student","Six",null,{"v":0.755,"d":"76%"},"C-",null,"Course 3 Steering & Suspension. Lab"]
[{"v":7,"d":"00000007"},"Student","Seven",null,{"v":0.785,"d":"79%"},"C",null,"Course 4 Alignment. Class."]
[{"v":8,"d":"00000008"},"Student","Eight",null,{"v":0.815,"d":"82%"},"C+",null,"Course 4 Alignment. Lab"]
[{"v":9,"d":"00000009"},"Student ","Nine",null,{"v":0.845,"d":"85%"},"B-",null,"Course 5 Brake Systems. Class."]
[{"v":10,"d":"00000010"},"Student","Ten",null,{"v":0.875,"d":"88%"},"B",null,"Course 5 Brake Systems. Lab"]
[{"v":11,"d":"00000011"},"Student","Eleven",null,{"v":0.895,"d":"90%"},"B+"]
[{"v":12,"d":"00000012"},"Student","Twelve",null,{"v":0.925,"d":"93%"},"A-"]
[{"v":13,"d":"00000013"},"Student","Thirteen",null,{"v":0.945,"d":"95%"},"A"]
[{"v":14,"d":"00000014"},"Student","Fourteen",null,{"v":1,"d":"100%"},"A"]
[{"v":15,"d":"00000015"},"Student","Fifteen"]
[{"v":16,"d":"00000016"},"Student","Sixteen"]
[{"v":17,"d":"00000017"},"Student","Seventeen",null,null,"Don't edit anything on any sheet  unless you know what you are doing! Especially on the other sheets!!"]
[{"v":18,"d":"00000018"},"Student","Eighteen"]
[{"v":19,"d":"00000019"},"Student","Nineteen"]
[{"v":20,"d":"00000020"},"Student","Twenty"]
[{"v":21,"d":"00000021"},"Student","Twenty one"]
[{"v":22,"d":"00000022"},"Student","Twenty two"]
[{"v":23,"d":"00000023"},"Student","Twenty three"]
[{"v":24,"d":"00000024"},"Student","Twenty four"]
[{"v":25,"d":"00000025"},"Student","Twenty five"]

{"sheet":"Attendance","index":2,"n_rows":27,"n_cols":12,"rows_kept":27,"merged":[[0,0,0,4],[0,5,0,11],[26,1,26,2]]}
["   ",{"$nulls":4},"Date"]
["ID#","First Name","Last Name","Hours","Percentage","7-7:50","8-8:50","9-9:50","10-10:50","11-11:50","1-1:50","2-2:50"]
[{"$f":"'Misc data'!$A$2","v":{"v":1,"d":"00000001"}},{"$f":"'Misc data'!$B$2","v":"Student"},{"$f":"'Misc data'!$C$2","v":"One"},{"$f":"SUM(F3:N3)","v":7},{"$f":"D3/D27","v":{"v":1,"d":"100%"}},1,1,1,1,1,1,1]
[{"$f":"'Misc data'!$A$3","v":{"v":2,"d":"00000002"}},{"$f":"'Misc data'!$B$3","v":"Student"},{"$f":"'Misc data'!$C$3","v":"Two"},{"$f":"SUM(F4:N4)","v":6.5},{"$f":"D4/($D27)","v":{"v":0.928571428571429,"d":"93%"}},0.5,1,1,1,1,1,1]
[{"$f":"'Misc data'!$A$4","v":{"v":3,"d":"00000003"}},{"$f":"'Misc data'!$B$4","v":"Student"},{"$f":"'Misc data'!$C$4","v":"Three"},{"$f":"SUM(F5:N5)","v":7},{"$f":"D5/D27","v":{"v":1,"d":"100%"}},1,1,1,1,1,1,1]
[{"$f":"'Misc data'!$A$5","v":{"v":4,"d":"00000004"}},{"$f":"'Misc data'!$B$5","v":"Student"},{"$f":"'Misc data'!$C$5","v":"Four"},{"$f":"SUM(F6:N6)","v":7},{"$f":"D6/D27","v":{"v":1,"d":"100%"}},1,1,1,1,1,1,1]
[{"$f":"'Misc data'!$A$6","v":{"v":5,"d":"00000005"}},{"$f":"'Misc data'!$B$6","v":"Student"},{"$f":"'Misc data'!$C$6","v":"Five"},{"$f":"SUM(F7:N7)","v":7},{"$f":"D7/D27","v":{"v":1,"d":"100%"}},1,1,1,1,1,1,1]
[{"$f":"'Misc data'!$A$7","v":{"v":6,"d":"00000006"}},{"$f":"'Misc data'!$B$7","v":"Student"},{"$f":"'Misc data'!$C$7","v":"Six"},{"$f":"SUM(F8:N8)","v":7},{"$f":"D8/D27","v":{"v":1,"d":"100%"}},1,1,1,1,1,1,1]
[{"$f":"'Misc data'!$A$8","v":{"v":7,"d":"00000007"}},{"$f":"'Misc data'!$B$8","v":"Student"},{"$f":"'Misc data'!$C$8","v":"Seven"},{"$f":"SUM(F9:N9)","v":7},{"$f":"D9/D27","v":{"v":1,"d":"100%"}},1,1,1,1,1,1,1]
[{"$f":"'Misc data'!$A$9","v":{"v":8,"d":"00000008"}},{"$f":"'Misc data'!$B$9","v":"Student"},{"$f":"'Misc data'!$C$9","v":"Eight"},{"$f":"SUM(F10:N10)","v":7},{"$f":"D10/D27","v":{"v":1,"d":"100%"}},1,1,1,1,1,1,1]
[{"$f":"'Misc data'!$A$10","v":{"v":9,"d":"00000009"}},{"$f":"'Misc data'!$B$10","v":"Student "},{"$f":"'Misc data'!$C$10","v":"Nine"},{"$f":"SUM(F11:N11)","v":7},{"$f":"D11/D27","v":{"v":1,"d":"100%"}},1,1,1,1,1,1,1]
[{"$f":"'Misc data'!$A$11","v":{"v":10,"d":"00000010"}},{"$f":"'Misc data'!$B$11","v":"Student"},{"$f":"'Misc data'!$C$11","v":"Ten"},{"$f":"SUM(F12:N12)","v":7},{"$f":"D12/D27","v":{"v":1,"d":"100%"}},1,1,1,1,1,1,1]
[{"$f":"'Misc data'!$A$12","v":{"v":11,"d":"00000011"}},{"$f":"'Misc data'!$B$12","v":"Student"},{"$f":"'Misc data'!$C$12","v":"Eleven"},{"$f":"SUM(F13:N13)","v":7},{"$f":"D13/D27","v":{"v":1,"d":"100%"}},1,1,1,1,1,1,1]
[{"$f":"'Misc data'!$A$13","v":{"v":12,"d":"00000012"}},{"$f":"'Misc data'!$B$13","v":"Student"},{"$f":"'Misc data'!$C$13","v":"Twelve"},{"$f":"SUM(F14:N14)","v":6.5},{"$f":"D14/D27","v":{"v":0.928571428571429,"d":"93%"}},0.5,1,1,1,1,1,1]
[{"$f":"'Misc data'!$A$14","v":{"v":13,"d":"00000013"}},{"$f":"'Misc data'!$B$14","v":"Student"},{"$f":"'Misc data'!$C$14","v":"Thirteen"},{"$f":"SUM(F15:N15)","v":7},{"$f":"D15/D27","v":{"v":1,"d":"100%"}},1,1,1,1,1,1,1]
[{"$f":"'Misc data'!$A$15","v":{"v":14,"d":"00000014"}},{"$f":"'Misc data'!$B$15","v":"Student"},{"$f":"'Misc data'!$C$15","v":"Fourteen"},{"$f":"SUM(F16:N16)","v":7},{"$f":"D16/D27","v":{"v":1,"d":"100%"}},1,1,1,1,1,1,1]
[{"$f":"'Misc data'!$A$16","v":{"v":15,"d":"00000015"}},{"$f":"'Misc data'!$B$16","v":"Student"},{"$f":"'Misc data'!$C$16","v":"Fifteen"},{"$f":"SUM(F17:N17)","v":7},{"$f":"D17/D27","v":{"v":1,"d":"100%"}},1,1,1,1,1,1,1]
[{"$f":"'Misc data'!$A$17","v":{"v":16,"d":"00000016"}},{"$f":"'Misc data'!$B$17","v":"Student"},{"$f":"'Misc data'!$C$17","v":"Sixteen"},{"$f":"SUM(F18:N18)","v":7},{"$f":"D18/D27","v":{"v":1,"d":"100%"}},1,1,1,1,1,1,1]
[{"$f":"'Misc data'!$A$18","v":{"v":17,"d":"00000017"}},{"$f":"'Misc data'!$B$18","v":"Student"},{"$f":"'Misc data'!$C$18","v":"Seventeen"},{"$f":"SUM(F19:N19)","v":7},{"$f":"D19/D27","v":{"v":1,"d":"100%"}},1,1,1,1,1,1,1]
[{"$f":"'Misc data'!$A$19","v":{"v":18,"d":"00000018"}},{"$f":"'Misc data'!$B$19","v":"Student"},{"$f":"'Misc data'!$C$19","v":"Eighteen"},{"$f":"SUM(F20:N20)","v":7},{"$f":"D20/D27","v":{"v":1,"d":"100%"}},1,1,1,1,1,1,1]
[{"$f":"'Misc data'!$A$20","v":{"v":19,"d":"00000019"}},{"$f":"'Misc data'!$B$20","v":"Student"},{"$f":"'Misc data'!$C$20","v":"Nineteen"},{"$f":"SUM(F21:N21)","v":7},{"$f":"D21/D27","v":{"v":1,"d":"100%"}},1,1,1,1,1,1,1]
[{"$f":"'Misc data'!$A$21","v":{"v":20,"d":"00000020"}},{"$f":"'Misc data'!$B$21","v":"Student"},{"$f":"'Misc data'!$C$21","v":"Twenty"},{"$f":"SUM(F22:N22)","v":7},{"$f":"D22/D27","v":{"v":1,"d":"100%"}},1,1,1,1,1,1,1]
[{"$f":"'Misc data'!$A$22","v":{"v":21,"d":"00000021"}},{"$f":"'Misc data'!$B$22","v":"Student"},{"$f":"'Misc data'!$C$22","v":"Twenty one"},{"$f":"SUM(F23:N23)","v":7},{"$f":"D23/D27","v":{"v":1,"d":"100%"}},1,1,1,1,1,1,1]
[{"$f":"'Misc data'!$A$23","v":{"v":22,"d":"00000022"}},{"$f":"'Misc data'!$B$23","v":"Student"},{"$f":"'Misc data'!$C$23","v":"Twenty two"},{"$f":"SUM(F24:N24)","v":7},{"$f":"D24/D27","v":{"v":1,"d":"100%"}},1,1,1,1,1,1,1]
[{"$f":"'Misc data'!$A$24","v":{"v":23,"d":"00000023"}},{"$f":"'Misc data'!$B$24","v":"Student"},{"$f":"'Misc data'!$C$24","v":"Twenty three"},{"$f":"SUM(F25:N25)","v":7},{"$f":"D25/D27","v":{"v":1,"d":"100%"}},1,1,1,1,1,1,1]
["   "," "," "," "," "]
["   ","Perfect attendance",null,{"$f":"SUM(F27:N27)","v":7},{"$f":"D27/D27","v":{"v":1,"d":"100%"}},1,1,1,1,1,1,1]

{"sheet":"Professionalism","index":3,"n_rows":24,"n_cols":8,"rows_kept":24}
["ID#","First Name","Last Name","Att points","Prof points","Percent"]
[{"$f":"'Misc data'!$A$2","v":{"v":1,"d":"00000001"}},{"$f":"'Misc data'!$B$2","v":"Student"},{"$f":"'Misc data'!$C$2","v":"One"},{"$f":"Attendance!$E$3*6","v":6},{"$f":"66+D2","v":72},{"$f":"E2/72","v":{"v":1,"d":"100%"}}]
[{"$f":"'Misc data'!$A$3","v":{"v":2,"d":"00000002"}},{"$f":"'Misc data'!$B$3","v":"Student"},{"$f":"'Misc data'!$C$3","v":"Two"},{"$f":"Attendance!$E$4*6","v":5.57142857142857},{"$f":"66+D3","v":{"v":71.5714285714286,"d":"72"}},{"$f":"E3/72","v":{"v":0.994047619047619,"d":"99%"}}]
[{"$f":"'Misc data'!$A$4","v":{"v":3,"d":"00000003"}},{"$f":"'Misc data'!$B$4","v":"Student"},{"$f":"'Misc data'!$C$4","v":"Three"},{"$f":"Attendance!$E$5*6","v":6},{"$f":"66+D4","v":72},{"$f":"E4/72","v":{"v":1,"d":"100%"}}]
[{"$f":"'Misc data'!$A$5","v":{"v":4,"d":"00000004"}},{"$f":"'Misc data'!$B$5","v":"Student"},{"$f":"'Misc data'!$C$5","v":"Four"},{"$f":"Attendance!$E$6*6","v":6},{"$f":"66+D5","v":72},{"$f":"E5/72","v":{"v":1,"d":"100%"}}]
[{"$f":"'Misc data'!$A$6","v":{"v":5,"d":"00000005"}},{"$f":"'Misc data'!$B$6","v":"Student"},{"$f":"'Misc data'!$C$6","v":"Five"},{"$f":"Attendance!$E$7*6","v":6},{"$f":"66+D6","v":72},{"$f":"E6/72","v":{"v":1,"d":"100%"}},null," "]
[{"$f":"'Misc data'!$A$7","v":{"v":6,"d":"00000006"}},{"$f":"'Misc data'!$B$7","v":"Student"},{"$f":"'Misc data'!$C$7","v":"Six"},{"$f":"Attendance!$E$8*6","v":6},{"$f":"66+D7","v":72},{"$f":"E7/72","v":{"v":1,"d":"100%"}}]
[{"$f":"'Misc data'!$A$8","v":{"v":7,"d":"00000007"}},{"$f":"'Misc data'!$B$8","v":"Student"},{"$f":"'Misc data'!$C$8","v":"Seven"},{"$f":"Attendance!$E$9*6","v":6},{"$f":"66+D8","v":72},{"$f":"E8/72","v":{"v":1,"d":"100%"}}]
[{"$f":"'Misc data'!$A$9","v":{"v":8,"d":"00000008"}},{"$f":"'Misc data'!$B$9","v":"Student"},{"$f":"'Misc data'!$C$9","v":"Eight"},{"$f":"Attendance!$E$10*6","v":6},{"$f":"66+D9","v":72},{"$f":"E9/72","v":{"v":1,"d":"100%"}}]
[{"$f":"'Misc data'!$A$10","v":{"v":9,"d":"00000009"}},{"$f":"'Misc data'!$B$10","v":"Student "},{"$f":"'Misc data'!$C$10","v":"Nine"},{"$f":"Attendance!$E$11*6","v":6},{"$f":"66+D10","v":72},{"$f":"E10/72","v":{"v":1,"d":"100%"}}]
[{"$f":"'Misc data'!$A$11","v":{"v":10,"d":"00000010"}},{"$f":"'Misc data'!$B$11","v":"Student"},{"$f":"'Misc data'!$C$11","v":"Ten"},{"$f":"Attendance!$E$12*6","v":6},{"$f":"66+D11","v":72},{"$f":"E11/72","v":{"v":1,"d":"100%"}}]
[{"$f":"'Misc data'!$A$12","v":{"v":11,"d":"00000011"}},{"$f":"'Misc data'!$B$12","v":"Student"},{"$f":"'Misc data'!$C$12","v":"Eleven"},{"$f":"Attendance!$E$13*6","v":6},{"$f":"66+D12","v":72},{"$f":"E12/72","v":{"v":1,"d":"100%"}}]
[{"$f":"'Misc data'!$A$13","v":{"v":12,"d":"00000012"}},{"$f":"'Misc data'!$B$13","v":"Student"},{"$f":"'Misc data'!$C$13","v":"Twelve"},{"$f":"Attendance!$E$14*6","v":5.57142857142857},{"$f":"66+D13","v":{"v":71.5714285714286,"d":"72"}},{"$f":"E13/72","v":{"v":0.994047619047619,"d":"99%"}}]
[{"$f":"'Misc data'!$A$14","v":{"v":13,"d":"00000013"}},{"$f":"'Misc data'!$B$14","v":"Student"},{"$f":"'Misc data'!$C$14","v":"Thirteen"},{"$f":"Attendance!$E$15*6","v":6},{"$f":"66+D14","v":72},{"$f":"E14/72","v":{"v":1,"d":"100%"}}]
[{"$f":"'Misc data'!$A$15","v":{"v":14,"d":"00000014"}},{"$f":"'Misc data'!$B$15","v":"Student"},{"$f":"'Misc data'!$C$15","v":"Fourteen"},{"$f":"Attendance!$E$16*6","v":6},{"$f":"66+D15","v":72},{"$f":"E15/72","v":{"v":1,"d":"100%"}}]
[{"$f":"'Misc data'!$A$16","v":{"v":15,"d":"00000015"}},{"$f":"'Misc data'!$B$16","v":"Student"},{"$f":"'Misc data'!$C$16","v":"Fifteen"},{"$f":"Attendance!$E$17*6","v":6},{"$f":"66+D16","v":72},{"$f":"E16/72","v":{"v":1,"d":"100%"}}]
[{"$f":"'Misc data'!$A$17","v":{"v":16,"d":"00000016"}},{"$f":"'Misc data'!$B$17","v":"Student"},{"$f":"'Misc data'!$C$17","v":"Sixteen"},{"$f":"Attendance!$E$18*6","v":6},{"$f":"66+D17","v":72},{"$f":"E17/72","v":{"v":1,"d":"100%"}}]
[{"$f":"'Misc data'!$A$18","v":{"v":17,"d":"00000017"}},{"$f":"'Misc data'!$B$18","v":"Student"},{"$f":"'Misc data'!$C$18","v":"Seventeen"},{"$f":"Attendance!$E$19*6","v":6},{"$f":"66+D18","v":72},{"$f":"E18/72","v":{"v":1,"d":"100%"}}]
[{"$f":"'Misc data'!$A$19","v":{"v":18,"d":"00000018"}},{"$f":"'Misc data'!$B$19","v":"Student"},{"$f":"'Misc data'!$C$19","v":"Eighteen"},{"$f":"Attendance!$E$20*6","v":6},{"$f":"66+D19","v":72},{"$f":"E19/72","v":{"v":1,"d":"100%"}}]
[{"$f":"'Misc data'!$A$20","v":{"v":19,"d":"00000019"}},{"$f":"'Misc data'!$B$20","v":"Student"},{"$f":"'Misc data'!$C$20","v":"Nineteen"},{"$f":"Attendance!$E$21*6","v":6},{"$f":"66+D20","v":72},{"$f":"E20/72","v":{"v":1,"d":"100%"}}]
[{"$f":"'Misc data'!$A$21","v":{"v":20,"d":"00000020"}},{"$f":"'Misc data'!$B$21","v":"Student"},{"$f":"'Misc data'!$C$21","v":"Twenty"},{"$f":"Attendance!$E$22*6","v":6},{"$f":"66+D21","v":72},{"$f":"E21/72","v":{"v":1,"d":"100%"}}]
[{"$f":"'Misc data'!$A$22","v":{"v":21,"d":"00000021"}},{"$f":"'Misc data'!$B$22","v":"Student"},{"$f":"'Misc data'!$C$22","v":"Twenty one"},{"$f":"Attendance!$E$23*6","v":6},{"$f":"66+D22","v":72},{"$f":"E22/72","v":{"v":1,"d":"100%"}}]
[{"$f":"'Misc data'!$A$23","v":{"v":22,"d":"00000022"}},{"$f":"'Misc data'!$B$23","v":"Student"},{"$f":"'Misc data'!$C$23","v":"Twenty two"},{"$f":"Attendance!$E$24*6","v":6},{"$f":"66+D23","v":72},{"$f":"E23/72","v":{"v":1,"d":"100%"}}]
[{"$f":"'Misc data'!$A$24","v":{"v":23,"d":"00000023"}},{"$f":"'Misc data'!$B$24","v":"Student"},{"$f":"'Misc data'!$C$24","v":"Twenty three"},{"$f":"Attendance!$E$25*6","v":6},{"$f":"66+D24","v":72},{"$f":"E24/72","v":{"v":1,"d":"100%"}}]

{"sheet":"Course 1 Class","index":4,"n_rows":30,"n_cols":18,"rows_kept":30,"merged":[[0,0,0,2],[1,0,1,2],[2,0,2,1],[2,9,2,17],[3,0,3,1],[3,9,3,10],[3,11,3,13],[3,14,3,15]]}
[{"$f":"'Misc data'!$H$2","v":"Course 1 Engine Diagnosis. Class"},{"$nulls":6},25]
["Date assignment is due",null," ","TBD","TBD","TBD","TBD","TBD","TBD"]
["Class Room Points:",null,{"$f":"SUM(D3:I3)","v":160},20,20,20,25," ",75,"Evaluation"]
["Red is late turn-in",null,"Blue is absent","CH 13 ","Lube","Lube","Condition","Extra","Final","Classroom",null,"Professionalism",null,null,"Lab",null,"Total  ","Letter"]
["I D ","First:","Last:","Test","HW","Test","Class","Credit","Test","Points","%","Attendance","Points","%","Points","%","%","Grade"]
[{"$f":"'Misc data'!$A$2","v":{"v":1,"d":"00000001"}},{"$f":"'Misc data'!$B$2","v":"Student"},{"$f":"'Misc data'!$C$2","v":"One"},0,0,0,0,0,0,{"$f":"SUM(D6:I6)","v":0},{"$f":"(J6/C3)","v":{"v":0,"d":"0%"}},{"$f":"Attendance!$E$3","v":{"v":1,"d":"100%"}},{"$f":"Professionalism!$E$2","v":{"v":72,"d":"72.0"}},{"$f":"Professionalism!$F$2","v":{"v":1,"d":"100%"}},{"$f":"'Course 1 Lab'!$Q$7","v":0},{"$f":"'Course 1 Lab'!$R$7","v":{"v":0,"d":"0%"}},{"$f":"(0.5*K6)+(0.25*N6)+(0.25*P6)","v":{"v":0.25,"d":"25.0%"}},{"$f":"IF(Q6>0.95,\"A\",IF(Q6>0.93,\"A-\",IF(Q6>0.9,\"B+\",IF(Q6>0.88,\"B\",IF(Q6>0.85,\"B-\",IF(Q6>0.82,\"C+\",IF(Q6>0.79,\"C\",IF(Q6>0.76,\"C-\",IF(Q6>0.74,\"D+\",IF(Q6>0.72,\"D\",IF(Q6>0.7,\"D-\",IF(Q6<0.7,\"F\"))))))))))))","v":"F"}]
[{"$f":"'Misc data'!$A$3","v":{"v":2,"d":"00000002"}},{"$f":"'Misc data'!$B$3","v":"Student"},{"$f":"'Misc data'!$C$3","v":"Two"},0,0,0,0,0,0,{"$f":"SUM(D7:I7)","v":0},{"$f":"(J7/C3)","v":{"v":0,"d":"0%"}},{"$f":"Attendance!$E$4","v":{"v":0.928571428571429,"d":"93%"}},{"$f":"Professionalism!$E$3","v":{"v":71.5714285714286,"d":"71.6"}},{"$f":"Professionalism!$F$3","v":{"v":0.994047619047619,"d":"99%"}},{"$f":"'Course 1 Lab'!$Q$8","v":0},{"$f":"'Course 1 Lab'!$R$8","v":{"v":0,"d":"0%"}},{"$f":"(0.5*K7)+(0.25*N7)+(0.25*P7)","v":{"v":0.248511904761905,"d":"24.9%"}},{"$f":"IF(Q7>0.95,\"A\",IF(Q7>0.93,\"A-\",IF(Q7>0.9,\"B+\",IF(Q7>0.88,\"B\",IF(Q7>0.85,\"B-\",IF(Q7>0.82,\"C+\",IF(Q7>0.79,\"C\",IF(Q7>0.76,\"C-\",IF(Q7>0.74,\"D+\",IF(Q7>0.72,\"D\",IF(Q7>0.7,\"D-\",IF(Q7<0.7,\"F\"))))))))))))","v":"F"}]
[{"$f":"'Misc data'!$A$4","v":{"v":3,"d":"00000003"}},{"$f":"'Misc data'!$B$4","v":"Student"},{"$f":"'Misc data'!$C$4","v":"Three"},0,0,0,0,0,0,{"$f":"SUM(D8:I8)","v":0},{"$f":"(J8/C3)","v":{"v":0,"d":"0%"}},{"$f":"Attendance!$E$5","v":{"v":1,"d":"100%"}},{"$f":"Professionalism!$E$4","v":{"v":72,"d":"72.0"}},{"$f":"Professionalism!$F$4","v":{"v":1,"d":"100%"}},{"$f":"'Course 1 Lab'!$Q$9","v":0},{"$f":"'Course 1 Lab'!$R$9","v":{"v":0,"d":"0%"}},{"$f":"(0.5*K8)+(0.25*N8)+(0.25*P8)","v":{"v":0.25,"d":"25.0%"}},{"$f":"IF(Q8>0.95,\"A\",IF(Q8>0.93,\"A-\",IF(Q8>0.9,\"B+\",IF(Q8>0.88,\"B\",IF(Q8>0.85,\"B-\",IF(Q8>0.82,\"C+\",IF(Q8>0.79,\"C\",IF(Q8>0.76,\"C-\",IF(Q8>0.74,\"D+\",IF(Q8>0.72,\"D\",IF(Q8>0.7,\"D-\",IF(Q8<0.7,\"F\"))))))))))))","v":"F"}]
[{"$f":"'Misc data'!$A$5","v":{"v":4,"d":"00000004"}},{"$f":"'Misc data'!$B$5","v":"Student"},{"$f":"'Misc data'!$C$5","v":"Four"},0,0,0,0,0,0,{"$f":"SUM(D9:I9)","v":0},{"$f":"(J9/C3)","v":{"v":0,"d":"0%"}},{"$f":"Attendance!$E$6","v":{"v":1,"d":"100%"}},{"$f":"Professionalism!$E$5","v":{"v":72,"d":"72.0"}},{"$f":"Professionalism!$F$5","v":{"v":1,"d":"100%"}},{"$f":"'Course 1 Lab'!$Q$10","v":0},{"$f":"'Course 1 Lab'!$R$10","v":{"v":0,"d":"0%"}},{"$f":"(0.5*K9)+(0.25*N9)+(0.25*P9)","v":{"v":0.25,"d":"25.0%"}},{"$f":"IF(Q9>0.95,\"A\",IF(Q9>0.93,\"A-\",IF(Q9>0.9,\"B+\",IF(Q9>0.88,\"B\",IF(Q9>0.85,\"B-\",IF(Q9>0.82,\"C+\",IF(Q9>0.79,\"C\",IF(Q9>0.76,\"C-\",IF(Q9>0.74,\"D+\",IF(Q9>0.72,\"D\",IF(Q9>0.7,\"D-\",IF(Q9<0.7,\"F\"))))))))))))","v":"F"}]
[{"$f":"'Misc data'!$A$6","v":{"v":5,"d":"00000005"}},{"$f":"'Misc data'!$B$6","v":"Student"},{"$f":"'Misc data'!$C$6","v":"Five"},0,0,0,0,0,0,{"$f":"SUM(D10:I10)","v":0},{"$f":"(J10/C3)","v":{"v":0,"d":"0%"}},{"$f":"Attendance!$E$7","v":{"v":1,"d":"100%"}},{"$f":"Professionalism!$E$6","v":{"v":72,"d":"72.0"}},{"$f":"Professionalism!$F$6","v":{"v":1,"d":"100%"}},{"$f":"'Course 1 Lab'!$Q$11","v":0},{"$f":"'Course 1 Lab'!$R$11","v":{"v":0,"d":"0%"}},{"$f":"(0.5*K10)+(0.25*N10)+(0.25*P10)","v":{"v":0.25,"d":"25.0%"}},{"$f":"IF(Q10>0.95,\"A\",IF(Q10>0.93,\"A-\",IF(Q10>0.9,\"B+\",IF(Q10>0.88,\"B\",IF(Q10>0.85,\"B-\",IF(Q10>0.82,\"C+\",IF(Q10>0.79,\"C\",IF(Q10>0.76,\"C-\",IF(Q10>0.74,\"D+\",IF(Q10>0.72,\"D\",IF(Q10>0.7,\"D-\",IF(Q10<0.7,\"F\"))))))))))))","v":"F"}]
[{"$f":"'Misc data'!$A$7","v":{"v":6,"d":"00000006"}},{"$f":"'Misc data'!$B$7","v":"Student"},{"$f":"'Misc data'!$C$7","v":"Six"},0,0,0,0,0,0,{"$f":"SUM(D11:I11)","v":0},{"$f":"(J11/C3)","v":{"v":0,"d":"0%"}},{"$f":"Attendance!$E$8","v":{"v":1,"d":"100%"}},{"$f":"Professionalism!$E$7","v":{"v":72,"d":"72.0"}},{"$f":"Professionalism!$F$7","v":{"v":1,"d":"100%"}},{"$f":"'Course 1 Lab'!$Q$12","v":0},{"$f":"'Course 1 Lab'!$R$12","v":{"v":0,"d":"0%"}},{"$f":"(0.5*K11)+(0.25*N11)+(0.25*P11)","v":{"v":0.25,"d":"25.0%"}},{"$f":"IF(Q11>0.95,\"A\",IF(Q11>0.93,\"A-\",IF(Q11>0.9,\"B+\",IF(Q11>0.88,\"B\",IF(Q11>0.85,\"B-\",IF(Q11>0.82,\"C+\",IF(Q11>0.79,\"C\",IF(Q11>0.76,\"C-\",IF(Q11>0.74,\"D+\",IF(Q11>0.72,\"D\",IF(Q11>0.7,\"D-\",IF(Q11<0.7,\"F\"))))))))))))","v":"F"}]
[{"$f":"'Misc data'!$A$8","v":{"v":7,"d":"00000007"}},{"$f":"'Misc data'!$B$8","v":"Student"},{"$f":"'Misc data'!$C$8","v":"Seven"},0,0,0,0,0,0,{"$f":"SUM(D12:I12)","v":0},{"$f":"(J12/C3)","v":{"v":0,"d":"0%"}},{"$f":"Attendance!$E$9","v":{"v":1,"d":"100%"}},{"$f":"Professionalism!$E$8","v":{"v":72,"d":"72.0"}},{"$f":"Professionalism!$F$8","v":{"v":1,"d":"100%"}},{"$f":"'Course 1 Lab'!$Q$13","v":0},{"$f":"'Course 1 Lab'!$R$13","v":{"v":0,"d":"0%"}},{"$f":"(0.5*K12)+(0.25*N12)+(0.25*P12)","v":{"v":0.25,"d":"25.0%"}},{"$f":"IF(Q12>0.95,\"A\",IF(Q12>0.93,\"A-\",IF(Q12>0.9,\"B+\",IF(Q12>0.88,\"B\",IF(Q12>0.85,\"B-\",IF(Q12>0.82,\"C+\",IF(Q12>0.79,\"C\",IF(Q12>0.76,\"C-\",IF(Q12>0.74,\"D+\",IF(Q12>0.72,\"D\",IF(Q12>0.7,\"D-\",IF(Q12<0.7,\"F\"))))))))))))","v":"F"}]
[{"$f":"'Misc data'!$A$9","v":{"v":8,"d":"00000008"}},{"$f":"'Misc data'!$B$9","v":"Student"},{"$f":"'Misc data'!$C$9","v":"Eight"},0,0,0,0,0,0,{"$f":"SUM(D13:I13)","v":0},{"$f":"(J13/C3)","v":{"v":0,"d":"0%"}},{"$f":"Attendance!$E$10","v":{"v":1,"d":"100%"}},{"$f":"Professionalism!$E$9","v":{"v":72,"d":"72.0"}},{"$f":"Professionalism!$F$9","v":{"v":1,"d":"100%"}},{"$f":"'Course 1 Lab'!$Q$14","v":0},{"$f":"'Course 1 Lab'!$R$14","v":{"v":0,"d":"0%"}},{"$f":"(0.5*K13)+(0.25*N13)+(0.25*P13)","v":{"v":0.25,"d":"25.0%"}},{"$f":"IF(Q13>0.95,\"A\",IF(Q13>0.93,\"A-\",IF(Q13>0.9,\"B+\",IF(Q13>0.88,\"B\",IF(Q13>0.85,\"B-\",IF(Q13>0.82,\"C+\",IF(Q13>0.79,\"C\",IF(Q13>0.76,\"C-\",IF(Q13>0.74,\"D+\",IF(Q13>0.72,\"D\",IF(Q13>0.7,\"D-\",IF(Q13<0.7,\"F\"))))))))))))","v":"F"}]
[{"$f":"'Misc data'!$A$10","v":{"v":9,"d":"00000009"}},{"$f":"'Misc data'!$B$10","v":"Student "},{"$f":"'Misc data'!$C$10","v":"Nine"},0,0,0,0,0,0,{"$f":"SUM(D14:I14)","v":0},{"$f":"(J14/C3)","v":{"v":0,"d":"0%"}},{"$f":"Attendance!$E$11","v":{"v":1,"d":"100%"}},{"$f":"Professionalism!$E$10","v":{"v":72,"d":"72.0"}},{"$f":"Professionalism!$F$10","v":{"v":1,"d":"100%"}},{"$f":"'Course 1 Lab'!$Q$15","v":0},{"$f":"'Course 1 Lab'!$R$15","v":{"v":0,"d":"0%"}},{"$f":"(0.5*K14)+(0.25*N14)+(0.25*P14)","v":{"v":0.25,"d":"25.0%"}},{"$f":"IF(Q14>0.95,\"A\",IF(Q14>0.93,\"A-\",IF(Q14>0.9,\"B+\",IF(Q14>0.88,\"B\",IF(Q14>0.85,\"B-\",IF(Q14>0.82,\"C+\",IF(Q14>0.79,\"C\",IF(Q14>0.76,\"C-\",IF(Q14>0.74,\"D+\",IF(Q14>0.72,\"D\",IF(Q14>0.7,\"D-\",IF(Q14<0.7,\"F\"))))))))))))","v":"F"}]
[{"$f":"'Misc data'!$A$11","v":{"v":10,"d":"00000010"}},{"$f":"'Misc data'!$B$11","v":"Student"},{"$f":"'Misc data'!$C$11","v":"Ten"},0,0,0,0,0,0,{"$f":"SUM(D15:I15)","v":0},{"$f":"(J15/C3)","v":{"v":0,"d":"0%"}},{"$f":"Attendance!$E$12","v":{"v":1,"d":"100%"}},{"$f":"Professionalism!$E$11","v":{"v":72,"d":"72.0"}},{"$f":"Professionalism!$F$11","v":{"v":1,"d":"100%"}},{"$f":"'Course 1 Lab'!$Q$16","v":0},{"$f":"'Course 1 Lab'!$R$16","v":{"v":0,"d":"0%"}},{"$f":"(0.5*K15)+(0.25*N15)+(0.25*P15)","v":{"v":0.25,"d":"25.0%"}},{"$f":"IF(Q15>0.95,\"A\",IF(Q15>0.93,\"A-\",IF(Q15>0.9,\"B+\",IF(Q15>0.88,\"B\",IF(Q15>0.85,\"B-\",IF(Q15>0.82,\"C+\",IF(Q15>0.79,\"C\",IF(Q15>0.76,\"C-\",IF(Q15>0.74,\"D+\",IF(Q15>0.72,\"D\",IF(Q15>0.7,\"D-\",IF(Q15<0.7,\"F\"))))))))))))","v":"F"}]
[{"$f":"'Misc data'!$A$12","v":{"v":11,"d":"00000011"}},{"$f":"'Misc data'!$B$12","v":"Student"},{"$f":"'Misc data'!$C$12","v":"Eleven"},0,0,0,0,0,0,{"$f":"SUM(D16:I16)","v":0},{"$f":"(J16/C3)","v":{"v":0,"d":"0%"}},{"$f":"Attendance!$E$13","v":{"v":1,"d":"100%"}},{"$f":"Professionalism!$E$12","v":{"v":72,"d":"72.0"}},{"$f":"Professionalism!$F$12","v":{"v":1,"d":"100%"}},{"$f":"'Course 1 Lab'!$Q$17","v":0},{"$f":"'Course 1 Lab'!$R$17","v":{"v":0,"d":"0%"}},{"$f":"(0.5*K16)+(0.25*N16)+(0.25*P16)","v":{"v":0.25,"d":"25.0%"}},{"$f":"IF(Q16>0.95,\"A\",IF(Q16>0.93,\"A-\",IF(Q16>0.9,\"B+\",IF(Q16>0.88,\"B\",IF(Q16>0.85,\"B-\",IF(Q16>0.82,\"C+\",IF(Q16>0.79,\"C\",IF(Q16>0.76,\"C-\",IF(Q16>0.74,\"D+\",IF(Q16>0.72,\"D\",IF(Q16>0.7,\"D-\",IF(Q16<0.7,\"F\"))))))))))))","v":"F"}]
[{"$f":"'Misc data'!$A$13","v":{"v":12,"d":"00000012"}},{"$f":"'Misc data'!$B$13","v":"Student"},{"$f":"'Misc data'!$C$13","v":"Twelve"},0,0,0,0,0,0,{"$f":"SUM(D17:I17)","v":0},{"$f":"(J17/C3)","v":{"v":0,"d":"0%"}},{"$f":"Attendance!$E$14","v":{"v":0.928571428571429,"d":"93%"}},{"$f":"Professionalism!$E$13","v":{"v":71.5714285714286,"d":"71.6"}},{"$f":"Professionalism!$F$13","v":{"v":0.994047619047619,"d":"99%"}},{"$f":"'Course 1 Lab'!$Q$18","v":0},{"$f":"'Course 1 Lab'!$R$18","v":{"v":0,"d":"0%"}},{"$f":"(0.5*K17)+(0.25*N17)+(0.25*P17)","v":{"v":0.248511904761905,"d":"24.9%"}},{"$f":"IF(Q17>0.95,\"A\",IF(Q17>0.93,\"A-\",IF(Q17>0.9,\"B+\",IF(Q17>0.88,\"B\",IF(Q17>0.85,\"B-\",IF(Q17>0.82,\"C+\",IF(Q17>0.79,\"C\",IF(Q17>0.76,\"C-\",IF(Q17>0.74,\"D+\",IF(Q17>0.72,\"D\",IF(Q17>0.7,\"D-\",IF(Q17<0.7,\"F\"))))))))))))","v":"F"}]
[{"$f":"'Misc data'!$A$14","v":{"v":13,"d":"00000013"}},{"$f":"'Misc data'!$B$14","v":"Student"},{"$f":"'Misc data'!$C$14","v":"Thirteen"},0,0,0,0,0,0,{"$f":"SUM(D18:I18)","v":0},{"$f":"(J18/C3)","v":{"v":0,"d":"0%"}},{"$f":"Attendance!$E$15","v":{"v":1,"d":"100%"}},{"$f":"Professionalism!$E$14","v":{"v":72,"d":"72.0"}},{"$f":"Professionalism!$F$14","v":{"v":1,"d":"100%"}},{"$f":"'Course 1 Lab'!$Q$19","v":0},{"$f":"'Course 1 Lab'!$R$19","v":{"v":0,"d":"0%"}},{"$f":"(0.5*K18)+(0.25*N18)+(0.25*P18)","v":{"v":0.25,"d":"25.0%"}},{"$f":"IF(Q18>0.95,\"A\",IF(Q18>0.93,\"A-\",IF(Q18>0.9,\"B+\",IF(Q18>0.88,\"B\",IF(Q18>0.85,\"B-\",IF(Q18>0.82,\"C+\",IF(Q18>0.79,\"C\",IF(Q18>0.76,\"C-\",IF(Q18>0.74,\"D+\",IF(Q18>0.72,\"D\",IF(Q18>0.7,\"D-\",IF(Q18<0.7,\"F\"))))))))))))","v":"F"}]
[{"$f":"'Misc data'!$A$15","v":{"v":14,"d":"00000014"}},{"$f":"'Misc data'!$B$15","v":"Student"},{"$f":"'Misc data'!$C$15","v":"Fourteen"},0,0,0,0,0,0,{"$f":"SUM(D19:I19)","v":0},{"$f":"(J19/C3)","v":{"v":0,"d":"0%"}},{"$f":"Attendance!$E$16","v":{"v":1,"d":"100%"}},{"$f":"Professionalism!$E$15","v":{"v":72,"d":"72.0"}},{"$f":"Professionalism!$F$15","v":{"v":1,"d":"100%"}},{"$f":"'Course 1 Lab'!$Q$20","v":0},{"$f":"'Course 1 Lab'!$R$20","v":{"v":0,"d":"0%"}},{"$f":"(0.5*K19)+(0.25*N19)+(0.25*P19)","v":{"v":0.25,"d":"25.0%"}},{"$f":"IF(Q19>0.95,\"A\",IF(Q19>0.93,\"A-\",IF(Q19>0.9,\"B+\",IF(Q19>0.88,\"B\",IF(Q19>0.85,\"B-\",IF(Q19>0.82,\"C+\",IF(Q19>0.79,\"C\",IF(Q19>0.76,\"C-\",IF(Q19>0.74,\"D+\",IF(Q19>0.72,\"D\",IF(Q19>0.7,\"D-\",IF(Q19<0.7,\"F\"))))))))))))","v":"F"}]
[{"$f":"'Misc data'!$A$16","v":{"v":15,"d":"00000015"}},{"$f":"'Misc data'!$B$16","v":"Student"},{"$f":"'Misc data'!$C$16","v":"Fifteen"},0,0,0,0,0,0,{"$f":"SUM(D20:I20)","v":0},{"$f":"(J20/C3)","v":{"v":0,"d":"0%"}},{"$f":"Attendance!$E$17","v":{"v":1,"d":"100%"}},{"$f":"Professionalism!$E$16","v":{"v":72,"d":"72.0"}},{"$f":"Professionalism!$F$16","v":{"v":1,"d":"100%"}},{"$f":"'Course 1 Lab'!$Q$21","v":0},{"$f":"'Course 1 Lab'!$R$21","v":{"v":0,"d":"0%"}},{"$f":"(0.5*K20)+(0.25*N20)+(0.25*P20)","v":{"v":0.25,"d":"25.0%"}},{"$f":"IF(Q20>0.95,\"A\",IF(Q20>0.93,\"A-\",IF(Q20>0.9,\"B+\",IF(Q20>0.88,\"B\",IF(Q20>0.85,\"B-\",IF(Q20>0.82,\"C+\",IF(Q20>0.79,\"C\",IF(Q20>0.76,\"C-\",IF(Q20>0.74,\"D+\",IF(Q20>0.72,\"D\",IF(Q20>0.7,\"D-\",IF(Q20<0.7,\"F\"))))))))))))","v":"F"}]
[{"$f":"'Misc data'!$A$17","v":{"v":16,"d":"00000016"}},{"$f":"'Misc data'!$B$17","v":"Student"},{"$f":"'Misc data'!$C$17","v":"Sixteen"},0,0,0,0,0,0,{"$f":"SUM(D21:I21)","v":0},{"$f":"(J21/C3)","v":{"v":0,"d":"0%"}},{"$f":"Attendance!$E$18","v":{"v":1,"d":"100%"}},{"$f":"Professionalism!$E$17","v":{"v":72,"d":"72.0"}},{"$f":"Professionalism!$F$17","v":{"v":1,"d":"100%"}},{"$f":"'Course 1 Lab'!$Q$22","v":0},{"$f":"'Course 1 Lab'!$R$22","v":{"v":0,"d":"0%"}},{"$f":"(0.5*K21)+(0.25*N21)+(0.25*P21)","v":{"v":0.25,"d":"25.0%"}},{"$f":"IF(Q21>0.95,\"A\",IF(Q21>0.93,\"A-\",IF(Q21>0.9,\"B+\",IF(Q21>0.88,\"B\",IF(Q21>0.85,\"B-\",IF(Q21>0.82,\"C+\",IF(Q21>0.79,\"C\",IF(Q21>0.76,\"C-\",IF(Q21>0.74,\"D+\",IF(Q21>0.72,\"D\",IF(Q21>0.7,\"D-\",IF(Q21<0.7,\"F\"))))))))))))","v":"F"}]
[{"$f":"'Misc data'!$A$18","v":{"v":17,"d":"00000017"}},{"$f":"'Misc data'!$B$18","v":"Student"},{"$f":"'Misc data'!$C$18","v":"Seventeen"},0,0,0,0,0,0,{"$f":"SUM(D22:I22)","v":0},{"$f":"(J22/C3)","v":{"v":0,"d":"0%"}},{"$f":"Attendance!$E$19","v":{"v":1,"d":"100%"}},{"$f":"Professionalism!$E$18","v":{"v":72,"d":"72.0"}},{"$f":"Professionalism!$F$18","v":{"v":1,"d":"100%"}},{"$f":"'Course 1 Lab'!$Q$23","v":0},{"$f":"'Course 1 Lab'!$R$23","v":{"v":0,"d":"0%"}},{"$f":"(0.5*K22)+(0.25*N22)+(0.25*P22)","v":{"v":0.25,"d":"25.0%"}},{"$f":"IF(Q22>0.95,\"A\",IF(Q22>0.93,\"A-\",IF(Q22>0.9,\"B+\",IF(Q22>0.88,\"B\",IF(Q22>0.85,\"B-\",IF(Q22>0.82,\"C+\",IF(Q22>0.79,\"C\",IF(Q22>0.76,\"C-\",IF(Q22>0.74,\"D+\",IF(Q22>0.72,\"D\",IF(Q22>0.7,\"D-\",IF(Q22<0.7,\"F\"))))))))))))","v":"F"}]
[{"$f":"'Misc data'!$A$19","v":{"v":18,"d":"00000018"}},{"$f":"'Misc data'!$B$19","v":"Student"},{"$f":"'Misc data'!$C$19","v":"Eighteen"},0,0,0,0,0,0,{"$f":"SUM(D23:I23)","v":0},{"$f":"(J23/C3)","v":{"v":0,"d":"0%"}},{"$f":"Attendance!$E$20","v":{"v":1,"d":"100%"}},{"$f":"Professionalism!$E$19","v":{"v":72,"d":"72.0"}},{"$f":"Professionalism!$F$19","v":{"v":1,"d":"100%"}},{"$f":"'Course 1 Lab'!$Q$24","v":0},{"$f":"'Course 1 Lab'!$R$24","v":{"v":0,"d":"0%"}},{"$f":"(0.5*K23)+(0.25*N23)+(0.25*P23)","v":{"v":0.25,"d":"25.0%"}},{"$f":"IF(Q23>0.95,\"A\",IF(Q23>0.93,\"A-\",IF(Q23>0.9,\"B+\",IF(Q23>0.88,\"B\",IF(Q23>0.85,\"B-\",IF(Q23>0.82,\"C+\",IF(Q23>0.79,\"C\",IF(Q23>0.76,\"C-\",IF(Q23>0.74,\"D+\",IF(Q23>0.72,\"D\",IF(Q23>0.7,\"D-\",IF(Q23<0.7,\"F\"))))))))))))","v":"F"}]
[{"$f":"'Misc data'!$A$20","v":{"v":19,"d":"00000019"}},{"$f":"'Misc data'!$B$20","v":"Student"},{"$f":"'Misc data'!$C$20","v":"Nineteen"},0,0,0,0,0,0,{"$f":"SUM(D24:I24)","v":0},{"$f":"(J24/C3)","v":{"v":0,"d":"0%"}},{"$f":"Attendance!$E$21","v":{"v":1,"d":"100%"}},{"$f":"Professionalism!$E$20","v":{"v":72,"d":"72.0"}},{"$f":"Professionalism!$F$20","v":{"v":1,"d":"100%"}},{"$f":"'Course 1 Lab'!$Q$25","v":0},{"$f":"'Course 1 Lab'!$R$25","v":{"v":0,"d":"0%"}},{"$f":"(0.5*K24)+(0.25*N24)+(0.25*P24)","v":{"v":0.25,"d":"25.0%"}},{"$f":"IF(Q24>0.95,\"A\",IF(Q24>0.93,\"A-\",IF(Q24>0.9,\"B+\",IF(Q24>0.88,\"B\",IF(Q24>0.85,\"B-\",IF(Q24>0.82,\"C+\",IF(Q24>0.79,\"C\",IF(Q24>0.76,\"C-\",IF(Q24>0.74,\"D+\",IF(Q24>0.72,\"D\",IF(Q24>0.7,\"D-\",IF(Q24<0.7,\"F\"))))))))))))","v":"F"}]
[{"$f":"'Misc data'!$A$21","v":{"v":20,"d":"00000020"}},{"$f":"'Misc data'!$B$21","v":"Student"},{"$f":"'Misc data'!$C$21","v":"Twenty"},0,0,0,0,0,0,{"$f":"SUM(D25:I25)","v":0},{"$f":"(J25/C3)","v":{"v":0,"d":"0%"}},{"$f":"Attendance!$E$22","v":{"v":1,"d":"100%"}},{"$f":"Professionalism!$E$21","v":{"v":72,"d":"72.0"}},{"$f":"Professionalism!$F$21","v":{"v":1,"d":"100%"}},{"$f":"'Course 1 Lab'!$Q$26","v":0},{"$f":"'Course 1 Lab'!$R$26","v":{"v":0,"d":"0%"}},{"$f":"(0.5*K25)+(0.25*N25)+(0.25*P25)","v":{"v":0.25,"d":"25.0%"}},{"$f":"IF(Q25>0.95,\"A\",IF(Q25>0.93,\"A-\",IF(Q25>0.9,\"B+\",IF(Q25>0.88,\"B\",IF(Q25>0.85,\"B-\",IF(Q25>0.82,\"C+\",IF(Q25>0.79,\"C\",IF(Q25>0.76,\"C-\",IF(Q25>0.74,\"D+\",IF(Q25>0.72,\"D\",IF(Q25>0.7,\"D-\",IF(Q25<0.7,\"F\"))))))))))))","v":"F"}]
[{"$f":"'Misc data'!$A$22","v":{"v":21,"d":"00000021"}},{"$f":"'Misc data'!$B$22","v":"Student"},{"$f":"'Misc data'!$C$22","v":"Twenty one"},0,0,0,0,0,0,{"$f":"SUM(D26:I26)","v":0},{"$f":"(J26/C3)","v":{"v":0,"d":"0%"}},{"$f":"Attendance!$E$23","v":{"v":1,"d":"100%"}},{"$f":"Professionalism!$E$22","v":{"v":72,"d":"72.0"}},{"$f":"Professionalism!$F$22","v":{"v":1,"d":"100%"}},{"$f":"'Course 1 Lab'!$Q$27","v":0},{"$f":"'Course 1 Lab'!$R$27","v":{"v":0,"d":"0%"}},{"$f":"(0.5*K26)+(0.25*N26)+(0.25*P26)","v":{"v":0.25,"d":"25.0%"}},{"$f":"IF(Q26>0.95,\"A\",IF(Q26>0.93,\"A-\",IF(Q26>0.9,\"B+\",IF(Q26>0.88,\"B\",IF(Q26>0.85,\"B-\",IF(Q26>0.82,\"C+\",IF(Q26>0.79,\"C\",IF(Q26>0.76,\"C-\",IF(Q26>0.74,\"D+\",IF(Q26>0.72,\"D\",IF(Q26>0.7,\"D-\",IF(Q26<0.7,\"F\"))))))))))))","v":"F"}]
[{"$f":"'Misc data'!$A$23","v":{"v":22,"d":"00000022"}},{"$f":"'Misc data'!$B$23","v":"Student"},{"$f":"'Misc data'!$C$23","v":"Twenty two"},0,0,0,0,0,0,{"$f":"SUM(D27:I27)","v":0},{"$f":"(J27/C3)","v":{"v":0,"d":"0%"}},{"$f":"Attendance!$E$24","v":{"v":1,"d":"100%"}},{"$f":"Professionalism!$E$23","v":{"v":72,"d":"72.0"}},{"$f":"Professionalism!$F$23","v":{"v":1,"d":"100%"}},{"$f":"'Course 1 Lab'!$Q$28","v":0},{"$f":"'Course 1 Lab'!$R$28","v":{"v":0,"d":"0%"}},{"$f":"(0.5*K27)+(0.25*N27)+(0.25*P27)","v":{"v":0.25,"d":"25.0%"}},{"$f":"IF(Q27>0.95,\"A\",IF(Q27>0.93,\"A-\",IF(Q27>0.9,\"B+\",IF(Q27>0.88,\"B\",IF(Q27>0.85,\"B-\",IF(Q27>0.82,\"C+\",IF(Q27>0.79,\"C\",IF(Q27>0.76,\"C-\",IF(Q27>0.74,\"D+\",IF(Q27>0.72,\"D\",IF(Q27>0.7,\"D-\",IF(Q27<0.7,\"F\"))))))))))))","v":"F"}]
[{"$f":"'Misc data'!$A$24","v":{"v":23,"d":"00000023"}},{"$f":"'Misc data'!$B$24","v":"Student"},{"$f":"'Misc data'!$C$24","v":"Twenty three"},0,0,0,0,0,0,{"$f":"SUM(D28:I28)","v":0},{"$f":"(J28/C3)","v":{"v":0,"d":"0%"}},{"$f":"Attendance!$E$25","v":{"v":1,"d":"100%"}},{"$f":"Professionalism!$E$24","v":{"v":72,"d":"72.0"}},{"$f":"Professionalism!$F$24","v":{"v":1,"d":"100%"}},{"$f":"'Course 1 Lab'!$Q$29","v":0},{"$f":"'Course 1 Lab'!$R$29","v":{"v":0,"d":"0%"}},{"$f":"(0.5*K28)+(0.25*N28)+(0.25*P28)","v":{"v":0.25,"d":"25.0%"}},{"$f":"IF(Q28>0.95,\"A\",IF(Q28>0.93,\"A-\",IF(Q28>0.9,\"B+\",IF(Q28>0.88,\"B\",IF(Q28>0.85,\"B-\",IF(Q28>0.82,\"C+\",IF(Q28>0.79,\"C\",IF(Q28>0.76,\"C-\",IF(Q28>0.74,\"D+\",IF(Q28>0.72,\"D\",IF(Q28>0.7,\"D-\",IF(Q28<0.7,\"F\"))))))))))))","v":"F"}]
[{"$f":"'Misc data'!$A$25","v":{"v":24,"d":"00000024"}},{"$f":"'Misc data'!$B$25","v":"Student"},{"$f":"'Misc data'!$C$25","v":"Twenty four"},0,0,0,0,0,0,{"$f":"SUM(D29:I29)","v":0},{"$f":"(J29/C3)","v":{"v":0,"d":"0%"}},{"$f":"Attendance!$E$25","v":{"v":1,"d":"100%"}},{"$f":"Professionalism!$E$24","v":{"v":72,"d":"72.0"}},{"$f":"Professionalism!$F$24","v":{"v":1,"d":"100%"}},{"$f":"'Course 1 Lab'!$Q$29","v":0},{"$f":"'Course 1 Lab'!$R$29","v":{"v":0,"d":"0%"}},{"$f":"(0.5*K29)+(0.25*N29)+(0.25*P29)","v":{"v":0.25,"d":"25.0%"}},{"$f":"IF(Q29>0.95,\"A\",IF(Q29>0.93,\"A-\",IF(Q29>0.9,\"B+\",IF(Q29>0.88,\"B\",IF(Q29>0.85,\"B-\",IF(Q29>0.82,\"C+\",IF(Q29>0.79,\"C\",IF(Q29>0.76,\"C-\",IF(Q29>0.74,\"D+\",IF(Q29>0.72,\"D\",IF(Q29>0.7,\"D-\",IF(Q29<0.7,\"F\"))))))))))))","v":"F"}]
[{"$f":"'Misc data'!$A$26","v":{"v":25,"d":"00000025"}},{"$f":"'Misc data'!$B$26","v":"Student"},{"$f":"'Misc data'!$C$26","v":"Twenty five"},0,0,0,0,0,0,{"$f":"SUM(D30:I30)","v":0},{"$f":"(J30/C3)","v":{"v":0,"d":"0%"}},{"$f":"Attendance!$E$25","v":{"v":1,"d":"100%"}},{"$f":"Professionalism!$E$24","v":{"v":72,"d":"72.0"}},{"$f":"Professionalism!$F$24","v":{"v":1,"d":"100%"}},{"$f":"'Course 1 Lab'!$Q$29","v":0},{"$f":"'Course 1 Lab'!$R$29","v":{"v":0,"d":"0%"}},{"$f":"(0.5*K30)+(0.25*N30)+(0.25*P30)","v":{"v":0.25,"d":"25.0%"}},{"$f":"IF(Q30>0.95,\"A\",IF(Q30>0.93,\"A-\",IF(Q30>0.9,\"B+\",IF(Q30>0.88,\"B\",IF(Q30>0.85,\"B-\",IF(Q30>0.82,\"C+\",IF(Q30>0.79,\"C\",IF(Q30>0.76,\"C-\",IF(Q30>0.74,\"D+\",IF(Q30>0.72,\"D\",IF(Q30>0.7,\"D-\",IF(Q30<0.7,\"F\"))))))))))))","v":"F"}]

{"sheet":"Course 1 Lab","index":5,"n_rows":31,"n_cols":18,"rows_kept":31,"merged":[[0,0,0,2],[1,0,1,1],[2,0,4,2],[4,16,4,17]]}
[{"$f":"'Misc data'!$H$3","v":"Course 1 Engine Diagnosis. Lab"}]
["  Max Shop Points:",null,{"$f":" SUM(D6:O6)","v":1325},"Dry","Wet","Running","Cylinder","Oil","Cooling","Vacuum","PCV","Thermostat","Fluid","Diag"," "]
["Max shop points available depend on how much customer work is done.",null,null,"Compr","Compr","Compr","Leakage","Pressure","System","Gauge","System","and fan","Leak","gauges","Cus","Comp"]
[{"$nulls":3},"Test","Test","Test","Test","Test","Test","Test","Check","Operation","Check","any vehicle","tomer","etency","  "," "]
[{"$nulls":3},2,2,2,2,2,2,2,2,2,1,1,"Work","0 or 1","Lab"]
["ID","First:","Last:",100,100,100,100,100,150,100,50,100,25,100,300,"*","Points","%"]
[{"$f":"'Misc data'!$A$2","v":{"v":1,"d":"00000001"}},{"$f":"'Misc data'!$B$2","v":"Student"},{"$f":"'Misc data'!$C$2","v":"One"},0,0,0,0,0,0,0,0,0,0,0,0,1,{"$f":"SUM(D7:O7)*P7","v":0},{"$f":"(Q7/C2)","v":{"v":0,"d":"0%"}}]
[{"$f":"'Misc data'!$A$3","v":{"v":2,"d":"00000002"}},{"$f":"'Misc data'!$B$3","v":"Student"},{"$f":"'Misc data'!$C$3","v":"Two"},0,0,0,0,0,0,0,0,0,0,0,0,1,{"$f":"SUM(D8:O8)","v":0},{"$f":"(Q8/C2)","v":{"v":0,"d":"0%"}}]
[{"$f":"'Misc data'!$A$4","v":{"v":3,"d":"00000003"}},{"$f":"'Misc data'!$B$4","v":"Student"},{"$f":"'Misc data'!$C$4","v":"Three"},0,0,0,0,0,0,0,0,0,0,0,0,1,{"$f":"SUM(D9:O9)","v":0},{"$f":"(Q9/C2)","v":{"v":0,"d":"0%"}}]
[{"$f":"'Misc data'!$A$5","v":{"v":4,"d":"00000004"}},{"$f":"'Misc data'!$B$5","v":"Student"},{"$f":"'Misc data'!$C$5","v":"Four"},0,0,0,0,0,0,0,0,0,0,0,0,1,{"$f":"SUM(D10:O10)","v":0},{"$f":"(Q10/C2)","v":{"v":0,"d":"0%"}}]
[{"$f":"'Misc data'!$A$6","v":{"v":5,"d":"00000005"}},{"$f":"'Misc data'!$B$6","v":"Student"},{"$f":"'Misc data'!$C$6","v":"Five"},0,0,0,0,0,0,0,0,0,0,0,0,1,{"$f":"SUM(D11:O11)","v":0},{"$f":"(Q11/C2)","v":{"v":0,"d":"0%"}}]
[{"$f":"'Misc data'!$A$7","v":{"v":6,"d":"00000006"}},{"$f":"'Misc data'!$B$7","v":"Student"},{"$f":"'Misc data'!$C$7","v":"Six"},0,0,0,0,0,0,0,0,0,0,0,0,1,{"$f":"SUM(D12:O12)","v":0},{"$f":"(Q12/C2)","v":{"v":0,"d":"0%"}}]
[{"$f":"'Misc data'!$A$8","v":{"v":7,"d":"00000007"}},{"$f":"'Misc data'!$B$8","v":"Student"},{"$f":"'Misc data'!$C$8","v":"Seven"},0,0,0,0,0,0,0,0,0,0,0,0,1,{"$f":"SUM(D13:O13)","v":0},{"$f":"(Q13/C2)","v":{"v":0,"d":"0%"}}]
[{"$f":"'Misc data'!$A$9","v":{"v":8,"d":"00000008"}},{"$f":"'Misc data'!$B$9","v":"Student"},{"$f":"'Misc data'!$C$9","v":"Eight"},0,0,0,0,0,0,0,0,0,0,0,0,1,{"$f":"SUM(D14:O14)","v":0},{"$f":"(Q14/C2)","v":{"v":0,"d":"0%"}}]
[{"$f":"'Misc data'!$A$10","v":{"v":9,"d":"00000009"}},{"$f":"'Misc data'!$B$10","v":"Student "},{"$f":"'Misc data'!$C$10","v":"Nine"},0,0,0,0,0,0,0,0,0,0,0,0,1,{"$f":"SUM(D15:O15)","v":0},{"$f":"(Q15/C2)","v":{"v":0,"d":"0%"}}]
[{"$f":"'Misc data'!$A$11","v":{"v":10,"d":"00000010"}},{"$f":"'Misc data'!$B$11","v":"Student"},{"$f":"'Misc data'!$C$11","v":"Ten"},0,0,0,0,0,0,0,0,0,0,0,0,1,{"$f":"SUM(D16:O16)","v":0},{"$f":"(Q16/C2)","v":{"v":0,"d":"0%"}}]
[{"$f":"'Misc data'!$A$12","v":{"v":11,"d":"00000011"}},{"$f":"'Misc data'!$B$12","v":"Student"},{"$f":"'Misc data'!$C$12","v":"Eleven"},0,0,0,0,0,0,0,0,0,0,0,0,1,{"$f":"SUM(D17:O17)","v":0},{"$f":"(Q17/C2)","v":{"v":0,"d":"0%"}}]
[{"$f":"'Misc data'!$A$13","v":{"v":12,"d":"00000012"}},{"$f":"'Misc data'!$B$13","v":"Student"},{"$f":"'Misc data'!$C$13","v":"Twelve"},0,0,0,0,0,0,0,0,0,0,0,0,1,{"$f":"SUM(D18:O18)","v":0},{"$f":"(Q18/C2)","v":{"v":0,"d":"0%"}}]
[{"$f":"'Misc data'!$A$14","v":{"v":13,"d":"00000013"}},{"$f":"'Misc data'!$B$14","v":"Student"},{"$f":"'Misc data'!$C$14","v":"Thirteen"},0,0,0,0,0,0,0,0,0,0,0,0,1,{"$f":"SUM(D19:O19)","v":0},{"$f":"(Q19/C2)","v":{"v":0,"d":"0%"}}]
[{"$f":"'Misc data'!$A$15","v":{"v":14,"d":"00000014"}},{"$f":"'Misc data'!$B$15","v":"Student"},{"$f":"'Misc data'!$C$15","v":"Fourteen"},0,0,0,0,0,0,0,0,0,0,0,0,1,{"$f":"SUM(D20:O20)","v":0},{"$f":"(Q20/C2)","v":{"v":0,"d":"0%"}}]
[{"$f":"'Misc data'!$A$16","v":{"v":15,"d":"00000015"}},{"$f":"'Misc data'!$B$16","v":"Student"},{"$f":"'Misc data'!$C$16","v":"Fifteen"},0,0,0,0,0,0,0,0,0,0,0,0,1,{"$f":"SUM(D21:O21)","v":0},{"$f":"(Q21/C2)","v":{"v":0,"d":"0%"}}]
[{"$f":"'Misc data'!$A$17","v":{"v":16,"d":"00000016"}},{"$f":"'Misc data'!$B$17","v":"Student"},{"$f":"'Misc data'!$C$17","v":"Sixteen"},0,0,0,0,0,0,0,0,0,0,0,0,1,{"$f":"SUM(D22:O22)","v":0},{"$f":"(Q22/C2)","v":{"v":0,"d":"0%"}}]
[{"$f":"'Misc data'!$A$18","v":{"v":17,"d":"00000017"}},{"$f":"'Misc data'!$B$18","v":"Student"},{"$f":"'Misc data'!$C$18","v":"Seventeen"},0,0,0,0,0,0,0,0,0,0,0,0,1,{"$f":"SUM(D23:O23)","v":0},{"$f":"(Q23/C2)","v":{"v":0,"d":"0%"}}]
[{"$f":"'Misc data'!$A$19","v":{"v":18,"d":"00000018"}},{"$f":"'Misc data'!$B$19","v":"Student"},{"$f":"'Misc data'!$C$19","v":"Eighteen"},0,0,0,0,0,0,0,0,0,0,0,0,1,{"$f":"SUM(D24:O24)","v":0},{"$f":"(Q24/C2)","v":{"v":0,"d":"0%"}}]
[{"$f":"'Misc data'!$A$20","v":{"v":19,"d":"00000019"}},{"$f":"'Misc data'!$B$20","v":"Student"},{"$f":"'Misc data'!$C$20","v":"Nineteen"},0,0,0,0,0,0,0,0,0,0,0,0,1,{"$f":"SUM(D25:O25)","v":0},{"$f":"(Q25/C2)","v":{"v":0,"d":"0%"}}]
[{"$f":"'Misc data'!$A$21","v":{"v":20,"d":"00000020"}},{"$f":"'Misc data'!$B$21","v":"Student"},{"$f":"'Misc data'!$C$21","v":"Twenty"},0,0,0,0,0,0,0,0,0,0,0,0,1,{"$f":"SUM(D26:O26)","v":0},{"$f":"(Q26/C2)","v":{"v":0,"d":"0%"}}]
[{"$f":"'Misc data'!$A$22","v":{"v":21,"d":"00000021"}},{"$f":"'Misc data'!$B$22","v":"Student"},{"$f":"'Misc data'!$C$22","v":"Twenty one"},0,0,0,0,0,0,0,0,0,0,0,0,1,{"$f":"SUM(D27:O27)","v":0},{"$f":"(Q27/C2)","v":{"v":0,"d":"0%"}}]
[{"$f":"'Misc data'!$A$23","v":{"v":22,"d":"00000022"}},{"$f":"'Misc data'!$B$23","v":"Student"},{"$f":"'Misc data'!$C$23","v":"Twenty two"},0,0,0,0,0,0,0,0,0,0,0,0,1,{"$f":"SUM(D28:O28)","v":0},{"$f":"(Q28/C2)","v":{"v":0,"d":"0%"}}]
[{"$f":"'Misc data'!$A$24","v":{"v":23,"d":"00000023"}},{"$f":"'Misc data'!$B$24","v":"Student"},{"$f":"'Misc data'!$C$24","v":"Twenty three"},0,0,0,0,0,0,0,0,0,0,0,0,1,{"$f":"SUM(D29:O29)","v":0},{"$f":"(Q29/C2)","v":{"v":0,"d":"0%"}}]
[{"$f":"'Misc data'!$A$25","v":{"v":24,"d":"00000024"}},{"$f":"'Misc data'!$B$25","v":"Student"},{"$f":"'Misc data'!$C$25","v":"Twenty four"},0,0,0,0,0,0,0,0,0,0,0,0,1,{"$f":"SUM(D30:O30)","v":0},{"$f":"(Q30/C2)","v":{"v":0,"d":"0%"}}]
[{"$f":"'Misc data'!$A$26","v":{"v":25,"d":"00000025"}},{"$f":"'Misc data'!$B$26","v":"Student"},{"$f":"'Misc data'!$C$26","v":"Twenty five"},0,0,0,0,0,0,0,0,0,0,0,0,1,{"$f":"SUM(D31:O31)","v":0},{"$f":"(Q31/C2)","v":{"v":0,"d":"0%"}}]

{"sheet":"Course 2 Class","index":6,"n_rows":30,"n_cols":20,"rows_kept":30,"merged":[[0,0,0,2],[1,1,1,2],[2,0,2,1],[2,11,2,19],[3,0,3,1],[3,11,3,12],[3,13,3,15],[3,16,3,17]]}
[{"$f":"'Misc data'!$H$4","v":"Course 2 Engine Theory & Repair. Class"},{"$nulls":8},25]
[" ","Date assignment is due:",null,"TBD","TBD","TBD","TBD","TBD","TBD","TBD","TBD"]
["Class Room Points:",null,{"$f":"SUM(D3:K3)","v":201},10,10,20,20,16,25," ",100,"Evaluation"]
["Red is late turn-in",null,"Blue is absent","HW","HW ","Test","Test","HW","Test","Extra","Final ","Class",null,"Professionalism",null,null,"Lab",null,"Total  ","Letter"]
["I D ","First:","Last:","CH 7","CH 14","C & L","CH 18","CH 22","CH 22","Credit","TEST","Points","%","Attendance","Points","%","Points","%","%","Grade"]
[{"$f":"'Misc data'!$A$2","v":{"v":1,"d":"00000001"}},{"$f":"'Misc data'!$B$2","v":"Student"},{"$f":"'Misc data'!$C$2","v":"One"},0,0,0,0,0,0,0,0,{"$f":"SUM(D6:K6)","v":0},{"$f":"(L6/C3)","v":{"v":0,"d":"0%"}},{"$f":"Attendance!$E$3","v":{"v":1,"d":"100%"}},{"$f":"Professionalism!$E$2","v":72},{"$f":"Professionalism!$F$2","v":{"v":1,"d":"100%"}},{"$f":"'Course 2 Lab'!$N$7","v":0},{"$f":"'Course 2 Lab'!$O$7","v":{"v":0,"d":"0%"}},{"$f":"(0.5*M6)+(0.25*P6)+(0.25*R6)","v":{"v":0.25,"d":"25.0%"}},{"$f":"IF(S6>0.95,\"A\",IF(S6>0.93,\"A-\",IF(S6>0.9,\"B+\",IF(S6>0.88,\"B\",IF(S6>0.85,\"B-\",IF(S6>0.82,\"C+\",IF(S6>0.79,\"C\",IF(S6>0.76,\"C-\",IF(S6>0.74,\"D+\",IF(S6>0.72,\"D\",IF(S6>0.7,\"D-\",IF(S6<0.7,\"F\"))))))))))))","v":"F"}]
[{"$f":"'Misc data'!$A$3","v":{"v":2,"d":"00000002"}},{"$f":"'Misc data'!$B$3","v":"Student"},{"$f":"'Misc data'!$C$3","v":"Two"},0,0,0,0,0,0,0,0,{"$f":"SUM(C7:K7)","v":0},{"$f":"(L7/C3)","v":{"v":0,"d":"0%"}},{"$f":"Attendance!$E$4","v":{"v":0.928571428571429,"d":"93%"}},{"$f":"Professionalism!$E$3","v":{"v":71.5714285714286,"d":"72"}},{"$f":"Professionalism!$F$3","v":{"v":0.994047619047619,"d":"99%"}},{"$f":"'Course 2 Lab'!$N$8","v":0},{"$f":"'Course 2 Lab'!$O$8","v":{"v":0,"d":"0%"}},{"$f":"(0.5*M7)+(0.25*P7)+(0.25*R7)","v":{"v":0.248511904761905,"d":"24.9%"}},{"$f":"IF(S7>0.95,\"A\",IF(S7>0.93,\"A-\",IF(S7>0.9,\"B+\",IF(S7>0.88,\"B\",IF(S7>0.85,\"B-\",IF(S7>0.82,\"C+\",IF(S7>0.79,\"C\",IF(S7>0.76,\"C-\",IF(S7>0.74,\"D+\",IF(S7>0.72,\"D\",IF(S7>0.7,\"D-\",IF(S7<0.7,\"F\"))))))))))))","v":"F"}]
[{"$f":"'Misc data'!$A$4","v":{"v":3,"d":"00000003"}},{"$f":"'Misc data'!$B$4","v":"Student"},{"$f":"'Misc data'!$C$4","v":"Three"},0,0,0,0,0,0,0,0,{"$f":"SUM(C8:K8)","v":0},{"$f":"(L8/C3)","v":{"v":0,"d":"0%"}},{"$f":"Attendance!$E$5","v":{"v":1,"d":"100%"}},{"$f":"Professionalism!$E$4","v":72},{"$f":"Professionalism!$F$4","v":{"v":1,"d":"100%"}},{"$f":"'Course 2 Lab'!$N$9","v":0},{"$f":"'Course 2 Lab'!$O$9","v":{"v":0,"d":"0%"}},{"$f":"(0.5*M8)+(0.25*P8)+(0.25*R8)","v":{"v":0.25,"d":"25.0%"}},{"$f":"IF(S8>0.95,\"A\",IF(S8>0.93,\"A-\",IF(S8>0.9,\"B+\",IF(S8>0.88,\"B\",IF(S8>0.85,\"B-\",IF(S8>0.82,\"C+\",IF(S8>0.79,\"C\",IF(S8>0.76,\"C-\",IF(S8>0.74,\"D+\",IF(S8>0.72,\"D\",IF(S8>0.7,\"D-\",IF(S8<0.7,\"F\"))))))))))))","v":"F"}]
[{"$f":"'Misc data'!$A$5","v":{"v":4,"d":"00000004"}},{"$f":"'Misc data'!$B$5","v":"Student"},{"$f":"'Misc data'!$C$5","v":"Four"},0,0,0,0,0,0,0,0,{"$f":"SUM(C9:K9)","v":0},{"$f":"(L9/C3)","v":{"v":0,"d":"0%"}},{"$f":"Attendance!$E$6","v":{"v":1,"d":"100%"}},{"$f":"Professionalism!$E$5","v":72},{"$f":"Professionalism!$F$5","v":{"v":1,"d":"100%"}},{"$f":"'Course 2 Lab'!$N$10","v":0},{"$f":"'Course 2 Lab'!$O$10","v":{"v":0,"d":"0%"}},{"$f":"(0.5*M9)+(0.25*P9)+(0.25*R9)","v":{"v":0.25,"d":"25.0%"}},{"$f":"IF(S9>0.95,\"A\",IF(S9>0.93,\"A-\",IF(S9>0.9,\"B+\",IF(S9>0.88,\"B\",IF(S9>0.85,\"B-\",IF(S9>0.82,\"C+\",IF(S9>0.79,\"C\",IF(S9>0.76,\"C-\",IF(S9>0.74,\"D+\",IF(S9>0.72,\"D\",IF(S9>0.7,\"D-\",IF(S9<0.7,\"F\"))))))))))))","v":"F"}]
[{"$f":"'Misc data'!$A$6","v":{"v":5,"d":"00000005"}},{"$f":"'Misc data'!$B$6","v":"Student"},{"$f":"'Misc data'!$C$6","v":"Five"},0,0,0,0,0,0,0,0,{"$f":"SUM(C10:K10)","v":0},{"$f":"(L10/C3)","v":{"v":0,"d":"0%"}},{"$f":"Attendance!$E$7","v":{"v":1,"d":"100%"}},{"$f":"Professionalism!$E$6","v":72},{"$f":"Professionalism!$F$6","v":{"v":1,"d":"100%"}},{"$f":"'Course 2 Lab'!$N$11","v":0},{"$f":"'Course 2 Lab'!$O$11","v":{"v":0,"d":"0%"}},{"$f":"(0.5*M10)+(0.25*P10)+(0.25*R10)","v":{"v":0.25,"d":"25.0%"}},{"$f":"IF(S10>0.95,\"A\",IF(S10>0.93,\"A-\",IF(S10>0.9,\"B+\",IF(S10>0.88,\"B\",IF(S10>0.85,\"B-\",IF(S10>0.82,\"C+\",IF(S10>0.79,\"C\",IF(S10>0.76,\"C-\",IF(S10>0.74,\"D+\",IF(S10>0.72,\"D\",IF(S10>0.7,\"D-\",IF(S10<0.7,\"F\"))))))))))))","v":"F"}]
[{"$f":"'Misc data'!$A$7","v":{"v":6,"d":"00000006"}},{"$f":"'Misc data'!$B$7","v":"Student"},{"$f":"'Misc data'!$C$7","v":"Six"},0,0,0,0,0,0,0,0,{"$f":"SUM(C11:K11)","v":0},{"$f":"(L11/C3)","v":{"v":0,"d":"0%"}},{"$f":"Attendance!$E$8","v":{"v":1,"d":"100%"}},{"$f":"Professionalism!$E$7","v":72},{"$f":"Professionalism!$F$7","v":{"v":1,"d":"100%"}},{"$f":"'Course 2 Lab'!$N$12","v":0},{"$f":"'Course 2 Lab'!$O$12","v":{"v":0,"d":"0%"}},{"$f":"(0.5*M11)+(0.25*P11)+(0.25*R11)","v":{"v":0.25,"d":"25.0%"}},{"$f":"IF(S11>0.95,\"A\",IF(S11>0.93,\"A-\",IF(S11>0.9,\"B+\",IF(S11>0.88,\"B\",IF(S11>0.85,\"B-\",IF(S11>0.82,\"C+\",IF(S11>0.79,\"C\",IF(S11>0.76,\"C-\",IF(S11>0.74,\"D+\",IF(S11>0.72,\"D\",IF(S11>0.7,\"D-\",IF(S11<0.7,\"F\"))))))))))))","v":"F"}]
[{"$f":"'Misc data'!$A$8","v":{"v":7,"d":"00000007"}},{"$f":"'Misc data'!$B$8","v":"Student"},{"$f":"'Misc data'!$C$8","v":"Seven"},0,0,0,0,0,0,0,0,{"$f":"SUM(C12:K12)","v":0},{"$f":"(L12/C3)","v":{"v":0,"d":"0%"}},{"$f":"Attendance!$E$9","v":{"v":1,"d":"100%"}},{"$f":"Professionalism!$E$8","v":72},{"$f":"Professionalism!$F$8","v":{"v":1,"d":"100%"}},{"$f":"'Course 2 Lab'!$N$13","v":0},{"$f":"'Course 2 Lab'!$O$13","v":{"v":0,"d":"0%"}},{"$f":"(0.5*M12)+(0.25*P12)+(0.25*R12)","v":{"v":0.25,"d":"25.0%"}},{"$f":"IF(S12>0.95,\"A\",IF(S12>0.93,\"A-\",IF(S12>0.9,\"B+\",IF(S12>0.88,\"B\",IF(S12>0.85,\"B-\",IF(S12>0.82,\"C+\",IF(S12>0.79,\"C\",IF(S12>0.76,\"C-\",IF(S12>0.74,\"D+\",IF(S12>0.72,\"D\",IF(S12>0.7,\"D-\",IF(S12<0.7,\"F\"))))))))))))","v":"F"}]
[{"$f":"'Misc data'!$A$9","v":{"v":8,"d":"00000008"}},{"$f":"'Misc data'!$B$9","v":"Student"},{"$f":"'Misc data'!$C$9","v":"Eight"},0,0,0,0,0,0,0,0,{"$f":"SUM(C13:K13)","v":0},{"$f":"(L13/C3)","v":{"v":0,"d":"0%"}},{"$f":"Attendance!$E$10","v":{"v":1,"d":"100%"}},{"$f":"Professionalism!$E$9","v":72},{"$f":"Professionalism!$F$9","v":{"v":1,"d":"100%"}},{"$f":"'Course 2 Lab'!$N$14","v":0},{"$f":"'Course 2 Lab'!$O$14","v":{"v":0,"d":"0%"}},{"$f":"(0.5*M13)+(0.25*P13)+(0.25*R13)","v":{"v":0.25,"d":"25.0%"}},{"$f":"IF(S13>0.95,\"A\",IF(S13>0.93,\"A-\",IF(S13>0.9,\"B+\",IF(S13>0.88,\"B\",IF(S13>0.85,\"B-\",IF(S13>0.82,\"C+\",IF(S13>0.79,\"C\",IF(S13>0.76,\"C-\",IF(S13>0.74,\"D+\",IF(S13>0.72,\"D\",IF(S13>0.7,\"D-\",IF(S13<0.7,\"F\"))))))))))))","v":"F"}]
[{"$f":"'Misc data'!$A$10","v":{"v":9,"d":"00000009"}},{"$f":"'Misc data'!$B$10","v":"Student "},{"$f":"'Misc data'!$C$10","v":"Nine"},0,0,0,0,0,0,0,0,{"$f":"SUM(C14:K14)","v":0},{"$f":"(L14/C3)","v":{"v":0,"d":"0%"}},{"$f":"Attendance!$E$11","v":{"v":1,"d":"100%"}},{"$f":"Professionalism!$E$10","v":72},{"$f":"Professionalism!$F$10","v":{"v":1,"d":"100%"}},{"$f":"'Course 2 Lab'!$N$15","v":0},{"$f":"'Course 2 Lab'!$O$15","v":{"v":0,"d":"0%"}},{"$f":"(0.5*M14)+(0.25*P14)+(0.25*R14)","v":{"v":0.25,"d":"25.0%"}},{"$f":"IF(S14>0.95,\"A\",IF(S14>0.93,\"A-\",IF(S14>0.9,\"B+\",IF(S14>0.88,\"B\",IF(S14>0.85,\"B-\",IF(S14>0.82,\"C+\",IF(S14>0.79,\"C\",IF(S14>0.76,\"C-\",IF(S14>0.74,\"D+\",IF(S14>0.72,\"D\",IF(S14>0.7,\"D-\",IF(S14<0.7,\"F\"))))))))))))","v":"F"}]
[{"$f":"'Misc data'!$A$11","v":{"v":10,"d":"00000010"}},{"$f":"'Misc data'!$B$11","v":"Student"},{"$f":"'Misc data'!$C$11","v":"Ten"},0,0,0,0,0,0,0,0,{"$f":"SUM(C15:K15)","v":0},{"$f":"(L15/C3)","v":{"v":0,"d":"0%"}},{"$f":"Attendance!$E$12","v":{"v":1,"d":"100%"}},{"$f":"Professionalism!$E$11","v":72},{"$f":"Professionalism!$F$11","v":{"v":1,"d":"100%"}},{"$f":"'Course 2 Lab'!$N$16","v":0},{"$f":"'Course 2 Lab'!$O$16","v":{"v":0,"d":"0%"}},{"$f":"(0.5*M15)+(0.25*P15)+(0.25*R15)","v":{"v":0.25,"d":"25.0%"}},{"$f":"IF(S15>0.95,\"A\",IF(S15>0.93,\"A-\",IF(S15>0.9,\"B+\",IF(S15>0.88,\"B\",IF(S15>0.85,\"B-\",IF(S15>0.82,\"C+\",IF(S15>0.79,\"C\",IF(S15>0.76,\"C-\",IF(S15>0.74,\"D+\",IF(S15>0.72,\"D\",IF(S15>0.7,\"D-\",IF(S15<0.7,\"F\"))))))))))))","v":"F"}]
[{"$f":"'Misc data'!$A$12","v":{"v":11,"d":"00000011"}},{"$f":"'Misc data'!$B$12","v":"Student"},{"$f":"'Misc data'!$C$12","v":"Eleven"},0,0,0,0,0,0,0,0,{"$f":"SUM(C16:K16)","v":0},{"$f":"(L16/C3)","v":{"v":0,"d":"0%"}},{"$f":"Attendance!$E$13","v":{"v":1,"d":"100%"}},{"$f":"Professionalism!$E$12","v":72},{"$f":"Professionalism!$F$12","v":{"v":1,"d":"100%"}},{"$f":"'Course 2 Lab'!$N$17","v":0},{"$f":"'Course 2 Lab'!$O$17","v":{"v":0,"d":"0%"}},{"$f":"(0.5*M16)+(0.25*P16)+(0.25*R16)","v":{"v":0.25,"d":"25.0%"}},{"$f":"IF(S16>0.95,\"A\",IF(S16>0.93,\"A-\",IF(S16>0.9,\"B+\",IF(S16>0.88,\"B\",IF(S16>0.85,\"B-\",IF(S16>0.82,\"C+\",IF(S16>0.79,\"C\",IF(S16>0.76,\"C-\",IF(S16>0.74,\"D+\",IF(S16>0.72,\"D\",IF(S16>0.7,\"D-\",IF(S16<0.7,\"F\"))))))))))))","v":"F"}]
[{"$f":"'Misc data'!$A$13","v":{"v":12,"d":"00000012"}},{"$f":"'Misc data'!$B$13","v":"Student"},{"$f":"'Misc data'!$C$13","v":"Twelve"},0,0,0,0,0,0,0,0,{"$f":"SUM(C17:K17)","v":0},{"$f":"(L17/C3)","v":{"v":0,"d":"0%"}},{"$f":"Attendance!$E$14","v":{"v":0.928571428571429,"d":"93%"}},{"$f":"Professionalism!$E$13","v":{"v":71.5714285714286,"d":"72"}},{"$f":"Professionalism!$F$13","v":{"v":0.994047619047619,"d":"99%"}},{"$f":"'Course 2 Lab'!$N$18","v":0},{"$f":"'Course 2 Lab'!$O$18","v":{"v":0,"d":"0%"}},{"$f":"(0.5*M17)+(0.25*P17)+(0.25*R17)","v":{"v":0.248511904761905,"d":"24.9%"}},{"$f":"IF(S17>0.95,\"A\",IF(S17>0.93,\"A-\",IF(S17>0.9,\"B+\",IF(S17>0.88,\"B\",IF(S17>0.85,\"B-\",IF(S17>0.82,\"C+\",IF(S17>0.79,\"C\",IF(S17>0.76,\"C-\",IF(S17>0.74,\"D+\",IF(S17>0.72,\"D\",IF(S17>0.7,\"D-\",IF(S17<0.7,\"F\"))))))))))))","v":"F"}]
[{"$f":"'Misc data'!$A$14","v":{"v":13,"d":"00000013"}},{"$f":"'Misc data'!$B$14","v":"Student"},{"$f":"'Misc data'!$C$14","v":"Thirteen"},0,0,0,0,0,0,0,0,{"$f":"SUM(C18:K18)","v":0},{"$f":"(L18/C3)","v":{"v":0,"d":"0%"}},{"$f":"Attendance!$E$15","v":{"v":1,"d":"100%"}},{"$f":"Professionalism!$E$14","v":72},{"$f":"Professionalism!$F$14","v":{"v":1,"d":"100%"}},{"$f":"'Course 2 Lab'!$N$19","v":0},{"$f":"'Course 2 Lab'!$O$19","v":{"v":0,"d":"0%"}},{"$f":"(0.5*M18)+(0.25*P18)+(0.25*R18)","v":{"v":0.25,"d":"25.0%"}},{"$f":"IF(S18>0.95,\"A\",IF(S18>0.93,\"A-\",IF(S18>0.9,\"B+\",IF(S18>0.88,\"B\",IF(S18>0.85,\"B-\",IF(S18>0.82,\"C+\",IF(S18>0.79,\"C\",IF(S18>0.76,\"C-\",IF(S18>0.74,\"D+\",IF(S18>0.72,\"D\",IF(S18>0.7,\"D-\",IF(S18<0.7,\"F\"))))))))))))","v":"F"}]
[{"$f":"'Misc data'!$A$15","v":{"v":14,"d":"00000014"}},{"$f":"'Misc data'!$B$15","v":"Student"},{"$f":"'Misc data'!$C$15","v":"Fourteen"},0,0,0,0,0,0,0,0,{"$f":"SUM(C19:K19)","v":0},{"$f":"(L19/C3)","v":{"v":0,"d":"0%"}},{"$f":"Attendance!$E$16","v":{"v":1,"d":"100%"}},{"$f":"Professionalism!$E$15","v":72},{"$f":"Professionalism!$F$15","v":{"v":1,"d":"100%"}},{"$f":"'Course 2 Lab'!$N$20","v":0},{"$f":"'Course 2 Lab'!$O$20","v":{"v":0,"d":"0%"}},{"$f":"(0.5*M19)+(0.25*P19)+(0.25*R19)","v":{"v":0.25,"d":"25.0%"}},{"$f":"IF(S19>0.95,\"A\",IF(S19>0.93,\"A-\",IF(S19>0.9,\"B+\",IF(S19>0.88,\"B\",IF(S19>0.85,\"B-\",IF(S19>0.82,\"C+\",IF(S19>0.79,\"C\",IF(S19>0.76,\"C-\",IF(S19>0.74,\"D+\",IF(S19>0.72,\"D\",IF(S19>0.7,\"D-\",IF(S19<0.7,\"F\"))))))))))))","v":"F"}]
[{"$f":"'Misc data'!$A$16","v":{"v":15,"d":"00000015"}},{"$f":"'Misc data'!$B$16","v":"Student"},{"$f":"'Misc data'!$C$16","v":"Fifteen"},0,0,0,0,0,0,0,0,{"$f":"SUM(C20:K20)","v":0},{"$f":"(L20/C3)","v":{"v":0,"d":"0%"}},{"$f":"Attendance!$E$17","v":{"v":1,"d":"100%"}},{"$f":"Professionalism!$E$16","v":72},{"$f":"Professionalism!$F$16","v":{"v":1,"d":"100%"}},{"$f":"'Course 2 Lab'!$N$21","v":0},{"$f":"'Course 2 Lab'!$O$21","v":{"v":0,"d":"0%"}},{"$f":"(0.5*M20)+(0.25*P20)+(0.25*R20)","v":{"v":0.25,"d":"25.0%"}},{"$f":"IF(S20>0.95,\"A\",IF(S20>0.93,\"A-\",IF(S20>0.9,\"B+\",IF(S20>0.88,\"B\",IF(S20>0.85,\"B-\",IF(S20>0.82,\"C+\",IF(S20>0.79,\"C\",IF(S20>0.76,\"C-\",IF(S20>0.74,\"D+\",IF(S20>0.72,\"D\",IF(S20>0.7,\"D-\",IF(S20<0.7,\"F\"))))))))))))","v":"F"}]
[{"$f":"'Misc data'!$A$17","v":{"v":16,"d":"00000016"}},{"$f":"'Misc data'!$B$17","v":"Student"},{"$f":"'Misc data'!$C$17","v":"Sixteen"},0,0,0,0,0,0,0,0,{"$f":"SUM(C21:K21)","v":0},{"$f":"(L21/C3)","v":{"v":0,"d":"0%"}},{"$f":"Attendance!$E$18","v":{"v":1,"d":"100%"}},{"$f":"Professionalism!$E$17","v":72},{"$f":"Professionalism!$F$17","v":{"v":1,"d":"100%"}},{"$f":"'Course 2 Lab'!$N$22","v":0},{"$f":"'Course 2 Lab'!$O$22","v":{"v":0,"d":"0%"}},{"$f":"(0.5*M21)+(0.25*P21)+(0.25*R21)","v":{"v":0.25,"d":"25.0%"}},{"$f":"IF(S21>0.95,\"A\",IF(S21>0.93,\"A-\",IF(S21>0.9,\"B+\",IF(S21>0.88,\"B\",IF(S21>0.85,\"B-\",IF(S21>0.82,\"C+\",IF(S21>0.79,\"C\",IF(S21>0.76,\"C-\",IF(S21>0.74,\"D+\",IF(S21>0.72,\"D\",IF(S21>0.7,\"D-\",IF(S21<0.7,\"F\"))))))))))))","v":"F"}]
[{"$f":"'Misc data'!$A$18","v":{"v":17,"d":"00000017"}},{"$f":"'Misc data'!$B$18","v":"Student"},{"$f":"'Misc data'!$C$18","v":"Seventeen"},0,0,0,0,0,0,0,0,{"$f":"SUM(C22:K22)","v":0},{"$f":"(L22/C3)","v":{"v":0,"d":"0%"}},{"$f":"Attendance!$E$19","v":{"v":1,"d":"100%"}},{"$f":"Professionalism!$E$18","v":72},{"$f":"Professionalism!$F$18","v":{"v":1,"d":"100%"}},{"$f":"'Course 2 Lab'!$N$23","v":0},{"$f":"'Course 2 Lab'!$O$23","v":{"v":0,"d":"0%"}},{"$f":"(0.5*M22)+(0.25*P22)+(0.25*R22)","v":{"v":0.25,"d":"25.0%"}},{"$f":"IF(S22>0.95,\"A\",IF(S22>0.93,\"A-\",IF(S22>0.9,\"B+\",IF(S22>0.88,\"B\",IF(S22>0.85,\"B-\",IF(S22>0.82,\"C+\",IF(S22>0.79,\"C\",IF(S22>0.76,\"C-\",IF(S22>0.74,\"D+\",IF(S22>0.72,\"D\",IF(S22>0.7,\"D-\",IF(S22<0.7,\"F\"))))))))))))","v":"F"}]
[{"$f":"'Misc data'!$A$19","v":{"v":18,"d":"00000018"}},{"$f":"'Misc data'!$B$19","v":"Student"},{"$f":"'Misc data'!$C$19","v":"Eighteen"},0,0,0,0,0,0,0,0,{"$f":"SUM(C23:K23)","v":0},{"$f":"(L23/C3)","v":{"v":0,"d":"0%"}},{"$f":"Attendance!$E$20","v":{"v":1,"d":"100%"}},{"$f":"Professionalism!$E$19","v":72},{"$f":"Professionalism!$F$19","v":{"v":1,"d":"100%"}},{"$f":"'Course 2 Lab'!$N$24","v":0},{"$f":"'Course 2 Lab'!$O$24","v":{"v":0,"d":"0%"}},{"$f":"(0.5*M23)+(0.25*P23)+(0.25*R23)","v":{"v":0.25,"d":"25.0%"}},{"$f":"IF(S23>0.95,\"A\",IF(S23>0.93,\"A-\",IF(S23>0.9,\"B+\",IF(S23>0.88,\"B\",IF(S23>0.85,\"B-\",IF(S23>0.82,\"C+\",IF(S23>0.79,\"C\",IF(S23>0.76,\"C-\",IF(S23>0.74,\"D+\",IF(S23>0.72,\"D\",IF(S23>0.7,\"D-\",IF(S23<0.7,\"F\"))))))))))))","v":"F"}]
[{"$f":"'Misc data'!$A$20","v":{"v":19,"d":"00000019"}},{"$f":"'Misc data'!$B$20","v":"Student"},{"$f":"'Misc data'!$C$20","v":"Nineteen"},0,0,0,0,0,0,0,0,{"$f":"SUM(C24:K24)","v":0},{"$f":"(L24/C3)","v":{"v":0,"d":"0%"}},{"$f":"Attendance!$E$21","v":{"v":1,"d":"100%"}},{"$f":"Professionalism!$E$20","v":72},{"$f":"Professionalism!$F$20","v":{"v":1,"d":"100%"}},{"$f":"'Course 2 Lab'!$N$25","v":0},{"$f":"'Course 2 Lab'!$O$25","v":{"v":0,"d":"0%"}},{"$f":"(0.5*M24)+(0.25*P24)+(0.25*R24)","v":{"v":0.25,"d":"25.0%"}},{"$f":"IF(S24>0.95,\"A\",IF(S24>0.93,\"A-\",IF(S24>0.9,\"B+\",IF(S24>0.88,\"B\",IF(S24>0.85,\"B-\",IF(S24>0.82,\"C+\",IF(S24>0.79,\"C\",IF(S24>0.76,\"C-\",IF(S24>0.74,\"D+\",IF(S24>0.72,\"D\",IF(S24>0.7,\"D-\",IF(S24<0.7,\"F\"))))))))))))","v":"F"}]
[{"$f":"'Misc data'!$A$21","v":{"v":20,"d":"00000020"}},{"$f":"'Misc data'!$B$21","v":"Student"},{"$f":"'Misc data'!$C$21","v":"Twenty"},0,0,0,0,0,0,0,0,{"$f":"SUM(C25:K25)","v":0},{"$f":"(L25/C3)","v":{"v":0,"d":"0%"}},{"$f":"Attendance!$E$22","v":{"v":1,"d":"100%"}},{"$f":"Professionalism!$E$21","v":72},{"$f":"Professionalism!$F$21","v":{"v":1,"d":"100%"}},{"$f":"'Course 2 Lab'!$N$26","v":0},{"$f":"'Course 2 Lab'!$O$26","v":{"v":0,"d":"0%"}},{"$f":"(0.5*M25)+(0.25*P25)+(0.25*R25)","v":{"v":0.25,"d":"25.0%"}},{"$f":"IF(S25>0.95,\"A\",IF(S25>0.93,\"A-\",IF(S25>0.9,\"B+\",IF(S25>0.88,\"B\",IF(S25>0.85,\"B-\",IF(S25>0.82,\"C+\",IF(S25>0.79,\"C\",IF(S25>0.76,\"C-\",IF(S25>0.74,\"D+\",IF(S25>0.72,\"D\",IF(S25>0.7,\"D-\",IF(S25<0.7,\"F\"))))))))))))","v":"F"}]
[{"$f":"'Misc data'!$A$22","v":{"v":21,"d":"00000021"}},{"$f":"'Misc data'!$B$22","v":"Student"},{"$f":"'Misc data'!$C$22","v":"Twenty one"},0,0,0,0,0,0,0,0,{"$f":"SUM(C26:K26)","v":0},{"$f":"(L26/C3)","v":{"v":0,"d":"0%"}},{"$f":"Attendance!$E$23","v":{"v":1,"d":"100%"}},{"$f":"Professionalism!$E$22","v":72},{"$f":"Professionalism!$F$22","v":{"v":1,"d":"100%"}},{"$f":"'Course 2 Lab'!$N$27","v":0},{"$f":"'Course 2 Lab'!$O$27","v":{"v":0,"d":"0%"}},{"$f":"(0.5*M26)+(0.25*P26)+(0.25*R26)","v":{"v":0.25,"d":"25.0%"}},{"$f":"IF(S26>0.95,\"A\",IF(S26>0.93,\"A-\",IF(S26>0.9,\"B+\",IF(S26>0.88,\"B\",IF(S26>0.85,\"B-\",IF(S26>0.82,\"C+\",IF(S26>0.79,\"C\",IF(S26>0.76,\"C-\",IF(S26>0.74,\"D+\",IF(S26>0.72,\"D\",IF(S26>0.7,\"D-\",IF(S26<0.7,\"F\"))))))))))))","v":"F"}]
[{"$f":"'Misc data'!$A$23","v":{"v":22,"d":"00000022"}},{"$f":"'Misc data'!$B$23","v":"Student"},{"$f":"'Misc data'!$C$23","v":"Twenty two"},0,0,0,0,0,0,0,0,{"$f":"SUM(C27:K27)","v":0},{"$f":"(L27/C3)","v":{"v":0,"d":"0%"}},{"$f":"Attendance!$E$24","v":{"v":1,"d":"100%"}},{"$f":"Professionalism!$E$23","v":72},{"$f":"Professionalism!$F$23","v":{"v":1,"d":"100%"}},{"$f":"'Course 2 Lab'!$N$28","v":0},{"$f":"'Course 2 Lab'!$O$28","v":{"v":0,"d":"0%"}},{"$f":"(0.5*M27)+(0.25*P27)+(0.25*R27)","v":{"v":0.25,"d":"25.0%"}},{"$f":"IF(S27>0.95,\"A\",IF(S27>0.93,\"A-\",IF(S27>0.9,\"B+\",IF(S27>0.88,\"B\",IF(S27>0.85,\"B-\",IF(S27>0.82,\"C+\",IF(S27>0.79,\"C\",IF(S27>0.76,\"C-\",IF(S27>0.74,\"D+\",IF(S27>0.72,\"D\",IF(S27>0.7,\"D-\",IF(S27<0.7,\"F\"))))))))))))","v":"F"}]
[{"$f":"'Misc data'!$A$24","v":{"v":23,"d":"00000023"}},{"$f":"'Misc data'!$B$24","v":"Student"},{"$f":"'Misc data'!$C$24","v":"Twenty three"},0,0,0,0,0,0,0,0,{"$f":"SUM(C28:K28)","v":0},{"$f":"(L28/C3)","v":{"v":0,"d":"0%"}},{"$f":"Attendance!$E$25","v":{"v":1,"d":"100%"}},{"$f":"Professionalism!$E$24","v":72},{"$f":"Professionalism!$F$24","v":{"v":1,"d":"100%"}},{"$f":"'Course 2 Lab'!$N$29","v":0},{"$f":"'Course 2 Lab'!$O$29","v":{"v":0,"d":"0%"}},{"$f":"(0.5*M28)+(0.25*P28)+(0.25*R28)","v":{"v":0.25,"d":"25.0%"}},{"$f":"IF(S28>0.95,\"A\",IF(S28>0.93,\"A-\",IF(S28>0.9,\"B+\",IF(S28>0.88,\"B\",IF(S28>0.85,\"B-\",IF(S28>0.82,\"C+\",IF(S28>0.79,\"C\",IF(S28>0.76,\"C-\",IF(S28>0.74,\"D+\",IF(S28>0.72,\"D\",IF(S28>0.7,\"D-\",IF(S28<0.7,\"F\"))))))))))))","v":"F"}]
[{"$f":"'Misc data'!$A$25","v":{"v":24,"d":"00000024"}},{"$f":"'Misc data'!$B$25","v":"Student"},{"$f":"'Misc data'!$C$25","v":"Twenty four"},0,0,0,0,0,0,0,0,{"$f":"SUM(C29:K29)","v":0},{"$f":"(L29/C3)","v":{"v":0,"d":"0%"}},{"$f":"Attendance!$E$24","v":{"v":1,"d":"100%"}},{"$f":"Professionalism!$E$23","v":72},{"$f":"Professionalism!$F$23","v":{"v":1,"d":"100%"}},{"$f":"'Course 2 Lab'!$N$28","v":0},{"$f":"'Course 2 Lab'!$O$28","v":{"v":0,"d":"0%"}},{"$f":"(0.5*M29)+(0.25*P29)+(0.25*R29)","v":{"v":0.25,"d":"25.0%"}},{"$f":"IF(S29>0.95,\"A\",IF(S29>0.93,\"A-\",IF(S29>0.9,\"B+\",IF(S29>0.88,\"B\",IF(S29>0.85,\"B-\",IF(S29>0.82,\"C+\",IF(S29>0.79,\"C\",IF(S29>0.76,\"C-\",IF(S29>0.74,\"D+\",IF(S29>0.72,\"D\",IF(S29>0.7,\"D-\",IF(S29<0.7,\"F\"))))))))))))","v":"F"}]
[{"$f":"'Misc data'!$A$26","v":{"v":25,"d":"00000025"}},{"$f":"'Misc data'!$B$26","v":"Student"},{"$f":"'Misc data'!$C$26","v":"Twenty five"},0,0,0,0,0,0,0,0,{"$f":"SUM(C30:K30)","v":0},{"$f":"(L30/C3)","v":{"v":0,"d":"0%"}},{"$f":"Attendance!$E$25","v":{"v":1,"d":"100%"}},{"$f":"Professionalism!$E$24","v":72},{"$f":"Professionalism!$F$24","v":{"v":1,"d":"100%"}},{"$f":"'Course 2 Lab'!$N$29","v":0},{"$f":"'Course 2 Lab'!$O$29","v":{"v":0,"d":"0%"}},{"$f":"(0.5*M30)+(0.25*P30)+(0.25*R30)","v":{"v":0.25,"d":"25.0%"}},{"$f":"IF(S30>0.95,\"A\",IF(S30>0.93,\"A-\",IF(S30>0.9,\"B+\",IF(S30>0.88,\"B\",IF(S30>0.85,\"B-\",IF(S30>0.82,\"C+\",IF(S30>0.79,\"C\",IF(S30>0.76,\"C-\",IF(S30>0.74,\"D+\",IF(S30>0.72,\"D\",IF(S30>0.7,\"D-\",IF(S30<0.7,\"F\"))))))))))))","v":"F"}]

{"sheet":"Course 2 Lab","index":7,"n_rows":31,"n_cols":15,"rows_kept":31,"merged":[[0,0,0,2],[1,0,1,1],[2,0,4,2],[4,13,4,14]]}
[{"$f":"'Misc data'!$H$5","v":"Course 2 Engine Theory & Repair. Lab"}]
["  Max Shop Points:",null,{"$f":" SUM(D6:L6)","v":1450},"Engine","Cylinder","Red","Mitsubishi","Any","DOHC","Valve seal","Misc."," "]
["Max shop points available depend on how much customer work is done.",null,null,"Disassemble","Head","Dodge","\"3.0L\"","Engine","Engine","&","Engine ","Cus","Comp"]
[{"$nulls":3},"& Measure","Repair","Clip","Clip","T-chain"," Stand","Lobe lift","Points","tomer","etency"," "," "]
[{"$nulls":3},1,1,1,1,1,1,1,null,"Work","0 or 1","Lab"]
["ID","First:","Last:",300,200,100,100,100,100,50,200,300,"*","Points","%"]
[{"$f":"'Misc data'!$A$2","v":{"v":1,"d":"00000001"}},{"$f":"'Misc data'!$B$2","v":"Student"},{"$f":"'Misc data'!$C$2","v":"One"},0,0,0,0,0,0,0,0,0,1,{"$f":"SUM(D7:L7)*M7","v":0},{"$f":"(N7/C2)","v":{"v":0,"d":"0%"}}]
[{"$f":"'Misc data'!$A$3","v":{"v":2,"d":"00000002"}},{"$f":"'Misc data'!$B$3","v":"Student"},{"$f":"'Misc data'!$C$3","v":"Two"},0,0,0,0,0,0,0,0,0,1,{"$f":"SUM(D8:L8)*M7","v":0},{"$f":"(N8/C2)","v":{"v":0,"d":"0%"}}]
[{"$f":"'Misc data'!$A$4","v":{"v":3,"d":"00000003"}},{"$f":"'Misc data'!$B$4","v":"Student"},{"$f":"'Misc data'!$C$4","v":"Three"},0,0,0,0,0,0,0,0,0,1,{"$f":"SUM(D9:L9)*M7","v":0},{"$f":"(N9/C2)","v":{"v":0,"d":"0%"}}]
[{"$f":"'Misc data'!$A$5","v":{"v":4,"d":"00000004"}},{"$f":"'Misc data'!$B$5","v":"Student"},{"$f":"'Misc data'!$C$5","v":"Four"},0,0,0,0,0,0,0,0,0,1,{"$f":"SUM(D10:L10)*M8","v":0},{"$f":"(N10/C2)","v":{"v":0,"d":"0%"}}]
[{"$f":"'Misc data'!$A$6","v":{"v":5,"d":"00000005"}},{"$f":"'Misc data'!$B$6","v":"Student"},{"$f":"'Misc data'!$C$6","v":"Five"},0,0,0,0,0,0,0,0,0,1,{"$f":"SUM(D11:L11)*M7","v":0},{"$f":"(N11/C2)","v":{"v":0,"d":"0%"}}]
[{"$f":"'Misc data'!$A$7","v":{"v":6,"d":"00000006"}},{"$f":"'Misc data'!$B$7","v":"Student"},{"$f":"'Misc data'!$C$7","v":"Six"},0,0,0,0,0,0,0,0,0,1,{"$f":"SUM(D12:L12)*M7","v":0},{"$f":"(N12/C2)","v":{"v":0,"d":"0%"}}]
[{"$f":"'Misc data'!$A$8","v":{"v":7,"d":"00000007"}},{"$f":"'Misc data'!$B$8","v":"Student"},{"$f":"'Misc data'!$C$8","v":"Seven"},0,0,0,0,0,0,0,0,0,1,{"$f":"SUM(D13:L13)*M7","v":0},{"$f":"(N13/C2)","v":{"v":0,"d":"0%"}}]
[{"$f":"'Misc data'!$A$9","v":{"v":8,"d":"00000008"}},{"$f":"'Misc data'!$B$9","v":"Student"},{"$f":"'Misc data'!$C$9","v":"Eight"},0,0,0,0,0,0,0,0,0,1,{"$f":"SUM(D14:L14)*M7","v":0},{"$f":"(N14/C2)","v":{"v":0,"d":"0%"}}]
[{"$f":"'Misc data'!$A$10","v":{"v":9,"d":"00000009"}},{"$f":"'Misc data'!$B$10","v":"Student "},{"$f":"'Misc data'!$C$10","v":"Nine"},0,0,0,0,0,0,0,0,0,1,{"$f":"SUM(D15:L15)*M7","v":0},{"$f":"(N15/C2)","v":{"v":0,"d":"0%"}}]
[{"$f":"'Misc data'!$A$11","v":{"v":10,"d":"00000010"}},{"$f":"'Misc data'!$B$11","v":"Student"},{"$f":"'Misc data'!$C$11","v":"Ten"},0,0,0,0,0,0,0,0,0,1,{"$f":"SUM(D16:L16)*M7","v":0},{"$f":"(N16/C2)","v":{"v":0,"d":"0%"}}]
[{"$f":"'Misc data'!$A$12","v":{"v":11,"d":"00000011"}},{"$f":"'Misc data'!$B$12","v":"Student"},{"$f":"'Misc data'!$C$12","v":"Eleven"},0,0,0,0,0,0,0,0,0,1,{"$f":"SUM(D17:L17)*M7","v":0},{"$f":"(N17/C2)","v":{"v":0,"d":"0%"}}]
[{"$f":"'Misc data'!$A$13","v":{"v":12,"d":"00000012"}},{"$f":"'Misc data'!$B$13","v":"Student"},{"$f":"'Misc data'!$C$13","v":"Twelve"},0,0,0,0,0,0,0,0,0,1,{"$f":"SUM(D18:L18)*M7","v":0},{"$f":"(N18/C2)","v":{"v":0,"d":"0%"}}]
[{"$f":"'Misc data'!$A$14","v":{"v":13,"d":"00000013"}},{"$f":"'Misc data'!$B$14","v":"Student"},{"$f":"'Misc data'!$C$14","v":"Thirteen"},0,0,0,0,0,0,0,0,0,1,{"$f":"SUM(D19:L19)*M7","v":0},{"$f":"(N19/C2)","v":{"v":0,"d":"0%"}}]
[{"$f":"'Misc data'!$A$15","v":{"v":14,"d":"00000014"}},{"$f":"'Misc data'!$B$15","v":"Student"},{"$f":"'Misc data'!$C$15","v":"Fourteen"},0,0,0,0,0,0,0,0,0,1,{"$f":"SUM(D20:L20)*M7","v":0},{"$f":"(N20/C2)","v":{"v":0,"d":"0%"}}]
[{"$f":"'Misc data'!$A$16","v":{"v":15,"d":"00000015"}},{"$f":"'Misc data'!$B$16","v":"Student"},{"$f":"'Misc data'!$C$16","v":"Fifteen"},0,0,0,0,0,0,0,0,0,1,{"$f":"SUM(D21:L21)*M7","v":0},{"$f":"(N21/C2)","v":{"v":0,"d":"0%"}}]
[{"$f":"'Misc data'!$A$17","v":{"v":16,"d":"00000016"}},{"$f":"'Misc data'!$B$17","v":"Student"},{"$f":"'Misc data'!$C$17","v":"Sixteen"},0,0,0,0,0,0,0,0,0,1,{"$f":"SUM(D22:L22)*M7","v":0},{"$f":"(N22/C2)","v":{"v":0,"d":"0%"}}]
[{"$f":"'Misc data'!$A$18","v":{"v":17,"d":"00000017"}},{"$f":"'Misc data'!$B$18","v":"Student"},{"$f":"'Misc data'!$C$18","v":"Seventeen"},0,0,0,0,0,0,0,0,0,1,{"$f":"SUM(D23:L23)*M7","v":0},{"$f":"(N23/C2)","v":{"v":0,"d":"0%"}}]
[{"$f":"'Misc data'!$A$19","v":{"v":18,"d":"00000018"}},{"$f":"'Misc data'!$B$19","v":"Student"},{"$f":"'Misc data'!$C$19","v":"Eighteen"},0,0,0,0,0,0,0,0,0,1,{"$f":"SUM(D24:L24)*M7","v":0},{"$f":"(N24/C2)","v":{"v":0,"d":"0%"}}]
[{"$f":"'Misc data'!$A$20","v":{"v":19,"d":"00000019"}},{"$f":"'Misc data'!$B$20","v":"Student"},{"$f":"'Misc data'!$C$20","v":"Nineteen"},0,0,0,0,0,0,0,0,0,1,{"$f":"SUM(D25:L25)*M20","v":0},{"$f":"(N25/C2)","v":{"v":0,"d":"0%"}}]
[{"$f":"'Misc data'!$A$21","v":{"v":20,"d":"00000020"}},{"$f":"'Misc data'!$B$21","v":"Student"},{"$f":"'Misc data'!$C$21","v":"Twenty"},0,0,0,0,0,0,0,0,0,1,{"$f":"SUM(D26:L26)*M20","v":0},{"$f":"(N26/C2)","v":{"v":0,"d":"0%"}}]
[{"$f":"'Misc data'!$A$22","v":{"v":21,"d":"00000021"}},{"$f":"'Misc data'!$B$22","v":"Student"},{"$f":"'Misc data'!$C$22","v":"Twenty one"},0,0,0,0,0,0,0,0,0,1,{"$f":"SUM(D27:L27)*M20","v":0},{"$f":"(N27/C2)","v":{"v":0,"d":"0%"}}]
[{"$f":"'Misc data'!$A$23","v":{"v":22,"d":"00000022"}},{"$f":"'Misc data'!$B$23","v":"Student"},{"$f":"'Misc data'!$C$23","v":"Twenty two"},0,0,0,0,0,0,0,0,0,1,{"$f":"SUM(D28:L28)*M20","v":0},{"$f":"(N28/C2)","v":{"v":0,"d":"0%"}}]
[{"$f":"'Misc data'!$A$24","v":{"v":23,"d":"00000023"}},{"$f":"'Misc data'!$B$24","v":"Student"},{"$f":"'Misc data'!$C$24","v":"Twenty three"},0,0,0,0,0,0,0,0,0,1,{"$f":"SUM(D29:L29)*M20","v":0},{"$f":"(N29/C2)","v":{"v":0,"d":"0%"}}]
[{"$f":"'Misc data'!$A$25","v":{"v":24,"d":"00000024"}},{"$f":"'Misc data'!$B$25","v":"Student"},{"$f":"'Misc data'!$C$25","v":"Twenty four"},0,0,0,0,0,0,0,0,0,1,{"$f":"SUM(D30:L30)*M22","v":0},{"$f":"(N30/C2)","v":{"v":0,"d":"0%"}}]
[{"$f":"'Misc data'!$A$26","v":{"v":25,"d":"00000025"}},{"$f":"'Misc data'!$B$26","v":"Student"},{"$f":"'Misc data'!$C$26","v":"Twenty five"},0,0,0,0,0,0,0,0,0,1,{"$f":"SUM(D31:L31)*M22","v":0},{"$f":"(N31/C2)","v":{"v":0,"d":"0%"}}]

{"sheet":"Course 3 Class","index":8,"n_rows":30,"n_cols":23,"rows_kept":30,"merged":[[0,0,0,2],[1,1,1,2],[2,0,2,1],[2,14,2,22],[3,0,3,1],[3,14,3,15],[3,16,3,18],[3,19,3,20]]}
[{"$f":"'Misc data'!$H$6","v":"Course 3 Steering & Suspension. Class."},{"$nulls":11},25]
[" ","Date assignment is due:",null,"1/18","2/2","TBD","TBD","TBD","TBD","TBD","TBD","TBD","TBD","TBD"]
["Class Room Points:",null,{"$f":"SUM(D3:N3)","v":330},20,20,24,20,25,30,20,26,45," ",100,"Evaluation"]
["Red is late turn-in",null,"Blue is absent","HW","HW","HW","QZ","HW","HW","Test","HW","Class","Extra","Final","Class",null,"Professionalism",null,null,"Lab",null,"Total  ","Letter"]
["I D ","First:","Last:","CH 1","CH 2","CH 3","1","CH 6","CH 9","1 – 9","CH 12","Project","Credit","TEST","Points","%","Attendance","Points","%","Points","%","%","Grade"]
[{"$f":"'Misc data'!$A$2","v":{"v":1,"d":"00000001"}},{"$f":"'Misc data'!$B$2","v":"Student"},{"$f":"'Misc data'!$C$2","v":"One"},0,0,0,0,0,0,0,0,0,0,0,{"$f":"SUM(D6:N6)","v":0},{"$f":"(O6/C3)","v":{"v":0,"d":"0%"}},{"$f":"Attendance!$E$3","v":{"v":1,"d":"100%"}},{"$f":"Professionalism!$E$2","v":{"v":72,"d":"72.0"}},{"$f":"Professionalism!$F$2","v":{"v":1,"d":"100%"}},{"$f":"'Course 3 Lab'!$Q$7","v":0},{"$f":"'Course 3 Lab'!$R$7","v":{"v":0,"d":"0%"}},{"$f":"(0.5*P6)+(0.25*S6)+(0.25*U6)","v":{"v":0.25,"d":"25.0%"}},{"$f":"IF(V6>0.95,\"A\",IF(V6>0.93,\"A-\",IF(V6>0.9,\"B+\",IF(V6>0.88,\"B\",IF(V6>0.85,\"B-\",IF(V6>0.82,\"C+\",IF(V6>0.79,\"C\",IF(V6>0.76,\"C-\",IF(V6>0.74,\"D+\",IF(V6>0.72,\"D\",IF(V6>0.7,\"D-\",IF(V6<0.7,\"F\"))))))))))))","v":"F"}]
[{"$f":"'Misc data'!$A$3","v":{"v":2,"d":"00000002"}},{"$f":"'Misc data'!$B$3","v":"Student"},{"$f":"'Misc data'!$C$3","v":"Two"},0,0,0,0,0,0,0,0,0,0,0,{"$f":"SUM(D7:N7)","v":0},{"$f":"(O7/C3)","v":{"v":0,"d":"0%"}},{"$f":"Attendance!$E$4","v":{"v":0.928571428571429,"d":"93%"}},{"$f":"Professionalism!$E$3","v":{"v":71.5714285714286,"d":"71.6"}},{"$f":"Professionalism!$F$3","v":{"v":0.994047619047619,"d":"99%"}},{"$f":"'Course 3 Lab'!$Q$8","v":0},{"$f":"'Course 3 Lab'!$R$8","v":{"v":0,"d":"0%"}},{"$f":"(0.5*P7)+(0.25*S7)+(0.25*U7)","v":{"v":0.248511904761905,"d":"24.9%"}},{"$f":"IF(V7>0.95,\"A\",IF(V7>0.93,\"A-\",IF(V7>0.9,\"B+\",IF(V7>0.88,\"B\",IF(V7>0.85,\"B-\",IF(V7>0.82,\"C+\",IF(V7>0.79,\"C\",IF(V7>0.76,\"C-\",IF(V7>0.74,\"D+\",IF(V7>0.72,\"D\",IF(V7>0.7,\"D-\",IF(V7<0.7,\"F\"))))))))))))","v":"F"}]
[{"$f":"'Misc data'!$A$4","v":{"v":3,"d":"00000003"}},{"$f":"'Misc data'!$B$4","v":"Student"},{"$f":"'Misc data'!$C$4","v":"Three"},0,0,0,0,0,0,0,0,0,0,0,{"$f":"SUM(D8:N8)","v":0},{"$f":"(O8/C3)","v":{"v":0,"d":"0%"}},{"$f":"Attendance!$E$5","v":{"v":1,"d":"100%"}},{"$f":"Professionalism!$E$4","v":{"v":72,"d":"72.0"}},{"$f":"Professionalism!$F$4","v":{"v":1,"d":"100%"}},{"$f":"'Course 3 Lab'!$Q$9","v":0},{"$f":"'Course 3 Lab'!$R$9","v":{"v":0,"d":"0%"}},{"$f":"(0.5*P8)+(0.25*S8)+(0.25*U8)","v":{"v":0.25,"d":"25.0%"}},{"$f":"IF(V8>0.95,\"A\",IF(V8>0.93,\"A-\",IF(V8>0.9,\"B+\",IF(V8>0.88,\"B\",IF(V8>0.85,\"B-\",IF(V8>0.82,\"C+\",IF(V8>0.79,\"C\",IF(V8>0.76,\"C-\",IF(V8>0.74,\"D+\",IF(V8>0.72,\"D\",IF(V8>0.7,\"D-\",IF(V8<0.7,\"F\"))))))))))))","v":"F"}]
[{"$f":"'Misc data'!$A$5","v":{"v":4,"d":"00000004"}},{"$f":"'Misc data'!$B$5","v":"Student"},{"$f":"'Misc data'!$C$5","v":"Four"},0,0,0,0,0,0,0,0,0,0,0,{"$f":"SUM(D9:N9)","v":0},{"$f":"(O9/C3)","v":{"v":0,"d":"0%"}},{"$f":"Attendance!$E$6","v":{"v":1,"d":"100%"}},{"$f":"Professionalism!$E$5","v":{"v":72,"d":"72.0"}},{"$f":"Professionalism!$F$5","v":{"v":1,"d":"100%"}},{"$f":"'Course 3 Lab'!$Q$10","v":0},{"$f":"'Course 3 Lab'!$R$10","v":{"v":0,"d":"0%"}},{"$f":"(0.5*P9)+(0.25*S9)+(0.25*U9)","v":{"v":0.25,"d":"25.0%"}},{"$f":"IF(V9>0.95,\"A\",IF(V9>0.93,\"A-\",IF(V9>0.9,\"B+\",IF(V9>0.88,\"B\",IF(V9>0.85,\"B-\",IF(V9>0.82,\"C+\",IF(V9>0.79,\"C\",IF(V9>0.76,\"C-\",IF(V9>0.74,\"D+\",IF(V9>0.72,\"D\",IF(V9>0.7,\"D-\",IF(V9<0.7,\"F\"))))))))))))","v":"F"}]
[{"$f":"'Misc data'!$A$6","v":{"v":5,"d":"00000005"}},{"$f":"'Misc data'!$B$6","v":"Student"},{"$f":"'Misc data'!$C$6","v":"Five"},0,0,0,0,0,0,0,0,0,0,0,{"$f":"SUM(D10:N10)","v":0},{"$f":"(O10/C3)","v":{"v":0,"d":"0%"}},{"$f":"Attendance!$E$7","v":{"v":1,"d":"100%"}},{"$f":"Professionalism!$E$6","v":{"v":72,"d":"72.0"}},{"$f":"Professionalism!$F$6","v":{"v":1,"d":"100%"}},{"$f":"'Course 3 Lab'!$Q$11","v":0},{"$f":"'Course 3 Lab'!$R$11","v":{"v":0,"d":"0%"}},{"$f":"(0.5*P10)+(0.25*S10)+(0.25*U10)","v":{"v":0.25,"d":"25.0%"}},{"$f":"IF(V10>0.95,\"A\",IF(V10>0.93,\"A-\",IF(V10>0.9,\"B+\",IF(V10>0.88,\"B\",IF(V10>0.85,\"B-\",IF(V10>0.82,\"C+\",IF(V10>0.79,\"C\",IF(V10>0.76,\"C-\",IF(V10>0.74,\"D+\",IF(V10>0.72,\"D\",IF(V10>0.7,\"D-\",IF(V10<0.7,\"F\"))))))))))))","v":"F"}]
[{"$f":"'Misc data'!$A$7","v":{"v":6,"d":"00000006"}},{"$f":"'Misc data'!$B$7","v":"Student"},{"$f":"'Misc data'!$C$7","v":"Six"},0,0,0,0,0,0,0,0,0,0,0,{"$f":"SUM(D11:N11)","v":0},{"$f":"(O11/C3)","v":{"v":0,"d":"0%"}},{"$f":"Attendance!$E$8","v":{"v":1,"d":"100%"}},{"$f":"Professionalism!$E$7","v":{"v":72,"d":"72.0"}},{"$f":"Professionalism!$F$7","v":{"v":1,"d":"100%"}},{"$f":"'Course 3 Lab'!$Q$12","v":0},{"$f":"'Course 3 Lab'!$R$12","v":{"v":0,"d":"0%"}},{"$f":"(0.5*P11)+(0.25*S11)+(0.25*U11)","v":{"v":0.25,"d":"25.0%"}},{"$f":"IF(V11>0.95,\"A\",IF(V11>0.93,\"A-\",IF(V11>0.9,\"B+\",IF(V11>0.88,\"B\",IF(V11>0.85,\"B-\",IF(V11>0.82,\"C+\",IF(V11>0.79,\"C\",IF(V11>0.76,\"C-\",IF(V11>0.74,\"D+\",IF(V11>0.72,\"D\",IF(V11>0.7,\"D-\",IF(V11<0.7,\"F\"))))))))))))","v":"F"}]
[{"$f":"'Misc data'!$A$8","v":{"v":7,"d":"00000007"}},{"$f":"'Misc data'!$B$8","v":"Student"},{"$f":"'Misc data'!$C$8","v":"Seven"},0,0,0,0,0,0,0,0,0,0,0,{"$f":"SUM(D12:N12)","v":0},{"$f":"(O12/C3)","v":{"v":0,"d":"0%"}},{"$f":"Attendance!$E$9","v":{"v":1,"d":"100%"}},{"$f":"Professionalism!$E$8","v":{"v":72,"d":"72.0"}},{"$f":"Professionalism!$F$8","v":{"v":1,"d":"100%"}},{"$f":"'Course 3 Lab'!$Q$13","v":0},{"$f":"'Course 3 Lab'!$R$13","v":{"v":0,"d":"0%"}},{"$f":"(0.5*P12)+(0.25*S12)+(0.25*U12)","v":{"v":0.25,"d":"25.0%"}},{"$f":"IF(V12>0.95,\"A\",IF(V12>0.93,\"A-\",IF(V12>0.9,\"B+\",IF(V12>0.88,\"B\",IF(V12>0.85,\"B-\",IF(V12>0.82,\"C+\",IF(V12>0.79,\"C\",IF(V12>0.76,\"C-\",IF(V12>0.74,\"D+\",IF(V12>0.72,\"D\",IF(V12>0.7,\"D-\",IF(V12<0.7,\"F\"))))))))))))","v":"F"}]
[{"$f":"'Misc data'!$A$9","v":{"v":8,"d":"00000008"}},{"$f":"'Misc data'!$B$9","v":"Student"},{"$f":"'Misc data'!$C$9","v":"Eight"},0,0,0,0,0,0,0,0,0,0,0,{"$f":"SUM(D13:N13)","v":0},{"$f":"(O13/C3)","v":{"v":0,"d":"0%"}},{"$f":"Attendance!$E$10","v":{"v":1,"d":"100%"}},{"$f":"Professionalism!$E$9","v":{"v":72,"d":"72.0"}},{"$f":"Professionalism!$F$9","v":{"v":1,"d":"100%"}},{"$f":"'Course 3 Lab'!$Q$14","v":0},{"$f":"'Course 3 Lab'!$R$14","v":{"v":0,"d":"0%"}},{"$f":"(0.5*P13)+(0.25*S13)+(0.25*U13)","v":{"v":0.25,"d":"25.0%"}},{"$f":"IF(V13>0.95,\"A\",IF(V13>0.93,\"A-\",IF(V13>0.9,\"B+\",IF(V13>0.88,\"B\",IF(V13>0.85,\"B-\",IF(V13>0.82,\"C+\",IF(V13>0.79,\"C\",IF(V13>0.76,\"C-\",IF(V13>0.74,\"D+\",IF(V13>0.72,\"D\",IF(V13>0.7,\"D-\",IF(V13<0.7,\"F\"))))))))))))","v":"F"}]
[{"$f":"'Misc data'!$A$10","v":{"v":9,"d":"00000009"}},{"$f":"'Misc data'!$B$10","v":"Student "},{"$f":"'Misc data'!$C$10","v":"Nine"},0,0,0,0,0,0,0,0,0,0,0,{"$f":"SUM(D14:N14)","v":0},{"$f":"(O14/C3)","v":{"v":0,"d":"0%"}},{"$f":"Attendance!$E$11","v":{"v":1,"d":"100%"}},{"$f":"Professionalism!$E$10","v":{"v":72,"d":"72.0"}},{"$f":"Professionalism!$F$10","v":{"v":1,"d":"100%"}},{"$f":"'Course 3 Lab'!$Q$15","v":0},{"$f":"'Course 3 Lab'!$R$15","v":{"v":0,"d":"0%"}},{"$f":"(0.5*P14)+(0.25*S14)+(0.25*U14)","v":{"v":0.25,"d":"25.0%"}},{"$f":"IF(V14>0.95,\"A\",IF(V14>0.93,\"A-\",IF(V14>0.9,\"B+\",IF(V14>0.88,\"B\",IF(V14>0.85,\"B-\",IF(V14>0.82,\"C+\",IF(V14>0.79,\"C\",IF(V14>0.76,\"C-\",IF(V14>0.74,\"D+\",IF(V14>0.72,\"D\",IF(V14>0.7,\"D-\",IF(V14<0.7,\"F\"))))))))))))","v":"F"}]
[{"$f":"'Misc data'!$A$11","v":{"v":10,"d":"00000010"}},{"$f":"'Misc data'!$B$11","v":"Student"},{"$f":"'Misc data'!$C$11","v":"Ten"},0,0,0,0,0,0,0,0,0,0,0,{"$f":"SUM(D15:N15)","v":0},{"$f":"(O15/C3)","v":{"v":0,"d":"0%"}},{"$f":"Attendance!$E$12","v":{"v":1,"d":"100%"}},{"$f":"Professionalism!$E$11","v":{"v":72,"d":"72.0"}},{"$f":"Professionalism!$F$11","v":{"v":1,"d":"100%"}},{"$f":"'Course 3 Lab'!$Q$16","v":0},{"$f":"'Course 3 Lab'!$R$16","v":{"v":0,"d":"0%"}},{"$f":"(0.5*P15)+(0.25*S15)+(0.25*U15)","v":{"v":0.25,"d":"25.0%"}},{"$f":"IF(V15>0.95,\"A\",IF(V15>0.93,\"A-\",IF(V15>0.9,\"B+\",IF(V15>0.88,\"B\",IF(V15>0.85,\"B-\",IF(V15>0.82,\"C+\",IF(V15>0.79,\"C\",IF(V15>0.76,\"C-\",IF(V15>0.74,\"D+\",IF(V15>0.72,\"D\",IF(V15>0.7,\"D-\",IF(V15<0.7,\"F\"))))))))))))","v":"F"}]
[{"$f":"'Misc data'!$A$12","v":{"v":11,"d":"00000011"}},{"$f":"'Misc data'!$B$12","v":"Student"},{"$f":"'Misc data'!$C$12","v":"Eleven"},0,0,0,0,0,0,0,0,0,0,0,{"$f":"SUM(D16:N16)","v":0},{"$f":"(O16/C3)","v":{"v":0,"d":"0%"}},{"$f":"Attendance!$E$13","v":{"v":1,"d":"100%"}},{"$f":"Professionalism!$E$12","v":{"v":72,"d":"72.0"}},{"$f":"Professionalism!$F$12","v":{"v":1,"d":"100%"}},{"$f":"'Course 3 Lab'!$Q$17","v":0},{"$f":"'Course 3 Lab'!$R$17","v":{"v":0,"d":"0%"}},{"$f":"(0.5*P16)+(0.25*S16)+(0.25*U16)","v":{"v":0.25,"d":"25.0%"}},{"$f":"IF(V16>0.95,\"A\",IF(V16>0.93,\"A-\",IF(V16>0.9,\"B+\",IF(V16>0.88,\"B\",IF(V16>0.85,\"B-\",IF(V16>0.82,\"C+\",IF(V16>0.79,\"C\",IF(V16>0.76,\"C-\",IF(V16>0.74,\"D+\",IF(V16>0.72,\"D\",IF(V16>0.7,\"D-\",IF(V16<0.7,\"F\"))))))))))))","v":"F"}]
[{"$f":"'Misc data'!$A$13","v":{"v":12,"d":"00000012"}},{"$f":"'Misc data'!$B$13","v":"Student"},{"$f":"'Misc data'!$C$13","v":"Twelve"},0,0,0,0,0,0,0,0,0,0,0,{"$f":"SUM(D17:N17)","v":0},{"$f":"(O17/C3)","v":{"v":0,"d":"0%"}},{"$f":"Attendance!$E$14","v":{"v":0.928571428571429,"d":"93%"}},{"$f":"Professionalism!$E$13","v":{"v":71.5714285714286,"d":"71.6"}},{"$f":"Professionalism!$F$13","v":{"v":0.994047619047619,"d":"99%"}},{"$f":"'Course 3 Lab'!$Q$18","v":0},{"$f":"'Course 3 Lab'!$R$18","v":{"v":0,"d":"0%"}},{"$f":"(0.5*P17)+(0.25*S17)+(0.25*U17)","v":{"v":0.248511904761905,"d":"24.9%"}},{"$f":"IF(V17>0.95,\"A\",IF(V17>0.93,\"A-\",IF(V17>0.9,\"B+\",IF(V17>0.88,\"B\",IF(V17>0.85,\"B-\",IF(V17>0.82,\"C+\",IF(V17>0.79,\"C\",IF(V17>0.76,\"C-\",IF(V17>0.74,\"D+\",IF(V17>0.72,\"D\",IF(V17>0.7,\"D-\",IF(V17<0.7,\"F\"))))))))))))","v":"F"}]
[{"$f":"'Misc data'!$A$14","v":{"v":13,"d":"00000013"}},{"$f":"'Misc data'!$B$14","v":"Student"},{"$f":"'Misc data'!$C$14","v":"Thirteen"},0,0,0,0,0,0,0,0,0,0,0,{"$f":"SUM(D18:N18)","v":0},{"$f":"(O18/C3)","v":{"v":0,"d":"0%"}},{"$f":"Attendance!$E$15","v":{"v":1,"d":"100%"}},{"$f":"Professionalism!$E$14","v":{"v":72,"d":"72.0"}},{"$f":"Professionalism!$F$14","v":{"v":1,"d":"100%"}},{"$f":"'Course 3 Lab'!$Q$19","v":0},{"$f":"'Course 3 Lab'!$R$19","v":{"v":0,"d":"0%"}},{"$f":"(0.5*P18)+(0.25*S18)+(0.25*U18)","v":{"v":0.25,"d":"25.0%"}},{"$f":"IF(V18>0.95,\"A\",IF(V18>0.93,\"A-\",IF(V18>0.9,\"B+\",IF(V18>0.88,\"B\",IF(V18>0.85,\"B-\",IF(V18>0.82,\"C+\",IF(V18>0.79,\"C\",IF(V18>0.76,\"C-\",IF(V18>0.74,\"D+\",IF(V18>0.72,\"D\",IF(V18>0.7,\"D-\",IF(V18<0.7,\"F\"))))))))))))","v":"F"}]
[{"$f":"'Misc data'!$A$15","v":{"v":14,"d":"00000014"}},{"$f":"'Misc data'!$B$15","v":"Student"},{"$f":"'Misc data'!$C$15","v":"Fourteen"},0,0,0,0,0,0,0,0,0,0,0,{"$f":"SUM(D19:N19)","v":0},{"$f":"(O19/C3)","v":{"v":0,"d":"0%"}},{"$f":"Attendance!$E$16","v":{"v":1,"d":"100%"}},{"$f":"Professionalism!$E$15","v":{"v":72,"d":"72.0"}},{"$f":"Professionalism!$F$15","v":{"v":1,"d":"100%"}},{"$f":"'Course 3 Lab'!$Q$20","v":0},{"$f":"'Course 3 Lab'!$R$20","v":{"v":0,"d":"0%"}},{"$f":"(0.5*P19)+(0.25*S19)+(0.25*U19)","v":{"v":0.25,"d":"25.0%"}},{"$f":"IF(V19>0.95,\"A\",IF(V19>0.93,\"A-\",IF(V19>0.9,\"B+\",IF(V19>0.88,\"B\",IF(V19>0.85,\"B-\",IF(V19>0.82,\"C+\",IF(V19>0.79,\"C\",IF(V19>0.76,\"C-\",IF(V19>0.74,\"D+\",IF(V19>0.72,\"D\",IF(V19>0.7,\"D-\",IF(V19<0.7,\"F\"))))))))))))","v":"F"}]
[{"$f":"'Misc data'!$A$16","v":{"v":15,"d":"00000015"}},{"$f":"'Misc data'!$B$16","v":"Student"},{"$f":"'Misc data'!$C$16","v":"Fifteen"},0,0,0,0,0,0,0,0,0,0,0,{"$f":"SUM(D20:N20)","v":0},{"$f":"(O20/C3)","v":{"v":0,"d":"0%"}},{"$f":"Attendance!$E$17","v":{"v":1,"d":"100%"}},{"$f":"Professionalism!$E$16","v":{"v":72,"d":"72.0"}},{"$f":"Professionalism!$F$16","v":{"v":1,"d":"100%"}},{"$f":"'Course 3 Lab'!$Q$21","v":0},{"$f":"'Course 3 Lab'!$R$21","v":{"v":0,"d":"0%"}},{"$f":"(0.5*P20)+(0.25*S20)+(0.25*U20)","v":{"v":0.25,"d":"25.0%"}},{"$f":"IF(V20>0.95,\"A\",IF(V20>0.93,\"A-\",IF(V20>0.9,\"B+\",IF(V20>0.88,\"B\",IF(V20>0.85,\"B-\",IF(V20>0.82,\"C+\",IF(V20>0.79,\"C\",IF(V20>0.76,\"C-\",IF(V20>0.74,\"D+\",IF(V20>0.72,\"D\",IF(V20>0.7,\"D-\",IF(V20<0.7,\"F\"))))))))))))","v":"F"}]
[{"$f":"'Misc data'!$A$17","v":{"v":16,"d":"00000016"}},{"$f":"'Misc data'!$B$17","v":"Student"},{"$f":"'Misc data'!$C$17","v":"Sixteen"},0,0,0,0,0,0,0,0,0,0,0,{"$f":"SUM(D21:N21)","v":0},{"$f":"(O21/C3)","v":{"v":0,"d":"0%"}},{"$f":"Attendance!$E$18","v":{"v":1,"d":"100%"}},{"$f":"Professionalism!$E$17","v":{"v":72,"d":"72.0"}},{"$f":"Professionalism!$F$17","v":{"v":1,"d":"100%"}},{"$f":"'Course 3 Lab'!$Q$22","v":0},{"$f":"'Course 3 Lab'!$R$22","v":{"v":0,"d":"0%"}},{"$f":"(0.5*P21)+(0.25*S21)+(0.25*U21)","v":{"v":0.25,"d":"25.0%"}},{"$f":"IF(V21>0.95,\"A\",IF(V21>0.93,\"A-\",IF(V21>0.9,\"B+\",IF(V21>0.88,\"B\",IF(V21>0.85,\"B-\",IF(V21>0.82,\"C+\",IF(V21>0.79,\"C\",IF(V21>0.76,\"C-\",IF(V21>0.74,\"D+\",IF(V21>0.72,\"D\",IF(V21>0.7,\"D-\",IF(V21<0.7,\"F\"))))))))))))","v":"F"}]
[{"$f":"'Misc data'!$A$18","v":{"v":17,"d":"00000017"}},{"$f":"'Misc data'!$B$18","v":"Student"},{"$f":"'Misc data'!$C$18","v":"Seventeen"},0,0,0,0,0,0,0,0,0,0,0,{"$f":"SUM(D22:N22)","v":0},{"$f":"(O22/C3)","v":{"v":0,"d":"0%"}},{"$f":"Attendance!$E$19","v":{"v":1,"d":"100%"}},{"$f":"Professionalism!$E$18","v":{"v":72,"d":"72.0"}},{"$f":"Professionalism!$F$18","v":{"v":1,"d":"100%"}},{"$f":"'Course 3 Lab'!$Q$23","v":0},{"$f":"'Course 3 Lab'!$R$23","v":{"v":0,"d":"0%"}},{"$f":"(0.5*P22)+(0.25*S22)+(0.25*U22)","v":{"v":0.25,"d":"25.0%"}},{"$f":"IF(V22>0.95,\"A\",IF(V22>0.93,\"A-\",IF(V22>0.9,\"B+\",IF(V22>0.88,\"B\",IF(V22>0.85,\"B-\",IF(V22>0.82,\"C+\",IF(V22>0.79,\"C\",IF(V22>0.76,\"C-\",IF(V22>0.74,\"D+\",IF(V22>0.72,\"D\",IF(V22>0.7,\"D-\",IF(V22<0.7,\"F\"))))))))))))","v":"F"}]
[{"$f":"'Misc data'!$A$19","v":{"v":18,"d":"00000018"}},{"$f":"'Misc data'!$B$19","v":"Student"},{"$f":"'Misc data'!$C$19","v":"Eighteen"},0,0,0,0,0,0,0,0,0,0,0,{"$f":"SUM(D23:N23)","v":0},{"$f":"(O23/C3)","v":{"v":0,"d":"0%"}},{"$f":"Attendance!$E$20","v":{"v":1,"d":"100%"}},{"$f":"Professionalism!$E$19","v":{"v":72,"d":"72.0"}},{"$f":"Professionalism!$F$19","v":{"v":1,"d":"100%"}},{"$f":"'Course 3 Lab'!$Q$24","v":0},{"$f":"'Course 3 Lab'!$R$24","v":{"v":0,"d":"0%"}},{"$f":"(0.5*P23)+(0.25*S23)+(0.25*U23)","v":{"v":0.25,"d":"25.0%"}},{"$f":"IF(V23>0.95,\"A\",IF(V23>0.93,\"A-\",IF(V23>0.9,\"B+\",IF(V23>0.88,\"B\",IF(V23>0.85,\"B-\",IF(V23>0.82,\"C+\",IF(V23>0.79,\"C\",IF(V23>0.76,\"C-\",IF(V23>0.74,\"D+\",IF(V23>0.72,\"D\",IF(V23>0.7,\"D-\",IF(V23<0.7,\"F\"))))))))))))","v":"F"}]
[{"$f":"'Misc data'!$A$20","v":{"v":19,"d":"00000019"}},{"$f":"'Misc data'!$B$20","v":"Student"},{"$f":"'Misc data'!$C$20","v":"Nineteen"},0,0,0,0,0,0,0,0,0,0,0,{"$f":"SUM(D24:N24)","v":0},{"$f":"(O24/C3)","v":{"v":0,"d":"0%"}},{"$f":"Attendance!$E$21","v":{"v":1,"d":"100%"}},{"$f":"Professionalism!$E$20","v":{"v":72,"d":"72.0"}},{"$f":"Professionalism!$F$20","v":{"v":1,"d":"100%"}},{"$f":"'Course 3 Lab'!$Q$25","v":0},{"$f":"'Course 3 Lab'!$R$25","v":{"v":0,"d":"0%"}},{"$f":"(0.5*P24)+(0.25*S24)+(0.25*U24)","v":{"v":0.25,"d":"25.0%"}},{"$f":"IF(V24>0.95,\"A\",IF(V24>0.93,\"A-\",IF(V24>0.9,\"B+\",IF(V24>0.88,\"B\",IF(V24>0.85,\"B-\",IF(V24>0.82,\"C+\",IF(V24>0.79,\"C\",IF(V24>0.76,\"C-\",IF(V24>0.74,\"D+\",IF(V24>0.72,\"D\",IF(V24>0.7,\"D-\",IF(V24<0.7,\"F\"))))))))))))","v":"F"}]
[{"$f":"'Misc data'!$A$21","v":{"v":20,"d":"00000020"}},{"$f":"'Misc data'!$B$21","v":"Student"},{"$f":"'Misc data'!$C$21","v":"Twenty"},0,0,0,0,0,0,0,0,0,0,0,{"$f":"SUM(D25:N25)","v":0},{"$f":"(O25/C3)","v":{"v":0,"d":"0%"}},{"$f":"Attendance!$E$22","v":{"v":1,"d":"100%"}},{"$f":"Professionalism!$E$21","v":{"v":72,"d":"72.0"}},{"$f":"Professionalism!$F$21","v":{"v":1,"d":"100%"}},{"$f":"'Course 3 Lab'!$Q$26","v":0},{"$f":"'Course 3 Lab'!$R$26","v":{"v":0,"d":"0%"}},{"$f":"(0.5*P25)+(0.25*S25)+(0.25*U25)","v":{"v":0.25,"d":"25.0%"}},{"$f":"IF(V25>0.95,\"A\",IF(V25>0.93,\"A-\",IF(V25>0.9,\"B+\",IF(V25>0.88,\"B\",IF(V25>0.85,\"B-\",IF(V25>0.82,\"C+\",IF(V25>0.79,\"C\",IF(V25>0.76,\"C-\",IF(V25>0.74,\"D+\",IF(V25>0.72,\"D\",IF(V25>0.7,\"D-\",IF(V25<0.7,\"F\"))))))))))))","v":"F"}]
[{"$f":"'Misc data'!$A$22","v":{"v":21,"d":"00000021"}},{"$f":"'Misc data'!$B$22","v":"Student"},{"$f":"'Misc data'!$C$22","v":"Twenty one"},0,0,0,0,0,0,0,0,0,0,0,{"$f":"SUM(D26:N26)","v":0},{"$f":"(O26/C3)","v":{"v":0,"d":"0%"}},{"$f":"Attendance!$E$23","v":{"v":1,"d":"100%"}},{"$f":"Professionalism!$E$22","v":{"v":72,"d":"72.0"}},{"$f":"Professionalism!$F$22","v":{"v":1,"d":"100%"}},{"$f":"'Course 3 Lab'!$Q$27","v":0},{"$f":"'Course 3 Lab'!$R$27","v":{"v":0,"d":"0%"}},{"$f":"(0.5*P26)+(0.25*S26)+(0.25*U26)","v":{"v":0.25,"d":"25.0%"}},{"$f":"IF(V26>0.95,\"A\",IF(V26>0.93,\"A-\",IF(V26>0.9,\"B+\",IF(V26>0.88,\"B\",IF(V26>0.85,\"B-\",IF(V26>0.82,\"C+\",IF(V26>0.79,\"C\",IF(V26>0.76,\"C-\",IF(V26>0.74,\"D+\",IF(V26>0.72,\"D\",IF(V26>0.7,\"D-\",IF(V26<0.7,\"F\"))))))))))))","v":"F"}]
[{"$f":"'Misc data'!$A$23","v":{"v":22,"d":"00000022"}},{"$f":"'Misc data'!$B$23","v":"Student"},{"$f":"'Misc data'!$C$23","v":"Twenty two"},0,0,0,0,0,0,0,0,0,0,0,{"$f":"SUM(D27:N27)","v":0},{"$f":"(O27/C3)","v":{"v":0,"d":"0%"}},{"$f":"Attendance!$E$24","v":{"v":1,"d":"100%"}},{"$f":"Professionalism!$E$23","v":{"v":72,"d":"72.0"}},{"$f":"Professionalism!$F$23","v":{"v":1,"d":"100%"}},{"$f":"'Course 3 Lab'!$Q$28","v":0},{"$f":"'Course 3 Lab'!$R$28","v":{"v":0,"d":"0%"}},{"$f":"(0.5*P27)+(0.25*S27)+(0.25*U27)","v":{"v":0.25,"d":"25.0%"}},{"$f":"IF(V27>0.95,\"A\",IF(V27>0.93,\"A-\",IF(V27>0.9,\"B+\",IF(V27>0.88,\"B\",IF(V27>0.85,\"B-\",IF(V27>0.82,\"C+\",IF(V27>0.79,\"C\",IF(V27>0.76,\"C-\",IF(V27>0.74,\"D+\",IF(V27>0.72,\"D\",IF(V27>0.7,\"D-\",IF(V27<0.7,\"F\"))))))))))))","v":"F"}]
[{"$f":"'Misc data'!$A$24","v":{"v":23,"d":"00000023"}},{"$f":"'Misc data'!$B$24","v":"Student"},{"$f":"'Misc data'!$C$24","v":"Twenty three"},0,0,0,0,0,0,0,0,0,0,0,{"$f":"SUM(D28:N28)","v":0},{"$f":"(O28/C3)","v":{"v":0,"d":"0%"}},{"$f":"Attendance!$E$25","v":{"v":1,"d":"100%"}},{"$f":"Professionalism!$E$24","v":{"v":72,"d":"72.0"}},{"$f":"Professionalism!$F$24","v":{"v":1,"d":"100%"}},{"$f":"'Course 3 Lab'!$Q$29","v":0},{"$f":"'Course 3 Lab'!$R$29","v":{"v":0,"d":"0%"}},{"$f":"(0.5*P28)+(0.25*S28)+(0.25*U28)","v":{"v":0.25,"d":"25.0%"}},{"$f":"IF(V28>0.95,\"A\",IF(V28>0.93,\"A-\",IF(V28>0.9,\"B+\",IF(V28>0.88,\"B\",IF(V28>0.85,\"B-\",IF(V28>0.82,\"C+\",IF(V28>0.79,\"C\",IF(V28>0.76,\"C-\",IF(V28>0.74,\"D+\",IF(V28>0.72,\"D\",IF(V28>0.7,\"D-\",IF(V28<0.7,\"F\"))))))))))))","v":"F"}]
[{"$f":"'Misc data'!$A$25","v":{"v":24,"d":"00000024"}},{"$f":"'Misc data'!$B$25","v":"Student"},{"$f":"'Misc data'!$C$25","v":"Twenty four"},0,0,0,0,0,0,0,0,0,0,0,{"$f":"SUM(D29:N29)","v":0},{"$f":"(O29/C3)","v":{"v":0,"d":"0%"}},{"$f":"Attendance!$E$24","v":{"v":1,"d":"100%"}},{"$f":"Professionalism!$E$23","v":{"v":72,"d":"72.0"}},{"$f":"Professionalism!$F$23","v":{"v":1,"d":"100%"}},{"$f":"'Course 3 Lab'!$Q$28","v":0},{"$f":"'Course 3 Lab'!$R$28","v":{"v":0,"d":"0%"}},{"$f":"(0.5*P29)+(0.25*S29)+(0.25*U29)","v":{"v":0.25,"d":"25.0%"}},{"$f":"IF(V29>0.95,\"A\",IF(V29>0.93,\"A-\",IF(V29>0.9,\"B+\",IF(V29>0.88,\"B\",IF(V29>0.85,\"B-\",IF(V29>0.82,\"C+\",IF(V29>0.79,\"C\",IF(V29>0.76,\"C-\",IF(V29>0.74,\"D+\",IF(V29>0.72,\"D\",IF(V29>0.7,\"D-\",IF(V29<0.7,\"F\"))))))))))))","v":"F"}]
[{"$f":"'Misc data'!$A$26","v":{"v":25,"d":"00000025"}},{"$f":"'Misc data'!$B$26","v":"Student"},{"$f":"'Misc data'!$C$26","v":"Twenty five"},0,0,0,0,0,0,0,0,0,0,0,{"$f":"SUM(D30:N30)","v":0},{"$f":"(O30/C3)","v":{"v":0,"d":"0%"}},{"$f":"Attendance!$E$25","v":{"v":1,"d":"100%"}},{"$f":"Professionalism!$E$24","v":{"v":72,"d":"72.0"}},{"$f":"Professionalism!$F$24","v":{"v":1,"d":"100%"}},{"$f":"'Course 3 Lab'!$Q$29","v":0},{"$f":"'Course 3 Lab'!$R$29","v":{"v":0,"d":"0%"}},{"$f":"(0.5*P30)+(0.25*S30)+(0.25*U30)","v":{"v":0.25,"d":"25.0%"}},{"$f":"IF(V30>0.95,\"A\",IF(V30>0.93,\"A-\",IF(V30>0.9,\"B+\",IF(V30>0.88,\"B\",IF(V30>0.85,\"B-\",IF(V30>0.82,\"C+\",IF(V30>0.79,\"C\",IF(V30>0.76,\"C-\",IF(V30>0.74,\"D+\",IF(V30>0.72,\"D\",IF(V30>0.7,\"D-\",IF(V30<0.7,\"F\"))))))))))))","v":"F"}]

{"sheet":"Course 3 Lab","index":9,"n_rows":31,"n_cols":18,"rows_kept":31,"merged":[[0,0,0,2],[1,0,1,1],[2,0,4,2],[4,16,4,17]]}
[{"$f":"'Misc data'!$H$7","v":"Course 3 Steering & Suspension. Lab"}]
["Max shop points",null,{"$f":" SUM(D6:O6)","v":1350},"Repair","Identify","Repair","Identify","Repair","R&R","R&R","R&R","P/S","R&R","NVH"," "]
["Max shop points available depend on how much customer work is done.",null,null,"SLA","SLA","Mac-P","Mac-P","Rear","Rack &","Recirc.","P/S","Pump","Inner","Runout &","Cus","Comp"]
[{"$nulls":3},"Susp","Parts","Susp","Parts","Susp","Pinion","Gear","Pump","Test","Tie-Rod","bal. Check","tomer","etency"," "," "]
[{"$nulls":3},1,2,3,2,1,1,1,1,1,1,1,"Work","0 or 1","Lab"]
["ID","First:","Last:",150,50,225,50,50,150,125,50,50,50,100,300,"*","Points","%"]
[{"$f":"'Misc data'!$A$2","v":{"v":1,"d":"00000001"}},{"$f":"'Misc data'!$B$2","v":"Student"},{"$f":"'Misc data'!$C$2","v":"One"},0,0,0,0,0,0,0,0,0,0,0,0,1,{"$f":"SUM(D7:O7)*P7","v":0},{"$f":"(Q7/C2)","v":{"v":0,"d":"0%"}}]
[{"$f":"'Misc data'!$A$3","v":{"v":2,"d":"00000002"}},{"$f":"'Misc data'!$B$3","v":"Student"},{"$f":"'Misc data'!$C$3","v":"Two"},0,0,0,0,0,0,0,0,0,0,0,0,1,{"$f":"SUM(D8:O8)*P8","v":0},{"$f":"(Q8/C2)","v":{"v":0,"d":"0%"}}]
[{"$f":"'Misc data'!$A$4","v":{"v":3,"d":"00000003"}},{"$f":"'Misc data'!$B$4","v":"Student"},{"$f":"'Misc data'!$C$4","v":"Three"},0,0,0,0,0,0,0,0,0,0,0,0,1,{"$f":"SUM(D9:O9)*P9","v":0},{"$f":"(Q9/C2)","v":{"v":0,"d":"0%"}}]
[{"$f":"'Misc data'!$A$5","v":{"v":4,"d":"00000004"}},{"$f":"'Misc data'!$B$5","v":"Student"},{"$f":"'Misc data'!$C$5","v":"Four"},0,0,0,0,0,0,0,0,0,0,0,0,1,{"$f":"SUM(D10:O10)*P10","v":0},{"$f":"(Q10/C2)","v":{"v":0,"d":"0%"}}]
[{"$f":"'Misc data'!$A$6","v":{"v":5,"d":"00000005"}},{"$f":"'Misc data'!$B$6","v":"Student"},{"$f":"'Misc data'!$C$6","v":"Five"},0,0,0,0,0,0,0,0,0,0,0,0,1,{"$f":"SUM(D11:O11)*P11","v":0},{"$f":"(Q11/C2)","v":{"v":0,"d":"0%"}}]
[{"$f":"'Misc data'!$A$7","v":{"v":6,"d":"00000006"}},{"$f":"'Misc data'!$B$7","v":"Student"},{"$f":"'Misc data'!$C$7","v":"Six"},0,0,0,0,0,0,0,0,0,0,0,0,1,{"$f":"SUM(D12:O12)*P12","v":0},{"$f":"(Q12/C2)","v":{"v":0,"d":"0%"}}]
[{"$f":"'Misc data'!$A$8","v":{"v":7,"d":"00000007"}},{"$f":"'Misc data'!$B$8","v":"Student"},{"$f":"'Misc data'!$C$8","v":"Seven"},0,0,0,0,0,0,0,0,0,0,0,0,1,{"$f":"SUM(D13:O13)*P13","v":0},{"$f":"(Q13/C2)","v":{"v":0,"d":"0%"}}]
[{"$f":"'Misc data'!$A$9","v":{"v":8,"d":"00000008"}},{"$f":"'Misc data'!$B$9","v":"Student"},{"$f":"'Misc data'!$C$9","v":"Eight"},0,0,0,0,0,0,0,0,0,0,0,0,1,{"$f":"SUM(D14:O14)*P14","v":0},{"$f":"(Q14/C2)","v":{"v":0,"d":"0%"}}]
[{"$f":"'Misc data'!$A$10","v":{"v":9,"d":"00000009"}},{"$f":"'Misc data'!$B$10","v":"Student "},{"$f":"'Misc data'!$C$10","v":"Nine"},0,0,0,0,0,0,0,0,0,0,0,0,1,{"$f":"SUM(D15:O15)*P15","v":0},{"$f":"(Q15/C2)","v":{"v":0,"d":"0%"}}]
[{"$f":"'Misc data'!$A$11","v":{"v":10,"d":"00000010"}},{"$f":"'Misc data'!$B$11","v":"Student"},{"$f":"'Misc data'!$C$11","v":"Ten"},0,0,0,0,0,0,0,0,0,0,0,0,1,{"$f":"SUM(D16:O16)*P16","v":0},{"$f":"(Q16/C2)","v":{"v":0,"d":"0%"}}]
[{"$f":"'Misc data'!$A$12","v":{"v":11,"d":"00000011"}},{"$f":"'Misc data'!$B$12","v":"Student"},{"$f":"'Misc data'!$C$12","v":"Eleven"},0,0,0,0,0,0,0,0,0,0,0,0,1,{"$f":"SUM(D17:O17)*P17","v":0},{"$f":"(Q17/C2)","v":{"v":0,"d":"0%"}}]
[{"$f":"'Misc data'!$A$13","v":{"v":12,"d":"00000012"}},{"$f":"'Misc data'!$B$13","v":"Student"},{"$f":"'Misc data'!$C$13","v":"Twelve"},0,0,0,0,0,0,0,0,0,0,0,0,1,{"$f":"SUM(D18:O18)*P18","v":0},{"$f":"(Q18/C2)","v":{"v":0,"d":"0%"}}]
[{"$f":"'Misc data'!$A$14","v":{"v":13,"d":"00000013"}},{"$f":"'Misc data'!$B$14","v":"Student"},{"$f":"'Misc data'!$C$14","v":"Thirteen"},0,0,0,0,0,0,0,0,0,0,0,0,1,{"$f":"SUM(D19:O19)*P19","v":0},{"$f":"(Q19/C2)","v":{"v":0,"d":"0%"}}]
[{"$f":"'Misc data'!$A$15","v":{"v":14,"d":"00000014"}},{"$f":"'Misc data'!$B$15","v":"Student"},{"$f":"'Misc data'!$C$15","v":"Fourteen"},0,0,0,0,0,0,0,0,0,0,0,0,1,{"$f":"SUM(D20:O20)*P20","v":0},{"$f":"(Q20/C2)","v":{"v":0,"d":"0%"}}]
[{"$f":"'Misc data'!$A$16","v":{"v":15,"d":"00000015"}},{"$f":"'Misc data'!$B$16","v":"Student"},{"$f":"'Misc data'!$C$16","v":"Fifteen"},0,0,0,0,0,0,0,0,0,0,0,0,1,{"$f":"SUM(D21:O21)*P21","v":0},{"$f":"(Q21/C2)","v":{"v":0,"d":"0%"}}]
[{"$f":"'Misc data'!$A$17","v":{"v":16,"d":"00000016"}},{"$f":"'Misc data'!$B$17","v":"Student"},{"$f":"'Misc data'!$C$17","v":"Sixteen"},0,0,0,0,0,0,0,0,0,0,0,0,1,{"$f":"SUM(D22:O22)*P22","v":0},{"$f":"(Q22/C2)","v":{"v":0,"d":"0%"}}]
[{"$f":"'Misc data'!$A$18","v":{"v":17,"d":"00000017"}},{"$f":"'Misc data'!$B$18","v":"Student"},{"$f":"'Misc data'!$C$18","v":"Seventeen"},0,0,0,0,0,0,0,0,0,0,0,0,1,{"$f":"SUM(D23:O23)*P23","v":0},{"$f":"(Q23/C2)","v":{"v":0,"d":"0%"}}]
[{"$f":"'Misc data'!$A$19","v":{"v":18,"d":"00000018"}},{"$f":"'Misc data'!$B$19","v":"Student"},{"$f":"'Misc data'!$C$19","v":"Eighteen"},0,0,0,0,0,0,0,0,0,0,0,0,1,{"$f":"SUM(D24:O24)*P24","v":0},{"$f":"(Q24/C2)","v":{"v":0,"d":"0%"}}]
[{"$f":"'Misc data'!$A$20","v":{"v":19,"d":"00000019"}},{"$f":"'Misc data'!$B$20","v":"Student"},{"$f":"'Misc data'!$C$20","v":"Nineteen"},0,0,0,0,0,0,0,0,0,0,0,0,1,{"$f":"SUM(D25:O25)*P25","v":0},{"$f":"(Q25/C2)","v":{"v":0,"d":"0%"}}]
[{"$f":"'Misc data'!$A$21","v":{"v":20,"d":"00000020"}},{"$f":"'Misc data'!$B$21","v":"Student"},{"$f":"'Misc data'!$C$21","v":"Twenty"},0,0,0,0,0,0,0,0,0,0,0,0,1,{"$f":"SUM(D26:O26)*P26","v":0},{"$f":"(Q26/C2)","v":{"v":0,"d":"0%"}}]
[{"$f":"'Misc data'!$A$22","v":{"v":21,"d":"00000021"}},{"$f":"'Misc data'!$B$22","v":"Student"},{"$f":"'Misc data'!$C$22","v":"Twenty one"},0,0,0,0,0,0,0,0,0,0,0,0,1,{"$f":"SUM(D27:O27)*P27","v":0},{"$f":"(Q27/C2)","v":{"v":0,"d":"0%"}}]
[{"$f":"'Misc data'!$A$23","v":{"v":22,"d":"00000022"}},{"$f":"'Misc data'!$B$23","v":"Student"},{"$f":"'Misc data'!$C$23","v":"Twenty two"},0,0,0,0,0,0,0,0,0,0,0,0,1,{"$f":"SUM(D28:O28)*P28","v":0},{"$f":"(Q28/C2)","v":{"v":0,"d":"0%"}}]
[{"$f":"'Misc data'!$A$24","v":{"v":23,"d":"00000023"}},{"$f":"'Misc data'!$B$24","v":"Student"},{"$f":"'Misc data'!$C$24","v":"Twenty three"},0,0,0,0,0,0,0,0,0,0,0,0,1,{"$f":"SUM(D29:O29)*P29","v":0},{"$f":"(Q29/C2)","v":{"v":0,"d":"0%"}}]
[{"$f":"'Misc data'!$A$25","v":{"v":24,"d":"00000024"}},{"$f":"'Misc data'!$B$25","v":"Student"},{"$f":"'Misc data'!$C$25","v":"Twenty four"},0,0,0,0,0,0,0,0,0,0,0,0,1,{"$f":"SUM(D30:O30)*P30","v":0},{"$f":"(Q30/C2)","v":{"v":0,"d":"0%"}}]
[{"$f":"'Misc data'!$A$26","v":{"v":25,"d":"00000025"}},{"$f":"'Misc data'!$B$26","v":"Student"},{"$f":"'Misc data'!$C$26","v":"Twenty five"},0,0,0,0,0,0,0,0,0,0,0,0,1,{"$f":"SUM(D31:O31)*P31","v":0},{"$f":"(Q31/C2)","v":{"v":0,"d":"0%"}}]

{"sheet":"Course 4 Class","index":10,"n_rows":30,"n_cols":19,"rows_kept":30,"merged":[[0,0,0,2],[1,1,1,2],[2,0,2,1],[2,10,2,18],[3,0,3,1],[3,10,3,11],[3,12,3,14],[3,15,3,16]]}
[{"$f":"'Misc data'!$H$8","v":"Course 4 Alignment. Class."},{"$nulls":7},25]
[" ","Date assignment is due  ",null,"TBD","TBD","TBD","TBD","TBD","TBD","TBD"]
["Class Room Points:",null,{"$f":"SUM(D3:J3)","v":235},25,25,20,40,50," ",75,"Evaluation"]
["Red is late turn-in",null,"Blue is absent","CH 16","CH 16","Align","In class","In class","Extra","Final","Class",null,"Professionalism",null,null,"Lab",null,"Total  ","Letter"]
["I D ","First:","Last:","HW","Test","HW","Project1","Project2","Credit","Test","Points","%","Attendance","Points","%","Points","%","%","Grade"]
[{"$f":"'Misc data'!$A$2","v":{"v":1,"d":"00000001"}},{"$f":"'Misc data'!$B$2","v":"Student"},{"$f":"'Misc data'!$C$2","v":"One"},0,0,0,0,0,0,0,{"$f":"SUM(D6:J6)","v":0},{"$f":"(K6/C3)","v":{"v":0,"d":"0%"}},{"$f":"Attendance!$E$3","v":{"v":1,"d":"100%"}},{"$f":"Professionalism!$E$2","v":{"v":72,"d":"72.0"}},{"$f":"Professionalism!$F$2","v":{"v":1,"d":"100%"}},{"$f":"'Course 4 Lab'!$H$7","v":0},{"$f":"'Course 4 Lab'!$I$7","v":{"v":0,"d":"0%"}},{"$f":"(0.5*L6)+(0.25*O6)+(0.25*Q6)","v":{"v":0.25,"d":"25.0%"}},{"$f":"IF(R6>0.95,\"A\",IF(R6>0.93,\"A-\",IF(R6>0.9,\"B+\",IF(R6>0.88,\"B\",IF(R6>0.85,\"B-\",IF(R6>0.82,\"C+\",IF(R6>0.79,\"C\",IF(R6>0.76,\"C-\",IF(R6>0.74,\"D+\",IF(R6>0.72,\"D\",IF(R6>0.7,\"D-\",IF(R6<0.7,\"F\"))))))))))))","v":"F"}]
[{"$f":"'Misc data'!$A$3","v":{"v":2,"d":"00000002"}},{"$f":"'Misc data'!$B$3","v":"Student"},{"$f":"'Misc data'!$C$3","v":"Two"},0,0,0,0,0,0,0,{"$f":"SUM(D7:J7)","v":0},{"$f":"(K7/C3)","v":{"v":0,"d":"0%"}},{"$f":"Attendance!$E$4","v":{"v":0.928571428571429,"d":"93%"}},{"$f":"Professionalism!$E$3","v":{"v":71.5714285714286,"d":"71.6"}},{"$f":"Professionalism!$F$3","v":{"v":0.994047619047619,"d":"99%"}},{"$f":"'Course 4 Lab'!$H$8","v":0},{"$f":"'Course 4 Lab'!$I$8","v":{"v":0,"d":"0%"}},{"$f":"(0.5*L7)+(0.25*O7)+(0.25*Q7)","v":{"v":0.248511904761905,"d":"24.9%"}},{"$f":"IF(R7>0.95,\"A\",IF(R7>0.93,\"A-\",IF(R7>0.9,\"B+\",IF(R7>0.88,\"B\",IF(R7>0.85,\"B-\",IF(R7>0.82,\"C+\",IF(R7>0.79,\"C\",IF(R7>0.76,\"C-\",IF(R7>0.74,\"D+\",IF(R7>0.72,\"D\",IF(R7>0.7,\"D-\",IF(R7<0.7,\"F\"))))))))))))","v":"F"}]
[{"$f":"'Misc data'!$A$4","v":{"v":3,"d":"00000003"}},{"$f":"'Misc data'!$B$4","v":"Student"},{"$f":"'Misc data'!$C$4","v":"Three"},0,0,0,0,0,0,0,{"$f":"SUM(D8:J8)","v":0},{"$f":"(K8/C3)","v":{"v":0,"d":"0%"}},{"$f":"Attendance!$E$5","v":{"v":1,"d":"100%"}},{"$f":"Professionalism!$E$4","v":{"v":72,"d":"72.0"}},{"$f":"Professionalism!$F$4","v":{"v":1,"d":"100%"}},{"$f":"'Course 4 Lab'!$H$9","v":0},{"$f":"'Course 4 Lab'!$I$9","v":{"v":0,"d":"0%"}},{"$f":"(0.5*L8)+(0.25*O8)+(0.25*Q8)","v":{"v":0.25,"d":"25.0%"}},{"$f":"IF(R8>0.95,\"A\",IF(R8>0.93,\"A-\",IF(R8>0.9,\"B+\",IF(R8>0.88,\"B\",IF(R8>0.85,\"B-\",IF(R8>0.82,\"C+\",IF(R8>0.79,\"C\",IF(R8>0.76,\"C-\",IF(R8>0.74,\"D+\",IF(R8>0.72,\"D\",IF(R8>0.7,\"D-\",IF(R8<0.7,\"F\"))))))))))))","v":"F"}]
[{"$f":"'Misc data'!$A$5","v":{"v":4,"d":"00000004"}},{"$f":"'Misc data'!$B$5","v":"Student"},{"$f":"'Misc data'!$C$5","v":"Four"},0,0,0,0,0,0,0,{"$f":"SUM(D9:J9)","v":0},{"$f":"(K9/C3)","v":{"v":0,"d":"0%"}},{"$f":"Attendance!$E$6","v":{"v":1,"d":"100%"}},{"$f":"Professionalism!$E$5","v":{"v":72,"d":"72.0"}},{"$f":"Professionalism!$F$5","v":{"v":1,"d":"100%"}},{"$f":"'Course 4 Lab'!$H$10","v":0},{"$f":"'Course 4 Lab'!$I$10","v":{"v":0,"d":"0%"}},{"$f":"(0.5*L9)+(0.25*O9)+(0.25*Q9)","v":{"v":0.25,"d":"25.0%"}},{"$f":"IF(R9>0.95,\"A\",IF(R9>0.93,\"A-\",IF(R9>0.9,\"B+\",IF(R9>0.88,\"B\",IF(R9>0.85,\"B-\",IF(R9>0.82,\"C+\",IF(R9>0.79,\"C\",IF(R9>0.76,\"C-\",IF(R9>0.74,\"D+\",IF(R9>0.72,\"D\",IF(R9>0.7,\"D-\",IF(R9<0.7,\"F\"))))))))))))","v":"F"}]
[{"$f":"'Misc data'!$A$6","v":{"v":5,"d":"00000005"}},{"$f":"'Misc data'!$B$6","v":"Student"},{"$f":"'Misc data'!$C$6","v":"Five"},0,0,0,0,0,0,0,{"$f":"SUM(D10:J10)","v":0},{"$f":"(K10/C3)","v":{"v":0,"d":"0%"}},{"$f":"Attendance!$E$7","v":{"v":1,"d":"100%"}},{"$f":"Professionalism!$E$6","v":{"v":72,"d":"72.0"}},{"$f":"Professionalism!$F$6","v":{"v":1,"d":"100%"}},{"$f":"'Course 4 Lab'!$H$11","v":0},{"$f":"'Course 4 Lab'!$I$11","v":{"v":0,"d":"0%"}},{"$f":"(0.5*L10)+(0.25*O10)+(0.25*Q10)","v":{"v":0.25,"d":"25.0%"}},{"$f":"IF(R10>0.95,\"A\",IF(R10>0.93,\"A-\",IF(R10>0.9,\"B+\",IF(R10>0.88,\"B\",IF(R10>0.85,\"B-\",IF(R10>0.82,\"C+\",IF(R10>0.79,\"C\",IF(R10>0.76,\"C-\",IF(R10>0.74,\"D+\",IF(R10>0.72,\"D\",IF(R10>0.7,\"D-\",IF(R10<0.7,\"F\"))))))))))))","v":"F"}]
[{"$f":"'Misc data'!$A$7","v":{"v":6,"d":"00000006"}},{"$f":"'Misc data'!$B$7","v":"Student"},{"$f":"'Misc data'!$C$7","v":"Six"},0,0,0,0,0,0,0,{"$f":"SUM(D11:J11)","v":0},{"$f":"(K11/C3)","v":{"v":0,"d":"0%"}},{"$f":"Attendance!$E$8","v":{"v":1,"d":"100%"}},{"$f":"Professionalism!$E$7","v":{"v":72,"d":"72.0"}},{"$f":"Professionalism!$F$7","v":{"v":1,"d":"100%"}},{"$f":"'Course 4 Lab'!$H$12","v":0},{"$f":"'Course 4 Lab'!$I$12","v":{"v":0,"d":"0%"}},{"$f":"(0.5*L11)+(0.25*O11)+(0.25*Q11)","v":{"v":0.25,"d":"25.0%"}},{"$f":"IF(R11>0.95,\"A\",IF(R11>0.93,\"A-\",IF(R11>0.9,\"B+\",IF(R11>0.88,\"B\",IF(R11>0.85,\"B-\",IF(R11>0.82,\"C+\",IF(R11>0.79,\"C\",IF(R11>0.76,\"C-\",IF(R11>0.74,\"D+\",IF(R11>0.72,\"D\",IF(R11>0.7,\"D-\",IF(R11<0.7,\"F\"))))))))))))","v":"F"}]
[{"$f":"'Misc data'!$A$8","v":{"v":7,"d":"00000007"}},{"$f":"'Misc data'!$B$8","v":"Student"},{"$f":"'Misc data'!$C$8","v":"Seven"},0,0,0,0,0,0,0,{"$f":"SUM(D12:J12)","v":0},{"$f":"(K12/C3)","v":{"v":0,"d":"0%"}},{"$f":"Attendance!$E$9","v":{"v":1,"d":"100%"}},{"$f":"Professionalism!$E$8","v":{"v":72,"d":"72.0"}},{"$f":"Professionalism!$F$8","v":{"v":1,"d":"100%"}},{"$f":"'Course 4 Lab'!$H$13","v":0},{"$f":"'Course 4 Lab'!$I$13","v":{"v":0,"d":"0%"}},{"$f":"(0.5*L12)+(0.25*O12)+(0.25*Q12)","v":{"v":0.25,"d":"25.0%"}},{"$f":"IF(R12>0.95,\"A\",IF(R12>0.93,\"A-\",IF(R12>0.9,\"B+\",IF(R12>0.88,\"B\",IF(R12>0.85,\"B-\",IF(R12>0.82,\"C+\",IF(R12>0.79,\"C\",IF(R12>0.76,\"C-\",IF(R12>0.74,\"D+\",IF(R12>0.72,\"D\",IF(R12>0.7,\"D-\",IF(R12<0.7,\"F\"))))))))))))","v":"F"}]
[{"$f":"'Misc data'!$A$9","v":{"v":8,"d":"00000008"}},{"$f":"'Misc data'!$B$9","v":"Student"},{"$f":"'Misc data'!$C$9","v":"Eight"},0,0,0,0,0,0,0,{"$f":"SUM(D13:J13)","v":0},{"$f":"(K13/C3)","v":{"v":0,"d":"0%"}},{"$f":"Attendance!$E$10","v":{"v":1,"d":"100%"}},{"$f":"Professionalism!$E$9","v":{"v":72,"d":"72.0"}},{"$f":"Professionalism!$F$9","v":{"v":1,"d":"100%"}},{"$f":"'Course 4 Lab'!$H$14","v":0},{"$f":"'Course 4 Lab'!$I$14","v":{"v":0,"d":"0%"}},{"$f":"(0.5*L13)+(0.25*O13)+(0.25*Q13)","v":{"v":0.25,"d":"25.0%"}},{"$f":"IF(R13>0.95,\"A\",IF(R13>0.93,\"A-\",IF(R13>0.9,\"B+\",IF(R13>0.88,\"B\",IF(R13>0.85,\"B-\",IF(R13>0.82,\"C+\",IF(R13>0.79,\"C\",IF(R13>0.76,\"C-\",IF(R13>0.74,\"D+\",IF(R13>0.72,\"D\",IF(R13>0.7,\"D-\",IF(R13<0.7,\"F\"))))))))))))","v":"F"}]
[{"$f":"'Misc data'!$A$10","v":{"v":9,"d":"00000009"}},{"$f":"'Misc data'!$B$10","v":"Student "},{"$f":"'Misc data'!$C$10","v":"Nine"},0,0,0,0,0,0,0,{"$f":"SUM(D14:J14)","v":0},{"$f":"(K14/C3)","v":{"v":0,"d":"0%"}},{"$f":"Attendance!$E$11","v":{"v":1,"d":"100%"}},{"$f":"Professionalism!$E$10","v":{"v":72,"d":"72.0"}},{"$f":"Professionalism!$F$10","v":{"v":1,"d":"100%"}},{"$f":"'Course 4 Lab'!$H$15","v":0},{"$f":"'Course 4 Lab'!$I$15","v":{"v":0,"d":"0%"}},{"$f":"(0.5*L14)+(0.25*O14)+(0.25*Q14)","v":{"v":0.25,"d":"25.0%"}},{"$f":"IF(R14>0.95,\"A\",IF(R14>0.93,\"A-\",IF(R14>0.9,\"B+\",IF(R14>0.88,\"B\",IF(R14>0.85,\"B-\",IF(R14>0.82,\"C+\",IF(R14>0.79,\"C\",IF(R14>0.76,\"C-\",IF(R14>0.74,\"D+\",IF(R14>0.72,\"D\",IF(R14>0.7,\"D-\",IF(R14<0.7,\"F\"))))))))))))","v":"F"}]
[{"$f":"'Misc data'!$A$11","v":{"v":10,"d":"00000010"}},{"$f":"'Misc data'!$B$11","v":"Student"},{"$f":"'Misc data'!$C$11","v":"Ten"},0,0,0,0,0,0,0,{"$f":"SUM(D15:J15)","v":0},{"$f":"(K15/C3)","v":{"v":0,"d":"0%"}},{"$f":"Attendance!$E$12","v":{"v":1,"d":"100%"}},{"$f":"Professionalism!$E$11","v":{"v":72,"d":"72.0"}},{"$f":"Professionalism!$F$11","v":{"v":1,"d":"100%"}},{"$f":"'Course 4 Lab'!$H$16","v":0},{"$f":"'Course 4 Lab'!$I$16","v":{"v":0,"d":"0%"}},{"$f":"(0.5*L15)+(0.25*O15)+(0.25*Q15)","v":{"v":0.25,"d":"25.0%"}},{"$f":"IF(R15>0.95,\"A\",IF(R15>0.93,\"A-\",IF(R15>0.9,\"B+\",IF(R15>0.88,\"B\",IF(R15>0.85,\"B-\",IF(R15>0.82,\"C+\",IF(R15>0.79,\"C\",IF(R15>0.76,\"C-\",IF(R15>0.74,\"D+\",IF(R15>0.72,\"D\",IF(R15>0.7,\"D-\",IF(R15<0.7,\"F\"))))))))))))","v":"F"}]
[{"$f":"'Misc data'!$A$12","v":{"v":11,"d":"00000011"}},{"$f":"'Misc data'!$B$12","v":"Student"},{"$f":"'Misc data'!$C$12","v":"Eleven"},0,0,0,0,0,0,0,{"$f":"SUM(D16:J16)","v":0},{"$f":"(K16/C3)","v":{"v":0,"d":"0%"}},{"$f":"Attendance!$E$13","v":{"v":1,"d":"100%"}},{"$f":"Professionalism!$E$12","v":{"v":72,"d":"72.0"}},{"$f":"Professionalism!$F$12","v":{"v":1,"d":"100%"}},{"$f":"'Course 4 Lab'!$H$17","v":0},{"$f":"'Course 4 Lab'!$I$17","v":{"v":0,"d":"0%"}},{"$f":"(0.5*L16)+(0.25*O16)+(0.25*Q16)","v":{"v":0.25,"d":"25.0%"}},{"$f":"IF(R16>0.95,\"A\",IF(R16>0.93,\"A-\",IF(R16>0.9,\"B+\",IF(R16>0.88,\"B\",IF(R16>0.85,\"B-\",IF(R16>0.82,\"C+\",IF(R16>0.79,\"C\",IF(R16>0.76,\"C-\",IF(R16>0.74,\"D+\",IF(R16>0.72,\"D\",IF(R16>0.7,\"D-\",IF(R16<0.7,\"F\"))))))))))))","v":"F"}]
[{"$f":"'Misc data'!$A$13","v":{"v":12,"d":"00000012"}},{"$f":"'Misc data'!$B$13","v":"Student"},{"$f":"'Misc data'!$C$13","v":"Twelve"},0,0,0,0,0,0,0,{"$f":"SUM(D17:J17)","v":0},{"$f":"(K17/C3)","v":{"v":0,"d":"0%"}},{"$f":"Attendance!$E$14","v":{"v":0.928571428571429,"d":"93%"}},{"$f":"Professionalism!$E$13","v":{"v":71.5714285714286,"d":"71.6"}},{"$f":"Professionalism!$F$13","v":{"v":0.994047619047619,"d":"99%"}},{"$f":"'Course 4 Lab'!$H$18","v":0},{"$f":"'Course 4 Lab'!$I$18","v":{"v":0,"d":"0%"}},{"$f":"(0.5*L17)+(0.25*O17)+(0.25*Q17)","v":{"v":0.248511904761905,"d":"24.9%"}},{"$f":"IF(R17>0.95,\"A\",IF(R17>0.93,\"A-\",IF(R17>0.9,\"B+\",IF(R17>0.88,\"B\",IF(R17>0.85,\"B-\",IF(R17>0.82,\"C+\",IF(R17>0.79,\"C\",IF(R17>0.76,\"C-\",IF(R17>0.74,\"D+\",IF(R17>0.72,\"D\",IF(R17>0.7,\"D-\",IF(R17<0.7,\"F\"))))))))))))","v":"F"}]
[{"$f":"'Misc data'!$A$14","v":{"v":13,"d":"00000013"}},{"$f":"'Misc data'!$B$14","v":"Student"},{"$f":"'Misc data'!$C$14","v":"Thirteen"},0,0,0,0,0,0,0,{"$f":"SUM(D18:J18)","v":0},{"$f":"(K18/C3)","v":{"v":0,"d":"0%"}},{"$f":"Attendance!$E$15","v":{"v":1,"d":"100%"}},{"$f":"Professionalism!$E$14","v":{"v":72,"d":"72.0"}},{"$f":"Professionalism!$F$14","v":{"v":1,"d":"100%"}},{"$f":"'Course 4 Lab'!$H$19","v":0},{"$f":"'Course 4 Lab'!$I$19","v":{"v":0,"d":"0%"}},{"$f":"(0.5*L18)+(0.25*O18)+(0.25*Q18)","v":{"v":0.25,"d":"25.0%"}},{"$f":"IF(R18>0.95,\"A\",IF(R18>0.93,\"A-\",IF(R18>0.9,\"B+\",IF(R18>0.88,\"B\",IF(R18>0.85,\"B-\",IF(R18>0.82,\"C+\",IF(R18>0.79,\"C\",IF(R18>0.76,\"C-\",IF(R18>0.74,\"D+\",IF(R18>0.72,\"D\",IF(R18>0.7,\"D-\",IF(R18<0.7,\"F\"))))))))))))","v":"F"}]
[{"$f":"'Misc data'!$A$15","v":{"v":14,"d":"00000014"}},{"$f":"'Misc data'!$B$15","v":"Student"},{"$f":"'Misc data'!$C$15","v":"Fourteen"},0,0,0,0,0,0,0,{"$f":"SUM(D19:J19)","v":0},{"$f":"(K19/C3)","v":{"v":0,"d":"0%"}},{"$f":"Attendance!$E$16","v":{"v":1,"d":"100%"}},{"$f":"Professionalism!$E$15","v":{"v":72,"d":"72.0"}},{"$f":"Professionalism!$F$15","v":{"v":1,"d":"100%"}},{"$f":"'Course 4 Lab'!$H$20","v":0},{"$f":"'Course 4 Lab'!$I$20","v":{"v":0,"d":"0%"}},{"$f":"(0.5*L19)+(0.25*O19)+(0.25*Q19)","v":{"v":0.25,"d":"25.0%"}},{"$f":"IF(R19>0.95,\"A\",IF(R19>0.93,\"A-\",IF(R19>0.9,\"B+\",IF(R19>0.88,\"B\",IF(R19>0.85,\"B-\",IF(R19>0.82,\"C+\",IF(R19>0.79,\"C\",IF(R19>0.76,\"C-\",IF(R19>0.74,\"D+\",IF(R19>0.72,\"D\",IF(R19>0.7,\"D-\",IF(R19<0.7,\"F\"))))))))))))","v":"F"}]
[{"$f":"'Misc data'!$A$16","v":{"v":15,"d":"00000015"}},{"$f":"'Misc data'!$B$16","v":"Student"},{"$f":"'Misc data'!$C$16","v":"Fifteen"},0,0,0,0,0,0,0,{"$f":"SUM(D20:J20)","v":0},{"$f":"(K20/C3)","v":{"v":0,"d":"0%"}},{"$f":"Attendance!$E$17","v":{"v":1,"d":"100%"}},{"$f":"Professionalism!$E$16","v":{"v":72,"d":"72.0"}},{"$f":"Professionalism!$F$16","v":{"v":1,"d":"100%"}},{"$f":"'Course 4 Lab'!$H$21","v":0},{"$f":"'Course 4 Lab'!$I$21","v":{"v":0,"d":"0%"}},{"$f":"(0.5*L20)+(0.25*O20)+(0.25*Q20)","v":{"v":0.25,"d":"25.0%"}},{"$f":"IF(R20>0.95,\"A\",IF(R20>0.93,\"A-\",IF(R20>0.9,\"B+\",IF(R20>0.88,\"B\",IF(R20>0.85,\"B-\",IF(R20>0.82,\"C+\",IF(R20>0.79,\"C\",IF(R20>0.76,\"C-\",IF(R20>0.74,\"D+\",IF(R20>0.72,\"D\",IF(R20>0.7,\"D-\",IF(R20<0.7,\"F\"))))))))))))","v":"F"}]
[{"$f":"'Misc data'!$A$17","v":{"v":16,"d":"00000016"}},{"$f":"'Misc data'!$B$17","v":"Student"},{"$f":"'Misc data'!$C$17","v":"Sixteen"},0,0,0,0,0,0,0,{"$f":"SUM(D21:J21)","v":0},{"$f":"(K21/C3)","v":{"v":0,"d":"0%"}},{"$f":"Attendance!$E$18","v":{"v":1,"d":"100%"}},{"$f":"Professionalism!$E$17","v":{"v":72,"d":"72.0"}},{"$f":"Professionalism!$F$17","v":{"v":1,"d":"100%"}},{"$f":"'Course 4 Lab'!$H$22","v":0},{"$f":"'Course 4 Lab'!$I$22","v":{"v":0,"d":"0%"}},{"$f":"(0.5*L21)+(0.25*O21)+(0.25*Q21)","v":{"v":0.25,"d":"25.0%"}},{"$f":"IF(R21>0.95,\"A\",IF(R21>0.93,\"A-\",IF(R21>0.9,\"B+\",IF(R21>0.88,\"B\",IF(R21>0.85,\"B-\",IF(R21>0.82,\"C+\",IF(R21>0.79,\"C\",IF(R21>0.76,\"C-\",IF(R21>0.74,\"D+\",IF(R21>0.72,\"D\",IF(R21>0.7,\"D-\",IF(R21<0.7,\"F\"))))))))))))","v":"F"}]
[{"$f":"'Misc data'!$A$18","v":{"v":17,"d":"00000017"}},{"$f":"'Misc data'!$B$18","v":"Student"},{"$f":"'Misc data'!$C$18","v":"Seventeen"},0,0,0,0,0,0,0,{"$f":"SUM(D22:J22)","v":0},{"$f":"(K22/C3)","v":{"v":0,"d":"0%"}},{"$f":"Attendance!$E$19","v":{"v":1,"d":"100%"}},{"$f":"Professionalism!$E$18","v":{"v":72,"d":"72.0"}},{"$f":"Professionalism!$F$18","v":{"v":1,"d":"100%"}},{"$f":"'Course 4 Lab'!$H$23","v":0},{"$f":"'Course 4 Lab'!$I$23","v":{"v":0,"d":"0%"}},{"$f":"(0.5*L22)+(0.25*O22)+(0.25*Q22)","v":{"v":0.25,"d":"25.0%"}},{"$f":"IF(R22>0.95,\"A\",IF(R22>0.93,\"A-\",IF(R22>0.9,\"B+\",IF(R22>0.88,\"B\",IF(R22>0.85,\"B-\",IF(R22>0.82,\"C+\",IF(R22>0.79,\"C\",IF(R22>0.76,\"C-\",IF(R22>0.74,\"D+\",IF(R22>0.72,\"D\",IF(R22>0.7,\"D-\",IF(R22<0.7,\"F\"))))))))))))","v":"F"}]
[{"$f":"'Misc data'!$A$19","v":{"v":18,"d":"00000018"}},{"$f":"'Misc data'!$B$19","v":"Student"},{"$f":"'Misc data'!$C$19","v":"Eighteen"},0,0,0,0,0,0,0,{"$f":"SUM(D23:J23)","v":0},{"$f":"(K23/C3)","v":{"v":0,"d":"0%"}},{"$f":"Attendance!$E$20","v":{"v":1,"d":"100%"}},{"$f":"Professionalism!$E$19","v":{"v":72,"d":"72.0"}},{"$f":"Professionalism!$F$19","v":{"v":1,"d":"100%"}},{"$f":"'Course 4 Lab'!$H$24","v":0},{"$f":"'Course 4 Lab'!$I$24","v":{"v":0,"d":"0%"}},{"$f":"(0.5*L23)+(0.25*O23)+(0.25*Q23)","v":{"v":0.25,"d":"25.0%"}},{"$f":"IF(R23>0.95,\"A\",IF(R23>0.93,\"A-\",IF(R23>0.9,\"B+\",IF(R23>0.88,\"B\",IF(R23>0.85,\"B-\",IF(R23>0.82,\"C+\",IF(R23>0.79,\"C\",IF(R23>0.76,\"C-\",IF(R23>0.74,\"D+\",IF(R23>0.72,\"D\",IF(R23>0.7,\"D-\",IF(R23<0.7,\"F\"))))))))))))","v":"F"}]
[{"$f":"'Misc data'!$A$20","v":{"v":19,"d":"00000019"}},{"$f":"'Misc data'!$B$20","v":"Student"},{"$f":"'Misc data'!$C$20","v":"Nineteen"},0,0,0,0,0,0,0,{"$f":"SUM(D24:J24)","v":0},{"$f":"(K24/C3)","v":{"v":0,"d":"0%"}},{"$f":"Attendance!$E$21","v":{"v":1,"d":"100%"}},{"$f":"Professionalism!$E$20","v":{"v":72,"d":"72.0"}},{"$f":"Professionalism!$F$20","v":{"v":1,"d":"100%"}},{"$f":"'Course 4 Lab'!$H$25","v":0},{"$f":"'Course 4 Lab'!$I$25","v":{"v":0,"d":"0%"}},{"$f":"(0.5*L24)+(0.25*O24)+(0.25*Q24)","v":{"v":0.25,"d":"25.0%"}},{"$f":"IF(R24>0.95,\"A\",IF(R24>0.93,\"A-\",IF(R24>0.9,\"B+\",IF(R24>0.88,\"B\",IF(R24>0.85,\"B-\",IF(R24>0.82,\"C+\",IF(R24>0.79,\"C\",IF(R24>0.76,\"C-\",IF(R24>0.74,\"D+\",IF(R24>0.72,\"D\",IF(R24>0.7,\"D-\",IF(R24<0.7,\"F\"))))))))))))","v":"F"}]
[{"$f":"'Misc data'!$A$21","v":{"v":20,"d":"00000020"}},{"$f":"'Misc data'!$B$21","v":"Student"},{"$f":"'Misc data'!$C$21","v":"Twenty"},0,0,0,0,0,0,0,{"$f":"SUM(D25:J25)","v":0},{"$f":"(K25/C3)","v":{"v":0,"d":"0%"}},{"$f":"Attendance!$E$22","v":{"v":1,"d":"100%"}},{"$f":"Professionalism!$E$21","v":{"v":72,"d":"72.0"}},{"$f":"Professionalism!$F$21","v":{"v":1,"d":"100%"}},{"$f":"'Course 4 Lab'!$H$26","v":0},{"$f":"'Course 4 Lab'!$I$26","v":{"v":0,"d":"0%"}},{"$f":"(0.5*L25)+(0.25*O25)+(0.25*Q25)","v":{"v":0.25,"d":"25.0%"}},{"$f":"IF(R25>0.95,\"A\",IF(R25>0.93,\"A-\",IF(R25>0.9,\"B+\",IF(R25>0.88,\"B\",IF(R25>0.85,\"B-\",IF(R25>0.82,\"C+\",IF(R25>0.79,\"C\",IF(R25>0.76,\"C-\",IF(R25>0.74,\"D+\",IF(R25>0.72,\"D\",IF(R25>0.7,\"D-\",IF(R25<0.7,\"F\"))))))))))))","v":"F"}]
[{"$f":"'Misc data'!$A$22","v":{"v":21,"d":"00000021"}},{"$f":"'Misc data'!$B$22","v":"Student"},{"$f":"'Misc data'!$C$22","v":"Twenty one"},0,0,0,0,0,0,0,{"$f":"SUM(D26:J26)","v":0},{"$f":"(K26/C3)","v":{"v":0,"d":"0%"}},{"$f":"Attendance!$E$23","v":{"v":1,"d":"100%"}},{"$f":"Professionalism!$E$22","v":{"v":72,"d":"72.0"}},{"$f":"Professionalism!$F$22","v":{"v":1,"d":"100%"}},{"$f":"'Course 4 Lab'!$H$27","v":0},{"$f":"'Course 4 Lab'!$I$27","v":{"v":0,"d":"0%"}},{"$f":"(0.5*L26)+(0.25*O26)+(0.25*Q26)","v":{"v":0.25,"d":"25.0%"}},{"$f":"IF(R26>0.95,\"A\",IF(R26>0.93,\"A-\",IF(R26>0.9,\"B+\",IF(R26>0.88,\"B\",IF(R26>0.85,\"B-\",IF(R26>0.82,\"C+\",IF(R26>0.79,\"C\",IF(R26>0.76,\"C-\",IF(R26>0.74,\"D+\",IF(R26>0.72,\"D\",IF(R26>0.7,\"D-\",IF(R26<0.7,\"F\"))))))))))))","v":"F"}]
[{"$f":"'Misc data'!$A$23","v":{"v":22,"d":"00000022"}},{"$f":"'Misc data'!$B$23","v":"Student"},{"$f":"'Misc data'!$C$23","v":"Twenty two"},0,0,0,0,0,0,0,{"$f":"SUM(D27:J27)","v":0},{"$f":"(K27/C3)","v":{"v":0,"d":"0%"}},{"$f":"Attendance!$E$24","v":{"v":1,"d":"100%"}},{"$f":"Professionalism!$E$23","v":{"v":72,"d":"72.0"}},{"$f":"Professionalism!$F$23","v":{"v":1,"d":"100%"}},{"$f":"'Course 4 Lab'!$H$28","v":0},{"$f":"'Course 4 Lab'!$I$28","v":{"v":0,"d":"0%"}},{"$f":"(0.5*L27)+(0.25*O27)+(0.25*Q27)","v":{"v":0.25,"d":"25.0%"}},{"$f":"IF(R27>0.95,\"A\",IF(R27>0.93,\"A-\",IF(R27>0.9,\"B+\",IF(R27>0.88,\"B\",IF(R27>0.85,\"B-\",IF(R27>0.82,\"C+\",IF(R27>0.79,\"C\",IF(R27>0.76,\"C-\",IF(R27>0.74,\"D+\",IF(R27>0.72,\"D\",IF(R27>0.7,\"D-\",IF(R27<0.7,\"F\"))))))))))))","v":"F"}]
[{"$f":"'Misc data'!$A$24","v":{"v":23,"d":"00000023"}},{"$f":"'Misc data'!$B$24","v":"Student"},{"$f":"'Misc data'!$C$24","v":"Twenty three"},0,0,0,0,0,0,0,{"$f":"SUM(D28:J28)","v":0},{"$f":"(K28/C3)","v":{"v":0,"d":"0%"}},{"$f":"Attendance!$E$25","v":{"v":1,"d":"100%"}},{"$f":"Professionalism!$E$24","v":{"v":72,"d":"72.0"}},{"$f":"Professionalism!$F$24","v":{"v":1,"d":"100%"}},{"$f":"'Course 4 Lab'!$H$29","v":0},{"$f":"'Course 4 Lab'!$I$29","v":{"v":0,"d":"0%"}},{"$f":"(0.5*L28)+(0.25*O28)+(0.25*Q28)","v":{"v":0.25,"d":"25.0%"}},{"$f":"IF(R28>0.95,\"A\",IF(R28>0.93,\"A-\",IF(R28>0.9,\"B+\",IF(R28>0.88,\"B\",IF(R28>0.85,\"B-\",IF(R28>0.82,\"C+\",IF(R28>0.79,\"C\",IF(R28>0.76,\"C-\",IF(R28>0.74,\"D+\",IF(R28>0.72,\"D\",IF(R28>0.7,\"D-\",IF(R28<0.7,\"F\"))))))))))))","v":"F"}]
[{"$f":"'Misc data'!$A$25","v":{"v":24,"d":"00000024"}},{"$f":"'Misc data'!$B$25","v":"Student"},{"$f":"'Misc data'!$C$25","v":"Twenty four"},0,0,0,0,0,0,0,{"$f":"SUM(D29:J29)","v":0},{"$f":"(K29/C3)","v":{"v":0,"d":"0%"}},{"$f":"Attendance!$E$24","v":{"v":1,"d":"100%"}},{"$f":"Professionalism!$E$23","v":{"v":72,"d":"72.0"}},{"$f":"Professionalism!$F$23","v":{"v":1,"d":"100%"}},{"$f":"'Course 4 Lab'!$H$28","v":0},{"$f":"'Course 4 Lab'!$I$28","v":{"v":0,"d":"0%"}},{"$f":"(0.5*L29)+(0.25*O29)+(0.25*Q29)","v":{"v":0.25,"d":"25.0%"}},{"$f":"IF(R29>0.95,\"A\",IF(R29>0.93,\"A-\",IF(R29>0.9,\"B+\",IF(R29>0.88,\"B\",IF(R29>0.85,\"B-\",IF(R29>0.82,\"C+\",IF(R29>0.79,\"C\",IF(R29>0.76,\"C-\",IF(R29>0.74,\"D+\",IF(R29>0.72,\"D\",IF(R29>0.7,\"D-\",IF(R29<0.7,\"F\"))))))))))))","v":"F"}]
[{"$f":"'Misc data'!$A$26","v":{"v":25,"d":"00000025"}},{"$f":"'Misc data'!$B$26","v":"Student"},{"$f":"'Misc data'!$C$26","v":"Twenty five"},0,0,0,0,0,0,0,{"$f":"SUM(D30:J30)","v":0},{"$f":"(K30/C3)","v":{"v":0,"d":"0%"}},{"$f":"Attendance!$E$25","v":{"v":1,"d":"100%"}},{"$f":"Professionalism!$E$24","v":{"v":72,"d":"72.0"}},{"$f":"Professionalism!$F$24","v":{"v":1,"d":"100%"}},{"$f":"'Course 4 Lab'!$H$29","v":0},{"$f":"'Course 4 Lab'!$I$29","v":{"v":0,"d":"0%"}},{"$f":"(0.5*L30)+(0.25*O30)+(0.25*Q30)","v":{"v":0.25,"d":"25.0%"}},{"$f":"IF(R30>0.95,\"A\",IF(R30>0.93,\"A-\",IF(R30>0.9,\"B+\",IF(R30>0.88,\"B\",IF(R30>0.85,\"B-\",IF(R30>0.82,\"C+\",IF(R30>0.79,\"C\",IF(R30>0.76,\"C-\",IF(R30>0.74,\"D+\",IF(R30>0.72,\"D\",IF(R30>0.7,\"D-\",IF(R30<0.7,\"F\"))))))))))))","v":"F"}]

{"sheet":"Course 4 Lab","index":11,"n_rows":31,"n_cols":9,"rows_kept":31,"merged":[[0,0,0,2],[1,0,1,1],[2,0,4,2],[4,7,4,8]]}
[{"$f":"'Misc data'!$H$9","v":"Course 4 Alignment. Lab"}]
["Max Shop Points:",null,{"$f":" SUM(D6:F6)","v":1300},"Alignment","Complete","Cus"," "]
["Max shop points available depend on how much customer work is done.",null,null,"Pre-check","Wheel","tomer","Comp"]
[{"$nulls":3},"100 P","Alignment","Work","etency"," "," "]
[{"$nulls":3},1,1," ","0 or 1","Lab"]
["ID","First:","Last:",100,900,300,"*","Points","%"]
[{"$f":"'Misc data'!$A$2","v":{"v":1,"d":"00000001"}},{"$f":"'Misc data'!$B$2","v":"Student"},{"$f":"'Misc data'!$C$2","v":"One"},0,0,0,1,{"$f":"SUM(D7:F7)*G7","v":0},{"$f":"(H7/C2)","v":{"v":0,"d":"0%"}}]
[{"$f":"'Misc data'!$A$3","v":{"v":2,"d":"00000002"}},{"$f":"'Misc data'!$B$3","v":"Student"},{"$f":"'Misc data'!$C$3","v":"Two"},0,0,0,1,{"$f":"SUM(D8:F8)","v":0},{"$f":"(H8/C2)","v":{"v":0,"d":"0%"}}]
[{"$f":"'Misc data'!$A$4","v":{"v":3,"d":"00000003"}},{"$f":"'Misc data'!$B$4","v":"Student"},{"$f":"'Misc data'!$C$4","v":"Three"},0,0,0,1,{"$f":"SUM(D9:F9)","v":0},{"$f":"(H9/C2)","v":{"v":0,"d":"0%"}}]
[{"$f":"'Misc data'!$A$5","v":{"v":4,"d":"00000004"}},{"$f":"'Misc data'!$B$5","v":"Student"},{"$f":"'Misc data'!$C$5","v":"Four"},0,0,0,1,{"$f":"SUM(D10:F10)","v":0},{"$f":"(H10/C2)","v":{"v":0,"d":"0%"}}]
[{"$f":"'Misc data'!$A$6","v":{"v":5,"d":"00000005"}},{"$f":"'Misc data'!$B$6","v":"Student"},{"$f":"'Misc data'!$C$6","v":"Five"},0,0,0,1,{"$f":"SUM(D11:F11)","v":0},{"$f":"(H11/C2)","v":{"v":0,"d":"0%"}}]
[{"$f":"'Misc data'!$A$7","v":{"v":6,"d":"00000006"}},{"$f":"'Misc data'!$B$7","v":"Student"},{"$f":"'Misc data'!$C$7","v":"Six"},0,0,0,1,{"$f":"SUM(D12:F12)","v":0},{"$f":"(H12/C2)","v":{"v":0,"d":"0%"}}]
[{"$f":"'Misc data'!$A$8","v":{"v":7,"d":"00000007"}},{"$f":"'Misc data'!$B$8","v":"Student"},{"$f":"'Misc data'!$C$8","v":"Seven"},0,0,0,1,{"$f":"SUM(D13:F13)","v":0},{"$f":"(H13/C2)","v":{"v":0,"d":"0%"}}]
[{"$f":"'Misc data'!$A$9","v":{"v":8,"d":"00000008"}},{"$f":"'Misc data'!$B$9","v":"Student"},{"$f":"'Misc data'!$C$9","v":"Eight"},0,0,0,1,{"$f":"SUM(D14:F14)","v":0},{"$f":"(H14/C2)","v":{"v":0,"d":"0%"}}]
[{"$f":"'Misc data'!$A$10","v":{"v":9,"d":"00000009"}},{"$f":"'Misc data'!$B$10","v":"Student "},{"$f":"'Misc data'!$C$10","v":"Nine"},0,0,0,1,{"$f":"SUM(D15:F15)","v":0},{"$f":"(H15/C2)","v":{"v":0,"d":"0%"}}]
[{"$f":"'Misc data'!$A$11","v":{"v":10,"d":"00000010"}},{"$f":"'Misc data'!$B$11","v":"Student"},{"$f":"'Misc data'!$C$11","v":"Ten"},0,0,0,1,{"$f":"SUM(D16:F16)","v":0},{"$f":"(H16/C2)","v":{"v":0,"d":"0%"}}]
[{"$f":"'Misc data'!$A$12","v":{"v":11,"d":"00000011"}},{"$f":"'Misc data'!$B$12","v":"Student"},{"$f":"'Misc data'!$C$12","v":"Eleven"},0,0,0,1,{"$f":"SUM(D17:F17)","v":0},{"$f":"(H17/C2)","v":{"v":0,"d":"0%"}}]
[{"$f":"'Misc data'!$A$13","v":{"v":12,"d":"00000012"}},{"$f":"'Misc data'!$B$13","v":"Student"},{"$f":"'Misc data'!$C$13","v":"Twelve"},0,0,0,1,{"$f":"SUM(D18:F18)","v":0},{"$f":"(H18/C2)","v":{"v":0,"d":"0%"}}]
[{"$f":"'Misc data'!$A$14","v":{"v":13,"d":"00000013"}},{"$f":"'Misc data'!$B$14","v":"Student"},{"$f":"'Misc data'!$C$14","v":"Thirteen"},0,0,0,1,{"$f":"SUM(D19:F19)","v":0},{"$f":"(H19/C2)","v":{"v":0,"d":"0%"}}]
[{"$f":"'Misc data'!$A$15","v":{"v":14,"d":"00000014"}},{"$f":"'Misc data'!$B$15","v":"Student"},{"$f":"'Misc data'!$C$15","v":"Fourteen"},0,0,0,1,{"$f":"SUM(D20:F20)","v":0},{"$f":"(H20/C2)","v":{"v":0,"d":"0%"}}]
[{"$f":"'Misc data'!$A$16","v":{"v":15,"d":"00000015"}},{"$f":"'Misc data'!$B$16","v":"Student"},{"$f":"'Misc data'!$C$16","v":"Fifteen"},0,0,0,1,{"$f":"SUM(D21:F21)","v":0},{"$f":"(H21/C2)","v":{"v":0,"d":"0%"}}]
[{"$f":"'Misc data'!$A$17","v":{"v":16,"d":"00000016"}},{"$f":"'Misc data'!$B$17","v":"Student"},{"$f":"'Misc data'!$C$17","v":"Sixteen"},0,0,0,1,{"$f":"SUM(D22:F22)","v":0},{"$f":"(H22/C2)","v":{"v":0,"d":"0%"}}]
[{"$f":"'Misc data'!$A$18","v":{"v":17,"d":"00000017"}},{"$f":"'Misc data'!$B$18","v":"Student"},{"$f":"'Misc data'!$C$18","v":"Seventeen"},0,0,0,1,{"$f":"SUM(D23:F23)","v":0},{"$f":"(H23/C2)","v":{"v":0,"d":"0%"}}]
[{"$f":"'Misc data'!$A$19","v":{"v":18,"d":"00000018"}},{"$f":"'Misc data'!$B$19","v":"Student"},{"$f":"'Misc data'!$C$19","v":"Eighteen"},0,0,0,1,{"$f":"SUM(D24:F24)","v":0},{"$f":"(H24/C2)","v":{"v":0,"d":"0%"}}]
[{"$f":"'Misc data'!$A$20","v":{"v":19,"d":"00000019"}},{"$f":"'Misc data'!$B$20","v":"Student"},{"$f":"'Misc data'!$C$20","v":"Nineteen"},0,0,0,1,{"$f":"SUM(D25:F25)","v":0},{"$f":"(H25/C2)","v":{"v":0,"d":"0%"}}]
[{"$f":"'Misc data'!$A$21","v":{"v":20,"d":"00000020"}},{"$f":"'Misc data'!$B$21","v":"Student"},{"$f":"'Misc data'!$C$21","v":"Twenty"},0,0,0,1,{"$f":"SUM(D26:F26)","v":0},{"$f":"(H26/C2)","v":{"v":0,"d":"0%"}}]
[{"$f":"'Misc data'!$A$22","v":{"v":21,"d":"00000021"}},{"$f":"'Misc data'!$B$22","v":"Student"},{"$f":"'Misc data'!$C$22","v":"Twenty one"},0,0,0,1,{"$f":"SUM(D27:F27)","v":0},{"$f":"(H27/C2)","v":{"v":0,"d":"0%"}}]
[{"$f":"'Misc data'!$A$23","v":{"v":22,"d":"00000022"}},{"$f":"'Misc data'!$B$23","v":"Student"},{"$f":"'Misc data'!$C$23","v":"Twenty two"},0,0,0,1,{"$f":"SUM(D28:F28)","v":0},{"$f":"(H28/C2)","v":{"v":0,"d":"0%"}}]
[{"$f":"'Misc data'!$A$24","v":{"v":23,"d":"00000023"}},{"$f":"'Misc data'!$B$24","v":"Student"},{"$f":"'Misc data'!$C$24","v":"Twenty three"},0,0,0,1,{"$f":"SUM(D29:F29)","v":0},{"$f":"(H29/C2)","v":{"v":0,"d":"0%"}}]
[{"$f":"'Misc data'!$A$25","v":{"v":24,"d":"00000024"}},{"$f":"'Misc data'!$B$25","v":"Student"},{"$f":"'Misc data'!$C$25","v":"Twenty four"},0,0,0,1,{"$f":"SUM(D30:F30)","v":0},{"$f":"(H30/C2)","v":{"v":0,"d":"0%"}}]
[{"$f":"'Misc data'!$A$26","v":{"v":25,"d":"00000025"}},{"$f":"'Misc data'!$B$26","v":"Student"},{"$f":"'Misc data'!$C$26","v":"Twenty five"},0,0,0,1,{"$f":"SUM(D31:F31)","v":0},{"$f":"(H31/C2)","v":{"v":0,"d":"0%"}}]

{"sheet":"Course 5 Class","index":12,"n_rows":30,"n_cols":22,"rows_kept":30,"merged":[[0,0,0,2],[1,0,1,2],[2,0,2,1],[2,13,2,21],[3,0,3,1],[3,13,3,14],[3,15,3,17],[3,18,3,19]]}
[{"$f":"'Misc data'!$H$10","v":"Course 5 Brake Systems. Class."},{"$nulls":10},35]
["Date assignment is due:",null," ","TBD","TBD","TBD","TBD","TBD","TBD","TBD","TBD","TBD","TBD"]
["Class Room Points:",null,{"$f":"SUM(D3:M3)","v":440},30,25,100,30,50,30,25,50," ",100,"Evaluation"]
["Red is late turn-in",null,"Blue is absent","HW","HW","Test","HW","Test","HW","Test","Class","Extra","Final","Class",null,"Professionalism",null,null,"Lab",null,"Total  ","Letter"]
["I D ","First:","Last:","CH 4","CH 5","#1","CH 7","Conv","CH 20","21/22","Project","Credit","Test","Points","%","Attendance","Points","%","Points","%","%","Grade"]
[{"$f":"'Misc data'!$A$2","v":{"v":1,"d":"00000001"}},{"$f":"'Misc data'!$B$2","v":"Student"},{"$f":"'Misc data'!$C$2","v":"One"},0,0,0,0,0,0,0,0,0,0,{"$f":"SUM(D6:M6)","v":0},{"$f":"(N6/C3)","v":{"v":0,"d":"0%"}},{"$f":"Attendance!$E$3","v":{"v":1,"d":"100%"}},{"$f":"Professionalism!$E$2","v":{"v":72,"d":"72.0"}},{"$f":"Professionalism!$F$2","v":{"v":1,"d":"100%"}},{"$f":"'Course 5 Lab'!$T$7","v":0},{"$f":"'Course 5 Lab'!$U$7","v":{"v":0,"d":"0%"}},{"$f":"(0.5*O6)+(0.25*R6)+(0.25*T6)","v":{"v":0.25,"d":"25.0%"}},{"$f":"IF(U6>0.95,\"A\",IF(U6>0.93,\"A-\",IF(U6>0.9,\"B+\",IF(U6>0.88,\"B\",IF(U6>0.85,\"B-\",IF(U6>0.82,\"C+\",IF(U6>0.79,\"C\",IF(U6>0.76,\"C-\",IF(U6>0.74,\"D+\",IF(U6>0.72,\"D\",IF(U6>0.7,\"D-\",IF(U6<0.7,\"F\"))))))))))))","v":"F"}]
[{"$f":"'Misc data'!$A$3","v":{"v":2,"d":"00000002"}},{"$f":"'Misc data'!$B$3","v":"Student"},{"$f":"'Misc data'!$C$3","v":"Two"},0,0,0,0,0,0,0,0,0,0,{"$f":"SUM(D7:M7)","v":0},{"$f":"(N7/C3)","v":{"v":0,"d":"0%"}},{"$f":"Attendance!$E$4","v":{"v":0.928571428571429,"d":"93%"}},{"$f":"Professionalism!$E$3","v":{"v":71.5714285714286,"d":"71.6"}},{"$f":"Professionalism!$F$3","v":{"v":0.994047619047619,"d":"99%"}},{"$f":"'Course 5 Lab'!$T$8","v":0},{"$f":"'Course 5 Lab'!$U$8","v":{"v":0,"d":"0%"}},{"$f":"(0.5*O7)+(0.25*R7)+(0.25*T7)","v":{"v":0.248511904761905,"d":"24.9%"}},{"$f":"IF(U7>0.95,\"A\",IF(U7>0.93,\"A-\",IF(U7>0.9,\"B+\",IF(U7>0.88,\"B\",IF(U7>0.85,\"B-\",IF(U7>0.82,\"C+\",IF(U7>0.79,\"C\",IF(U7>0.76,\"C-\",IF(U7>0.74,\"D+\",IF(U7>0.72,\"D\",IF(U7>0.7,\"D-\",IF(U7<0.7,\"F\"))))))))))))","v":"F"}]
[{"$f":"'Misc data'!$A$4","v":{"v":3,"d":"00000003"}},{"$f":"'Misc data'!$B$4","v":"Student"},{"$f":"'Misc data'!$C$4","v":"Three"},0,0,0,0,0,0,0,0,0,0,{"$f":"SUM(D8:M8)","v":0},{"$f":"(N8/C3)","v":{"v":0,"d":"0%"}},{"$f":"Attendance!$E$5","v":{"v":1,"d":"100%"}},{"$f":"Professionalism!$E$4","v":{"v":72,"d":"72.0"}},{"$f":"Professionalism!$F$4","v":{"v":1,"d":"100%"}},{"$f":"'Course 5 Lab'!$T$9","v":0},{"$f":"'Course 5 Lab'!$U$9","v":{"v":0,"d":"0%"}},{"$f":"(0.5*O8)+(0.25*R8)+(0.25*T8)","v":{"v":0.25,"d":"25.0%"}},{"$f":"IF(U8>0.95,\"A\",IF(U8>0.93,\"A-\",IF(U8>0.9,\"B+\",IF(U8>0.88,\"B\",IF(U8>0.85,\"B-\",IF(U8>0.82,\"C+\",IF(U8>0.79,\"C\",IF(U8>0.76,\"C-\",IF(U8>0.74,\"D+\",IF(U8>0.72,\"D\",IF(U8>0.7,\"D-\",IF(U8<0.7,\"F\"))))))))))))","v":"F"}]
[{"$f":"'Misc data'!$A$5","v":{"v":4,"d":"00000004"}},{"$f":"'Misc data'!$B$5","v":"Student"},{"$f":"'Misc data'!$C$5","v":"Four"},0,0,0,0,0,0,0,0,0,0,0,{"$f":"(N9/C3)","v":{"v":0,"d":"0%"}},{"$f":"Attendance!$E$6","v":{"v":1,"d":"100%"}},{"$f":"Professionalism!$E$5","v":{"v":72,"d":"72.0"}},{"$f":"Professionalism!$F$5","v":{"v":1,"d":"100%"}},{"$f":"'Course 5 Lab'!$T$10","v":0},{"$f":"'Course 5 Lab'!$U$10","v":{"v":0,"d":"0%"}},{"$f":"(0.5*O9)+(0.25*R9)+(0.25*T9)","v":{"v":0.25,"d":"25.0%"}},{"$f":"IF(U9>0.95,\"A\",IF(U9>0.93,\"A-\",IF(U9>0.9,\"B+\",IF(U9>0.88,\"B\",IF(U9>0.85,\"B-\",IF(U9>0.82,\"C+\",IF(U9>0.79,\"C\",IF(U9>0.76,\"C-\",IF(U9>0.74,\"D+\",IF(U9>0.72,\"D\",IF(U9>0.7,\"D-\",IF(U9<0.7,\"F\"))))))))))))","v":"F"}]
[{"$f":"'Misc data'!$A$6","v":{"v":5,"d":"00000005"}},{"$f":"'Misc data'!$B$6","v":"Student"},{"$f":"'Misc data'!$C$6","v":"Five"},0,0,0,0,0,0,0,0,0,0,{"$f":"SUM(D10:M10)","v":0},{"$f":"(N10/C3)","v":{"v":0,"d":"0%"}},{"$f":"Attendance!$E$7","v":{"v":1,"d":"100%"}},{"$f":"Professionalism!$E$6","v":{"v":72,"d":"72.0"}},{"$f":"Professionalism!$F$6","v":{"v":1,"d":"100%"}},{"$f":"'Course 5 Lab'!$T$11","v":0},{"$f":"'Course 5 Lab'!$U$11","v":{"v":0,"d":"0%"}},{"$f":"(0.5*O10)+(0.25*R10)+(0.25*T10)","v":{"v":0.25,"d":"25.0%"}},{"$f":"IF(U10>0.95,\"A\",IF(U10>0.93,\"A-\",IF(U10>0.9,\"B+\",IF(U10>0.88,\"B\",IF(U10>0.85,\"B-\",IF(U10>0.82,\"C+\",IF(U10>0.79,\"C\",IF(U10>0.76,\"C-\",IF(U10>0.74,\"D+\",IF(U10>0.72,\"D\",IF(U10>0.7,\"D-\",IF(U10<0.7,\"F\"))))))))))))","v":"F"}]
[{"$f":"'Misc data'!$A$7","v":{"v":6,"d":"00000006"}},{"$f":"'Misc data'!$B$7","v":"Student"},{"$f":"'Misc data'!$C$7","v":"Six"},0,0,0,0,0,0,0,0,0,0,{"$f":"SUM(D11:M11)","v":0},{"$f":"(N11/C3)","v":{"v":0,"d":"0%"}},{"$f":"Attendance!$E$8","v":{"v":1,"d":"100%"}},{"$f":"Professionalism!$E$7","v":{"v":72,"d":"72.0"}},{"$f":"Professionalism!$F$7","v":{"v":1,"d":"100%"}},{"$f":"'Course 5 Lab'!$T$12","v":0},{"$f":"'Course 5 Lab'!$U$12","v":{"v":0,"d":"0%"}},{"$f":"(0.5*O11)+(0.25*R11)+(0.25*T11)","v":{"v":0.25,"d":"25.0%"}},{"$f":"IF(U11>0.95,\"A\",IF(U11>0.93,\"A-\",IF(U11>0.9,\"B+\",IF(U11>0.88,\"B\",IF(U11>0.85,\"B-\",IF(U11>0.82,\"C+\",IF(U11>0.79,\"C\",IF(U11>0.76,\"C-\",IF(U11>0.74,\"D+\",IF(U11>0.72,\"D\",IF(U11>0.7,\"D-\",IF(U11<0.7,\"F\"))))))))))))","v":"F"}]
[{"$f":"'Misc data'!$A$8","v":{"v":7,"d":"00000007"}},{"$f":"'Misc data'!$B$8","v":"Student"},{"$f":"'Misc data'!$C$8","v":"Seven"},0,0,0,0,0,0,0,0,0,0,{"$f":"SUM(D12:M12)","v":0},{"$f":"(N12/C3)","v":{"v":0,"d":"0%"}},{"$f":"Attendance!$E$9","v":{"v":1,"d":"100%"}},{"$f":"Professionalism!$E$8","v":{"v":72,"d":"72.0"}},{"$f":"Professionalism!$F$8","v":{"v":1,"d":"100%"}},{"$f":"'Course 5 Lab'!$T$13","v":0},{"$f":"'Course 5 Lab'!$U$13","v":{"v":0,"d":"0%"}},{"$f":"(0.5*O12)+(0.25*R12)+(0.25*T12)","v":{"v":0.25,"d":"25.0%"}},{"$f":"IF(U12>0.95,\"A\",IF(U12>0.93,\"A-\",IF(U12>0.9,\"B+\",IF(U12>0.88,\"B\",IF(U12>0.85,\"B-\",IF(U12>0.82,\"C+\",IF(U12>0.79,\"C\",IF(U12>0.76,\"C-\",IF(U12>0.74,\"D+\",IF(U12>0.72,\"D\",IF(U12>0.7,\"D-\",IF(U12<0.7,\"F\"))))))))))))","v":"F"}]
[{"$f":"'Misc data'!$A$9","v":{"v":8,"d":"00000008"}},{"$f":"'Misc data'!$B$9","v":"Student"},{"$f":"'Misc data'!$C$9","v":"Eight"},0,0,0,0,0,0,0,0,0,0,{"$f":"SUM(D13:M13)","v":0},{"$f":"(N13/C3)","v":{"v":0,"d":"0%"}},{"$f":"Attendance!$E$10","v":{"v":1,"d":"100%"}},{"$f":"Professionalism!$E$9","v":{"v":72,"d":"72.0"}},{"$f":"Professionalism!$F$9","v":{"v":1,"d":"100%"}},{"$f":"'Course 5 Lab'!$T$14","v":0},{"$f":"'Course 5 Lab'!$U$14","v":{"v":0,"d":"0%"}},{"$f":"(0.5*O13)+(0.25*R13)+(0.25*T13)","v":{"v":0.25,"d":"25.0%"}},{"$f":"IF(U13>0.95,\"A\",IF(U13>0.93,\"A-\",IF(U13>0.9,\"B+\",IF(U13>0.88,\"B\",IF(U13>0.85,\"B-\",IF(U13>0.82,\"C+\",IF(U13>0.79,\"C\",IF(U13>0.76,\"C-\",IF(U13>0.74,\"D+\",IF(U13>0.72,\"D\",IF(U13>0.7,\"D-\",IF(U13<0.7,\"F\"))))))))))))","v":"F"}]
[{"$f":"'Misc data'!$A$10","v":{"v":9,"d":"00000009"}},{"$f":"'Misc data'!$B$10","v":"Student "},{"$f":"'Misc data'!$C$10","v":"Nine"},0,0,0,0,0,0,0,0,0,0,{"$f":"SUM(D14:M14)","v":0},{"$f":"(N14/C3)","v":{"v":0,"d":"0%"}},{"$f":"Attendance!$E$11","v":{"v":1,"d":"100%"}},{"$f":"Professionalism!$E$10","v":{"v":72,"d":"72.0"}},{"$f":"Professionalism!$F$10","v":{"v":1,"d":"100%"}},{"$f":"'Course 5 Lab'!$T$15","v":0},{"$f":"'Course 5 Lab'!$U$15","v":{"v":0,"d":"0%"}},{"$f":"(0.5*O14)+(0.25*R14)+(0.25*T14)","v":{"v":0.25,"d":"25.0%"}},{"$f":"IF(U14>0.95,\"A\",IF(U14>0.93,\"A-\",IF(U14>0.9,\"B+\",IF(U14>0.88,\"B\",IF(U14>0.85,\"B-\",IF(U14>0.82,\"C+\",IF(U14>0.79,\"C\",IF(U14>0.76,\"C-\",IF(U14>0.74,\"D+\",IF(U14>0.72,\"D\",IF(U14>0.7,\"D-\",IF(U14<0.7,\"F\"))))))))))))","v":"F"}]
[{"$f":"'Misc data'!$A$11","v":{"v":10,"d":"00000010"}},{"$f":"'Misc data'!$B$11","v":"Student"},{"$f":"'Misc data'!$C$11","v":"Ten"},0,0,0,0,0,0,0,0,0,0,{"$f":"SUM(D15:M15)","v":0},{"$f":"(N15/C3)","v":{"v":0,"d":"0%"}},{"$f":"Attendance!$E$12","v":{"v":1,"d":"100%"}},{"$f":"Professionalism!$E$11","v":{"v":72,"d":"72.0"}},{"$f":"Professionalism!$F$11","v":{"v":1,"d":"100%"}},{"$f":"'Course 5 Lab'!$T$16","v":0},{"$f":"'Course 5 Lab'!$U$16","v":{"v":0,"d":"0%"}},{"$f":"(0.5*O15)+(0.25*R15)+(0.25*T15)","v":{"v":0.25,"d":"25.0%"}},{"$f":"IF(U15>0.95,\"A\",IF(U15>0.93,\"A-\",IF(U15>0.9,\"B+\",IF(U15>0.88,\"B\",IF(U15>0.85,\"B-\",IF(U15>0.82,\"C+\",IF(U15>0.79,\"C\",IF(U15>0.76,\"C-\",IF(U15>0.74,\"D+\",IF(U15>0.72,\"D\",IF(U15>0.7,\"D-\",IF(U15<0.7,\"F\"))))))))))))","v":"F"}]
[{"$f":"'Misc data'!$A$12","v":{"v":11,"d":"00000011"}},{"$f":"'Misc data'!$B$12","v":"Student"},{"$f":"'Misc data'!$C$12","v":"Eleven"},0,0,0,0,0,0,0,0,0,0,{"$f":"SUM(D16:M16)","v":0},{"$f":"(N16/C3)","v":{"v":0,"d":"0%"}},{"$f":"Attendance!$E$13","v":{"v":1,"d":"100%"}},{"$f":"Professionalism!$E$12","v":{"v":72,"d":"72.0"}},{"$f":"Professionalism!$F$12","v":{"v":1,"d":"100%"}},{"$f":"'Course 5 Lab'!$T$17","v":0},{"$f":"'Course 5 Lab'!$U$17","v":{"v":0,"d":"0%"}},{"$f":"(0.5*O16)+(0.25*R16)+(0.25*T16)","v":{"v":0.25,"d":"25.0%"}},{"$f":"IF(U16>0.95,\"A\",IF(U16>0.93,\"A-\",IF(U16>0.9,\"B+\",IF(U16>0.88,\"B\",IF(U16>0.85,\"B-\",IF(U16>0.82,\"C+\",IF(U16>0.79,\"C\",IF(U16>0.76,\"C-\",IF(U16>0.74,\"D+\",IF(U16>0.72,\"D\",IF(U16>0.7,\"D-\",IF(U16<0.7,\"F\"))))))))))))","v":"F"}]
[{"$f":"'Misc data'!$A$13","v":{"v":12,"d":"00000012"}},{"$f":"'Misc data'!$B$13","v":"Student"},{"$f":"'Misc data'!$C$13","v":"Twelve"},0,0,0,0,0,0,0,0,0,0,{"$f":"SUM(D17:M17)","v":0},{"$f":"(N17/C3)","v":{"v":0,"d":"0%"}},{"$f":"Attendance!$E$14","v":{"v":0.928571428571429,"d":"93%"}},{"$f":"Professionalism!$E$13","v":{"v":71.5714285714286,"d":"71.6"}},{"$f":"Professionalism!$F$13","v":{"v":0.994047619047619,"d":"99%"}},{"$f":"'Course 5 Lab'!$T$18","v":0},{"$f":"'Course 5 Lab'!$U$18","v":{"v":0,"d":"0%"}},{"$f":"(0.5*O17)+(0.25*R17)+(0.25*T17)","v":{"v":0.248511904761905,"d":"24.9%"}},{"$f":"IF(U17>0.95,\"A\",IF(U17>0.93,\"A-\",IF(U17>0.9,\"B+\",IF(U17>0.88,\"B\",IF(U17>0.85,\"B-\",IF(U17>0.82,\"C+\",IF(U17>0.79,\"C\",IF(U17>0.76,\"C-\",IF(U17>0.74,\"D+\",IF(U17>0.72,\"D\",IF(U17>0.7,\"D-\",IF(U17<0.7,\"F\"))))))))))))","v":"F"}]
[{"$f":"'Misc data'!$A$14","v":{"v":13,"d":"00000013"}},{"$f":"'Misc data'!$B$14","v":"Student"},{"$f":"'Misc data'!$C$14","v":"Thirteen"},0,0,0,0,0,0,0,0,0,0,{"$f":"SUM(D18:M18)","v":0},{"$f":"(N18/C3)","v":{"v":0,"d":"0%"}},{"$f":"Attendance!$E$15","v":{"v":1,"d":"100%"}},{"$f":"Professionalism!$E$14","v":{"v":72,"d":"72.0"}},{"$f":"Professionalism!$F$14","v":{"v":1,"d":"100%"}},{"$f":"'Course 5 Lab'!$T$19","v":0},{"$f":"'Course 5 Lab'!$U$19","v":{"v":0,"d":"0%"}},{"$f":"(0.5*O18)+(0.25*R18)+(0.25*T18)","v":{"v":0.25,"d":"25.0%"}},{"$f":"IF(U18>0.95,\"A\",IF(U18>0.93,\"A-\",IF(U18>0.9,\"B+\",IF(U18>0.88,\"B\",IF(U18>0.85,\"B-\",IF(U18>0.82,\"C+\",IF(U18>0.79,\"C\",IF(U18>0.76,\"C-\",IF(U18>0.74,\"D+\",IF(U18>0.72,\"D\",IF(U18>0.7,\"D-\",IF(U18<0.7,\"F\"))))))))))))","v":"F"}]
[{"$f":"'Misc data'!$A$15","v":{"v":14,"d":"00000014"}},{"$f":"'Misc data'!$B$15","v":"Student"},{"$f":"'Misc data'!$C$15","v":"Fourteen"},0,0,0,0,0,0,0,0,0,0,{"$f":"SUM(D19:M19)","v":0},{"$f":"(N19/C3)","v":{"v":0,"d":"0%"}},{"$f":"Attendance!$E$16","v":{"v":1,"d":"100%"}},{"$f":"Professionalism!$E$15","v":{"v":72,"d":"72.0"}},{"$f":"Professionalism!$F$15","v":{"v":1,"d":"100%"}},{"$f":"'Course 5 Lab'!$T$20","v":0},{"$f":"'Course 5 Lab'!$U$20","v":{"v":0,"d":"0%"}},{"$f":"(0.5*O19)+(0.25*R19)+(0.25*T19)","v":{"v":0.25,"d":"25.0%"}},{"$f":"IF(U19>0.95,\"A\",IF(U19>0.93,\"A-\",IF(U19>0.9,\"B+\",IF(U19>0.88,\"B\",IF(U19>0.85,\"B-\",IF(U19>0.82,\"C+\",IF(U19>0.79,\"C\",IF(U19>0.76,\"C-\",IF(U19>0.74,\"D+\",IF(U19>0.72,\"D\",IF(U19>0.7,\"D-\",IF(U19<0.7,\"F\"))))))))))))","v":"F"}]
[{"$f":"'Misc data'!$A$16","v":{"v":15,"d":"00000015"}},{"$f":"'Misc data'!$B$16","v":"Student"},{"$f":"'Misc data'!$C$16","v":"Fifteen"},0,0,0,0,0,0,0,0,0,0,{"$f":"SUM(D20:M20)","v":0},{"$f":"(N20/C3)","v":{"v":0,"d":"0%"}},{"$f":"Attendance!$E$17","v":{"v":1,"d":"100%"}},{"$f":"Professionalism!$E$16","v":{"v":72,"d":"72.0"}},{"$f":"Professionalism!$F$16","v":{"v":1,"d":"100%"}},{"$f":"'Course 5 Lab'!$T$21","v":0},{"$f":"'Course 5 Lab'!$U$21","v":{"v":0,"d":"0%"}},{"$f":"(0.5*O20)+(0.25*R20)+(0.25*T20)","v":{"v":0.25,"d":"25.0%"}},{"$f":"IF(U20>0.95,\"A\",IF(U20>0.93,\"A-\",IF(U20>0.9,\"B+\",IF(U20>0.88,\"B\",IF(U20>0.85,\"B-\",IF(U20>0.82,\"C+\",IF(U20>0.79,\"C\",IF(U20>0.76,\"C-\",IF(U20>0.74,\"D+\",IF(U20>0.72,\"D\",IF(U20>0.7,\"D-\",IF(U20<0.7,\"F\"))))))))))))","v":"F"}]
[{"$f":"'Misc data'!$A$17","v":{"v":16,"d":"00000016"}},{"$f":"'Misc data'!$B$17","v":"Student"},{"$f":"'Misc data'!$C$17","v":"Sixteen"},0,0,0,0,0,0,0,0,0,0,{"$f":"SUM(D21:M21)","v":0},{"$f":"(N21/C3)","v":{"v":0,"d":"0%"}},{"$f":"Attendance!$E$18","v":{"v":1,"d":"100%"}},{"$f":"Professionalism!$E$17","v":{"v":72,"d":"72.0"}},{"$f":"Professionalism!$F$17","v":{"v":1,"d":"100%"}},{"$f":"'Course 5 Lab'!$T$22","v":0},{"$f":"'Course 5 Lab'!$U$22","v":{"v":0,"d":"0%"}},{"$f":"(0.5*O21)+(0.25*R21)+(0.25*T21)","v":{"v":0.25,"d":"25.0%"}},{"$f":"IF(U21>0.95,\"A\",IF(U21>0.93,\"A-\",IF(U21>0.9,\"B+\",IF(U21>0.88,\"B\",IF(U21>0.85,\"B-\",IF(U21>0.82,\"C+\",IF(U21>0.79,\"C\",IF(U21>0.76,\"C-\",IF(U21>0.74,\"D+\",IF(U21>0.72,\"D\",IF(U21>0.7,\"D-\",IF(U21<0.7,\"F\"))))))))))))","v":"F"}]
[{"$f":"'Misc data'!$A$18","v":{"v":17,"d":"00000017"}},{"$f":"'Misc data'!$B$18","v":"Student"},{"$f":"'Misc data'!$C$18","v":"Seventeen"},0,0,0,0,0,0,0,0,0,0,{"$f":"SUM(D22:M22)","v":0},{"$f":"(N22/C3)","v":{"v":0,"d":"0%"}},{"$f":"Attendance!$E$19","v":{"v":1,"d":"100%"}},{"$f":"Professionalism!$E$18","v":{"v":72,"d":"72.0"}},{"$f":"Professionalism!$F$18","v":{"v":1,"d":"100%"}},{"$f":"'Course 5 Lab'!$T$23","v":0},{"$f":"'Course 5 Lab'!$U$23","v":{"v":0,"d":"0%"}},{"$f":"(0.5*O22)+(0.25*R22)+(0.25*T22)","v":{"v":0.25,"d":"25.0%"}},{"$f":"IF(U22>0.95,\"A\",IF(U22>0.93,\"A-\",IF(U22>0.9,\"B+\",IF(U22>0.88,\"B\",IF(U22>0.85,\"B-\",IF(U22>0.82,\"C+\",IF(U22>0.79,\"C\",IF(U22>0.76,\"C-\",IF(U22>0.74,\"D+\",IF(U22>0.72,\"D\",IF(U22>0.7,\"D-\",IF(U22<0.7,\"F\"))))))))))))","v":"F"}]
[{"$f":"'Misc data'!$A$19","v":{"v":18,"d":"00000018"}},{"$f":"'Misc data'!$B$19","v":"Student"},{"$f":"'Misc data'!$C$19","v":"Eighteen"},0,0,0,0,0,0,0,0,0,0,{"$f":"SUM(D23:M23)","v":0},{"$f":"(N23/C3)","v":{"v":0,"d":"0%"}},{"$f":"Attendance!$E$20","v":{"v":1,"d":"100%"}},{"$f":"Professionalism!$E$19","v":{"v":72,"d":"72.0"}},{"$f":"Professionalism!$F$19","v":{"v":1,"d":"100%"}},{"$f":"'Course 5 Lab'!$T$24","v":0},{"$f":"'Course 5 Lab'!$U$24","v":{"v":0,"d":"0%"}},{"$f":"(0.5*O23)+(0.25*R23)+(0.25*T23)","v":{"v":0.25,"d":"25.0%"}},{"$f":"IF(U23>0.95,\"A\",IF(U23>0.93,\"A-\",IF(U23>0.9,\"B+\",IF(U23>0.88,\"B\",IF(U23>0.85,\"B-\",IF(U23>0.82,\"C+\",IF(U23>0.79,\"C\",IF(U23>0.76,\"C-\",IF(U23>0.74,\"D+\",IF(U23>0.72,\"D\",IF(U23>0.7,\"D-\",IF(U23<0.7,\"F\"))))))))))))","v":"F"}]
[{"$f":"'Misc data'!$A$20","v":{"v":19,"d":"00000019"}},{"$f":"'Misc data'!$B$20","v":"Student"},{"$f":"'Misc data'!$C$20","v":"Nineteen"},0,0,0,0,0,0,0,0,0,0,{"$f":"SUM(D24:M24)","v":0},{"$f":"(N24/C3)","v":{"v":0,"d":"0%"}},{"$f":"Attendance!$E$21","v":{"v":1,"d":"100%"}},{"$f":"Professionalism!$E$20","v":{"v":72,"d":"72.0"}},{"$f":"Professionalism!$F$20","v":{"v":1,"d":"100%"}},{"$f":"'Course 5 Lab'!$T$25","v":0},{"$f":"'Course 5 Lab'!$U$25","v":{"v":0,"d":"0%"}},{"$f":"(0.5*O24)+(0.25*R24)+(0.25*T24)","v":{"v":0.25,"d":"25.0%"}},{"$f":"IF(U24>0.95,\"A\",IF(U24>0.93,\"A-\",IF(U24>0.9,\"B+\",IF(U24>0.88,\"B\",IF(U24>0.85,\"B-\",IF(U24>0.82,\"C+\",IF(U24>0.79,\"C\",IF(U24>0.76,\"C-\",IF(U24>0.74,\"D+\",IF(U24>0.72,\"D\",IF(U24>0.7,\"D-\",IF(U24<0.7,\"F\"))))))))))))","v":"F"}]
[{"$f":"'Misc data'!$A$21","v":{"v":20,"d":"00000020"}},{"$f":"'Misc data'!$B$21","v":"Student"},{"$f":"'Misc data'!$C$21","v":"Twenty"},0,0,0,0,0,0,0,0,0,0,{"$f":"SUM(D25:M25)","v":0},{"$f":"(N25/C3)","v":{"v":0,"d":"0%"}},{"$f":"Attendance!$E$22","v":{"v":1,"d":"100%"}},{"$f":"Professionalism!$E$21","v":{"v":72,"d":"72.0"}},{"$f":"Professionalism!$F$21","v":{"v":1,"d":"100%"}},{"$f":"'Course 5 Lab'!$T$26","v":0},{"$f":"'Course 5 Lab'!$U$26","v":{"v":0,"d":"0%"}},{"$f":"(0.5*O25)+(0.25*R25)+(0.25*T25)","v":{"v":0.25,"d":"25.0%"}},{"$f":"IF(U25>0.95,\"A\",IF(U25>0.93,\"A-\",IF(U25>0.9,\"B+\",IF(U25>0.88,\"B\",IF(U25>0.85,\"B-\",IF(U25>0.82,\"C+\",IF(U25>0.79,\"C\",IF(U25>0.76,\"C-\",IF(U25>0.74,\"D+\",IF(U25>0.72,\"D\",IF(U25>0.7,\"D-\",IF(U25<0.7,\"F\"))))))))))))","v":"F"}]
[{"$f":"'Misc data'!$A$22","v":{"v":21,"d":"00000021"}},{"$f":"'Misc data'!$B$22","v":"Student"},{"$f":"'Misc data'!$C$22","v":"Twenty one"},0,0,0,0,0,0,0,0,0,0,{"$f":"SUM(D26:M26)","v":0},{"$f":"(N26/C3)","v":{"v":0,"d":"0%"}},{"$f":"Attendance!$E$23","v":{"v":1,"d":"100%"}},{"$f":"Professionalism!$E$22","v":{"v":72,"d":"72.0"}},{"$f":"Professionalism!$F$22","v":{"v":1,"d":"100%"}},{"$f":"'Course 5 Lab'!$T$27","v":0},{"$f":"'Course 5 Lab'!$U$27","v":{"v":0,"d":"0%"}},{"$f":"(0.5*O26)+(0.25*R26)+(0.25*T26)","v":{"v":0.25,"d":"25.0%"}},{"$f":"IF(U26>0.95,\"A\",IF(U26>0.93,\"A-\",IF(U26>0.9,\"B+\",IF(U26>0.88,\"B\",IF(U26>0.85,\"B-\",IF(U26>0.82,\"C+\",IF(U26>0.79,\"C\",IF(U26>0.76,\"C-\",IF(U26>0.74,\"D+\",IF(U26>0.72,\"D\",IF(U26>0.7,\"D-\",IF(U26<0.7,\"F\"))))))))))))","v":"F"}]
[{"$f":"'Misc data'!$A$23","v":{"v":22,"d":"00000022"}},{"$f":"'Misc data'!$B$23","v":"Student"},{"$f":"'Misc data'!$C$23","v":"Twenty two"},0,0,0,0,0,0,0,0,0,0,{"$f":"SUM(D27:M27)","v":0},{"$f":"(N27/C3)","v":{"v":0,"d":"0%"}},{"$f":"Attendance!$E$24","v":{"v":1,"d":"100%"}},{"$f":"Professionalism!$E$23","v":{"v":72,"d":"72.0"}},{"$f":"Professionalism!$F$23","v":{"v":1,"d":"100%"}},{"$f":"'Course 5 Lab'!$T$28","v":0},{"$f":"'Course 5 Lab'!$U$28","v":{"v":0,"d":"0%"}},{"$f":"(0.5*O27)+(0.25*R27)+(0.25*T27)","v":{"v":0.25,"d":"25.0%"}},{"$f":"IF(U27>0.95,\"A\",IF(U27>0.93,\"A-\",IF(U27>0.9,\"B+\",IF(U27>0.88,\"B\",IF(U27>0.85,\"B-\",IF(U27>0.82,\"C+\",IF(U27>0.79,\"C\",IF(U27>0.76,\"C-\",IF(U27>0.74,\"D+\",IF(U27>0.72,\"D\",IF(U27>0.7,\"D-\",IF(U27<0.7,\"F\"))))))))))))","v":"F"}]
[{"$f":"'Misc data'!$A$24","v":{"v":23,"d":"00000023"}},{"$f":"'Misc data'!$B$24","v":"Student"},{"$f":"'Misc data'!$C$24","v":"Twenty three"},0,0,0,0,0,0,0,0,0,0,{"$f":"SUM(D28:M28)","v":0},{"$f":"(N28/C3)","v":{"v":0,"d":"0%"}},{"$f":"Attendance!$E$25","v":{"v":1,"d":"100%"}},{"$f":"Professionalism!$E$24","v":{"v":72,"d":"72.0"}},{"$f":"Professionalism!$F$24","v":{"v":1,"d":"100%"}},{"$f":"'Course 5 Lab'!$T$29","v":0},{"$f":"'Course 5 Lab'!$U$29","v":{"v":0,"d":"0%"}},{"$f":"(0.5*O28)+(0.25*R28)+(0.25*T28)","v":{"v":0.25,"d":"25.0%"}},{"$f":"IF(U28>0.95,\"A\",IF(U28>0.93,\"A-\",IF(U28>0.9,\"B+\",IF(U28>0.88,\"B\",IF(U28>0.85,\"B-\",IF(U28>0.82,\"C+\",IF(U28>0.79,\"C\",IF(U28>0.76,\"C-\",IF(U28>0.74,\"D+\",IF(U28>0.72,\"D\",IF(U28>0.7,\"D-\",IF(U28<0.7,\"F\"))))))))))))","v":"F"}]
[{"$f":"'Misc data'!$A$25","v":{"v":24,"d":"00000024"}},{"$f":"'Misc data'!$B$25","v":"Student"},{"$f":"'Misc data'!$C$25","v":"Twenty four"},0,0,0,0,0,0,0,0,0,0,{"$f":"SUM(D29:M29)","v":0},{"$f":"(N29/C3)","v":{"v":0,"d":"0%"}},{"$f":"Attendance!$E$24","v":{"v":1,"d":"100%"}},{"$f":"Professionalism!$E$23","v":{"v":72,"d":"72.0"}},{"$f":"Professionalism!$F$23","v":{"v":1,"d":"100%"}},{"$f":"'Course 5 Lab'!$T$28","v":0},{"$f":"'Course 5 Lab'!$U$28","v":{"v":0,"d":"0%"}},{"$f":"(0.5*O29)+(0.25*R29)+(0.25*T29)","v":{"v":0.25,"d":"25.0%"}},{"$f":"IF(U29>0.95,\"A\",IF(U29>0.93,\"A-\",IF(U29>0.9,\"B+\",IF(U29>0.88,\"B\",IF(U29>0.85,\"B-\",IF(U29>0.82,\"C+\",IF(U29>0.79,\"C\",IF(U29>0.76,\"C-\",IF(U29>0.74,\"D+\",IF(U29>0.72,\"D\",IF(U29>0.7,\"D-\",IF(U29<0.7,\"F\"))))))))))))","v":"F"}]
[{"$f":"'Misc data'!$A$26","v":{"v":25,"d":"00000025"}},{"$f":"'Misc data'!$B$26","v":"Student"},{"$f":"'Misc data'!$C$26","v":"Twenty five"},0,0,0,0,0,0,0,0,0,0,{"$f":"SUM(D30:M30)","v":0},{"$f":"(N30/C3)","v":{"v":0,"d":"0%"}},{"$f":"Attendance!$E$25","v":{"v":1,"d":"100%"}},{"$f":"Professionalism!$E$24","v":{"v":72,"d":"72.0"}},{"$f":"Professionalism!$F$24","v":{"v":1,"d":"100%"}},{"$f":"'Course 5 Lab'!$T$29","v":0},{"$f":"'Course 5 Lab'!$U$29","v":{"v":0,"d":"0%"}},{"$f":"(0.5*O30)+(0.25*R30)+(0.25*T30)","v":{"v":0.25,"d":"25.0%"}},{"$f":"IF(U30>0.95,\"A\",IF(U30>0.93,\"A-\",IF(U30>0.9,\"B+\",IF(U30>0.88,\"B\",IF(U30>0.85,\"B-\",IF(U30>0.82,\"C+\",IF(U30>0.79,\"C\",IF(U30>0.76,\"C-\",IF(U30>0.74,\"D+\",IF(U30>0.72,\"D\",IF(U30>0.7,\"D-\",IF(U30<0.7,\"F\"))))))))))))","v":"F"}]

{"sheet":"Course 5 Lab","index":13,"n_rows":31,"n_cols":21,"rows_kept":31,"merged":[[0,0,0,2],[1,0,1,1],[2,0,4,2],[4,19,4,20]]}
[{"$f":"'Misc data'!$H$11","v":"Course 5 Brake Systems. Lab"}]
["  Max Shop Points:",null,{"$f":" SUM(D6:Q6)","v":970},"Drum","Drum ","Disc","On Car","Off Car","Wheel","Hydr.","Vacuum","Warning","Brake","Brake","Dodge","Ford","GM","Cus","Brake"]
["Max shop points available depend on how much customer work is done.",null,null,"Brake","Brake ","Brake","Disc","Disc","Bearing","Line","Booster","Light","System","Valves","Anti","Anti","Anti","tomer","Comp"]
[{"$nulls":3},"Job","Mach.","Job","Mach.","Mach.","Service","Repair","Service","Service","Bleed","Check","Lock","Lock","Lock","Work","etency"]
[{"$nulls":3},2,2,2,2,2,1,1,2,2,4,1,1,1,1," ","Required","Lab"]
["ID","First:","Last:",150,40,150,80,40,50,30,30,40,80,40,80,80,80,300,"*","Points","%"]
[{"$f":"'Misc data'!$A$2","v":{"v":1,"d":"00000001"}},{"$f":"'Misc data'!$B$2","v":"Student"},{"$f":"'Misc data'!$C$2","v":"One"},0,0,0,0,0,0,0,0,0,0,0,0,0,0,0,1,{"$f":"SUM(D7:R7)*S7","v":0},{"$f":"T7/C2","v":{"v":0,"d":"0%"}}]
[{"$f":"'Misc data'!$A$3","v":{"v":2,"d":"00000002"}},{"$f":"'Misc data'!$B$3","v":"Student"},{"$f":"'Misc data'!$C$3","v":"Two"},0,0,0,0,0,0,0,0,0,0,0,0,0,0,0,1,{"$f":"SUM(D8:R8)*S8","v":0},{"$f":"T8/C2","v":{"v":0,"d":"0%"}}]
[{"$f":"'Misc data'!$A$4","v":{"v":3,"d":"00000003"}},{"$f":"'Misc data'!$B$4","v":"Student"},{"$f":"'Misc data'!$C$4","v":"Three"},0,0,0,0,0,0,0,0,0,0,0,0,0,0,0,1,{"$f":"SUM(D9:R9)*S9","v":0},{"$f":"T9/C2","v":{"v":0,"d":"0%"}}]
[{"$f":"'Misc data'!$A$5","v":{"v":4,"d":"00000004"}},{"$f":"'Misc data'!$B$5","v":"Student"},{"$f":"'Misc data'!$C$5","v":"Four"},0,0,0,0,0,0,0,0,0,0,0,0,0,0,0,1,{"$f":"SUM(D10:R10)*S10","v":0},{"$f":"T10/C2","v":{"v":0,"d":"0%"}}]
[{"$f":"'Misc data'!$A$6","v":{"v":5,"d":"00000005"}},{"$f":"'Misc data'!$B$6","v":"Student"},{"$f":"'Misc data'!$C$6","v":"Five"},0,0,0,0,0,0,0,0,0,0,0,0,0,0,0,1,{"$f":"SUM(D11:R11)*S11","v":0},{"$f":"T11/C2","v":{"v":0,"d":"0%"}}]
[{"$f":"'Misc data'!$A$7","v":{"v":6,"d":"00000006"}},{"$f":"'Misc data'!$B$7","v":"Student"},{"$f":"'Misc data'!$C$7","v":"Six"},0,0,0,0,0,0,0,0,0,0,0,0,0,0,0,1,{"$f":"SUM(D12:R12)*S12","v":0},{"$f":"T12/C2","v":{"v":0,"d":"0%"}}]
[{"$f":"'Misc data'!$A$8","v":{"v":7,"d":"00000007"}},{"$f":"'Misc data'!$B$8","v":"Student"},{"$f":"'Misc data'!$C$8","v":"Seven"},0,0,0,0,0,0,0,0,0,0,0,0,0,0,0,1,{"$f":"SUM(D13:R13)*S13","v":0},{"$f":"T13/C2","v":{"v":0,"d":"0%"}}]
[{"$f":"'Misc data'!$A$9","v":{"v":8,"d":"00000008"}},{"$f":"'Misc data'!$B$9","v":"Student"},{"$f":"'Misc data'!$C$9","v":"Eight"},0,0,0,0,0,0,0,0,0,0,0,0,0,0,0,1,{"$f":"SUM(D14:R14)*S14","v":0},{"$f":"T14/C2","v":{"v":0,"d":"0%"}}]
[{"$f":"'Misc data'!$A$10","v":{"v":9,"d":"00000009"}},{"$f":"'Misc data'!$B$10","v":"Student "},{"$f":"'Misc data'!$C$10","v":"Nine"},0,0,0,0,0,0,0,0,0,0,0,0,0,0,0,1,{"$f":"SUM(D15:R15)*S15","v":0},{"$f":"T15/C2","v":{"v":0,"d":"0%"}}]
[{"$f":"'Misc data'!$A$11","v":{"v":10,"d":"00000010"}},{"$f":"'Misc data'!$B$11","v":"Student"},{"$f":"'Misc data'!$C$11","v":"Ten"},0,0,0,0,0,0,0,0,0,0,0,0,0,0,0,1,{"$f":"SUM(D16:R16)*S16","v":0},{"$f":"T16/C2","v":{"v":0,"d":"0%"}}]
[{"$f":"'Misc data'!$A$12","v":{"v":11,"d":"00000011"}},{"$f":"'Misc data'!$B$12","v":"Student"},{"$f":"'Misc data'!$C$12","v":"Eleven"},0,0,0,0,0,0,0,0,0,0,0,0,0,0,0,1,{"$f":"SUM(D17:R17)*S17","v":0},{"$f":"T17/C2","v":{"v":0,"d":"0%"}}]
[{"$f":"'Misc data'!$A$13","v":{"v":12,"d":"00000012"}},{"$f":"'Misc data'!$B$13","v":"Student"},{"$f":"'Misc data'!$C$13","v":"Twelve"},0,0,0,0,0,0,0,0,0,0,0,0,0,0,0,1,{"$f":"SUM(D18:R18)*S18","v":0},{"$f":"T18/C2","v":{"v":0,"d":"0%"}}]
[{"$f":"'Misc data'!$A$14","v":{"v":13,"d":"00000013"}},{"$f":"'Misc data'!$B$14","v":"Student"},{"$f":"'Misc data'!$C$14","v":"Thirteen"},0,0,0,0,0,0,0,0,0,0,0,0,0,0,0,1,{"$f":"SUM(D19:R19)*S19","v":0},{"$f":"T19/C2","v":{"v":0,"d":"0%"}}]
[{"$f":"'Misc data'!$A$15","v":{"v":14,"d":"00000014"}},{"$f":"'Misc data'!$B$15","v":"Student"},{"$f":"'Misc data'!$C$15","v":"Fourteen"},0,0,0,0,0,0,0,0,0,0,0,0,0,0,0,1,{"$f":"SUM(D20:R20)*S20","v":0},{"$f":"T20/C2","v":{"v":0,"d":"0%"}}]
[{"$f":"'Misc data'!$A$16","v":{"v":15,"d":"00000015"}},{"$f":"'Misc data'!$B$16","v":"Student"},{"$f":"'Misc data'!$C$16","v":"Fifteen"},0,0,0,0,0,0,0,0,0,0,0,0,0,0,0,1,{"$f":"SUM(D21:R21)*S21","v":0},{"$f":"T21/C2","v":{"v":0,"d":"0%"}}]
[{"$f":"'Misc data'!$A$17","v":{"v":16,"d":"00000016"}},{"$f":"'Misc data'!$B$17","v":"Student"},{"$f":"'Misc data'!$C$17","v":"Sixteen"},0,0,0,0,0,0,0,0,0,0,0,0,0,0,0,1,{"$f":"SUM(D22:R22)*S22","v":0},{"$f":"T22/C2","v":{"v":0,"d":"0%"}}]
[{"$f":"'Misc data'!$A$18","v":{"v":17,"d":"00000017"}},{"$f":"'Misc data'!$B$18","v":"Student"},{"$f":"'Misc data'!$C$18","v":"Seventeen"},0,0,0,0,0,0,0,0,0,0,0,0,0,0,0,1,{"$f":"SUM(D23:R23)*S23","v":0},{"$f":"T23/C2","v":{"v":0,"d":"0%"}}]
[{"$f":"'Misc data'!$A$19","v":{"v":18,"d":"00000018"}},{"$f":"'Misc data'!$B$19","v":"Student"},{"$f":"'Misc data'!$C$19","v":"Eighteen"},0,0,0,0,0,0,0,0,0,0,0,0,0,0,0,1,{"$f":"SUM(D24:R24)*S24","v":0},{"$f":"T24/C2","v":{"v":0,"d":"0%"}}]
[{"$f":"'Misc data'!$A$20","v":{"v":19,"d":"00000019"}},{"$f":"'Misc data'!$B$20","v":"Student"},{"$f":"'Misc data'!$C$20","v":"Nineteen"},0,0,0,0,0,0,0,0,0,0,0,0,0,0,0,1,{"$f":"SUM(D25:R25)*S25","v":0},{"$f":"T25/C2","v":{"v":0,"d":"0%"}}]
[{"$f":"'Misc data'!$A$21","v":{"v":20,"d":"00000020"}},{"$f":"'Misc data'!$B$21","v":"Student"},{"$f":"'Misc data'!$C$21","v":"Twenty"},0,0,0,0,0,0,0,0,0,0,0,0,0,0,0,1,{"$f":"SUM(D26:R26)*S26","v":0},{"$f":"T26/C2","v":{"v":0,"d":"0%"}}]
[{"$f":"'Misc data'!$A$22","v":{"v":21,"d":"00000021"}},{"$f":"'Misc data'!$B$22","v":"Student"},{"$f":"'Misc data'!$C$22","v":"Twenty one"},0,0,0,0,0,0,0,0,0,0,0,0,0,0,0,1,{"$f":"SUM(D27:R27)*S27","v":0},{"$f":"T27/C2","v":{"v":0,"d":"0%"}}]
[{"$f":"'Misc data'!$A$23","v":{"v":22,"d":"00000022"}},{"$f":"'Misc data'!$B$23","v":"Student"},{"$f":"'Misc data'!$C$23","v":"Twenty two"},0,0,0,0,0,0,0,0,0,0,0,0,0,0,0,1,{"$f":"SUM(D28:R28)*S28","v":0},{"$f":"T28/C2","v":{"v":0,"d":"0%"}}]
[{"$f":"'Misc data'!$A$24","v":{"v":23,"d":"00000023"}},{"$f":"'Misc data'!$B$24","v":"Student"},{"$f":"'Misc data'!$C$24","v":"Twenty three"},0,0,0,0,0,0,0,0,0,0,0,0,0,0,0,1,{"$f":"SUM(D29:R29)*S29","v":0},{"$f":"T29/C2","v":{"v":0,"d":"0%"}}]
[{"$f":"'Misc data'!$A$25","v":{"v":24,"d":"00000024"}},{"$f":"'Misc data'!$B$25","v":"Student"},{"$f":"'Misc data'!$C$25","v":"Twenty four"},0,0,0,0,0,0,0,0,0,0,0,0,0,0,0,1,{"$f":"SUM(D30:R30)*S30","v":0},{"$f":"T30/C2","v":{"v":0,"d":"0%"}}]
[{"$f":"'Misc data'!$A$26","v":{"v":25,"d":"00000025"}},{"$f":"'Misc data'!$B$26","v":"Student"},{"$f":"'Misc data'!$C$26","v":"Twenty five"},0,0,0,0,0,0,0,0,0,0,0,0,0,0,0,1,{"$f":"SUM(D31:R31)*S31","v":0},{"$f":"T31/C2","v":{"v":0,"d":"0%"}}]

{"sheet":"Student 1","index":14,"n_rows":65,"n_cols":23,"rows_kept":65,"merged":[[0,0,0,2],[1,0,1,2],[2,0,2,1],[2,9,2,17],[3,0,3,1],[3,9,3,10],[3,11,3,13],[3,14,3,15],[6,0,6,2],[7,0,7,1],[8,0,10,2],[10,16,10,17],[13,0,13,2],[14,1,14,2],[15,0,15,1],[15,11,15,19],[16,0,16,1],[16,11,16,12],[16,13,16,15],[16,16,16,17],[19,0,19,2],[20,0,20,1],[21,0,23,2],[23,13,23,14],[26,0,26,2],[27,1,27,2],[28,0,28,1],[28,14,28,22],[29,0,29,1],[29,14,29,15],[29,16,29,18],[29,19,29,20],[32,0,32,2],[33,0,33,1],[34,0,36,2],[35,20,35,21],[36,16,36,17],[39,0,39,2],[40,1,40,2],[41,0,41,1],[41,10,41,18],[42,0,42,1],[42,10,42,11],[42,12,42,14],[42,15,42,16],[45,0,45,2],[46,0,46,1],[47,0,49,2],[49,7,49,8],[52,0,52,2],[53,0,53,2],[54,0,54,1],[54,13,54,21],[55,0,55,1],[55,13,55,14],[55,15,55,17],[55,18,55,19],[58,0,58,2],[59,0,59,1],[60,0,62,2],[62,19,62,20]]}
[{"$f":"'Course 1 Class'!$A$1","v":"Course 1 Engine Diagnosis. Class"},{"$nulls":6},{"$f":"'Course 1 Class'!$H$1","v":25}]
[{"$f":"'Course 1 Class'!$A$2","v":"Date assignment is due"},null,{"$f":"'Course 1 Class'!$C$2","v":" "},{"$f":"'Course 1 Class'!$D$2","v":"TBD"},{"$f":"'Course 1 Class'!$E$2","v":"TBD"},{"$f":"'Course 1 Class'!$F$2","v":"TBD"},{"$f":"'Course 1 Class'!$G$2","v":"TBD"},{"$f":"'Course 1 Class'!$H$2","v":"TBD"},{"$f":"'Course 1 Class'!$I$2","v":"TBD"}]
[{"$f":"'Course 1 Class'!$A$3","v":"Class Room Points:"},null,{"$f":"'Course 1 Class'!$C$3","v":160},{"$f":"'Course 1 Class'!$D$3","v":20},{"$f":"'Course 1 Class'!$E$3","v":20},{"$f":"'Course 1 Class'!$F$3","v":20},{"$f":"'Course 1 Class'!$G$3","v":25},{"$f":"'Course 1 Class'!$H$3","v":" "},{"$f":"'Course 1 Class'!$I$3","v":75},{"$f":"'Course 1 Class'!$J$3","v":"Evaluation"}]
[{"$f":"'Course 1 Class'!$A$4","v":"Red is late turn-in"},null,{"$f":"'Course 1 Class'!$C$4","v":"Blue is absent"},{"$f":"'Course 1 Class'!$D$4","v":"CH 13 "},{"$f":"'Course 1 Class'!$E$4","v":"Lube"},{"$f":"'Course 1 Class'!$F$4","v":"Lube"},{"$f":"'Course 1 Class'!$G$4","v":"Condition"},{"$f":"'Course 1 Class'!$H$4","v":"Extra"},{"$f":"'Course 1 Class'!$I$4","v":"Final"},{"$f":"'Course 1 Class'!$J$4","v":"Classroom"},null,{"$f":"'Course 1 Class'!$L$4","v":"Professionalism"},null,null,{"$f":"'Course 1 Class'!$O$4","v":"Lab"},null,{"$f":"'Course 1 Class'!$Q$4","v":"Total  "},{"$f":"'Course 1 Class'!$R$4","v":"Letter"}]
[{"$f":"'Course 1 Class'!$A$5","v":"I D "},{"$f":"'Course 1 Class'!$B$5","v":"First:"},{"$f":"'Course 1 Class'!$C$5","v":"Last:"},{"$f":"'Course 1 Class'!$D$5","v":"Test"},{"$f":"'Course 1 Class'!$E$5","v":"HW"},{"$f":"'Course 1 Class'!$F$5","v":"Test"},{"$f":"'Course 1 Class'!$G$5","v":"Class"},{"$f":"'Course 1 Class'!$H$5","v":"Credit"},{"$f":"'Course 1 Class'!$I$5","v":"Test"},{"$f":"'Course 1 Class'!$J$5","v":"Points"},{"$f":"'Course 1 Class'!$K$5","v":"%"},{"$f":"'Course 1 Class'!$L$5","v":"Attendance"},{"$f":"'Course 1 Class'!$M$5","v":"Points"},{"$f":"'Course 1 Class'!$N$5","v":"%"},{"$f":"'Course 1 Class'!$O$5","v":"Points"},{"$f":"'Course 1 Class'!$P$5","v":"%"},{"$f":"'Course 1 Class'!$Q$5","v":"%"},{"$f":"'Course 1 Class'!$R$5","v":"Grade"}]
[{"$f":"'Course 1 Class'!$A$6","v":{"v":1,"d":"00000001"}},{"$f":"'Course 1 Class'!$B$6","v":"Student"},{"$f":"'Course 1 Class'!$C$6","v":"One"},{"$f":"'Course 1 Class'!$D$6","v":0},{"$f":"'Course 1 Class'!$E$6","v":0},{"$f":"'Course 1 Class'!$F$6","v":0},{"$f":"'Course 1 Class'!$G$6","v":0},{"$f":"'Course 1 Class'!$H$6","v":0},{"$f":"'Course 1 Class'!$I$6","v":0},{"$f":"'Course 1 Class'!$J$6","v":0},{"$f":"'Course 1 Class'!$K$6","v":{"v":0,"d":"0%"}},{"$f":"'Course 1 Class'!$L$6","v":{"v":1,"d":"100%"}},{"$f":"'Course 1 Class'!$M$6","v":72},{"$f":"'Course 1 Class'!$N$6","v":{"v":1,"d":"100%"}},{"$f":"'Course 1 Class'!$O$6","v":0},{"$f":"'Course 1 Class'!$P$6","v":{"v":0,"d":"0%"}},{"$f":"'Course 1 Class'!$Q$6","v":{"v":0.25,"d":"25%"}},{"$f":"'Course 1 Class'!$R$6","v":"F"}]
[{"$f":"'Course 1 Lab'!$A$1","v":"Course 1 Engine Diagnosis. Lab"}]
[{"$f":"'Course 1 Lab'!$A$2","v":"  Max Shop Points:"},null,{"$f":"'Course 1 Lab'!$C$2","v":1325},{"$f":"'Course 1 Lab'!$D$2","v":"Dry"},{"$f":"'Course 1 Lab'!$E$2","v":"Wet"},{"$f":"'Course 1 Lab'!$F$2","v":"Running"},{"$f":"'Course 1 Lab'!$G$2","v":"Cylinder"},{"$f":"'Course 1 Lab'!$H$2","v":"Oil"},{"$f":"'Course 1 Lab'!$I$2","v":"Cooling"},{"$f":"'Course 1 Lab'!$J$2","v":"Vacuum"},{"$f":"'Course 1 Lab'!$K$2","v":"PCV"},{"$f":"'Course 1 Lab'!$L$2","v":"Thermostat"},{"$f":"'Course 1 Lab'!$M$2","v":"Fluid"},{"$f":"'Course 1 Lab'!$N$2","v":"Diag"},{"$f":"'Course 1 Lab'!$O$2","v":" "}]
[{"$f":"'Course 1 Lab'!$A$3","v":"Max shop points available depend on how much customer work is done."},null,null,{"$f":"'Course 1 Lab'!$D$3","v":"Compr"},{"$f":"'Course 1 Lab'!$E$3","v":"Compr"},{"$f":"'Course 1 Lab'!$F$3","v":"Compr"},{"$f":"'Course 1 Lab'!$G$3","v":"Leakage"},{"$f":"'Course 1 Lab'!$H$3","v":"Pressure"},{"$f":"'Course 1 Lab'!$I$3","v":"System"},{"$f":"'Course 1 Lab'!$J$3","v":"Gauge"},{"$f":"'Course 1 Lab'!$K$3","v":"System"},{"$f":"'Course 1 Lab'!$L$3","v":"and fan"},{"$f":"'Course 1 Lab'!$M$3","v":"Leak"},{"$f":"'Course 1 Lab'!$N$3","v":"gauges"},{"$f":"'Course 1 Lab'!$O$3","v":"Cus"},{"$f":"'Course 1 Lab'!$P$3","v":"Comp"}]
[{"$nulls":3},{"$f":"'Course 1 Lab'!$D$4","v":"Test"},{"$f":"'Course 1 Lab'!$E$4","v":"Test"},{"$f":"'Course 1 Lab'!$F$4","v":"Test"},{"$f":"'Course 1 Lab'!$G$4","v":"Test"},{"$f":"'Course 1 Lab'!$H$4","v":"Test"},{"$f":"'Course 1 Lab'!$I$4","v":"Test"},{"$f":"'Course 1 Lab'!$J$4","v":"Test"},{"$f":"'Course 1 Lab'!$K$4","v":"Check"},{"$f":"'Course 1 Lab'!$L$4","v":"Operation"},{"$f":"'Course 1 Lab'!$M$4","v":"Check"},{"$f":"'Course 1 Lab'!$N$4","v":"any vehicle"},{"$f":"'Course 1 Lab'!$O$4","v":"tomer"},{"$f":"'Course 1 Lab'!$P$4","v":"etency"},{"$f":"'Course 1 Lab'!$Q$4","v":"  "},{"$f":"'Course 1 Lab'!$R$4","v":" "}]
[{"$nulls":3},{"$f":"'Course 1 Lab'!$D$5","v":2},{"$f":"'Course 1 Lab'!$E$5","v":2},{"$f":"'Course 1 Lab'!$F$5","v":2},{"$f":"'Course 1 Lab'!$G$5","v":2},{"$f":"'Course 1 Lab'!$H$5","v":2},{"$f":"'Course 1 Lab'!$I$5","v":2},{"$f":"'Course 1 Lab'!$J$5","v":2},{"$f":"'Course 1 Lab'!$K$5","v":2},{"$f":"'Course 1 Lab'!$L$5","v":2},{"$f":"'Course 1 Lab'!$M$5","v":1},{"$f":"'Course 1 Lab'!$N$5","v":1},{"$f":"'Course 1 Lab'!$O$5","v":"Work"},{"$f":"'Course 1 Lab'!$P$5","v":"0 or 1"},{"$f":"'Course 1 Lab'!$Q$5","v":"Lab"}]
[{"$f":"'Course 1 Lab'!$A$6","v":"ID"},{"$f":"'Course 1 Lab'!$B$6","v":"First:"},{"$f":"'Course 1 Lab'!$C$6","v":"Last:"},{"$f":"'Course 1 Lab'!$D$6","v":100},{"$f":"'Course 1 Lab'!$E$6","v":100},{"$f":"'Course 1 Lab'!$F$6","v":100},{"$f":"'Course 1 Lab'!$G$6","v":100},{"$f":"'Course 1 Lab'!$H$6","v":100},{"$f":"'Course 1 Lab'!$I$6","v":150},{"$f":"'Course 1 Lab'!$J$6","v":100},{"$f":"'Course 1 Lab'!$K$6","v":50},{"$f":"'Course 1 Lab'!$L$6","v":100},{"$f":"'Course 1 Lab'!$M$6","v":25},{"$f":"'Course 1 Lab'!$N$6","v":100},{"$f":"'Course 1 Lab'!$O$6","v":300},{"$f":"'Course 1 Lab'!$P$6","v":"*"},{"$f":"'Course 1 Lab'!$Q$6","v":"Points"},{"$f":"'Course 1 Lab'!$R$6","v":"%"}]
[{"$f":"'Course 1 Lab'!$A$7","v":{"v":1,"d":"00000001"}},{"$f":"'Course 1 Lab'!$B$7","v":"Student"},{"$f":"'Course 1 Lab'!$C$7","v":"One"},{"$f":"'Course 1 Lab'!$D$7","v":0},{"$f":"'Course 1 Lab'!$E$7","v":0},{"$f":"'Course 1 Lab'!$F$7","v":0},{"$f":"'Course 1 Lab'!$G$7","v":0},{"$f":"'Course 1 Lab'!$H$7","v":0},{"$f":"'Course 1 Lab'!$I$7","v":0},{"$f":"'Course 1 Lab'!$J$7","v":0},{"$f":"'Course 1 Lab'!$K$7","v":0},{"$f":"'Course 1 Lab'!$L$7","v":0},{"$f":"'Course 1 Lab'!$M$7","v":0},{"$f":"'Course 1 Lab'!$N$7","v":0},{"$f":"'Course 1 Lab'!$O$7","v":0},{"$f":"'Course 1 Lab'!$P$7","v":1},{"$f":"'Course 1 Lab'!$Q$7","v":0},{"$f":"'Course 1 Lab'!$R$7","v":{"v":0,"d":"0%"}}]
[{"$f":"'Course 2 Class'!$A$1","v":"Course 2 Engine Theory & Repair. Class"},{"$nulls":8},{"$f":"'Course 2 Class'!$J$1","v":25}]
[{"$f":"'Course 2 Class'!$A$2","v":" "},{"$f":"'Course 2 Class'!$B$2","v":"Date assignment is due:"},null,{"$f":"'Course 2 Class'!$D$2","v":"TBD"},{"$f":"'Course 2 Class'!$E$2","v":"TBD"},{"$f":"'Course 2 Class'!$F$2","v":"TBD"},{"$f":"'Course 2 Class'!$G$2","v":"TBD"},{"$f":"'Course 2 Class'!$H$2","v":"TBD"},{"$f":"'Course 2 Class'!$I$2","v":"TBD"},{"$f":"'Course 2 Class'!$J$2","v":"TBD"},{"$f":"'Course 2 Class'!$K$2","v":"TBD"}]
[{"$f":"'Course 2 Class'!$A$3","v":"Class Room Points:"},null,{"$f":"'Course 2 Class'!$C$3","v":201},{"$f":"'Course 2 Class'!$D$3","v":10},{"$f":"'Course 2 Class'!$E$3","v":10},{"$f":"'Course 2 Class'!$F$3","v":20},{"$f":"'Course 2 Class'!$G$3","v":20},{"$f":"'Course 2 Class'!$H$3","v":16},{"$f":"'Course 2 Class'!$I$3","v":25},{"$f":"'Course 2 Class'!$J$3","v":" "},{"$f":"'Course 2 Class'!$K$3","v":100},{"$f":"'Course 2 Class'!$L$3","v":"Evaluation"}]
[{"$f":"'Course 2 Class'!$A$4","v":"Red is late turn-in"},null,{"$f":"'Course 2 Class'!$C$4","v":"Blue is absent"},{"$f":"'Course 2 Class'!$D$4","v":"HW"},{"$f":"'Course 2 Class'!$E$4","v":"HW "},{"$f":"'Course 2 Class'!$F$4","v":"Test"},{"$f":"'Course 2 Class'!$G$4","v":"Test"},{"$f":"'Course 2 Class'!$H$4","v":"HW"},{"$f":"'Course 2 Class'!$I$4","v":"Test"},{"$f":"'Course 2 Class'!$J$4","v":"Extra"},{"$f":"'Course 2 Class'!$K$4","v":"Final "},{"$f":"'Course 2 Class'!$L$4","v":"Class"},null,{"$f":"'Course 2 Class'!$N$4","v":"Professionalism"},null,null,{"$f":"'Course 2 Class'!$Q$4","v":"Lab"},null,{"$f":"'Course 2 Class'!$S$4","v":"Total  "},{"$f":"'Course 2 Class'!$T$4","v":"Letter"}]
[{"$f":"'Course 2 Class'!$A$5","v":"I D "},{"$f":"'Course 2 Class'!$B$5","v":"First:"},{"$f":"'Course 2 Class'!$C$5","v":"Last:"},{"$f":"'Course 2 Class'!$D$5","v":"CH 7"},{"$f":"'Course 2 Class'!$E$5","v":"CH 14"},{"$f":"'Course 2 Class'!$F$5","v":"C & L"},{"$f":"'Course 2 Class'!$G$5","v":"CH 18"},{"$f":"'Course 2 Class'!$H$5","v":"CH 22"},{"$f":"'Course 2 Class'!$I$5","v":"CH 22"},{"$f":"'Course 2 Class'!$J$5","v":"Credit"},{"$f":"'Course 2 Class'!$K$5","v":"TEST"},{"$f":"'Course 2 Class'!$L$5","v":"Points"},{"$f":"'Course 2 Class'!$M$5","v":"%"},{"$f":"'Course 2 Class'!$N$5","v":"Attendance"},{"$f":"'Course 2 Class'!$O$5","v":"Points"},{"$f":"'Course 2 Class'!$P$5","v":"%"},{"$f":"'Course 2 Class'!$Q$5","v":"Points"},{"$f":"'Course 2 Class'!$R$5","v":"%"},{"$f":"'Course 2 Class'!$S$5","v":"%"},{"$f":"'Course 2 Class'!$T$5","v":"Grade"}]
[{"$f":"'Course 2 Class'!$A$6","v":{"v":1,"d":"00000001"}},{"$f":"'Course 2 Class'!$B$6","v":"Student"},{"$f":"'Course 2 Class'!$C$6","v":"One"},{"$f":"'Course 2 Class'!$D$6","v":0},{"$f":"'Course 2 Class'!$E$6","v":0},{"$f":"'Course 2 Class'!$F$6","v":0},{"$f":"'Course 2 Class'!$G$6","v":0},{"$f":"'Course 2 Class'!$H$6","v":0},{"$f":"'Course 2 Class'!$I$6","v":0},{"$f":"'Course 2 Class'!$J$6","v":0},{"$f":"'Course 2 Class'!$K$6","v":0},{"$f":"'Course 2 Class'!$L$6","v":0},{"$f":"'Course 2 Class'!$M$6","v":{"v":0,"d":"0%"}},{"$f":"'Course 2 Class'!$N$6","v":{"v":1,"d":"100%"}},{"$f":"'Course 2 Class'!$O$6","v":72},{"$f":"'Course 2 Class'!$P$6","v":{"v":1,"d":"100%"}},{"$f":"'Course 2 Class'!$Q$6","v":0},{"$f":"'Course 2 Class'!$R$6","v":{"v":0,"d":"0%"}},{"$f":"'Course 2 Class'!$S$6","v":{"v":0.25,"d":"25%"}},{"$f":"'Course 2 Class'!$T$6","v":"F"}]
[{"$f":"'Course 2 Lab'!$A$1","v":"Course 2 Engine Theory & Repair. Lab"}]
[{"$f":"'Course 2 Lab'!$A$2","v":"  Max Shop Points:"},null,{"$f":"'Course 2 Lab'!$C$2","v":1450},{"$f":"'Course 2 Lab'!$D$2","v":"Engine"},{"$f":"'Course 2 Lab'!$E$2","v":"Cylinder"},{"$f":"'Course 2 Lab'!$F$2","v":"Red"},{"$f":"'Course 2 Lab'!$G$2","v":"Mitsubishi"},{"$f":"'Course 2 Lab'!$H$2","v":"Any"},{"$f":"'Course 2 Lab'!$I$2","v":"DOHC"},{"$f":"'Course 2 Lab'!$J$2","v":"Valve seal"},{"$f":"'Course 2 Lab'!$K$2","v":"Misc."},{"$f":"'Course 2 Lab'!$L$2","v":" "}]
[{"$f":"'Course 2 Lab'!$A$3","v":"Max shop points available depend on how much customer work is done."},null,null,{"$f":"'Course 2 Lab'!$D$3","v":"Disassemble"},{"$f":"'Course 2 Lab'!$E$3","v":"Head"},{"$f":"'Course 2 Lab'!$F$3","v":"Dodge"},{"$f":"'Course 2 Lab'!$G$3","v":"\"3.0L\""},{"$f":"'Course 2 Lab'!$H$3","v":"Engine"},{"$f":"'Course 2 Lab'!$I$3","v":"Engine"},{"$f":"'Course 2 Lab'!$J$3","v":"&"},{"$f":"'Course 2 Lab'!$K$3","v":"Engine "},{"$f":"'Course 2 Lab'!$L$3","v":"Cus"},{"$f":"'Course 2 Lab'!$M$3","v":"Comp"}]
[{"$nulls":3},{"$f":"'Course 2 Lab'!$D$4","v":"& Measure"},{"$f":"'Course 2 Lab'!$E$4","v":"Repair"},{"$f":"'Course 2 Lab'!$F$4","v":"Clip"},{"$f":"'Course 2 Lab'!$G$4","v":"Clip"},{"$f":"'Course 2 Lab'!$H$4","v":"T-chain"},{"$f":"'Course 2 Lab'!$I$4","v":" Stand"},{"$f":"'Course 2 Lab'!$J$4","v":"Lobe lift"},{"$f":"'Course 2 Lab'!$K$4","v":"Points"},{"$f":"'Course 2 Lab'!$L$4","v":"tomer"},{"$f":"'Course 2 Lab'!$M$4","v":"etency"},{"$f":"'Course 2 Lab'!$N$4","v":" "},{"$f":"'Course 2 Lab'!$O$4","v":" "}]
[{"$nulls":3},{"$f":"'Course 2 Lab'!$D$5","v":1},{"$f":"'Course 2 Lab'!$E$5","v":1},{"$f":"'Course 2 Lab'!$F$5","v":1},{"$f":"'Course 2 Lab'!$G$5","v":1},{"$f":"'Course 2 Lab'!$H$5","v":1},{"$f":"'Course 2 Lab'!$I$5","v":1},{"$f":"'Course 2 Lab'!$J$5","v":1},null,{"$f":"'Course 2 Lab'!$L$5","v":"Work"},{"$f":"'Course 2 Lab'!$M$5","v":"0 or 1"},{"$f":"'Course 2 Lab'!$N$5","v":"Lab"}]
[{"$f":"'Course 2 Lab'!$A$6","v":"ID"},{"$f":"'Course 2 Lab'!$B$6","v":"First:"},{"$f":"'Course 2 Lab'!$C$6","v":"Last:"},{"$f":"'Course 2 Lab'!$D$6","v":300},{"$f":"'Course 2 Lab'!$E$6","v":200},{"$f":"'Course 2 Lab'!$F$6","v":100},{"$f":"'Course 2 Lab'!$G$6","v":100},{"$f":"'Course 2 Lab'!$H$6","v":100},{"$f":"'Course 2 Lab'!$I$6","v":100},{"$f":"'Course 2 Lab'!$J$6","v":50},{"$f":"'Course 2 Lab'!$K$6","v":200},{"$f":"'Course 2 Lab'!$L$6","v":300},{"$f":"'Course 2 Lab'!$M$6","v":"*"},{"$f":"'Course 2 Lab'!$N$6","v":"Points"},{"$f":"'Course 2 Lab'!$O$6","v":"%"}]
[{"$f":"'Course 2 Lab'!$A$7","v":{"v":1,"d":"00000001"}},{"$f":"'Course 2 Lab'!$B$7","v":"Student"},{"$f":"'Course 2 Lab'!$C$7","v":"One"},{"$f":"'Course 2 Lab'!$D$7","v":0},{"$f":"'Course 2 Lab'!$E$7","v":0},{"$f":"'Course 2 Lab'!$F$7","v":0},{"$f":"'Course 2 Lab'!$G$7","v":0},{"$f":"'Course 2 Lab'!$H$7","v":0},{"$f":"'Course 2 Lab'!$I$7","v":0},{"$f":"'Course 2 Lab'!$J$7","v":0},{"$f":"'Course 2 Lab'!$K$7","v":0},{"$f":"'Course 2 Lab'!$L$7","v":0},{"$f":"'Course 2 Lab'!$M$7","v":1},{"$f":"'Course 2 Lab'!$N$7","v":0},{"$f":"'Course 2 Lab'!$O$7","v":{"v":0,"d":"0%"}}]
[{"$f":"'Course 3 Class'!$A$1","v":"Course 3 Steering & Suspension. Class."},{"$nulls":11},{"$f":"'Course 3 Class'!$M$1","v":25}]
[{"$f":"'Course 3 Class'!$A$2","v":" "},{"$f":"'Course 3 Class'!$B$2","v":"Date assignment is due:"},null,{"$f":"'Course 3 Class'!$D$2","v":"1/18"},{"$f":"'Course 3 Class'!$E$2","v":"2/2"},{"$f":"'Course 3 Class'!$F$2","v":"TBD"},{"$f":"'Course 3 Class'!$G$2","v":"TBD"},{"$f":"'Course 3 Class'!$H$2","v":"TBD"},{"$f":"'Course 3 Class'!$I$2","v":"TBD"},{"$f":"'Course 3 Class'!$J$2","v":"TBD"},{"$f":"'Course 3 Class'!$K$2","v":"TBD"},{"$f":"'Course 3 Class'!$L$2","v":"TBD"},{"$f":"'Course 3 Class'!$M$2","v":"TBD"},{"$f":"'Course 3 Class'!$N$2","v":"TBD"}]
[{"$f":"'Course 3 Class'!$A$3","v":"Class Room Points:"},null,{"$f":"'Course 3 Class'!$C$3","v":330},{"$f":"'Course 3 Class'!$D$3","v":20},{"$f":"'Course 3 Class'!$E$3","v":20},{"$f":"'Course 3 Class'!$F$3","v":24},{"$f":"'Course 3 Class'!$G$3","v":20},{"$f":"'Course 3 Class'!$H$3","v":25},{"$f":"'Course 3 Class'!$I$3","v":30},{"$f":"'Course 3 Class'!$J$3","v":20},{"$f":"'Course 3 Class'!$K$3","v":26},{"$f":"'Course 3 Class'!$L$3","v":45},{"$f":"'Course 3 Class'!$M$3","v":" "},{"$f":"'Course 3 Class'!$N$3","v":100},{"$f":"'Course 3 Class'!$O$3","v":"Evaluation"}]
[{"$f":"'Course 3 Class'!$A$4","v":"Red is late turn-in"},null,{"$f":"'Course 3 Class'!$C$4","v":"Blue is absent"},{"$f":"'Course 3 Class'!$D$4","v":"HW"},{"$f":"'Course 3 Class'!$E$4","v":"HW"},{"$f":"'Course 3 Class'!$F$4","v":"HW"},{"$f":"'Course 3 Class'!$G$4","v":"QZ"},{"$f":"'Course 3 Class'!$H$4","v":"HW"},{"$f":"'Course 3 Class'!$I$4","v":"HW"},{"$f":"'Course 3 Class'!$J$4","v":"Test"},{"$f":"'Course 3 Class'!$K$4","v":"HW"},{"$f":"'Course 3 Class'!$L$4","v":"Class"},{"$f":"'Course 3 Class'!$M$4","v":"Extra"},{"$f":"'Course 3 Class'!$N$4","v":"Final"},{"$f":"'Course 3 Class'!$O$4","v":"Class"},null,{"$f":"'Course 3 Class'!$Q$4","v":"Professionalism"},null,null,{"$f":"'Course 3 Class'!$T$4","v":"Lab"},null,{"$f":"'Course 3 Class'!$V$4","v":"Total  "},{"$f":"'Course 3 Class'!$W$4","v":"Letter"}]
[{"$f":"'Course 3 Class'!$A$5","v":"I D "},{"$f":"'Course 3 Class'!$B$5","v":"First:"},{"$f":"'Course 3 Class'!$C$5","v":"Last:"},{"$f":"'Course 3 Class'!$D$5","v":"CH 1"},{"$f":"'Course 3 Class'!$E$5","v":"CH 2"},{"$f":"'Course 3 Class'!$F$5","v":"CH 3"},{"$f":"'Course 3 Class'!$G$5","v":"1"},{"$f":"'Course 3 Class'!$H$5","v":"CH 6"},{"$f":"'Course 3 Class'!$I$5","v":"CH 9"},{"$f":"'Course 3 Class'!$J$5","v":"1 – 9"},{"$f":"'Course 3 Class'!$K$5","v":"CH 12"},{"$f":"'Course 3 Class'!$L$5","v":"Project"},{"$f":"'Course 3 Class'!$M$5","v":"Credit"},{"$f":"'Course 3 Class'!$N$5","v":"TEST"},{"$f":"'Course 3 Class'!$O$5","v":"Points"},{"$f":"'Course 3 Class'!$P$5","v":"%"},{"$f":"'Course 3 Class'!$Q$5","v":"Attendance"},{"$f":"'Course 3 Class'!$R$5","v":"Points"},{"$f":"'Course 3 Class'!$S$5","v":"%"},{"$f":"'Course 3 Class'!$T$5","v":"Points"},{"$f":"'Course 3 Class'!$U$5","v":"%"},{"$f":"'Course 3 Class'!$V$5","v":"%"},{"$f":"'Course 3 Class'!$W$5","v":"Grade"}]
[{"$f":"'Course 3 Class'!$A$6","v":{"v":1,"d":"00000001"}},{"$f":"'Course 3 Class'!$B$6","v":"Student"},{"$f":"'Course 3 Class'!$C$6","v":"One"},{"$f":"'Course 3 Class'!$D$6","v":0},{"$f":"'Course 3 Class'!$E$6","v":0},{"$f":"'Course 3 Class'!$F$6","v":0},{"$f":"'Course 3 Class'!$G$6","v":0},{"$f":"'Course 3 Class'!$H$6","v":0},{"$f":"'Course 3 Class'!$I$6","v":0},{"$f":"'Course 3 Class'!$J$6","v":0},{"$f":"'Course 3 Class'!$K$6","v":0},{"$f":"'Course 3 Class'!$L$6","v":0},{"$f":"'Course 3 Class'!$M$6","v":0},{"$f":"'Course 3 Class'!$N$6","v":0},{"$f":"'Course 3 Class'!$O$6","v":0},{"$f":"'Course 3 Class'!$P$6","v":{"v":0,"d":"0%"}},{"$f":"'Course 3 Class'!$Q$6","v":{"v":1,"d":"100%"}},{"$f":"'Course 3 Class'!$R$6","v":72},{"$f":"'Course 3 Class'!$S$6","v":{"v":1,"d":"100%"}},{"$f":"'Course 3 Class'!$T$6","v":0},{"$f":"'Course 3 Class'!$U$6","v":{"v":0,"d":"0%"}},{"$f":"'Course 3 Class'!$V$6","v":{"v":0.25,"d":"25%"}},{"$f":"'Course 3 Class'!$W$6","v":"F"}]
[{"$f":"'Course 3 Lab'!$A$1","v":"Course 3 Steering & Suspension. Lab"}]
[{"$f":"'Course 3 Lab'!$A$2","v":"Max shop points"},null,{"$f":"'Course 3 Lab'!$C$2","v":1350},{"$f":"'Course 3 Lab'!$D$2","v":"Repair"},{"$f":"'Course 3 Lab'!$E$2","v":"Identify"},{"$f":"'Course 3 Lab'!$F$2","v":"Repair"},{"$f":"'Course 3 Lab'!$G$2","v":"Identify"},{"$f":"'Course 3 Lab'!$H$2","v":"Repair"},{"$f":"'Course 3 Lab'!$I$2","v":"R&R"},{"$f":"'Course 3 Lab'!$J$2","v":"R&R"},{"$f":"'Course 3 Lab'!$K$2","v":"R&R"},{"$f":"'Course 3 Lab'!$L$2","v":"P/S"},{"$f":"'Course 3 Lab'!$M$2","v":"R&R"},{"$f":"'Course 3 Lab'!$N$2","v":"NVH"},{"$f":"'Course 3 Lab'!$O$2","v":" "}]
[{"$f":"'Course 3 Lab'!$A$3","v":"Max shop points available depend on how much customer work is done."},null,null,{"$f":"'Course 3 Lab'!$D$3","v":"SLA"},{"$f":"'Course 3 Lab'!$E$3","v":"SLA"},{"$f":"'Course 3 Lab'!$F$3","v":"Mac-P"},{"$f":"'Course 3 Lab'!$G$3","v":"Mac-P"},{"$f":"'Course 3 Lab'!$H$3","v":"Rear"},{"$f":"'Course 3 Lab'!$I$3","v":"Rack &"},{"$f":"'Course 3 Lab'!$J$3","v":"Recirc."},{"$f":"'Course 3 Lab'!$K$3","v":"P/S"},{"$f":"'Course 3 Lab'!$L$3","v":"Pump"},{"$f":"'Course 3 Lab'!$M$3","v":"Inner"},{"$f":"'Course 3 Lab'!$N$3","v":"Runout &"},{"$f":"'Course 3 Lab'!$O$3","v":"Cus"},{"$f":"'Course 3 Lab'!$P$3","v":"Comp"}]
[{"$nulls":3},{"$f":"'Course 3 Lab'!$D$4","v":"Susp"},{"$f":"'Course 3 Lab'!$E$4","v":"Parts"},{"$f":"'Course 3 Lab'!$F$4","v":"Susp"},{"$f":"'Course 3 Lab'!$G$4","v":"Parts"},{"$f":"'Course 3 Lab'!$H$4","v":"Susp"},{"$f":"'Course 3 Lab'!$I$4","v":"Pinion"},{"$f":"'Course 3 Lab'!$J$4","v":"Gear"},{"$f":"'Course 3 Lab'!$K$4","v":"Pump"},{"$f":"'Course 3 Lab'!$L$4","v":"Test"},{"$f":"'Course 3 Lab'!$M$4","v":"Tie-Rod"},{"$f":"'Course 3 Lab'!$N$4","v":"bal. Check"},{"$f":"'Course 3 Lab'!$O$4","v":"tomer"},{"$f":"'Course 3 Lab'!$P$4","v":"etency"},{"$f":"'Course 3 Lab'!$Q$4","v":" "},{"$f":"'Course 3 Lab'!$R$4","v":" "},null,null,{"$f":"'Misc data'!$E$2","v":"Final Grade"}]
[{"$nulls":3},{"$f":"'Course 3 Lab'!$D$5","v":1},{"$f":"'Course 3 Lab'!$E$5","v":2},{"$f":"'Course 3 Lab'!$F$5","v":3},{"$f":"'Course 3 Lab'!$G$5","v":2},{"$f":"'Course 3 Lab'!$H$5","v":1},{"$f":"'Course 3 Lab'!$I$5","v":1},{"$f":"'Course 3 Lab'!$J$5","v":1},{"$f":"'Course 3 Lab'!$K$5","v":1},{"$f":"'Course 3 Lab'!$L$5","v":1},{"$f":"'Course 3 Lab'!$M$5","v":1},{"$f":"'Course 3 Lab'!$N$5","v":1},{"$f":"'Course 3 Lab'!$O$5","v":"Work"},{"$f":"'Course 3 Lab'!$P$5","v":"0 or 1"},{"$f":"'Course 3 Lab'!$Q$5","v":"Lab"},{"$nulls":3},{"$f":"'Misc data'!$E$3","v":{"v":0,"d":"0%"}},{"$f":"'Misc data'!$F$3","v":"F"}]
[{"$f":"'Course 3 Lab'!$A$6","v":"ID"},{"$f":"'Course 3 Lab'!$B$6","v":"First:"},{"$f":"'Course 3 Lab'!$C$6","v":"Last:"},{"$f":"'Course 3 Lab'!$D$6","v":150},{"$f":"'Course 3 Lab'!$E$6","v":50},{"$f":"'Course 3 Lab'!$F$6","v":225},{"$f":"'Course 3 Lab'!$G$6","v":50},{"$f":"'Course 3 Lab'!$H$6","v":50},{"$f":"'Course 3 Lab'!$I$6","v":150},{"$f":"'Course 3 Lab'!$J$6","v":125},{"$f":"'Course 3 Lab'!$K$6","v":50},{"$f":"'Course 3 Lab'!$L$6","v":50},{"$f":"'Course 3 Lab'!$M$6","v":50},{"$f":"'Course 3 Lab'!$N$6","v":100},{"$f":"'Course 3 Lab'!$O$6","v":300},{"$f":"'Course 3 Lab'!$P$6","v":"*"},{"$f":"'Course 3 Lab'!$Q$6","v":"Points"},{"$f":"'Course 3 Lab'!$R$6","v":"%"},null,null,{"$f":"'Misc data'!$E$4","v":{"v":0.695,"d":"70%"}},{"$f":"'Misc data'!$F$4","v":"D-"}]
[{"$f":"'Course 3 Lab'!$A$7","v":{"v":1,"d":"00000001"}},{"$f":"'Course 3 Lab'!$B$7","v":"Student"},{"$f":"'Course 3 Lab'!$C$7","v":"One"},{"$f":"'Course 3 Lab'!$D$7","v":0},{"$f":"'Course 3 Lab'!$E$7","v":0},{"$f":"'Course 3 Lab'!$F$7","v":0},{"$f":"'Course 3 Lab'!$G$7","v":0},{"$f":"'Course 3 Lab'!$H$7","v":0},{"$f":"'Course 3 Lab'!$I$7","v":0},{"$f":"'Course 3 Lab'!$J$7","v":0},{"$f":"'Course 3 Lab'!$K$7","v":0},{"$f":"'Course 3 Lab'!$L$7","v":0},{"$f":"'Course 3 Lab'!$M$7","v":0},{"$f":"'Course 3 Lab'!$N$7","v":0},{"$f":"'Course 3 Lab'!$O$7","v":0},{"$f":"'Course 3 Lab'!$P$7","v":1},{"$f":"'Course 3 Lab'!$Q$7","v":0},{"$f":"'Course 3 Lab'!$R$7","v":{"v":0,"d":"0%"}},null,null,{"$f":"'Misc data'!$E$5","v":{"v":0.715,"d":"72%"}},{"$f":"'Misc data'!$F$5","v":"D"}]
[{"$f":"'Course 4 Class'!$A$1","v":"Course 4 Alignment. Class."},{"$nulls":7},{"$f":"'Course 4 Class'!$I$1","v":25},{"$nulls":11},{"$f":"'Misc data'!$E$6","v":{"v":0.735,"d":"74%"}},{"$f":"'Misc data'!$F$6","v":"D+"}]
[{"$f":"'Course 4 Class'!$A$2","v":" "},{"$f":"'Course 4 Class'!$B$2","v":"Date assignment is due  "},null,{"$f":"'Course 4 Class'!$D$2","v":"TBD"},{"$f":"'Course 4 Class'!$E$2","v":"TBD"},{"$f":"'Course 4 Class'!$F$2","v":"TBD"},{"$f":"'Course 4 Class'!$G$2","v":"TBD"},{"$f":"'Course 4 Class'!$H$2","v":"TBD"},{"$f":"'Course 4 Class'!$I$2","v":"TBD"},{"$f":"'Course 4 Class'!$J$2","v":"TBD"},{"$nulls":10},{"$f":"'Misc data'!$E$7","v":{"v":0.755,"d":"76%"}},{"$f":"'Misc data'!$F$7","v":"C-"}]
[{"$f":"'Course 4 Class'!$A$3","v":"Class Room Points:"},null,{"$f":"'Course 4 Class'!$C$3","v":235},{"$f":"'Course 4 Class'!$D$3","v":25},{"$f":"'Course 4 Class'!$E$3","v":25},{"$f":"'Course 4 Class'!$F$3","v":20},{"$f":"'Course 4 Class'!$G$3","v":40},{"$f":"'Course 4 Class'!$H$3","v":50},{"$f":"'Course 4 Class'!$I$3","v":" "},{"$f":"'Course 4 Class'!$J$3","v":75},{"$f":"'Course 4 Class'!$K$3","v":"Evaluation"},{"$nulls":9},{"$f":"'Misc data'!$E$8","v":{"v":0.785,"d":"79%"}},{"$f":"'Misc data'!$F$8","v":"C"}]
[{"$f":"'Course 4 Class'!$A$4","v":"Red is late turn-in"},null,{"$f":"'Course 4 Class'!$C$4","v":"Blue is absent"},{"$f":"'Course 4 Class'!$D$4","v":"CH 16"},{"$f":"'Course 4 Class'!$E$4","v":"CH 16"},{"$f":"'Course 4 Class'!$F$4","v":"Align"},{"$f":"'Course 4 Class'!$G$4","v":"In class"},{"$f":"'Course 4 Class'!$H$4","v":"In class"},{"$f":"'Course 4 Class'!$I$4","v":"Extra"},{"$f":"'Course 4 Class'!$J$4","v":"Final"},{"$f":"'Course 4 Class'!$K$4","v":"Class"},null,{"$f":"'Course 4 Class'!$M$4","v":"Professionalism"},null,null,{"$f":"'Course 4 Class'!$P$4","v":"Lab"},null,{"$f":"'Course 4 Class'!$R$4","v":"Total  "},{"$f":"'Course 4 Class'!$S$4","v":"Letter"},null,{"$f":"'Misc data'!$E$9","v":{"v":0.815,"d":"82%"}},{"$f":"'Misc data'!$F$9","v":"C+"}]
[{"$f":"'Course 4 Class'!$A$5","v":"I D "},{"$f":"'Course 4 Class'!$B$5","v":"First:"},{"$f":"'Course 4 Class'!$C$5","v":"Last:"},{"$f":"'Course 4 Class'!$D$5","v":"HW"},{"$f":"'Course 4 Class'!$E$5","v":"Test"},{"$f":"'Course 4 Class'!$F$5","v":"HW"},{"$f":"'Course 4 Class'!$G$5","v":"Project1"},{"$f":"'Course 4 Class'!$H$5","v":"Project2"},{"$f":"'Course 4 Class'!$I$5","v":"Credit"},{"$f":"'Course 4 Class'!$J$5","v":"Test"},{"$f":"'Course 4 Class'!$K$5","v":"Points"},{"$f":"'Course 4 Class'!$L$5","v":"%"},{"$f":"'Course 4 Class'!$M$5","v":"Attendance"},{"$f":"'Course 4 Class'!$N$5","v":"Points"},{"$f":"'Course 4 Class'!$O$5","v":"%"},{"$f":"'Course 4 Class'!$P$5","v":"Points"},{"$f":"'Course 4 Class'!$Q$5","v":"%"},{"$f":"'Course 4 Class'!$R$5","v":"%"},{"$f":"'Course 4 Class'!$S$5","v":"Grade"},null,{"$f":"'Misc data'!$E$10","v":{"v":0.845,"d":"85%"}},{"$f":"'Misc data'!$F$10","v":"B-"}]
[{"$f":"'Course 4 Class'!$A$6","v":{"v":1,"d":"00000001"}},{"$f":"'Course 4 Class'!$B$6","v":"Student"},{"$f":"'Course 4 Class'!$C$6","v":"One"},{"$f":"'Course 4 Class'!$D$6","v":0},{"$f":"'Course 4 Class'!$E$6","v":0},{"$f":"'Course 4 Class'!$F$6","v":0},{"$f":"'Course 4 Class'!$G$6","v":0},{"$f":"'Course 4 Class'!$H$6","v":0},{"$f":"'Course 4 Class'!$I$6","v":0},{"$f":"'Course 4 Class'!$J$6","v":0},{"$f":"'Course 4 Class'!$K$6","v":0},{"$f":"'Course 4 Class'!$L$6","v":{"v":0,"d":"0%"}},{"$f":"'Course 4 Class'!$M$6","v":{"v":1,"d":"100%"}},{"$f":"'Course 4 Class'!$N$6","v":72},{"$f":"'Course 4 Class'!$O$6","v":{"v":1,"d":"100%"}},{"$f":"'Course 4 Class'!$P$6","v":0},{"$f":"'Course 4 Class'!$Q$6","v":{"v":0,"d":"0%"}},{"$f":"'Course 4 Class'!$R$6","v":{"v":0.25,"d":"25%"}},{"$f":"'Course 4 Class'!$S$6","v":"F"},null,{"$f":"'Misc data'!$E$11","v":{"v":0.875,"d":"88%"}},{"$f":"'Misc data'!$F$11","v":"B"}]
[{"$f":"'Course 4 Lab'!$A$1","v":"Course 4 Alignment. Lab"},{"$nulls":19},{"$f":"'Misc data'!$E$12","v":{"v":0.895,"d":"90%"}},{"$f":"'Misc data'!$F$12","v":"B+"}]
[{"$f":"'Course 4 Lab'!$A$2","v":"Max Shop Points:"},null,{"$f":"'Course 4 Lab'!$C$2","v":1300},{"$f":"'Course 4 Lab'!$D$2","v":"Alignment"},{"$f":"'Course 4 Lab'!$E$2","v":"Complete"},{"$f":"'Course 4 Lab'!$F$2","v":"Cus"},{"$f":"'Course 4 Lab'!$G$2","v":" "},{"$nulls":13},{"$f":"'Misc data'!$E$13","v":{"v":0.925,"d":"93%"}},{"$f":"'Misc data'!$F$13","v":"A-"}]
[{"$f":"'Course 4 Lab'!$A$3","v":"Max shop points available depend on how much customer work is done."},null,null,{"$f":"'Course 4 Lab'!$D$3","v":"Pre-check"},{"$f":"'Course 4 Lab'!$E$3","v":"Wheel"},{"$f":"'Course 4 Lab'!$F$3","v":"tomer"},{"$f":"'Course 4 Lab'!$G$3","v":"Comp"},{"$nulls":13},{"$f":"'Misc data'!$E$14","v":{"v":0.945,"d":"95%"}},{"$f":"'Misc data'!$F$14","v":"A"}]
[{"$nulls":3},{"$f":"'Course 4 Lab'!$D$4","v":"100 P"},{"$f":"'Course 4 Lab'!$E$4","v":"Alignment"},{"$f":"'Course 4 Lab'!$F$4","v":"Work"},{"$f":"'Course 4 Lab'!$G$4","v":"etency"},{"$f":"'Course 4 Lab'!$H$4","v":" "},{"$f":"'Course 4 Lab'!$I$4","v":" "},{"$nulls":11},{"$f":"'Misc data'!$E$15","v":{"v":1,"d":"100%"}},{"$f":"'Misc data'!$F$15","v":"A"}]
[{"$nulls":3},{"$f":"'Course 4 Lab'!$D$5","v":1},{"$f":"'Course 4 Lab'!$E$5","v":1},{"$f":"'Course 4 Lab'!$F$5","v":" "},{"$f":"'Course 4 Lab'!$G$5","v":"0 or 1"},{"$f":"'Course 4 Lab'!$H$5","v":"Lab"}]
[{"$f":"'Course 4 Lab'!$A$6","v":"ID"},{"$f":"'Course 4 Lab'!$B$6","v":"First:"},{"$f":"'Course 4 Lab'!$C$6","v":"Last:"},{"$f":"'Course 4 Lab'!$D$6","v":100},{"$f":"'Course 4 Lab'!$E$6","v":900},{"$f":"'Course 4 Lab'!$F$6","v":300},{"$f":"'Course 4 Lab'!$G$6","v":"*"},{"$f":"'Course 4 Lab'!$H$6","v":"Points"},{"$f":"'Course 4 Lab'!$I$6","v":"%"}]
[{"$f":"'Course 4 Lab'!$A$7","v":{"v":1,"d":"00000001"}},{"$f":"'Course 4 Lab'!$B$7","v":"Student"},{"$f":"'Course 4 Lab'!$C$7","v":"One"},{"$f":"'Course 4 Lab'!$D$7","v":0},{"$f":"'Course 4 Lab'!$E$7","v":0},{"$f":"'Course 4 Lab'!$F$7","v":0},{"$f":"'Course 4 Lab'!$G$7","v":1},{"$f":"'Course 4 Lab'!$H$7","v":0},{"$f":"'Course 4 Lab'!$I$7","v":{"v":0,"d":"0%"}}]
[{"$f":"'Course 5 Class'!$A$1","v":"Course 5 Brake Systems. Class."},{"$nulls":10},{"$f":"'Course 5 Class'!$L$1","v":35}]
[{"$f":"'Course 5 Class'!$A$2","v":"Date assignment is due:"},null,{"$f":"'Course 5 Class'!$C$2","v":" "},{"$f":"'Course 5 Class'!$D$2","v":"TBD"},{"$f":"'Course 5 Class'!$E$2","v":"TBD"},{"$f":"'Course 5 Class'!$F$2","v":"TBD"},{"$f":"'Course 5 Class'!$G$2","v":"TBD"},{"$f":"'Course 5 Class'!$H$2","v":"TBD"},{"$f":"'Course 5 Class'!$I$2","v":"TBD"},{"$f":"'Course 5 Class'!$J$2","v":"TBD"},{"$f":"'Course 5 Class'!$K$2","v":"TBD"},{"$f":"'Course 5 Class'!$L$2","v":"TBD"},{"$f":"'Course 5 Class'!$M$2","v":"TBD"}]
[{"$f":"'Course 5 Class'!$A$3","v":"Class Room Points:"},null,{"$f":"'Course 5 Class'!$C$3","v":440},{"$f":"'Course 5 Class'!$D$3","v":30},{"$f":"'Course 5 Class'!$E$3","v":25},{"$f":"'Course 5 Class'!$F$3","v":100},{"$f":"'Course 5 Class'!$G$3","v":30},{"$f":"'Course 5 Class'!$H$3","v":50},{"$f":"'Course 5 Class'!$I$3","v":30},{"$f":"'Course 5 Class'!$J$3","v":25},{"$f":"'Course 5 Class'!$K$3","v":50},{"$f":"'Course 5 Class'!$L$3","v":" "},{"$f":"'Course 5 Class'!$M$3","v":100},{"$f":"'Course 5 Class'!$N$3","v":"Evaluation"}]
[{"$f":"'Course 5 Class'!$A$4","v":"Red is late turn-in"},null,{"$f":"'Course 5 Class'!$C$4","v":"Blue is absent"},{"$f":"'Course 5 Class'!$D$4","v":"HW"},{"$f":"'Course 5 Class'!$E$4","v":"HW"},{"$f":"'Course 5 Class'!$F$4","v":"Test"},{"$f":"'Course 5 Class'!$G$4","v":"HW"},{"$f":"'Course 5 Class'!$H$4","v":"Test"},{"$f":"'Course 5 Class'!$I$4","v":"HW"},{"$f":"'Course 5 Class'!$J$4","v":"Test"},{"$f":"'Course 5 Class'!$K$4","v":"Class"},{"$f":"'Course 5 Class'!$L$4","v":"Extra"},{"$f":"'Course 5 Class'!$M$4","v":"Final"},{"$f":"'Course 5 Class'!$N$4","v":"Class"},null,{"$f":"'Course 5 Class'!$P$4","v":"Professionalism"},null,null,{"$f":"'Course 5 Class'!$S$4","v":"Lab"},null,{"$f":"'Course 5 Class'!$U$4","v":"Total  "},{"$f":"'Course 5 Class'!$V$4","v":"Letter"}]
[{"$f":"'Course 5 Class'!$A$5","v":"I D "},{"$f":"'Course 5 Class'!$B$5","v":"First:"},{"$f":"'Course 5 Class'!$C$5","v":"Last:"},{"$f":"'Course 5 Class'!$D$5","v":"CH 4"},{"$f":"'Course 5 Class'!$E$5","v":"CH 5"},{"$f":"'Course 5 Class'!$F$5","v":"#1"},{"$f":"'Course 5 Class'!$G$5","v":"CH 7"},{"$f":"'Course 5 Class'!$H$5","v":"Conv"},{"$f":"'Course 5 Class'!$I$5","v":"CH 20"},{"$f":"'Course 5 Class'!$J$5","v":"21/22"},{"$f":"'Course 5 Class'!$K$5","v":"Project"},{"$f":"'Course 5 Class'!$L$5","v":"Credit"},{"$f":"'Course 5 Class'!$M$5","v":"Test"},{"$f":"'Course 5 Class'!$N$5","v":"Points"},{"$f":"'Course 5 Class'!$O$5","v":"%"},{"$f":"'Course 5 Class'!$P$5","v":"Attendance"},{"$f":"'Course 5 Class'!$Q$5","v":"Points"},{"$f":"'Course 5 Class'!$R$5","v":"%"},{"$f":"'Course 5 Class'!$S$5","v":"Points"},{"$f":"'Course 5 Class'!$T$5","v":"%"},{"$f":"'Course 5 Class'!$U$5","v":"%"},{"$f":"'Course 5 Class'!$V$5","v":"Grade"}]
[{"$f":"'Course 5 Class'!$A$6","v":{"v":1,"d":"00000001"}},{"$f":"'Course 5 Class'!$B$6","v":"Student"},{"$f":"'Course 5 Class'!$C$6","v":"One"},{"$f":"'Course 5 Class'!$D$6","v":0},{"$f":"'Course 5 Class'!$E$6","v":0},{"$f":"'Course 5 Class'!$F$6","v":0},{"$f":"'Course 5 Class'!$G$6","v":0},{"$f":"'Course 5 Class'!$H$6","v":0},{"$f":"'Course 5 Class'!$I$6","v":0},{"$f":"'Course 5 Class'!$J$6","v":0},{"$f":"'Course 5 Class'!$K$6","v":0},{"$f":"'Course 5 Class'!$L$6","v":0},{"$f":"'Course 5 Class'!$M$6","v":0},{"$f":"'Course 5 Class'!$N$6","v":0},{"$f":"'Course 5 Class'!$O$6","v":{"v":0,"d":"0%"}},{"$f":"'Course 5 Class'!$P$6","v":{"v":1,"d":"100%"}},{"$f":"'Course 5 Class'!$Q$6","v":72},{"$f":"'Course 5 Class'!$R$6","v":{"v":1,"d":"100%"}},{"$f":"'Course 5 Class'!$S$6","v":0},{"$f":"'Course 5 Class'!$T$6","v":{"v":0,"d":"0%"}},{"$f":"'Course 5 Class'!$U$6","v":{"v":0.25,"d":"25%"}},{"$f":"'Course 5 Class'!$V$6","v":"F"}]
[{"$f":"'Course 5 Lab'!$A$1","v":"Course 5 Brake Systems. Lab"}]
[{"$f":"'Course 5 Lab'!$A$2","v":"  Max Shop Points:"},null,{"$f":"'Course 5 Lab'!$C$2","v":970},{"$f":"'Course 5 Lab'!$D$2","v":"Drum"},{"$f":"'Course 5 Lab'!$E$2","v":"Drum "},{"$f":"'Course 5 Lab'!$F$2","v":"Disc"},{"$f":"'Course 5 Lab'!$G$2","v":"On Car"},{"$f":"'Course 5 Lab'!$H$2","v":"Off Car"},{"$f":"'Course 5 Lab'!$I$2","v":"Wheel"},{"$f":"'Course 5 Lab'!$J$2","v":"Hydr."},{"$f":"'Course 5 Lab'!$K$2","v":"Vacuum"},{"$f":"'Course 5 Lab'!$L$2","v":"Warning"},{"$f":"'Course 5 Lab'!$M$2","v":"Brake"},{"$f":"'Course 5 Lab'!$N$2","v":"Brake"},{"$f":"'Course 5 Lab'!$O$2","v":"Dodge"},{"$f":"'Course 5 Lab'!$P$2","v":"Ford"},{"$f":"'Course 5 Lab'!$Q$2","v":"GM"},{"$f":"'Course 5 Lab'!$R$2","v":"Cus"},{"$f":"'Course 5 Lab'!$S$2","v":"Brake"}]
[{"$f":"'Course 5 Lab'!$A$3","v":"Max shop points available depend on how much customer work is done."},null,null,{"$f":"'Course 5 Lab'!$D$3","v":"Brake"},{"$f":"'Course 5 Lab'!$E$3","v":"Brake "},{"$f":"'Course 5 Lab'!$F$3","v":"Brake"},{"$f":"'Course 5 Lab'!$G$3","v":"Disc"},{"$f":"'Course 5 Lab'!$H$3","v":"Disc"},{"$f":"'Course 5 Lab'!$I$3","v":"Bearing"},{"$f":"'Course 5 Lab'!$J$3","v":"Line"},{"$f":"'Course 5 Lab'!$K$3","v":"Booster"},{"$f":"'Course 5 Lab'!$L$3","v":"Light"},{"$f":"'Course 5 Lab'!$M$3","v":"System"},{"$f":"'Course 5 Lab'!$N$3","v":"Valves"},{"$f":"'Course 5 Lab'!$O$3","v":"Anti"},{"$f":"'Course 5 Lab'!$P$3","v":"Anti"},{"$f":"'Course 5 Lab'!$Q$3","v":"Anti"},{"$f":"'Course 5 Lab'!$R$3","v":"tomer"},{"$f":"'Course 5 Lab'!$S$3","v":"Comp"}]
[{"$nulls":3},{"$f":"'Course 5 Lab'!$D$4","v":"Job"},{"$f":"'Course 5 Lab'!$E$4","v":"Mach."},{"$f":"'Course 5 Lab'!$F$4","v":"Job"},{"$f":"'Course 5 Lab'!$G$4","v":"Mach."},{"$f":"'Course 5 Lab'!$H$4","v":"Mach."},{"$f":"'Course 5 Lab'!$I$4","v":"Service"},{"$f":"'Course 5 Lab'!$J$4","v":"Repair"},{"$f":"'Course 5 Lab'!$K$4","v":"Service"},{"$f":"'Course 5 Lab'!$L$4","v":"Service"},{"$f":"'Course 5 Lab'!$M$4","v":"Bleed"},{"$f":"'Course 5 Lab'!$N$4","v":"Check"},{"$f":"'Course 5 Lab'!$O$4","v":"Lock"},{"$f":"'Course 5 Lab'!$P$4","v":"Lock"},{"$f":"'Course 5 Lab'!$Q$4","v":"Lock"},{"$f":"'Course 5 Lab'!$R$4","v":"Work"},{"$f":"'Course 5 Lab'!$S$4","v":"etency"}]
[{"$nulls":3},{"$f":"'Course 5 Lab'!$D$5","v":2},{"$f":"'Course 5 Lab'!$E$5","v":2},{"$f":"'Course 5 Lab'!$F$5","v":2},{"$f":"'Course 5 Lab'!$G$5","v":2},{"$f":"'Course 5 Lab'!$H$5","v":2},{"$f":"'Course 5 Lab'!$I$5","v":1},{"$f":"'Course 5 Lab'!$J$5","v":1},{"$f":"'Course 5 Lab'!$K$5","v":2},{"$f":"'Course 5 Lab'!$L$5","v":2},{"$f":"'Course 5 Lab'!$M$5","v":4},{"$f":"'Course 5 Lab'!$N$5","v":1},{"$f":"'Course 5 Lab'!$O$5","v":1},{"$f":"'Course 5 Lab'!$P$5","v":1},{"$f":"'Course 5 Lab'!$Q$5","v":1},{"$f":"'Course 5 Lab'!$R$5","v":" "},{"$f":"'Course 5 Lab'!$S$5","v":"Required"},{"$f":"'Course 5 Lab'!$T$5","v":"Lab"}]
[{"$f":"'Course 5 Lab'!$A$6","v":"ID"},{"$f":"'Course 5 Lab'!$B$6","v":"First:"},{"$f":"'Course 5 Lab'!$C$6","v":"Last:"},{"$f":"'Course 5 Lab'!$D$6","v":150},{"$f":"'Course 5 Lab'!$E$6","v":40},{"$f":"'Course 5 Lab'!$F$6","v":150},{"$f":"'Course 5 Lab'!$G$6","v":80},{"$f":"'Course 5 Lab'!$H$6","v":40},{"$f":"'Course 5 Lab'!$I$6","v":50},{"$f":"'Course 5 Lab'!$J$6","v":30},{"$f":"'Course 5 Lab'!$K$6","v":30},{"$f":"'Course 5 Lab'!$L$6","v":40},{"$f":"'Course 5 Lab'!$M$6","v":80},{"$f":"'Course 5 Lab'!$N$6","v":40},{"$f":"'Course 5 Lab'!$O$6","v":80},{"$f":"'Course 5 Lab'!$P$6","v":80},{"$f":"'Course 5 Lab'!$Q$6","v":80},{"$f":"'Course 5 Lab'!$R$6","v":300},{"$f":"'Course 5 Lab'!$S$6","v":"*"},{"$f":"'Course 5 Lab'!$T$6","v":"Points"},{"$f":"'Course 5 Lab'!$U$6","v":"%"}]
[{"$f":"'Course 5 Lab'!$A$7","v":{"v":1,"d":"00000001"}},{"$f":"'Course 5 Lab'!$B$7","v":"Student"},{"$f":"'Course 5 Lab'!$C$7","v":"One"},{"$f":"'Course 5 Lab'!$D$7","v":0},{"$f":"'Course 5 Lab'!$E$7","v":0},{"$f":"'Course 5 Lab'!$F$7","v":0},{"$f":"'Course 5 Lab'!$G$7","v":0},{"$f":"'Course 5 Lab'!$H$7","v":0},{"$f":"'Course 5 Lab'!$I$7","v":0},{"$f":"'Course 5 Lab'!$J$7","v":0},{"$f":"'Course 5 Lab'!$K$7","v":0},{"$f":"'Course 5 Lab'!$L$7","v":0},{"$f":"'Course 5 Lab'!$M$7","v":0},{"$f":"'Course 5 Lab'!$N$7","v":0},{"$f":"'Course 5 Lab'!$O$7","v":0},{"$f":"'Course 5 Lab'!$P$7","v":0},{"$f":"'Course 5 Lab'!$Q$7","v":0},{"$f":"'Course 5 Lab'!$R$7","v":0},{"$f":"'Course 5 Lab'!$S$7","v":1},{"$f":"'Course 5 Lab'!$T$7","v":0},{"$f":"'Course 5 Lab'!$U$7","v":{"v":0,"d":"0%"}}]

{"sheet":"Student 2","index":15,"n_rows":65,"n_cols":23,"rows_kept":65,"merged":[[0,0,0,2],[1,0,1,2],[2,0,2,1],[2,9,2,17],[3,0,3,1],[3,9,3,10],[3,11,3,13],[3,14,3,15],[6,0,6,2],[7,0,7,1],[8,0,10,2],[10,16,10,17],[13,0,13,2],[14,1,14,2],[15,0,15,1],[15,11,15,19],[16,0,16,1],[16,11,16,12],[16,13,16,15],[16,16,16,17],[19,0,19,2],[20,0,20,1],[21,0,23,2],[23,13,23,14],[26,0,26,2],[27,1,27,2],[28,0,28,1],[28,14,28,22],[29,0,29,1],[29,14,29,15],[29,16,29,18],[29,19,29,20],[32,0,32,2],[33,0,33,1],[34,0,36,2],[35,20,35,21],[36,16,36,17],[39,0,39,2],[40,1,40,2],[41,0,41,1],[41,10,41,18],[42,0,42,1],[42,10,42,11],[42,12,42,14],[42,15,42,16],[45,0,45,2],[46,0,46,1],[47,0,49,2],[49,7,49,8],[52,0,52,2],[53,0,53,2],[54,0,54,1],[54,13,54,21],[55,0,55,1],[55,13,55,14],[55,15,55,17],[55,18,55,19],[58,0,58,2],[59,0,59,1],[60,0,62,2],[62,19,62,20]]}
[{"$f":"'Student 1'!$A$1","v":"Course 1 Engine Diagnosis. Class"},{"$nulls":6},{"$f":"'Student 1'!$H$1","v":25}]
[{"$f":"'Student 1'!$A$2","v":"Date assignment is due"},null,{"$f":"'Student 1'!$C$2","v":" "},{"$f":"'Student 1'!$D$2","v":"TBD"},{"$f":"'Student 1'!$E$2","v":"TBD"},{"$f":"'Student 1'!$F$2","v":"TBD"},{"$f":"'Student 1'!$G$2","v":"TBD"},{"$f":"'Student 1'!$H$2","v":"TBD"},{"$f":"'Student 1'!$I$2","v":"TBD"}]
[{"$f":"'Student 1'!$A$3","v":"Class Room Points:"},null,{"$f":"'Student 1'!$C$3","v":160},{"$f":"'Student 1'!$D$3","v":20},{"$f":"'Student 1'!$E$3","v":20},{"$f":"'Student 1'!$F$3","v":20},{"$f":"'Student 1'!$G$3","v":25},{"$f":"'Student 1'!$H$3","v":" "},{"$f":"'Student 1'!$I$3","v":75},{"$f":"'Student 1'!$J$3","v":"Evaluation"}]
[{"$f":"'Student 1'!$A$4","v":"Red is late turn-in"},null,{"$f":"'Student 1'!$C$4","v":"Blue is absent"},{"$f":"'Student 1'!$D$4","v":"CH 13 "},{"$f":"'Student 1'!$E$4","v":"Lube"},{"$f":"'Student 1'!$F$4","v":"Lube"},{"$f":"'Student 1'!$G$4","v":"Condition"},{"$f":"'Student 1'!$H$4","v":"Extra"},{"$f":"'Student 1'!$I$4","v":"Final"},{"$f":"'Student 1'!$J$4","v":"Classroom"},null,{"$f":"'Student 1'!$L$4","v":"Professionalism"},null,null,{"$f":"'Student 1'!$O$4","v":"Lab"},null,{"$f":"'Student 1'!$Q$4","v":"Total  "},{"$f":"'Student 1'!$R$4","v":"Letter"}]
[{"$f":"'Student 1'!$A$5","v":"I D "},{"$f":"'Student 1'!$B$5","v":"First:"},{"$f":"'Student 1'!$C$5","v":"Last:"},{"$f":"'Student 1'!$D$5","v":"Test"},{"$f":"'Student 1'!$E$5","v":"HW"},{"$f":"'Student 1'!$F$5","v":"Test"},{"$f":"'Student 1'!$G$5","v":"Class"},{"$f":"'Student 1'!$H$5","v":"Credit"},{"$f":"'Student 1'!$I$5","v":"Test"},{"$f":"'Student 1'!$J$5","v":"Points"},{"$f":"'Student 1'!$K$5","v":"%"},{"$f":"'Student 1'!$L$5","v":"Attendance"},{"$f":"'Student 1'!$M$5","v":"Points"},{"$f":"'Student 1'!$N$5","v":"%"},{"$f":"'Student 1'!$O$5","v":"Points"},{"$f":"'Student 1'!$P$5","v":"%"},{"$f":"'Student 1'!$Q$5","v":"%"},{"$f":"'Student 1'!$R$5","v":"Grade"}]
[{"$f":"'Course 1 Class'!$A$7","v":{"v":2,"d":"00000002"}},{"$f":"'Course 1 Class'!$B$7","v":"Student"},{"$f":"'Course 1 Class'!$C$7","v":"Two"},{"$f":"'Course 1 Class'!$D$7","v":0},{"$f":"'Course 1 Class'!$E$7","v":0},{"$f":"'Course 1 Class'!$F$7","v":0},{"$f":"'Course 1 Class'!$G$7","v":0},{"$f":"'Course 1 Class'!$H$7","v":0},{"$f":"'Course 1 Class'!$I$7","v":0},{"$f":"'Course 1 Class'!$J$7","v":0},{"$f":"'Course 1 Class'!$K$7","v":{"v":0,"d":"0%"}},{"$f":"'Course 1 Class'!$L$7","v":{"v":0.928571428571429,"d":"93%"}},{"$f":"'Course 1 Class'!$M$7","v":71.5714285714286},{"$f":"'Course 1 Class'!$N$7","v":{"v":0.994047619047619,"d":"99%"}},{"$f":"'Course 1 Class'!$O$7","v":0},{"$f":"'Course 1 Class'!$P$7","v":{"v":0,"d":"0%"}},{"$f":"'Course 1 Class'!$Q$7","v":{"v":0.248511904761905,"d":"25%"}},{"$f":"'Course 1 Class'!$R$7","v":"F"}]
[{"$f":"'Student 1'!$A$7","v":"Course 1 Engine Diagnosis. Lab"}]
[{"$f":"'Student 1'!$A$8","v":"  Max Shop Points:"},null,{"$f":"'Student 1'!$C$8","v":1325},{"$f":"'Student 1'!$D$8","v":"Dry"},{"$f":"'Student 1'!$E$8","v":"Wet"},{"$f":"'Student 1'!$F$8","v":"Running"},{"$f":"'Student 1'!$G$8","v":"Cylinder"},{"$f":"'Student 1'!$H$8","v":"Oil"},{"$f":"'Student 1'!$I$8","v":"Cooling"},{"$f":"'Student 1'!$J$8","v":"Vacuum"},{"$f":"'Student 1'!$K$8","v":"PCV"},{"$f":"'Student 1'!$L$8","v":"Thermostat"},{"$f":"'Student 1'!$M$8","v":"Fluid"},{"$f":"'Student 1'!$N$8","v":"Diag"},{"$f":"'Student 1'!$O$8","v":" "}]
[{"$f":"'Student 1'!$A$9","v":"Max shop points available depend on how much customer work is done."},null,null,{"$f":"'Student 1'!$D$9","v":"Compr"},{"$f":"'Student 1'!$E$9","v":"Compr"},{"$f":"'Student 1'!$F$9","v":"Compr"},{"$f":"'Student 1'!$G$9","v":"Leakage"},{"$f":"'Student 1'!$H$9","v":"Pressure"},{"$f":"'Student 1'!$I$9","v":"System"},{"$f":"'Student 1'!$J$9","v":"Gauge"},{"$f":"'Student 1'!$K$9","v":"System"},{"$f":"'Student 1'!$L$9","v":"and fan"},{"$f":"'Student 1'!$M$9","v":"Leak"},{"$f":"'Student 1'!$N$9","v":"gauges"},{"$f":"'Student 1'!$O$9","v":"Cus"},{"$f":"'Student 1'!$P$9","v":"Comp"}]
[{"$nulls":3},{"$f":"'Student 1'!$D$10","v":"Test"},{"$f":"'Student 1'!$E$10","v":"Test"},{"$f":"'Student 1'!$F$10","v":"Test"},{"$f":"'Student 1'!$G$10","v":"Test"},{"$f":"'Student 1'!$H$10","v":"Test"},{"$f":"'Student 1'!$I$10","v":"Test"},{"$f":"'Student 1'!$J$10","v":"Test"},{"$f":"'Student 1'!$K$10","v":"Check"},{"$f":"'Student 1'!$L$10","v":"Operation"},{"$f":"'Student 1'!$M$10","v":"Check"},{"$f":"'Student 1'!$N$10","v":"any vehicle"},{"$f":"'Student 1'!$O$10","v":"tomer"},{"$f":"'Student 1'!$P$10","v":"etency"},{"$f":"'Student 1'!$Q$10","v":"  "},{"$f":"'Student 1'!$R$10","v":" "}]
[{"$nulls":3},{"$f":"'Student 1'!$D$11","v":2},{"$f":"'Student 1'!$E$11","v":2},{"$f":"'Student 1'!$F$11","v":2},{"$f":"'Student 1'!$G$11","v":2},{"$f":"'Student 1'!$H$11","v":2},{"$f":"'Student 1'!$I$11","v":2},{"$f":"'Student 1'!$J$11","v":2},{"$f":"'Student 1'!$K$11","v":2},{"$f":"'Student 1'!$L$11","v":2},{"$f":"'Student 1'!$M$11","v":1},{"$f":"'Student 1'!$N$11","v":1},{"$f":"'Student 1'!$O$11","v":"Work"},{"$f":"'Student 1'!$P$11","v":"0 or 1"},{"$f":"'Student 1'!$Q$11","v":"Lab"}]
[{"$f":"'Student 1'!$A$12","v":"ID"},{"$f":"'Student 1'!$B$12","v":"First:"},{"$f":"'Student 1'!$C$12","v":"Last:"},{"$f":"'Student 1'!$D$12","v":100},{"$f":"'Student 1'!$E$12","v":100},{"$f":"'Student 1'!$F$12","v":100},{"$f":"'Student 1'!$G$12","v":100},{"$f":"'Student 1'!$H$12","v":100},{"$f":"'Student 1'!$I$12","v":150},{"$f":"'Student 1'!$J$12","v":100},{"$f":"'Student 1'!$K$12","v":50},{"$f":"'Student 1'!$L$12","v":100},{"$f":"'Student 1'!$M$12","v":25},{"$f":"'Student 1'!$N$12","v":100},{"$f":"'Student 1'!$O$12","v":300},{"$f":"'Student 1'!$P$12","v":"*"},{"$f":"'Student 1'!$Q$12","v":"Points"},{"$f":"'Student 1'!$R$12","v":"%"}]
[{"$f":"'Course 1 Lab'!$A$8","v":{"v":2,"d":"00000002"}},{"$f":"'Course 1 Lab'!$B$8","v":"Student"},{"$f":"'Course 1 Lab'!$C$8","v":"Two"},{"$f":"'Course 1 Lab'!$D$8","v":0},{"$f":"'Course 1 Lab'!$E$8","v":0},{"$f":"'Course 1 Lab'!$F$8","v":0},{"$f":"'Course 1 Lab'!$G$8","v":0},{"$f":"'Course 1 Lab'!$H$8","v":0},{"$f":"'Course 1 Lab'!$I$8","v":0},{"$f":"'Course 1 Lab'!$J$8","v":0},{"$f":"'Course 1 Lab'!$K$8","v":0},{"$f":"'Course 1 Lab'!$L$8","v":0},{"$f":"'Course 1 Lab'!$M$8","v":0},{"$f":"'Course 1 Lab'!$N$8","v":0},{"$f":"'Course 1 Lab'!$O$8","v":0},{"$f":"'Course 1 Lab'!$P$8","v":1},{"$f":"'Course 1 Lab'!$Q$8","v":0},{"$f":"'Course 1 Lab'!$R$8","v":{"v":0,"d":"0%"}}]
[{"$f":"'Student 1'!$A$14","v":"Course 2 Engine Theory & Repair. Class"},{"$nulls":8},{"$f":"'Student 1'!$J$14","v":25}]
[{"$f":"'Student 1'!$A$15","v":" "},{"$f":"'Student 1'!$B$15","v":"Date assignment is due:"},null,{"$f":"'Student 1'!$D$15","v":"TBD"},{"$f":"'Student 1'!$E$15","v":"TBD"},{"$f":"'Student 1'!$F$15","v":"TBD"},{"$f":"'Student 1'!$G$15","v":"TBD"},{"$f":"'Student 1'!$H$15","v":"TBD"},{"$f":"'Student 1'!$I$15","v":"TBD"},{"$f":"'Student 1'!$J$15","v":"TBD"},{"$f":"'Student 1'!$K$15","v":"TBD"}]
[{"$f":"'Student 1'!$A$16","v":"Class Room Points:"},null,{"$f":"'Student 1'!$C$16","v":201},{"$f":"'Student 1'!$D$16","v":10},{"$f":"'Student 1'!$E$16","v":10},{"$f":"'Student 1'!$F$16","v":20},{"$f":"'Student 1'!$G$16","v":20},{"$f":"'Student 1'!$H$16","v":16},{"$f":"'Student 1'!$I$16","v":25},{"$f":"'Student 1'!$J$16","v":" "},{"$f":"'Student 1'!$K$16","v":100},{"$f":"'Student 1'!$L$16","v":"Evaluation"}]
[{"$f":"'Student 1'!$A$17","v":"Red is late turn-in"},null,{"$f":"'Student 1'!$C$17","v":"Blue is absent"},{"$f":"'Student 1'!$D$17","v":"HW"},{"$f":"'Student 1'!$E$17","v":"HW "},{"$f":"'Student 1'!$F$17","v":"Test"},{"$f":"'Student 1'!$G$17","v":"Test"},{"$f":"'Student 1'!$H$17","v":"HW"},{"$f":"'Student 1'!$I$17","v":"Test"},{"$f":"'Student 1'!$J$17","v":"Extra"},{"$f":"'Student 1'!$K$17","v":"Final "},{"$f":"'Student 1'!$L$17","v":"Class"},null,{"$f":"'Student 1'!$N$17","v":"Professionalism"},null,null,{"$f":"'Student 1'!$Q$17","v":"Lab"},null,{"$f":"'Student 1'!$S$17","v":"Total  "},{"$f":"'Student 1'!$T$17","v":"Letter"}]
[{"$f":"'Student 1'!$A$18","v":"I D "},{"$f":"'Student 1'!$B$18","v":"First:"},{"$f":"'Student 1'!$C$18","v":"Last:"},{"$f":"'Student 1'!$D$18","v":"CH 7"},{"$f":"'Student 1'!$E$18","v":"CH 14"},{"$f":"'Student 1'!$F$18","v":"C & L"},{"$f":"'Student 1'!$G$18","v":"CH 18"},{"$f":"'Student 1'!$H$18","v":"CH 22"},{"$f":"'Student 1'!$I$18","v":"CH 22"},{"$f":"'Student 1'!$J$18","v":"Credit"},{"$f":"'Student 1'!$K$18","v":"TEST"},{"$f":"'Student 1'!$L$18","v":"Points"},{"$f":"'Student 1'!$M$18","v":"%"},{"$f":"'Student 1'!$N$18","v":"Attendance"},{"$f":"'Student 1'!$O$18","v":"Points"},{"$f":"'Student 1'!$P$18","v":"%"},{"$f":"'Student 1'!$Q$18","v":"Points"},{"$f":"'Student 1'!$R$18","v":"%"},{"$f":"'Student 1'!$S$18","v":"%"},{"$f":"'Student 1'!$T$18","v":"Grade"}]
[{"$f":"'Course 2 Class'!$A$7","v":{"v":2,"d":"00000002"}},{"$f":"'Course 2 Class'!$B$7","v":"Student"},{"$f":"'Course 2 Class'!$C$7","v":"Two"},{"$f":"'Course 2 Class'!$D$7","v":0},{"$f":"'Course 2 Class'!$E$7","v":0},{"$f":"'Course 2 Class'!$F$7","v":0},{"$f":"'Course 2 Class'!$G$7","v":0},{"$f":"'Course 2 Class'!$H$7","v":0},{"$f":"'Course 2 Class'!$I$7","v":0},{"$f":"'Course 2 Class'!$J$7","v":0},{"$f":"'Course 2 Class'!$K$7","v":0},{"$f":"'Course 2 Class'!$L$7","v":0},{"$f":"'Course 2 Class'!$M$7","v":{"v":0,"d":"0%"}},{"$f":"'Course 2 Class'!$N$7","v":{"v":0.928571428571429,"d":"93%"}},{"$f":"'Course 2 Class'!$O$7","v":71.5714285714286},{"$f":"'Course 2 Class'!$P$7","v":{"v":0.994047619047619,"d":"99%"}},{"$f":"'Course 2 Class'!$Q$7","v":0},{"$f":"'Course 2 Class'!$R$7","v":{"v":0,"d":"0%"}},{"$f":"'Course 2 Class'!$S$7","v":{"v":0.248511904761905,"d":"25%"}},{"$f":"'Course 2 Class'!$T$7","v":"F"}]
[{"$f":"'Student 1'!$A$20","v":"Course 2 Engine Theory & Repair. Lab"}]
[{"$f":"'Student 1'!$A$21","v":"  Max Shop Points:"},null,{"$f":"'Student 1'!$C$21","v":1450},{"$f":"'Student 1'!$D$21","v":"Engine"},{"$f":"'Student 1'!$E$21","v":"Cylinder"},{"$f":"'Student 1'!$F$21","v":"Red"},{"$f":"'Student 1'!$G$21","v":"Mitsubishi"},{"$f":"'Student 1'!$H$21","v":"Any"},{"$f":"'Student 1'!$I$21","v":"DOHC"},{"$f":"'Student 1'!$J$21","v":"Valve seal"},{"$f":"'Student 1'!$K$21","v":"Misc."},{"$f":"'Student 1'!$L$21","v":" "}]
[{"$f":"'Student 1'!$A$22","v":"Max shop points available depend on how much customer work is done."},null,null,{"$f":"'Student 1'!$D$22","v":"Disassemble"},{"$f":"'Student 1'!$E$22","v":"Head"},{"$f":"'Student 1'!$F$22","v":"Dodge"},{"$f":"'Student 1'!$G$22","v":"\"3.0L\""},{"$f":"'Student 1'!$H$22","v":"Engine"},{"$f":"'Student 1'!$I$22","v":"Engine"},{"$f":"'Student 1'!$J$22","v":"&"},{"$f":"'Student 1'!$K$22","v":"Engine "},{"$f":"'Student 1'!$L$22","v":"Cus"},{"$f":"'Student 1'!$M$22","v":"Comp"}]
[{"$nulls":3},{"$f":"'Student 1'!$D$23","v":"& Measure"},{"$f":"'Student 1'!$E$23","v":"Repair"},{"$f":"'Student 1'!$F$23","v":"Clip"},{"$f":"'Student 1'!$G$23","v":"Clip"},{"$f":"'Student 1'!$H$23","v":"T-chain"},{"$f":"'Student 1'!$I$23","v":" Stand"},{"$f":"'Student 1'!$J$23","v":"Lobe lift"},{"$f":"'Student 1'!$K$23","v":"Points"},{"$f":"'Student 1'!$L$23","v":"tomer"},{"$f":"'Student 1'!$M$23","v":"etency"},{"$f":"'Student 1'!$N$23","v":" "},{"$f":"'Student 1'!$O$23","v":" "}]
[{"$nulls":3},{"$f":"'Student 1'!$D$24","v":1},{"$f":"'Student 1'!$E$24","v":1},{"$f":"'Student 1'!$F$24","v":1},{"$f":"'Student 1'!$G$24","v":1},{"$f":"'Student 1'!$H$24","v":1},{"$f":"'Student 1'!$I$24","v":1},{"$f":"'Student 1'!$J$24","v":1},null,{"$f":"'Student 1'!$L$24","v":"Work"},{"$f":"'Student 1'!$M$24","v":"0 or 1"},{"$f":"'Student 1'!$N$24","v":"Lab"}]
[{"$f":"'Student 1'!$A$25","v":"ID"},{"$f":"'Student 1'!$B$25","v":"First:"},{"$f":"'Student 1'!$C$25","v":"Last:"},{"$f":"'Student 1'!$D$25","v":300},{"$f":"'Student 1'!$E$25","v":200},{"$f":"'Student 1'!$F$25","v":100},{"$f":"'Student 1'!$G$25","v":100},{"$f":"'Student 1'!$H$25","v":100},{"$f":"'Student 1'!$I$25","v":100},{"$f":"'Student 1'!$J$25","v":50},{"$f":"'Student 1'!$K$25","v":200},{"$f":"'Student 1'!$L$25","v":300},{"$f":"'Student 1'!$M$25","v":"*"},{"$f":"'Student 1'!$N$25","v":"Points"},{"$f":"'Student 1'!$O$25","v":"%"}]
[{"$f":"'Course 2 Lab'!$A$8","v":{"v":2,"d":"00000002"}},{"$f":"'Course 2 Lab'!$B$8","v":"Student"},{"$f":"'Course 2 Lab'!$C$8","v":"Two"},{"$f":"'Course 2 Lab'!$D$8","v":0},{"$f":"'Course 2 Lab'!$E$8","v":0},{"$f":"'Course 2 Lab'!$F$8","v":0},{"$f":"'Course 2 Lab'!$G$8","v":0},{"$f":"'Course 2 Lab'!$H$8","v":0},{"$f":"'Course 2 Lab'!$I$8","v":0},{"$f":"'Course 2 Lab'!$J$8","v":0},{"$f":"'Course 2 Lab'!$K$8","v":0},{"$f":"'Course 2 Lab'!$L$8","v":0},{"$f":"'Course 2 Lab'!$M$8","v":1},{"$f":"'Course 2 Lab'!$N$8","v":0},{"$f":"'Course 2 Lab'!$O$8","v":{"v":0,"d":"0%"}}]
[{"$f":"'Student 1'!$A$27","v":"Course 3 Steering & Suspension. Class."},{"$nulls":11},{"$f":"'Student 1'!$M$27","v":25}]
[{"$f":"'Student 1'!$A$28","v":" "},{"$f":"'Student 1'!$B$28","v":"Date assignment is due:"},null,{"$f":"'Student 1'!$D$28","v":"1/18"},{"$f":"'Student 1'!$E$28","v":"2/2"},{"$f":"'Student 1'!$F$28","v":"TBD"},{"$f":"'Student 1'!$G$28","v":"TBD"},{"$f":"'Student 1'!$H$28","v":"TBD"},{"$f":"'Student 1'!$I$28","v":"TBD"},{"$f":"'Student 1'!$J$28","v":"TBD"},{"$f":"'Student 1'!$K$28","v":"TBD"},{"$f":"'Student 1'!$L$28","v":"TBD"},{"$f":"'Student 1'!$M$28","v":"TBD"},{"$f":"'Student 1'!$N$28","v":"TBD"}]
[{"$f":"'Student 1'!$A$29","v":"Class Room Points:"},null,{"$f":"'Student 1'!$C$29","v":330},{"$f":"'Student 1'!$D$29","v":20},{"$f":"'Student 1'!$E$29","v":20},{"$f":"'Student 1'!$F$29","v":24},{"$f":"'Student 1'!$G$29","v":20},{"$f":"'Student 1'!$H$29","v":25},{"$f":"'Student 1'!$I$29","v":30},{"$f":"'Student 1'!$J$29","v":20},{"$f":"'Student 1'!$K$29","v":26},{"$f":"'Student 1'!$L$29","v":45},{"$f":"'Student 1'!$M$29","v":" "},{"$f":"'Student 1'!$N$29","v":100},{"$f":"'Student 1'!$O$29","v":"Evaluation"}]
[{"$f":"'Student 1'!$A$30","v":"Red is late turn-in"},null,{"$f":"'Student 1'!$C$30","v":"Blue is absent"},{"$f":"'Student 1'!$D$30","v":"HW"},{"$f":"'Student 1'!$E$30","v":"HW"},{"$f":"'Student 1'!$F$30","v":"HW"},{"$f":"'Student 1'!$G$30","v":"QZ"},{"$f":"'Student 1'!$H$30","v":"HW"},{"$f":"'Student 1'!$I$30","v":"HW"},{"$f":"'Student 1'!$J$30","v":"Test"},{"$f":"'Student 1'!$K$30","v":"HW"},{"$f":"'Student 1'!$L$30","v":"Class"},{"$f":"'Student 1'!$M$30","v":"Extra"},{"$f":"'Student 1'!$N$30","v":"Final"},{"$f":"'Student 1'!$O$30","v":"Class"},null,{"$f":"'Student 1'!$Q$30","v":"Professionalism"},null,null,{"$f":"'Student 1'!$T$30","v":"Lab"},null,{"$f":"'Student 1'!$V$30","v":"Total  "},{"$f":"'Student 1'!$W$30","v":"Letter"}]
[{"$f":"'Student 1'!$A$31","v":"I D "},{"$f":"'Student 1'!$B$31","v":"First:"},{"$f":"'Student 1'!$C$31","v":"Last:"},{"$f":"'Student 1'!$D$31","v":"CH 1"},{"$f":"'Student 1'!$E$31","v":"CH 2"},{"$f":"'Student 1'!$F$31","v":"CH 3"},{"$f":"'Student 1'!$G$31","v":"1"},{"$f":"'Student 1'!$H$31","v":"CH 6"},{"$f":"'Student 1'!$I$31","v":"CH 9"},{"$f":"'Student 1'!$J$31","v":"1 – 9"},{"$f":"'Student 1'!$K$31","v":"CH 12"},{"$f":"'Student 1'!$L$31","v":"Project"},{"$f":"'Student 1'!$M$31","v":"Credit"},{"$f":"'Student 1'!$N$31","v":"TEST"},{"$f":"'Student 1'!$O$31","v":"Points"},{"$f":"'Student 1'!$P$31","v":"%"},{"$f":"'Student 1'!$Q$31","v":"Attendance"},{"$f":"'Student 1'!$R$31","v":"Points"},{"$f":"'Student 1'!$S$31","v":"%"},{"$f":"'Student 1'!$T$31","v":"Points"},{"$f":"'Student 1'!$U$31","v":"%"},{"$f":"'Student 1'!$V$31","v":"%"},{"$f":"'Student 1'!$W$31","v":"Grade"}]
[{"$f":"'Course 3 Class'!$A$7","v":{"v":2,"d":"00000002"}},{"$f":"'Course 3 Class'!$B$7","v":"Student"},{"$f":"'Course 3 Class'!$C$7","v":"Two"},{"$f":"'Course 3 Class'!$D$7","v":0},{"$f":"'Course 3 Class'!$E$7","v":0},{"$f":"'Course 3 Class'!$F$7","v":0},{"$f":"'Course 3 Class'!$G$7","v":0},{"$f":"'Course 3 Class'!$H$7","v":0},{"$f":"'Course 3 Class'!$I$7","v":0},{"$f":"'Course 3 Class'!$J$7","v":0},{"$f":"'Course 3 Class'!$K$7","v":0},{"$f":"'Course 3 Class'!$L$7","v":0},{"$f":"'Course 3 Class'!$M$7","v":0},{"$f":"'Course 3 Class'!$N$7","v":0},{"$f":"'Course 3 Class'!$O$7","v":0},{"$f":"'Course 3 Class'!$P$7","v":{"v":0,"d":"0%"}},{"$f":"'Course 3 Class'!$Q$7","v":{"v":0.928571428571429,"d":"93%"}},{"$f":"'Course 3 Class'!$R$7","v":71.5714285714286},{"$f":"'Course 3 Class'!$S$7","v":{"v":0.994047619047619,"d":"99%"}},{"$f":"'Course 3 Class'!$T$7","v":0},{"$f":"'Course 3 Class'!$U$7","v":{"v":0,"d":"0%"}},{"$f":"'Course 3 Class'!$V$7","v":{"v":0.248511904761905,"d":"25%"}},{"$f":"'Course 3 Class'!$W$7","v":"F"}]
[{"$f":"'Student 1'!$A$33","v":"Course 3 Steering & Suspension. Lab"}]
[{"$f":"'Student 1'!$A$34","v":"Max shop points"},null,{"$f":"'Student 1'!$C$34","v":1350},{"$f":"'Student 1'!$D$34","v":"Repair"},{"$f":"'Student 1'!$E$34","v":"Identify"},{"$f":"'Student 1'!$F$34","v":"Repair"},{"$f":"'Student 1'!$G$34","v":"Identify"},{"$f":"'Student 1'!$H$34","v":"Repair"},{"$f":"'Student 1'!$I$34","v":"R&R"},{"$f":"'Student 1'!$J$34","v":"R&R"},{"$f":"'Student 1'!$K$34","v":"R&R"},{"$f":"'Student 1'!$L$34","v":"P/S"},{"$f":"'Student 1'!$M$34","v":"R&R"},{"$f":"'Student 1'!$N$34","v":"NVH"},{"$f":"'Student 1'!$O$34","v":" "}]
[{"$f":"'Student 1'!$A$35","v":"Max shop points available depend on how much customer work is done."},null,null,{"$f":"'Student 1'!$D$35","v":"SLA"},{"$f":"'Student 1'!$E$35","v":"SLA"},{"$f":"'Student 1'!$F$35","v":"Mac-P"},{"$f":"'Student 1'!$G$35","v":"Mac-P"},{"$f":"'Student 1'!$H$35","v":"Rear"},{"$f":"'Student 1'!$I$35","v":"Rack &"},{"$f":"'Student 1'!$J$35","v":"Recirc."},{"$f":"'Student 1'!$K$35","v":"P/S"},{"$f":"'Student 1'!$L$35","v":"Pump"},{"$f":"'Student 1'!$M$35","v":"Inner"},{"$f":"'Student 1'!$N$35","v":"Runout &"},{"$f":"'Student 1'!$O$35","v":"Cus"},{"$f":"'Student 1'!$P$35","v":"Comp"}]
[{"$nulls":3},{"$f":"'Student 1'!$D$36","v":"Susp"},{"$f":"'Student 1'!$E$36","v":"Parts"},{"$f":"'Student 1'!$F$36","v":"Susp"},{"$f":"'Student 1'!$G$36","v":"Parts"},{"$f":"'Student 1'!$H$36","v":"Susp"},{"$f":"'Student 1'!$I$36","v":"Pinion"},{"$f":"'Student 1'!$J$36","v":"Gear"},{"$f":"'Student 1'!$K$36","v":"Pump"},{"$f":"'Student 1'!$L$36","v":"Test"},{"$f":"'Student 1'!$M$36","v":"Tie-Rod"},{"$f":"'Student 1'!$N$36","v":"bal. Check"},{"$f":"'Student 1'!$O$36","v":"tomer"},{"$f":"'Student 1'!$P$36","v":"etency"},{"$f":"'Student 1'!$Q$36","v":" "},{"$f":"'Student 1'!$R$36","v":" "},null,null,{"$f":"'Student 1'!$U$36","v":"Final Grade"}]
[{"$nulls":3},{"$f":"'Student 1'!$D$37","v":1},{"$f":"'Student 1'!$E$37","v":2},{"$f":"'Student 1'!$F$37","v":3},{"$f":"'Student 1'!$G$37","v":2},{"$f":"'Student 1'!$H$37","v":1},{"$f":"'Student 1'!$I$37","v":1},{"$f":"'Student 1'!$J$37","v":1},{"$f":"'Student 1'!$K$37","v":1},{"$f":"'Student 1'!$L$37","v":1},{"$f":"'Student 1'!$M$37","v":1},{"$f":"'Student 1'!$N$37","v":1},{"$f":"'Student 1'!$O$37","v":"Work"},{"$f":"'Student 1'!$P$37","v":"0 or 1"},{"$f":"'Student 1'!$Q$37","v":"Lab"},{"$nulls":3},{"$f":"'Student 1'!$U$37","v":{"v":0,"d":"0%"}},{"$f":"'Student 1'!$V$37","v":"F"}]
[{"$f":"'Student 1'!$A$38","v":"ID"},{"$f":"'Student 1'!$B$38","v":"First:"},{"$f":"'Student 1'!$C$38","v":"Last:"},{"$f":"'Student 1'!$D$38","v":150},{"$f":"'Student 1'!$E$38","v":50},{"$f":"'Student 1'!$F$38","v":225},{"$f":"'Student 1'!$G$38","v":50},{"$f":"'Student 1'!$H$38","v":50},{"$f":"'Student 1'!$I$38","v":150},{"$f":"'Student 1'!$J$38","v":125},{"$f":"'Student 1'!$K$38","v":50},{"$f":"'Student 1'!$L$38","v":50},{"$f":"'Student 1'!$M$38","v":50},{"$f":"'Student 1'!$N$38","v":100},{"$f":"'Student 1'!$O$38","v":300},{"$f":"'Student 1'!$P$38","v":"*"},{"$f":"'Student 1'!$Q$38","v":"Points"},{"$f":"'Student 1'!$R$38","v":"%"},null,null,{"$f":"'Student 1'!$U$38","v":{"v":0.695,"d":"70%"}},{"$f":"'Student 1'!$V$38","v":"D-"}]
[{"$f":"'Course 3 Lab'!$A$8","v":{"v":2,"d":"00000002"}},{"$f":"'Course 3 Lab'!$B$8","v":"Student"},{"$f":"'Course 3 Lab'!$C$8","v":"Two"},{"$f":"'Course 3 Lab'!$D$8","v":0},{"$f":"'Course 3 Lab'!$E$8","v":0},{"$f":"'Course 3 Lab'!$F$8","v":0},{"$f":"'Course 3 Lab'!$G$8","v":0},{"$f":"'Course 3 Lab'!$H$8","v":0},{"$f":"'Course 3 Lab'!$I$8","v":0},{"$f":"'Course 3 Lab'!$J$8","v":0},{"$f":"'Course 3 Lab'!$K$8","v":0},{"$f":"'Course 3 Lab'!$L$8","v":0},{"$f":"'Course 3 Lab'!$M$8","v":0},{"$f":"'Course 3 Lab'!$N$8","v":0},{"$f":"'Course 3 Lab'!$O$8","v":0},{"$f":"'Course 3 Lab'!$P$8","v":1},{"$f":"'Course 3 Lab'!$Q$8","v":0},{"$f":"'Course 3 Lab'!$R$8","v":{"v":0,"d":"0%"}},null,null,{"$f":"'Student 1'!$U$39","v":{"v":0.715,"d":"72%"}},{"$f":"'Student 1'!$V$39","v":"D"}]
[{"$f":"'Student 1'!$A$40","v":"Course 4 Alignment. Class."},{"$nulls":7},{"$f":"'Student 1'!$I$40","v":25},{"$nulls":11},{"$f":"'Student 1'!$U$40","v":{"v":0.735,"d":"74%"}},{"$f":"'Student 1'!$V$40","v":"D+"}]
[{"$f":"'Student 1'!$A$41","v":" "},{"$f":"'Student 1'!$B$41","v":"Date assignment is due  "},null,{"$f":"'Student 1'!$D$41","v":"TBD"},{"$f":"'Student 1'!$E$41","v":"TBD"},{"$f":"'Student 1'!$F$41","v":"TBD"},{"$f":"'Student 1'!$G$41","v":"TBD"},{"$f":"'Student 1'!$H$41","v":"TBD"},{"$f":"'Student 1'!$I$41","v":"TBD"},{"$f":"'Student 1'!$J$41","v":"TBD"},{"$nulls":10},{"$f":"'Student 1'!$U$41","v":{"v":0.755,"d":"76%"}},{"$f":"'Student 1'!$V$41","v":"C-"}]
[{"$f":"'Student 1'!$A$42","v":"Class Room Points:"},null,{"$f":"'Student 1'!$C$42","v":235},{"$f":"'Student 1'!$D$42","v":25},{"$f":"'Student 1'!$E$42","v":25},{"$f":"'Student 1'!$F$42","v":20},{"$f":"'Student 1'!$G$42","v":40},{"$f":"'Student 1'!$H$42","v":50},{"$f":"'Student 1'!$I$42","v":" "},{"$f":"'Student 1'!$J$42","v":75},{"$f":"'Student 1'!$K$42","v":"Evaluation"},{"$nulls":9},{"$f":"'Student 1'!$U$42","v":{"v":0.785,"d":"79%"}},{"$f":"'Student 1'!$V$42","v":"C"}]
[{"$f":"'Student 1'!$A$43","v":"Red is late turn-in"},null,{"$f":"'Student 1'!$C$43","v":"Blue is absent"},{"$f":"'Student 1'!$D$43","v":"CH 16"},{"$f":"'Student 1'!$E$43","v":"CH 16"},{"$f":"'Student 1'!$F$43","v":"Align"},{"$f":"'Student 1'!$G$43","v":"In class"},{"$f":"'Student 1'!$H$43","v":"In class"},{"$f":"'Student 1'!$I$43","v":"Extra"},{"$f":"'Student 1'!$J$43","v":"Final"},{"$f":"'Student 1'!$K$43","v":"Class"},null,{"$f":"'Student 1'!$M$43","v":"Professionalism"},null,null,{"$f":"'Student 1'!$P$43","v":"Lab"},null,{"$f":"'Student 1'!$R$43","v":"Total  "},{"$f":"'Student 1'!$S$43","v":"Letter"},null,{"$f":"'Student 1'!$U$43","v":{"v":0.815,"d":"82%"}},{"$f":"'Student 1'!$V$43","v":"C+"}]
[{"$f":"'Student 1'!$A$44","v":"I D "},{"$f":"'Student 1'!$B$44","v":"First:"},{"$f":"'Student 1'!$C$44","v":"Last:"},{"$f":"'Student 1'!$D$44","v":"HW"},{"$f":"'Student 1'!$E$44","v":"Test"},{"$f":"'Student 1'!$F$44","v":"HW"},{"$f":"'Student 1'!$G$44","v":"Project1"},{"$f":"'Student 1'!$H$44","v":"Project2"},{"$f":"'Student 1'!$I$44","v":"Credit"},{"$f":"'Student 1'!$J$44","v":"Test"},{"$f":"'Student 1'!$K$44","v":"Points"},{"$f":"'Student 1'!$L$44","v":"%"},{"$f":"'Student 1'!$M$44","v":"Attendance"},{"$f":"'Student 1'!$N$44","v":"Points"},{"$f":"'Student 1'!$O$44","v":"%"},{"$f":"'Student 1'!$P$44","v":"Points"},{"$f":"'Student 1'!$Q$44","v":"%"},{"$f":"'Student 1'!$R$44","v":"%"},{"$f":"'Student 1'!$S$44","v":"Grade"},null,{"$f":"'Student 1'!$U$44","v":{"v":0.845,"d":"85%"}},{"$f":"'Student 1'!$V$44","v":"B-"}]
[{"$f":"'Course 4 Class'!$A$7","v":{"v":2,"d":"00000002"}},{"$f":"'Course 4 Class'!$B$7","v":"Student"},{"$f":"'Course 4 Class'!$C$7","v":"Two"},{"$f":"'Course 4 Class'!$D$7","v":0},{"$f":"'Course 4 Class'!$E$7","v":0},{"$f":"'Course 4 Class'!$F$7","v":0},{"$f":"'Course 4 Class'!$G$7","v":0},{"$f":"'Course 4 Class'!$H$7","v":0},{"$f":"'Course 4 Class'!$I$7","v":0},{"$f":"'Course 4 Class'!$J$7","v":0},{"$f":"'Course 4 Class'!$K$7","v":0},{"$f":"'Course 4 Class'!$L$7","v":{"v":0,"d":"0%"}},{"$f":"'Course 4 Class'!$M$7","v":{"v":0.928571428571429,"d":"93%"}},{"$f":"'Course 4 Class'!$N$7","v":71.5714285714286},{"$f":"'Course 4 Class'!$O$7","v":{"v":0.994047619047619,"d":"99%"}},{"$f":"'Course 4 Class'!$P$7","v":0},{"$f":"'Course 4 Class'!$Q$7","v":{"v":0,"d":"0%"}},{"$f":"'Course 4 Class'!$R$7","v":{"v":0.248511904761905,"d":"25%"}},{"$f":"'Course 4 Class'!$S$7","v":"F"},null,{"$f":"'Student 1'!$U$45","v":{"v":0.875,"d":"88%"}},{"$f":"'Student 1'!$V$45","v":"B"}]
[{"$f":"'Student 1'!$A$46","v":"Course 4 Alignment. Lab"},{"$nulls":19},{"$f":"'Student 1'!$U$46","v":{"v":0.895,"d":"90%"}},{"$f":"'Student 1'!$V$46","v":"B+"}]
[{"$f":"'Student 1'!$A$47","v":"Max Shop Points:"},null,{"$f":"'Student 1'!$C$47","v":1300},{"$f":"'Student 1'!$D$47","v":"Alignment"},{"$f":"'Student 1'!$E$47","v":"Complete"},{"$f":"'Student 1'!$F$47","v":"Cus"},{"$f":"'Student 1'!$G$47","v":" "},{"$nulls":13},{"$f":"'Student 1'!$U$47","v":{"v":0.925,"d":"93%"}},{"$f":"'Student 1'!$V$47","v":"A-"}]
[{"$f":"'Student 1'!$A$48","v":"Max shop points available depend on how much customer work is done."},null,null,{"$f":"'Student 1'!$D$48","v":"Pre-check"},{"$f":"'Student 1'!$E$48","v":"Wheel"},{"$f":"'Student 1'!$F$48","v":"tomer"},{"$f":"'Student 1'!$G$48","v":"Comp"},{"$nulls":13},{"$f":"'Student 1'!$U$48","v":{"v":0.945,"d":"95%"}},{"$f":"'Student 1'!$V$48","v":"A"}]
[{"$nulls":3},{"$f":"'Student 1'!$D$49","v":"100 P"},{"$f":"'Student 1'!$E$49","v":"Alignment"},{"$f":"'Student 1'!$F$49","v":"Work"},{"$f":"'Student 1'!$G$49","v":"etency"},{"$f":"'Student 1'!$H$49","v":" "},{"$f":"'Student 1'!$I$49","v":" "},{"$nulls":11},{"$f":"'Student 1'!$U$49","v":{"v":1,"d":"100%"}},{"$f":"'Student 1'!$V$49","v":"A"}]
[{"$nulls":3},{"$f":"'Student 1'!$D$50","v":1},{"$f":"'Student 1'!$E$50","v":1},{"$f":"'Student 1'!$F$50","v":" "},{"$f":"'Student 1'!$G$50","v":"0 or 1"},{"$f":"'Student 1'!$H$50","v":"Lab"}]
[{"$f":"'Student 1'!$A$51","v":"ID"},{"$f":"'Student 1'!$B$51","v":"First:"},{"$f":"'Student 1'!$C$51","v":"Last:"},{"$f":"'Student 1'!$D$51","v":100},{"$f":"'Student 1'!$E$51","v":900},{"$f":"'Student 1'!$F$51","v":300},{"$f":"'Student 1'!$G$51","v":"*"},{"$f":"'Student 1'!$H$51","v":"Points"},{"$f":"'Student 1'!$I$51","v":"%"}]
[{"$f":"'Course 4 Lab'!$A$8","v":{"v":2,"d":"00000002"}},{"$f":"'Course 4 Lab'!$B$8","v":"Student"},{"$f":"'Course 4 Lab'!$C$8","v":"Two"},{"$f":"'Course 4 Lab'!$D$8","v":0},{"$f":"'Course 4 Lab'!$E$8","v":0},{"$f":"'Course 4 Lab'!$F$8","v":0},{"$f":"'Course 4 Lab'!$G$8","v":1},{"$f":"'Course 4 Lab'!$H$8","v":0},{"$f":"'Course 4 Lab'!$I$8","v":{"v":0,"d":"0%"}}]
[{"$f":"'Student 1'!$A$53","v":"Course 5 Brake Systems. Class."},{"$nulls":10},{"$f":"'Student 1'!$L$53","v":35}]
[{"$f":"'Student 1'!$A$54","v":"Date assignment is due:"},null,{"$f":"'Student 1'!$C$54","v":" "},{"$f":"'Student 1'!$D$54","v":"TBD"},{"$f":"'Student 1'!$E$54","v":"TBD"},{"$f":"'Student 1'!$F$54","v":"TBD"},{"$f":"'Student 1'!$G$54","v":"TBD"},{"$f":"'Student 1'!$H$54","v":"TBD"},{"$f":"'Student 1'!$I$54","v":"TBD"},{"$f":"'Student 1'!$J$54","v":"TBD"},{"$f":"'Student 1'!$K$54","v":"TBD"},{"$f":"'Student 1'!$L$54","v":"TBD"},{"$f":"'Student 1'!$M$54","v":"TBD"}]
[{"$f":"'Student 1'!$A$55","v":"Class Room Points:"},null,{"$f":"'Student 1'!$C$55","v":440},{"$f":"'Student 1'!$D$55","v":30},{"$f":"'Student 1'!$E$55","v":25},{"$f":"'Student 1'!$F$55","v":100},{"$f":"'Student 1'!$G$55","v":30},{"$f":"'Student 1'!$H$55","v":50},{"$f":"'Student 1'!$I$55","v":30},{"$f":"'Student 1'!$J$55","v":25},{"$f":"'Student 1'!$K$55","v":50},{"$f":"'Student 1'!$L$55","v":" "},{"$f":"'Student 1'!$M$55","v":100},{"$f":"'Student 1'!$N$55","v":"Evaluation"}]
[{"$f":"'Student 1'!$A$56","v":"Red is late turn-in"},null,{"$f":"'Student 1'!$C$56","v":"Blue is absent"},{"$f":"'Student 1'!$D$56","v":"HW"},{"$f":"'Student 1'!$E$56","v":"HW"},{"$f":"'Student 1'!$F$56","v":"Test"},{"$f":"'Student 1'!$G$56","v":"HW"},{"$f":"'Student 1'!$H$56","v":"Test"},{"$f":"'Student 1'!$I$56","v":"HW"},{"$f":"'Student 1'!$J$56","v":"Test"},{"$f":"'Student 1'!$K$56","v":"Class"},{"$f":"'Student 1'!$L$56","v":"Extra"},{"$f":"'Student 1'!$M$56","v":"Final"},{"$f":"'Student 1'!$N$56","v":"Class"},null,{"$f":"'Student 1'!$P$56","v":"Professionalism"},null,null,{"$f":"'Student 1'!$S$56","v":"Lab"},null,{"$f":"'Student 1'!$U$56","v":"Total  "},{"$f":"'Student 1'!$V$56","v":"Letter"}]
[{"$f":"'Student 1'!$A$57","v":"I D "},{"$f":"'Student 1'!$B$57","v":"First:"},{"$f":"'Student 1'!$C$57","v":"Last:"},{"$f":"'Student 1'!$D$57","v":"CH 4"},{"$f":"'Student 1'!$E$57","v":"CH 5"},{"$f":"'Student 1'!$F$57","v":"#1"},{"$f":"'Student 1'!$G$57","v":"CH 7"},{"$f":"'Student 1'!$H$57","v":"Conv"},{"$f":"'Student 1'!$I$57","v":"CH 20"},{"$f":"'Student 1'!$J$57","v":"21/22"},{"$f":"'Student 1'!$K$57","v":"Project"},{"$f":"'Student 1'!$L$57","v":"Credit"},{"$f":"'Student 1'!$M$57","v":"Test"},{"$f":"'Student 1'!$N$57","v":"Points"},{"$f":"'Student 1'!$O$57","v":"%"},{"$f":"'Student 1'!$P$57","v":"Attendance"},{"$f":"'Student 1'!$Q$57","v":"Points"},{"$f":"'Student 1'!$R$57","v":"%"},{"$f":"'Student 1'!$S$57","v":"Points"},{"$f":"'Student 1'!$T$57","v":"%"},{"$f":"'Student 1'!$U$57","v":"%"},{"$f":"'Student 1'!$V$57","v":"Grade"}]
[{"$f":"'Course 5 Class'!$A$7","v":{"v":2,"d":"00000002"}},{"$f":"'Course 5 Class'!$B$7","v":"Student"},{"$f":"'Course 5 Class'!$C$7","v":"Two"},{"$f":"'Course 5 Class'!$D$7","v":0},{"$f":"'Course 5 Class'!$E$7","v":0},{"$f":"'Course 5 Class'!$F$7","v":0},{"$f":"'Course 5 Class'!$G$7","v":0},{"$f":"'Course 5 Class'!$H$7","v":0},{"$f":"'Course 5 Class'!$I$7","v":0},{"$f":"'Course 5 Class'!$J$7","v":0},{"$f":"'Course 5 Class'!$K$7","v":0},{"$f":"'Course 5 Class'!$L$7","v":0},{"$f":"'Course 5 Class'!$M$7","v":0},{"$f":"'Course 5 Class'!$N$7","v":0},{"$f":"'Course 5 Class'!$O$7","v":{"v":0,"d":"0%"}},{"$f":"'Course 5 Class'!$P$7","v":{"v":0.928571428571429,"d":"93%"}},{"$f":"'Course 5 Class'!$Q$7","v":71.5714285714286},{"$f":"'Course 5 Class'!$R$7","v":{"v":0.994047619047619,"d":"99%"}},{"$f":"'Course 5 Class'!$S$7","v":0},{"$f":"'Course 5 Class'!$T$7","v":{"v":0,"d":"0%"}},{"$f":"'Course 5 Class'!$U$7","v":{"v":0.248511904761905,"d":"25%"}},{"$f":"'Course 5 Class'!$V$7","v":"F"}]
[{"$f":"'Student 1'!$A$59","v":"Course 5 Brake Systems. Lab"}]
[{"$f":"'Student 1'!$A$60","v":"  Max Shop Points:"},null,{"$f":"'Student 1'!$C$60","v":970},{"$f":"'Student 1'!$D$60","v":"Drum"},{"$f":"'Student 1'!$E$60","v":"Drum "},{"$f":"'Student 1'!$F$60","v":"Disc"},{"$f":"'Student 1'!$G$60","v":"On Car"},{"$f":"'Student 1'!$H$60","v":"Off Car"},{"$f":"'Student 1'!$I$60","v":"Wheel"},{"$f":"'Student 1'!$J$60","v":"Hydr."},{"$f":"'Student 1'!$K$60","v":"Vacuum"},{"$f":"'Student 1'!$L$60","v":"Warning"},{"$f":"'Student 1'!$M$60","v":"Brake"},{"$f":"'Student 1'!$N$60","v":"Brake"},{"$f":"'Student 1'!$O$60","v":"Dodge"},{"$f":"'Student 1'!$P$60","v":"Ford"},{"$f":"'Student 1'!$Q$60","v":"GM"},{"$f":"'Student 1'!$R$60","v":"Cus"},{"$f":"'Student 1'!$S$60","v":"Brake"}]
[{"$f":"'Student 1'!$A$61","v":"Max shop points available depend on how much customer work is done."},null,null,{"$f":"'Student 1'!$D$61","v":"Brake"},{"$f":"'Student 1'!$E$61","v":"Brake "},{"$f":"'Student 1'!$F$61","v":"Brake"},{"$f":"'Student 1'!$G$61","v":"Disc"},{"$f":"'Student 1'!$H$61","v":"Disc"},{"$f":"'Student 1'!$I$61","v":"Bearing"},{"$f":"'Student 1'!$J$61","v":"Line"},{"$f":"'Student 1'!$K$61","v":"Booster"},{"$f":"'Student 1'!$L$61","v":"Light"},{"$f":"'Student 1'!$M$61","v":"System"},{"$f":"'Student 1'!$N$61","v":"Valves"},{"$f":"'Student 1'!$O$61","v":"Anti"},{"$f":"'Student 1'!$P$61","v":"Anti"},{"$f":"'Student 1'!$Q$61","v":"Anti"},{"$f":"'Student 1'!$R$61","v":"tomer"},{"$f":"'Student 1'!$S$61","v":"Comp"}]
[{"$nulls":3},{"$f":"'Student 1'!$D$62","v":"Job"},{"$f":"'Student 1'!$E$62","v":"Mach."},{"$f":"'Student 1'!$F$62","v":"Job"},{"$f":"'Student 1'!$G$62","v":"Mach."},{"$f":"'Student 1'!$H$62","v":"Mach."},{"$f":"'Student 1'!$I$62","v":"Service"},{"$f":"'Student 1'!$J$62","v":"Repair"},{"$f":"'Student 1'!$K$62","v":"Service"},{"$f":"'Student 1'!$L$62","v":"Service"},{"$f":"'Student 1'!$M$62","v":"Bleed"},{"$f":"'Student 1'!$N$62","v":"Check"},{"$f":"'Student 1'!$O$62","v":"Lock"},{"$f":"'Student 1'!$P$62","v":"Lock"},{"$f":"'Student 1'!$Q$62","v":"Lock"},{"$f":"'Student 1'!$R$62","v":"Work"},{"$f":"'Student 1'!$S$62","v":"etency"}]
[{"$nulls":3},{"$f":"'Student 1'!$D$63","v":2},{"$f":"'Student 1'!$E$63","v":2},{"$f":"'Student 1'!$F$63","v":2},{"$f":"'Student 1'!$G$63","v":2},{"$f":"'Student 1'!$H$63","v":2},{"$f":"'Student 1'!$I$63","v":1},{"$f":"'Student 1'!$J$63","v":1},{"$f":"'Student 1'!$K$63","v":2},{"$f":"'Student 1'!$L$63","v":2},{"$f":"'Student 1'!$M$63","v":4},{"$f":"'Student 1'!$N$63","v":1},{"$f":"'Student 1'!$O$63","v":1},{"$f":"'Student 1'!$P$63","v":1},{"$f":"'Student 1'!$Q$63","v":1},{"$f":"'Student 1'!$R$63","v":" "},{"$f":"'Student 1'!$S$63","v":"Required"},{"$f":"'Student 1'!$T$63","v":"Lab"}]
[{"$f":"'Student 1'!$A$64","v":"ID"},{"$f":"'Student 1'!$B$64","v":"First:"},{"$f":"'Student 1'!$C$64","v":"Last:"},{"$f":"'Student 1'!$D$64","v":150},{"$f":"'Student 1'!$E$64","v":40},{"$f":"'Student 1'!$F$64","v":150},{"$f":"'Student 1'!$G$64","v":80},{"$f":"'Student 1'!$H$64","v":40},{"$f":"'Student 1'!$I$64","v":50},{"$f":"'Student 1'!$J$64","v":30},{"$f":"'Student 1'!$K$64","v":30},{"$f":"'Student 1'!$L$64","v":40},{"$f":"'Student 1'!$M$64","v":80},{"$f":"'Student 1'!$N$64","v":40},{"$f":"'Student 1'!$O$64","v":80},{"$f":"'Student 1'!$P$64","v":80},{"$f":"'Student 1'!$Q$64","v":80},{"$f":"'Student 1'!$R$64","v":300},{"$f":"'Student 1'!$S$64","v":"*"},{"$f":"'Student 1'!$T$64","v":"Points"},{"$f":"'Student 1'!$U$64","v":"%"}]
[{"$f":"'Course 5 Lab'!$A$8","v":{"v":2,"d":"00000002"}},{"$f":"'Course 5 Lab'!$B$8","v":"Student"},{"$f":"'Course 5 Lab'!$C$8","v":"Two"},{"$f":"'Course 5 Lab'!$D$8","v":0},{"$f":"'Course 5 Lab'!$E$8","v":0},{"$f":"'Course 5 Lab'!$F$8","v":0},{"$f":"'Course 5 Lab'!$G$8","v":0},{"$f":"'Course 5 Lab'!$H$8","v":0},{"$f":"'Course 5 Lab'!$I$8","v":0},{"$f":"'Course 5 Lab'!$J$8","v":0},{"$f":"'Course 5 Lab'!$K$8","v":0},{"$f":"'Course 5 Lab'!$L$8","v":0},{"$f":"'Course 5 Lab'!$M$8","v":0},{"$f":"'Course 5 Lab'!$N$8","v":0},{"$f":"'Course 5 Lab'!$O$8","v":0},{"$f":"'Course 5 Lab'!$P$8","v":0},{"$f":"'Course 5 Lab'!$Q$8","v":0},{"$f":"'Course 5 Lab'!$R$8","v":0},{"$f":"'Course 5 Lab'!$S$8","v":1},{"$f":"'Course 5 Lab'!$T$8","v":0},{"$f":"'Course 5 Lab'!$U$8","v":{"v":0,"d":"0%"}}]

{"sheet":"Student 3","index":16,"n_rows":65,"n_cols":23,"rows_kept":65,"merged":[[0,0,0,2],[1,0,1,2],[2,0,2,1],[2,9,2,17],[3,0,3,1],[3,9,3,10],[3,11,3,13],[3,14,3,15],[6,0,6,2],[7,0,7,1],[8,0,10,2],[10,16,10,17],[13,0,13,2],[14,1,14,2],[15,0,15,1],[15,11,15,19],[16,0,16,1],[16,11,16,12],[16,13,16,15],[16,16,16,17],[19,0,19,2],[20,0,20,1],[21,0,23,2],[23,13,23,14],[26,0,26,2],[27,1,27,2],[28,0,28,1],[28,14,28,22],[29,0,29,1],[29,14,29,15],[29,16,29,18],[29,19,29,20],[32,0,32,2],[33,0,33,1],[34,0,36,2],[35,20,35,21],[36,16,36,17],[39,0,39,2],[40,1,40,2],[41,0,41,1],[41,10,41,18],[42,0,42,1],[42,10,42,11],[42,12,42,14],[42,15,42,16],[45,0,45,2],[46,0,46,1],[47,0,49,2],[49,7,49,8],[52,0,52,2],[53,0,53,2],[54,0,54,1],[54,13,54,21],[55,0,55,1],[55,13,55,14],[55,15,55,17],[55,18,55,19],[58,0,58,2],[59,0,59,1],[60,0,62,2],[62,19,62,20]]}
[{"$f":"'Student 1'!$A$1","v":"Course 1 Engine Diagnosis. Class"},{"$nulls":6},{"$f":"'Student 1'!$H$1","v":25}]
[{"$f":"'Student 1'!$A$2","v":"Date assignment is due"},null,{"$f":"'Student 1'!$C$2","v":" "},{"$f":"'Student 1'!$D$2","v":"TBD"},{"$f":"'Student 1'!$E$2","v":"TBD"},{"$f":"'Student 1'!$F$2","v":"TBD"},{"$f":"'Student 1'!$G$2","v":"TBD"},{"$f":"'Student 1'!$H$2","v":"TBD"},{"$f":"'Student 1'!$I$2","v":"TBD"}]
[{"$f":"'Student 1'!$A$3","v":"Class Room Points:"},null,{"$f":"'Student 1'!$C$3","v":160},{"$f":"'Student 1'!$D$3","v":20},{"$f":"'Student 1'!$E$3","v":20},{"$f":"'Student 1'!$F$3","v":20},{"$f":"'Student 1'!$G$3","v":25},{"$f":"'Student 1'!$H$3","v":" "},{"$f":"'Student 1'!$I$3","v":75},{"$f":"'Student 1'!$J$3","v":"Evaluation"}]
[{"$f":"'Student 1'!$A$4","v":"Red is late turn-in"},null,{"$f":"'Student 1'!$C$4","v":"Blue is absent"},{"$f":"'Student 1'!$D$4","v":"CH 13 "},{"$f":"'Student 1'!$E$4","v":"Lube"},{"$f":"'Student 1'!$F$4","v":"Lube"},{"$f":"'Student 1'!$G$4","v":"Condition"},{"$f":"'Student 1'!$H$4","v":"Extra"},{"$f":"'Student 1'!$I$4","v":"Final"},{"$f":"'Student 1'!$J$4","v":"Classroom"},null,{"$f":"'Student 1'!$L$4","v":"Professionalism"},null,null,{"$f":"'Student 1'!$O$4","v":"Lab"},null,{"$f":"'Student 1'!$Q$4","v":"Total  "},{"$f":"'Student 1'!$R$4","v":"Letter"}]
[{"$f":"'Student 1'!$A$5","v":"I D "},{"$f":"'Student 1'!$B$5","v":"First:"},{"$f":"'Student 1'!$C$5","v":"Last:"},{"$f":"'Student 1'!$D$5","v":"Test"},{"$f":"'Student 1'!$E$5","v":"HW"},{"$f":"'Student 1'!$F$5","v":"Test"},{"$f":"'Student 1'!$G$5","v":"Class"},{"$f":"'Student 1'!$H$5","v":"Credit"},{"$f":"'Student 1'!$I$5","v":"Test"},{"$f":"'Student 1'!$J$5","v":"Points"},{"$f":"'Student 1'!$K$5","v":"%"},{"$f":"'Student 1'!$L$5","v":"Attendance"},{"$f":"'Student 1'!$M$5","v":"Points"},{"$f":"'Student 1'!$N$5","v":"%"},{"$f":"'Student 1'!$O$5","v":"Points"},{"$f":"'Student 1'!$P$5","v":"%"},{"$f":"'Student 1'!$Q$5","v":"%"},{"$f":"'Student 1'!$R$5","v":"Grade"}]
[{"$f":"'Course 1 Class'!$A$8","v":{"v":3,"d":"00000003"}},{"$f":"'Course 1 Class'!$B$8","v":"Student"},{"$f":"'Course 1 Class'!$C$8","v":"Three"},{"$f":"'Course 1 Class'!$D$8","v":0},{"$f":"'Course 1 Class'!$E$8","v":0},{"$f":"'Course 1 Class'!$F$8","v":0},{"$f":"'Course 1 Class'!$G$8","v":0},{"$f":"'Course 1 Class'!$H$8","v":0},{"$f":"'Course 1 Class'!$I$8","v":0},{"$f":"'Course 1 Class'!$J$8","v":0},{"$f":"'Course 1 Class'!$K$8","v":{"v":0,"d":"0%"}},{"$f":"'Course 1 Class'!$L$8","v":{"v":1,"d":"100%"}},{"$f":"'Course 1 Class'!$M$8","v":72},{"$f":"'Course 1 Class'!$N$8","v":{"v":1,"d":"100%"}},{"$f":"'Course 1 Class'!$O$8","v":0},{"$f":"'Course 1 Class'!$P$8","v":{"v":0,"d":"0%"}},{"$f":"'Course 1 Class'!$Q$8","v":{"v":0.25,"d":"25%"}},{"$f":"'Course 1 Class'!$R$8","v":"F"}]
[{"$f":"'Student 1'!$A$7","v":"Course 1 Engine Diagnosis. Lab"}]
[{"$f":"'Student 1'!$A$8","v":"  Max Shop Points:"},null,{"$f":"'Student 1'!$C$8","v":1325},{"$f":"'Student 1'!$D$8","v":"Dry"},{"$f":"'Student 1'!$E$8","v":"Wet"},{"$f":"'Student 1'!$F$8","v":"Running"},{"$f":"'Student 1'!$G$8","v":"Cylinder"},{"$f":"'Student 1'!$H$8","v":"Oil"},{"$f":"'Student 1'!$I$8","v":"Cooling"},{"$f":"'Student 1'!$J$8","v":"Vacuum"},{"$f":"'Student 1'!$K$8","v":"PCV"},{"$f":"'Student 1'!$L$8","v":"Thermostat"},{"$f":"'Student 1'!$M$8","v":"Fluid"},{"$f":"'Student 1'!$N$8","v":"Diag"},{"$f":"'Student 1'!$O$8","v":" "}]
[{"$f":"'Student 1'!$A$9","v":"Max shop points available depend on how much customer work is done."},null,null,{"$f":"'Student 1'!$D$9","v":"Compr"},{"$f":"'Student 1'!$E$9","v":"Compr"},{"$f":"'Student 1'!$F$9","v":"Compr"},{"$f":"'Student 1'!$G$9","v":"Leakage"},{"$f":"'Student 1'!$H$9","v":"Pressure"},{"$f":"'Student 1'!$I$9","v":"System"},{"$f":"'Student 1'!$J$9","v":"Gauge"},{"$f":"'Student 1'!$K$9","v":"System"},{"$f":"'Student 1'!$L$9","v":"and fan"},{"$f":"'Student 1'!$M$9","v":"Leak"},{"$f":"'Student 1'!$N$9","v":"gauges"},{"$f":"'Student 1'!$O$9","v":"Cus"},{"$f":"'Student 1'!$P$9","v":"Comp"}]
[{"$nulls":3},{"$f":"'Student 1'!$D$10","v":"Test"},{"$f":"'Student 1'!$E$10","v":"Test"},{"$f":"'Student 1'!$F$10","v":"Test"},{"$f":"'Student 1'!$G$10","v":"Test"},{"$f":"'Student 1'!$H$10","v":"Test"},{"$f":"'Student 1'!$I$10","v":"Test"},{"$f":"'Student 1'!$J$10","v":"Test"},{"$f":"'Student 1'!$K$10","v":"Check"},{"$f":"'Student 1'!$L$10","v":"Operation"},{"$f":"'Student 1'!$M$10","v":"Check"},{"$f":"'Student 1'!$N$10","v":"any vehicle"},{"$f":"'Student 1'!$O$10","v":"tomer"},{"$f":"'Student 1'!$P$10","v":"etency"},{"$f":"'Student 1'!$Q$10","v":"  "},{"$f":"'Student 1'!$R$10","v":" "}]
[{"$nulls":3},{"$f":"'Student 1'!$D$11","v":2},{"$f":"'Student 1'!$E$11","v":2},{"$f":"'Student 1'!$F$11","v":2},{"$f":"'Student 1'!$G$11","v":2},{"$f":"'Student 1'!$H$11","v":2},{"$f":"'Student 1'!$I$11","v":2},{"$f":"'Student 1'!$J$11","v":2},{"$f":"'Student 1'!$K$11","v":2},{"$f":"'Student 1'!$L$11","v":2},{"$f":"'Student 1'!$M$11","v":1},{"$f":"'Student 1'!$N$11","v":1},{"$f":"'Student 1'!$O$11","v":"Work"},{"$f":"'Student 1'!$P$11","v":"0 or 1"},{"$f":"'Student 1'!$Q$11","v":"Lab"}]
[{"$f":"'Student 1'!$A$12","v":"ID"},{"$f":"'Student 1'!$B$12","v":"First:"},{"$f":"'Student 1'!$C$12","v":"Last:"},{"$f":"'Student 1'!$D$12","v":100},{"$f":"'Student 1'!$E$12","v":100},{"$f":"'Student 1'!$F$12","v":100},{"$f":"'Student 1'!$G$12","v":100},{"$f":"'Student 1'!$H$12","v":100},{"$f":"'Student 1'!$I$12","v":150},{"$f":"'Student 1'!$J$12","v":100},{"$f":"'Student 1'!$K$12","v":50},{"$f":"'Student 1'!$L$12","v":100},{"$f":"'Student 1'!$M$12","v":25},{"$f":"'Student 1'!$N$12","v":100},{"$f":"'Student 1'!$O$12","v":300},{"$f":"'Student 1'!$P$12","v":"*"},{"$f":"'Student 1'!$Q$12","v":"Points"},{"$f":"'Student 1'!$R$12","v":"%"}]
[{"$f":"'Course 1 Lab'!$A$9","v":{"v":3,"d":"00000003"}},{"$f":"'Course 1 Lab'!$B$9","v":"Student"},{"$f":"'Course 1 Lab'!$C$9","v":"Three"},{"$f":"'Course 1 Lab'!$D$9","v":0},{"$f":"'Course 1 Lab'!$E$9","v":0},{"$f":"'Course 1 Lab'!$F$9","v":0},{"$f":"'Course 1 Lab'!$G$9","v":0},{"$f":"'Course 1 Lab'!$H$9","v":0},{"$f":"'Course 1 Lab'!$I$9","v":0},{"$f":"'Course 1 Lab'!$J$9","v":0},{"$f":"'Course 1 Lab'!$K$9","v":0},{"$f":"'Course 1 Lab'!$L$9","v":0},{"$f":"'Course 1 Lab'!$M$9","v":0},{"$f":"'Course 1 Lab'!$N$9","v":0},{"$f":"'Course 1 Lab'!$O$9","v":0},{"$f":"'Course 1 Lab'!$P$9","v":1},{"$f":"'Course 1 Lab'!$Q$9","v":0},{"$f":"'Course 1 Lab'!$R$9","v":{"v":0,"d":"0%"}}]
[{"$f":"'Student 1'!$A$14","v":"Course 2 Engine Theory & Repair. Class"},{"$nulls":8},{"$f":"'Student 1'!$J$14","v":25}]
[{"$f":"'Student 1'!$A$15","v":" "},{"$f":"'Student 1'!$B$15","v":"Date assignment is due:"},null,{"$f":"'Student 1'!$D$15","v":"TBD"},{"$f":"'Student 1'!$E$15","v":"TBD"},{"$f":"'Student 1'!$F$15","v":"TBD"},{"$f":"'Student 1'!$G$15","v":"TBD"},{"$f":"'Student 1'!$H$15","v":"TBD"},{"$f":"'Student 1'!$I$15","v":"TBD"},{"$f":"'Student 1'!$J$15","v":"TBD"},{"$f":"'Student 1'!$K$15","v":"TBD"}]
[{"$f":"'Student 1'!$A$16","v":"Class Room Points:"},null,{"$f":"'Student 1'!$C$16","v":201},{"$f":"'Student 1'!$D$16","v":10},{"$f":"'Student 1'!$E$16","v":10},{"$f":"'Student 1'!$F$16","v":20},{"$f":"'Student 1'!$G$16","v":20},{"$f":"'Student 1'!$H$16","v":16},{"$f":"'Student 1'!$I$16","v":25},{"$f":"'Student 1'!$J$16","v":" "},{"$f":"'Student 1'!$K$16","v":100},{"$f":"'Student 1'!$L$16","v":"Evaluation"}]
[{"$f":"'Student 1'!$A$17","v":"Red is late turn-in"},null,{"$f":"'Student 1'!$C$17","v":"Blue is absent"},{"$f":"'Student 1'!$D$17","v":"HW"},{"$f":"'Student 1'!$E$17","v":"HW "},{"$f":"'Student 1'!$F$17","v":"Test"},{"$f":"'Student 1'!$G$17","v":"Test"},{"$f":"'Student 1'!$H$17","v":"HW"},{"$f":"'Student 1'!$I$17","v":"Test"},{"$f":"'Student 1'!$J$17","v":"Extra"},{"$f":"'Student 1'!$K$17","v":"Final "},{"$f":"'Student 1'!$L$17","v":"Class"},null,{"$f":"'Student 1'!$N$17","v":"Professionalism"},null,null,{"$f":"'Student 1'!$Q$17","v":"Lab"},null,{"$f":"'Student 1'!$S$17","v":"Total  "},{"$f":"'Student 1'!$T$17","v":"Letter"}]
[{"$f":"'Student 1'!$A$18","v":"I D "},{"$f":"'Student 1'!$B$18","v":"First:"},{"$f":"'Student 1'!$C$18","v":"Last:"},{"$f":"'Student 1'!$D$18","v":"CH 7"},{"$f":"'Student 1'!$E$18","v":"CH 14"},{"$f":"'Student 1'!$F$18","v":"C & L"},{"$f":"'Student 1'!$G$18","v":"CH 18"},{"$f":"'Student 1'!$H$18","v":"CH 22"},{"$f":"'Student 1'!$I$18","v":"CH 22"},{"$f":"'Student 1'!$J$18","v":"Credit"},{"$f":"'Student 1'!$K$18","v":"TEST"},{"$f":"'Student 1'!$L$18","v":"Points"},{"$f":"'Student 1'!$M$18","v":"%"},{"$f":"'Student 1'!$N$18","v":"Attendance"},{"$f":"'Student 1'!$O$18","v":"Points"},{"$f":"'Student 1'!$P$18","v":"%"},{"$f":"'Student 1'!$Q$18","v":"Points"},{"$f":"'Student 1'!$R$18","v":"%"},{"$f":"'Student 1'!$S$18","v":"%"},{"$f":"'Student 1'!$T$18","v":"Grade"}]
[{"$f":"'Course 2 Class'!$A$8","v":{"v":3,"d":"00000003"}},{"$f":"'Course 2 Class'!$B$8","v":"Student"},{"$f":"'Course 2 Class'!$C$8","v":"Three"},{"$f":"'Course 2 Class'!$D$8","v":0},{"$f":"'Course 2 Class'!$E$8","v":0},{"$f":"'Course 2 Class'!$F$8","v":0},{"$f":"'Course 2 Class'!$G$8","v":0},{"$f":"'Course 2 Class'!$H$8","v":0},{"$f":"'Course 2 Class'!$I$8","v":0},{"$f":"'Course 2 Class'!$J$8","v":0},{"$f":"'Course 2 Class'!$K$8","v":0},{"$f":"'Course 2 Class'!$L$8","v":0},{"$f":"'Course 2 Class'!$M$8","v":{"v":0,"d":"0%"}},{"$f":"'Course 2 Class'!$N$8","v":{"v":1,"d":"100%"}},{"$f":"'Course 2 Class'!$O$8","v":72},{"$f":"'Course 2 Class'!$P$8","v":{"v":1,"d":"100%"}},{"$f":"'Course 2 Class'!$Q$8","v":0},{"$f":"'Course 2 Class'!$R$8","v":{"v":0,"d":"0%"}},{"$f":"'Course 2 Class'!$S$8","v":{"v":0.25,"d":"25%"}},{"$f":"'Course 2 Class'!$T$8","v":"F"}]
[{"$f":"'Student 1'!$A$20","v":"Course 2 Engine Theory & Repair. Lab"}]
[{"$f":"'Student 1'!$A$21","v":"  Max Shop Points:"},null,{"$f":"'Student 1'!$C$21","v":1450},{"$f":"'Student 1'!$D$21","v":"Engine"},{"$f":"'Student 1'!$E$21","v":"Cylinder"},{"$f":"'Student 1'!$F$21","v":"Red"},{"$f":"'Student 1'!$G$21","v":"Mitsubishi"},{"$f":"'Student 1'!$H$21","v":"Any"},{"$f":"'Student 1'!$I$21","v":"DOHC"},{"$f":"'Student 1'!$J$21","v":"Valve seal"},{"$f":"'Student 1'!$K$21","v":"Misc."},{"$f":"'Student 1'!$L$21","v":" "}]
[{"$f":"'Student 1'!$A$22","v":"Max shop points available depend on how much customer work is done."},null,null,{"$f":"'Student 1'!$D$22","v":"Disassemble"},{"$f":"'Student 1'!$E$22","v":"Head"},{"$f":"'Student 1'!$F$22","v":"Dodge"},{"$f":"'Student 1'!$G$22","v":"\"3.0L\""},{"$f":"'Student 1'!$H$22","v":"Engine"},{"$f":"'Student 1'!$I$22","v":"Engine"},{"$f":"'Student 1'!$J$22","v":"&"},{"$f":"'Student 1'!$K$22","v":"Engine "},{"$f":"'Student 1'!$L$22","v":"Cus"},{"$f":"'Student 1'!$M$22","v":"Comp"}]
[{"$nulls":3},{"$f":"'Student 1'!$D$23","v":"& Measure"},{"$f":"'Student 1'!$E$23","v":"Repair"},{"$f":"'Student 1'!$F$23","v":"Clip"},{"$f":"'Student 1'!$G$23","v":"Clip"},{"$f":"'Student 1'!$H$23","v":"T-chain"},{"$f":"'Student 1'!$I$23","v":" Stand"},{"$f":"'Student 1'!$J$23","v":"Lobe lift"},{"$f":"'Student 1'!$K$23","v":"Points"},{"$f":"'Student 1'!$L$23","v":"tomer"},{"$f":"'Student 1'!$M$23","v":"etency"},{"$f":"'Student 1'!$N$23","v":" "},{"$f":"'Student 1'!$O$23","v":" "}]
[{"$nulls":3},{"$f":"'Student 1'!$D$24","v":1},{"$f":"'Student 1'!$E$24","v":1},{"$f":"'Student 1'!$F$24","v":1},{"$f":"'Student 1'!$G$24","v":1},{"$f":"'Student 1'!$H$24","v":1},{"$f":"'Student 1'!$I$24","v":1},{"$f":"'Student 1'!$J$24","v":1},null,{"$f":"'Student 1'!$L$24","v":"Work"},{"$f":"'Student 1'!$M$24","v":"0 or 1"},{"$f":"'Student 1'!$N$24","v":"Lab"}]
[{"$f":"'Student 1'!$A$25","v":"ID"},{"$f":"'Student 1'!$B$25","v":"First:"},{"$f":"'Student 1'!$C$25","v":"Last:"},{"$f":"'Student 1'!$D$25","v":300},{"$f":"'Student 1'!$E$25","v":200},{"$f":"'Student 1'!$F$25","v":100},{"$f":"'Student 1'!$G$25","v":100},{"$f":"'Student 1'!$H$25","v":100},{"$f":"'Student 1'!$I$25","v":100},{"$f":"'Student 1'!$J$25","v":50},{"$f":"'Student 1'!$K$25","v":200},{"$f":"'Student 1'!$L$25","v":300},{"$f":"'Student 1'!$M$25","v":"*"},{"$f":"'Student 1'!$N$25","v":"Points"},{"$f":"'Student 1'!$O$25","v":"%"}]
[{"$f":"'Course 2 Lab'!$A$9","v":{"v":3,"d":"00000003"}},{"$f":"'Course 2 Lab'!$B$9","v":"Student"},{"$f":"'Course 2 Lab'!$C$9","v":"Three"},{"$f":"'Course 2 Lab'!$D$9","v":0},{"$f":"'Course 2 Lab'!$E$9","v":0},{"$f":"'Course 2 Lab'!$F$9","v":0},{"$f":"'Course 2 Lab'!$G$9","v":0},{"$f":"'Course 2 Lab'!$H$9","v":0},{"$f":"'Course 2 Lab'!$I$9","v":0},{"$f":"'Course 2 Lab'!$J$9","v":0},{"$f":"'Course 2 Lab'!$K$9","v":0},{"$f":"'Course 2 Lab'!$L$9","v":0},{"$f":"'Course 2 Lab'!$M$9","v":1},{"$f":"'Course 2 Lab'!$N$9","v":0},{"$f":"'Course 2 Lab'!$O$9","v":{"v":0,"d":"0%"}}]
[{"$f":"'Student 1'!$A$27","v":"Course 3 Steering & Suspension. Class."},{"$nulls":11},{"$f":"'Student 1'!$M$27","v":25}]
[{"$f":"'Student 1'!$A$28","v":" "},{"$f":"'Student 1'!$B$28","v":"Date assignment is due:"},null,{"$f":"'Student 1'!$D$28","v":"1/18"},{"$f":"'Student 1'!$E$28","v":"2/2"},{"$f":"'Student 1'!$F$28","v":"TBD"},{"$f":"'Student 1'!$G$28","v":"TBD"},{"$f":"'Student 1'!$H$28","v":"TBD"},{"$f":"'Student 1'!$I$28","v":"TBD"},{"$f":"'Student 1'!$J$28","v":"TBD"},{"$f":"'Student 1'!$K$28","v":"TBD"},{"$f":"'Student 1'!$L$28","v":"TBD"},{"$f":"'Student 1'!$M$28","v":"TBD"},{"$f":"'Student 1'!$N$28","v":"TBD"}]
[{"$f":"'Student 1'!$A$29","v":"Class Room Points:"},null,{"$f":"'Student 1'!$C$29","v":330},{"$f":"'Student 1'!$D$29","v":20},{"$f":"'Student 1'!$E$29","v":20},{"$f":"'Student 1'!$F$29","v":24},{"$f":"'Student 1'!$G$29","v":20},{"$f":"'Student 1'!$H$29","v":25},{"$f":"'Student 1'!$I$29","v":30},{"$f":"'Student 1'!$J$29","v":20},{"$f":"'Student 1'!$K$29","v":26},{"$f":"'Student 1'!$L$29","v":45},{"$f":"'Student 1'!$M$29","v":" "},{"$f":"'Student 1'!$N$29","v":100},{"$f":"'Student 1'!$O$29","v":"Evaluation"}]
[{"$f":"'Student 1'!$A$30","v":"Red is late turn-in"},null,{"$f":"'Student 1'!$C$30","v":"Blue is absent"},{"$f":"'Student 1'!$D$30","v":"HW"},{"$f":"'Student 1'!$E$30","v":"HW"},{"$f":"'Student 1'!$F$30","v":"HW"},{"$f":"'Student 1'!$G$30","v":"QZ"},{"$f":"'Student 1'!$H$30","v":"HW"},{"$f":"'Student 1'!$I$30","v":"HW"},{"$f":"'Student 1'!$J$30","v":"Test"},{"$f":"'Student 1'!$K$30","v":"HW"},{"$f":"'Student 1'!$L$30","v":"Class"},{"$f":"'Student 1'!$M$30","v":"Extra"},{"$f":"'Student 1'!$N$30","v":"Final"},{"$f":"'Student 1'!$O$30","v":"Class"},null,{"$f":"'Student 1'!$Q$30","v":"Professionalism"},null,null,{"$f":"'Student 1'!$T$30","v":"Lab"},null,{"$f":"'Student 1'!$V$30","v":"Total  "},{"$f":"'Student 1'!$W$30","v":"Letter"}]
[{"$f":"'Student 1'!$A$31","v":"I D "},{"$f":"'Student 1'!$B$31","v":"First:"},{"$f":"'Student 1'!$C$31","v":"Last:"},{"$f":"'Student 1'!$D$31","v":"CH 1"},{"$f":"'Student 1'!$E$31","v":"CH 2"},{"$f":"'Student 1'!$F$31","v":"CH 3"},{"$f":"'Student 1'!$G$31","v":"1"},{"$f":"'Student 1'!$H$31","v":"CH 6"},{"$f":"'Student 1'!$I$31","v":"CH 9"},{"$f":"'Student 1'!$J$31","v":"1 – 9"},{"$f":"'Student 1'!$K$31","v":"CH 12"},{"$f":"'Student 1'!$L$31","v":"Project"},{"$f":"'Student 1'!$M$31","v":"Credit"},{"$f":"'Student 1'!$N$31","v":"TEST"},{"$f":"'Student 1'!$O$31","v":"Points"},{"$f":"'Student 1'!$P$31","v":"%"},{"$f":"'Student 1'!$Q$31","v":"Attendance"},{"$f":"'Student 1'!$R$31","v":"Points"},{"$f":"'Student 1'!$S$31","v":"%"},{"$f":"'Student 1'!$T$31","v":"Points"},{"$f":"'Student 1'!$U$31","v":"%"},{"$f":"'Student 1'!$V$31","v":"%"},{"$f":"'Student 1'!$W$31","v":"Grade"}]
[{"$f":"'Course 3 Class'!$A$8","v":{"v":3,"d":"00000003"}},{"$f":"'Course 3 Class'!$B$8","v":"Student"},{"$f":"'Course 3 Class'!$C$8","v":"Three"},{"$f":"'Course 3 Class'!$D$8","v":0},{"$f":"'Course 3 Class'!$E$8","v":0},{"$f":"'Course 3 Class'!$F$8","v":0},{"$f":"'Course 3 Class'!$G$8","v":0},{"$f":"'Course 3 Class'!$H$8","v":0},{"$f":"'Course 3 Class'!$I$8","v":0},{"$f":"'Course 3 Class'!$J$8","v":0},{"$f":"'Course 3 Class'!$K$8","v":0},{"$f":"'Course 3 Class'!$L$8","v":0},{"$f":"'Course 3 Class'!$M$8","v":0},{"$f":"'Course 3 Class'!$N$8","v":0},{"$f":"'Course 3 Class'!$O$8","v":0},{"$f":"'Course 3 Class'!$P$8","v":{"v":0,"d":"0%"}},{"$f":"'Course 3 Class'!$Q$8","v":{"v":1,"d":"100%"}},{"$f":"'Course 3 Class'!$R$8","v":72},{"$f":"'Course 3 Class'!$S$8","v":{"v":1,"d":"100%"}},{"$f":"'Course 3 Class'!$T$8","v":0},{"$f":"'Course 3 Class'!$U$8","v":{"v":0,"d":"0%"}},{"$f":"'Course 3 Class'!$V$8","v":{"v":0.25,"d":"25%"}},{"$f":"'Course 3 Class'!$W$8","v":"F"}]
[{"$f":"'Student 1'!$A$33","v":"Course 3 Steering & Suspension. Lab"}]
[{"$f":"'Student 1'!$A$34","v":"Max shop points"},null,{"$f":"'Student 1'!$C$34","v":1350},{"$f":"'Student 1'!$D$34","v":"Repair"},{"$f":"'Student 1'!$E$34","v":"Identify"},{"$f":"'Student 1'!$F$34","v":"Repair"},{"$f":"'Student 1'!$G$34","v":"Identify"},{"$f":"'Student 1'!$H$34","v":"Repair"},{"$f":"'Student 1'!$I$34","v":"R&R"},{"$f":"'Student 1'!$J$34","v":"R&R"},{"$f":"'Student 1'!$K$34","v":"R&R"},{"$f":"'Student 1'!$L$34","v":"P/S"},{"$f":"'Student 1'!$M$34","v":"R&R"},{"$f":"'Student 1'!$N$34","v":"NVH"},{"$f":"'Student 1'!$O$34","v":" "}]
[{"$f":"'Student 1'!$A$35","v":"Max shop points available depend on how much customer work is done."},null,null,{"$f":"'Student 1'!$D$35","v":"SLA"},{"$f":"'Student 1'!$E$35","v":"SLA"},{"$f":"'Student 1'!$F$35","v":"Mac-P"},{"$f":"'Student 1'!$G$35","v":"Mac-P"},{"$f":"'Student 1'!$H$35","v":"Rear"},{"$f":"'Student 1'!$I$35","v":"Rack &"},{"$f":"'Student 1'!$J$35","v":"Recirc."},{"$f":"'Student 1'!$K$35","v":"P/S"},{"$f":"'Student 1'!$L$35","v":"Pump"},{"$f":"'Student 1'!$M$35","v":"Inner"},{"$f":"'Student 1'!$N$35","v":"Runout &"},{"$f":"'Student 1'!$O$35","v":"Cus"},{"$f":"'Student 1'!$P$35","v":"Comp"}]
[{"$nulls":3},{"$f":"'Student 1'!$D$36","v":"Susp"},{"$f":"'Student 1'!$E$36","v":"Parts"},{"$f":"'Student 1'!$F$36","v":"Susp"},{"$f":"'Student 1'!$G$36","v":"Parts"},{"$f":"'Student 1'!$H$36","v":"Susp"},{"$f":"'Student 1'!$I$36","v":"Pinion"},{"$f":"'Student 1'!$J$36","v":"Gear"},{"$f":"'Student 1'!$K$36","v":"Pump"},{"$f":"'Student 1'!$L$36","v":"Test"},{"$f":"'Student 1'!$M$36","v":"Tie-Rod"},{"$f":"'Student 1'!$N$36","v":"bal. Check"},{"$f":"'Student 1'!$O$36","v":"tomer"},{"$f":"'Student 1'!$P$36","v":"etency"},{"$f":"'Student 1'!$Q$36","v":" "},{"$f":"'Student 1'!$R$36","v":" "},null,null,{"$f":"'Student 1'!$U$36","v":"Final Grade"}]
[{"$nulls":3},{"$f":"'Student 1'!$D$37","v":1},{"$f":"'Student 1'!$E$37","v":2},{"$f":"'Student 1'!$F$37","v":3},{"$f":"'Student 1'!$G$37","v":2},{"$f":"'Student 1'!$H$37","v":1},{"$f":"'Student 1'!$I$37","v":1},{"$f":"'Student 1'!$J$37","v":1},{"$f":"'Student 1'!$K$37","v":1},{"$f":"'Student 1'!$L$37","v":1},{"$f":"'Student 1'!$M$37","v":1},{"$f":"'Student 1'!$N$37","v":1},{"$f":"'Student 1'!$O$37","v":"Work"},{"$f":"'Student 1'!$P$37","v":"0 or 1"},{"$f":"'Student 1'!$Q$37","v":"Lab"},{"$nulls":3},{"$f":"'Student 1'!$U$37","v":{"v":0,"d":"0%"}},{"$f":"'Student 1'!$V$37","v":"F"}]
[{"$f":"'Student 1'!$A$38","v":"ID"},{"$f":"'Student 1'!$B$38","v":"First:"},{"$f":"'Student 1'!$C$38","v":"Last:"},{"$f":"'Student 1'!$D$38","v":150},{"$f":"'Student 1'!$E$38","v":50},{"$f":"'Student 1'!$F$38","v":225},{"$f":"'Student 1'!$G$38","v":50},{"$f":"'Student 1'!$H$38","v":50},{"$f":"'Student 1'!$I$38","v":150},{"$f":"'Student 1'!$J$38","v":125},{"$f":"'Student 1'!$K$38","v":50},{"$f":"'Student 1'!$L$38","v":50},{"$f":"'Student 1'!$M$38","v":50},{"$f":"'Student 1'!$N$38","v":100},{"$f":"'Student 1'!$O$38","v":300},{"$f":"'Student 1'!$P$38","v":"*"},{"$f":"'Student 1'!$Q$38","v":"Points"},{"$f":"'Student 1'!$R$38","v":"%"},null,null,{"$f":"'Student 1'!$U$38","v":{"v":0.695,"d":"70%"}},{"$f":"'Student 1'!$V$38","v":"D-"}]
[{"$f":"'Course 3 Lab'!$A$9","v":{"v":3,"d":"00000003"}},{"$f":"'Course 3 Lab'!$B$9","v":"Student"},{"$f":"'Course 3 Lab'!$C$9","v":"Three"},{"$f":"'Course 3 Lab'!$D$9","v":0},{"$f":"'Course 3 Lab'!$E$9","v":0},{"$f":"'Course 3 Lab'!$F$9","v":0},{"$f":"'Course 3 Lab'!$G$9","v":0},{"$f":"'Course 3 Lab'!$H$9","v":0},{"$f":"'Course 3 Lab'!$I$9","v":0},{"$f":"'Course 3 Lab'!$J$9","v":0},{"$f":"'Course 3 Lab'!$K$9","v":0},{"$f":"'Course 3 Lab'!$L$9","v":0},{"$f":"'Course 3 Lab'!$M$9","v":0},{"$f":"'Course 3 Lab'!$N$9","v":0},{"$f":"'Course 3 Lab'!$O$9","v":0},{"$f":"'Course 3 Lab'!$P$9","v":1},{"$f":"'Course 3 Lab'!$Q$9","v":0},{"$f":"'Course 3 Lab'!$R$9","v":{"v":0,"d":"0%"}},null,null,{"$f":"'Student 1'!$U$39","v":{"v":0.715,"d":"72%"}},{"$f":"'Student 1'!$V$39","v":"D"}]
[{"$f":"'Student 1'!$A$40","v":"Course 4 Alignment. Class."},{"$nulls":7},{"$f":"'Student 1'!$I$40","v":25},{"$nulls":11},{"$f":"'Student 1'!$U$40","v":{"v":0.735,"d":"74%"}},{"$f":"'Student 1'!$V$40","v":"D+"}]
[{"$f":"'Student 1'!$A$41","v":" "},{"$f":"'Student 1'!$B$41","v":"Date assignment is due  "},null,{"$f":"'Student 1'!$D$41","v":"TBD"},{"$f":"'Student 1'!$E$41","v":"TBD"},{"$f":"'Student 1'!$F$41","v":"TBD"},{"$f":"'Student 1'!$G$41","v":"TBD"},{"$f":"'Student 1'!$H$41","v":"TBD"},{"$f":"'Student 1'!$I$41","v":"TBD"},{"$f":"'Student 1'!$J$41","v":"TBD"},{"$nulls":10},{"$f":"'Student 1'!$U$41","v":{"v":0.755,"d":"76%"}},{"$f":"'Student 1'!$V$41","v":"C-"}]
[{"$f":"'Student 1'!$A$42","v":"Class Room Points:"},null,{"$f":"'Student 1'!$C$42","v":235},{"$f":"'Student 1'!$D$42","v":25},{"$f":"'Student 1'!$E$42","v":25},{"$f":"'Student 1'!$F$42","v":20},{"$f":"'Student 1'!$G$42","v":40},{"$f":"'Student 1'!$H$42","v":50},{"$f":"'Student 1'!$I$42","v":" "},{"$f":"'Student 1'!$J$42","v":75},{"$f":"'Student 1'!$K$42","v":"Evaluation"},{"$nulls":9},{"$f":"'Student 1'!$U$42","v":{"v":0.785,"d":"79%"}},{"$f":"'Student 1'!$V$42","v":"C"}]
[{"$f":"'Student 1'!$A$43","v":"Red is late turn-in"},null,{"$f":"'Student 1'!$C$43","v":"Blue is absent"},{"$f":"'Student 1'!$D$43","v":"CH 16"},{"$f":"'Student 1'!$E$43","v":"CH 16"},{"$f":"'Student 1'!$F$43","v":"Align"},{"$f":"'Student 1'!$G$43","v":"In class"},{"$f":"'Student 1'!$H$43","v":"In class"},{"$f":"'Student 1'!$I$43","v":"Extra"},{"$f":"'Student 1'!$J$43","v":"Final"},{"$f":"'Student 1'!$K$43","v":"Class"},null,{"$f":"'Student 1'!$M$43","v":"Professionalism"},null,null,{"$f":"'Student 1'!$P$43","v":"Lab"},null,{"$f":"'Student 1'!$R$43","v":"Total  "},{"$f":"'Student 1'!$S$43","v":"Letter"},null,{"$f":"'Student 1'!$U$43","v":{"v":0.815,"d":"82%"}},{"$f":"'Student 1'!$V$43","v":"C+"}]
[{"$f":"'Student 1'!$A$44","v":"I D "},{"$f":"'Student 1'!$B$44","v":"First:"},{"$f":"'Student 1'!$C$44","v":"Last:"},{"$f":"'Student 1'!$D$44","v":"HW"},{"$f":"'Student 1'!$E$44","v":"Test"},{"$f":"'Student 1'!$F$44","v":"HW"},{"$f":"'Student 1'!$G$44","v":"Project1"},{"$f":"'Student 1'!$H$44","v":"Project2"},{"$f":"'Student 1'!$I$44","v":"Credit"},{"$f":"'Student 1'!$J$44","v":"Test"},{"$f":"'Student 1'!$K$44","v":"Points"},{"$f":"'Student 1'!$L$44","v":"%"},{"$f":"'Student 1'!$M$44","v":"Attendance"},{"$f":"'Student 1'!$N$44","v":"Points"},{"$f":"'Student 1'!$O$44","v":"%"},{"$f":"'Student 1'!$P$44","v":"Points"},{"$f":"'Student 1'!$Q$44","v":"%"},{"$f":"'Student 1'!$R$44","v":"%"},{"$f":"'Student 1'!$S$44","v":"Grade"},null,{"$f":"'Student 1'!$U$44","v":{"v":0.845,"d":"85%"}},{"$f":"'Student 1'!$V$44","v":"B-"}]
[{"$f":"'Course 4 Class'!$A$8","v":{"v":3,"d":"00000003"}},{"$f":"'Course 4 Class'!$B$8","v":"Student"},{"$f":"'Course 4 Class'!$C$8","v":"Three"},{"$f":"'Course 4 Class'!$D$8","v":0},{"$f":"'Course 4 Class'!$E$8","v":0},{"$f":"'Course 4 Class'!$F$8","v":0},{"$f":"'Course 4 Class'!$G$8","v":0},{"$f":"'Course 4 Class'!$H$8","v":0},{"$f":"'Course 4 Class'!$I$8","v":0},{"$f":"'Course 4 Class'!$J$8","v":0},{"$f":"'Course 4 Class'!$K$8","v":0},{"$f":"'Course 4 Class'!$L$8","v":{"v":0,"d":"0%"}},{"$f":"'Course 4 Class'!$M$8","v":{"v":1,"d":"100%"}},{"$f":"'Course 4 Class'!$N$8","v":72},{"$f":"'Course 4 Class'!$O$8","v":{"v":1,"d":"100%"}},{"$f":"'Course 4 Class'!$P$8","v":0},{"$f":"'Course 4 Class'!$Q$8","v":{"v":0,"d":"0%"}},{"$f":"'Course 4 Class'!$R$8","v":{"v":0.25,"d":"25%"}},{"$f":"'Course 4 Class'!$S$8","v":"F"},null,{"$f":"'Student 1'!$U$45","v":{"v":0.875,"d":"88%"}},{"$f":"'Student 1'!$V$45","v":"B"}]
[{"$f":"'Student 1'!$A$46","v":"Course 4 Alignment. Lab"},{"$nulls":19},{"$f":"'Student 1'!$U$46","v":{"v":0.895,"d":"90%"}},{"$f":"'Student 1'!$V$46","v":"B+"}]
[{"$f":"'Student 1'!$A$47","v":"Max Shop Points:"},null,{"$f":"'Student 1'!$C$47","v":1300},{"$f":"'Student 1'!$D$47","v":"Alignment"},{"$f":"'Student 1'!$E$47","v":"Complete"},{"$f":"'Student 1'!$F$47","v":"Cus"},{"$f":"'Student 1'!$G$47","v":" "},{"$nulls":13},{"$f":"'Student 1'!$U$47","v":{"v":0.925,"d":"93%"}},{"$f":"'Student 1'!$V$47","v":"A-"}]
[{"$f":"'Student 1'!$A$48","v":"Max shop points available depend on how much customer work is done."},null,null,{"$f":"'Student 1'!$D$48","v":"Pre-check"},{"$f":"'Student 1'!$E$48","v":"Wheel"},{"$f":"'Student 1'!$F$48","v":"tomer"},{"$f":"'Student 1'!$G$48","v":"Comp"},{"$nulls":13},{"$f":"'Student 1'!$U$48","v":{"v":0.945,"d":"95%"}},{"$f":"'Student 1'!$V$48","v":"A"}]
[{"$nulls":3},{"$f":"'Student 1'!$D$49","v":"100 P"},{"$f":"'Student 1'!$E$49","v":"Alignment"},{"$f":"'Student 1'!$F$49","v":"Work"},{"$f":"'Student 1'!$G$49","v":"etency"},{"$f":"'Student 1'!$H$49","v":" "},{"$f":"'Student 1'!$I$49","v":" "},{"$nulls":11},{"$f":"'Student 1'!$U$49","v":{"v":1,"d":"100%"}},{"$f":"'Student 1'!$V$49","v":"A"}]
[{"$nulls":3},{"$f":"'Student 1'!$D$50","v":1},{"$f":"'Student 1'!$E$50","v":1},{"$f":"'Student 1'!$F$50","v":" "},{"$f":"'Student 1'!$G$50","v":"0 or 1"},{"$f":"'Student 1'!$H$50","v":"Lab"}]
[{"$f":"'Student 1'!$A$51","v":"ID"},{"$f":"'Student 1'!$B$51","v":"First:"},{"$f":"'Student 1'!$C$51","v":"Last:"},{"$f":"'Student 1'!$D$51","v":100},{"$f":"'Student 1'!$E$51","v":900},{"$f":"'Student 1'!$F$51","v":300},{"$f":"'Student 1'!$G$51","v":"*"},{"$f":"'Student 1'!$H$51","v":"Points"},{"$f":"'Student 1'!$I$51","v":"%"}]
[{"$f":"'Course 4 Lab'!$A$9","v":{"v":3,"d":"00000003"}},{"$f":"'Course 4 Lab'!$B$9","v":"Student"},{"$f":"'Course 4 Lab'!$C$9","v":"Three"},{"$f":"'Course 4 Lab'!$D$9","v":0},{"$f":"'Course 4 Lab'!$E$9","v":0},{"$f":"'Course 4 Lab'!$F$9","v":0},{"$f":"'Course 4 Lab'!$G$9","v":1},{"$f":"'Course 4 Lab'!$H$9","v":0},{"$f":"'Course 4 Lab'!$I$9","v":{"v":0,"d":"0%"}}]
[{"$f":"'Student 1'!$A$53","v":"Course 5 Brake Systems. Class."},{"$nulls":10},{"$f":"'Student 1'!$L$53","v":35}]
[{"$f":"'Student 1'!$A$54","v":"Date assignment is due:"},null,{"$f":"'Student 1'!$C$54","v":" "},{"$f":"'Student 1'!$D$54","v":"TBD"},{"$f":"'Student 1'!$E$54","v":"TBD"},{"$f":"'Student 1'!$F$54","v":"TBD"},{"$f":"'Student 1'!$G$54","v":"TBD"},{"$f":"'Student 1'!$H$54","v":"TBD"},{"$f":"'Student 1'!$I$54","v":"TBD"},{"$f":"'Student 1'!$J$54","v":"TBD"},{"$f":"'Student 1'!$K$54","v":"TBD"},{"$f":"'Student 1'!$L$54","v":"TBD"},{"$f":"'Student 1'!$M$54","v":"TBD"}]
[{"$f":"'Student 1'!$A$55","v":"Class Room Points:"},null,{"$f":"'Student 1'!$C$55","v":440},{"$f":"'Student 1'!$D$55","v":30},{"$f":"'Student 1'!$E$55","v":25},{"$f":"'Student 1'!$F$55","v":100},{"$f":"'Student 1'!$G$55","v":30},{"$f":"'Student 1'!$H$55","v":50},{"$f":"'Student 1'!$I$55","v":30},{"$f":"'Student 1'!$J$55","v":25},{"$f":"'Student 1'!$K$55","v":50},{"$f":"'Student 1'!$L$55","v":" "},{"$f":"'Student 1'!$M$55","v":100},{"$f":"'Student 1'!$N$55","v":"Evaluation"}]
[{"$f":"'Student 1'!$A$56","v":"Red is late turn-in"},null,{"$f":"'Student 1'!$C$56","v":"Blue is absent"},{"$f":"'Student 1'!$D$56","v":"HW"},{"$f":"'Student 1'!$E$56","v":"HW"},{"$f":"'Student 1'!$F$56","v":"Test"},{"$f":"'Student 1'!$G$56","v":"HW"},{"$f":"'Student 1'!$H$56","v":"Test"},{"$f":"'Student 1'!$I$56","v":"HW"},{"$f":"'Student 1'!$J$56","v":"Test"},{"$f":"'Student 1'!$K$56","v":"Class"},{"$f":"'Student 1'!$L$56","v":"Extra"},{"$f":"'Student 1'!$M$56","v":"Final"},{"$f":"'Student 1'!$N$56","v":"Class"},null,{"$f":"'Student 1'!$P$56","v":"Professionalism"},null,null,{"$f":"'Student 1'!$S$56","v":"Lab"},null,{"$f":"'Student 1'!$U$56","v":"Total  "},{"$f":"'Student 1'!$V$56","v":"Letter"}]
[{"$f":"'Student 1'!$A$57","v":"I D "},{"$f":"'Student 1'!$B$57","v":"First:"},{"$f":"'Student 1'!$C$57","v":"Last:"},{"$f":"'Student 1'!$D$57","v":"CH 4"},{"$f":"'Student 1'!$E$57","v":"CH 5"},{"$f":"'Student 1'!$F$57","v":"#1"},{"$f":"'Student 1'!$G$57","v":"CH 7"},{"$f":"'Student 1'!$H$57","v":"Conv"},{"$f":"'Student 1'!$I$57","v":"CH 20"},{"$f":"'Student 1'!$J$57","v":"21/22"},{"$f":"'Student 1'!$K$57","v":"Project"},{"$f":"'Student 1'!$L$57","v":"Credit"},{"$f":"'Student 1'!$M$57","v":"Test"},{"$f":"'Student 1'!$N$57","v":"Points"},{"$f":"'Student 1'!$O$57","v":"%"},{"$f":"'Student 1'!$P$57","v":"Attendance"},{"$f":"'Student 1'!$Q$57","v":"Points"},{"$f":"'Student 1'!$R$57","v":"%"},{"$f":"'Student 1'!$S$57","v":"Points"},{"$f":"'Student 1'!$T$57","v":"%"},{"$f":"'Student 1'!$U$57","v":"%"},{"$f":"'Student 1'!$V$57","v":"Grade"}]
[{"$f":"'Course 5 Class'!$A$8","v":{"v":3,"d":"00000003"}},{"$f":"'Course 5 Class'!$B$8","v":"Student"},{"$f":"'Course 5 Class'!$C$8","v":"Three"},{"$f":"'Course 5 Class'!$D$8","v":0},{"$f":"'Course 5 Class'!$E$8","v":0},{"$f":"'Course 5 Class'!$F$8","v":0},{"$f":"'Course 5 Class'!$G$8","v":0},{"$f":"'Course 5 Class'!$H$8","v":0},{"$f":"'Course 5 Class'!$I$8","v":0},{"$f":"'Course 5 Class'!$J$8","v":0},{"$f":"'Course 5 Class'!$K$8","v":0},{"$f":"'Course 5 Class'!$L$8","v":0},{"$f":"'Course 5 Class'!$M$8","v":0},{"$f":"'Course 5 Class'!$N$8","v":0},{"$f":"'Course 5 Class'!$O$8","v":{"v":0,"d":"0%"}},{"$f":"'Course 5 Class'!$P$8","v":{"v":1,"d":"100%"}},{"$f":"'Course 5 Class'!$Q$8","v":72},{"$f":"'Course 5 Class'!$R$8","v":{"v":1,"d":"100%"}},{"$f":"'Course 5 Class'!$S$8","v":0},{"$f":"'Course 5 Class'!$T$8","v":{"v":0,"d":"0%"}},{"$f":"'Course 5 Class'!$U$8","v":{"v":0.25,"d":"25%"}},{"$f":"'Course 5 Class'!$V$8","v":"F"}]
[{"$f":"'Student 1'!$A$59","v":"Course 5 Brake Systems. Lab"}]
[{"$f":"'Student 1'!$A$60","v":"  Max Shop Points:"},null,{"$f":"'Student 1'!$C$60","v":970},{"$f":"'Student 1'!$D$60","v":"Drum"},{"$f":"'Student 1'!$E$60","v":"Drum "},{"$f":"'Student 1'!$F$60","v":"Disc"},{"$f":"'Student 1'!$G$60","v":"On Car"},{"$f":"'Student 1'!$H$60","v":"Off Car"},{"$f":"'Student 1'!$I$60","v":"Wheel"},{"$f":"'Student 1'!$J$60","v":"Hydr."},{"$f":"'Student 1'!$K$60","v":"Vacuum"},{"$f":"'Student 1'!$L$60","v":"Warning"},{"$f":"'Student 1'!$M$60","v":"Brake"},{"$f":"'Student 1'!$N$60","v":"Brake"},{"$f":"'Student 1'!$O$60","v":"Dodge"},{"$f":"'Student 1'!$P$60","v":"Ford"},{"$f":"'Student 1'!$Q$60","v":"GM"},{"$f":"'Student 1'!$R$60","v":"Cus"},{"$f":"'Student 1'!$S$60","v":"Brake"}]
[{"$f":"'Student 1'!$A$61","v":"Max shop points available depend on how much customer work is done."},null,null,{"$f":"'Student 1'!$D$61","v":"Brake"},{"$f":"'Student 1'!$E$61","v":"Brake "},{"$f":"'Student 1'!$F$61","v":"Brake"},{"$f":"'Student 1'!$G$61","v":"Disc"},{"$f":"'Student 1'!$H$61","v":"Disc"},{"$f":"'Student 1'!$I$61","v":"Bearing"},{"$f":"'Student 1'!$J$61","v":"Line"},{"$f":"'Student 1'!$K$61","v":"Booster"},{"$f":"'Student 1'!$L$61","v":"Light"},{"$f":"'Student 1'!$M$61","v":"System"},{"$f":"'Student 1'!$N$61","v":"Valves"},{"$f":"'Student 1'!$O$61","v":"Anti"},{"$f":"'Student 1'!$P$61","v":"Anti"},{"$f":"'Student 1'!$Q$61","v":"Anti"},{"$f":"'Student 1'!$R$61","v":"tomer"},{"$f":"'Student 1'!$S$61","v":"Comp"}]
[{"$nulls":3},{"$f":"'Student 1'!$D$62","v":"Job"},{"$f":"'Student 1'!$E$62","v":"Mach."},{"$f":"'Student 1'!$F$62","v":"Job"},{"$f":"'Student 1'!$G$62","v":"Mach."},{"$f":"'Student 1'!$H$62","v":"Mach."},{"$f":"'Student 1'!$I$62","v":"Service"},{"$f":"'Student 1'!$J$62","v":"Repair"},{"$f":"'Student 1'!$K$62","v":"Service"},{"$f":"'Student 1'!$L$62","v":"Service"},{"$f":"'Student 1'!$M$62","v":"Bleed"},{"$f":"'Student 1'!$N$62","v":"Check"},{"$f":"'Student 1'!$O$62","v":"Lock"},{"$f":"'Student 1'!$P$62","v":"Lock"},{"$f":"'Student 1'!$Q$62","v":"Lock"},{"$f":"'Student 1'!$R$62","v":"Work"},{"$f":"'Student 1'!$S$62","v":"etency"}]
[{"$nulls":3},{"$f":"'Student 1'!$D$63","v":2},{"$f":"'Student 1'!$E$63","v":2},{"$f":"'Student 1'!$F$63","v":2},{"$f":"'Student 1'!$G$63","v":2},{"$f":"'Student 1'!$H$63","v":2},{"$f":"'Student 1'!$I$63","v":1},{"$f":"'Student 1'!$J$63","v":1},{"$f":"'Student 1'!$K$63","v":2},{"$f":"'Student 1'!$L$63","v":2},{"$f":"'Student 1'!$M$63","v":4},{"$f":"'Student 1'!$N$63","v":1},{"$f":"'Student 1'!$O$63","v":1},{"$f":"'Student 1'!$P$63","v":1},{"$f":"'Student 1'!$Q$63","v":1},{"$f":"'Student 1'!$R$63","v":" "},{"$f":"'Student 1'!$S$63","v":"Required"},{"$f":"'Student 1'!$T$63","v":"Lab"}]
[{"$f":"'Student 1'!$A$64","v":"ID"},{"$f":"'Student 1'!$B$64","v":"First:"},{"$f":"'Student 1'!$C$64","v":"Last:"},{"$f":"'Student 1'!$D$64","v":150},{"$f":"'Student 1'!$E$64","v":40},{"$f":"'Student 1'!$F$64","v":150},{"$f":"'Student 1'!$G$64","v":80},{"$f":"'Student 1'!$H$64","v":40},{"$f":"'Student 1'!$I$64","v":50},{"$f":"'Student 1'!$J$64","v":30},{"$f":"'Student 1'!$K$64","v":30},{"$f":"'Student 1'!$L$64","v":40},{"$f":"'Student 1'!$M$64","v":80},{"$f":"'Student 1'!$N$64","v":40},{"$f":"'Student 1'!$O$64","v":80},{"$f":"'Student 1'!$P$64","v":80},{"$f":"'Student 1'!$Q$64","v":80},{"$f":"'Student 1'!$R$64","v":300},{"$f":"'Student 1'!$S$64","v":"*"},{"$f":"'Student 1'!$T$64","v":"Points"},{"$f":"'Student 1'!$U$64","v":"%"}]
[{"$f":"'Course 5 Lab'!$A$9","v":{"v":3,"d":"00000003"}},{"$f":"'Course 5 Lab'!$B$9","v":"Student"},{"$f":"'Course 5 Lab'!$C$9","v":"Three"},{"$f":"'Course 5 Lab'!$D$9","v":0},{"$f":"'Course 5 Lab'!$E$9","v":0},{"$f":"'Course 5 Lab'!$F$9","v":0},{"$f":"'Course 5 Lab'!$G$9","v":0},{"$f":"'Course 5 Lab'!$H$9","v":0},{"$f":"'Course 5 Lab'!$I$9","v":0},{"$f":"'Course 5 Lab'!$J$9","v":0},{"$f":"'Course 5 Lab'!$K$9","v":0},{"$f":"'Course 5 Lab'!$L$9","v":0},{"$f":"'Course 5 Lab'!$M$9","v":0},{"$f":"'Course 5 Lab'!$N$9","v":0},{"$f":"'Course 5 Lab'!$O$9","v":0},{"$f":"'Course 5 Lab'!$P$9","v":0},{"$f":"'Course 5 Lab'!$Q$9","v":0},{"$f":"'Course 5 Lab'!$R$9","v":0},{"$f":"'Course 5 Lab'!$S$9","v":1},{"$f":"'Course 5 Lab'!$T$9","v":0},{"$f":"'Course 5 Lab'!$U$9","v":{"v":0,"d":"0%"}}]

{"sheet":"Student 4","index":17,"n_rows":65,"n_cols":23,"rows_kept":65,"merged":[[0,0,0,2],[1,0,1,2],[2,0,2,1],[2,9,2,17],[3,0,3,1],[3,9,3,10],[3,11,3,13],[3,14,3,15],[6,0,6,2],[7,0,7,1],[8,0,10,2],[10,16,10,17],[13,0,13,2],[14,1,14,2],[15,0,15,1],[15,11,15,19],[16,0,16,1],[16,11,16,12],[16,13,16,15],[16,16,16,17],[19,0,19,2],[20,0,20,1],[21,0,23,2],[23,13,23,14],[26,0,26,2],[27,1,27,2],[28,0,28,1],[28,14,28,22],[29,0,29,1],[29,14,29,15],[29,16,29,18],[29,19,29,20],[32,0,32,2],[33,0,33,1],[34,0,36,2],[35,20,35,21],[36,16,36,17],[39,0,39,2],[40,1,40,2],[41,0,41,1],[41,10,41,18],[42,0,42,1],[42,10,42,11],[42,12,42,14],[42,15,42,16],[45,0,45,2],[46,0,46,1],[47,0,49,2],[49,7,49,8],[52,0,52,2],[53,0,53,2],[54,0,54,1],[54,13,54,21],[55,0,55,1],[55,13,55,14],[55,15,55,17],[55,18,55,19],[58,0,58,2],[59,0,59,1],[60,0,62,2],[62,19,62,20]]}
[{"$f":"'Student 1'!$A$1","v":"Course 1 Engine Diagnosis. Class"},{"$nulls":6},{"$f":"'Student 1'!$H$1","v":25}]
[{"$f":"'Student 1'!$A$2","v":"Date assignment is due"},null,{"$f":"'Student 1'!$C$2","v":" "},{"$f":"'Student 1'!$D$2","v":"TBD"},{"$f":"'Student 1'!$E$2","v":"TBD"},{"$f":"'Student 1'!$F$2","v":"TBD"},{"$f":"'Student 1'!$G$2","v":"TBD"},{"$f":"'Student 1'!$H$2","v":"TBD"},{"$f":"'Student 1'!$I$2","v":"TBD"}]
[{"$f":"'Student 1'!$A$3","v":"Class Room Points:"},null,{"$f":"'Student 1'!$C$3","v":160},{"$f":"'Student 1'!$D$3","v":20},{"$f":"'Student 1'!$E$3","v":20},{"$f":"'Student 1'!$F$3","v":20},{"$f":"'Student 1'!$G$3","v":25},{"$f":"'Student 1'!$H$3","v":" "},{"$f":"'Student 1'!$I$3","v":75},{"$f":"'Student 1'!$J$3","v":"Evaluation"}]
[{"$f":"'Student 1'!$A$4","v":"Red is late turn-in"},null,{"$f":"'Student 1'!$C$4","v":"Blue is absent"},{"$f":"'Student 1'!$D$4","v":"CH 13 "},{"$f":"'Student 1'!$E$4","v":"Lube"},{"$f":"'Student 1'!$F$4","v":"Lube"},{"$f":"'Student 1'!$G$4","v":"Condition"},{"$f":"'Student 1'!$H$4","v":"Extra"},{"$f":"'Student 1'!$I$4","v":"Final"},{"$f":"'Student 1'!$J$4","v":"Classroom"},null,{"$f":"'Student 1'!$L$4","v":"Professionalism"},null,null,{"$f":"'Student 1'!$O$4","v":"Lab"},null,{"$f":"'Student 1'!$Q$4","v":"Total  "},{"$f":"'Student 1'!$R$4","v":"Letter"}]
[{"$f":"'Student 1'!$A$5","v":"I D "},{"$f":"'Student 1'!$B$5","v":"First:"},{"$f":"'Student 1'!$C$5","v":"Last:"},{"$f":"'Student 1'!$D$5","v":"Test"},{"$f":"'Student 1'!$E$5","v":"HW"},{"$f":"'Student 1'!$F$5","v":"Test"},{"$f":"'Student 1'!$G$5","v":"Class"},{"$f":"'Student 1'!$H$5","v":"Credit"},{"$f":"'Student 1'!$I$5","v":"Test"},{"$f":"'Student 1'!$J$5","v":"Points"},{"$f":"'Student 1'!$K$5","v":"%"},{"$f":"'Student 1'!$L$5","v":"Attendance"},{"$f":"'Student 1'!$M$5","v":"Points"},{"$f":"'Student 1'!$N$5","v":"%"},{"$f":"'Student 1'!$O$5","v":"Points"},{"$f":"'Student 1'!$P$5","v":"%"},{"$f":"'Student 1'!$Q$5","v":"%"},{"$f":"'Student 1'!$R$5","v":"Grade"}]
[{"$f":"'Course 1 Class'!$A$9","v":{"v":4,"d":"00000004"}},{"$f":"'Course 1 Class'!$B$9","v":"Student"},{"$f":"'Course 1 Class'!$C$9","v":"Four"},{"$f":"'Course 1 Class'!$D$9","v":0},{"$f":"'Course 1 Class'!$E$9","v":0},{"$f":"'Course 1 Class'!$F$9","v":0},{"$f":"'Course 1 Class'!$G$9","v":0},{"$f":"'Course 1 Class'!$H$9","v":0},{"$f":"'Course 1 Class'!$I$9","v":0},{"$f":"'Course 1 Class'!$J$9","v":0},{"$f":"'Course 1 Class'!$K$9","v":{"v":0,"d":"0%"}},{"$f":"'Course 1 Class'!$L$9","v":{"v":1,"d":"100%"}},{"$f":"'Course 1 Class'!$M$9","v":72},{"$f":"'Course 1 Class'!$N$9","v":{"v":1,"d":"100%"}},{"$f":"'Course 1 Class'!$O$9","v":0},{"$f":"'Course 1 Class'!$P$9","v":{"v":0,"d":"0%"}},{"$f":"'Course 1 Class'!$Q$9","v":{"v":0.25,"d":"25%"}},{"$f":"'Course 1 Class'!$R$9","v":"F"}]
[{"$f":"'Student 1'!$A$7","v":"Course 1 Engine Diagnosis. Lab"}]
[{"$f":"'Student 1'!$A$8","v":"  Max Shop Points:"},null,{"$f":"'Student 1'!$C$8","v":1325},{"$f":"'Student 1'!$D$8","v":"Dry"},{"$f":"'Student 1'!$E$8","v":"Wet"},{"$f":"'Student 1'!$F$8","v":"Running"},{"$f":"'Student 1'!$G$8","v":"Cylinder"},{"$f":"'Student 1'!$H$8","v":"Oil"},{"$f":"'Student 1'!$I$8","v":"Cooling"},{"$f":"'Student 1'!$J$8","v":"Vacuum"},{"$f":"'Student 1'!$K$8","v":"PCV"},{"$f":"'Student 1'!$L$8","v":"Thermostat"},{"$f":"'Student 1'!$M$8","v":"Fluid"},{"$f":"'Student 1'!$N$8","v":"Diag"},{"$f":"'Student 1'!$O$8","v":" "}]
[{"$f":"'Student 1'!$A$9","v":"Max shop points available depend on how much customer work is done."},null,null,{"$f":"'Student 1'!$D$9","v":"Compr"},{"$f":"'Student 1'!$E$9","v":"Compr"},{"$f":"'Student 1'!$F$9","v":"Compr"},{"$f":"'Student 1'!$G$9","v":"Leakage"},{"$f":"'Student 1'!$H$9","v":"Pressure"},{"$f":"'Student 1'!$I$9","v":"System"},{"$f":"'Student 1'!$J$9","v":"Gauge"},{"$f":"'Student 1'!$K$9","v":"System"},{"$f":"'Student 1'!$L$9","v":"and fan"},{"$f":"'Student 1'!$M$9","v":"Leak"},{"$f":"'Student 1'!$N$9","v":"gauges"},{"$f":"'Student 1'!$O$9","v":"Cus"},{"$f":"'Student 1'!$P$9","v":"Comp"}]
[{"$nulls":3},{"$f":"'Student 1'!$D$10","v":"Test"},{"$f":"'Student 1'!$E$10","v":"Test"},{"$f":"'Student 1'!$F$10","v":"Test"},{"$f":"'Student 1'!$G$10","v":"Test"},{"$f":"'Student 1'!$H$10","v":"Test"},{"$f":"'Student 1'!$I$10","v":"Test"},{"$f":"'Student 1'!$J$10","v":"Test"},{"$f":"'Student 1'!$K$10","v":"Check"},{"$f":"'Student 1'!$L$10","v":"Operation"},{"$f":"'Student 1'!$M$10","v":"Check"},{"$f":"'Student 1'!$N$10","v":"any vehicle"},{"$f":"'Student 1'!$O$10","v":"tomer"},{"$f":"'Student 1'!$P$10","v":"etency"},{"$f":"'Student 1'!$Q$10","v":"  "},{"$f":"'Student 1'!$R$10","v":" "}]
[{"$nulls":3},{"$f":"'Student 1'!$D$11","v":2},{"$f":"'Student 1'!$E$11","v":2},{"$f":"'Student 1'!$F$11","v":2},{"$f":"'Student 1'!$G$11","v":2},{"$f":"'Student 1'!$H$11","v":2},{"$f":"'Student 1'!$I$11","v":2},{"$f":"'Student 1'!$J$11","v":2},{"$f":"'Student 1'!$K$11","v":2},{"$f":"'Student 1'!$L$11","v":2},{"$f":"'Student 1'!$M$11","v":1},{"$f":"'Student 1'!$N$11","v":1},{"$f":"'Student 1'!$O$11","v":"Work"},{"$f":"'Student 1'!$P$11","v":"0 or 1"},{"$f":"'Student 1'!$Q$11","v":"Lab"}]
[{"$f":"'Student 1'!$A$12","v":"ID"},{"$f":"'Student 1'!$B$12","v":"First:"},{"$f":"'Student 1'!$C$12","v":"Last:"},{"$f":"'Student 1'!$D$12","v":100},{"$f":"'Student 1'!$E$12","v":100},{"$f":"'Student 1'!$F$12","v":100},{"$f":"'Student 1'!$G$12","v":100},{"$f":"'Student 1'!$H$12","v":100},{"$f":"'Student 1'!$I$12","v":150},{"$f":"'Student 1'!$J$12","v":100},{"$f":"'Student 1'!$K$12","v":50},{"$f":"'Student 1'!$L$12","v":100},{"$f":"'Student 1'!$M$12","v":25},{"$f":"'Student 1'!$N$12","v":100},{"$f":"'Student 1'!$O$12","v":300},{"$f":"'Student 1'!$P$12","v":"*"},{"$f":"'Student 1'!$Q$12","v":"Points"},{"$f":"'Student 1'!$R$12","v":"%"}]
[{"$f":"'Course 1 Lab'!$A$10","v":{"v":4,"d":"00000004"}},{"$f":"'Course 1 Lab'!$B$10","v":"Student"},{"$f":"'Course 1 Lab'!$C$10","v":"Four"},{"$f":"'Course 1 Lab'!$D$10","v":0},{"$f":"'Course 1 Lab'!$E$10","v":0},{"$f":"'Course 1 Lab'!$F$10","v":0},{"$f":"'Course 1 Lab'!$G$10","v":0},{"$f":"'Course 1 Lab'!$H$10","v":0},{"$f":"'Course 1 Lab'!$I$10","v":0},{"$f":"'Course 1 Lab'!$J$10","v":0},{"$f":"'Course 1 Lab'!$K$10","v":0},{"$f":"'Course 1 Lab'!$L$10","v":0},{"$f":"'Course 1 Lab'!$M$10","v":0},{"$f":"'Course 1 Lab'!$N$10","v":0},{"$f":"'Course 1 Lab'!$O$10","v":0},{"$f":"'Course 1 Lab'!$P$10","v":1},{"$f":"'Course 1 Lab'!$Q$10","v":0},{"$f":"'Course 1 Lab'!$R$10","v":{"v":0,"d":"0%"}}]
[{"$f":"'Student 1'!$A$14","v":"Course 2 Engine Theory & Repair. Class"},{"$nulls":8},{"$f":"'Student 1'!$J$14","v":25}]
[{"$f":"'Student 1'!$A$15","v":" "},{"$f":"'Student 1'!$B$15","v":"Date assignment is due:"},null,{"$f":"'Student 1'!$D$15","v":"TBD"},{"$f":"'Student 1'!$E$15","v":"TBD"},{"$f":"'Student 1'!$F$15","v":"TBD"},{"$f":"'Student 1'!$G$15","v":"TBD"},{"$f":"'Student 1'!$H$15","v":"TBD"},{"$f":"'Student 1'!$I$15","v":"TBD"},{"$f":"'Student 1'!$J$15","v":"TBD"},{"$f":"'Student 1'!$K$15","v":"TBD"}]
[{"$f":"'Student 1'!$A$16","v":"Class Room Points:"},null,{"$f":"'Student 1'!$C$16","v":201},{"$f":"'Student 1'!$D$16","v":10},{"$f":"'Student 1'!$E$16","v":10},{"$f":"'Student 1'!$F$16","v":20},{"$f":"'Student 1'!$G$16","v":20},{"$f":"'Student 1'!$H$16","v":16},{"$f":"'Student 1'!$I$16","v":25},{"$f":"'Student 1'!$J$16","v":" "},{"$f":"'Student 1'!$K$16","v":100},{"$f":"'Student 1'!$L$16","v":"Evaluation"}]
[{"$f":"'Student 1'!$A$17","v":"Red is late turn-in"},null,{"$f":"'Student 1'!$C$17","v":"Blue is absent"},{"$f":"'Student 1'!$D$17","v":"HW"},{"$f":"'Student 1'!$E$17","v":"HW "},{"$f":"'Student 1'!$F$17","v":"Test"},{"$f":"'Student 1'!$G$17","v":"Test"},{"$f":"'Student 1'!$H$17","v":"HW"},{"$f":"'Student 1'!$I$17","v":"Test"},{"$f":"'Student 1'!$J$17","v":"Extra"},{"$f":"'Student 1'!$K$17","v":"Final "},{"$f":"'Student 1'!$L$17","v":"Class"},null,{"$f":"'Student 1'!$N$17","v":"Professionalism"},null,null,{"$f":"'Student 1'!$Q$17","v":"Lab"},null,{"$f":"'Student 1'!$S$17","v":"Total  "},{"$f":"'Student 1'!$T$17","v":"Letter"}]
[{"$f":"'Student 1'!$A$18","v":"I D "},{"$f":"'Student 1'!$B$18","v":"First:"},{"$f":"'Student 1'!$C$18","v":"Last:"},{"$f":"'Student 1'!$D$18","v":"CH 7"},{"$f":"'Student 1'!$E$18","v":"CH 14"},{"$f":"'Student 1'!$F$18","v":"C & L"},{"$f":"'Student 1'!$G$18","v":"CH 18"},{"$f":"'Student 1'!$H$18","v":"CH 22"},{"$f":"'Student 1'!$I$18","v":"CH 22"},{"$f":"'Student 1'!$J$18","v":"Credit"},{"$f":"'Student 1'!$K$18","v":"TEST"},{"$f":"'Student 1'!$L$18","v":"Points"},{"$f":"'Student 1'!$M$18","v":"%"},{"$f":"'Student 1'!$N$18","v":"Attendance"},{"$f":"'Student 1'!$O$18","v":"Points"},{"$f":"'Student 1'!$P$18","v":"%"},{"$f":"'Student 1'!$Q$18","v":"Points"},{"$f":"'Student 1'!$R$18","v":"%"},{"$f":"'Student 1'!$S$18","v":"%"},{"$f":"'Student 1'!$T$18","v":"Grade"}]
[{"$f":"'Course 2 Class'!$A$9","v":{"v":4,"d":"00000004"}},{"$f":"'Course 2 Class'!$B$9","v":"Student"},{"$f":"'Course 2 Class'!$C$9","v":"Four"},{"$f":"'Course 2 Class'!$D$9","v":0},{"$f":"'Course 2 Class'!$E$9","v":0},{"$f":"'Course 2 Class'!$F$9","v":0},{"$f":"'Course 2 Class'!$G$9","v":0},{"$f":"'Course 2 Class'!$H$9","v":0},{"$f":"'Course 2 Class'!$I$9","v":0},{"$f":"'Course 2 Class'!$J$9","v":0},{"$f":"'Course 2 Class'!$K$9","v":0},{"$f":"'Course 2 Class'!$L$9","v":0},{"$f":"'Course 2 Class'!$M$9","v":{"v":0,"d":"0%"}},{"$f":"'Course 2 Class'!$N$9","v":{"v":1,"d":"100%"}},{"$f":"'Course 2 Class'!$O$9","v":72},{"$f":"'Course 2 Class'!$P$9","v":{"v":1,"d":"100%"}},{"$f":"'Course 2 Class'!$Q$9","v":0},{"$f":"'Course 2 Class'!$R$9","v":{"v":0,"d":"0%"}},{"$f":"'Course 2 Class'!$S$9","v":{"v":0.25,"d":"25%"}},{"$f":"'Course 2 Class'!$T$9","v":"F"}]
[{"$f":"'Student 1'!$A$20","v":"Course 2 Engine Theory & Repair. Lab"}]
[{"$f":"'Student 1'!$A$21","v":"  Max Shop Points:"},null,{"$f":"'Student 1'!$C$21","v":1450},{"$f":"'Student 1'!$D$21","v":"Engine"},{"$f":"'Student 1'!$E$21","v":"Cylinder"},{"$f":"'Student 1'!$F$21","v":"Red"},{"$f":"'Student 1'!$G$21","v":"Mitsubishi"},{"$f":"'Student 1'!$H$21","v":"Any"},{"$f":"'Student 1'!$I$21","v":"DOHC"},{"$f":"'Student 1'!$J$21","v":"Valve seal"},{"$f":"'Student 1'!$K$21","v":"Misc."},{"$f":"'Student 1'!$L$21","v":" "}]
[{"$f":"'Student 1'!$A$22","v":"Max shop points available depend on how much customer work is done."},null,null,{"$f":"'Student 1'!$D$22","v":"Disassemble"},{"$f":"'Student 1'!$E$22","v":"Head"},{"$f":"'Student 1'!$F$22","v":"Dodge"},{"$f":"'Student 1'!$G$22","v":"\"3.0L\""},{"$f":"'Student 1'!$H$22","v":"Engine"},{"$f":"'Student 1'!$I$22","v":"Engine"},{"$f":"'Student 1'!$J$22","v":"&"},{"$f":"'Student 1'!$K$22","v":"Engine "},{"$f":"'Student 1'!$L$22","v":"Cus"},{"$f":"'Student 1'!$M$22","v":"Comp"}]
[{"$nulls":3},{"$f":"'Student 1'!$D$23","v":"& Measure"},{"$f":"'Student 1'!$E$23","v":"Repair"},{"$f":"'Student 1'!$F$23","v":"Clip"},{"$f":"'Student 1'!$G$23","v":"Clip"},{"$f":"'Student 1'!$H$23","v":"T-chain"},{"$f":"'Student 1'!$I$23","v":" Stand"},{"$f":"'Student 1'!$J$23","v":"Lobe lift"},{"$f":"'Student 1'!$K$23","v":"Points"},{"$f":"'Student 1'!$L$23","v":"tomer"},{"$f":"'Student 1'!$M$23","v":"etency"},{"$f":"'Student 1'!$N$23","v":" "},{"$f":"'Student 1'!$O$23","v":" "}]
[{"$nulls":3},{"$f":"'Student 1'!$D$24","v":1},{"$f":"'Student 1'!$E$24","v":1},{"$f":"'Student 1'!$F$24","v":1},{"$f":"'Student 1'!$G$24","v":1},{"$f":"'Student 1'!$H$24","v":1},{"$f":"'Student 1'!$I$24","v":1},{"$f":"'Student 1'!$J$24","v":1},null,{"$f":"'Student 1'!$L$24","v":"Work"},{"$f":"'Student 1'!$M$24","v":"0 or 1"},{"$f":"'Student 1'!$N$24","v":"Lab"}]
[{"$f":"'Student 1'!$A$25","v":"ID"},{"$f":"'Student 1'!$B$25","v":"First:"},{"$f":"'Student 1'!$C$25","v":"Last:"},{"$f":"'Student 1'!$D$25","v":300},{"$f":"'Student 1'!$E$25","v":200},{"$f":"'Student 1'!$F$25","v":100},{"$f":"'Student 1'!$G$25","v":100},{"$f":"'Student 1'!$H$25","v":100},{"$f":"'Student 1'!$I$25","v":100},{"$f":"'Student 1'!$J$25","v":50},{"$f":"'Student 1'!$K$25","v":200},{"$f":"'Student 1'!$L$25","v":300},{"$f":"'Student 1'!$M$25","v":"*"},{"$f":"'Student 1'!$N$25","v":"Points"},{"$f":"'Student 1'!$O$25","v":"%"}]
[{"$f":"'Course 2 Lab'!$A$10","v":{"v":4,"d":"00000004"}},{"$f":"'Course 2 Lab'!$B$10","v":"Student"},{"$f":"'Course 2 Lab'!$C$10","v":"Four"},{"$f":"'Course 2 Lab'!$D$10","v":0},{"$f":"'Course 2 Lab'!$E$10","v":0},{"$f":"'Course 2 Lab'!$F$10","v":0},{"$f":"'Course 2 Lab'!$G$10","v":0},{"$f":"'Course 2 Lab'!$H$10","v":0},{"$f":"'Course 2 Lab'!$I$10","v":0},{"$f":"'Course 2 Lab'!$J$10","v":0},{"$f":"'Course 2 Lab'!$K$10","v":0},{"$f":"'Course 2 Lab'!$L$10","v":0},{"$f":"'Course 2 Lab'!$M$10","v":1},{"$f":"'Course 2 Lab'!$N$10","v":0},{"$f":"'Course 2 Lab'!$O$10","v":{"v":0,"d":"0%"}}]
[{"$f":"'Student 1'!$A$27","v":"Course 3 Steering & Suspension. Class."},{"$nulls":11},{"$f":"'Student 1'!$M$27","v":25}]
[{"$f":"'Student 1'!$A$28","v":" "},{"$f":"'Student 1'!$B$28","v":"Date assignment is due:"},null,{"$f":"'Student 1'!$D$28","v":"1/18"},{"$f":"'Student 1'!$E$28","v":"2/2"},{"$f":"'Student 1'!$F$28","v":"TBD"},{"$f":"'Student 1'!$G$28","v":"TBD"},{"$f":"'Student 1'!$H$28","v":"TBD"},{"$f":"'Student 1'!$I$28","v":"TBD"},{"$f":"'Student 1'!$J$28","v":"TBD"},{"$f":"'Student 1'!$K$28","v":"TBD"},{"$f":"'Student 1'!$L$28","v":"TBD"},{"$f":"'Student 1'!$M$28","v":"TBD"},{"$f":"'Student 1'!$N$28","v":"TBD"}]
[{"$f":"'Student 1'!$A$29","v":"Class Room Points:"},null,{"$f":"'Student 1'!$C$29","v":330},{"$f":"'Student 1'!$D$29","v":20},{"$f":"'Student 1'!$E$29","v":20},{"$f":"'Student 1'!$F$29","v":24},{"$f":"'Student 1'!$G$29","v":20},{"$f":"'Student 1'!$H$29","v":25},{"$f":"'Student 1'!$I$29","v":30},{"$f":"'Student 1'!$J$29","v":20},{"$f":"'Student 1'!$K$29","v":26},{"$f":"'Student 1'!$L$29","v":45},{"$f":"'Student 1'!$M$29","v":" "},{"$f":"'Student 1'!$N$29","v":100},{"$f":"'Student 1'!$O$29","v":"Evaluation"}]
[{"$f":"'Student 1'!$A$30","v":"Red is late turn-in"},null,{"$f":"'Student 1'!$C$30","v":"Blue is absent"},{"$f":"'Student 1'!$D$30","v":"HW"},{"$f":"'Student 1'!$E$30","v":"HW"},{"$f":"'Student 1'!$F$30","v":"HW"},{"$f":"'Student 1'!$G$30","v":"QZ"},{"$f":"'Student 1'!$H$30","v":"HW"},{"$f":"'Student 1'!$I$30","v":"HW"},{"$f":"'Student 1'!$J$30","v":"Test"},{"$f":"'Student 1'!$K$30","v":"HW"},{"$f":"'Student 1'!$L$30","v":"Class"},{"$f":"'Student 1'!$M$30","v":"Extra"},{"$f":"'Student 1'!$N$30","v":"Final"},{"$f":"'Student 1'!$O$30","v":"Class"},null,{"$f":"'Student 1'!$Q$30","v":"Professionalism"},null,null,{"$f":"'Student 1'!$T$30","v":"Lab"},null,{"$f":"'Student 1'!$V$30","v":"Total  "},{"$f":"'Student 1'!$W$30","v":"Letter"}]
[{"$f":"'Student 1'!$A$31","v":"I D "},{"$f":"'Student 1'!$B$31","v":"First:"},{"$f":"'Student 1'!$C$31","v":"Last:"},{"$f":"'Student 1'!$D$31","v":"CH 1"},{"$f":"'Student 1'!$E$31","v":"CH 2"},{"$f":"'Student 1'!$F$31","v":"CH 3"},{"$f":"'Student 1'!$G$31","v":"1"},{"$f":"'Student 1'!$H$31","v":"CH 6"},{"$f":"'Student 1'!$I$31","v":"CH 9"},{"$f":"'Student 1'!$J$31","v":"1 – 9"},{"$f":"'Student 1'!$K$31","v":"CH 12"},{"$f":"'Student 1'!$L$31","v":"Project"},{"$f":"'Student 1'!$M$31","v":"Credit"},{"$f":"'Student 1'!$N$31","v":"TEST"},{"$f":"'Student 1'!$O$31","v":"Points"},{"$f":"'Student 1'!$P$31","v":"%"},{"$f":"'Student 1'!$Q$31","v":"Attendance"},{"$f":"'Student 1'!$R$31","v":"Points"},{"$f":"'Student 1'!$S$31","v":"%"},{"$f":"'Student 1'!$T$31","v":"Points"},{"$f":"'Student 1'!$U$31","v":"%"},{"$f":"'Student 1'!$V$31","v":"%"},{"$f":"'Student 1'!$W$31","v":"Grade"}]
[{"$f":"'Course 3 Class'!$A$9","v":{"v":4,"d":"00000004"}},{"$f":"'Course 3 Class'!$B$9","v":"Student"},{"$f":"'Course 3 Class'!$C$9","v":"Four"},{"$f":"'Course 3 Class'!$D$9","v":0},{"$f":"'Course 3 Class'!$E$9","v":0},{"$f":"'Course 3 Class'!$F$9","v":0},{"$f":"'Course 3 Class'!$G$9","v":0},{"$f":"'Course 3 Class'!$H$9","v":0},{"$f":"'Course 3 Class'!$I$9","v":0},{"$f":"'Course 3 Class'!$J$9","v":0},{"$f":"'Course 3 Class'!$K$9","v":0},{"$f":"'Course 3 Class'!$L$9","v":0},{"$f":"'Course 3 Class'!$M$9","v":0},{"$f":"'Course 3 Class'!$N$9","v":0},{"$f":"'Course 3 Class'!$O$9","v":0},{"$f":"'Course 3 Class'!$P$9","v":{"v":0,"d":"0%"}},{"$f":"'Course 3 Class'!$Q$9","v":{"v":1,"d":"100%"}},{"$f":"'Course 3 Class'!$R$9","v":72},{"$f":"'Course 3 Class'!$S$9","v":{"v":1,"d":"100%"}},{"$f":"'Course 3 Class'!$T$9","v":0},{"$f":"'Course 3 Class'!$U$9","v":{"v":0,"d":"0%"}},{"$f":"'Course 3 Class'!$V$9","v":{"v":0.25,"d":"25%"}},{"$f":"'Course 3 Class'!$W$9","v":"F"}]
[{"$f":"'Student 1'!$A$33","v":"Course 3 Steering & Suspension. Lab"}]
[{"$f":"'Student 1'!$A$34","v":"Max shop points"},null,{"$f":"'Student 1'!$C$34","v":1350},{"$f":"'Student 1'!$D$34","v":"Repair"},{"$f":"'Student 1'!$E$34","v":"Identify"},{"$f":"'Student 1'!$F$34","v":"Repair"},{"$f":"'Student 1'!$G$34","v":"Identify"},{"$f":"'Student 1'!$H$34","v":"Repair"},{"$f":"'Student 1'!$I$34","v":"R&R"},{"$f":"'Student 1'!$J$34","v":"R&R"},{"$f":"'Student 1'!$K$34","v":"R&R"},{"$f":"'Student 1'!$L$34","v":"P/S"},{"$f":"'Student 1'!$M$34","v":"R&R"},{"$f":"'Student 1'!$N$34","v":"NVH"},{"$f":"'Student 1'!$O$34","v":" "}]
[{"$f":"'Student 1'!$A$35","v":"Max shop points available depend on how much customer work is done."},null,null,{"$f":"'Student 1'!$D$35","v":"SLA"},{"$f":"'Student 1'!$E$35","v":"SLA"},{"$f":"'Student 1'!$F$35","v":"Mac-P"},{"$f":"'Student 1'!$G$35","v":"Mac-P"},{"$f":"'Student 1'!$H$35","v":"Rear"},{"$f":"'Student 1'!$I$35","v":"Rack &"},{"$f":"'Student 1'!$J$35","v":"Recirc."},{"$f":"'Student 1'!$K$35","v":"P/S"},{"$f":"'Student 1'!$L$35","v":"Pump"},{"$f":"'Student 1'!$M$35","v":"Inner"},{"$f":"'Student 1'!$N$35","v":"Runout &"},{"$f":"'Student 1'!$O$35","v":"Cus"},{"$f":"'Student 1'!$P$35","v":"Comp"}]
[{"$nulls":3},{"$f":"'Student 1'!$D$36","v":"Susp"},{"$f":"'Student 1'!$E$36","v":"Parts"},{"$f":"'Student 1'!$F$36","v":"Susp"},{"$f":"'Student 1'!$G$36","v":"Parts"},{"$f":"'Student 1'!$H$36","v":"Susp"},{"$f":"'Student 1'!$I$36","v":"Pinion"},{"$f":"'Student 1'!$J$36","v":"Gear"},{"$f":"'Student 1'!$K$36","v":"Pump"},{"$f":"'Student 1'!$L$36","v":"Test"},{"$f":"'Student 1'!$M$36","v":"Tie-Rod"},{"$f":"'Student 1'!$N$36","v":"bal. Check"},{"$f":"'Student 1'!$O$36","v":"tomer"},{"$f":"'Student 1'!$P$36","v":"etency"},{"$f":"'Student 1'!$Q$36","v":" "},{"$f":"'Student 1'!$R$36","v":" "},null,null,{"$f":"'Student 1'!$U$36","v":"Final Grade"}]
[{"$nulls":3},{"$f":"'Student 1'!$D$37","v":1},{"$f":"'Student 1'!$E$37","v":2},{"$f":"'Student 1'!$F$37","v":3},{"$f":"'Student 1'!$G$37","v":2},{"$f":"'Student 1'!$H$37","v":1},{"$f":"'Student 1'!$I$37","v":1},{"$f":"'Student 1'!$J$37","v":1},{"$f":"'Student 1'!$K$37","v":1},{"$f":"'Student 1'!$L$37","v":1},{"$f":"'Student 1'!$M$37","v":1},{"$f":"'Student 1'!$N$37","v":1},{"$f":"'Student 1'!$O$37","v":"Work"},{"$f":"'Student 1'!$P$37","v":"0 or 1"},{"$f":"'Student 1'!$Q$37","v":"Lab"},{"$nulls":3},{"$f":"'Student 1'!$U$37","v":{"v":0,"d":"0%"}},{"$f":"'Student 1'!$V$37","v":"F"}]
[{"$f":"'Student 1'!$A$38","v":"ID"},{"$f":"'Student 1'!$B$38","v":"First:"},{"$f":"'Student 1'!$C$38","v":"Last:"},{"$f":"'Student 1'!$D$38","v":150},{"$f":"'Student 1'!$E$38","v":50},{"$f":"'Student 1'!$F$38","v":225},{"$f":"'Student 1'!$G$38","v":50},{"$f":"'Student 1'!$H$38","v":50},{"$f":"'Student 1'!$I$38","v":150},{"$f":"'Student 1'!$J$38","v":125},{"$f":"'Student 1'!$K$38","v":50},{"$f":"'Student 1'!$L$38","v":50},{"$f":"'Student 1'!$M$38","v":50},{"$f":"'Student 1'!$N$38","v":100},{"$f":"'Student 1'!$O$38","v":300},{"$f":"'Student 1'!$P$38","v":"*"},{"$f":"'Student 1'!$Q$38","v":"Points"},{"$f":"'Student 1'!$R$38","v":"%"},null,null,{"$f":"'Student 1'!$U$38","v":{"v":0.695,"d":"70%"}},{"$f":"'Student 1'!$V$38","v":"D-"}]
[{"$f":"'Course 3 Lab'!$A$10","v":{"v":4,"d":"00000004"}},{"$f":"'Course 3 Lab'!$B$10","v":"Student"},{"$f":"'Course 3 Lab'!$C$10","v":"Four"},{"$f":"'Course 3 Lab'!$D$10","v":0},{"$f":"'Course 3 Lab'!$E$10","v":0},{"$f":"'Course 3 Lab'!$F$10","v":0},{"$f":"'Course 3 Lab'!$G$10","v":0},{"$f":"'Course 3 Lab'!$H$10","v":0},{"$f":"'Course 3 Lab'!$I$10","v":0},{"$f":"'Course 3 Lab'!$J$10","v":0},{"$f":"'Course 3 Lab'!$K$10","v":0},{"$f":"'Course 3 Lab'!$L$10","v":0},{"$f":"'Course 3 Lab'!$M$10","v":0},{"$f":"'Course 3 Lab'!$N$10","v":0},{"$f":"'Course 3 Lab'!$O$10","v":0},{"$f":"'Course 3 Lab'!$P$10","v":1},{"$f":"'Course 3 Lab'!$Q$10","v":0},{"$f":"'Course 3 Lab'!$R$10","v":{"v":0,"d":"0%"}},null,null,{"$f":"'Student 1'!$U$39","v":{"v":0.715,"d":"72%"}},{"$f":"'Student 1'!$V$39","v":"D"}]
[{"$f":"'Student 1'!$A$40","v":"Course 4 Alignment. Class."},{"$nulls":7},{"$f":"'Student 1'!$I$40","v":25},{"$nulls":11},{"$f":"'Student 1'!$U$40","v":{"v":0.735,"d":"74%"}},{"$f":"'Student 1'!$V$40","v":"D+"}]
[{"$f":"'Student 1'!$A$41","v":" "},{"$f":"'Student 1'!$B$41","v":"Date assignment is due  "},null,{"$f":"'Student 1'!$D$41","v":"TBD"},{"$f":"'Student 1'!$E$41","v":"TBD"},{"$f":"'Student 1'!$F$41","v":"TBD"},{"$f":"'Student 1'!$G$41","v":"TBD"},{"$f":"'Student 1'!$H$41","v":"TBD"},{"$f":"'Student 1'!$I$41","v":"TBD"},{"$f":"'Student 1'!$J$41","v":"TBD"},{"$nulls":10},{"$f":"'Student 1'!$U$41","v":{"v":0.755,"d":"76%"}},{"$f":"'Student 1'!$V$41","v":"C-"}]
[{"$f":"'Student 1'!$A$42","v":"Class Room Points:"},null,{"$f":"'Student 1'!$C$42","v":235},{"$f":"'Student 1'!$D$42","v":25},{"$f":"'Student 1'!$E$42","v":25},{"$f":"'Student 1'!$F$42","v":20},{"$f":"'Student 1'!$G$42","v":40},{"$f":"'Student 1'!$H$42","v":50},{"$f":"'Student 1'!$I$42","v":" "},{"$f":"'Student 1'!$J$42","v":75},{"$f":"'Student 1'!$K$42","v":"Evaluation"},{"$nulls":9},{"$f":"'Student 1'!$U$42","v":{"v":0.785,"d":"79%"}},{"$f":"'Student 1'!$V$42","v":"C"}]
[{"$f":"'Student 1'!$A$43","v":"Red is late turn-in"},null,{"$f":"'Student 1'!$C$43","v":"Blue is absent"},{"$f":"'Student 1'!$D$43","v":"CH 16"},{"$f":"'Student 1'!$E$43","v":"CH 16"},{"$f":"'Student 1'!$F$43","v":"Align"},{"$f":"'Student 1'!$G$43","v":"In class"},{"$f":"'Student 1'!$H$43","v":"In class"},{"$f":"'Student 1'!$I$43","v":"Extra"},{"$f":"'Student 1'!$J$43","v":"Final"},{"$f":"'Student 1'!$K$43","v":"Class"},null,{"$f":"'Student 1'!$M$43","v":"Professionalism"},null,null,{"$f":"'Student 1'!$P$43","v":"Lab"},null,{"$f":"'Student 1'!$R$43","v":"Total  "},{"$f":"'Student 1'!$S$43","v":"Letter"},null,{"$f":"'Student 1'!$U$43","v":{"v":0.815,"d":"82%"}},{"$f":"'Student 1'!$V$43","v":"C+"}]
[{"$f":"'Student 1'!$A$44","v":"I D "},{"$f":"'Student 1'!$B$44","v":"First:"},{"$f":"'Student 1'!$C$44","v":"Last:"},{"$f":"'Student 1'!$D$44","v":"HW"},{"$f":"'Student 1'!$E$44","v":"Test"},{"$f":"'Student 1'!$F$44","v":"HW"},{"$f":"'Student 1'!$G$44","v":"Project1"},{"$f":"'Student 1'!$H$44","v":"Project2"},{"$f":"'Student 1'!$I$44","v":"Credit"},{"$f":"'Student 1'!$J$44","v":"Test"},{"$f":"'Student 1'!$K$44","v":"Points"},{"$f":"'Student 1'!$L$44","v":"%"},{"$f":"'Student 1'!$M$44","v":"Attendance"},{"$f":"'Student 1'!$N$44","v":"Points"},{"$f":"'Student 1'!$O$44","v":"%"},{"$f":"'Student 1'!$P$44","v":"Points"},{"$f":"'Student 1'!$Q$44","v":"%"},{"$f":"'Student 1'!$R$44","v":"%"},{"$f":"'Student 1'!$S$44","v":"Grade"},null,{"$f":"'Student 1'!$U$44","v":{"v":0.845,"d":"85%"}},{"$f":"'Student 1'!$V$44","v":"B-"}]
[{"$f":"'Course 4 Class'!$A$9","v":{"v":4,"d":"00000004"}},{"$f":"'Course 4 Class'!$B$9","v":"Student"},{"$f":"'Course 4 Class'!$C$9","v":"Four"},{"$f":"'Course 4 Class'!$D$9","v":0},{"$f":"'Course 4 Class'!$E$9","v":0},{"$f":"'Course 4 Class'!$F$9","v":0},{"$f":"'Course 4 Class'!$G$9","v":0},{"$f":"'Course 4 Class'!$H$9","v":0},{"$f":"'Course 4 Class'!$I$9","v":0},{"$f":"'Course 4 Class'!$J$9","v":0},{"$f":"'Course 4 Class'!$K$9","v":0},{"$f":"'Course 4 Class'!$L$9","v":{"v":0,"d":"0%"}},{"$f":"'Course 4 Class'!$M$9","v":{"v":1,"d":"100%"}},{"$f":"'Course 4 Class'!$N$9","v":72},{"$f":"'Course 4 Class'!$O$9","v":{"v":1,"d":"100%"}},{"$f":"'Course 4 Class'!$P$9","v":0},{"$f":"'Course 4 Class'!$Q$9","v":{"v":0,"d":"0%"}},{"$f":"'Course 4 Class'!$R$9","v":{"v":0.25,"d":"25%"}},{"$f":"'Course 4 Class'!$S$9","v":"F"},null,{"$f":"'Student 1'!$U$45","v":{"v":0.875,"d":"88%"}},{"$f":"'Student 1'!$V$45","v":"B"}]
[{"$f":"'Student 1'!$A$46","v":"Course 4 Alignment. Lab"},{"$nulls":19},{"$f":"'Student 1'!$U$46","v":{"v":0.895,"d":"90%"}},{"$f":"'Student 1'!$V$46","v":"B+"}]
[{"$f":"'Student 1'!$A$47","v":"Max Shop Points:"},null,{"$f":"'Student 1'!$C$47","v":1300},{"$f":"'Student 1'!$D$47","v":"Alignment"},{"$f":"'Student 1'!$E$47","v":"Complete"},{"$f":"'Student 1'!$F$47","v":"Cus"},{"$f":"'Student 1'!$G$47","v":" "},{"$nulls":13},{"$f":"'Student 1'!$U$47","v":{"v":0.925,"d":"93%"}},{"$f":"'Student 1'!$V$47","v":"A-"}]
[{"$f":"'Student 1'!$A$48","v":"Max shop points available depend on how much customer work is done."},null,null,{"$f":"'Student 1'!$D$48","v":"Pre-check"},{"$f":"'Student 1'!$E$48","v":"Wheel"},{"$f":"'Student 1'!$F$48","v":"tomer"},{"$f":"'Student 1'!$G$48","v":"Comp"},{"$nulls":13},{"$f":"'Student 1'!$U$48","v":{"v":0.945,"d":"95%"}},{"$f":"'Student 1'!$V$48","v":"A"}]
[{"$nulls":3},{"$f":"'Student 1'!$D$49","v":"100 P"},{"$f":"'Student 1'!$E$49","v":"Alignment"},{"$f":"'Student 1'!$F$49","v":"Work"},{"$f":"'Student 1'!$G$49","v":"etency"},{"$f":"'Student 1'!$H$49","v":" "},{"$f":"'Student 1'!$I$49","v":" "},{"$nulls":11},{"$f":"'Student 1'!$U$49","v":{"v":1,"d":"100%"}},{"$f":"'Student 1'!$V$49","v":"A"}]
[{"$nulls":3},{"$f":"'Student 1'!$D$50","v":1},{"$f":"'Student 1'!$E$50","v":1},{"$f":"'Student 1'!$F$50","v":" "},{"$f":"'Student 1'!$G$50","v":"0 or 1"},{"$f":"'Student 1'!$H$50","v":"Lab"}]
[{"$f":"'Student 1'!$A$51","v":"ID"},{"$f":"'Student 1'!$B$51","v":"First:"},{"$f":"'Student 1'!$C$51","v":"Last:"},{"$f":"'Student 1'!$D$51","v":100},{"$f":"'Student 1'!$E$51","v":900},{"$f":"'Student 1'!$F$51","v":300},{"$f":"'Student 1'!$G$51","v":"*"},{"$f":"'Student 1'!$H$51","v":"Points"},{"$f":"'Student 1'!$I$51","v":"%"}]
[{"$f":"'Course 4 Lab'!$A$10","v":{"v":4,"d":"00000004"}},{"$f":"'Course 4 Lab'!$B$10","v":"Student"},{"$f":"'Course 4 Lab'!$C$10","v":"Four"},{"$f":"'Course 4 Lab'!$D$10","v":0},{"$f":"'Course 4 Lab'!$E$10","v":0},{"$f":"'Course 4 Lab'!$F$10","v":0},{"$f":"'Course 4 Lab'!$G$10","v":1},{"$f":"'Course 4 Lab'!$H$10","v":0},{"$f":"'Course 4 Lab'!$I$10","v":{"v":0,"d":"0%"}}]
[{"$f":"'Student 1'!$A$53","v":"Course 5 Brake Systems. Class."},{"$nulls":10},{"$f":"'Student 1'!$L$53","v":35}]
[{"$f":"'Student 1'!$A$54","v":"Date assignment is due:"},null,{"$f":"'Student 1'!$C$54","v":" "},{"$f":"'Student 1'!$D$54","v":"TBD"},{"$f":"'Student 1'!$E$54","v":"TBD"},{"$f":"'Student 1'!$F$54","v":"TBD"},{"$f":"'Student 1'!$G$54","v":"TBD"},{"$f":"'Student 1'!$H$54","v":"TBD"},{"$f":"'Student 1'!$I$54","v":"TBD"},{"$f":"'Student 1'!$J$54","v":"TBD"},{"$f":"'Student 1'!$K$54","v":"TBD"},{"$f":"'Student 1'!$L$54","v":"TBD"},{"$f":"'Student 1'!$M$54","v":"TBD"}]
[{"$f":"'Student 1'!$A$55","v":"Class Room Points:"},null,{"$f":"'Student 1'!$C$55","v":440},{"$f":"'Student 1'!$D$55","v":30},{"$f":"'Student 1'!$E$55","v":25},{"$f":"'Student 1'!$F$55","v":100},{"$f":"'Student 1'!$G$55","v":30},{"$f":"'Student 1'!$H$55","v":50},{"$f":"'Student 1'!$I$55","v":30},{"$f":"'Student 1'!$J$55","v":25},{"$f":"'Student 1'!$K$55","v":50},{"$f":"'Student 1'!$L$55","v":" "},{"$f":"'Student 1'!$M$55","v":100},{"$f":"'Student 1'!$N$55","v":"Evaluation"}]
[{"$f":"'Student 1'!$A$56","v":"Red is late turn-in"},null,{"$f":"'Student 1'!$C$56","v":"Blue is absent"},{"$f":"'Student 1'!$D$56","v":"HW"},{"$f":"'Student 1'!$E$56","v":"HW"},{"$f":"'Student 1'!$F$56","v":"Test"},{"$f":"'Student 1'!$G$56","v":"HW"},{"$f":"'Student 1'!$H$56","v":"Test"},{"$f":"'Student 1'!$I$56","v":"HW"},{"$f":"'Student 1'!$J$56","v":"Test"},{"$f":"'Student 1'!$K$56","v":"Class"},{"$f":"'Student 1'!$L$56","v":"Extra"},{"$f":"'Student 1'!$M$56","v":"Final"},{"$f":"'Student 1'!$N$56","v":"Class"},null,{"$f":"'Student 1'!$P$56","v":"Professionalism"},null,null,{"$f":"'Student 1'!$S$56","v":"Lab"},null,{"$f":"'Student 1'!$U$56","v":"Total  "},{"$f":"'Student 1'!$V$56","v":"Letter"}]
[{"$f":"'Student 1'!$A$57","v":"I D "},{"$f":"'Student 1'!$B$57","v":"First:"},{"$f":"'Student 1'!$C$57","v":"Last:"},{"$f":"'Student 1'!$D$57","v":"CH 4"},{"$f":"'Student 1'!$E$57","v":"CH 5"},{"$f":"'Student 1'!$F$57","v":"#1"},{"$f":"'Student 1'!$G$57","v":"CH 7"},{"$f":"'Student 1'!$H$57","v":"Conv"},{"$f":"'Student 1'!$I$57","v":"CH 20"},{"$f":"'Student 1'!$J$57","v":"21/22"},{"$f":"'Student 1'!$K$57","v":"Project"},{"$f":"'Student 1'!$L$57","v":"Credit"},{"$f":"'Student 1'!$M$57","v":"Test"},{"$f":"'Student 1'!$N$57","v":"Points"},{"$f":"'Student 1'!$O$57","v":"%"},{"$f":"'Student 1'!$P$57","v":"Attendance"},{"$f":"'Student 1'!$Q$57","v":"Points"},{"$f":"'Student 1'!$R$57","v":"%"},{"$f":"'Student 1'!$S$57","v":"Points"},{"$f":"'Student 1'!$T$57","v":"%"},{"$f":"'Student 1'!$U$57","v":"%"},{"$f":"'Student 1'!$V$57","v":"Grade"}]
[{"$f":"'Course 5 Class'!$A$9","v":{"v":4,"d":"00000004"}},{"$f":"'Course 5 Class'!$B$9","v":"Student"},{"$f":"'Course 5 Class'!$C$9","v":"Four"},{"$f":"'Course 5 Class'!$D$9","v":0},{"$f":"'Course 5 Class'!$E$9","v":0},{"$f":"'Course 5 Class'!$F$9","v":0},{"$f":"'Course 5 Class'!$G$9","v":0},{"$f":"'Course 5 Class'!$H$9","v":0},{"$f":"'Course 5 Class'!$I$9","v":0},{"$f":"'Course 5 Class'!$J$9","v":0},{"$f":"'Course 5 Class'!$K$9","v":0},{"$f":"'Course 5 Class'!$L$9","v":0},{"$f":"'Course 5 Class'!$M$9","v":0},{"$f":"'Course 5 Class'!$N$9","v":0},{"$f":"'Course 5 Class'!$O$9","v":{"v":0,"d":"0%"}},{"$f":"'Course 5 Class'!$P$9","v":{"v":1,"d":"100%"}},{"$f":"'Course 5 Class'!$Q$9","v":72},{"$f":"'Course 5 Class'!$R$9","v":{"v":1,"d":"100%"}},{"$f":"'Course 5 Class'!$S$9","v":0},{"$f":"'Course 5 Class'!$T$9","v":{"v":0,"d":"0%"}},{"$f":"'Course 5 Class'!$U$9","v":{"v":0.25,"d":"25%"}},{"$f":"'Course 5 Class'!$V$9","v":"F"}]
[{"$f":"'Student 1'!$A$59","v":"Course 5 Brake Systems. Lab"}]
[{"$f":"'Student 1'!$A$60","v":"  Max Shop Points:"},null,{"$f":"'Student 1'!$C$60","v":970},{"$f":"'Student 1'!$D$60","v":"Drum"},{"$f":"'Student 1'!$E$60","v":"Drum "},{"$f":"'Student 1'!$F$60","v":"Disc"},{"$f":"'Student 1'!$G$60","v":"On Car"},{"$f":"'Student 1'!$H$60","v":"Off Car"},{"$f":"'Student 1'!$I$60","v":"Wheel"},{"$f":"'Student 1'!$J$60","v":"Hydr."},{"$f":"'Student 1'!$K$60","v":"Vacuum"},{"$f":"'Student 1'!$L$60","v":"Warning"},{"$f":"'Student 1'!$M$60","v":"Brake"},{"$f":"'Student 1'!$N$60","v":"Brake"},{"$f":"'Student 1'!$O$60","v":"Dodge"},{"$f":"'Student 1'!$P$60","v":"Ford"},{"$f":"'Student 1'!$Q$60","v":"GM"},{"$f":"'Student 1'!$R$60","v":"Cus"},{"$f":"'Student 1'!$S$60","v":"Brake"}]
[{"$f":"'Student 1'!$A$61","v":"Max shop points available depend on how much customer work is done."},null,null,{"$f":"'Student 1'!$D$61","v":"Brake"},{"$f":"'Student 1'!$E$61","v":"Brake "},{"$f":"'Student 1'!$F$61","v":"Brake"},{"$f":"'Student 1'!$G$61","v":"Disc"},{"$f":"'Student 1'!$H$61","v":"Disc"},{"$f":"'Student 1'!$I$61","v":"Bearing"},{"$f":"'Student 1'!$J$61","v":"Line"},{"$f":"'Student 1'!$K$61","v":"Booster"},{"$f":"'Student 1'!$L$61","v":"Light"},{"$f":"'Student 1'!$M$61","v":"System"},{"$f":"'Student 1'!$N$61","v":"Valves"},{"$f":"'Student 1'!$O$61","v":"Anti"},{"$f":"'Student 1'!$P$61","v":"Anti"},{"$f":"'Student 1'!$Q$61","v":"Anti"},{"$f":"'Student 1'!$R$61","v":"tomer"},{"$f":"'Student 1'!$S$61","v":"Comp"}]
[{"$nulls":3},{"$f":"'Student 1'!$D$62","v":"Job"},{"$f":"'Student 1'!$E$62","v":"Mach."},{"$f":"'Student 1'!$F$62","v":"Job"},{"$f":"'Student 1'!$G$62","v":"Mach."},{"$f":"'Student 1'!$H$62","v":"Mach."},{"$f":"'Student 1'!$I$62","v":"Service"},{"$f":"'Student 1'!$J$62","v":"Repair"},{"$f":"'Student 1'!$K$62","v":"Service"},{"$f":"'Student 1'!$L$62","v":"Service"},{"$f":"'Student 1'!$M$62","v":"Bleed"},{"$f":"'Student 1'!$N$62","v":"Check"},{"$f":"'Student 1'!$O$62","v":"Lock"},{"$f":"'Student 1'!$P$62","v":"Lock"},{"$f":"'Student 1'!$Q$62","v":"Lock"},{"$f":"'Student 1'!$R$62","v":"Work"},{"$f":"'Student 1'!$S$62","v":"etency"}]
[{"$nulls":3},{"$f":"'Student 1'!$D$63","v":2},{"$f":"'Student 1'!$E$63","v":2},{"$f":"'Student 1'!$F$63","v":2},{"$f":"'Student 1'!$G$63","v":2},{"$f":"'Student 1'!$H$63","v":2},{"$f":"'Student 1'!$I$63","v":1},{"$f":"'Student 1'!$J$63","v":1},{"$f":"'Student 1'!$K$63","v":2},{"$f":"'Student 1'!$L$63","v":2},{"$f":"'Student 1'!$M$63","v":4},{"$f":"'Student 1'!$N$63","v":1},{"$f":"'Student 1'!$O$63","v":1},{"$f":"'Student 1'!$P$63","v":1},{"$f":"'Student 1'!$Q$63","v":1},{"$f":"'Student 1'!$R$63","v":" "},{"$f":"'Student 1'!$S$63","v":"Required"},{"$f":"'Student 1'!$T$63","v":"Lab"}]
[{"$f":"'Student 1'!$A$64","v":"ID"},{"$f":"'Student 1'!$B$64","v":"First:"},{"$f":"'Student 1'!$C$64","v":"Last:"},{"$f":"'Student 1'!$D$64","v":150},{"$f":"'Student 1'!$E$64","v":40},{"$f":"'Student 1'!$F$64","v":150},{"$f":"'Student 1'!$G$64","v":80},{"$f":"'Student 1'!$H$64","v":40},{"$f":"'Student 1'!$I$64","v":50},{"$f":"'Student 1'!$J$64","v":30},{"$f":"'Student 1'!$K$64","v":30},{"$f":"'Student 1'!$L$64","v":40},{"$f":"'Student 1'!$M$64","v":80},{"$f":"'Student 1'!$N$64","v":40},{"$f":"'Student 1'!$O$64","v":80},{"$f":"'Student 1'!$P$64","v":80},{"$f":"'Student 1'!$Q$64","v":80},{"$f":"'Student 1'!$R$64","v":300},{"$f":"'Student 1'!$S$64","v":"*"},{"$f":"'Student 1'!$T$64","v":"Points"},{"$f":"'Student 1'!$U$64","v":"%"}]
[{"$f":"'Course 5 Lab'!$A$10","v":{"v":4,"d":"00000004"}},{"$f":"'Course 5 Lab'!$B$10","v":"Student"},{"$f":"'Course 5 Lab'!$C$10","v":"Four"},{"$f":"'Course 5 Lab'!$D$10","v":0},{"$f":"'Course 5 Lab'!$E$10","v":0},{"$f":"'Course 5 Lab'!$F$10","v":0},{"$f":"'Course 5 Lab'!$G$10","v":0},{"$f":"'Course 5 Lab'!$H$10","v":0},{"$f":"'Course 5 Lab'!$I$10","v":0},{"$f":"'Course 5 Lab'!$J$10","v":0},{"$f":"'Course 5 Lab'!$K$10","v":0},{"$f":"'Course 5 Lab'!$L$10","v":0},{"$f":"'Course 5 Lab'!$M$10","v":0},{"$f":"'Course 5 Lab'!$N$10","v":0},{"$f":"'Course 5 Lab'!$O$10","v":0},{"$f":"'Course 5 Lab'!$P$10","v":0},{"$f":"'Course 5 Lab'!$Q$10","v":0},{"$f":"'Course 5 Lab'!$R$10","v":0},{"$f":"'Course 5 Lab'!$S$10","v":1},{"$f":"'Course 5 Lab'!$T$10","v":0},{"$f":"'Course 5 Lab'!$U$10","v":{"v":0,"d":"0%"}}]

{"sheet":"Student 5","index":18,"n_rows":65,"n_cols":23,"rows_kept":65,"merged":[[0,0,0,2],[1,0,1,2],[2,0,2,1],[2,9,2,17],[3,0,3,1],[3,9,3,10],[3,11,3,13],[3,14,3,15],[6,0,6,2],[7,0,7,1],[8,0,10,2],[10,16,10,17],[13,0,13,2],[14,1,14,2],[15,0,15,1],[15,11,15,19],[16,0,16,1],[16,11,16,12],[16,13,16,15],[16,16,16,17],[19,0,19,2],[20,0,20,1],[21,0,23,2],[23,13,23,14],[26,0,26,2],[27,1,27,2],[28,0,28,1],[28,14,28,22],[29,0,29,1],[29,14,29,15],[29,16,29,18],[29,19,29,20],[32,0,32,2],[33,0,33,1],[34,0,36,2],[35,20,35,21],[36,16,36,17],[39,0,39,2],[40,1,40,2],[41,0,41,1],[41,10,41,18],[42,0,42,1],[42,10,42,11],[42,12,42,14],[42,15,42,16],[45,0,45,2],[46,0,46,1],[47,0,49,2],[49,7,49,8],[52,0,52,2],[53,0,53,2],[54,0,54,1],[54,13,54,21],[55,0,55,1],[55,13,55,14],[55,15,55,17],[55,18,55,19],[58,0,58,2],[59,0,59,1],[60,0,62,2],[62,19,62,20]]}
[{"$f":"'Student 1'!$A$1","v":"Course 1 Engine Diagnosis. Class"},{"$nulls":6},{"$f":"'Student 1'!$H$1","v":25}]
[{"$f":"'Student 1'!$A$2","v":"Date assignment is due"},null,{"$f":"'Student 1'!$C$2","v":" "},{"$f":"'Student 1'!$D$2","v":"TBD"},{"$f":"'Student 1'!$E$2","v":"TBD"},{"$f":"'Student 1'!$F$2","v":"TBD"},{"$f":"'Student 1'!$G$2","v":"TBD"},{"$f":"'Student 1'!$H$2","v":"TBD"},{"$f":"'Student 1'!$I$2","v":"TBD"}]
[{"$f":"'Student 1'!$A$3","v":"Class Room Points:"},null,{"$f":"'Student 1'!$C$3","v":160},{"$f":"'Student 1'!$D$3","v":20},{"$f":"'Student 1'!$E$3","v":20},{"$f":"'Student 1'!$F$3","v":20},{"$f":"'Student 1'!$G$3","v":25},{"$f":"'Student 1'!$H$3","v":" "},{"$f":"'Student 1'!$I$3","v":75},{"$f":"'Student 1'!$J$3","v":"Evaluation"}]
[{"$f":"'Student 1'!$A$4","v":"Red is late turn-in"},null,{"$f":"'Student 1'!$C$4","v":"Blue is absent"},{"$f":"'Student 1'!$D$4","v":"CH 13 "},{"$f":"'Student 1'!$E$4","v":"Lube"},{"$f":"'Student 1'!$F$4","v":"Lube"},{"$f":"'Student 1'!$G$4","v":"Condition"},{"$f":"'Student 1'!$H$4","v":"Extra"},{"$f":"'Student 1'!$I$4","v":"Final"},{"$f":"'Student 1'!$J$4","v":"Classroom"},null,{"$f":"'Student 1'!$L$4","v":"Professionalism"},null,null,{"$f":"'Student 1'!$O$4","v":"Lab"},null,{"$f":"'Student 1'!$Q$4","v":"Total  "},{"$f":"'Student 1'!$R$4","v":"Letter"}]
[{"$f":"'Student 1'!$A$5","v":"I D "},{"$f":"'Student 1'!$B$5","v":"First:"},{"$f":"'Student 1'!$C$5","v":"Last:"},{"$f":"'Student 1'!$D$5","v":"Test"},{"$f":"'Student 1'!$E$5","v":"HW"},{"$f":"'Student 1'!$F$5","v":"Test"},{"$f":"'Student 1'!$G$5","v":"Class"},{"$f":"'Student 1'!$H$5","v":"Credit"},{"$f":"'Student 1'!$I$5","v":"Test"},{"$f":"'Student 1'!$J$5","v":"Points"},{"$f":"'Student 1'!$K$5","v":"%"},{"$f":"'Student 1'!$L$5","v":"Attendance"},{"$f":"'Student 1'!$M$5","v":"Points"},{"$f":"'Student 1'!$N$5","v":"%"},{"$f":"'Student 1'!$O$5","v":"Points"},{"$f":"'Student 1'!$P$5","v":"%"},{"$f":"'Student 1'!$Q$5","v":"%"},{"$f":"'Student 1'!$R$5","v":"Grade"}]
[{"$f":"'Course 1 Class'!$A$10","v":{"v":5,"d":"00000005"}},{"$f":"'Course 1 Class'!$B$10","v":"Student"},{"$f":"'Course 1 Class'!$C$10","v":"Five"},{"$f":"'Course 1 Class'!$D$10","v":0},{"$f":"'Course 1 Class'!$E$10","v":0},{"$f":"'Course 1 Class'!$F$10","v":0},{"$f":"'Course 1 Class'!$G$10","v":0},{"$f":"'Course 1 Class'!$H$10","v":0},{"$f":"'Course 1 Class'!$I$10","v":0},{"$f":"'Course 1 Class'!$J$10","v":0},{"$f":"'Course 1 Class'!$K$10","v":{"v":0,"d":"0%"}},{"$f":"'Course 1 Class'!$L$10","v":{"v":1,"d":"100%"}},{"$f":"'Course 1 Class'!$M$10","v":72},{"$f":"'Course 1 Class'!$N$10","v":{"v":1,"d":"100%"}},{"$f":"'Course 1 Class'!$O$10","v":0},{"$f":"'Course 1 Class'!$P$10","v":{"v":0,"d":"0%"}},{"$f":"'Course 1 Class'!$Q$10","v":{"v":0.25,"d":"25%"}},{"$f":"'Course 1 Class'!$R$10","v":"F"}]
[{"$f":"'Student 1'!$A$7","v":"Course 1 Engine Diagnosis. Lab"}]
[{"$f":"'Student 1'!$A$8","v":"  Max Shop Points:"},null,{"$f":"'Student 1'!$C$8","v":1325},{"$f":"'Student 1'!$D$8","v":"Dry"},{"$f":"'Student 1'!$E$8","v":"Wet"},{"$f":"'Student 1'!$F$8","v":"Running"},{"$f":"'Student 1'!$G$8","v":"Cylinder"},{"$f":"'Student 1'!$H$8","v":"Oil"},{"$f":"'Student 1'!$I$8","v":"Cooling"},{"$f":"'Student 1'!$J$8","v":"Vacuum"},{"$f":"'Student 1'!$K$8","v":"PCV"},{"$f":"'Student 1'!$L$8","v":"Thermostat"},{"$f":"'Student 1'!$M$8","v":"Fluid"},{"$f":"'Student 1'!$N$8","v":"Diag"},{"$f":"'Student 1'!$O$8","v":" "}]
[{"$f":"'Student 1'!$A$9","v":"Max shop points available depend on how much customer work is done."},null,null,{"$f":"'Student 1'!$D$9","v":"Compr"},{"$f":"'Student 1'!$E$9","v":"Compr"},{"$f":"'Student 1'!$F$9","v":"Compr"},{"$f":"'Student 1'!$G$9","v":"Leakage"},{"$f":"'Student 1'!$H$9","v":"Pressure"},{"$f":"'Student 1'!$I$9","v":"System"},{"$f":"'Student 1'!$J$9","v":"Gauge"},{"$f":"'Student 1'!$K$9","v":"System"},{"$f":"'Student 1'!$L$9","v":"and fan"},{"$f":"'Student 1'!$M$9","v":"Leak"},{"$f":"'Student 1'!$N$9","v":"gauges"},{"$f":"'Student 1'!$O$9","v":"Cus"},{"$f":"'Student 1'!$P$9","v":"Comp"}]
[{"$nulls":3},{"$f":"'Student 1'!$D$10","v":"Test"},{"$f":"'Student 1'!$E$10","v":"Test"},{"$f":"'Student 1'!$F$10","v":"Test"},{"$f":"'Student 1'!$G$10","v":"Test"},{"$f":"'Student 1'!$H$10","v":"Test"},{"$f":"'Student 1'!$I$10","v":"Test"},{"$f":"'Student 1'!$J$10","v":"Test"},{"$f":"'Student 1'!$K$10","v":"Check"},{"$f":"'Student 1'!$L$10","v":"Operation"},{"$f":"'Student 1'!$M$10","v":"Check"},{"$f":"'Student 1'!$N$10","v":"any vehicle"},{"$f":"'Student 1'!$O$10","v":"tomer"},{"$f":"'Student 1'!$P$10","v":"etency"},{"$f":"'Student 1'!$Q$10","v":"  "},{"$f":"'Student 1'!$R$10","v":" "}]
[{"$nulls":3},{"$f":"'Student 1'!$D$11","v":2},{"$f":"'Student 1'!$E$11","v":2},{"$f":"'Student 1'!$F$11","v":2},{"$f":"'Student 1'!$G$11","v":2},{"$f":"'Student 1'!$H$11","v":2},{"$f":"'Student 1'!$I$11","v":2},{"$f":"'Student 1'!$J$11","v":2},{"$f":"'Student 1'!$K$11","v":2},{"$f":"'Student 1'!$L$11","v":2},{"$f":"'Student 1'!$M$11","v":1},{"$f":"'Student 1'!$N$11","v":1},{"$f":"'Student 1'!$O$11","v":"Work"},{"$f":"'Student 1'!$P$11","v":"0 or 1"},{"$f":"'Student 1'!$Q$11","v":"Lab"}]
[{"$f":"'Student 1'!$A$12","v":"ID"},{"$f":"'Student 1'!$B$12","v":"First:"},{"$f":"'Student 1'!$C$12","v":"Last:"},{"$f":"'Student 1'!$D$12","v":100},{"$f":"'Student 1'!$E$12","v":100},{"$f":"'Student 1'!$F$12","v":100},{"$f":"'Student 1'!$G$12","v":100},{"$f":"'Student 1'!$H$12","v":100},{"$f":"'Student 1'!$I$12","v":150},{"$f":"'Student 1'!$J$12","v":100},{"$f":"'Student 1'!$K$12","v":50},{"$f":"'Student 1'!$L$12","v":100},{"$f":"'Student 1'!$M$12","v":25},{"$f":"'Student 1'!$N$12","v":100},{"$f":"'Student 1'!$O$12","v":300},{"$f":"'Student 1'!$P$12","v":"*"},{"$f":"'Student 1'!$Q$12","v":"Points"},{"$f":"'Student 1'!$R$12","v":"%"}]
[{"$f":"'Course 1 Lab'!$A$11","v":{"v":5,"d":"00000005"}},{"$f":"'Course 1 Lab'!$B$11","v":"Student"},{"$f":"'Course 1 Lab'!$C$11","v":"Five"},{"$f":"'Course 1 Lab'!$D$11","v":0},{"$f":"'Course 1 Lab'!$E$11","v":0},{"$f":"'Course 1 Lab'!$F$11","v":0},{"$f":"'Course 1 Lab'!$G$11","v":0},{"$f":"'Course 1 Lab'!$H$11","v":0},{"$f":"'Course 1 Lab'!$I$11","v":0},{"$f":"'Course 1 Lab'!$J$11","v":0},{"$f":"'Course 1 Lab'!$K$11","v":0},{"$f":"'Course 1 Lab'!$L$11","v":0},{"$f":"'Course 1 Lab'!$M$11","v":0},{"$f":"'Course 1 Lab'!$N$11","v":0},{"$f":"'Course 1 Lab'!$O$11","v":0},{"$f":"'Course 1 Lab'!$P$11","v":1},{"$f":"'Course 1 Lab'!$Q$11","v":0},{"$f":"'Course 1 Lab'!$R$11","v":{"v":0,"d":"0%"}}]
[{"$f":"'Student 1'!$A$14","v":"Course 2 Engine Theory & Repair. Class"},{"$nulls":8},{"$f":"'Student 1'!$J$14","v":25}]
[{"$f":"'Student 1'!$A$15","v":" "},{"$f":"'Student 1'!$B$15","v":"Date assignment is due:"},null,{"$f":"'Student 1'!$D$15","v":"TBD"},{"$f":"'Student 1'!$E$15","v":"TBD"},{"$f":"'Student 1'!$F$15","v":"TBD"},{"$f":"'Student 1'!$G$15","v":"TBD"},{"$f":"'Student 1'!$H$15","v":"TBD"},{"$f":"'Student 1'!$I$15","v":"TBD"},{"$f":"'Student 1'!$J$15","v":"TBD"},{"$f":"'Student 1'!$K$15","v":"TBD"}]
[{"$f":"'Student 1'!$A$16","v":"Class Room Points:"},null,{"$f":"'Student 1'!$C$16","v":201},{"$f":"'Student 1'!$D$16","v":10},{"$f":"'Student 1'!$E$16","v":10},{"$f":"'Student 1'!$F$16","v":20},{"$f":"'Student 1'!$G$16","v":20},{"$f":"'Student 1'!$H$16","v":16},{"$f":"'Student 1'!$I$16","v":25},{"$f":"'Student 1'!$J$16","v":" "},{"$f":"'Student 1'!$K$16","v":100},{"$f":"'Student 1'!$L$16","v":"Evaluation"}]
[{"$f":"'Student 1'!$A$17","v":"Red is late turn-in"},null,{"$f":"'Student 1'!$C$17","v":"Blue is absent"},{"$f":"'Student 1'!$D$17","v":"HW"},{"$f":"'Student 1'!$E$17","v":"HW "},{"$f":"'Student 1'!$F$17","v":"Test"},{"$f":"'Student 1'!$G$17","v":"Test"},{"$f":"'Student 1'!$H$17","v":"HW"},{"$f":"'Student 1'!$I$17","v":"Test"},{"$f":"'Student 1'!$J$17","v":"Extra"},{"$f":"'Student 1'!$K$17","v":"Final "},{"$f":"'Student 1'!$L$17","v":"Class"},null,{"$f":"'Student 1'!$N$17","v":"Professionalism"},null,null,{"$f":"'Student 1'!$Q$17","v":"Lab"},null,{"$f":"'Student 1'!$S$17","v":"Total  "},{"$f":"'Student 1'!$T$17","v":"Letter"}]
[{"$f":"'Student 1'!$A$18","v":"I D "},{"$f":"'Student 1'!$B$18","v":"First:"},{"$f":"'Student 1'!$C$18","v":"Last:"},{"$f":"'Student 1'!$D$18","v":"CH 7"},{"$f":"'Student 1'!$E$18","v":"CH 14"},{"$f":"'Student 1'!$F$18","v":"C & L"},{"$f":"'Student 1'!$G$18","v":"CH 18"},{"$f":"'Student 1'!$H$18","v":"CH 22"},{"$f":"'Student 1'!$I$18","v":"CH 22"},{"$f":"'Student 1'!$J$18","v":"Credit"},{"$f":"'Student 1'!$K$18","v":"TEST"},{"$f":"'Student 1'!$L$18","v":"Points"},{"$f":"'Student 1'!$M$18","v":"%"},{"$f":"'Student 1'!$N$18","v":"Attendance"},{"$f":"'Student 1'!$O$18","v":"Points"},{"$f":"'Student 1'!$P$18","v":"%"},{"$f":"'Student 1'!$Q$18","v":"Points"},{"$f":"'Student 1'!$R$18","v":"%"},{"$f":"'Student 1'!$S$18","v":"%"},{"$f":"'Student 1'!$T$18","v":"Grade"}]
[{"$f":"'Course 2 Class'!$A$10","v":{"v":5,"d":"00000005"}},{"$f":"'Course 2 Class'!$B$10","v":"Student"},{"$f":"'Course 2 Class'!$C$10","v":"Five"},{"$f":"'Course 2 Class'!$D$10","v":0},{"$f":"'Course 2 Class'!$E$10","v":0},{"$f":"'Course 2 Class'!$F$10","v":0},{"$f":"'Course 2 Class'!$G$10","v":0},{"$f":"'Course 2 Class'!$H$10","v":0},{"$f":"'Course 2 Class'!$I$10","v":0},{"$f":"'Course 2 Class'!$J$10","v":0},{"$f":"'Course 2 Class'!$K$10","v":0},{"$f":"'Course 2 Class'!$L$10","v":0},{"$f":"'Course 2 Class'!$M$10","v":{"v":0,"d":"0%"}},{"$f":"'Course 2 Class'!$N$10","v":{"v":1,"d":"100%"}},{"$f":"'Course 2 Class'!$O$10","v":72},{"$f":"'Course 2 Class'!$P$10","v":{"v":1,"d":"100%"}},{"$f":"'Course 2 Class'!$Q$10","v":0},{"$f":"'Course 2 Class'!$R$10","v":{"v":0,"d":"0%"}},{"$f":"'Course 2 Class'!$S$10","v":{"v":0.25,"d":"25%"}},{"$f":"'Course 2 Class'!$T$10","v":"F"}]
[{"$f":"'Student 1'!$A$20","v":"Course 2 Engine Theory & Repair. Lab"}]
[{"$f":"'Student 1'!$A$21","v":"  Max Shop Points:"},null,{"$f":"'Student 1'!$C$21","v":1450},{"$f":"'Student 1'!$D$21","v":"Engine"},{"$f":"'Student 1'!$E$21","v":"Cylinder"},{"$f":"'Student 1'!$F$21","v":"Red"},{"$f":"'Student 1'!$G$21","v":"Mitsubishi"},{"$f":"'Student 1'!$H$21","v":"Any"},{"$f":"'Student 1'!$I$21","v":"DOHC"},{"$f":"'Student 1'!$J$21","v":"Valve seal"},{"$f":"'Student 1'!$K$21","v":"Misc."},{"$f":"'Student 1'!$L$21","v":" "}]
[{"$f":"'Student 1'!$A$22","v":"Max shop points available depend on how much customer work is done."},null,null,{"$f":"'Student 1'!$D$22","v":"Disassemble"},{"$f":"'Student 1'!$E$22","v":"Head"},{"$f":"'Student 1'!$F$22","v":"Dodge"},{"$f":"'Student 1'!$G$22","v":"\"3.0L\""},{"$f":"'Student 1'!$H$22","v":"Engine"},{"$f":"'Student 1'!$I$22","v":"Engine"},{"$f":"'Student 1'!$J$22","v":"&"},{"$f":"'Student 1'!$K$22","v":"Engine "},{"$f":"'Student 1'!$L$22","v":"Cus"},{"$f":"'Student 1'!$M$22","v":"Comp"}]
[{"$nulls":3},{"$f":"'Student 1'!$D$23","v":"& Measure"},{"$f":"'Student 1'!$E$23","v":"Repair"},{"$f":"'Student 1'!$F$23","v":"Clip"},{"$f":"'Student 1'!$G$23","v":"Clip"},{"$f":"'Student 1'!$H$23","v":"T-chain"},{"$f":"'Student 1'!$I$23","v":" Stand"},{"$f":"'Student 1'!$J$23","v":"Lobe lift"},{"$f":"'Student 1'!$K$23","v":"Points"},{"$f":"'Student 1'!$L$23","v":"tomer"},{"$f":"'Student 1'!$M$23","v":"etency"},{"$f":"'Student 1'!$N$23","v":" "},{"$f":"'Student 1'!$O$23","v":" "}]
[{"$nulls":3},{"$f":"'Student 1'!$D$24","v":1},{"$f":"'Student 1'!$E$24","v":1},{"$f":"'Student 1'!$F$24","v":1},{"$f":"'Student 1'!$G$24","v":1},{"$f":"'Student 1'!$H$24","v":1},{"$f":"'Student 1'!$I$24","v":1},{"$f":"'Student 1'!$J$24","v":1},null,{"$f":"'Student 1'!$L$24","v":"Work"},{"$f":"'Student 1'!$M$24","v":"0 or 1"},{"$f":"'Student 1'!$N$24","v":"Lab"}]
[{"$f":"'Student 1'!$A$25","v":"ID"},{"$f":"'Student 1'!$B$25","v":"First:"},{"$f":"'Student 1'!$C$25","v":"Last:"},{"$f":"'Student 1'!$D$25","v":300},{"$f":"'Student 1'!$E$25","v":200},{"$f":"'Student 1'!$F$25","v":100},{"$f":"'Student 1'!$G$25","v":100},{"$f":"'Student 1'!$H$25","v":100},{"$f":"'Student 1'!$I$25","v":100},{"$f":"'Student 1'!$J$25","v":50},{"$f":"'Student 1'!$K$25","v":200},{"$f":"'Student 1'!$L$25","v":300},{"$f":"'Student 1'!$M$25","v":"*"},{"$f":"'Student 1'!$N$25","v":"Points"},{"$f":"'Student 1'!$O$25","v":"%"}]
[{"$f":"'Course 2 Lab'!$A$11","v":{"v":5,"d":"00000005"}},{"$f":"'Course 2 Lab'!$B$11","v":"Student"},{"$f":"'Course 2 Lab'!$C$11","v":"Five"},{"$f":"'Course 2 Lab'!$D$11","v":0},{"$f":"'Course 2 Lab'!$E$11","v":0},{"$f":"'Course 2 Lab'!$F$11","v":0},{"$f":"'Course 2 Lab'!$G$11","v":0},{"$f":"'Course 2 Lab'!$H$11","v":0},{"$f":"'Course 2 Lab'!$I$11","v":0},{"$f":"'Course 2 Lab'!$J$11","v":0},{"$f":"'Course 2 Lab'!$K$11","v":0},{"$f":"'Course 2 Lab'!$L$11","v":0},{"$f":"'Course 2 Lab'!$M$11","v":1},{"$f":"'Course 2 Lab'!$N$11","v":0},{"$f":"'Course 2 Lab'!$O$11","v":{"v":0,"d":"0%"}}]
[{"$f":"'Student 1'!$A$27","v":"Course 3 Steering & Suspension. Class."},{"$nulls":11},{"$f":"'Student 1'!$M$27","v":25}]
[{"$f":"'Student 1'!$A$28","v":" "},{"$f":"'Student 1'!$B$28","v":"Date assignment is due:"},null,{"$f":"'Student 1'!$D$28","v":"1/18"},{"$f":"'Student 1'!$E$28","v":"2/2"},{"$f":"'Student 1'!$F$28","v":"TBD"},{"$f":"'Student 1'!$G$28","v":"TBD"},{"$f":"'Student 1'!$H$28","v":"TBD"},{"$f":"'Student 1'!$I$28","v":"TBD"},{"$f":"'Student 1'!$J$28","v":"TBD"},{"$f":"'Student 1'!$K$28","v":"TBD"},{"$f":"'Student 1'!$L$28","v":"TBD"},{"$f":"'Student 1'!$M$28","v":"TBD"},{"$f":"'Student 1'!$N$28","v":"TBD"}]
[{"$f":"'Student 1'!$A$29","v":"Class Room Points:"},null,{"$f":"'Student 1'!$C$29","v":330},{"$f":"'Student 1'!$D$29","v":20},{"$f":"'Student 1'!$E$29","v":20},{"$f":"'Student 1'!$F$29","v":24},{"$f":"'Student 1'!$G$29","v":20},{"$f":"'Student 1'!$H$29","v":25},{"$f":"'Student 1'!$I$29","v":30},{"$f":"'Student 1'!$J$29","v":20},{"$f":"'Student 1'!$K$29","v":26},{"$f":"'Student 1'!$L$29","v":45},{"$f":"'Student 1'!$M$29","v":" "},{"$f":"'Student 1'!$N$29","v":100},{"$f":"'Student 1'!$O$29","v":"Evaluation"}]
[{"$f":"'Student 1'!$A$30","v":"Red is late turn-in"},null,{"$f":"'Student 1'!$C$30","v":"Blue is absent"},{"$f":"'Student 1'!$D$30","v":"HW"},{"$f":"'Student 1'!$E$30","v":"HW"},{"$f":"'Student 1'!$F$30","v":"HW"},{"$f":"'Student 1'!$G$30","v":"QZ"},{"$f":"'Student 1'!$H$30","v":"HW"},{"$f":"'Student 1'!$I$30","v":"HW"},{"$f":"'Student 1'!$J$30","v":"Test"},{"$f":"'Student 1'!$K$30","v":"HW"},{"$f":"'Student 1'!$L$30","v":"Class"},{"$f":"'Student 1'!$M$30","v":"Extra"},{"$f":"'Student 1'!$N$30","v":"Final"},{"$f":"'Student 1'!$O$30","v":"Class"},null,{"$f":"'Student 1'!$Q$30","v":"Professionalism"},null,null,{"$f":"'Student 1'!$T$30","v":"Lab"},null,{"$f":"'Student 1'!$V$30","v":"Total  "},{"$f":"'Student 1'!$W$30","v":"Letter"}]
[{"$f":"'Student 1'!$A$31","v":"I D "},{"$f":"'Student 1'!$B$31","v":"First:"},{"$f":"'Student 1'!$C$31","v":"Last:"},{"$f":"'Student 1'!$D$31","v":"CH 1"},{"$f":"'Student 1'!$E$31","v":"CH 2"},{"$f":"'Student 1'!$F$31","v":"CH 3"},{"$f":"'Student 1'!$G$31","v":"1"},{"$f":"'Student 1'!$H$31","v":"CH 6"},{"$f":"'Student 1'!$I$31","v":"CH 9"},{"$f":"'Student 1'!$J$31","v":"1 – 9"},{"$f":"'Student 1'!$K$31","v":"CH 12"},{"$f":"'Student 1'!$L$31","v":"Project"},{"$f":"'Student 1'!$M$31","v":"Credit"},{"$f":"'Student 1'!$N$31","v":"TEST"},{"$f":"'Student 1'!$O$31","v":"Points"},{"$f":"'Student 1'!$P$31","v":"%"},{"$f":"'Student 1'!$Q$31","v":"Attendance"},{"$f":"'Student 1'!$R$31","v":"Points"},{"$f":"'Student 1'!$S$31","v":"%"},{"$f":"'Student 1'!$T$31","v":"Points"},{"$f":"'Student 1'!$U$31","v":"%"},{"$f":"'Student 1'!$V$31","v":"%"},{"$f":"'Student 1'!$W$31","v":"Grade"}]
[{"$f":"'Course 3 Class'!$A$10","v":{"v":5,"d":"00000005"}},{"$f":"'Course 3 Class'!$B$10","v":"Student"},{"$f":"'Course 3 Class'!$C$10","v":"Five"},{"$f":"'Course 3 Class'!$D$10","v":0},{"$f":"'Course 3 Class'!$E$10","v":0},{"$f":"'Course 3 Class'!$F$10","v":0},{"$f":"'Course 3 Class'!$G$10","v":0},{"$f":"'Course 3 Class'!$H$10","v":0},{"$f":"'Course 3 Class'!$I$10","v":0},{"$f":"'Course 3 Class'!$J$10","v":0},{"$f":"'Course 3 Class'!$K$10","v":0},{"$f":"'Course 3 Class'!$L$10","v":0},{"$f":"'Course 3 Class'!$M$10","v":0},{"$f":"'Course 3 Class'!$N$10","v":0},{"$f":"'Course 3 Class'!$O$10","v":0},{"$f":"'Course 3 Class'!$P$10","v":{"v":0,"d":"0%"}},{"$f":"'Course 3 Class'!$Q$10","v":{"v":1,"d":"100%"}},{"$f":"'Course 3 Class'!$R$10","v":72},{"$f":"'Course 3 Class'!$S$10","v":{"v":1,"d":"100%"}},{"$f":"'Course 3 Class'!$T$10","v":0},{"$f":"'Course 3 Class'!$U$10","v":{"v":0,"d":"0%"}},{"$f":"'Course 3 Class'!$V$10","v":{"v":0.25,"d":"25%"}},{"$f":"'Course 3 Class'!$W$10","v":"F"}]
[{"$f":"'Student 1'!$A$33","v":"Course 3 Steering & Suspension. Lab"}]
[{"$f":"'Student 1'!$A$34","v":"Max shop points"},null,{"$f":"'Student 1'!$C$34","v":1350},{"$f":"'Student 1'!$D$34","v":"Repair"},{"$f":"'Student 1'!$E$34","v":"Identify"},{"$f":"'Student 1'!$F$34","v":"Repair"},{"$f":"'Student 1'!$G$34","v":"Identify"},{"$f":"'Student 1'!$H$34","v":"Repair"},{"$f":"'Student 1'!$I$34","v":"R&R"},{"$f":"'Student 1'!$J$34","v":"R&R"},{"$f":"'Student 1'!$K$34","v":"R&R"},{"$f":"'Student 1'!$L$34","v":"P/S"},{"$f":"'Student 1'!$M$34","v":"R&R"},{"$f":"'Student 1'!$N$34","v":"NVH"},{"$f":"'Student 1'!$O$34","v":" "}]
[{"$f":"'Student 1'!$A$35","v":"Max shop points available depend on how much customer work is done."},null,null,{"$f":"'Student 1'!$D$35","v":"SLA"},{"$f":"'Student 1'!$E$35","v":"SLA"},{"$f":"'Student 1'!$F$35","v":"Mac-P"},{"$f":"'Student 1'!$G$35","v":"Mac-P"},{"$f":"'Student 1'!$H$35","v":"Rear"},{"$f":"'Student 1'!$I$35","v":"Rack &"},{"$f":"'Student 1'!$J$35","v":"Recirc."},{"$f":"'Student 1'!$K$35","v":"P/S"},{"$f":"'Student 1'!$L$35","v":"Pump"},{"$f":"'Student 1'!$M$35","v":"Inner"},{"$f":"'Student 1'!$N$35","v":"Runout &"},{"$f":"'Student 1'!$O$35","v":"Cus"},{"$f":"'Student 1'!$P$35","v":"Comp"}]
[{"$nulls":3},{"$f":"'Student 1'!$D$36","v":"Susp"},{"$f":"'Student 1'!$E$36","v":"Parts"},{"$f":"'Student 1'!$F$36","v":"Susp"},{"$f":"'Student 1'!$G$36","v":"Parts"},{"$f":"'Student 1'!$H$36","v":"Susp"},{"$f":"'Student 1'!$I$36","v":"Pinion"},{"$f":"'Student 1'!$J$36","v":"Gear"},{"$f":"'Student 1'!$K$36","v":"Pump"},{"$f":"'Student 1'!$L$36","v":"Test"},{"$f":"'Student 1'!$M$36","v":"Tie-Rod"},{"$f":"'Student 1'!$N$36","v":"bal. Check"},{"$f":"'Student 1'!$O$36","v":"tomer"},{"$f":"'Student 1'!$P$36","v":"etency"},{"$f":"'Student 1'!$Q$36","v":" "},{"$f":"'Student 1'!$R$36","v":" "},null,null,{"$f":"'Student 1'!$U$36","v":"Final Grade"}]
[{"$nulls":3},{"$f":"'Student 1'!$D$37","v":1},{"$f":"'Student 1'!$E$37","v":2},{"$f":"'Student 1'!$F$37","v":3},{"$f":"'Student 1'!$G$37","v":2},{"$f":"'Student 1'!$H$37","v":1},{"$f":"'Student 1'!$I$37","v":1},{"$f":"'Student 1'!$J$37","v":1},{"$f":"'Student 1'!$K$37","v":1},{"$f":"'Student 1'!$L$37","v":1},{"$f":"'Student 1'!$M$37","v":1},{"$f":"'Student 1'!$N$37","v":1},{"$f":"'Student 1'!$O$37","v":"Work"},{"$f":"'Student 1'!$P$37","v":"0 or 1"},{"$f":"'Student 1'!$Q$37","v":"Lab"},{"$nulls":3},{"$f":"'Student 1'!$U$37","v":{"v":0,"d":"0%"}},{"$f":"'Student 1'!$V$37","v":"F"}]
[{"$f":"'Student 1'!$A$38","v":"ID"},{"$f":"'Student 1'!$B$38","v":"First:"},{"$f":"'Student 1'!$C$38","v":"Last:"},{"$f":"'Student 1'!$D$38","v":150},{"$f":"'Student 1'!$E$38","v":50},{"$f":"'Student 1'!$F$38","v":225},{"$f":"'Student 1'!$G$38","v":50},{"$f":"'Student 1'!$H$38","v":50},{"$f":"'Student 1'!$I$38","v":150},{"$f":"'Student 1'!$J$38","v":125},{"$f":"'Student 1'!$K$38","v":50},{"$f":"'Student 1'!$L$38","v":50},{"$f":"'Student 1'!$M$38","v":50},{"$f":"'Student 1'!$N$38","v":100},{"$f":"'Student 1'!$O$38","v":300},{"$f":"'Student 1'!$P$38","v":"*"},{"$f":"'Student 1'!$Q$38","v":"Points"},{"$f":"'Student 1'!$R$38","v":"%"},null,null,{"$f":"'Student 1'!$U$38","v":{"v":0.695,"d":"70%"}},{"$f":"'Student 1'!$V$38","v":"D-"}]
[{"$f":"'Course 3 Lab'!$A$11","v":{"v":5,"d":"00000005"}},{"$f":"'Course 3 Lab'!$B$11","v":"Student"},{"$f":"'Course 3 Lab'!$C$11","v":"Five"},{"$f":"'Course 3 Lab'!$D$11","v":0},{"$f":"'Course 3 Lab'!$E$11","v":0},{"$f":"'Course 3 Lab'!$F$11","v":0},{"$f":"'Course 3 Lab'!$G$11","v":0},{"$f":"'Course 3 Lab'!$H$11","v":0},{"$f":"'Course 3 Lab'!$I$11","v":0},{"$f":"'Course 3 Lab'!$J$11","v":0},{"$f":"'Course 3 Lab'!$K$11","v":0},{"$f":"'Course 3 Lab'!$L$11","v":0},{"$f":"'Course 3 Lab'!$M$11","v":0},{"$f":"'Course 3 Lab'!$N$11","v":0},{"$f":"'Course 3 Lab'!$O$11","v":0},{"$f":"'Course 3 Lab'!$P$11","v":1},{"$f":"'Course 3 Lab'!$Q$11","v":0},{"$f":"'Course 3 Lab'!$R$11","v":{"v":0,"d":"0%"}},null,null,{"$f":"'Student 1'!$U$39","v":{"v":0.715,"d":"72%"}},{"$f":"'Student 1'!$V$39","v":"D"}]
[{"$f":"'Student 1'!$A$40","v":"Course 4 Alignment. Class."},{"$nulls":7},{"$f":"'Student 1'!$I$40","v":25},{"$nulls":11},{"$f":"'Student 1'!$U$40","v":{"v":0.735,"d":"74%"}},{"$f":"'Student 1'!$V$40","v":"D+"}]
[{"$f":"'Student 1'!$A$41","v":" "},{"$f":"'Student 1'!$B$41","v":"Date assignment is due  "},null,{"$f":"'Student 1'!$D$41","v":"TBD"},{"$f":"'Student 1'!$E$41","v":"TBD"},{"$f":"'Student 1'!$F$41","v":"TBD"},{"$f":"'Student 1'!$G$41","v":"TBD"},{"$f":"'Student 1'!$H$41","v":"TBD"},{"$f":"'Student 1'!$I$41","v":"TBD"},{"$f":"'Student 1'!$J$41","v":"TBD"},{"$nulls":10},{"$f":"'Student 1'!$U$41","v":{"v":0.755,"d":"76%"}},{"$f":"'Student 1'!$V$41","v":"C-"}]
[{"$f":"'Student 1'!$A$42","v":"Class Room Points:"},null,{"$f":"'Student 1'!$C$42","v":235},{"$f":"'Student 1'!$D$42","v":25},{"$f":"'Student 1'!$E$42","v":25},{"$f":"'Student 1'!$F$42","v":20},{"$f":"'Student 1'!$G$42","v":40},{"$f":"'Student 1'!$H$42","v":50},{"$f":"'Student 1'!$I$42","v":" "},{"$f":"'Student 1'!$J$42","v":75},{"$f":"'Student 1'!$K$42","v":"Evaluation"},{"$nulls":9},{"$f":"'Student 1'!$U$42","v":{"v":0.785,"d":"79%"}},{"$f":"'Student 1'!$V$42","v":"C"}]
[{"$f":"'Student 1'!$A$43","v":"Red is late turn-in"},null,{"$f":"'Student 1'!$C$43","v":"Blue is absent"},{"$f":"'Student 1'!$D$43","v":"CH 16"},{"$f":"'Student 1'!$E$43","v":"CH 16"},{"$f":"'Student 1'!$F$43","v":"Align"},{"$f":"'Student 1'!$G$43","v":"In class"},{"$f":"'Student 1'!$H$43","v":"In class"},{"$f":"'Student 1'!$I$43","v":"Extra"},{"$f":"'Student 1'!$J$43","v":"Final"},{"$f":"'Student 1'!$K$43","v":"Class"},null,{"$f":"'Student 1'!$M$43","v":"Professionalism"},null,null,{"$f":"'Student 1'!$P$43","v":"Lab"},null,{"$f":"'Student 1'!$R$43","v":"Total  "},{"$f":"'Student 1'!$S$43","v":"Letter"},null,{"$f":"'Student 1'!$U$43","v":{"v":0.815,"d":"82%"}},{"$f":"'Student 1'!$V$43","v":"C+"}]
[{"$f":"'Student 1'!$A$44","v":"I D "},{"$f":"'Student 1'!$B$44","v":"First:"},{"$f":"'Student 1'!$C$44","v":"Last:"},{"$f":"'Student 1'!$D$44","v":"HW"},{"$f":"'Student 1'!$E$44","v":"Test"},{"$f":"'Student 1'!$F$44","v":"HW"},{"$f":"'Student 1'!$G$44","v":"Project1"},{"$f":"'Student 1'!$H$44","v":"Project2"},{"$f":"'Student 1'!$I$44","v":"Credit"},{"$f":"'Student 1'!$J$44","v":"Test"},{"$f":"'Student 1'!$K$44","v":"Points"},{"$f":"'Student 1'!$L$44","v":"%"},{"$f":"'Student 1'!$M$44","v":"Attendance"},{"$f":"'Student 1'!$N$44","v":"Points"},{"$f":"'Student 1'!$O$44","v":"%"},{"$f":"'Student 1'!$P$44","v":"Points"},{"$f":"'Student 1'!$Q$44","v":"%"},{"$f":"'Student 1'!$R$44","v":"%"},{"$f":"'Student 1'!$S$44","v":"Grade"},null,{"$f":"'Student 1'!$U$44","v":{"v":0.845,"d":"85%"}},{"$f":"'Student 1'!$V$44","v":"B-"}]
[{"$f":"'Course 4 Class'!$A$10","v":{"v":5,"d":"00000005"}},{"$f":"'Course 4 Class'!$B$10","v":"Student"},{"$f":"'Course 4 Class'!$C$10","v":"Five"},{"$f":"'Course 4 Class'!$D$10","v":0},{"$f":"'Course 4 Class'!$E$10","v":0},{"$f":"'Course 4 Class'!$F$10","v":0},{"$f":"'Course 4 Class'!$G$10","v":0},{"$f":"'Course 4 Class'!$H$10","v":0},{"$f":"'Course 4 Class'!$I$10","v":0},{"$f":"'Course 4 Class'!$J$10","v":0},{"$f":"'Course 4 Class'!$K$10","v":0},{"$f":"'Course 4 Class'!$L$10","v":{"v":0,"d":"0%"}},{"$f":"'Course 4 Class'!$M$10","v":{"v":1,"d":"100%"}},{"$f":"'Course 4 Class'!$N$10","v":72},{"$f":"'Course 4 Class'!$O$10","v":{"v":1,"d":"100%"}},{"$f":"'Course 4 Class'!$P$10","v":0},{"$f":"'Course 4 Class'!$Q$10","v":{"v":0,"d":"0%"}},{"$f":"'Course 4 Class'!$R$10","v":{"v":0.25,"d":"25%"}},{"$f":"'Course 4 Class'!$S$10","v":"F"},null,{"$f":"'Student 1'!$U$45","v":{"v":0.875,"d":"88%"}},{"$f":"'Student 1'!$V$45","v":"B"}]
[{"$f":"'Student 1'!$A$46","v":"Course 4 Alignment. Lab"},{"$nulls":19},{"$f":"'Student 1'!$U$46","v":{"v":0.895,"d":"90%"}},{"$f":"'Student 1'!$V$46","v":"B+"}]
[{"$f":"'Student 1'!$A$47","v":"Max Shop Points:"},null,{"$f":"'Student 1'!$C$47","v":1300},{"$f":"'Student 1'!$D$47","v":"Alignment"},{"$f":"'Student 1'!$E$47","v":"Complete"},{"$f":"'Student 1'!$F$47","v":"Cus"},{"$f":"'Student 1'!$G$47","v":" "},{"$nulls":13},{"$f":"'Student 1'!$U$47","v":{"v":0.925,"d":"93%"}},{"$f":"'Student 1'!$V$47","v":"A-"}]
[{"$f":"'Student 1'!$A$48","v":"Max shop points available depend on how much customer work is done."},null,null,{"$f":"'Student 1'!$D$48","v":"Pre-check"},{"$f":"'Student 1'!$E$48","v":"Wheel"},{"$f":"'Student 1'!$F$48","v":"tomer"},{"$f":"'Student 1'!$G$48","v":"Comp"},{"$nulls":13},{"$f":"'Student 1'!$U$48","v":{"v":0.945,"d":"95%"}},{"$f":"'Student 1'!$V$48","v":"A"}]
[{"$nulls":3},{"$f":"'Student 1'!$D$49","v":"100 P"},{"$f":"'Student 1'!$E$49","v":"Alignment"},{"$f":"'Student 1'!$F$49","v":"Work"},{"$f":"'Student 1'!$G$49","v":"etency"},{"$f":"'Student 1'!$H$49","v":" "},{"$f":"'Student 1'!$I$49","v":" "},{"$nulls":11},{"$f":"'Student 1'!$U$49","v":{"v":1,"d":"100%"}},{"$f":"'Student 1'!$V$49","v":"A"}]
[{"$nulls":3},{"$f":"'Student 1'!$D$50","v":1},{"$f":"'Student 1'!$E$50","v":1},{"$f":"'Student 1'!$F$50","v":" "},{"$f":"'Student 1'!$G$50","v":"0 or 1"},{"$f":"'Student 1'!$H$50","v":"Lab"}]
[{"$f":"'Student 1'!$A$51","v":"ID"},{"$f":"'Student 1'!$B$51","v":"First:"},{"$f":"'Student 1'!$C$51","v":"Last:"},{"$f":"'Student 1'!$D$51","v":100},{"$f":"'Student 1'!$E$51","v":900},{"$f":"'Student 1'!$F$51","v":300},{"$f":"'Student 1'!$G$51","v":"*"},{"$f":"'Student 1'!$H$51","v":"Points"},{"$f":"'Student 1'!$I$51","v":"%"}]
[{"$f":"'Course 4 Lab'!$A$11","v":{"v":5,"d":"00000005"}},{"$f":"'Course 4 Lab'!$B$11","v":"Student"},{"$f":"'Course 4 Lab'!$C$11","v":"Five"},{"$f":"'Course 4 Lab'!$D$11","v":0},{"$f":"'Course 4 Lab'!$E$11","v":0},{"$f":"'Course 4 Lab'!$F$11","v":0},{"$f":"'Course 4 Lab'!$G$11","v":1},{"$f":"'Course 4 Lab'!$H$11","v":0},{"$f":"'Course 4 Lab'!$I$11","v":{"v":0,"d":"0%"}}]
[{"$f":"'Student 1'!$A$53","v":"Course 5 Brake Systems. Class."},{"$nulls":10},{"$f":"'Student 1'!$L$53","v":35}]
[{"$f":"'Student 1'!$A$54","v":"Date assignment is due:"},null,{"$f":"'Student 1'!$C$54","v":" "},{"$f":"'Student 1'!$D$54","v":"TBD"},{"$f":"'Student 1'!$E$54","v":"TBD"},{"$f":"'Student 1'!$F$54","v":"TBD"},{"$f":"'Student 1'!$G$54","v":"TBD"},{"$f":"'Student 1'!$H$54","v":"TBD"},{"$f":"'Student 1'!$I$54","v":"TBD"},{"$f":"'Student 1'!$J$54","v":"TBD"},{"$f":"'Student 1'!$K$54","v":"TBD"},{"$f":"'Student 1'!$L$54","v":"TBD"},{"$f":"'Student 1'!$M$54","v":"TBD"}]
[{"$f":"'Student 1'!$A$55","v":"Class Room Points:"},null,{"$f":"'Student 1'!$C$55","v":440},{"$f":"'Student 1'!$D$55","v":30},{"$f":"'Student 1'!$E$55","v":25},{"$f":"'Student 1'!$F$55","v":100},{"$f":"'Student 1'!$G$55","v":30},{"$f":"'Student 1'!$H$55","v":50},{"$f":"'Student 1'!$I$55","v":30},{"$f":"'Student 1'!$J$55","v":25},{"$f":"'Student 1'!$K$55","v":50},{"$f":"'Student 1'!$L$55","v":" "},{"$f":"'Student 1'!$M$55","v":100},{"$f":"'Student 1'!$N$55","v":"Evaluation"}]
[{"$f":"'Student 1'!$A$56","v":"Red is late turn-in"},null,{"$f":"'Student 1'!$C$56","v":"Blue is absent"},{"$f":"'Student 1'!$D$56","v":"HW"},{"$f":"'Student 1'!$E$56","v":"HW"},{"$f":"'Student 1'!$F$56","v":"Test"},{"$f":"'Student 1'!$G$56","v":"HW"},{"$f":"'Student 1'!$H$56","v":"Test"},{"$f":"'Student 1'!$I$56","v":"HW"},{"$f":"'Student 1'!$J$56","v":"Test"},{"$f":"'Student 1'!$K$56","v":"Class"},{"$f":"'Student 1'!$L$56","v":"Extra"},{"$f":"'Student 1'!$M$56","v":"Final"},{"$f":"'Student 1'!$N$56","v":"Class"},null,{"$f":"'Student 1'!$P$56","v":"Professionalism"},null,null,{"$f":"'Student 1'!$S$56","v":"Lab"},null,{"$f":"'Student 1'!$U$56","v":"Total  "},{"$f":"'Student 1'!$V$56","v":"Letter"}]
[{"$f":"'Student 1'!$A$57","v":"I D "},{"$f":"'Student 1'!$B$57","v":"First:"},{"$f":"'Student 1'!$C$57","v":"Last:"},{"$f":"'Student 1'!$D$57","v":"CH 4"},{"$f":"'Student 1'!$E$57","v":"CH 5"},{"$f":"'Student 1'!$F$57","v":"#1"},{"$f":"'Student 1'!$G$57","v":"CH 7"},{"$f":"'Student 1'!$H$57","v":"Conv"},{"$f":"'Student 1'!$I$57","v":"CH 20"},{"$f":"'Student 1'!$J$57","v":"21/22"},{"$f":"'Student 1'!$K$57","v":"Project"},{"$f":"'Student 1'!$L$57","v":"Credit"},{"$f":"'Student 1'!$M$57","v":"Test"},{"$f":"'Student 1'!$N$57","v":"Points"},{"$f":"'Student 1'!$O$57","v":"%"},{"$f":"'Student 1'!$P$57","v":"Attendance"},{"$f":"'Student 1'!$Q$57","v":"Points"},{"$f":"'Student 1'!$R$57","v":"%"},{"$f":"'Student 1'!$S$57","v":"Points"},{"$f":"'Student 1'!$T$57","v":"%"},{"$f":"'Student 1'!$U$57","v":"%"},{"$f":"'Student 1'!$V$57","v":"Grade"}]
[{"$f":"'Course 5 Class'!$A$10","v":{"v":5,"d":"00000005"}},{"$f":"'Course 5 Class'!$B$10","v":"Student"},{"$f":"'Course 5 Class'!$C$10","v":"Five"},{"$f":"'Course 5 Class'!$D$10","v":0},{"$f":"'Course 5 Class'!$E$10","v":0},{"$f":"'Course 5 Class'!$F$10","v":0},{"$f":"'Course 5 Class'!$G$10","v":0},{"$f":"'Course 5 Class'!$H$10","v":0},{"$f":"'Course 5 Class'!$I$10","v":0},{"$f":"'Course 5 Class'!$J$10","v":0},{"$f":"'Course 5 Class'!$K$10","v":0},{"$f":"'Course 5 Class'!$L$10","v":0},{"$f":"'Course 5 Class'!$M$10","v":0},{"$f":"'Course 5 Class'!$N$10","v":0},{"$f":"'Course 5 Class'!$O$10","v":{"v":0,"d":"0%"}},{"$f":"'Course 5 Class'!$P$10","v":{"v":1,"d":"100%"}},{"$f":"'Course 5 Class'!$Q$10","v":72},{"$f":"'Course 5 Class'!$R$10","v":{"v":1,"d":"100%"}},{"$f":"'Course 5 Class'!$S$10","v":0},{"$f":"'Course 5 Class'!$T$10","v":{"v":0,"d":"0%"}},{"$f":"'Course 5 Class'!$U$10","v":{"v":0.25,"d":"25%"}},{"$f":"'Course 5 Class'!$V$10","v":"F"}]
[{"$f":"'Student 1'!$A$59","v":"Course 5 Brake Systems. Lab"}]
[{"$f":"'Student 1'!$A$60","v":"  Max Shop Points:"},null,{"$f":"'Student 1'!$C$60","v":970},{"$f":"'Student 1'!$D$60","v":"Drum"},{"$f":"'Student 1'!$E$60","v":"Drum "},{"$f":"'Student 1'!$F$60","v":"Disc"},{"$f":"'Student 1'!$G$60","v":"On Car"},{"$f":"'Student 1'!$H$60","v":"Off Car"},{"$f":"'Student 1'!$I$60","v":"Wheel"},{"$f":"'Student 1'!$J$60","v":"Hydr."},{"$f":"'Student 1'!$K$60","v":"Vacuum"},{"$f":"'Student 1'!$L$60","v":"Warning"},{"$f":"'Student 1'!$M$60","v":"Brake"},{"$f":"'Student 1'!$N$60","v":"Brake"},{"$f":"'Student 1'!$O$60","v":"Dodge"},{"$f":"'Student 1'!$P$60","v":"Ford"},{"$f":"'Student 1'!$Q$60","v":"GM"},{"$f":"'Student 1'!$R$60","v":"Cus"},{"$f":"'Student 1'!$S$60","v":"Brake"}]
[{"$f":"'Student 1'!$A$61","v":"Max shop points available depend on how much customer work is done."},null,null,{"$f":"'Student 1'!$D$61","v":"Brake"},{"$f":"'Student 1'!$E$61","v":"Brake "},{"$f":"'Student 1'!$F$61","v":"Brake"},{"$f":"'Student 1'!$G$61","v":"Disc"},{"$f":"'Student 1'!$H$61","v":"Disc"},{"$f":"'Student 1'!$I$61","v":"Bearing"},{"$f":"'Student 1'!$J$61","v":"Line"},{"$f":"'Student 1'!$K$61","v":"Booster"},{"$f":"'Student 1'!$L$61","v":"Light"},{"$f":"'Student 1'!$M$61","v":"System"},{"$f":"'Student 1'!$N$61","v":"Valves"},{"$f":"'Student 1'!$O$61","v":"Anti"},{"$f":"'Student 1'!$P$61","v":"Anti"},{"$f":"'Student 1'!$Q$61","v":"Anti"},{"$f":"'Student 1'!$R$61","v":"tomer"},{"$f":"'Student 1'!$S$61","v":"Comp"}]
[{"$nulls":3},{"$f":"'Student 1'!$D$62","v":"Job"},{"$f":"'Student 1'!$E$62","v":"Mach."},{"$f":"'Student 1'!$F$62","v":"Job"},{"$f":"'Student 1'!$G$62","v":"Mach."},{"$f":"'Student 1'!$H$62","v":"Mach."},{"$f":"'Student 1'!$I$62","v":"Service"},{"$f":"'Student 1'!$J$62","v":"Repair"},{"$f":"'Student 1'!$K$62","v":"Service"},{"$f":"'Student 1'!$L$62","v":"Service"},{"$f":"'Student 1'!$M$62","v":"Bleed"},{"$f":"'Student 1'!$N$62","v":"Check"},{"$f":"'Student 1'!$O$62","v":"Lock"},{"$f":"'Student 1'!$P$62","v":"Lock"},{"$f":"'Student 1'!$Q$62","v":"Lock"},{"$f":"'Student 1'!$R$62","v":"Work"},{"$f":"'Student 1'!$S$62","v":"etency"}]
[{"$nulls":3},{"$f":"'Student 1'!$D$63","v":2},{"$f":"'Student 1'!$E$63","v":2},{"$f":"'Student 1'!$F$63","v":2},{"$f":"'Student 1'!$G$63","v":2},{"$f":"'Student 1'!$H$63","v":2},{"$f":"'Student 1'!$I$63","v":1},{"$f":"'Student 1'!$J$63","v":1},{"$f":"'Student 1'!$K$63","v":2},{"$f":"'Student 1'!$L$63","v":2},{"$f":"'Student 1'!$M$63","v":4},{"$f":"'Student 1'!$N$63","v":1},{"$f":"'Student 1'!$O$63","v":1},{"$f":"'Student 1'!$P$63","v":1},{"$f":"'Student 1'!$Q$63","v":1},{"$f":"'Student 1'!$R$63","v":" "},{"$f":"'Student 1'!$S$63","v":"Required"},{"$f":"'Student 1'!$T$63","v":"Lab"}]
[{"$f":"'Student 1'!$A$64","v":"ID"},{"$f":"'Student 1'!$B$64","v":"First:"},{"$f":"'Student 1'!$C$64","v":"Last:"},{"$f":"'Student 1'!$D$64","v":150},{"$f":"'Student 1'!$E$64","v":40},{"$f":"'Student 1'!$F$64","v":150},{"$f":"'Student 1'!$G$64","v":80},{"$f":"'Student 1'!$H$64","v":40},{"$f":"'Student 1'!$I$64","v":50},{"$f":"'Student 1'!$J$64","v":30},{"$f":"'Student 1'!$K$64","v":30},{"$f":"'Student 1'!$L$64","v":40},{"$f":"'Student 1'!$M$64","v":80},{"$f":"'Student 1'!$N$64","v":40},{"$f":"'Student 1'!$O$64","v":80},{"$f":"'Student 1'!$P$64","v":80},{"$f":"'Student 1'!$Q$64","v":80},{"$f":"'Student 1'!$R$64","v":300},{"$f":"'Student 1'!$S$64","v":"*"},{"$f":"'Student 1'!$T$64","v":"Points"},{"$f":"'Student 1'!$U$64","v":"%"}]
[{"$f":"'Course 5 Lab'!$A$11","v":{"v":5,"d":"00000005"}},{"$f":"'Course 5 Lab'!$B$11","v":"Student"},{"$f":"'Course 5 Lab'!$C$11","v":"Five"},{"$f":"'Course 5 Lab'!$D$11","v":0},{"$f":"'Course 5 Lab'!$E$11","v":0},{"$f":"'Course 5 Lab'!$F$11","v":0},{"$f":"'Course 5 Lab'!$G$11","v":0},{"$f":"'Course 5 Lab'!$H$11","v":0},{"$f":"'Course 5 Lab'!$I$11","v":0},{"$f":"'Course 5 Lab'!$J$11","v":0},{"$f":"'Course 5 Lab'!$K$11","v":0},{"$f":"'Course 5 Lab'!$L$11","v":0},{"$f":"'Course 5 Lab'!$M$11","v":0},{"$f":"'Course 5 Lab'!$N$11","v":0},{"$f":"'Course 5 Lab'!$O$11","v":0},{"$f":"'Course 5 Lab'!$P$11","v":0},{"$f":"'Course 5 Lab'!$Q$11","v":0},{"$f":"'Course 5 Lab'!$R$11","v":0},{"$f":"'Course 5 Lab'!$S$11","v":1},{"$f":"'Course 5 Lab'!$T$11","v":0},{"$f":"'Course 5 Lab'!$U$11","v":{"v":0,"d":"0%"}}]

{"sheet":"Student 6","index":19,"n_rows":65,"n_cols":23,"rows_kept":65,"merged":[[0,0,0,2],[1,0,1,2],[2,0,2,1],[2,9,2,17],[3,0,3,1],[3,9,3,10],[3,11,3,13],[3,14,3,15],[6,0,6,2],[7,0,7,1],[8,0,10,2],[10,16,10,17],[13,0,13,2],[14,1,14,2],[15,0,15,1],[15,11,15,19],[16,0,16,1],[16,11,16,12],[16,13,16,15],[16,16,16,17],[19,0,19,2],[20,0,20,1],[21,0,23,2],[23,13,23,14],[26,0,26,2],[27,1,27,2],[28,0,28,1],[28,14,28,22],[29,0,29,1],[29,14,29,15],[29,16,29,18],[29,19,29,20],[32,0,32,2],[33,0,33,1],[34,0,36,2],[35,20,35,21],[36,16,36,17],[39,0,39,2],[40,1,40,2],[41,0,41,1],[41,10,41,18],[42,0,42,1],[42,10,42,11],[42,12,42,14],[42,15,42,16],[45,0,45,2],[46,0,46,1],[47,0,49,2],[49,7,49,8],[52,0,52,2],[53,0,53,2],[54,0,54,1],[54,13,54,21],[55,0,55,1],[55,13,55,14],[55,15,55,17],[55,18,55,19],[58,0,58,2],[59,0,59,1],[60,0,62,2],[62,19,62,20]]}
[{"$f":"'Student 1'!$A$1","v":"Course 1 Engine Diagnosis. Class"},{"$nulls":6},{"$f":"'Student 1'!$H$1","v":25}]
[{"$f":"'Student 1'!$A$2","v":"Date assignment is due"},null,{"$f":"'Student 1'!$C$2","v":" "},{"$f":"'Student 1'!$D$2","v":"TBD"},{"$f":"'Student 1'!$E$2","v":"TBD"},{"$f":"'Student 1'!$F$2","v":"TBD"},{"$f":"'Student 1'!$G$2","v":"TBD"},{"$f":"'Student 1'!$H$2","v":"TBD"},{"$f":"'Student 1'!$I$2","v":"TBD"}]
[{"$f":"'Student 1'!$A$3","v":"Class Room Points:"},null,{"$f":"'Student 1'!$C$3","v":160},{"$f":"'Student 1'!$D$3","v":20},{"$f":"'Student 1'!$E$3","v":20},{"$f":"'Student 1'!$F$3","v":20},{"$f":"'Student 1'!$G$3","v":25},{"$f":"'Student 1'!$H$3","v":" "},{"$f":"'Student 1'!$I$3","v":75},{"$f":"'Student 1'!$J$3","v":"Evaluation"}]
[{"$f":"'Student 1'!$A$4","v":"Red is late turn-in"},null,{"$f":"'Student 1'!$C$4","v":"Blue is absent"},{"$f":"'Student 1'!$D$4","v":"CH 13 "},{"$f":"'Student 1'!$E$4","v":"Lube"},{"$f":"'Student 1'!$F$4","v":"Lube"},{"$f":"'Student 1'!$G$4","v":"Condition"},{"$f":"'Student 1'!$H$4","v":"Extra"},{"$f":"'Student 1'!$I$4","v":"Final"},{"$f":"'Student 1'!$J$4","v":"Classroom"},null,{"$f":"'Student 1'!$L$4","v":"Professionalism"},null,null,{"$f":"'Student 1'!$O$4","v":"Lab"},null,{"$f":"'Student 1'!$Q$4","v":"Total  "},{"$f":"'Student 1'!$R$4","v":"Letter"}]
[{"$f":"'Student 1'!$A$5","v":"I D "},{"$f":"'Student 1'!$B$5","v":"First:"},{"$f":"'Student 1'!$C$5","v":"Last:"},{"$f":"'Student 1'!$D$5","v":"Test"},{"$f":"'Student 1'!$E$5","v":"HW"},{"$f":"'Student 1'!$F$5","v":"Test"},{"$f":"'Student 1'!$G$5","v":"Class"},{"$f":"'Student 1'!$H$5","v":"Credit"},{"$f":"'Student 1'!$I$5","v":"Test"},{"$f":"'Student 1'!$J$5","v":"Points"},{"$f":"'Student 1'!$K$5","v":"%"},{"$f":"'Student 1'!$L$5","v":"Attendance"},{"$f":"'Student 1'!$M$5","v":"Points"},{"$f":"'Student 1'!$N$5","v":"%"},{"$f":"'Student 1'!$O$5","v":"Points"},{"$f":"'Student 1'!$P$5","v":"%"},{"$f":"'Student 1'!$Q$5","v":"%"},{"$f":"'Student 1'!$R$5","v":"Grade"}]
[{"$f":"'Course 1 Class'!$A$11","v":{"v":6,"d":"00000006"}},{"$f":"'Course 1 Class'!$B$11","v":"Student"},{"$f":"'Course 1 Class'!$C$11","v":"Six"},{"$f":"'Course 1 Class'!$D$11","v":0},{"$f":"'Course 1 Class'!$E$11","v":0},{"$f":"'Course 1 Class'!$F$11","v":0},{"$f":"'Course 1 Class'!$G$11","v":0},{"$f":"'Course 1 Class'!$H$11","v":0},{"$f":"'Course 1 Class'!$I$11","v":0},{"$f":"'Course 1 Class'!$J$11","v":0},{"$f":"'Course 1 Class'!$K$11","v":{"v":0,"d":"0%"}},{"$f":"'Course 1 Class'!$L$11","v":{"v":1,"d":"100%"}},{"$f":"'Course 1 Class'!$M$11","v":72},{"$f":"'Course 1 Class'!$N$11","v":{"v":1,"d":"100%"}},{"$f":"'Course 1 Class'!$O$11","v":0},{"$f":"'Course 1 Class'!$P$11","v":{"v":0,"d":"0%"}},{"$f":"'Course 1 Class'!$Q$11","v":{"v":0.25,"d":"25%"}},{"$f":"'Course 1 Class'!$R$11","v":"F"}]
[{"$f":"'Student 1'!$A$7","v":"Course 1 Engine Diagnosis. Lab"}]
[{"$f":"'Student 1'!$A$8","v":"  Max Shop Points:"},null,{"$f":"'Student 1'!$C$8","v":1325},{"$f":"'Student 1'!$D$8","v":"Dry"},{"$f":"'Student 1'!$E$8","v":"Wet"},{"$f":"'Student 1'!$F$8","v":"Running"},{"$f":"'Student 1'!$G$8","v":"Cylinder"},{"$f":"'Student 1'!$H$8","v":"Oil"},{"$f":"'Student 1'!$I$8","v":"Cooling"},{"$f":"'Student 1'!$J$8","v":"Vacuum"},{"$f":"'Student 1'!$K$8","v":"PCV"},{"$f":"'Student 1'!$L$8","v":"Thermostat"},{"$f":"'Student 1'!$M$8","v":"Fluid"},{"$f":"'Student 1'!$N$8","v":"Diag"},{"$f":"'Student 1'!$O$8","v":" "}]
[{"$f":"'Student 1'!$A$9","v":"Max shop points available depend on how much customer work is done."},null,null,{"$f":"'Student 1'!$D$9","v":"Compr"},{"$f":"'Student 1'!$E$9","v":"Compr"},{"$f":"'Student 1'!$F$9","v":"Compr"},{"$f":"'Student 1'!$G$9","v":"Leakage"},{"$f":"'Student 1'!$H$9","v":"Pressure"},{"$f":"'Student 1'!$I$9","v":"System"},{"$f":"'Student 1'!$J$9","v":"Gauge"},{"$f":"'Student 1'!$K$9","v":"System"},{"$f":"'Student 1'!$L$9","v":"and fan"},{"$f":"'Student 1'!$M$9","v":"Leak"},{"$f":"'Student 1'!$N$9","v":"gauges"},{"$f":"'Student 1'!$O$9","v":"Cus"},{"$f":"'Student 1'!$P$9","v":"Comp"}]
[{"$nulls":3},{"$f":"'Student 1'!$D$10","v":"Test"},{"$f":"'Student 1'!$E$10","v":"Test"},{"$f":"'Student 1'!$F$10","v":"Test"},{"$f":"'Student 1'!$G$10","v":"Test"},{"$f":"'Student 1'!$H$10","v":"Test"},{"$f":"'Student 1'!$I$10","v":"Test"},{"$f":"'Student 1'!$J$10","v":"Test"},{"$f":"'Student 1'!$K$10","v":"Check"},{"$f":"'Student 1'!$L$10","v":"Operation"},{"$f":"'Student 1'!$M$10","v":"Check"},{"$f":"'Student 1'!$N$10","v":"any vehicle"},{"$f":"'Student 1'!$O$10","v":"tomer"},{"$f":"'Student 1'!$P$10","v":"etency"},{"$f":"'Student 1'!$Q$10","v":"  "},{"$f":"'Student 1'!$R$10","v":" "}]
[{"$nulls":3},{"$f":"'Student 1'!$D$11","v":2},{"$f":"'Student 1'!$E$11","v":2},{"$f":"'Student 1'!$F$11","v":2},{"$f":"'Student 1'!$G$11","v":2},{"$f":"'Student 1'!$H$11","v":2},{"$f":"'Student 1'!$I$11","v":2},{"$f":"'Student 1'!$J$11","v":2},{"$f":"'Student 1'!$K$11","v":2},{"$f":"'Student 1'!$L$11","v":2},{"$f":"'Student 1'!$M$11","v":1},{"$f":"'Student 1'!$N$11","v":1},{"$f":"'Student 1'!$O$11","v":"Work"},{"$f":"'Student 1'!$P$11","v":"0 or 1"},{"$f":"'Student 1'!$Q$11","v":"Lab"}]
[{"$f":"'Student 1'!$A$12","v":"ID"},{"$f":"'Student 1'!$B$12","v":"First:"},{"$f":"'Student 1'!$C$12","v":"Last:"},{"$f":"'Student 1'!$D$12","v":100},{"$f":"'Student 1'!$E$12","v":100},{"$f":"'Student 1'!$F$12","v":100},{"$f":"'Student 1'!$G$12","v":100},{"$f":"'Student 1'!$H$12","v":100},{"$f":"'Student 1'!$I$12","v":150},{"$f":"'Student 1'!$J$12","v":100},{"$f":"'Student 1'!$K$12","v":50},{"$f":"'Student 1'!$L$12","v":100},{"$f":"'Student 1'!$M$12","v":25},{"$f":"'Student 1'!$N$12","v":100},{"$f":"'Student 1'!$O$12","v":300},{"$f":"'Student 1'!$P$12","v":"*"},{"$f":"'Student 1'!$Q$12","v":"Points"},{"$f":"'Student 1'!$R$12","v":"%"}]
[{"$f":"'Course 2 Lab'!$A$12","v":{"v":6,"d":"00000006"}},{"$f":"'Course 2 Lab'!$B$12","v":"Student"},{"$f":"'Course 2 Lab'!$C$12","v":"Six"},{"$f":"'Course 2 Lab'!$D$12","v":0},{"$f":"'Course 2 Lab'!$E$12","v":0},{"$f":"'Course 2 Lab'!$F$12","v":0},{"$f":"'Course 2 Lab'!$G$12","v":0},{"$f":"'Course 2 Lab'!$H$12","v":0},{"$f":"'Course 2 Lab'!$I$12","v":0},{"$f":"'Course 2 Lab'!$J$12","v":0},{"$f":"'Course 2 Lab'!$K$12","v":0},{"$f":"'Course 2 Lab'!$L$12","v":0},{"$f":"'Course 2 Lab'!$M$12","v":1},{"$f":"'Course 2 Lab'!$N$12","v":0},{"$f":"'Course 2 Lab'!$O$12","v":0},{"$f":"'Student 1'!$P$13","v":1},{"$f":"'Student 1'!$Q$13","v":0},{"$f":"'Student 1'!$R$13","v":{"v":0,"d":"0%"}}]
[{"$f":"'Student 1'!$A$14","v":"Course 2 Engine Theory & Repair. Class"},{"$nulls":8},{"$f":"'Student 1'!$J$14","v":25}]
[{"$f":"'Student 1'!$A$15","v":" "},{"$f":"'Student 1'!$B$15","v":"Date assignment is due:"},null,{"$f":"'Student 1'!$D$15","v":"TBD"},{"$f":"'Student 1'!$E$15","v":"TBD"},{"$f":"'Student 1'!$F$15","v":"TBD"},{"$f":"'Student 1'!$G$15","v":"TBD"},{"$f":"'Student 1'!$H$15","v":"TBD"},{"$f":"'Student 1'!$I$15","v":"TBD"},{"$f":"'Student 1'!$J$15","v":"TBD"},{"$f":"'Student 1'!$K$15","v":"TBD"}]
[{"$f":"'Student 1'!$A$16","v":"Class Room Points:"},null,{"$f":"'Student 1'!$C$16","v":201},{"$f":"'Student 1'!$D$16","v":10},{"$f":"'Student 1'!$E$16","v":10},{"$f":"'Student 1'!$F$16","v":20},{"$f":"'Student 1'!$G$16","v":20},{"$f":"'Student 1'!$H$16","v":16},{"$f":"'Student 1'!$I$16","v":25},{"$f":"'Student 1'!$J$16","v":" "},{"$f":"'Student 1'!$K$16","v":100},{"$f":"'Student 1'!$L$16","v":"Evaluation"}]
[{"$f":"'Student 1'!$A$17","v":"Red is late turn-in"},null,{"$f":"'Student 1'!$C$17","v":"Blue is absent"},{"$f":"'Student 1'!$D$17","v":"HW"},{"$f":"'Student 1'!$E$17","v":"HW "},{"$f":"'Student 1'!$F$17","v":"Test"},{"$f":"'Student 1'!$G$17","v":"Test"},{"$f":"'Student 1'!$H$17","v":"HW"},{"$f":"'Student 1'!$I$17","v":"Test"},{"$f":"'Student 1'!$J$17","v":"Extra"},{"$f":"'Student 1'!$K$17","v":"Final "},{"$f":"'Student 1'!$L$17","v":"Class"},null,{"$f":"'Student 1'!$N$17","v":"Professionalism"},null,null,{"$f":"'Student 1'!$Q$17","v":"Lab"},null,{"$f":"'Student 1'!$S$17","v":"Total  "},{"$f":"'Student 1'!$T$17","v":"Letter"}]
[{"$f":"'Student 1'!$A$18","v":"I D "},{"$f":"'Student 1'!$B$18","v":"First:"},{"$f":"'Student 1'!$C$18","v":"Last:"},{"$f":"'Student 1'!$D$18","v":"CH 7"},{"$f":"'Student 1'!$E$18","v":"CH 14"},{"$f":"'Student 1'!$F$18","v":"C & L"},{"$f":"'Student 1'!$G$18","v":"CH 18"},{"$f":"'Student 1'!$H$18","v":"CH 22"},{"$f":"'Student 1'!$I$18","v":"CH 22"},{"$f":"'Student 1'!$J$18","v":"Credit"},{"$f":"'Student 1'!$K$18","v":"TEST"},{"$f":"'Student 1'!$L$18","v":"Points"},{"$f":"'Student 1'!$M$18","v":"%"},{"$f":"'Student 1'!$N$18","v":"Attendance"},{"$f":"'Student 1'!$O$18","v":"Points"},{"$f":"'Student 1'!$P$18","v":"%"},{"$f":"'Student 1'!$Q$18","v":"Points"},{"$f":"'Student 1'!$R$18","v":"%"},{"$f":"'Student 1'!$S$18","v":"%"},{"$f":"'Student 1'!$T$18","v":"Grade"}]
[{"$f":"'Course 2 Class'!$A$11","v":{"v":6,"d":"00000006"}},{"$f":"'Course 2 Class'!$B$11","v":"Student"},{"$f":"'Course 2 Class'!$C$11","v":"Six"},{"$f":"'Course 2 Class'!$D$11","v":0},{"$f":"'Course 2 Class'!$E$11","v":0},{"$f":"'Course 2 Class'!$F$11","v":0},{"$f":"'Course 2 Class'!$G$11","v":0},{"$f":"'Course 2 Class'!$H$11","v":0},{"$f":"'Course 2 Class'!$I$11","v":0},{"$f":"'Course 2 Class'!$J$11","v":0},{"$f":"'Course 2 Class'!$K$11","v":0},{"$f":"'Course 2 Class'!$L$11","v":0},{"$f":"'Course 2 Class'!$M$11","v":{"v":0,"d":"0%"}},{"$f":"'Course 2 Class'!$N$11","v":{"v":1,"d":"100%"}},{"$f":"'Course 2 Class'!$O$11","v":72},{"$f":"'Course 2 Class'!$P$11","v":{"v":1,"d":"100%"}},{"$f":"'Course 2 Class'!$Q$11","v":0},{"$f":"'Course 2 Class'!$R$11","v":{"v":0,"d":"0%"}},{"$f":"'Course 2 Class'!$S$11","v":{"v":0.25,"d":"25%"}},{"$f":"'Course 2 Class'!$T$11","v":"F"}]
[{"$f":"'Student 1'!$A$20","v":"Course 2 Engine Theory & Repair. Lab"}]
[{"$f":"'Student 1'!$A$21","v":"  Max Shop Points:"},null,{"$f":"'Student 1'!$C$21","v":1450},{"$f":"'Student 1'!$D$21","v":"Engine"},{"$f":"'Student 1'!$E$21","v":"Cylinder"},{"$f":"'Student 1'!$F$21","v":"Red"},{"$f":"'Student 1'!$G$21","v":"Mitsubishi"},{"$f":"'Student 1'!$H$21","v":"Any"},{"$f":"'Student 1'!$I$21","v":"DOHC"},{"$f":"'Student 1'!$J$21","v":"Valve seal"},{"$f":"'Student 1'!$K$21","v":"Misc."},{"$f":"'Student 1'!$L$21","v":" "}]
[{"$f":"'Student 1'!$A$22","v":"Max shop points available depend on how much customer work is done."},null,null,{"$f":"'Student 1'!$D$22","v":"Disassemble"},{"$f":"'Student 1'!$E$22","v":"Head"},{"$f":"'Student 1'!$F$22","v":"Dodge"},{"$f":"'Student 1'!$G$22","v":"\"3.0L\""},{"$f":"'Student 1'!$H$22","v":"Engine"},{"$f":"'Student 1'!$I$22","v":"Engine"},{"$f":"'Student 1'!$J$22","v":"&"},{"$f":"'Student 1'!$K$22","v":"Engine "},{"$f":"'Student 1'!$L$22","v":"Cus"},{"$f":"'Student 1'!$M$22","v":"Comp"}]
[{"$nulls":3},{"$f":"'Student 1'!$D$23","v":"& Measure"},{"$f":"'Student 1'!$E$23","v":"Repair"},{"$f":"'Student 1'!$F$23","v":"Clip"},{"$f":"'Student 1'!$G$23","v":"Clip"},{"$f":"'Student 1'!$H$23","v":"T-chain"},{"$f":"'Student 1'!$I$23","v":" Stand"},{"$f":"'Student 1'!$J$23","v":"Lobe lift"},{"$f":"'Student 1'!$K$23","v":"Points"},{"$f":"'Student 1'!$L$23","v":"tomer"},{"$f":"'Student 1'!$M$23","v":"etency"},{"$f":"'Student 1'!$N$23","v":" "},{"$f":"'Student 1'!$O$23","v":" "}]
[{"$nulls":3},{"$f":"'Student 1'!$D$24","v":1},{"$f":"'Student 1'!$E$24","v":1},{"$f":"'Student 1'!$F$24","v":1},{"$f":"'Student 1'!$G$24","v":1},{"$f":"'Student 1'!$H$24","v":1},{"$f":"'Student 1'!$I$24","v":1},{"$f":"'Student 1'!$J$24","v":1},null,{"$f":"'Student 1'!$L$24","v":"Work"},{"$f":"'Student 1'!$M$24","v":"0 or 1"},{"$f":"'Student 1'!$N$24","v":"Lab"}]
[{"$f":"'Student 1'!$A$25","v":"ID"},{"$f":"'Student 1'!$B$25","v":"First:"},{"$f":"'Student 1'!$C$25","v":"Last:"},{"$f":"'Student 1'!$D$25","v":300},{"$f":"'Student 1'!$E$25","v":200},{"$f":"'Student 1'!$F$25","v":100},{"$f":"'Student 1'!$G$25","v":100},{"$f":"'Student 1'!$H$25","v":100},{"$f":"'Student 1'!$I$25","v":100},{"$f":"'Student 1'!$J$25","v":50},{"$f":"'Student 1'!$K$25","v":200},{"$f":"'Student 1'!$L$25","v":300},{"$f":"'Student 1'!$M$25","v":"*"},{"$f":"'Student 1'!$N$25","v":"Points"},{"$f":"'Student 1'!$O$25","v":"%"}]
[{"$f":"'Course 2 Lab'!$A$12","v":{"v":6,"d":"00000006"}},{"$f":"'Course 2 Lab'!$B$12","v":"Student"},{"$f":"'Course 2 Lab'!$C$12","v":"Six"},{"$f":"'Course 2 Lab'!$D$12","v":0},{"$f":"'Course 2 Lab'!$E$12","v":0},{"$f":"'Course 2 Lab'!$F$12","v":0},{"$f":"'Course 2 Lab'!$G$12","v":0},{"$f":"'Course 2 Lab'!$H$12","v":0},{"$f":"'Course 2 Lab'!$I$12","v":0},{"$f":"'Course 2 Lab'!$J$12","v":0},{"$f":"'Course 2 Lab'!$K$12","v":0},{"$f":"'Course 2 Lab'!$L$12","v":0},{"$f":"'Course 2 Lab'!$M$12","v":1},{"$f":"'Course 2 Lab'!$N$12","v":0},{"$f":"'Course 2 Lab'!$O$12","v":{"v":0,"d":"0%"}}]
[{"$f":"'Student 1'!$A$27","v":"Course 3 Steering & Suspension. Class."},{"$nulls":11},{"$f":"'Student 1'!$M$27","v":25}]
[{"$f":"'Student 1'!$A$28","v":" "},{"$f":"'Student 1'!$B$28","v":"Date assignment is due:"},null,{"$f":"'Student 1'!$D$28","v":"1/18"},{"$f":"'Student 1'!$E$28","v":"2/2"},{"$f":"'Student 1'!$F$28","v":"TBD"},{"$f":"'Student 1'!$G$28","v":"TBD"},{"$f":"'Student 1'!$H$28","v":"TBD"},{"$f":"'Student 1'!$I$28","v":"TBD"},{"$f":"'Student 1'!$J$28","v":"TBD"},{"$f":"'Student 1'!$K$28","v":"TBD"},{"$f":"'Student 1'!$L$28","v":"TBD"},{"$f":"'Student 1'!$M$28","v":"TBD"},{"$f":"'Student 1'!$N$28","v":"TBD"}]
[{"$f":"'Student 1'!$A$29","v":"Class Room Points:"},null,{"$f":"'Student 1'!$C$29","v":330},{"$f":"'Student 1'!$D$29","v":20},{"$f":"'Student 1'!$E$29","v":20},{"$f":"'Student 1'!$F$29","v":24},{"$f":"'Student 1'!$G$29","v":20},{"$f":"'Student 1'!$H$29","v":25},{"$f":"'Student 1'!$I$29","v":30},{"$f":"'Student 1'!$J$29","v":20},{"$f":"'Student 1'!$K$29","v":26},{"$f":"'Student 1'!$L$29","v":45},{"$f":"'Student 1'!$M$29","v":" "},{"$f":"'Student 1'!$N$29","v":100},{"$f":"'Student 1'!$O$29","v":"Evaluation"}]
[{"$f":"'Student 1'!$A$30","v":"Red is late turn-in"},null,{"$f":"'Student 1'!$C$30","v":"Blue is absent"},{"$f":"'Student 1'!$D$30","v":"HW"},{"$f":"'Student 1'!$E$30","v":"HW"},{"$f":"'Student 1'!$F$30","v":"HW"},{"$f":"'Student 1'!$G$30","v":"QZ"},{"$f":"'Student 1'!$H$30","v":"HW"},{"$f":"'Student 1'!$I$30","v":"HW"},{"$f":"'Student 1'!$J$30","v":"Test"},{"$f":"'Student 1'!$K$30","v":"HW"},{"$f":"'Student 1'!$L$30","v":"Class"},{"$f":"'Student 1'!$M$30","v":"Extra"},{"$f":"'Student 1'!$N$30","v":"Final"},{"$f":"'Student 1'!$O$30","v":"Class"},null,{"$f":"'Student 1'!$Q$30","v":"Professionalism"},null,null,{"$f":"'Student 1'!$T$30","v":"Lab"},null,{"$f":"'Student 1'!$V$30","v":"Total  "},{"$f":"'Student 1'!$W$30","v":"Letter"}]
[{"$f":"'Student 1'!$A$31","v":"I D "},{"$f":"'Student 1'!$B$31","v":"First:"},{"$f":"'Student 1'!$C$31","v":"Last:"},{"$f":"'Student 1'!$D$31","v":"CH 1"},{"$f":"'Student 1'!$E$31","v":"CH 2"},{"$f":"'Student 1'!$F$31","v":"CH 3"},{"$f":"'Student 1'!$G$31","v":"1"},{"$f":"'Student 1'!$H$31","v":"CH 6"},{"$f":"'Student 1'!$I$31","v":"CH 9"},{"$f":"'Student 1'!$J$31","v":"1 – 9"},{"$f":"'Student 1'!$K$31","v":"CH 12"},{"$f":"'Student 1'!$L$31","v":"Project"},{"$f":"'Student 1'!$M$31","v":"Credit"},{"$f":"'Student 1'!$N$31","v":"TEST"},{"$f":"'Student 1'!$O$31","v":"Points"},{"$f":"'Student 1'!$P$31","v":"%"},{"$f":"'Student 1'!$Q$31","v":"Attendance"},{"$f":"'Student 1'!$R$31","v":"Points"},{"$f":"'Student 1'!$S$31","v":"%"},{"$f":"'Student 1'!$T$31","v":"Points"},{"$f":"'Student 1'!$U$31","v":"%"},{"$f":"'Student 1'!$V$31","v":"%"},{"$f":"'Student 1'!$W$31","v":"Grade"}]
[{"$f":"'Course 3 Class'!$A$11","v":{"v":6,"d":"00000006"}},{"$f":"'Course 3 Class'!$B$11","v":"Student"},{"$f":"'Course 3 Class'!$C$11","v":"Six"},{"$f":"'Course 3 Class'!$D$11","v":0},{"$f":"'Course 3 Class'!$E$11","v":0},{"$f":"'Course 3 Class'!$F$11","v":0},{"$f":"'Course 3 Class'!$G$11","v":0},{"$f":"'Course 3 Class'!$H$11","v":0},{"$f":"'Course 3 Class'!$I$11","v":0},{"$f":"'Course 3 Class'!$J$11","v":0},{"$f":"'Course 3 Class'!$K$11","v":0},{"$f":"'Course 3 Class'!$L$11","v":0},{"$f":"'Course 3 Class'!$M$11","v":0},{"$f":"'Course 3 Class'!$N$11","v":0},{"$f":"'Course 3 Class'!$O$11","v":0},{"$f":"'Course 3 Class'!$P$11","v":{"v":0,"d":"0%"}},{"$f":"'Course 3 Class'!$Q$11","v":{"v":1,"d":"100%"}},{"$f":"'Course 3 Class'!$R$11","v":72},{"$f":"'Course 3 Class'!$S$11","v":{"v":1,"d":"100%"}},{"$f":"'Course 3 Class'!$T$11","v":0},{"$f":"'Course 3 Class'!$U$11","v":{"v":0,"d":"0%"}},{"$f":"'Course 3 Class'!$V$11","v":{"v":0.25,"d":"25%"}},{"$f":"'Course 3 Class'!$W$11","v":"F"}]
[{"$f":"'Student 1'!$A$33","v":"Course 3 Steering & Suspension. Lab"}]
[{"$f":"'Student 1'!$A$34","v":"Max shop points"},null,{"$f":"'Student 1'!$C$34","v":1350},{"$f":"'Student 1'!$D$34","v":"Repair"},{"$f":"'Student 1'!$E$34","v":"Identify"},{"$f":"'Student 1'!$F$34","v":"Repair"},{"$f":"'Student 1'!$G$34","v":"Identify"},{"$f":"'Student 1'!$H$34","v":"Repair"},{"$f":"'Student 1'!$I$34","v":"R&R"},{"$f":"'Student 1'!$J$34","v":"R&R"},{"$f":"'Student 1'!$K$34","v":"R&R"},{"$f":"'Student 1'!$L$34","v":"P/S"},{"$f":"'Student 1'!$M$34","v":"R&R"},{"$f":"'Student 1'!$N$34","v":"NVH"},{"$f":"'Student 1'!$O$34","v":" "}]
[{"$f":"'Student 1'!$A$35","v":"Max shop points available depend on how much customer work is done."},null,null,{"$f":"'Student 1'!$D$35","v":"SLA"},{"$f":"'Student 1'!$E$35","v":"SLA"},{"$f":"'Student 1'!$F$35","v":"Mac-P"},{"$f":"'Student 1'!$G$35","v":"Mac-P"},{"$f":"'Student 1'!$H$35","v":"Rear"},{"$f":"'Student 1'!$I$35","v":"Rack &"},{"$f":"'Student 1'!$J$35","v":"Recirc."},{"$f":"'Student 1'!$K$35","v":"P/S"},{"$f":"'Student 1'!$L$35","v":"Pump"},{"$f":"'Student 1'!$M$35","v":"Inner"},{"$f":"'Student 1'!$N$35","v":"Runout &"},{"$f":"'Student 1'!$O$35","v":"Cus"},{"$f":"'Student 1'!$P$35","v":"Comp"}]
[{"$nulls":3},{"$f":"'Student 1'!$D$36","v":"Susp"},{"$f":"'Student 1'!$E$36","v":"Parts"},{"$f":"'Student 1'!$F$36","v":"Susp"},{"$f":"'Student 1'!$G$36","v":"Parts"},{"$f":"'Student 1'!$H$36","v":"Susp"},{"$f":"'Student 1'!$I$36","v":"Pinion"},{"$f":"'Student 1'!$J$36","v":"Gear"},{"$f":"'Student 1'!$K$36","v":"Pump"},{"$f":"'Student 1'!$L$36","v":"Test"},{"$f":"'Student 1'!$M$36","v":"Tie-Rod"},{"$f":"'Student 1'!$N$36","v":"bal. Check"},{"$f":"'Student 1'!$O$36","v":"tomer"},{"$f":"'Student 1'!$P$36","v":"etency"},{"$f":"'Student 1'!$Q$36","v":" "},{"$f":"'Student 1'!$R$36","v":" "},null,null,{"$f":"'Student 1'!$U$36","v":"Final Grade"}]
[{"$nulls":3},{"$f":"'Student 1'!$D$37","v":1},{"$f":"'Student 1'!$E$37","v":2},{"$f":"'Student 1'!$F$37","v":3},{"$f":"'Student 1'!$G$37","v":2},{"$f":"'Student 1'!$H$37","v":1},{"$f":"'Student 1'!$I$37","v":1},{"$f":"'Student 1'!$J$37","v":1},{"$f":"'Student 1'!$K$37","v":1},{"$f":"'Student 1'!$L$37","v":1},{"$f":"'Student 1'!$M$37","v":1},{"$f":"'Student 1'!$N$37","v":1},{"$f":"'Student 1'!$O$37","v":"Work"},{"$f":"'Student 1'!$P$37","v":"0 or 1"},{"$f":"'Student 1'!$Q$37","v":"Lab"},{"$nulls":3},{"$f":"'Student 1'!$U$37","v":{"v":0,"d":"0%"}},{"$f":"'Student 1'!$V$37","v":"F"}]
[{"$f":"'Student 1'!$A$38","v":"ID"},{"$f":"'Student 1'!$B$38","v":"First:"},{"$f":"'Student 1'!$C$38","v":"Last:"},{"$f":"'Student 1'!$D$38","v":150},{"$f":"'Student 1'!$E$38","v":50},{"$f":"'Student 1'!$F$38","v":225},{"$f":"'Student 1'!$G$38","v":50},{"$f":"'Student 1'!$H$38","v":50},{"$f":"'Student 1'!$I$38","v":150},{"$f":"'Student 1'!$J$38","v":125},{"$f":"'Student 1'!$K$38","v":50},{"$f":"'Student 1'!$L$38","v":50},{"$f":"'Student 1'!$M$38","v":50},{"$f":"'Student 1'!$N$38","v":100},{"$f":"'Student 1'!$O$38","v":300},{"$f":"'Student 1'!$P$38","v":"*"},{"$f":"'Student 1'!$Q$38","v":"Points"},{"$f":"'Student 1'!$R$38","v":"%"},null,null,{"$f":"'Student 1'!$U$38","v":{"v":0.695,"d":"70%"}},{"$f":"'Student 1'!$V$38","v":"D-"}]
[{"$f":"'Course 3 Lab'!$A$12","v":{"v":6,"d":"00000006"}},{"$f":"'Course 3 Lab'!$B$12","v":"Student"},{"$f":"'Course 3 Lab'!$C$12","v":"Six"},{"$f":"'Course 3 Lab'!$D$12","v":0},{"$f":"'Course 3 Lab'!$E$12","v":0},{"$f":"'Course 3 Lab'!$F$12","v":0},{"$f":"'Course 3 Lab'!$G$12","v":0},{"$f":"'Course 3 Lab'!$H$12","v":0},{"$f":"'Course 3 Lab'!$I$12","v":0},{"$f":"'Course 3 Lab'!$J$12","v":0},{"$f":"'Course 3 Lab'!$K$12","v":0},{"$f":"'Course 3 Lab'!$L$12","v":0},{"$f":"'Course 3 Lab'!$M$12","v":0},{"$f":"'Course 3 Lab'!$N$12","v":0},{"$f":"'Course 3 Lab'!$O$12","v":0},{"$f":"'Course 3 Lab'!$P$12","v":1},{"$f":"'Course 3 Lab'!$Q$12","v":0},{"$f":"'Course 3 Lab'!$R$12","v":{"v":0,"d":"0%"}},null,null,{"$f":"'Student 1'!$U$39","v":{"v":0.715,"d":"72%"}},{"$f":"'Student 1'!$V$39","v":"D"}]
[{"$f":"'Student 1'!$A$40","v":"Course 4 Alignment. Class."},{"$nulls":7},{"$f":"'Student 1'!$I$40","v":25},{"$nulls":11},{"$f":"'Student 1'!$U$40","v":{"v":0.735,"d":"74%"}},{"$f":"'Student 1'!$V$40","v":"D+"}]
[{"$f":"'Student 1'!$A$41","v":" "},{"$f":"'Student 1'!$B$41","v":"Date assignment is due  "},null,{"$f":"'Student 1'!$D$41","v":"TBD"},{"$f":"'Student 1'!$E$41","v":"TBD"},{"$f":"'Student 1'!$F$41","v":"TBD"},{"$f":"'Student 1'!$G$41","v":"TBD"},{"$f":"'Student 1'!$H$41","v":"TBD"},{"$f":"'Student 1'!$I$41","v":"TBD"},{"$f":"'Student 1'!$J$41","v":"TBD"},{"$nulls":10},{"$f":"'Student 1'!$U$41","v":{"v":0.755,"d":"76%"}},{"$f":"'Student 1'!$V$41","v":"C-"}]
[{"$f":"'Student 1'!$A$42","v":"Class Room Points:"},null,{"$f":"'Student 1'!$C$42","v":235},{"$f":"'Student 1'!$D$42","v":25},{"$f":"'Student 1'!$E$42","v":25},{"$f":"'Student 1'!$F$42","v":20},{"$f":"'Student 1'!$G$42","v":40},{"$f":"'Student 1'!$H$42","v":50},{"$f":"'Student 1'!$I$42","v":" "},{"$f":"'Student 1'!$J$42","v":75},{"$f":"'Student 1'!$K$42","v":"Evaluation"},{"$nulls":9},{"$f":"'Student 1'!$U$42","v":{"v":0.785,"d":"79%"}},{"$f":"'Student 1'!$V$42","v":"C"}]
[{"$f":"'Student 1'!$A$43","v":"Red is late turn-in"},null,{"$f":"'Student 1'!$C$43","v":"Blue is absent"},{"$f":"'Student 1'!$D$43","v":"CH 16"},{"$f":"'Student 1'!$E$43","v":"CH 16"},{"$f":"'Student 1'!$F$43","v":"Align"},{"$f":"'Student 1'!$G$43","v":"In class"},{"$f":"'Student 1'!$H$43","v":"In class"},{"$f":"'Student 1'!$I$43","v":"Extra"},{"$f":"'Student 1'!$J$43","v":"Final"},{"$f":"'Student 1'!$K$43","v":"Class"},null,{"$f":"'Student 1'!$M$43","v":"Professionalism"},null,null,{"$f":"'Student 1'!$P$43","v":"Lab"},null,{"$f":"'Student 1'!$R$43","v":"Total  "},{"$f":"'Student 1'!$S$43","v":"Letter"},null,{"$f":"'Student 1'!$U$43","v":{"v":0.815,"d":"82%"}},{"$f":"'Student 1'!$V$43","v":"C+"}]
[{"$f":"'Student 1'!$A$44","v":"I D "},{"$f":"'Student 1'!$B$44","v":"First:"},{"$f":"'Student 1'!$C$44","v":"Last:"},{"$f":"'Student 1'!$D$44","v":"HW"},{"$f":"'Student 1'!$E$44","v":"Test"},{"$f":"'Student 1'!$F$44","v":"HW"},{"$f":"'Student 1'!$G$44","v":"Project1"},{"$f":"'Student 1'!$H$44","v":"Project2"},{"$f":"'Student 1'!$I$44","v":"Credit"},{"$f":"'Student 1'!$J$44","v":"Test"},{"$f":"'Student 1'!$K$44","v":"Points"},{"$f":"'Student 1'!$L$44","v":"%"},{"$f":"'Student 1'!$M$44","v":"Attendance"},{"$f":"'Student 1'!$N$44","v":"Points"},{"$f":"'Student 1'!$O$44","v":"%"},{"$f":"'Student 1'!$P$44","v":"Points"},{"$f":"'Student 1'!$Q$44","v":"%"},{"$f":"'Student 1'!$R$44","v":"%"},{"$f":"'Student 1'!$S$44","v":"Grade"},null,{"$f":"'Student 1'!$U$44","v":{"v":0.845,"d":"85%"}},{"$f":"'Student 1'!$V$44","v":"B-"}]
[{"$f":"'Course 4 Class'!$A$11","v":{"v":6,"d":"00000006"}},{"$f":"'Course 4 Class'!$B$11","v":"Student"},{"$f":"'Course 4 Class'!$C$11","v":"Six"},{"$f":"'Course 4 Class'!$D$11","v":0},{"$f":"'Course 4 Class'!$E$11","v":0},{"$f":"'Course 4 Class'!$F$11","v":0},{"$f":"'Course 4 Class'!$G$11","v":0},{"$f":"'Course 4 Class'!$H$11","v":0},{"$f":"'Course 4 Class'!$I$11","v":0},{"$f":"'Course 4 Class'!$J$11","v":0},{"$f":"'Course 4 Class'!$K$11","v":0},{"$f":"'Course 4 Class'!$L$11","v":{"v":0,"d":"0%"}},{"$f":"'Course 4 Class'!$M$11","v":{"v":1,"d":"100%"}},{"$f":"'Course 4 Class'!$N$11","v":72},{"$f":"'Course 4 Class'!$O$11","v":{"v":1,"d":"100%"}},{"$f":"'Course 4 Class'!$P$11","v":0},{"$f":"'Course 4 Class'!$Q$11","v":{"v":0,"d":"0%"}},{"$f":"'Course 4 Class'!$R$11","v":{"v":0.25,"d":"25%"}},{"$f":"'Course 4 Class'!$S$11","v":"F"},null,{"$f":"'Student 1'!$U$45","v":{"v":0.875,"d":"88%"}},{"$f":"'Student 1'!$V$45","v":"B"}]
[{"$f":"'Student 1'!$A$46","v":"Course 4 Alignment. Lab"},{"$nulls":19},{"$f":"'Student 1'!$U$46","v":{"v":0.895,"d":"90%"}},{"$f":"'Student 1'!$V$46","v":"B+"}]
[{"$f":"'Student 1'!$A$47","v":"Max Shop Points:"},null,{"$f":"'Student 1'!$C$47","v":1300},{"$f":"'Student 1'!$D$47","v":"Alignment"},{"$f":"'Student 1'!$E$47","v":"Complete"},{"$f":"'Student 1'!$F$47","v":"Cus"},{"$f":"'Student 1'!$G$47","v":" "},{"$nulls":13},{"$f":"'Student 1'!$U$47","v":{"v":0.925,"d":"93%"}},{"$f":"'Student 1'!$V$47","v":"A-"}]
[{"$f":"'Student 1'!$A$48","v":"Max shop points available depend on how much customer work is done."},null,null,{"$f":"'Student 1'!$D$48","v":"Pre-check"},{"$f":"'Student 1'!$E$48","v":"Wheel"},{"$f":"'Student 1'!$F$48","v":"tomer"},{"$f":"'Student 1'!$G$48","v":"Comp"},{"$nulls":13},{"$f":"'Student 1'!$U$48","v":{"v":0.945,"d":"95%"}},{"$f":"'Student 1'!$V$48","v":"A"}]
[{"$nulls":3},{"$f":"'Student 1'!$D$49","v":"100 P"},{"$f":"'Student 1'!$E$49","v":"Alignment"},{"$f":"'Student 1'!$F$49","v":"Work"},{"$f":"'Student 1'!$G$49","v":"etency"},{"$f":"'Student 1'!$H$49","v":" "},{"$f":"'Student 1'!$I$49","v":" "},{"$nulls":11},{"$f":"'Student 1'!$U$49","v":{"v":1,"d":"100%"}},{"$f":"'Student 1'!$V$49","v":"A"}]
[{"$nulls":3},{"$f":"'Student 1'!$D$50","v":1},{"$f":"'Student 1'!$E$50","v":1},{"$f":"'Student 1'!$F$50","v":" "},{"$f":"'Student 1'!$G$50","v":"0 or 1"},{"$f":"'Student 1'!$H$50","v":"Lab"}]
[{"$f":"'Student 1'!$A$51","v":"ID"},{"$f":"'Student 1'!$B$51","v":"First:"},{"$f":"'Student 1'!$C$51","v":"Last:"},{"$f":"'Student 1'!$D$51","v":100},{"$f":"'Student 1'!$E$51","v":900},{"$f":"'Student 1'!$F$51","v":300},{"$f":"'Student 1'!$G$51","v":"*"},{"$f":"'Student 1'!$H$51","v":"Points"},{"$f":"'Student 1'!$I$51","v":"%"}]
[{"$f":"'Course 4 Lab'!$A$12","v":{"v":6,"d":"00000006"}},{"$f":"'Course 4 Lab'!$B$12","v":"Student"},{"$f":"'Course 4 Lab'!$C$12","v":"Six"},{"$f":"'Course 4 Lab'!$D$12","v":0},{"$f":"'Course 4 Lab'!$E$12","v":0},{"$f":"'Course 4 Lab'!$F$12","v":0},{"$f":"'Course 4 Lab'!$G$12","v":1},{"$f":"'Course 4 Lab'!$H$12","v":0},{"$f":"'Course 4 Lab'!$I$12","v":{"v":0,"d":"0%"}}]
[{"$f":"'Student 1'!$A$53","v":"Course 5 Brake Systems. Class."},{"$nulls":10},{"$f":"'Student 1'!$L$53","v":35}]
[{"$f":"'Student 1'!$A$54","v":"Date assignment is due:"},null,{"$f":"'Student 1'!$C$54","v":" "},{"$f":"'Student 1'!$D$54","v":"TBD"},{"$f":"'Student 1'!$E$54","v":"TBD"},{"$f":"'Student 1'!$F$54","v":"TBD"},{"$f":"'Student 1'!$G$54","v":"TBD"},{"$f":"'Student 1'!$H$54","v":"TBD"},{"$f":"'Student 1'!$I$54","v":"TBD"},{"$f":"'Student 1'!$J$54","v":"TBD"},{"$f":"'Student 1'!$K$54","v":"TBD"},{"$f":"'Student 1'!$L$54","v":"TBD"},{"$f":"'Student 1'!$M$54","v":"TBD"}]
[{"$f":"'Student 1'!$A$55","v":"Class Room Points:"},null,{"$f":"'Student 1'!$C$55","v":440},{"$f":"'Student 1'!$D$55","v":30},{"$f":"'Student 1'!$E$55","v":25},{"$f":"'Student 1'!$F$55","v":100},{"$f":"'Student 1'!$G$55","v":30},{"$f":"'Student 1'!$H$55","v":50},{"$f":"'Student 1'!$I$55","v":30},{"$f":"'Student 1'!$J$55","v":25},{"$f":"'Student 1'!$K$55","v":50},{"$f":"'Student 1'!$L$55","v":" "},{"$f":"'Student 1'!$M$55","v":100},{"$f":"'Student 1'!$N$55","v":"Evaluation"}]
[{"$f":"'Student 1'!$A$56","v":"Red is late turn-in"},null,{"$f":"'Student 1'!$C$56","v":"Blue is absent"},{"$f":"'Student 1'!$D$56","v":"HW"},{"$f":"'Student 1'!$E$56","v":"HW"},{"$f":"'Student 1'!$F$56","v":"Test"},{"$f":"'Student 1'!$G$56","v":"HW"},{"$f":"'Student 1'!$H$56","v":"Test"},{"$f":"'Student 1'!$I$56","v":"HW"},{"$f":"'Student 1'!$J$56","v":"Test"},{"$f":"'Student 1'!$K$56","v":"Class"},{"$f":"'Student 1'!$L$56","v":"Extra"},{"$f":"'Student 1'!$M$56","v":"Final"},{"$f":"'Student 1'!$N$56","v":"Class"},null,{"$f":"'Student 1'!$P$56","v":"Professionalism"},null,null,{"$f":"'Student 1'!$S$56","v":"Lab"},null,{"$f":"'Student 1'!$U$56","v":"Total  "},{"$f":"'Student 1'!$V$56","v":"Letter"}]
[{"$f":"'Student 1'!$A$57","v":"I D "},{"$f":"'Student 1'!$B$57","v":"First:"},{"$f":"'Student 1'!$C$57","v":"Last:"},{"$f":"'Student 1'!$D$57","v":"CH 4"},{"$f":"'Student 1'!$E$57","v":"CH 5"},{"$f":"'Student 1'!$F$57","v":"#1"},{"$f":"'Student 1'!$G$57","v":"CH 7"},{"$f":"'Student 1'!$H$57","v":"Conv"},{"$f":"'Student 1'!$I$57","v":"CH 20"},{"$f":"'Student 1'!$J$57","v":"21/22"},{"$f":"'Student 1'!$K$57","v":"Project"},{"$f":"'Student 1'!$L$57","v":"Credit"},{"$f":"'Student 1'!$M$57","v":"Test"},{"$f":"'Student 1'!$N$57","v":"Points"},{"$f":"'Student 1'!$O$57","v":"%"},{"$f":"'Student 1'!$P$57","v":"Attendance"},{"$f":"'Student 1'!$Q$57","v":"Points"},{"$f":"'Student 1'!$R$57","v":"%"},{"$f":"'Student 1'!$S$57","v":"Points"},{"$f":"'Student 1'!$T$57","v":"%"},{"$f":"'Student 1'!$U$57","v":"%"},{"$f":"'Student 1'!$V$57","v":"Grade"}]
[{"$f":"'Course 5 Class'!$A$11","v":{"v":6,"d":"00000006"}},{"$f":"'Course 5 Class'!$B$11","v":"Student"},{"$f":"'Course 5 Class'!$C$11","v":"Six"},{"$f":"'Course 5 Class'!$D$11","v":0},{"$f":"'Course 5 Class'!$E$11","v":0},{"$f":"'Course 5 Class'!$F$11","v":0},{"$f":"'Course 5 Class'!$G$11","v":0},{"$f":"'Course 5 Class'!$H$11","v":0},{"$f":"'Course 5 Class'!$I$11","v":0},{"$f":"'Course 5 Class'!$J$11","v":0},{"$f":"'Course 5 Class'!$K$11","v":0},{"$f":"'Course 5 Class'!$L$11","v":0},{"$f":"'Course 5 Class'!$M$11","v":0},{"$f":"'Course 5 Class'!$N$11","v":0},{"$f":"'Course 5 Class'!$O$11","v":{"v":0,"d":"0%"}},{"$f":"'Course 5 Class'!$P$11","v":{"v":1,"d":"100%"}},{"$f":"'Course 5 Class'!$Q$11","v":72},{"$f":"'Course 5 Class'!$R$11","v":{"v":1,"d":"100%"}},{"$f":"'Course 5 Class'!$S$11","v":0},{"$f":"'Course 5 Class'!$T$11","v":{"v":0,"d":"0%"}},{"$f":"'Course 5 Class'!$U$11","v":{"v":0.25,"d":"25%"}},{"$f":"'Course 5 Class'!$V$11","v":"F"}]
[{"$f":"'Student 1'!$A$59","v":"Course 5 Brake Systems. Lab"}]
[{"$f":"'Student 1'!$A$60","v":"  Max Shop Points:"},null,{"$f":"'Student 1'!$C$60","v":970},{"$f":"'Student 1'!$D$60","v":"Drum"},{"$f":"'Student 1'!$E$60","v":"Drum "},{"$f":"'Student 1'!$F$60","v":"Disc"},{"$f":"'Student 1'!$G$60","v":"On Car"},{"$f":"'Student 1'!$H$60","v":"Off Car"},{"$f":"'Student 1'!$I$60","v":"Wheel"},{"$f":"'Student 1'!$J$60","v":"Hydr."},{"$f":"'Student 1'!$K$60","v":"Vacuum"},{"$f":"'Student 1'!$L$60","v":"Warning"},{"$f":"'Student 1'!$M$60","v":"Brake"},{"$f":"'Student 1'!$N$60","v":"Brake"},{"$f":"'Student 1'!$O$60","v":"Dodge"},{"$f":"'Student 1'!$P$60","v":"Ford"},{"$f":"'Student 1'!$Q$60","v":"GM"},{"$f":"'Student 1'!$R$60","v":"Cus"},{"$f":"'Student 1'!$S$60","v":"Brake"}]
[{"$f":"'Student 1'!$A$61","v":"Max shop points available depend on how much customer work is done."},null,null,{"$f":"'Student 1'!$D$61","v":"Brake"},{"$f":"'Student 1'!$E$61","v":"Brake "},{"$f":"'Student 1'!$F$61","v":"Brake"},{"$f":"'Student 1'!$G$61","v":"Disc"},{"$f":"'Student 1'!$H$61","v":"Disc"},{"$f":"'Student 1'!$I$61","v":"Bearing"},{"$f":"'Student 1'!$J$61","v":"Line"},{"$f":"'Student 1'!$K$61","v":"Booster"},{"$f":"'Student 1'!$L$61","v":"Light"},{"$f":"'Student 1'!$M$61","v":"System"},{"$f":"'Student 1'!$N$61","v":"Valves"},{"$f":"'Student 1'!$O$61","v":"Anti"},{"$f":"'Student 1'!$P$61","v":"Anti"},{"$f":"'Student 1'!$Q$61","v":"Anti"},{"$f":"'Student 1'!$R$61","v":"tomer"},{"$f":"'Student 1'!$S$61","v":"Comp"}]
[{"$nulls":3},{"$f":"'Student 1'!$D$62","v":"Job"},{"$f":"'Student 1'!$E$62","v":"Mach."},{"$f":"'Student 1'!$F$62","v":"Job"},{"$f":"'Student 1'!$G$62","v":"Mach."},{"$f":"'Student 1'!$H$62","v":"Mach."},{"$f":"'Student 1'!$I$62","v":"Service"},{"$f":"'Student 1'!$J$62","v":"Repair"},{"$f":"'Student 1'!$K$62","v":"Service"},{"$f":"'Student 1'!$L$62","v":"Service"},{"$f":"'Student 1'!$M$62","v":"Bleed"},{"$f":"'Student 1'!$N$62","v":"Check"},{"$f":"'Student 1'!$O$62","v":"Lock"},{"$f":"'Student 1'!$P$62","v":"Lock"},{"$f":"'Student 1'!$Q$62","v":"Lock"},{"$f":"'Student 1'!$R$62","v":"Work"},{"$f":"'Student 1'!$S$62","v":"etency"}]
[{"$nulls":3},{"$f":"'Student 1'!$D$63","v":2},{"$f":"'Student 1'!$E$63","v":2},{"$f":"'Student 1'!$F$63","v":2},{"$f":"'Student 1'!$G$63","v":2},{"$f":"'Student 1'!$H$63","v":2},{"$f":"'Student 1'!$I$63","v":1},{"$f":"'Student 1'!$J$63","v":1},{"$f":"'Student 1'!$K$63","v":2},{"$f":"'Student 1'!$L$63","v":2},{"$f":"'Student 1'!$M$63","v":4},{"$f":"'Student 1'!$N$63","v":1},{"$f":"'Student 1'!$O$63","v":1},{"$f":"'Student 1'!$P$63","v":1},{"$f":"'Student 1'!$Q$63","v":1},{"$f":"'Student 1'!$R$63","v":" "},{"$f":"'Student 1'!$S$63","v":"Required"},{"$f":"'Student 1'!$T$63","v":"Lab"}]
[{"$f":"'Student 1'!$A$64","v":"ID"},{"$f":"'Student 1'!$B$64","v":"First:"},{"$f":"'Student 1'!$C$64","v":"Last:"},{"$f":"'Student 1'!$D$64","v":150},{"$f":"'Student 1'!$E$64","v":40},{"$f":"'Student 1'!$F$64","v":150},{"$f":"'Student 1'!$G$64","v":80},{"$f":"'Student 1'!$H$64","v":40},{"$f":"'Student 1'!$I$64","v":50},{"$f":"'Student 1'!$J$64","v":30},{"$f":"'Student 1'!$K$64","v":30},{"$f":"'Student 1'!$L$64","v":40},{"$f":"'Student 1'!$M$64","v":80},{"$f":"'Student 1'!$N$64","v":40},{"$f":"'Student 1'!$O$64","v":80},{"$f":"'Student 1'!$P$64","v":80},{"$f":"'Student 1'!$Q$64","v":80},{"$f":"'Student 1'!$R$64","v":300},{"$f":"'Student 1'!$S$64","v":"*"},{"$f":"'Student 1'!$T$64","v":"Points"},{"$f":"'Student 1'!$U$64","v":"%"}]
[{"$f":"'Course 5 Lab'!$A$12","v":{"v":6,"d":"00000006"}},{"$f":"'Course 5 Lab'!$B$12","v":"Student"},{"$f":"'Course 5 Lab'!$C$12","v":"Six"},{"$f":"'Course 5 Lab'!$D$12","v":0},{"$f":"'Course 5 Lab'!$E$12","v":0},{"$f":"'Course 5 Lab'!$F$12","v":0},{"$f":"'Course 5 Lab'!$G$12","v":0},{"$f":"'Course 5 Lab'!$H$12","v":0},{"$f":"'Course 5 Lab'!$I$12","v":0},{"$f":"'Course 5 Lab'!$J$12","v":0},{"$f":"'Course 5 Lab'!$K$12","v":0},{"$f":"'Course 5 Lab'!$L$12","v":0},{"$f":"'Course 5 Lab'!$M$12","v":0},{"$f":"'Course 5 Lab'!$N$12","v":0},{"$f":"'Course 5 Lab'!$O$12","v":0},{"$f":"'Course 5 Lab'!$P$12","v":0},{"$f":"'Course 5 Lab'!$Q$12","v":0},{"$f":"'Course 5 Lab'!$R$12","v":0},{"$f":"'Course 5 Lab'!$S$12","v":1},{"$f":"'Course 5 Lab'!$T$12","v":0},{"$f":"'Course 5 Lab'!$U$12","v":{"v":0,"d":"0%"}}]

{"sheet":"Student 7","index":20,"n_rows":65,"n_cols":23,"rows_kept":65,"merged":[[0,0,0,2],[1,0,1,2],[2,0,2,1],[2,9,2,17],[3,0,3,1],[3,9,3,10],[3,11,3,13],[3,14,3,15],[6,0,6,2],[7,0,7,1],[8,0,10,2],[10,16,10,17],[13,0,13,2],[14,1,14,2],[15,0,15,1],[15,11,15,19],[16,0,16,1],[16,11,16,12],[16,13,16,15],[16,16,16,17],[19,0,19,2],[20,0,20,1],[21,0,23,2],[23,13,23,14],[26,0,26,2],[27,1,27,2],[28,0,28,1],[28,14,28,22],[29,0,29,1],[29,14,29,15],[29,16,29,18],[29,19,29,20],[32,0,32,2],[33,0,33,1],[34,0,36,2],[35,20,35,21],[36,16,36,17],[39,0,39,2],[40,1,40,2],[41,0,41,1],[41,10,41,18],[42,0,42,1],[42,10,42,11],[42,12,42,14],[42,15,42,16],[45,0,45,2],[46,0,46,1],[47,0,49,2],[49,7,49,8],[52,0,52,2],[53,0,53,2],[54,0,54,1],[54,13,54,21],[55,0,55,1],[55,13,55,14],[55,15,55,17],[55,18,55,19],[58,0,58,2],[59,0,59,1],[60,0,62,2],[62,19,62,20]]}
[{"$f":"'Student 1'!$A$1","v":"Course 1 Engine Diagnosis. Class"},{"$nulls":6},{"$f":"'Student 1'!$H$1","v":25}]
[{"$f":"'Student 1'!$A$2","v":"Date assignment is due"},null,{"$f":"'Student 1'!$C$2","v":" "},{"$f":"'Student 1'!$D$2","v":"TBD"},{"$f":"'Student 1'!$E$2","v":"TBD"},{"$f":"'Student 1'!$F$2","v":"TBD"},{"$f":"'Student 1'!$G$2","v":"TBD"},{"$f":"'Student 1'!$H$2","v":"TBD"},{"$f":"'Student 1'!$I$2","v":"TBD"}]
[{"$f":"'Student 1'!$A$3","v":"Class Room Points:"},null,{"$f":"'Student 1'!$C$3","v":160},{"$f":"'Student 1'!$D$3","v":20},{"$f":"'Student 1'!$E$3","v":20},{"$f":"'Student 1'!$F$3","v":20},{"$f":"'Student 1'!$G$3","v":25},{"$f":"'Student 1'!$H$3","v":" "},{"$f":"'Student 1'!$I$3","v":75},{"$f":"'Student 1'!$J$3","v":"Evaluation"}]
[{"$f":"'Student 1'!$A$4","v":"Red is late turn-in"},null,{"$f":"'Student 1'!$C$4","v":"Blue is absent"},{"$f":"'Student 1'!$D$4","v":"CH 13 "},{"$f":"'Student 1'!$E$4","v":"Lube"},{"$f":"'Student 1'!$F$4","v":"Lube"},{"$f":"'Student 1'!$G$4","v":"Condition"},{"$f":"'Student 1'!$H$4","v":"Extra"},{"$f":"'Student 1'!$I$4","v":"Final"},{"$f":"'Student 1'!$J$4","v":"Classroom"},null,{"$f":"'Student 1'!$L$4","v":"Professionalism"},null,null,{"$f":"'Student 1'!$O$4","v":"Lab"},null,{"$f":"'Student 1'!$Q$4","v":"Total  "},{"$f":"'Student 1'!$R$4","v":"Letter"}]
[{"$f":"'Student 1'!$A$5","v":"I D "},{"$f":"'Student 1'!$B$5","v":"First:"},{"$f":"'Student 1'!$C$5","v":"Last:"},{"$f":"'Student 1'!$D$5","v":"Test"},{"$f":"'Student 1'!$E$5","v":"HW"},{"$f":"'Student 1'!$F$5","v":"Test"},{"$f":"'Student 1'!$G$5","v":"Class"},{"$f":"'Student 1'!$H$5","v":"Credit"},{"$f":"'Student 1'!$I$5","v":"Test"},{"$f":"'Student 1'!$J$5","v":"Points"},{"$f":"'Student 1'!$K$5","v":"%"},{"$f":"'Student 1'!$L$5","v":"Attendance"},{"$f":"'Student 1'!$M$5","v":"Points"},{"$f":"'Student 1'!$N$5","v":"%"},{"$f":"'Student 1'!$O$5","v":"Points"},{"$f":"'Student 1'!$P$5","v":"%"},{"$f":"'Student 1'!$Q$5","v":"%"},{"$f":"'Student 1'!$R$5","v":"Grade"}]
[{"$f":"'Course 1 Class'!$A$12","v":{"v":7,"d":"00000007"}},{"$f":"'Course 1 Class'!$B$12","v":"Student"},{"$f":"'Course 1 Class'!$C$12","v":"Seven"},{"$f":"'Course 1 Class'!$D$12","v":0},{"$f":"'Course 1 Class'!$E$12","v":0},{"$f":"'Course 1 Class'!$F$12","v":0},{"$f":"'Course 1 Class'!$G$12","v":0},{"$f":"'Course 1 Class'!$H$12","v":0},{"$f":"'Course 1 Class'!$I$12","v":0},{"$f":"'Course 1 Class'!$J$12","v":0},{"$f":"'Course 1 Class'!$K$12","v":{"v":0,"d":"0%"}},{"$f":"'Course 1 Class'!$L$12","v":{"v":1,"d":"100%"}},{"$f":"'Course 1 Class'!$M$12","v":72},{"$f":"'Course 1 Class'!$N$12","v":{"v":1,"d":"100%"}},{"$f":"'Course 1 Class'!$O$12","v":0},{"$f":"'Course 1 Class'!$P$12","v":{"v":0,"d":"0%"}},{"$f":"'Course 1 Class'!$Q$12","v":{"v":0.25,"d":"25%"}},{"$f":"'Course 1 Class'!$R$12","v":"F"}]
[{"$f":"'Student 1'!$A$7","v":"Course 1 Engine Diagnosis. Lab"}]
[{"$f":"'Student 1'!$A$8","v":"  Max Shop Points:"},null,{"$f":"'Student 1'!$C$8","v":1325},{"$f":"'Student 1'!$D$8","v":"Dry"},{"$f":"'Student 1'!$E$8","v":"Wet"},{"$f":"'Student 1'!$F$8","v":"Running"},{"$f":"'Student 1'!$G$8","v":"Cylinder"},{"$f":"'Student 1'!$H$8","v":"Oil"},{"$f":"'Student 1'!$I$8","v":"Cooling"},{"$f":"'Student 1'!$J$8","v":"Vacuum"},{"$f":"'Student 1'!$K$8","v":"PCV"},{"$f":"'Student 1'!$L$8","v":"Thermostat"},{"$f":"'Student 1'!$M$8","v":"Fluid"},{"$f":"'Student 1'!$N$8","v":"Diag"},{"$f":"'Student 1'!$O$8","v":" "}]
[{"$f":"'Student 1'!$A$9","v":"Max shop points available depend on how much customer work is done."},null,null,{"$f":"'Student 1'!$D$9","v":"Compr"},{"$f":"'Student 1'!$E$9","v":"Compr"},{"$f":"'Student 1'!$F$9","v":"Compr"},{"$f":"'Student 1'!$G$9","v":"Leakage"},{"$f":"'Student 1'!$H$9","v":"Pressure"},{"$f":"'Student 1'!$I$9","v":"System"},{"$f":"'Student 1'!$J$9","v":"Gauge"},{"$f":"'Student 1'!$K$9","v":"System"},{"$f":"'Student 1'!$L$9","v":"and fan"},{"$f":"'Student 1'!$M$9","v":"Leak"},{"$f":"'Student 1'!$N$9","v":"gauges"},{"$f":"'Student 1'!$O$9","v":"Cus"},{"$f":"'Student 1'!$P$9","v":"Comp"}]
[{"$nulls":3},{"$f":"'Student 1'!$D$10","v":"Test"},{"$f":"'Student 1'!$E$10","v":"Test"},{"$f":"'Student 1'!$F$10","v":"Test"},{"$f":"'Student 1'!$G$10","v":"Test"},{"$f":"'Student 1'!$H$10","v":"Test"},{"$f":"'Student 1'!$I$10","v":"Test"},{"$f":"'Student 1'!$J$10","v":"Test"},{"$f":"'Student 1'!$K$10","v":"Check"},{"$f":"'Student 1'!$L$10","v":"Operation"},{"$f":"'Student 1'!$M$10","v":"Check"},{"$f":"'Student 1'!$N$10","v":"any vehicle"},{"$f":"'Student 1'!$O$10","v":"tomer"},{"$f":"'Student 1'!$P$10","v":"etency"},{"$f":"'Student 1'!$Q$10","v":"  "},{"$f":"'Student 1'!$R$10","v":" "}]
[{"$nulls":3},{"$f":"'Student 1'!$D$11","v":2},{"$f":"'Student 1'!$E$11","v":2},{"$f":"'Student 1'!$F$11","v":2},{"$f":"'Student 1'!$G$11","v":2},{"$f":"'Student 1'!$H$11","v":2},{"$f":"'Student 1'!$I$11","v":2},{"$f":"'Student 1'!$J$11","v":2},{"$f":"'Student 1'!$K$11","v":2},{"$f":"'Student 1'!$L$11","v":2},{"$f":"'Student 1'!$M$11","v":1},{"$f":"'Student 1'!$N$11","v":1},{"$f":"'Student 1'!$O$11","v":"Work"},{"$f":"'Student 1'!$P$11","v":"0 or 1"},{"$f":"'Student 1'!$Q$11","v":"Lab"}]
[{"$f":"'Student 1'!$A$12","v":"ID"},{"$f":"'Student 1'!$B$12","v":"First:"},{"$f":"'Student 1'!$C$12","v":"Last:"},{"$f":"'Student 1'!$D$12","v":100},{"$f":"'Student 1'!$E$12","v":100},{"$f":"'Student 1'!$F$12","v":100},{"$f":"'Student 1'!$G$12","v":100},{"$f":"'Student 1'!$H$12","v":100},{"$f":"'Student 1'!$I$12","v":150},{"$f":"'Student 1'!$J$12","v":100},{"$f":"'Student 1'!$K$12","v":50},{"$f":"'Student 1'!$L$12","v":100},{"$f":"'Student 1'!$M$12","v":25},{"$f":"'Student 1'!$N$12","v":100},{"$f":"'Student 1'!$O$12","v":300},{"$f":"'Student 1'!$P$12","v":"*"},{"$f":"'Student 1'!$Q$12","v":"Points"},{"$f":"'Student 1'!$R$12","v":"%"}]
[{"$f":"'Course 1 Lab'!$A$13","v":{"v":7,"d":"00000007"}},{"$f":"'Course 1 Lab'!$B$13","v":"Student"},{"$f":"'Course 1 Lab'!$C$13","v":"Seven"},{"$f":"'Course 1 Lab'!$D$13","v":0},{"$f":"'Course 1 Lab'!$E$13","v":0},{"$f":"'Course 1 Lab'!$F$13","v":0},{"$f":"'Course 1 Lab'!$G$13","v":0},{"$f":"'Course 1 Lab'!$H$13","v":0},{"$f":"'Course 1 Lab'!$I$13","v":0},{"$f":"'Course 1 Lab'!$J$13","v":0},{"$f":"'Course 1 Lab'!$K$13","v":0},{"$f":"'Course 1 Lab'!$L$13","v":0},{"$f":"'Course 1 Lab'!$M$13","v":0},{"$f":"'Course 1 Lab'!$N$13","v":0},{"$f":"'Course 1 Lab'!$O$13","v":0},{"$f":"'Course 1 Lab'!$P$13","v":1},{"$f":"'Course 1 Lab'!$Q$13","v":0},{"$f":"'Course 1 Lab'!$R$13","v":{"v":0,"d":"0%"}}]
[{"$f":"'Student 1'!$A$14","v":"Course 2 Engine Theory & Repair. Class"},{"$nulls":8},{"$f":"'Student 1'!$J$14","v":25}]
[{"$f":"'Student 1'!$A$15","v":" "},{"$f":"'Student 1'!$B$15","v":"Date assignment is due:"},null,{"$f":"'Student 1'!$D$15","v":"TBD"},{"$f":"'Student 1'!$E$15","v":"TBD"},{"$f":"'Student 1'!$F$15","v":"TBD"},{"$f":"'Student 1'!$G$15","v":"TBD"},{"$f":"'Student 1'!$H$15","v":"TBD"},{"$f":"'Student 1'!$I$15","v":"TBD"},{"$f":"'Student 1'!$J$15","v":"TBD"},{"$f":"'Student 1'!$K$15","v":"TBD"}]
[{"$f":"'Student 1'!$A$16","v":"Class Room Points:"},null,{"$f":"'Student 1'!$C$16","v":201},{"$f":"'Student 1'!$D$16","v":10},{"$f":"'Student 1'!$E$16","v":10},{"$f":"'Student 1'!$F$16","v":20},{"$f":"'Student 1'!$G$16","v":20},{"$f":"'Student 1'!$H$16","v":16},{"$f":"'Student 1'!$I$16","v":25},{"$f":"'Student 1'!$J$16","v":" "},{"$f":"'Student 1'!$K$16","v":100},{"$f":"'Student 1'!$L$16","v":"Evaluation"}]
[{"$f":"'Student 1'!$A$17","v":"Red is late turn-in"},null,{"$f":"'Student 1'!$C$17","v":"Blue is absent"},{"$f":"'Student 1'!$D$17","v":"HW"},{"$f":"'Student 1'!$E$17","v":"HW "},{"$f":"'Student 1'!$F$17","v":"Test"},{"$f":"'Student 1'!$G$17","v":"Test"},{"$f":"'Student 1'!$H$17","v":"HW"},{"$f":"'Student 1'!$I$17","v":"Test"},{"$f":"'Student 1'!$J$17","v":"Extra"},{"$f":"'Student 1'!$K$17","v":"Final "},{"$f":"'Student 1'!$L$17","v":"Class"},null,{"$f":"'Student 1'!$N$17","v":"Professionalism"},null,null,{"$f":"'Student 1'!$Q$17","v":"Lab"},null,{"$f":"'Student 1'!$S$17","v":"Total  "},{"$f":"'Student 1'!$T$17","v":"Letter"}]
[{"$f":"'Student 1'!$A$18","v":"I D "},{"$f":"'Student 1'!$B$18","v":"First:"},{"$f":"'Student 1'!$C$18","v":"Last:"},{"$f":"'Student 1'!$D$18","v":"CH 7"},{"$f":"'Student 1'!$E$18","v":"CH 14"},{"$f":"'Student 1'!$F$18","v":"C & L"},{"$f":"'Student 1'!$G$18","v":"CH 18"},{"$f":"'Student 1'!$H$18","v":"CH 22"},{"$f":"'Student 1'!$I$18","v":"CH 22"},{"$f":"'Student 1'!$J$18","v":"Credit"},{"$f":"'Student 1'!$K$18","v":"TEST"},{"$f":"'Student 1'!$L$18","v":"Points"},{"$f":"'Student 1'!$M$18","v":"%"},{"$f":"'Student 1'!$N$18","v":"Attendance"},{"$f":"'Student 1'!$O$18","v":"Points"},{"$f":"'Student 1'!$P$18","v":"%"},{"$f":"'Student 1'!$Q$18","v":"Points"},{"$f":"'Student 1'!$R$18","v":"%"},{"$f":"'Student 1'!$S$18","v":"%"},{"$f":"'Student 1'!$T$18","v":"Grade"}]
[{"$f":"'Course 2 Class'!$A$12","v":{"v":7,"d":"00000007"}},{"$f":"'Course 2 Class'!$B$12","v":"Student"},{"$f":"'Course 2 Class'!$C$12","v":"Seven"},{"$f":"'Course 2 Class'!$D$12","v":0},{"$f":"'Course 2 Class'!$E$12","v":0},{"$f":"'Course 2 Class'!$F$12","v":0},{"$f":"'Course 2 Class'!$G$12","v":0},{"$f":"'Course 2 Class'!$H$12","v":0},{"$f":"'Course 2 Class'!$I$12","v":0},{"$f":"'Course 2 Class'!$J$12","v":0},{"$f":"'Course 2 Class'!$K$12","v":0},{"$f":"'Course 2 Class'!$L$12","v":0},{"$f":"'Course 2 Class'!$M$12","v":{"v":0,"d":"0%"}},{"$f":"'Course 2 Class'!$N$12","v":{"v":1,"d":"100%"}},{"$f":"'Course 2 Class'!$O$12","v":72},{"$f":"'Course 2 Class'!$P$12","v":{"v":1,"d":"100%"}},{"$f":"'Course 2 Class'!$Q$12","v":0},{"$f":"'Course 2 Class'!$R$12","v":{"v":0,"d":"0%"}},{"$f":"'Course 2 Class'!$S$12","v":{"v":0.25,"d":"25%"}},{"$f":"'Course 2 Class'!$T$12","v":"F"}]
[{"$f":"'Student 1'!$A$20","v":"Course 2 Engine Theory & Repair. Lab"}]
[{"$f":"'Student 1'!$A$21","v":"  Max Shop Points:"},null,{"$f":"'Student 1'!$C$21","v":1450},{"$f":"'Student 1'!$D$21","v":"Engine"},{"$f":"'Student 1'!$E$21","v":"Cylinder"},{"$f":"'Student 1'!$F$21","v":"Red"},{"$f":"'Student 1'!$G$21","v":"Mitsubishi"},{"$f":"'Student 1'!$H$21","v":"Any"},{"$f":"'Student 1'!$I$21","v":"DOHC"},{"$f":"'Student 1'!$J$21","v":"Valve seal"},{"$f":"'Student 1'!$K$21","v":"Misc."},{"$f":"'Student 1'!$L$21","v":" "}]
[{"$f":"'Student 1'!$A$22","v":"Max shop points available depend on how much customer work is done."},null,null,{"$f":"'Student 1'!$D$22","v":"Disassemble"},{"$f":"'Student 1'!$E$22","v":"Head"},{"$f":"'Student 1'!$F$22","v":"Dodge"},{"$f":"'Student 1'!$G$22","v":"\"3.0L\""},{"$f":"'Student 1'!$H$22","v":"Engine"},{"$f":"'Student 1'!$I$22","v":"Engine"},{"$f":"'Student 1'!$J$22","v":"&"},{"$f":"'Student 1'!$K$22","v":"Engine "},{"$f":"'Student 1'!$L$22","v":"Cus"},{"$f":"'Student 1'!$M$22","v":"Comp"}]
[{"$nulls":3},{"$f":"'Student 1'!$D$23","v":"& Measure"},{"$f":"'Student 1'!$E$23","v":"Repair"},{"$f":"'Student 1'!$F$23","v":"Clip"},{"$f":"'Student 1'!$G$23","v":"Clip"},{"$f":"'Student 1'!$H$23","v":"T-chain"},{"$f":"'Student 1'!$I$23","v":" Stand"},{"$f":"'Student 1'!$J$23","v":"Lobe lift"},{"$f":"'Student 1'!$K$23","v":"Points"},{"$f":"'Student 1'!$L$23","v":"tomer"},{"$f":"'Student 1'!$M$23","v":"etency"},{"$f":"'Student 1'!$N$23","v":" "},{"$f":"'Student 1'!$O$23","v":" "}]
[{"$nulls":3},{"$f":"'Student 1'!$D$24","v":1},{"$f":"'Student 1'!$E$24","v":1},{"$f":"'Student 1'!$F$24","v":1},{"$f":"'Student 1'!$G$24","v":1},{"$f":"'Student 1'!$H$24","v":1},{"$f":"'Student 1'!$I$24","v":1},{"$f":"'Student 1'!$J$24","v":1},null,{"$f":"'Student 1'!$L$24","v":"Work"},{"$f":"'Student 1'!$M$24","v":"0 or 1"},{"$f":"'Student 1'!$N$24","v":"Lab"}]
[{"$f":"'Student 1'!$A$25","v":"ID"},{"$f":"'Student 1'!$B$25","v":"First:"},{"$f":"'Student 1'!$C$25","v":"Last:"},{"$f":"'Student 1'!$D$25","v":300},{"$f":"'Student 1'!$E$25","v":200},{"$f":"'Student 1'!$F$25","v":100},{"$f":"'Student 1'!$G$25","v":100},{"$f":"'Student 1'!$H$25","v":100},{"$f":"'Student 1'!$I$25","v":100},{"$f":"'Student 1'!$J$25","v":50},{"$f":"'Student 1'!$K$25","v":200},{"$f":"'Student 1'!$L$25","v":300},{"$f":"'Student 1'!$M$25","v":"*"},{"$f":"'Student 1'!$N$25","v":"Points"},{"$f":"'Student 1'!$O$25","v":"%"}]
[{"$f":"'Course 2 Lab'!$A$13","v":{"v":7,"d":"00000007"}},{"$f":"'Course 2 Lab'!$B$13","v":"Student"},{"$f":"'Course 2 Lab'!$C$13","v":"Seven"},{"$f":"'Course 2 Lab'!$D$13","v":0},{"$f":"'Course 2 Lab'!$E$13","v":0},{"$f":"'Course 2 Lab'!$F$13","v":0},{"$f":"'Course 2 Lab'!$G$13","v":0},{"$f":"'Course 2 Lab'!$H$13","v":0},{"$f":"'Course 2 Lab'!$I$13","v":0},{"$f":"'Course 2 Lab'!$J$13","v":0},{"$f":"'Course 2 Lab'!$K$13","v":0},{"$f":"'Course 2 Lab'!$L$13","v":0},{"$f":"'Course 2 Lab'!$M$13","v":1},{"$f":"'Course 2 Lab'!$N$13","v":0},{"$f":"'Course 2 Lab'!$O$13","v":{"v":0,"d":"0%"}}]
[{"$f":"'Student 1'!$A$27","v":"Course 3 Steering & Suspension. Class."},{"$nulls":11},{"$f":"'Student 1'!$M$27","v":25}]
[{"$f":"'Student 1'!$A$28","v":" "},{"$f":"'Student 1'!$B$28","v":"Date assignment is due:"},null,{"$f":"'Student 1'!$D$28","v":"1/18"},{"$f":"'Student 1'!$E$28","v":"2/2"},{"$f":"'Student 1'!$F$28","v":"TBD"},{"$f":"'Student 1'!$G$28","v":"TBD"},{"$f":"'Student 1'!$H$28","v":"TBD"},{"$f":"'Student 1'!$I$28","v":"TBD"},{"$f":"'Student 1'!$J$28","v":"TBD"},{"$f":"'Student 1'!$K$28","v":"TBD"},{"$f":"'Student 1'!$L$28","v":"TBD"},{"$f":"'Student 1'!$M$28","v":"TBD"},{"$f":"'Student 1'!$N$28","v":"TBD"}]
[{"$f":"'Student 1'!$A$29","v":"Class Room Points:"},null,{"$f":"'Student 1'!$C$29","v":330},{"$f":"'Student 1'!$D$29","v":20},{"$f":"'Student 1'!$E$29","v":20},{"$f":"'Student 1'!$F$29","v":24},{"$f":"'Student 1'!$G$29","v":20},{"$f":"'Student 1'!$H$29","v":25},{"$f":"'Student 1'!$I$29","v":30},{"$f":"'Student 1'!$J$29","v":20},{"$f":"'Student 1'!$K$29","v":26},{"$f":"'Student 1'!$L$29","v":45},{"$f":"'Student 1'!$M$29","v":" "},{"$f":"'Student 1'!$N$29","v":100},{"$f":"'Student 1'!$O$29","v":"Evaluation"}]
[{"$f":"'Student 1'!$A$30","v":"Red is late turn-in"},null,{"$f":"'Student 1'!$C$30","v":"Blue is absent"},{"$f":"'Student 1'!$D$30","v":"HW"},{"$f":"'Student 1'!$E$30","v":"HW"},{"$f":"'Student 1'!$F$30","v":"HW"},{"$f":"'Student 1'!$G$30","v":"QZ"},{"$f":"'Student 1'!$H$30","v":"HW"},{"$f":"'Student 1'!$I$30","v":"HW"},{"$f":"'Student 1'!$J$30","v":"Test"},{"$f":"'Student 1'!$K$30","v":"HW"},{"$f":"'Student 1'!$L$30","v":"Class"},{"$f":"'Student 1'!$M$30","v":"Extra"},{"$f":"'Student 1'!$N$30","v":"Final"},{"$f":"'Student 1'!$O$30","v":"Class"},null,{"$f":"'Student 1'!$Q$30","v":"Professionalism"},null,null,{"$f":"'Student 1'!$T$30","v":"Lab"},null,{"$f":"'Student 1'!$V$30","v":"Total  "},{"$f":"'Student 1'!$W$30","v":"Letter"}]
[{"$f":"'Student 1'!$A$31","v":"I D "},{"$f":"'Student 1'!$B$31","v":"First:"},{"$f":"'Student 1'!$C$31","v":"Last:"},{"$f":"'Student 1'!$D$31","v":"CH 1"},{"$f":"'Student 1'!$E$31","v":"CH 2"},{"$f":"'Student 1'!$F$31","v":"CH 3"},{"$f":"'Student 1'!$G$31","v":"1"},{"$f":"'Student 1'!$H$31","v":"CH 6"},{"$f":"'Student 1'!$I$31","v":"CH 9"},{"$f":"'Student 1'!$J$31","v":"1 – 9"},{"$f":"'Student 1'!$K$31","v":"CH 12"},{"$f":"'Student 1'!$L$31","v":"Project"},{"$f":"'Student 1'!$M$31","v":"Credit"},{"$f":"'Student 1'!$N$31","v":"TEST"},{"$f":"'Student 1'!$O$31","v":"Points"},{"$f":"'Student 1'!$P$31","v":"%"},{"$f":"'Student 1'!$Q$31","v":"Attendance"},{"$f":"'Student 1'!$R$31","v":"Points"},{"$f":"'Student 1'!$S$31","v":"%"},{"$f":"'Student 1'!$T$31","v":"Points"},{"$f":"'Student 1'!$U$31","v":"%"},{"$f":"'Student 1'!$V$31","v":"%"},{"$f":"'Student 1'!$W$31","v":"Grade"}]
[{"$f":"'Course 3 Class'!$A$12","v":{"v":7,"d":"00000007"}},{"$f":"'Course 3 Class'!$B$12","v":"Student"},{"$f":"'Course 3 Class'!$C$12","v":"Seven"},{"$f":"'Course 3 Class'!$D$12","v":0},{"$f":"'Course 3 Class'!$E$12","v":0},{"$f":"'Course 3 Class'!$F$12","v":0},{"$f":"'Course 3 Class'!$G$12","v":0},{"$f":"'Course 3 Class'!$H$12","v":0},{"$f":"'Course 3 Class'!$I$12","v":0},{"$f":"'Course 3 Class'!$J$12","v":0},{"$f":"'Course 3 Class'!$K$12","v":0},{"$f":"'Course 3 Class'!$L$12","v":0},{"$f":"'Course 3 Class'!$M$12","v":0},{"$f":"'Course 3 Class'!$N$12","v":0},{"$f":"'Course 3 Class'!$O$12","v":0},{"$f":"'Course 3 Class'!$P$12","v":{"v":0,"d":"0%"}},{"$f":"'Course 3 Class'!$Q$12","v":{"v":1,"d":"100%"}},{"$f":"'Course 3 Class'!$R$12","v":72},{"$f":"'Course 3 Class'!$S$12","v":{"v":1,"d":"100%"}},{"$f":"'Course 3 Class'!$T$12","v":0},{"$f":"'Course 3 Class'!$U$12","v":{"v":0,"d":"0%"}},{"$f":"'Course 3 Class'!$V$12","v":{"v":0.25,"d":"25%"}},{"$f":"'Course 3 Class'!$W$12","v":"F"}]
[{"$f":"'Student 1'!$A$33","v":"Course 3 Steering & Suspension. Lab"}]
[{"$f":"'Student 1'!$A$34","v":"Max shop points"},null,{"$f":"'Student 1'!$C$34","v":1350},{"$f":"'Student 1'!$D$34","v":"Repair"},{"$f":"'Student 1'!$E$34","v":"Identify"},{"$f":"'Student 1'!$F$34","v":"Repair"},{"$f":"'Student 1'!$G$34","v":"Identify"},{"$f":"'Student 1'!$H$34","v":"Repair"},{"$f":"'Student 1'!$I$34","v":"R&R"},{"$f":"'Student 1'!$J$34","v":"R&R"},{"$f":"'Student 1'!$K$34","v":"R&R"},{"$f":"'Student 1'!$L$34","v":"P/S"},{"$f":"'Student 1'!$M$34","v":"R&R"},{"$f":"'Student 1'!$N$34","v":"NVH"},{"$f":"'Student 1'!$O$34","v":" "}]
[{"$f":"'Student 1'!$A$35","v":"Max shop points available depend on how much customer work is done."},null,null,{"$f":"'Student 1'!$D$35","v":"SLA"},{"$f":"'Student 1'!$E$35","v":"SLA"},{"$f":"'Student 1'!$F$35","v":"Mac-P"},{"$f":"'Student 1'!$G$35","v":"Mac-P"},{"$f":"'Student 1'!$H$35","v":"Rear"},{"$f":"'Student 1'!$I$35","v":"Rack &"},{"$f":"'Student 1'!$J$35","v":"Recirc."},{"$f":"'Student 1'!$K$35","v":"P/S"},{"$f":"'Student 1'!$L$35","v":"Pump"},{"$f":"'Student 1'!$M$35","v":"Inner"},{"$f":"'Student 1'!$N$35","v":"Runout &"},{"$f":"'Student 1'!$O$35","v":"Cus"},{"$f":"'Student 1'!$P$35","v":"Comp"}]
[{"$nulls":3},{"$f":"'Student 1'!$D$36","v":"Susp"},{"$f":"'Student 1'!$E$36","v":"Parts"},{"$f":"'Student 1'!$F$36","v":"Susp"},{"$f":"'Student 1'!$G$36","v":"Parts"},{"$f":"'Student 1'!$H$36","v":"Susp"},{"$f":"'Student 1'!$I$36","v":"Pinion"},{"$f":"'Student 1'!$J$36","v":"Gear"},{"$f":"'Student 1'!$K$36","v":"Pump"},{"$f":"'Student 1'!$L$36","v":"Test"},{"$f":"'Student 1'!$M$36","v":"Tie-Rod"},{"$f":"'Student 1'!$N$36","v":"bal. Check"},{"$f":"'Student 1'!$O$36","v":"tomer"},{"$f":"'Student 1'!$P$36","v":"etency"},{"$f":"'Student 1'!$Q$36","v":" "},{"$f":"'Student 1'!$R$36","v":" "},null,null,{"$f":"'Student 1'!$U$36","v":"Final Grade"}]
[{"$nulls":3},{"$f":"'Student 1'!$D$37","v":1},{"$f":"'Student 1'!$E$37","v":2},{"$f":"'Student 1'!$F$37","v":3},{"$f":"'Student 1'!$G$37","v":2},{"$f":"'Student 1'!$H$37","v":1},{"$f":"'Student 1'!$I$37","v":1},{"$f":"'Student 1'!$J$37","v":1},{"$f":"'Student 1'!$K$37","v":1},{"$f":"'Student 1'!$L$37","v":1},{"$f":"'Student 1'!$M$37","v":1},{"$f":"'Student 1'!$N$37","v":1},{"$f":"'Student 1'!$O$37","v":"Work"},{"$f":"'Student 1'!$P$37","v":"0 or 1"},{"$f":"'Student 1'!$Q$37","v":"Lab"},{"$nulls":3},{"$f":"'Student 1'!$U$37","v":{"v":0,"d":"0%"}},{"$f":"'Student 1'!$V$37","v":"F"}]
[{"$f":"'Student 1'!$A$38","v":"ID"},{"$f":"'Student 1'!$B$38","v":"First:"},{"$f":"'Student 1'!$C$38","v":"Last:"},{"$f":"'Student 1'!$D$38","v":150},{"$f":"'Student 1'!$E$38","v":50},{"$f":"'Student 1'!$F$38","v":225},{"$f":"'Student 1'!$G$38","v":50},{"$f":"'Student 1'!$H$38","v":50},{"$f":"'Student 1'!$I$38","v":150},{"$f":"'Student 1'!$J$38","v":125},{"$f":"'Student 1'!$K$38","v":50},{"$f":"'Student 1'!$L$38","v":50},{"$f":"'Student 1'!$M$38","v":50},{"$f":"'Student 1'!$N$38","v":100},{"$f":"'Student 1'!$O$38","v":300},{"$f":"'Student 1'!$P$38","v":"*"},{"$f":"'Student 1'!$Q$38","v":"Points"},{"$f":"'Student 1'!$R$38","v":"%"},null,null,{"$f":"'Student 1'!$U$38","v":{"v":0.695,"d":"70%"}},{"$f":"'Student 1'!$V$38","v":"D-"}]
[{"$f":"'Course 3 Lab'!$A$13","v":{"v":7,"d":"00000007"}},{"$f":"'Course 3 Lab'!$B$13","v":"Student"},{"$f":"'Course 3 Lab'!$C$13","v":"Seven"},{"$f":"'Course 3 Lab'!$D$13","v":0},{"$f":"'Course 3 Lab'!$E$13","v":0},{"$f":"'Course 3 Lab'!$F$13","v":0},{"$f":"'Course 3 Lab'!$G$13","v":0},{"$f":"'Course 3 Lab'!$H$13","v":0},{"$f":"'Course 3 Lab'!$I$13","v":0},{"$f":"'Course 3 Lab'!$J$13","v":0},{"$f":"'Course 3 Lab'!$K$13","v":0},{"$f":"'Course 3 Lab'!$L$13","v":0},{"$f":"'Course 3 Lab'!$M$13","v":0},{"$f":"'Course 3 Lab'!$N$13","v":0},{"$f":"'Course 3 Lab'!$O$13","v":0},{"$f":"'Course 3 Lab'!$P$13","v":1},{"$f":"'Course 3 Lab'!$Q$13","v":0},{"$f":"'Course 3 Lab'!$R$13","v":{"v":0,"d":"0%"}},null,null,{"$f":"'Student 1'!$U$39","v":{"v":0.715,"d":"72%"}},{"$f":"'Student 1'!$V$39","v":"D"}]
[{"$f":"'Student 1'!$A$40","v":"Course 4 Alignment. Class."},{"$nulls":7},{"$f":"'Student 1'!$I$40","v":25},{"$nulls":11},{"$f":"'Student 1'!$U$40","v":{"v":0.735,"d":"74%"}},{"$f":"'Student 1'!$V$40","v":"D+"}]
[{"$f":"'Student 1'!$A$41","v":" "},{"$f":"'Student 1'!$B$41","v":"Date assignment is due  "},null,{"$f":"'Student 1'!$D$41","v":"TBD"},{"$f":"'Student 1'!$E$41","v":"TBD"},{"$f":"'Student 1'!$F$41","v":"TBD"},{"$f":"'Student 1'!$G$41","v":"TBD"},{"$f":"'Student 1'!$H$41","v":"TBD"},{"$f":"'Student 1'!$I$41","v":"TBD"},{"$f":"'Student 1'!$J$41","v":"TBD"},{"$nulls":10},{"$f":"'Student 1'!$U$41","v":{"v":0.755,"d":"76%"}},{"$f":"'Student 1'!$V$41","v":"C-"}]
[{"$f":"'Student 1'!$A$42","v":"Class Room Points:"},null,{"$f":"'Student 1'!$C$42","v":235},{"$f":"'Student 1'!$D$42","v":25},{"$f":"'Student 1'!$E$42","v":25},{"$f":"'Student 1'!$F$42","v":20},{"$f":"'Student 1'!$G$42","v":40},{"$f":"'Student 1'!$H$42","v":50},{"$f":"'Student 1'!$I$42","v":" "},{"$f":"'Student 1'!$J$42","v":75},{"$f":"'Student 1'!$K$42","v":"Evaluation"},{"$nulls":9},{"$f":"'Student 1'!$U$42","v":{"v":0.785,"d":"79%"}},{"$f":"'Student 1'!$V$42","v":"C"}]
[{"$f":"'Student 1'!$A$43","v":"Red is late turn-in"},null,{"$f":"'Student 1'!$C$43","v":"Blue is absent"},{"$f":"'Student 1'!$D$43","v":"CH 16"},{"$f":"'Student 1'!$E$43","v":"CH 16"},{"$f":"'Student 1'!$F$43","v":"Align"},{"$f":"'Student 1'!$G$43","v":"In class"},{"$f":"'Student 1'!$H$43","v":"In class"},{"$f":"'Student 1'!$I$43","v":"Extra"},{"$f":"'Student 1'!$J$43","v":"Final"},{"$f":"'Student 1'!$K$43","v":"Class"},null,{"$f":"'Student 1'!$M$43","v":"Professionalism"},null,null,{"$f":"'Student 1'!$P$43","v":"Lab"},null,{"$f":"'Student 1'!$R$43","v":"Total  "},{"$f":"'Student 1'!$S$43","v":"Letter"},null,{"$f":"'Student 1'!$U$43","v":{"v":0.815,"d":"82%"}},{"$f":"'Student 1'!$V$43","v":"C+"}]
[{"$f":"'Student 1'!$A$44","v":"I D "},{"$f":"'Student 1'!$B$44","v":"First:"},{"$f":"'Student 1'!$C$44","v":"Last:"},{"$f":"'Student 1'!$D$44","v":"HW"},{"$f":"'Student 1'!$E$44","v":"Test"},{"$f":"'Student 1'!$F$44","v":"HW"},{"$f":"'Student 1'!$G$44","v":"Project1"},{"$f":"'Student 1'!$H$44","v":"Project2"},{"$f":"'Student 1'!$I$44","v":"Credit"},{"$f":"'Student 1'!$J$44","v":"Test"},{"$f":"'Student 1'!$K$44","v":"Points"},{"$f":"'Student 1'!$L$44","v":"%"},{"$f":"'Student 1'!$M$44","v":"Attendance"},{"$f":"'Student 1'!$N$44","v":"Points"},{"$f":"'Student 1'!$O$44","v":"%"},{"$f":"'Student 1'!$P$44","v":"Points"},{"$f":"'Student 1'!$Q$44","v":"%"},{"$f":"'Student 1'!$R$44","v":"%"},{"$f":"'Student 1'!$S$44","v":"Grade"},null,{"$f":"'Student 1'!$U$44","v":{"v":0.845,"d":"85%"}},{"$f":"'Student 1'!$V$44","v":"B-"}]
[{"$f":"'Course 4 Class'!$A$12","v":{"v":7,"d":"00000007"}},{"$f":"'Course 4 Class'!$B$12","v":"Student"},{"$f":"'Course 4 Class'!$C$12","v":"Seven"},{"$f":"'Course 4 Class'!$D$12","v":0},{"$f":"'Course 4 Class'!$E$12","v":0},{"$f":"'Course 4 Class'!$F$12","v":0},{"$f":"'Course 4 Class'!$G$12","v":0},{"$f":"'Course 4 Class'!$H$12","v":0},{"$f":"'Course 4 Class'!$I$12","v":0},{"$f":"'Course 4 Class'!$J$12","v":0},{"$f":"'Course 4 Class'!$K$12","v":0},{"$f":"'Course 4 Class'!$L$12","v":{"v":0,"d":"0%"}},{"$f":"'Course 4 Class'!$M$12","v":{"v":1,"d":"100%"}},{"$f":"'Course 4 Class'!$N$12","v":72},{"$f":"'Course 4 Class'!$O$12","v":{"v":1,"d":"100%"}},{"$f":"'Course 4 Class'!$P$12","v":0},{"$f":"'Course 4 Class'!$Q$12","v":{"v":0,"d":"0%"}},{"$f":"'Course 4 Class'!$R$12","v":{"v":0.25,"d":"25%"}},{"$f":"'Course 4 Class'!$S$12","v":"F"},null,{"$f":"'Student 1'!$U$45","v":{"v":0.875,"d":"88%"}},{"$f":"'Student 1'!$V$45","v":"B"}]
[{"$f":"'Student 1'!$A$46","v":"Course 4 Alignment. Lab"},{"$nulls":19},{"$f":"'Student 1'!$U$46","v":{"v":0.895,"d":"90%"}},{"$f":"'Student 1'!$V$46","v":"B+"}]
[{"$f":"'Student 1'!$A$47","v":"Max Shop Points:"},null,{"$f":"'Student 1'!$C$47","v":1300},{"$f":"'Student 1'!$D$47","v":"Alignment"},{"$f":"'Student 1'!$E$47","v":"Complete"},{"$f":"'Student 1'!$F$47","v":"Cus"},{"$f":"'Student 1'!$G$47","v":" "},{"$nulls":13},{"$f":"'Student 1'!$U$47","v":{"v":0.925,"d":"93%"}},{"$f":"'Student 1'!$V$47","v":"A-"}]
[{"$f":"'Student 1'!$A$48","v":"Max shop points available depend on how much customer work is done."},null,null,{"$f":"'Student 1'!$D$48","v":"Pre-check"},{"$f":"'Student 1'!$E$48","v":"Wheel"},{"$f":"'Student 1'!$F$48","v":"tomer"},{"$f":"'Student 1'!$G$48","v":"Comp"},{"$nulls":13},{"$f":"'Student 1'!$U$48","v":{"v":0.945,"d":"95%"}},{"$f":"'Student 1'!$V$48","v":"A"}]
[{"$nulls":3},{"$f":"'Student 1'!$D$49","v":"100 P"},{"$f":"'Student 1'!$E$49","v":"Alignment"},{"$f":"'Student 1'!$F$49","v":"Work"},{"$f":"'Student 1'!$G$49","v":"etency"},{"$f":"'Student 1'!$H$49","v":" "},{"$f":"'Student 1'!$I$49","v":" "},{"$nulls":11},{"$f":"'Student 1'!$U$49","v":{"v":1,"d":"100%"}},{"$f":"'Student 1'!$V$49","v":"A"}]
[{"$nulls":3},{"$f":"'Student 1'!$D$50","v":1},{"$f":"'Student 1'!$E$50","v":1},{"$f":"'Student 1'!$F$50","v":" "},{"$f":"'Student 1'!$G$50","v":"0 or 1"},{"$f":"'Student 1'!$H$50","v":"Lab"}]
[{"$f":"'Student 1'!$A$51","v":"ID"},{"$f":"'Student 1'!$B$51","v":"First:"},{"$f":"'Student 1'!$C$51","v":"Last:"},{"$f":"'Student 1'!$D$51","v":100},{"$f":"'Student 1'!$E$51","v":900},{"$f":"'Student 1'!$F$51","v":300},{"$f":"'Student 1'!$G$51","v":"*"},{"$f":"'Student 1'!$H$51","v":"Points"},{"$f":"'Student 1'!$I$51","v":"%"}]
[{"$f":"'Course 4 Lab'!$A$13","v":{"v":7,"d":"00000007"}},{"$f":"'Course 4 Lab'!$B$13","v":"Student"},{"$f":"'Course 4 Lab'!$C$13","v":"Seven"},{"$f":"'Course 4 Lab'!$D$13","v":0},{"$f":"'Course 4 Lab'!$E$13","v":0},{"$f":"'Course 4 Lab'!$F$13","v":0},{"$f":"'Course 4 Lab'!$G$13","v":1},{"$f":"'Course 4 Lab'!$H$13","v":0},{"$f":"'Course 4 Lab'!$I$13","v":{"v":0,"d":"0%"}}]
[{"$f":"'Student 1'!$A$53","v":"Course 5 Brake Systems. Class."},{"$nulls":10},{"$f":"'Student 1'!$L$53","v":35}]
[{"$f":"'Student 1'!$A$54","v":"Date assignment is due:"},null,{"$f":"'Student 1'!$C$54","v":" "},{"$f":"'Student 1'!$D$54","v":"TBD"},{"$f":"'Student 1'!$E$54","v":"TBD"},{"$f":"'Student 1'!$F$54","v":"TBD"},{"$f":"'Student 1'!$G$54","v":"TBD"},{"$f":"'Student 1'!$H$54","v":"TBD"},{"$f":"'Student 1'!$I$54","v":"TBD"},{"$f":"'Student 1'!$J$54","v":"TBD"},{"$f":"'Student 1'!$K$54","v":"TBD"},{"$f":"'Student 1'!$L$54","v":"TBD"},{"$f":"'Student 1'!$M$54","v":"TBD"}]
[{"$f":"'Student 1'!$A$55","v":"Class Room Points:"},null,{"$f":"'Student 1'!$C$55","v":440},{"$f":"'Student 1'!$D$55","v":30},{"$f":"'Student 1'!$E$55","v":25},{"$f":"'Student 1'!$F$55","v":100},{"$f":"'Student 1'!$G$55","v":30},{"$f":"'Student 1'!$H$55","v":50},{"$f":"'Student 1'!$I$55","v":30},{"$f":"'Student 1'!$J$55","v":25},{"$f":"'Student 1'!$K$55","v":50},{"$f":"'Student 1'!$L$55","v":" "},{"$f":"'Student 1'!$M$55","v":100},{"$f":"'Student 1'!$N$55","v":"Evaluation"}]
[{"$f":"'Student 1'!$A$56","v":"Red is late turn-in"},null,{"$f":"'Student 1'!$C$56","v":"Blue is absent"},{"$f":"'Student 1'!$D$56","v":"HW"},{"$f":"'Student 1'!$E$56","v":"HW"},{"$f":"'Student 1'!$F$56","v":"Test"},{"$f":"'Student 1'!$G$56","v":"HW"},{"$f":"'Student 1'!$H$56","v":"Test"},{"$f":"'Student 1'!$I$56","v":"HW"},{"$f":"'Student 1'!$J$56","v":"Test"},{"$f":"'Student 1'!$K$56","v":"Class"},{"$f":"'Student 1'!$L$56","v":"Extra"},{"$f":"'Student 1'!$M$56","v":"Final"},{"$f":"'Student 1'!$N$56","v":"Class"},null,{"$f":"'Student 1'!$P$56","v":"Professionalism"},null,null,{"$f":"'Student 1'!$S$56","v":"Lab"},null,{"$f":"'Student 1'!$U$56","v":"Total  "},{"$f":"'Student 1'!$V$56","v":"Letter"}]
[{"$f":"'Student 1'!$A$57","v":"I D "},{"$f":"'Student 1'!$B$57","v":"First:"},{"$f":"'Student 1'!$C$57","v":"Last:"},{"$f":"'Student 1'!$D$57","v":"CH 4"},{"$f":"'Student 1'!$E$57","v":"CH 5"},{"$f":"'Student 1'!$F$57","v":"#1"},{"$f":"'Student 1'!$G$57","v":"CH 7"},{"$f":"'Student 1'!$H$57","v":"Conv"},{"$f":"'Student 1'!$I$57","v":"CH 20"},{"$f":"'Student 1'!$J$57","v":"21/22"},{"$f":"'Student 1'!$K$57","v":"Project"},{"$f":"'Student 1'!$L$57","v":"Credit"},{"$f":"'Student 1'!$M$57","v":"Test"},{"$f":"'Student 1'!$N$57","v":"Points"},{"$f":"'Student 1'!$O$57","v":"%"},{"$f":"'Student 1'!$P$57","v":"Attendance"},{"$f":"'Student 1'!$Q$57","v":"Points"},{"$f":"'Student 1'!$R$57","v":"%"},{"$f":"'Student 1'!$S$57","v":"Points"},{"$f":"'Student 1'!$T$57","v":"%"},{"$f":"'Student 1'!$U$57","v":"%"},{"$f":"'Student 1'!$V$57","v":"Grade"}]
[{"$f":"'Course 5 Class'!$A$12","v":{"v":7,"d":"00000007"}},{"$f":"'Course 5 Class'!$B$12","v":"Student"},{"$f":"'Course 5 Class'!$C$12","v":"Seven"},{"$f":"'Course 5 Class'!$D$12","v":0},{"$f":"'Course 5 Class'!$E$12","v":0},{"$f":"'Course 5 Class'!$F$12","v":0},{"$f":"'Course 5 Class'!$G$12","v":0},{"$f":"'Course 5 Class'!$H$12","v":0},{"$f":"'Course 5 Class'!$I$12","v":0},{"$f":"'Course 5 Class'!$J$12","v":0},{"$f":"'Course 5 Class'!$K$12","v":0},{"$f":"'Course 5 Class'!$L$12","v":0},{"$f":"'Course 5 Class'!$M$12","v":0},{"$f":"'Course 5 Class'!$N$12","v":0},{"$f":"'Course 5 Class'!$O$12","v":{"v":0,"d":"0%"}},{"$f":"'Course 5 Class'!$P$12","v":{"v":1,"d":"100%"}},{"$f":"'Course 5 Class'!$Q$12","v":72},{"$f":"'Course 5 Class'!$R$12","v":{"v":1,"d":"100%"}},{"$f":"'Course 5 Class'!$S$12","v":0},{"$f":"'Course 5 Class'!$T$12","v":{"v":0,"d":"0%"}},{"$f":"'Course 5 Class'!$U$12","v":{"v":0.25,"d":"25%"}},{"$f":"'Course 5 Class'!$V$12","v":"F"}]
[{"$f":"'Student 1'!$A$59","v":"Course 5 Brake Systems. Lab"}]
[{"$f":"'Student 1'!$A$60","v":"  Max Shop Points:"},null,{"$f":"'Student 1'!$C$60","v":970},{"$f":"'Student 1'!$D$60","v":"Drum"},{"$f":"'Student 1'!$E$60","v":"Drum "},{"$f":"'Student 1'!$F$60","v":"Disc"},{"$f":"'Student 1'!$G$60","v":"On Car"},{"$f":"'Student 1'!$H$60","v":"Off Car"},{"$f":"'Student 1'!$I$60","v":"Wheel"},{"$f":"'Student 1'!$J$60","v":"Hydr."},{"$f":"'Student 1'!$K$60","v":"Vacuum"},{"$f":"'Student 1'!$L$60","v":"Warning"},{"$f":"'Student 1'!$M$60","v":"Brake"},{"$f":"'Student 1'!$N$60","v":"Brake"},{"$f":"'Student 1'!$O$60","v":"Dodge"},{"$f":"'Student 1'!$P$60","v":"Ford"},{"$f":"'Student 1'!$Q$60","v":"GM"},{"$f":"'Student 1'!$R$60","v":"Cus"},{"$f":"'Student 1'!$S$60","v":"Brake"}]
[{"$f":"'Student 1'!$A$61","v":"Max shop points available depend on how much customer work is done."},null,null,{"$f":"'Student 1'!$D$61","v":"Brake"},{"$f":"'Student 1'!$E$61","v":"Brake "},{"$f":"'Student 1'!$F$61","v":"Brake"},{"$f":"'Student 1'!$G$61","v":"Disc"},{"$f":"'Student 1'!$H$61","v":"Disc"},{"$f":"'Student 1'!$I$61","v":"Bearing"},{"$f":"'Student 1'!$J$61","v":"Line"},{"$f":"'Student 1'!$K$61","v":"Booster"},{"$f":"'Student 1'!$L$61","v":"Light"},{"$f":"'Student 1'!$M$61","v":"System"},{"$f":"'Student 1'!$N$61","v":"Valves"},{"$f":"'Student 1'!$O$61","v":"Anti"},{"$f":"'Student 1'!$P$61","v":"Anti"},{"$f":"'Student 1'!$Q$61","v":"Anti"},{"$f":"'Student 1'!$R$61","v":"tomer"},{"$f":"'Student 1'!$S$61","v":"Comp"}]
[{"$nulls":3},{"$f":"'Student 1'!$D$62","v":"Job"},{"$f":"'Student 1'!$E$62","v":"Mach."},{"$f":"'Student 1'!$F$62","v":"Job"},{"$f":"'Student 1'!$G$62","v":"Mach."},{"$f":"'Student 1'!$H$62","v":"Mach."},{"$f":"'Student 1'!$I$62","v":"Service"},{"$f":"'Student 1'!$J$62","v":"Repair"},{"$f":"'Student 1'!$K$62","v":"Service"},{"$f":"'Student 1'!$L$62","v":"Service"},{"$f":"'Student 1'!$M$62","v":"Bleed"},{"$f":"'Student 1'!$N$62","v":"Check"},{"$f":"'Student 1'!$O$62","v":"Lock"},{"$f":"'Student 1'!$P$62","v":"Lock"},{"$f":"'Student 1'!$Q$62","v":"Lock"},{"$f":"'Student 1'!$R$62","v":"Work"},{"$f":"'Student 1'!$S$62","v":"etency"}]
[{"$nulls":3},{"$f":"'Student 1'!$D$63","v":2},{"$f":"'Student 1'!$E$63","v":2},{"$f":"'Student 1'!$F$63","v":2},{"$f":"'Student 1'!$G$63","v":2},{"$f":"'Student 1'!$H$63","v":2},{"$f":"'Student 1'!$I$63","v":1},{"$f":"'Student 1'!$J$63","v":1},{"$f":"'Student 1'!$K$63","v":2},{"$f":"'Student 1'!$L$63","v":2},{"$f":"'Student 1'!$M$63","v":4},{"$f":"'Student 1'!$N$63","v":1},{"$f":"'Student 1'!$O$63","v":1},{"$f":"'Student 1'!$P$63","v":1},{"$f":"'Student 1'!$Q$63","v":1},{"$f":"'Student 1'!$R$63","v":" "},{"$f":"'Student 1'!$S$63","v":"Required"},{"$f":"'Student 1'!$T$63","v":"Lab"}]
[{"$f":"'Student 1'!$A$64","v":"ID"},{"$f":"'Student 1'!$B$64","v":"First:"},{"$f":"'Student 1'!$C$64","v":"Last:"},{"$f":"'Student 1'!$D$64","v":150},{"$f":"'Student 1'!$E$64","v":40},{"$f":"'Student 1'!$F$64","v":150},{"$f":"'Student 1'!$G$64","v":80},{"$f":"'Student 1'!$H$64","v":40},{"$f":"'Student 1'!$I$64","v":50},{"$f":"'Student 1'!$J$64","v":30},{"$f":"'Student 1'!$K$64","v":30},{"$f":"'Student 1'!$L$64","v":40},{"$f":"'Student 1'!$M$64","v":80},{"$f":"'Student 1'!$N$64","v":40},{"$f":"'Student 1'!$O$64","v":80},{"$f":"'Student 1'!$P$64","v":80},{"$f":"'Student 1'!$Q$64","v":80},{"$f":"'Student 1'!$R$64","v":300},{"$f":"'Student 1'!$S$64","v":"*"},{"$f":"'Student 1'!$T$64","v":"Points"},{"$f":"'Student 1'!$U$64","v":"%"}]
[{"$f":"'Course 5 Lab'!$A$13","v":{"v":7,"d":"00000007"}},{"$f":"'Course 5 Lab'!$B$13","v":"Student"},{"$f":"'Course 5 Lab'!$C$13","v":"Seven"},{"$f":"'Course 5 Lab'!$D$13","v":0},{"$f":"'Course 5 Lab'!$E$13","v":0},{"$f":"'Course 5 Lab'!$F$13","v":0},{"$f":"'Course 5 Lab'!$G$13","v":0},{"$f":"'Course 5 Lab'!$H$13","v":0},{"$f":"'Course 5 Lab'!$I$13","v":0},{"$f":"'Course 5 Lab'!$J$13","v":0},{"$f":"'Course 5 Lab'!$K$13","v":0},{"$f":"'Course 5 Lab'!$L$13","v":0},{"$f":"'Course 5 Lab'!$M$13","v":0},{"$f":"'Course 5 Lab'!$N$13","v":0},{"$f":"'Course 5 Lab'!$O$13","v":0},{"$f":"'Course 5 Lab'!$P$13","v":0},{"$f":"'Course 5 Lab'!$Q$13","v":0},{"$f":"'Course 5 Lab'!$R$13","v":0},{"$f":"'Course 5 Lab'!$S$13","v":1},{"$f":"'Course 5 Lab'!$T$13","v":0},{"$f":"'Course 5 Lab'!$U$13","v":{"v":0,"d":"0%"}}]

{"sheet":"Student 8","index":21,"n_rows":65,"n_cols":23,"rows_kept":65,"merged":[[0,0,0,2],[1,0,1,2],[2,0,2,1],[2,9,2,17],[3,0,3,1],[3,9,3,10],[3,11,3,13],[3,14,3,15],[6,0,6,2],[7,0,7,1],[8,0,10,2],[10,16,10,17],[13,0,13,2],[14,1,14,2],[15,0,15,1],[15,11,15,19],[16,0,16,1],[16,11,16,12],[16,13,16,15],[16,16,16,17],[19,0,19,2],[20,0,20,1],[21,0,23,2],[23,13,23,14],[26,0,26,2],[27,1,27,2],[28,0,28,1],[28,14,28,22],[29,0,29,1],[29,14,29,15],[29,16,29,18],[29,19,29,20],[32,0,32,2],[33,0,33,1],[34,0,36,2],[35,20,35,21],[36,16,36,17],[39,0,39,2],[40,1,40,2],[41,0,41,1],[41,10,41,18],[42,0,42,1],[42,10,42,11],[42,12,42,14],[42,15,42,16],[45,0,45,2],[46,0,46,1],[47,0,49,2],[49,7,49,8],[52,0,52,2],[53,0,53,2],[54,0,54,1],[54,13,54,21],[55,0,55,1],[55,13,55,14],[55,15,55,17],[55,18,55,19],[58,0,58,2],[59,0,59,1],[60,0,62,2],[62,19,62,20]]}
[{"$f":"'Student 1'!$A$1","v":"Course 1 Engine Diagnosis. Class"},{"$nulls":6},{"$f":"'Student 1'!$H$1","v":25}]
[{"$f":"'Student 1'!$A$2","v":"Date assignment is due"},null,{"$f":"'Student 1'!$C$2","v":" "},{"$f":"'Student 1'!$D$2","v":"TBD"},{"$f":"'Student 1'!$E$2","v":"TBD"},{"$f":"'Student 1'!$F$2","v":"TBD"},{"$f":"'Student 1'!$G$2","v":"TBD"},{"$f":"'Student 1'!$H$2","v":"TBD"},{"$f":"'Student 1'!$I$2","v":"TBD"}]
[{"$f":"'Student 1'!$A$3","v":"Class Room Points:"},null,{"$f":"'Student 1'!$C$3","v":160},{"$f":"'Student 1'!$D$3","v":20},{"$f":"'Student 1'!$E$3","v":20},{"$f":"'Student 1'!$F$3","v":20},{"$f":"'Student 1'!$G$3","v":25},{"$f":"'Student 1'!$H$3","v":" "},{"$f":"'Student 1'!$I$3","v":75},{"$f":"'Student 1'!$J$3","v":"Evaluation"}]
[{"$f":"'Student 1'!$A$4","v":"Red is late turn-in"},null,{"$f":"'Student 1'!$C$4","v":"Blue is absent"},{"$f":"'Student 1'!$D$4","v":"CH 13 "},{"$f":"'Student 1'!$E$4","v":"Lube"},{"$f":"'Student 1'!$F$4","v":"Lube"},{"$f":"'Student 1'!$G$4","v":"Condition"},{"$f":"'Student 1'!$H$4","v":"Extra"},{"$f":"'Student 1'!$I$4","v":"Final"},{"$f":"'Student 1'!$J$4","v":"Classroom"},null,{"$f":"'Student 1'!$L$4","v":"Professionalism"},null,null,{"$f":"'Student 1'!$O$4","v":"Lab"},null,{"$f":"'Student 1'!$Q$4","v":"Total  "},{"$f":"'Student 1'!$R$4","v":"Letter"}]
[{"$f":"'Student 1'!$A$5","v":"I D "},{"$f":"'Student 1'!$B$5","v":"First:"},{"$f":"'Student 1'!$C$5","v":"Last:"},{"$f":"'Student 1'!$D$5","v":"Test"},{"$f":"'Student 1'!$E$5","v":"HW"},{"$f":"'Student 1'!$F$5","v":"Test"},{"$f":"'Student 1'!$G$5","v":"Class"},{"$f":"'Student 1'!$H$5","v":"Credit"},{"$f":"'Student 1'!$I$5","v":"Test"},{"$f":"'Student 1'!$J$5","v":"Points"},{"$f":"'Student 1'!$K$5","v":"%"},{"$f":"'Student 1'!$L$5","v":"Attendance"},{"$f":"'Student 1'!$M$5","v":"Points"},{"$f":"'Student 1'!$N$5","v":"%"},{"$f":"'Student 1'!$O$5","v":"Points"},{"$f":"'Student 1'!$P$5","v":"%"},{"$f":"'Student 1'!$Q$5","v":"%"},{"$f":"'Student 1'!$R$5","v":"Grade"}]
[{"$f":"'Course 1 Class'!$A$13","v":{"v":8,"d":"00000008"}},{"$f":"'Course 1 Class'!$B$13","v":"Student"},{"$f":"'Course 1 Class'!$C$13","v":"Eight"},{"$f":"'Course 1 Class'!$D$13","v":0},{"$f":"'Course 1 Class'!$E$13","v":0},{"$f":"'Course 1 Class'!$F$13","v":0},{"$f":"'Course 1 Class'!$G$13","v":0},{"$f":"'Course 1 Class'!$H$13","v":0},{"$f":"'Course 1 Class'!$I$13","v":0},{"$f":"'Course 1 Class'!$J$13","v":0},{"$f":"'Course 1 Class'!$K$13","v":{"v":0,"d":"0%"}},{"$f":"'Course 1 Class'!$L$13","v":{"v":1,"d":"100%"}},{"$f":"'Course 1 Class'!$M$13","v":72},{"$f":"'Course 1 Class'!$N$13","v":{"v":1,"d":"100%"}},{"$f":"'Course 1 Class'!$O$13","v":0},{"$f":"'Course 1 Class'!$P$13","v":{"v":0,"d":"0%"}},{"$f":"'Course 1 Class'!$Q$13","v":{"v":0.25,"d":"25%"}},{"$f":"'Course 1 Class'!$R$13","v":"F"}]
[{"$f":"'Student 1'!$A$7","v":"Course 1 Engine Diagnosis. Lab"}]
[{"$f":"'Student 1'!$A$8","v":"  Max Shop Points:"},null,{"$f":"'Student 1'!$C$8","v":1325},{"$f":"'Student 1'!$D$8","v":"Dry"},{"$f":"'Student 1'!$E$8","v":"Wet"},{"$f":"'Student 1'!$F$8","v":"Running"},{"$f":"'Student 1'!$G$8","v":"Cylinder"},{"$f":"'Student 1'!$H$8","v":"Oil"},{"$f":"'Student 1'!$I$8","v":"Cooling"},{"$f":"'Student 1'!$J$8","v":"Vacuum"},{"$f":"'Student 1'!$K$8","v":"PCV"},{"$f":"'Student 1'!$L$8","v":"Thermostat"},{"$f":"'Student 1'!$M$8","v":"Fluid"},{"$f":"'Student 1'!$N$8","v":"Diag"},{"$f":"'Student 1'!$O$8","v":" "}]
[{"$f":"'Student 1'!$A$9","v":"Max shop points available depend on how much customer work is done."},null,null,{"$f":"'Student 1'!$D$9","v":"Compr"},{"$f":"'Student 1'!$E$9","v":"Compr"},{"$f":"'Student 1'!$F$9","v":"Compr"},{"$f":"'Student 1'!$G$9","v":"Leakage"},{"$f":"'Student 1'!$H$9","v":"Pressure"},{"$f":"'Student 1'!$I$9","v":"System"},{"$f":"'Student 1'!$J$9","v":"Gauge"},{"$f":"'Student 1'!$K$9","v":"System"},{"$f":"'Student 1'!$L$9","v":"and fan"},{"$f":"'Student 1'!$M$9","v":"Leak"},{"$f":"'Student 1'!$N$9","v":"gauges"},{"$f":"'Student 1'!$O$9","v":"Cus"},{"$f":"'Student 1'!$P$9","v":"Comp"}]
[{"$nulls":3},{"$f":"'Student 1'!$D$10","v":"Test"},{"$f":"'Student 1'!$E$10","v":"Test"},{"$f":"'Student 1'!$F$10","v":"Test"},{"$f":"'Student 1'!$G$10","v":"Test"},{"$f":"'Student 1'!$H$10","v":"Test"},{"$f":"'Student 1'!$I$10","v":"Test"},{"$f":"'Student 1'!$J$10","v":"Test"},{"$f":"'Student 1'!$K$10","v":"Check"},{"$f":"'Student 1'!$L$10","v":"Operation"},{"$f":"'Student 1'!$M$10","v":"Check"},{"$f":"'Student 1'!$N$10","v":"any vehicle"},{"$f":"'Student 1'!$O$10","v":"tomer"},{"$f":"'Student 1'!$P$10","v":"etency"},{"$f":"'Student 1'!$Q$10","v":"  "},{"$f":"'Student 1'!$R$10","v":" "}]
[{"$nulls":3},{"$f":"'Student 1'!$D$11","v":2},{"$f":"'Student 1'!$E$11","v":2},{"$f":"'Student 1'!$F$11","v":2},{"$f":"'Student 1'!$G$11","v":2},{"$f":"'Student 1'!$H$11","v":2},{"$f":"'Student 1'!$I$11","v":2},{"$f":"'Student 1'!$J$11","v":2},{"$f":"'Student 1'!$K$11","v":2},{"$f":"'Student 1'!$L$11","v":2},{"$f":"'Student 1'!$M$11","v":1},{"$f":"'Student 1'!$N$11","v":1},{"$f":"'Student 1'!$O$11","v":"Work"},{"$f":"'Student 1'!$P$11","v":"0 or 1"},{"$f":"'Student 1'!$Q$11","v":"Lab"}]
[{"$f":"'Student 1'!$A$12","v":"ID"},{"$f":"'Student 1'!$B$12","v":"First:"},{"$f":"'Student 1'!$C$12","v":"Last:"},{"$f":"'Student 1'!$D$12","v":100},{"$f":"'Student 1'!$E$12","v":100},{"$f":"'Student 1'!$F$12","v":100},{"$f":"'Student 1'!$G$12","v":100},{"$f":"'Student 1'!$H$12","v":100},{"$f":"'Student 1'!$I$12","v":150},{"$f":"'Student 1'!$J$12","v":100},{"$f":"'Student 1'!$K$12","v":50},{"$f":"'Student 1'!$L$12","v":100},{"$f":"'Student 1'!$M$12","v":25},{"$f":"'Student 1'!$N$12","v":100},{"$f":"'Student 1'!$O$12","v":300},{"$f":"'Student 1'!$P$12","v":"*"},{"$f":"'Student 1'!$Q$12","v":"Points"},{"$f":"'Student 1'!$R$12","v":"%"}]
[{"$f":"'Course 1 Lab'!$A$14","v":{"v":8,"d":"00000008"}},{"$f":"'Course 1 Lab'!$B$14","v":"Student"},{"$f":"'Course 1 Lab'!$C$14","v":"Eight"},{"$f":"'Course 1 Lab'!$D$14","v":0},{"$f":"'Course 1 Lab'!$E$14","v":0},{"$f":"'Course 1 Lab'!$F$14","v":0},{"$f":"'Course 1 Lab'!$G$14","v":0},{"$f":"'Course 1 Lab'!$H$14","v":0},{"$f":"'Course 1 Lab'!$I$14","v":0},{"$f":"'Course 1 Lab'!$J$14","v":0},{"$f":"'Course 1 Lab'!$K$14","v":0},{"$f":"'Course 1 Lab'!$L$14","v":0},{"$f":"'Course 1 Lab'!$M$14","v":0},{"$f":"'Course 1 Lab'!$N$14","v":0},{"$f":"'Course 1 Lab'!$O$14","v":0},{"$f":"'Course 1 Lab'!$P$14","v":1},{"$f":"'Course 1 Lab'!$Q$14","v":0},{"$f":"'Course 1 Lab'!$R$14","v":{"v":0,"d":"0%"}}]
[{"$f":"'Student 1'!$A$14","v":"Course 2 Engine Theory & Repair. Class"},{"$nulls":8},{"$f":"'Student 1'!$J$14","v":25}]
[{"$f":"'Student 1'!$A$15","v":" "},{"$f":"'Student 1'!$B$15","v":"Date assignment is due:"},null,{"$f":"'Student 1'!$D$15","v":"TBD"},{"$f":"'Student 1'!$E$15","v":"TBD"},{"$f":"'Student 1'!$F$15","v":"TBD"},{"$f":"'Student 1'!$G$15","v":"TBD"},{"$f":"'Student 1'!$H$15","v":"TBD"},{"$f":"'Student 1'!$I$15","v":"TBD"},{"$f":"'Student 1'!$J$15","v":"TBD"},{"$f":"'Student 1'!$K$15","v":"TBD"}]
[{"$f":"'Student 1'!$A$16","v":"Class Room Points:"},null,{"$f":"'Student 1'!$C$16","v":201},{"$f":"'Student 1'!$D$16","v":10},{"$f":"'Student 1'!$E$16","v":10},{"$f":"'Student 1'!$F$16","v":20},{"$f":"'Student 1'!$G$16","v":20},{"$f":"'Student 1'!$H$16","v":16},{"$f":"'Student 1'!$I$16","v":25},{"$f":"'Student 1'!$J$16","v":" "},{"$f":"'Student 1'!$K$16","v":100},{"$f":"'Student 1'!$L$16","v":"Evaluation"}]
[{"$f":"'Student 1'!$A$17","v":"Red is late turn-in"},null,{"$f":"'Student 1'!$C$17","v":"Blue is absent"},{"$f":"'Student 1'!$D$17","v":"HW"},{"$f":"'Student 1'!$E$17","v":"HW "},{"$f":"'Student 1'!$F$17","v":"Test"},{"$f":"'Student 1'!$G$17","v":"Test"},{"$f":"'Student 1'!$H$17","v":"HW"},{"$f":"'Student 1'!$I$17","v":"Test"},{"$f":"'Student 1'!$J$17","v":"Extra"},{"$f":"'Student 1'!$K$17","v":"Final "},{"$f":"'Student 1'!$L$17","v":"Class"},null,{"$f":"'Student 1'!$N$17","v":"Professionalism"},null,null,{"$f":"'Student 1'!$Q$17","v":"Lab"},null,{"$f":"'Student 1'!$S$17","v":"Total  "},{"$f":"'Student 1'!$T$17","v":"Letter"}]
[{"$f":"'Student 1'!$A$18","v":"I D "},{"$f":"'Student 1'!$B$18","v":"First:"},{"$f":"'Student 1'!$C$18","v":"Last:"},{"$f":"'Student 1'!$D$18","v":"CH 7"},{"$f":"'Student 1'!$E$18","v":"CH 14"},{"$f":"'Student 1'!$F$18","v":"C & L"},{"$f":"'Student 1'!$G$18","v":"CH 18"},{"$f":"'Student 1'!$H$18","v":"CH 22"},{"$f":"'Student 1'!$I$18","v":"CH 22"},{"$f":"'Student 1'!$J$18","v":"Credit"},{"$f":"'Student 1'!$K$18","v":"TEST"},{"$f":"'Student 1'!$L$18","v":"Points"},{"$f":"'Student 1'!$M$18","v":"%"},{"$f":"'Student 1'!$N$18","v":"Attendance"},{"$f":"'Student 1'!$O$18","v":"Points"},{"$f":"'Student 1'!$P$18","v":"%"},{"$f":"'Student 1'!$Q$18","v":"Points"},{"$f":"'Student 1'!$R$18","v":"%"},{"$f":"'Student 1'!$S$18","v":"%"},{"$f":"'Student 1'!$T$18","v":"Grade"}]
[{"$f":"'Course 2 Class'!$A$13","v":{"v":8,"d":"00000008"}},{"$f":"'Course 2 Class'!$B$13","v":"Student"},{"$f":"'Course 2 Class'!$C$13","v":"Eight"},{"$f":"'Course 2 Class'!$D$13","v":0},{"$f":"'Course 2 Class'!$E$13","v":0},{"$f":"'Course 2 Class'!$F$13","v":0},{"$f":"'Course 2 Class'!$G$13","v":0},{"$f":"'Course 2 Class'!$H$13","v":0},{"$f":"'Course 2 Class'!$I$13","v":0},{"$f":"'Course 2 Class'!$J$13","v":0},{"$f":"'Course 2 Class'!$K$13","v":0},{"$f":"'Course 2 Class'!$L$13","v":0},{"$f":"'Course 2 Class'!$M$13","v":{"v":0,"d":"0%"}},{"$f":"'Course 2 Class'!$N$13","v":{"v":1,"d":"100%"}},{"$f":"'Course 2 Class'!$O$13","v":72},{"$f":"'Course 2 Class'!$P$13","v":{"v":1,"d":"100%"}},{"$f":"'Course 2 Class'!$Q$13","v":0},{"$f":"'Course 2 Class'!$R$13","v":{"v":0,"d":"0%"}},{"$f":"'Course 2 Class'!$S$13","v":{"v":0.25,"d":"25%"}},{"$f":"'Course 2 Class'!$T$13","v":"F"}]
[{"$f":"'Student 1'!$A$20","v":"Course 2 Engine Theory & Repair. Lab"}]
[{"$f":"'Student 1'!$A$21","v":"  Max Shop Points:"},null,{"$f":"'Student 1'!$C$21","v":1450},{"$f":"'Student 1'!$D$21","v":"Engine"},{"$f":"'Student 1'!$E$21","v":"Cylinder"},{"$f":"'Student 1'!$F$21","v":"Red"},{"$f":"'Student 1'!$G$21","v":"Mitsubishi"},{"$f":"'Student 1'!$H$21","v":"Any"},{"$f":"'Student 1'!$I$21","v":"DOHC"},{"$f":"'Student 1'!$J$21","v":"Valve seal"},{"$f":"'Student 1'!$K$21","v":"Misc."},{"$f":"'Student 1'!$L$21","v":" "}]
[{"$f":"'Student 1'!$A$22","v":"Max shop points available depend on how much customer work is done."},null,null,{"$f":"'Student 1'!$D$22","v":"Disassemble"},{"$f":"'Student 1'!$E$22","v":"Head"},{"$f":"'Student 1'!$F$22","v":"Dodge"},{"$f":"'Student 1'!$G$22","v":"\"3.0L\""},{"$f":"'Student 1'!$H$22","v":"Engine"},{"$f":"'Student 1'!$I$22","v":"Engine"},{"$f":"'Student 1'!$J$22","v":"&"},{"$f":"'Student 1'!$K$22","v":"Engine "},{"$f":"'Student 1'!$L$22","v":"Cus"},{"$f":"'Student 1'!$M$22","v":"Comp"}]
[{"$nulls":3},{"$f":"'Student 1'!$D$23","v":"& Measure"},{"$f":"'Student 1'!$E$23","v":"Repair"},{"$f":"'Student 1'!$F$23","v":"Clip"},{"$f":"'Student 1'!$G$23","v":"Clip"},{"$f":"'Student 1'!$H$23","v":"T-chain"},{"$f":"'Student 1'!$I$23","v":" Stand"},{"$f":"'Student 1'!$J$23","v":"Lobe lift"},{"$f":"'Student 1'!$K$23","v":"Points"},{"$f":"'Student 1'!$L$23","v":"tomer"},{"$f":"'Student 1'!$M$23","v":"etency"},{"$f":"'Student 1'!$N$23","v":" "},{"$f":"'Student 1'!$O$23","v":" "}]
[{"$nulls":3},{"$f":"'Student 1'!$D$24","v":1},{"$f":"'Student 1'!$E$24","v":1},{"$f":"'Student 1'!$F$24","v":1},{"$f":"'Student 1'!$G$24","v":1},{"$f":"'Student 1'!$H$24","v":1},{"$f":"'Student 1'!$I$24","v":1},{"$f":"'Student 1'!$J$24","v":1},null,{"$f":"'Student 1'!$L$24","v":"Work"},{"$f":"'Student 1'!$M$24","v":"0 or 1"},{"$f":"'Student 1'!$N$24","v":"Lab"}]
[{"$f":"'Student 1'!$A$25","v":"ID"},{"$f":"'Student 1'!$B$25","v":"First:"},{"$f":"'Student 1'!$C$25","v":"Last:"},{"$f":"'Student 1'!$D$25","v":300},{"$f":"'Student 1'!$E$25","v":200},{"$f":"'Student 1'!$F$25","v":100},{"$f":"'Student 1'!$G$25","v":100},{"$f":"'Student 1'!$H$25","v":100},{"$f":"'Student 1'!$I$25","v":100},{"$f":"'Student 1'!$J$25","v":50},{"$f":"'Student 1'!$K$25","v":200},{"$f":"'Student 1'!$L$25","v":300},{"$f":"'Student 1'!$M$25","v":"*"},{"$f":"'Student 1'!$N$25","v":"Points"},{"$f":"'Student 1'!$O$25","v":"%"}]
[{"$f":"'Course 2 Lab'!$A$14","v":{"v":8,"d":"00000008"}},{"$f":"'Course 2 Lab'!$B$14","v":"Student"},{"$f":"'Course 2 Lab'!$C$14","v":"Eight"},{"$f":"'Course 2 Lab'!$D$14","v":0},{"$f":"'Course 2 Lab'!$E$14","v":0},{"$f":"'Course 2 Lab'!$F$14","v":0},{"$f":"'Course 2 Lab'!$G$14","v":0},{"$f":"'Course 2 Lab'!$H$14","v":0},{"$f":"'Course 2 Lab'!$I$14","v":0},{"$f":"'Course 2 Lab'!$J$14","v":0},{"$f":"'Course 2 Lab'!$K$14","v":0},{"$f":"'Course 2 Lab'!$L$14","v":0},{"$f":"'Course 2 Lab'!$M$14","v":1},{"$f":"'Course 2 Lab'!$N$14","v":0},{"$f":"'Course 2 Lab'!$O$14","v":{"v":0,"d":"0%"}}]
[{"$f":"'Student 1'!$A$27","v":"Course 3 Steering & Suspension. Class."},{"$nulls":11},{"$f":"'Student 1'!$M$27","v":25}]
[{"$f":"'Student 1'!$A$28","v":" "},{"$f":"'Student 1'!$B$28","v":"Date assignment is due:"},null,{"$f":"'Student 1'!$D$28","v":"1/18"},{"$f":"'Student 1'!$E$28","v":"2/2"},{"$f":"'Student 1'!$F$28","v":"TBD"},{"$f":"'Student 1'!$G$28","v":"TBD"},{"$f":"'Student 1'!$H$28","v":"TBD"},{"$f":"'Student 1'!$I$28","v":"TBD"},{"$f":"'Student 1'!$J$28","v":"TBD"},{"$f":"'Student 1'!$K$28","v":"TBD"},{"$f":"'Student 1'!$L$28","v":"TBD"},{"$f":"'Student 1'!$M$28","v":"TBD"},{"$f":"'Student 1'!$N$28","v":"TBD"}]
[{"$f":"'Student 1'!$A$29","v":"Class Room Points:"},null,{"$f":"'Student 1'!$C$29","v":330},{"$f":"'Student 1'!$D$29","v":20},{"$f":"'Student 1'!$E$29","v":20},{"$f":"'Student 1'!$F$29","v":24},{"$f":"'Student 1'!$G$29","v":20},{"$f":"'Student 1'!$H$29","v":25},{"$f":"'Student 1'!$I$29","v":30},{"$f":"'Student 1'!$J$29","v":20},{"$f":"'Student 1'!$K$29","v":26},{"$f":"'Student 1'!$L$29","v":45},{"$f":"'Student 1'!$M$29","v":" "},{"$f":"'Student 1'!$N$29","v":100},{"$f":"'Student 1'!$O$29","v":"Evaluation"}]
[{"$f":"'Student 1'!$A$30","v":"Red is late turn-in"},null,{"$f":"'Student 1'!$C$30","v":"Blue is absent"},{"$f":"'Student 1'!$D$30","v":"HW"},{"$f":"'Student 1'!$E$30","v":"HW"},{"$f":"'Student 1'!$F$30","v":"HW"},{"$f":"'Student 1'!$G$30","v":"QZ"},{"$f":"'Student 1'!$H$30","v":"HW"},{"$f":"'Student 1'!$I$30","v":"HW"},{"$f":"'Student 1'!$J$30","v":"Test"},{"$f":"'Student 1'!$K$30","v":"HW"},{"$f":"'Student 1'!$L$30","v":"Class"},{"$f":"'Student 1'!$M$30","v":"Extra"},{"$f":"'Student 1'!$N$30","v":"Final"},{"$f":"'Student 1'!$O$30","v":"Class"},null,{"$f":"'Student 1'!$Q$30","v":"Professionalism"},null,null,{"$f":"'Student 1'!$T$30","v":"Lab"},null,{"$f":"'Student 1'!$V$30","v":"Total  "},{"$f":"'Student 1'!$W$30","v":"Letter"}]
[{"$f":"'Student 1'!$A$31","v":"I D "},{"$f":"'Student 1'!$B$31","v":"First:"},{"$f":"'Student 1'!$C$31","v":"Last:"},{"$f":"'Student 1'!$D$31","v":"CH 1"},{"$f":"'Student 1'!$E$31","v":"CH 2"},{"$f":"'Student 1'!$F$31","v":"CH 3"},{"$f":"'Student 1'!$G$31","v":"1"},{"$f":"'Student 1'!$H$31","v":"CH 6"},{"$f":"'Student 1'!$I$31","v":"CH 9"},{"$f":"'Student 1'!$J$31","v":"1 – 9"},{"$f":"'Student 1'!$K$31","v":"CH 12"},{"$f":"'Student 1'!$L$31","v":"Project"},{"$f":"'Student 1'!$M$31","v":"Credit"},{"$f":"'Student 1'!$N$31","v":"TEST"},{"$f":"'Student 1'!$O$31","v":"Points"},{"$f":"'Student 1'!$P$31","v":"%"},{"$f":"'Student 1'!$Q$31","v":"Attendance"},{"$f":"'Student 1'!$R$31","v":"Points"},{"$f":"'Student 1'!$S$31","v":"%"},{"$f":"'Student 1'!$T$31","v":"Points"},{"$f":"'Student 1'!$U$31","v":"%"},{"$f":"'Student 1'!$V$31","v":"%"},{"$f":"'Student 1'!$W$31","v":"Grade"}]
[{"$f":"'Course 3 Class'!$A$13","v":{"v":8,"d":"00000008"}},{"$f":"'Course 3 Class'!$B$13","v":"Student"},{"$f":"'Course 3 Class'!$C$13","v":"Eight"},{"$f":"'Course 3 Class'!$D$13","v":0},{"$f":"'Course 3 Class'!$E$13","v":0},{"$f":"'Course 3 Class'!$F$13","v":0},{"$f":"'Course 3 Class'!$G$13","v":0},{"$f":"'Course 3 Class'!$H$13","v":0},{"$f":"'Course 3 Class'!$I$13","v":0},{"$f":"'Course 3 Class'!$J$13","v":0},{"$f":"'Course 3 Class'!$K$13","v":0},{"$f":"'Course 3 Class'!$L$13","v":0},{"$f":"'Course 3 Class'!$M$13","v":0},{"$f":"'Course 3 Class'!$N$13","v":0},{"$f":"'Course 3 Class'!$O$13","v":0},{"$f":"'Course 3 Class'!$P$13","v":{"v":0,"d":"0%"}},{"$f":"'Course 3 Class'!$Q$13","v":{"v":1,"d":"100%"}},{"$f":"'Course 3 Class'!$R$13","v":72},{"$f":"'Course 3 Class'!$S$13","v":{"v":1,"d":"100%"}},{"$f":"'Course 3 Class'!$T$13","v":0},{"$f":"'Course 3 Class'!$U$13","v":{"v":0,"d":"0%"}},{"$f":"'Course 3 Class'!$V$13","v":{"v":0.25,"d":"25%"}},{"$f":"'Course 3 Class'!$W$13","v":"F"}]
[{"$f":"'Student 1'!$A$33","v":"Course 3 Steering & Suspension. Lab"}]
[{"$f":"'Student 1'!$A$34","v":"Max shop points"},null,{"$f":"'Student 1'!$C$34","v":1350},{"$f":"'Student 1'!$D$34","v":"Repair"},{"$f":"'Student 1'!$E$34","v":"Identify"},{"$f":"'Student 1'!$F$34","v":"Repair"},{"$f":"'Student 1'!$G$34","v":"Identify"},{"$f":"'Student 1'!$H$34","v":"Repair"},{"$f":"'Student 1'!$I$34","v":"R&R"},{"$f":"'Student 1'!$J$34","v":"R&R"},{"$f":"'Student 1'!$K$34","v":"R&R"},{"$f":"'Student 1'!$L$34","v":"P/S"},{"$f":"'Student 1'!$M$34","v":"R&R"},{"$f":"'Student 1'!$N$34","v":"NVH"},{"$f":"'Student 1'!$O$34","v":" "}]
[{"$f":"'Student 1'!$A$35","v":"Max shop points available depend on how much customer work is done."},null,null,{"$f":"'Student 1'!$D$35","v":"SLA"},{"$f":"'Student 1'!$E$35","v":"SLA"},{"$f":"'Student 1'!$F$35","v":"Mac-P"},{"$f":"'Student 1'!$G$35","v":"Mac-P"},{"$f":"'Student 1'!$H$35","v":"Rear"},{"$f":"'Student 1'!$I$35","v":"Rack &"},{"$f":"'Student 1'!$J$35","v":"Recirc."},{"$f":"'Student 1'!$K$35","v":"P/S"},{"$f":"'Student 1'!$L$35","v":"Pump"},{"$f":"'Student 1'!$M$35","v":"Inner"},{"$f":"'Student 1'!$N$35","v":"Runout &"},{"$f":"'Student 1'!$O$35","v":"Cus"},{"$f":"'Student 1'!$P$35","v":"Comp"}]
[{"$nulls":3},{"$f":"'Student 1'!$D$36","v":"Susp"},{"$f":"'Student 1'!$E$36","v":"Parts"},{"$f":"'Student 1'!$F$36","v":"Susp"},{"$f":"'Student 1'!$G$36","v":"Parts"},{"$f":"'Student 1'!$H$36","v":"Susp"},{"$f":"'Student 1'!$I$36","v":"Pinion"},{"$f":"'Student 1'!$J$36","v":"Gear"},{"$f":"'Student 1'!$K$36","v":"Pump"},{"$f":"'Student 1'!$L$36","v":"Test"},{"$f":"'Student 1'!$M$36","v":"Tie-Rod"},{"$f":"'Student 1'!$N$36","v":"bal. Check"},{"$f":"'Student 1'!$O$36","v":"tomer"},{"$f":"'Student 1'!$P$36","v":"etency"},{"$f":"'Student 1'!$Q$36","v":" "},{"$f":"'Student 1'!$R$36","v":" "},null,null,{"$f":"'Student 1'!$U$36","v":"Final Grade"}]
[{"$nulls":3},{"$f":"'Student 1'!$D$37","v":1},{"$f":"'Student 1'!$E$37","v":2},{"$f":"'Student 1'!$F$37","v":3},{"$f":"'Student 1'!$G$37","v":2},{"$f":"'Student 1'!$H$37","v":1},{"$f":"'Student 1'!$I$37","v":1},{"$f":"'Student 1'!$J$37","v":1},{"$f":"'Student 1'!$K$37","v":1},{"$f":"'Student 1'!$L$37","v":1},{"$f":"'Student 1'!$M$37","v":1},{"$f":"'Student 1'!$N$37","v":1},{"$f":"'Student 1'!$O$37","v":"Work"},{"$f":"'Student 1'!$P$37","v":"0 or 1"},{"$f":"'Student 1'!$Q$37","v":"Lab"},{"$nulls":3},{"$f":"'Student 1'!$U$37","v":{"v":0,"d":"0%"}},{"$f":"'Student 1'!$V$37","v":"F"}]
[{"$f":"'Student 1'!$A$38","v":"ID"},{"$f":"'Student 1'!$B$38","v":"First:"},{"$f":"'Student 1'!$C$38","v":"Last:"},{"$f":"'Student 1'!$D$38","v":150},{"$f":"'Student 1'!$E$38","v":50},{"$f":"'Student 1'!$F$38","v":225},{"$f":"'Student 1'!$G$38","v":50},{"$f":"'Student 1'!$H$38","v":50},{"$f":"'Student 1'!$I$38","v":150},{"$f":"'Student 1'!$J$38","v":125},{"$f":"'Student 1'!$K$38","v":50},{"$f":"'Student 1'!$L$38","v":50},{"$f":"'Student 1'!$M$38","v":50},{"$f":"'Student 1'!$N$38","v":100},{"$f":"'Student 1'!$O$38","v":300},{"$f":"'Student 1'!$P$38","v":"*"},{"$f":"'Student 1'!$Q$38","v":"Points"},{"$f":"'Student 1'!$R$38","v":"%"},null,null,{"$f":"'Student 1'!$U$38","v":{"v":0.695,"d":"70%"}},{"$f":"'Student 1'!$V$38","v":"D-"}]
[{"$f":"'Course 3 Lab'!$A$14","v":{"v":8,"d":"00000008"}},{"$f":"'Course 3 Lab'!$B$14","v":"Student"},{"$f":"'Course 3 Lab'!$C$14","v":"Eight"},{"$f":"'Course 3 Lab'!$D$14","v":0},{"$f":"'Course 3 Lab'!$E$14","v":0},{"$f":"'Course 3 Lab'!$F$14","v":0},{"$f":"'Course 3 Lab'!$G$14","v":0},{"$f":"'Course 3 Lab'!$H$14","v":0},{"$f":"'Course 3 Lab'!$I$14","v":0},{"$f":"'Course 3 Lab'!$J$14","v":0},{"$f":"'Course 3 Lab'!$K$14","v":0},{"$f":"'Course 3 Lab'!$L$14","v":0},{"$f":"'Course 3 Lab'!$M$14","v":0},{"$f":"'Course 3 Lab'!$N$14","v":0},{"$f":"'Course 3 Lab'!$O$14","v":0},{"$f":"'Course 3 Lab'!$P$14","v":1},{"$f":"'Course 3 Lab'!$Q$14","v":0},{"$f":"'Course 3 Lab'!$R$14","v":{"v":0,"d":"0%"}},null,null,{"$f":"'Student 1'!$U$39","v":{"v":0.715,"d":"72%"}},{"$f":"'Student 1'!$V$39","v":"D"}]
[{"$f":"'Student 1'!$A$40","v":"Course 4 Alignment. Class."},{"$nulls":7},{"$f":"'Student 1'!$I$40","v":25},{"$nulls":11},{"$f":"'Student 1'!$U$40","v":{"v":0.735,"d":"74%"}},{"$f":"'Student 1'!$V$40","v":"D+"}]
[{"$f":"'Student 1'!$A$41","v":" "},{"$f":"'Student 1'!$B$41","v":"Date assignment is due  "},null,{"$f":"'Student 1'!$D$41","v":"TBD"},{"$f":"'Student 1'!$E$41","v":"TBD"},{"$f":"'Student 1'!$F$41","v":"TBD"},{"$f":"'Student 1'!$G$41","v":"TBD"},{"$f":"'Student 1'!$H$41","v":"TBD"},{"$f":"'Student 1'!$I$41","v":"TBD"},{"$f":"'Student 1'!$J$41","v":"TBD"},{"$nulls":10},{"$f":"'Student 1'!$U$41","v":{"v":0.755,"d":"76%"}},{"$f":"'Student 1'!$V$41","v":"C-"}]
[{"$f":"'Student 1'!$A$42","v":"Class Room Points:"},null,{"$f":"'Student 1'!$C$42","v":235},{"$f":"'Student 1'!$D$42","v":25},{"$f":"'Student 1'!$E$42","v":25},{"$f":"'Student 1'!$F$42","v":20},{"$f":"'Student 1'!$G$42","v":40},{"$f":"'Student 1'!$H$42","v":50},{"$f":"'Student 1'!$I$42","v":" "},{"$f":"'Student 1'!$J$42","v":75},{"$f":"'Student 1'!$K$42","v":"Evaluation"},{"$nulls":9},{"$f":"'Student 1'!$U$42","v":{"v":0.785,"d":"79%"}},{"$f":"'Student 1'!$V$42","v":"C"}]
[{"$f":"'Student 1'!$A$43","v":"Red is late turn-in"},null,{"$f":"'Student 1'!$C$43","v":"Blue is absent"},{"$f":"'Student 1'!$D$43","v":"CH 16"},{"$f":"'Student 1'!$E$43","v":"CH 16"},{"$f":"'Student 1'!$F$43","v":"Align"},{"$f":"'Student 1'!$G$43","v":"In class"},{"$f":"'Student 1'!$H$43","v":"In class"},{"$f":"'Student 1'!$I$43","v":"Extra"},{"$f":"'Student 1'!$J$43","v":"Final"},{"$f":"'Student 1'!$K$43","v":"Class"},null,{"$f":"'Student 1'!$M$43","v":"Professionalism"},null,null,{"$f":"'Student 1'!$P$43","v":"Lab"},null,{"$f":"'Student 1'!$R$43","v":"Total  "},{"$f":"'Student 1'!$S$43","v":"Letter"},null,{"$f":"'Student 1'!$U$43","v":{"v":0.815,"d":"82%"}},{"$f":"'Student 1'!$V$43","v":"C+"}]
[{"$f":"'Student 1'!$A$44","v":"I D "},{"$f":"'Student 1'!$B$44","v":"First:"},{"$f":"'Student 1'!$C$44","v":"Last:"},{"$f":"'Student 1'!$D$44","v":"HW"},{"$f":"'Student 1'!$E$44","v":"Test"},{"$f":"'Student 1'!$F$44","v":"HW"},{"$f":"'Student 1'!$G$44","v":"Project1"},{"$f":"'Student 1'!$H$44","v":"Project2"},{"$f":"'Student 1'!$I$44","v":"Credit"},{"$f":"'Student 1'!$J$44","v":"Test"},{"$f":"'Student 1'!$K$44","v":"Points"},{"$f":"'Student 1'!$L$44","v":"%"},{"$f":"'Student 1'!$M$44","v":"Attendance"},{"$f":"'Student 1'!$N$44","v":"Points"},{"$f":"'Student 1'!$O$44","v":"%"},{"$f":"'Student 1'!$P$44","v":"Points"},{"$f":"'Student 1'!$Q$44","v":"%"},{"$f":"'Student 1'!$R$44","v":"%"},{"$f":"'Student 1'!$S$44","v":"Grade"},null,{"$f":"'Student 1'!$U$44","v":{"v":0.845,"d":"85%"}},{"$f":"'Student 1'!$V$44","v":"B-"}]
[{"$f":"'Course 4 Class'!$A$13","v":{"v":8,"d":"00000008"}},{"$f":"'Course 4 Class'!$B$13","v":"Student"},{"$f":"'Course 4 Class'!$C$13","v":"Eight"},{"$f":"'Course 4 Class'!$D$13","v":0},{"$f":"'Course 4 Class'!$E$13","v":0},{"$f":"'Course 4 Class'!$F$13","v":0},{"$f":"'Course 4 Class'!$G$13","v":0},{"$f":"'Course 4 Class'!$H$13","v":0},{"$f":"'Course 4 Class'!$I$13","v":0},{"$f":"'Course 4 Class'!$J$13","v":0},{"$f":"'Course 4 Class'!$K$13","v":0},{"$f":"'Course 4 Class'!$L$13","v":{"v":0,"d":"0%"}},{"$f":"'Course 4 Class'!$M$13","v":{"v":1,"d":"100%"}},{"$f":"'Course 4 Class'!$N$13","v":72},{"$f":"'Course 4 Class'!$O$13","v":{"v":1,"d":"100%"}},{"$f":"'Course 4 Class'!$P$13","v":0},{"$f":"'Course 4 Class'!$Q$13","v":{"v":0,"d":"0%"}},{"$f":"'Course 4 Class'!$R$13","v":{"v":0.25,"d":"25%"}},{"$f":"'Course 4 Class'!$S$13","v":"F"},null,{"$f":"'Student 1'!$U$45","v":{"v":0.875,"d":"88%"}},{"$f":"'Student 1'!$V$45","v":"B"}]
[{"$f":"'Student 1'!$A$46","v":"Course 4 Alignment. Lab"},{"$nulls":19},{"$f":"'Student 1'!$U$46","v":{"v":0.895,"d":"90%"}},{"$f":"'Student 1'!$V$46","v":"B+"}]
[{"$f":"'Student 1'!$A$47","v":"Max Shop Points:"},null,{"$f":"'Student 1'!$C$47","v":1300},{"$f":"'Student 1'!$D$47","v":"Alignment"},{"$f":"'Student 1'!$E$47","v":"Complete"},{"$f":"'Student 1'!$F$47","v":"Cus"},{"$f":"'Student 1'!$G$47","v":" "},{"$nulls":13},{"$f":"'Student 1'!$U$47","v":{"v":0.925,"d":"93%"}},{"$f":"'Student 1'!$V$47","v":"A-"}]
[{"$f":"'Student 1'!$A$48","v":"Max shop points available depend on how much customer work is done."},null,null,{"$f":"'Student 1'!$D$48","v":"Pre-check"},{"$f":"'Student 1'!$E$48","v":"Wheel"},{"$f":"'Student 1'!$F$48","v":"tomer"},{"$f":"'Student 1'!$G$48","v":"Comp"},{"$nulls":13},{"$f":"'Student 1'!$U$48","v":{"v":0.945,"d":"95%"}},{"$f":"'Student 1'!$V$48","v":"A"}]
[{"$nulls":3},{"$f":"'Student 1'!$D$49","v":"100 P"},{"$f":"'Student 1'!$E$49","v":"Alignment"},{"$f":"'Student 1'!$F$49","v":"Work"},{"$f":"'Student 1'!$G$49","v":"etency"},{"$f":"'Student 1'!$H$49","v":" "},{"$f":"'Student 1'!$I$49","v":" "},{"$nulls":11},{"$f":"'Student 1'!$U$49","v":{"v":1,"d":"100%"}},{"$f":"'Student 1'!$V$49","v":"A"}]
[{"$nulls":3},{"$f":"'Student 1'!$D$50","v":1},{"$f":"'Student 1'!$E$50","v":1},{"$f":"'Student 1'!$F$50","v":" "},{"$f":"'Student 1'!$G$50","v":"0 or 1"},{"$f":"'Student 1'!$H$50","v":"Lab"}]
[{"$f":"'Student 1'!$A$51","v":"ID"},{"$f":"'Student 1'!$B$51","v":"First:"},{"$f":"'Student 1'!$C$51","v":"Last:"},{"$f":"'Student 1'!$D$51","v":100},{"$f":"'Student 1'!$E$51","v":900},{"$f":"'Student 1'!$F$51","v":300},{"$f":"'Student 1'!$G$51","v":"*"},{"$f":"'Student 1'!$H$51","v":"Points"},{"$f":"'Student 1'!$I$51","v":"%"}]
[{"$f":"'Course 4 Lab'!$A$14","v":{"v":8,"d":"00000008"}},{"$f":"'Course 4 Lab'!$B$14","v":"Student"},{"$f":"'Course 4 Lab'!$C$14","v":"Eight"},{"$f":"'Course 4 Lab'!$D$14","v":0},{"$f":"'Course 4 Lab'!$E$14","v":0},{"$f":"'Course 4 Lab'!$F$14","v":0},{"$f":"'Course 4 Lab'!$G$14","v":1},{"$f":"'Course 4 Lab'!$H$14","v":0},{"$f":"'Course 4 Lab'!$I$14","v":{"v":0,"d":"0%"}}]
[{"$f":"'Student 1'!$A$53","v":"Course 5 Brake Systems. Class."},{"$nulls":10},{"$f":"'Student 1'!$L$53","v":35}]
[{"$f":"'Student 1'!$A$54","v":"Date assignment is due:"},null,{"$f":"'Student 1'!$C$54","v":" "},{"$f":"'Student 1'!$D$54","v":"TBD"},{"$f":"'Student 1'!$E$54","v":"TBD"},{"$f":"'Student 1'!$F$54","v":"TBD"},{"$f":"'Student 1'!$G$54","v":"TBD"},{"$f":"'Student 1'!$H$54","v":"TBD"},{"$f":"'Student 1'!$I$54","v":"TBD"},{"$f":"'Student 1'!$J$54","v":"TBD"},{"$f":"'Student 1'!$K$54","v":"TBD"},{"$f":"'Student 1'!$L$54","v":"TBD"},{"$f":"'Student 1'!$M$54","v":"TBD"}]
[{"$f":"'Student 1'!$A$55","v":"Class Room Points:"},null,{"$f":"'Student 1'!$C$55","v":440},{"$f":"'Student 1'!$D$55","v":30},{"$f":"'Student 1'!$E$55","v":25},{"$f":"'Student 1'!$F$55","v":100},{"$f":"'Student 1'!$G$55","v":30},{"$f":"'Student 1'!$H$55","v":50},{"$f":"'Student 1'!$I$55","v":30},{"$f":"'Student 1'!$J$55","v":25},{"$f":"'Student 1'!$K$55","v":50},{"$f":"'Student 1'!$L$55","v":" "},{"$f":"'Student 1'!$M$55","v":100},{"$f":"'Student 1'!$N$55","v":"Evaluation"}]
[{"$f":"'Student 1'!$A$56","v":"Red is late turn-in"},null,{"$f":"'Student 1'!$C$56","v":"Blue is absent"},{"$f":"'Student 1'!$D$56","v":"HW"},{"$f":"'Student 1'!$E$56","v":"HW"},{"$f":"'Student 1'!$F$56","v":"Test"},{"$f":"'Student 1'!$G$56","v":"HW"},{"$f":"'Student 1'!$H$56","v":"Test"},{"$f":"'Student 1'!$I$56","v":"HW"},{"$f":"'Student 1'!$J$56","v":"Test"},{"$f":"'Student 1'!$K$56","v":"Class"},{"$f":"'Student 1'!$L$56","v":"Extra"},{"$f":"'Student 1'!$M$56","v":"Final"},{"$f":"'Student 1'!$N$56","v":"Class"},null,{"$f":"'Student 1'!$P$56","v":"Professionalism"},null,null,{"$f":"'Student 1'!$S$56","v":"Lab"},null,{"$f":"'Student 1'!$U$56","v":"Total  "},{"$f":"'Student 1'!$V$56","v":"Letter"}]
[{"$f":"'Student 1'!$A$57","v":"I D "},{"$f":"'Student 1'!$B$57","v":"First:"},{"$f":"'Student 1'!$C$57","v":"Last:"},{"$f":"'Student 1'!$D$57","v":"CH 4"},{"$f":"'Student 1'!$E$57","v":"CH 5"},{"$f":"'Student 1'!$F$57","v":"#1"},{"$f":"'Student 1'!$G$57","v":"CH 7"},{"$f":"'Student 1'!$H$57","v":"Conv"},{"$f":"'Student 1'!$I$57","v":"CH 20"},{"$f":"'Student 1'!$J$57","v":"21/22"},{"$f":"'Student 1'!$K$57","v":"Project"},{"$f":"'Student 1'!$L$57","v":"Credit"},{"$f":"'Student 1'!$M$57","v":"Test"},{"$f":"'Student 1'!$N$57","v":"Points"},{"$f":"'Student 1'!$O$57","v":"%"},{"$f":"'Student 1'!$P$57","v":"Attendance"},{"$f":"'Student 1'!$Q$57","v":"Points"},{"$f":"'Student 1'!$R$57","v":"%"},{"$f":"'Student 1'!$S$57","v":"Points"},{"$f":"'Student 1'!$T$57","v":"%"},{"$f":"'Student 1'!$U$57","v":"%"},{"$f":"'Student 1'!$V$57","v":"Grade"}]
[{"$f":"'Course 5 Class'!$A$13","v":{"v":8,"d":"00000008"}},{"$f":"'Course 5 Class'!$B$13","v":"Student"},{"$f":"'Course 5 Class'!$C$13","v":"Eight"},{"$f":"'Course 5 Class'!$D$13","v":0},{"$f":"'Course 5 Class'!$E$13","v":0},{"$f":"'Course 5 Class'!$F$13","v":0},{"$f":"'Course 5 Class'!$G$13","v":0},{"$f":"'Course 5 Class'!$H$13","v":0},{"$f":"'Course 5 Class'!$I$13","v":0},{"$f":"'Course 5 Class'!$J$13","v":0},{"$f":"'Course 5 Class'!$K$13","v":0},{"$f":"'Course 5 Class'!$L$13","v":0},{"$f":"'Course 5 Class'!$M$13","v":0},{"$f":"'Course 5 Class'!$N$13","v":0},{"$f":"'Course 5 Class'!$O$13","v":{"v":0,"d":"0%"}},{"$f":"'Course 5 Class'!$P$13","v":{"v":1,"d":"100%"}},{"$f":"'Course 5 Class'!$Q$13","v":72},{"$f":"'Course 5 Class'!$R$13","v":{"v":1,"d":"100%"}},{"$f":"'Course 5 Class'!$S$13","v":0},{"$f":"'Course 5 Class'!$T$13","v":{"v":0,"d":"0%"}},{"$f":"'Course 5 Class'!$U$13","v":{"v":0.25,"d":"25%"}},{"$f":"'Course 5 Class'!$V$13","v":"F"}]
[{"$f":"'Student 1'!$A$59","v":"Course 5 Brake Systems. Lab"}]
[{"$f":"'Student 1'!$A$60","v":"  Max Shop Points:"},null,{"$f":"'Student 1'!$C$60","v":970},{"$f":"'Student 1'!$D$60","v":"Drum"},{"$f":"'Student 1'!$E$60","v":"Drum "},{"$f":"'Student 1'!$F$60","v":"Disc"},{"$f":"'Student 1'!$G$60","v":"On Car"},{"$f":"'Student 1'!$H$60","v":"Off Car"},{"$f":"'Student 1'!$I$60","v":"Wheel"},{"$f":"'Student 1'!$J$60","v":"Hydr."},{"$f":"'Student 1'!$K$60","v":"Vacuum"},{"$f":"'Student 1'!$L$60","v":"Warning"},{"$f":"'Student 1'!$M$60","v":"Brake"},{"$f":"'Student 1'!$N$60","v":"Brake"},{"$f":"'Student 1'!$O$60","v":"Dodge"},{"$f":"'Student 1'!$P$60","v":"Ford"},{"$f":"'Student 1'!$Q$60","v":"GM"},{"$f":"'Student 1'!$R$60","v":"Cus"},{"$f":"'Student 1'!$S$60","v":"Brake"}]
[{"$f":"'Student 1'!$A$61","v":"Max shop points available depend on how much customer work is done."},null,null,{"$f":"'Student 1'!$D$61","v":"Brake"},{"$f":"'Student 1'!$E$61","v":"Brake "},{"$f":"'Student 1'!$F$61","v":"Brake"},{"$f":"'Student 1'!$G$61","v":"Disc"},{"$f":"'Student 1'!$H$61","v":"Disc"},{"$f":"'Student 1'!$I$61","v":"Bearing"},{"$f":"'Student 1'!$J$61","v":"Line"},{"$f":"'Student 1'!$K$61","v":"Booster"},{"$f":"'Student 1'!$L$61","v":"Light"},{"$f":"'Student 1'!$M$61","v":"System"},{"$f":"'Student 1'!$N$61","v":"Valves"},{"$f":"'Student 1'!$O$61","v":"Anti"},{"$f":"'Student 1'!$P$61","v":"Anti"},{"$f":"'Student 1'!$Q$61","v":"Anti"},{"$f":"'Student 1'!$R$61","v":"tomer"},{"$f":"'Student 1'!$S$61","v":"Comp"}]
[{"$nulls":3},{"$f":"'Student 1'!$D$62","v":"Job"},{"$f":"'Student 1'!$E$62","v":"Mach."},{"$f":"'Student 1'!$F$62","v":"Job"},{"$f":"'Student 1'!$G$62","v":"Mach."},{"$f":"'Student 1'!$H$62","v":"Mach."},{"$f":"'Student 1'!$I$62","v":"Service"},{"$f":"'Student 1'!$J$62","v":"Repair"},{"$f":"'Student 1'!$K$62","v":"Service"},{"$f":"'Student 1'!$L$62","v":"Service"},{"$f":"'Student 1'!$M$62","v":"Bleed"},{"$f":"'Student 1'!$N$62","v":"Check"},{"$f":"'Student 1'!$O$62","v":"Lock"},{"$f":"'Student 1'!$P$62","v":"Lock"},{"$f":"'Student 1'!$Q$62","v":"Lock"},{"$f":"'Student 1'!$R$62","v":"Work"},{"$f":"'Student 1'!$S$62","v":"etency"}]
[{"$nulls":3},{"$f":"'Student 1'!$D$63","v":2},{"$f":"'Student 1'!$E$63","v":2},{"$f":"'Student 1'!$F$63","v":2},{"$f":"'Student 1'!$G$63","v":2},{"$f":"'Student 1'!$H$63","v":2},{"$f":"'Student 1'!$I$63","v":1},{"$f":"'Student 1'!$J$63","v":1},{"$f":"'Student 1'!$K$63","v":2},{"$f":"'Student 1'!$L$63","v":2},{"$f":"'Student 1'!$M$63","v":4},{"$f":"'Student 1'!$N$63","v":1},{"$f":"'Student 1'!$O$63","v":1},{"$f":"'Student 1'!$P$63","v":1},{"$f":"'Student 1'!$Q$63","v":1},{"$f":"'Student 1'!$R$63","v":" "},{"$f":"'Student 1'!$S$63","v":"Required"},{"$f":"'Student 1'!$T$63","v":"Lab"}]
[{"$f":"'Student 1'!$A$64","v":"ID"},{"$f":"'Student 1'!$B$64","v":"First:"},{"$f":"'Student 1'!$C$64","v":"Last:"},{"$f":"'Student 1'!$D$64","v":150},{"$f":"'Student 1'!$E$64","v":40},{"$f":"'Student 1'!$F$64","v":150},{"$f":"'Student 1'!$G$64","v":80},{"$f":"'Student 1'!$H$64","v":40},{"$f":"'Student 1'!$I$64","v":50},{"$f":"'Student 1'!$J$64","v":30},{"$f":"'Student 1'!$K$64","v":30},{"$f":"'Student 1'!$L$64","v":40},{"$f":"'Student 1'!$M$64","v":80},{"$f":"'Student 1'!$N$64","v":40},{"$f":"'Student 1'!$O$64","v":80},{"$f":"'Student 1'!$P$64","v":80},{"$f":"'Student 1'!$Q$64","v":80},{"$f":"'Student 1'!$R$64","v":300},{"$f":"'Student 1'!$S$64","v":"*"},{"$f":"'Student 1'!$T$64","v":"Points"},{"$f":"'Student 1'!$U$64","v":"%"}]
[{"$f":"'Course 5 Lab'!$A$14","v":{"v":8,"d":"00000008"}},{"$f":"'Course 5 Lab'!$B$14","v":"Student"},{"$f":"'Course 5 Lab'!$C$14","v":"Eight"},{"$f":"'Course 5 Lab'!$D$14","v":0},{"$f":"'Course 5 Lab'!$E$14","v":0},{"$f":"'Course 5 Lab'!$F$14","v":0},{"$f":"'Course 5 Lab'!$G$14","v":0},{"$f":"'Course 5 Lab'!$H$14","v":0},{"$f":"'Course 5 Lab'!$I$14","v":0},{"$f":"'Course 5 Lab'!$J$14","v":0},{"$f":"'Course 5 Lab'!$K$14","v":0},{"$f":"'Course 5 Lab'!$L$14","v":0},{"$f":"'Course 5 Lab'!$M$14","v":0},{"$f":"'Course 5 Lab'!$N$14","v":0},{"$f":"'Course 5 Lab'!$O$14","v":0},{"$f":"'Course 5 Lab'!$P$14","v":0},{"$f":"'Course 5 Lab'!$Q$14","v":0},{"$f":"'Course 5 Lab'!$R$14","v":0},{"$f":"'Course 5 Lab'!$S$14","v":1},{"$f":"'Course 5 Lab'!$T$14","v":0},{"$f":"'Course 5 Lab'!$U$14","v":{"v":0,"d":"0%"}}]

{"sheet":"Student 9","index":22,"n_rows":65,"n_cols":23,"rows_kept":65,"merged":[[0,0,0,2],[1,0,1,2],[2,0,2,1],[2,9,2,17],[3,0,3,1],[3,9,3,10],[3,11,3,13],[3,14,3,15],[6,0,6,2],[7,0,7,1],[8,0,10,2],[10,16,10,17],[13,0,13,2],[14,1,14,2],[15,0,15,1],[15,11,15,19],[16,0,16,1],[16,11,16,12],[16,13,16,15],[16,16,16,17],[19,0,19,2],[20,0,20,1],[21,0,23,2],[23,13,23,14],[26,0,26,2],[27,1,27,2],[28,0,28,1],[28,14,28,22],[29,0,29,1],[29,14,29,15],[29,16,29,18],[29,19,29,20],[32,0,32,2],[33,0,33,1],[34,0,36,2],[35,20,35,21],[36,16,36,17],[39,0,39,2],[40,1,40,2],[41,0,41,1],[41,10,41,18],[42,0,42,1],[42,10,42,11],[42,12,42,14],[42,15,42,16],[45,0,45,2],[46,0,46,1],[47,0,49,2],[49,7,49,8],[52,0,52,2],[53,0,53,2],[54,0,54,1],[54,13,54,21],[55,0,55,1],[55,13,55,14],[55,15,55,17],[55,18,55,19],[58,0,58,2],[59,0,59,1],[60,0,62,2],[62,19,62,20]]}
[{"$f":"'Student 1'!$A$1","v":"Course 1 Engine Diagnosis. Class"},{"$nulls":6},{"$f":"'Student 1'!$H$1","v":25}]
[{"$f":"'Student 1'!$A$2","v":"Date assignment is due"},null,{"$f":"'Student 1'!$C$2","v":" "},{"$f":"'Student 1'!$D$2","v":"TBD"},{"$f":"'Student 1'!$E$2","v":"TBD"},{"$f":"'Student 1'!$F$2","v":"TBD"},{"$f":"'Student 1'!$G$2","v":"TBD"},{"$f":"'Student 1'!$H$2","v":"TBD"},{"$f":"'Student 1'!$I$2","v":"TBD"}]
[{"$f":"'Student 1'!$A$3","v":"Class Room Points:"},null,{"$f":"'Student 1'!$C$3","v":160},{"$f":"'Student 1'!$D$3","v":20},{"$f":"'Student 1'!$E$3","v":20},{"$f":"'Student 1'!$F$3","v":20},{"$f":"'Student 1'!$G$3","v":25},{"$f":"'Student 1'!$H$3","v":" "},{"$f":"'Student 1'!$I$3","v":75},{"$f":"'Student 1'!$J$3","v":"Evaluation"}]
[{"$f":"'Student 1'!$A$4","v":"Red is late turn-in"},null,{"$f":"'Student 1'!$C$4","v":"Blue is absent"},{"$f":"'Student 1'!$D$4","v":"CH 13 "},{"$f":"'Student 1'!$E$4","v":"Lube"},{"$f":"'Student 1'!$F$4","v":"Lube"},{"$f":"'Student 1'!$G$4","v":"Condition"},{"$f":"'Student 1'!$H$4","v":"Extra"},{"$f":"'Student 1'!$I$4","v":"Final"},{"$f":"'Student 1'!$J$4","v":"Classroom"},null,{"$f":"'Student 1'!$L$4","v":"Professionalism"},null,null,{"$f":"'Student 1'!$O$4","v":"Lab"},null,{"$f":"'Student 1'!$Q$4","v":"Total  "},{"$f":"'Student 1'!$R$4","v":"Letter"}]
[{"$f":"'Student 1'!$A$5","v":"I D "},{"$f":"'Student 1'!$B$5","v":"First:"},{"$f":"'Student 1'!$C$5","v":"Last:"},{"$f":"'Student 1'!$D$5","v":"Test"},{"$f":"'Student 1'!$E$5","v":"HW"},{"$f":"'Student 1'!$F$5","v":"Test"},{"$f":"'Student 1'!$G$5","v":"Class"},{"$f":"'Student 1'!$H$5","v":"Credit"},{"$f":"'Student 1'!$I$5","v":"Test"},{"$f":"'Student 1'!$J$5","v":"Points"},{"$f":"'Student 1'!$K$5","v":"%"},{"$f":"'Student 1'!$L$5","v":"Attendance"},{"$f":"'Student 1'!$M$5","v":"Points"},{"$f":"'Student 1'!$N$5","v":"%"},{"$f":"'Student 1'!$O$5","v":"Points"},{"$f":"'Student 1'!$P$5","v":"%"},{"$f":"'Student 1'!$Q$5","v":"%"},{"$f":"'Student 1'!$R$5","v":"Grade"}]
[{"$f":"'Course 1 Class'!$A$14","v":{"v":9,"d":"00000009"}},{"$f":"'Course 1 Class'!$B$14","v":"Student "},{"$f":"'Course 1 Class'!$C$14","v":"Nine"},{"$f":"'Course 1 Class'!$D$14","v":0},{"$f":"'Course 1 Class'!$E$14","v":0},{"$f":"'Course 1 Class'!$F$14","v":0},{"$f":"'Course 1 Class'!$G$14","v":0},{"$f":"'Course 1 Class'!$H$14","v":0},{"$f":"'Course 1 Class'!$I$14","v":0},{"$f":"'Course 1 Class'!$J$14","v":0},{"$f":"'Course 1 Class'!$K$14","v":{"v":0,"d":"0%"}},{"$f":"'Course 1 Class'!$L$14","v":{"v":1,"d":"100%"}},{"$f":"'Course 1 Class'!$M$14","v":72},{"$f":"'Course 1 Class'!$N$14","v":{"v":1,"d":"100%"}},{"$f":"'Course 1 Class'!$O$14","v":0},{"$f":"'Course 1 Class'!$P$14","v":{"v":0,"d":"0%"}},{"$f":"'Course 1 Class'!$Q$14","v":{"v":0.25,"d":"25%"}},{"$f":"'Course 1 Class'!$R$14","v":"F"}]
[{"$f":"'Student 1'!$A$7","v":"Course 1 Engine Diagnosis. Lab"}]
[{"$f":"'Student 1'!$A$8","v":"  Max Shop Points:"},null,{"$f":"'Student 1'!$C$8","v":1325},{"$f":"'Student 1'!$D$8","v":"Dry"},{"$f":"'Student 1'!$E$8","v":"Wet"},{"$f":"'Student 1'!$F$8","v":"Running"},{"$f":"'Student 1'!$G$8","v":"Cylinder"},{"$f":"'Student 1'!$H$8","v":"Oil"},{"$f":"'Student 1'!$I$8","v":"Cooling"},{"$f":"'Student 1'!$J$8","v":"Vacuum"},{"$f":"'Student 1'!$K$8","v":"PCV"},{"$f":"'Student 1'!$L$8","v":"Thermostat"},{"$f":"'Student 1'!$M$8","v":"Fluid"},{"$f":"'Student 1'!$N$8","v":"Diag"},{"$f":"'Student 1'!$O$8","v":" "}]
[{"$f":"'Student 1'!$A$9","v":"Max shop points available depend on how much customer work is done."},null,null,{"$f":"'Student 1'!$D$9","v":"Compr"},{"$f":"'Student 1'!$E$9","v":"Compr"},{"$f":"'Student 1'!$F$9","v":"Compr"},{"$f":"'Student 1'!$G$9","v":"Leakage"},{"$f":"'Student 1'!$H$9","v":"Pressure"},{"$f":"'Student 1'!$I$9","v":"System"},{"$f":"'Student 1'!$J$9","v":"Gauge"},{"$f":"'Student 1'!$K$9","v":"System"},{"$f":"'Student 1'!$L$9","v":"and fan"},{"$f":"'Student 1'!$M$9","v":"Leak"},{"$f":"'Student 1'!$N$9","v":"gauges"},{"$f":"'Student 1'!$O$9","v":"Cus"},{"$f":"'Student 1'!$P$9","v":"Comp"}]
[{"$nulls":3},{"$f":"'Student 1'!$D$10","v":"Test"},{"$f":"'Student 1'!$E$10","v":"Test"},{"$f":"'Student 1'!$F$10","v":"Test"},{"$f":"'Student 1'!$G$10","v":"Test"},{"$f":"'Student 1'!$H$10","v":"Test"},{"$f":"'Student 1'!$I$10","v":"Test"},{"$f":"'Student 1'!$J$10","v":"Test"},{"$f":"'Student 1'!$K$10","v":"Check"},{"$f":"'Student 1'!$L$10","v":"Operation"},{"$f":"'Student 1'!$M$10","v":"Check"},{"$f":"'Student 1'!$N$10","v":"any vehicle"},{"$f":"'Student 1'!$O$10","v":"tomer"},{"$f":"'Student 1'!$P$10","v":"etency"},{"$f":"'Student 1'!$Q$10","v":"  "},{"$f":"'Student 1'!$R$10","v":" "}]
[{"$nulls":3},{"$f":"'Student 1'!$D$11","v":2},{"$f":"'Student 1'!$E$11","v":2},{"$f":"'Student 1'!$F$11","v":2},{"$f":"'Student 1'!$G$11","v":2},{"$f":"'Student 1'!$H$11","v":2},{"$f":"'Student 1'!$I$11","v":2},{"$f":"'Student 1'!$J$11","v":2},{"$f":"'Student 1'!$K$11","v":2},{"$f":"'Student 1'!$L$11","v":2},{"$f":"'Student 1'!$M$11","v":1},{"$f":"'Student 1'!$N$11","v":1},{"$f":"'Student 1'!$O$11","v":"Work"},{"$f":"'Student 1'!$P$11","v":"0 or 1"},{"$f":"'Student 1'!$Q$11","v":"Lab"}]
[{"$f":"'Student 1'!$A$12","v":"ID"},{"$f":"'Student 1'!$B$12","v":"First:"},{"$f":"'Student 1'!$C$12","v":"Last:"},{"$f":"'Student 1'!$D$12","v":100},{"$f":"'Student 1'!$E$12","v":100},{"$f":"'Student 1'!$F$12","v":100},{"$f":"'Student 1'!$G$12","v":100},{"$f":"'Student 1'!$H$12","v":100},{"$f":"'Student 1'!$I$12","v":150},{"$f":"'Student 1'!$J$12","v":100},{"$f":"'Student 1'!$K$12","v":50},{"$f":"'Student 1'!$L$12","v":100},{"$f":"'Student 1'!$M$12","v":25},{"$f":"'Student 1'!$N$12","v":100},{"$f":"'Student 1'!$O$12","v":300},{"$f":"'Student 1'!$P$12","v":"*"},{"$f":"'Student 1'!$Q$12","v":"Points"},{"$f":"'Student 1'!$R$12","v":"%"}]
[{"$f":"'Course 1 Lab'!$A$15","v":{"v":9,"d":"00000009"}},{"$f":"'Course 1 Lab'!$B$15","v":"Student "},{"$f":"'Course 1 Lab'!$C$15","v":"Nine"},{"$f":"'Course 1 Lab'!$D$15","v":0},{"$f":"'Course 1 Lab'!$E$15","v":0},{"$f":"'Course 1 Lab'!$F$15","v":0},{"$f":"'Course 1 Lab'!$G$15","v":0},{"$f":"'Course 1 Lab'!$H$15","v":0},{"$f":"'Course 1 Lab'!$I$15","v":0},{"$f":"'Course 1 Lab'!$J$15","v":0},{"$f":"'Course 1 Lab'!$K$15","v":0},{"$f":"'Course 1 Lab'!$L$15","v":0},{"$f":"'Course 1 Lab'!$M$15","v":0},{"$f":"'Course 1 Lab'!$N$15","v":0},{"$f":"'Course 1 Lab'!$O$15","v":0},{"$f":"'Course 1 Lab'!$P$15","v":1},{"$f":"'Course 1 Lab'!$Q$15","v":0},{"$f":"'Course 1 Lab'!$R$15","v":{"v":0,"d":"0%"}}]
[{"$f":"'Student 1'!$A$14","v":"Course 2 Engine Theory & Repair. Class"},{"$nulls":8},{"$f":"'Student 1'!$J$14","v":25}]
[{"$f":"'Student 1'!$A$15","v":" "},{"$f":"'Student 1'!$B$15","v":"Date assignment is due:"},null,{"$f":"'Student 1'!$D$15","v":"TBD"},{"$f":"'Student 1'!$E$15","v":"TBD"},{"$f":"'Student 1'!$F$15","v":"TBD"},{"$f":"'Student 1'!$G$15","v":"TBD"},{"$f":"'Student 1'!$H$15","v":"TBD"},{"$f":"'Student 1'!$I$15","v":"TBD"},{"$f":"'Student 1'!$J$15","v":"TBD"},{"$f":"'Student 1'!$K$15","v":"TBD"}]
[{"$f":"'Student 1'!$A$16","v":"Class Room Points:"},null,{"$f":"'Student 1'!$C$16","v":201},{"$f":"'Student 1'!$D$16","v":10},{"$f":"'Student 1'!$E$16","v":10},{"$f":"'Student 1'!$F$16","v":20},{"$f":"'Student 1'!$G$16","v":20},{"$f":"'Student 1'!$H$16","v":16},{"$f":"'Student 1'!$I$16","v":25},{"$f":"'Student 1'!$J$16","v":" "},{"$f":"'Student 1'!$K$16","v":100},{"$f":"'Student 1'!$L$16","v":"Evaluation"}]
[{"$f":"'Student 1'!$A$17","v":"Red is late turn-in"},null,{"$f":"'Student 1'!$C$17","v":"Blue is absent"},{"$f":"'Student 1'!$D$17","v":"HW"},{"$f":"'Student 1'!$E$17","v":"HW "},{"$f":"'Student 1'!$F$17","v":"Test"},{"$f":"'Student 1'!$G$17","v":"Test"},{"$f":"'Student 1'!$H$17","v":"HW"},{"$f":"'Student 1'!$I$17","v":"Test"},{"$f":"'Student 1'!$J$17","v":"Extra"},{"$f":"'Student 1'!$K$17","v":"Final "},{"$f":"'Student 1'!$L$17","v":"Class"},null,{"$f":"'Student 1'!$N$17","v":"Professionalism"},null,null,{"$f":"'Student 1'!$Q$17","v":"Lab"},null,{"$f":"'Student 1'!$S$17","v":"Total  "},{"$f":"'Student 1'!$T$17","v":"Letter"}]
[{"$f":"'Student 1'!$A$18","v":"I D "},{"$f":"'Student 1'!$B$18","v":"First:"},{"$f":"'Student 1'!$C$18","v":"Last:"},{"$f":"'Student 1'!$D$18","v":"CH 7"},{"$f":"'Student 1'!$E$18","v":"CH 14"},{"$f":"'Student 1'!$F$18","v":"C & L"},{"$f":"'Student 1'!$G$18","v":"CH 18"},{"$f":"'Student 1'!$H$18","v":"CH 22"},{"$f":"'Student 1'!$I$18","v":"CH 22"},{"$f":"'Student 1'!$J$18","v":"Credit"},{"$f":"'Student 1'!$K$18","v":"TEST"},{"$f":"'Student 1'!$L$18","v":"Points"},{"$f":"'Student 1'!$M$18","v":"%"},{"$f":"'Student 1'!$N$18","v":"Attendance"},{"$f":"'Student 1'!$O$18","v":"Points"},{"$f":"'Student 1'!$P$18","v":"%"},{"$f":"'Student 1'!$Q$18","v":"Points"},{"$f":"'Student 1'!$R$18","v":"%"},{"$f":"'Student 1'!$S$18","v":"%"},{"$f":"'Student 1'!$T$18","v":"Grade"}]
[{"$f":"'Course 2 Class'!$A$14","v":{"v":9,"d":"00000009"}},{"$f":"'Course 2 Class'!$B$14","v":"Student "},{"$f":"'Course 2 Class'!$C$14","v":"Nine"},{"$f":"'Course 2 Class'!$D$14","v":0},{"$f":"'Course 2 Class'!$E$14","v":0},{"$f":"'Course 2 Class'!$F$14","v":0},{"$f":"'Course 2 Class'!$G$14","v":0},{"$f":"'Course 2 Class'!$H$14","v":0},{"$f":"'Course 2 Class'!$I$14","v":0},{"$f":"'Course 2 Class'!$J$14","v":0},{"$f":"'Course 2 Class'!$K$14","v":0},{"$f":"'Course 2 Class'!$L$14","v":0},{"$f":"'Course 2 Class'!$M$14","v":{"v":0,"d":"0%"}},{"$f":"'Course 2 Class'!$N$14","v":{"v":1,"d":"100%"}},{"$f":"'Course 2 Class'!$O$14","v":72},{"$f":"'Course 2 Class'!$P$14","v":{"v":1,"d":"100%"}},{"$f":"'Course 2 Class'!$Q$14","v":0},{"$f":"'Course 2 Class'!$R$14","v":{"v":0,"d":"0%"}},{"$f":"'Course 2 Class'!$S$14","v":{"v":0.25,"d":"25%"}},{"$f":"'Course 2 Class'!$T$14","v":"F"}]
[{"$f":"'Student 1'!$A$20","v":"Course 2 Engine Theory & Repair. Lab"}]
[{"$f":"'Student 1'!$A$21","v":"  Max Shop Points:"},null,{"$f":"'Student 1'!$C$21","v":1450},{"$f":"'Student 1'!$D$21","v":"Engine"},{"$f":"'Student 1'!$E$21","v":"Cylinder"},{"$f":"'Student 1'!$F$21","v":"Red"},{"$f":"'Student 1'!$G$21","v":"Mitsubishi"},{"$f":"'Student 1'!$H$21","v":"Any"},{"$f":"'Student 1'!$I$21","v":"DOHC"},{"$f":"'Student 1'!$J$21","v":"Valve seal"},{"$f":"'Student 1'!$K$21","v":"Misc."},{"$f":"'Student 1'!$L$21","v":" "}]
[{"$f":"'Student 1'!$A$22","v":"Max shop points available depend on how much customer work is done."},null,null,{"$f":"'Student 1'!$D$22","v":"Disassemble"},{"$f":"'Student 1'!$E$22","v":"Head"},{"$f":"'Student 1'!$F$22","v":"Dodge"},{"$f":"'Student 1'!$G$22","v":"\"3.0L\""},{"$f":"'Student 1'!$H$22","v":"Engine"},{"$f":"'Student 1'!$I$22","v":"Engine"},{"$f":"'Student 1'!$J$22","v":"&"},{"$f":"'Student 1'!$K$22","v":"Engine "},{"$f":"'Student 1'!$L$22","v":"Cus"},{"$f":"'Student 1'!$M$22","v":"Comp"}]
[{"$nulls":3},{"$f":"'Student 1'!$D$23","v":"& Measure"},{"$f":"'Student 1'!$E$23","v":"Repair"},{"$f":"'Student 1'!$F$23","v":"Clip"},{"$f":"'Student 1'!$G$23","v":"Clip"},{"$f":"'Student 1'!$H$23","v":"T-chain"},{"$f":"'Student 1'!$I$23","v":" Stand"},{"$f":"'Student 1'!$J$23","v":"Lobe lift"},{"$f":"'Student 1'!$K$23","v":"Points"},{"$f":"'Student 1'!$L$23","v":"tomer"},{"$f":"'Student 1'!$M$23","v":"etency"},{"$f":"'Student 1'!$N$23","v":" "},{"$f":"'Student 1'!$O$23","v":" "}]
[{"$nulls":3},{"$f":"'Student 1'!$D$24","v":1},{"$f":"'Student 1'!$E$24","v":1},{"$f":"'Student 1'!$F$24","v":1},{"$f":"'Student 1'!$G$24","v":1},{"$f":"'Student 1'!$H$24","v":1},{"$f":"'Student 1'!$I$24","v":1},{"$f":"'Student 1'!$J$24","v":1},null,{"$f":"'Student 1'!$L$24","v":"Work"},{"$f":"'Student 1'!$M$24","v":"0 or 1"},{"$f":"'Student 1'!$N$24","v":"Lab"}]
[{"$f":"'Student 1'!$A$25","v":"ID"},{"$f":"'Student 1'!$B$25","v":"First:"},{"$f":"'Student 1'!$C$25","v":"Last:"},{"$f":"'Student 1'!$D$25","v":300},{"$f":"'Student 1'!$E$25","v":200},{"$f":"'Student 1'!$F$25","v":100},{"$f":"'Student 1'!$G$25","v":100},{"$f":"'Student 1'!$H$25","v":100},{"$f":"'Student 1'!$I$25","v":100},{"$f":"'Student 1'!$J$25","v":50},{"$f":"'Student 1'!$K$25","v":200},{"$f":"'Student 1'!$L$25","v":300},{"$f":"'Student 1'!$M$25","v":"*"},{"$f":"'Student 1'!$N$25","v":"Points"},{"$f":"'Student 1'!$O$25","v":"%"}]
[{"$f":"'Course 2 Lab'!$A$15","v":{"v":9,"d":"00000009"}},{"$f":"'Course 2 Lab'!$B$15","v":"Student "},{"$f":"'Course 2 Lab'!$C$15","v":"Nine"},{"$f":"'Course 2 Lab'!$D$15","v":0},{"$f":"'Course 2 Lab'!$E$15","v":0},{"$f":"'Course 2 Lab'!$F$15","v":0},{"$f":"'Course 2 Lab'!$G$15","v":0},{"$f":"'Course 2 Lab'!$H$15","v":0},{"$f":"'Course 2 Lab'!$I$15","v":0},{"$f":"'Course 2 Lab'!$J$15","v":0},{"$f":"'Course 2 Lab'!$K$15","v":0},{"$f":"'Course 2 Lab'!$L$15","v":0},{"$f":"'Course 2 Lab'!$M$15","v":1},{"$f":"'Course 2 Lab'!$N$15","v":0},{"$f":"'Course 2 Lab'!$O$15","v":{"v":0,"d":"0%"}}]
[{"$f":"'Student 1'!$A$27","v":"Course 3 Steering & Suspension. Class."},{"$nulls":11},{"$f":"'Student 1'!$M$27","v":25}]
[{"$f":"'Student 1'!$A$28","v":" "},{"$f":"'Student 1'!$B$28","v":"Date assignment is due:"},null,{"$f":"'Student 1'!$D$28","v":"1/18"},{"$f":"'Student 1'!$E$28","v":"2/2"},{"$f":"'Student 1'!$F$28","v":"TBD"},{"$f":"'Student 1'!$G$28","v":"TBD"},{"$f":"'Student 1'!$H$28","v":"TBD"},{"$f":"'Student 1'!$I$28","v":"TBD"},{"$f":"'Student 1'!$J$28","v":"TBD"},{"$f":"'Student 1'!$K$28","v":"TBD"},{"$f":"'Student 1'!$L$28","v":"TBD"},{"$f":"'Student 1'!$M$28","v":"TBD"},{"$f":"'Student 1'!$N$28","v":"TBD"}]
[{"$f":"'Student 1'!$A$29","v":"Class Room Points:"},null,{"$f":"'Student 1'!$C$29","v":330},{"$f":"'Student 1'!$D$29","v":20},{"$f":"'Student 1'!$E$29","v":20},{"$f":"'Student 1'!$F$29","v":24},{"$f":"'Student 1'!$G$29","v":20},{"$f":"'Student 1'!$H$29","v":25},{"$f":"'Student 1'!$I$29","v":30},{"$f":"'Student 1'!$J$29","v":20},{"$f":"'Student 1'!$K$29","v":26},{"$f":"'Student 1'!$L$29","v":45},{"$f":"'Student 1'!$M$29","v":" "},{"$f":"'Student 1'!$N$29","v":100},{"$f":"'Student 1'!$O$29","v":"Evaluation"}]
[{"$f":"'Student 1'!$A$30","v":"Red is late turn-in"},null,{"$f":"'Student 1'!$C$30","v":"Blue is absent"},{"$f":"'Student 1'!$D$30","v":"HW"},{"$f":"'Student 1'!$E$30","v":"HW"},{"$f":"'Student 1'!$F$30","v":"HW"},{"$f":"'Student 1'!$G$30","v":"QZ"},{"$f":"'Student 1'!$H$30","v":"HW"},{"$f":"'Student 1'!$I$30","v":"HW"},{"$f":"'Student 1'!$J$30","v":"Test"},{"$f":"'Student 1'!$K$30","v":"HW"},{"$f":"'Student 1'!$L$30","v":"Class"},{"$f":"'Student 1'!$M$30","v":"Extra"},{"$f":"'Student 1'!$N$30","v":"Final"},{"$f":"'Student 1'!$O$30","v":"Class"},null,{"$f":"'Student 1'!$Q$30","v":"Professionalism"},null,null,{"$f":"'Student 1'!$T$30","v":"Lab"},null,{"$f":"'Student 1'!$V$30","v":"Total  "},{"$f":"'Student 1'!$W$30","v":"Letter"}]
[{"$f":"'Student 1'!$A$31","v":"I D "},{"$f":"'Student 1'!$B$31","v":"First:"},{"$f":"'Student 1'!$C$31","v":"Last:"},{"$f":"'Student 1'!$D$31","v":"CH 1"},{"$f":"'Student 1'!$E$31","v":"CH 2"},{"$f":"'Student 1'!$F$31","v":"CH 3"},{"$f":"'Student 1'!$G$31","v":"1"},{"$f":"'Student 1'!$H$31","v":"CH 6"},{"$f":"'Student 1'!$I$31","v":"CH 9"},{"$f":"'Student 1'!$J$31","v":"1 – 9"},{"$f":"'Student 1'!$K$31","v":"CH 12"},{"$f":"'Student 1'!$L$31","v":"Project"},{"$f":"'Student 1'!$M$31","v":"Credit"},{"$f":"'Student 1'!$N$31","v":"TEST"},{"$f":"'Student 1'!$O$31","v":"Points"},{"$f":"'Student 1'!$P$31","v":"%"},{"$f":"'Student 1'!$Q$31","v":"Attendance"},{"$f":"'Student 1'!$R$31","v":"Points"},{"$f":"'Student 1'!$S$31","v":"%"},{"$f":"'Student 1'!$T$31","v":"Points"},{"$f":"'Student 1'!$U$31","v":"%"},{"$f":"'Student 1'!$V$31","v":"%"},{"$f":"'Student 1'!$W$31","v":"Grade"}]
[{"$f":"'Course 3 Class'!$A$14","v":{"v":9,"d":"00000009"}},{"$f":"'Course 3 Class'!$B$14","v":"Student "},{"$f":"'Course 3 Class'!$C$14","v":"Nine"},{"$f":"'Course 3 Class'!$D$14","v":0},{"$f":"'Course 3 Class'!$E$14","v":0},{"$f":"'Course 3 Class'!$F$14","v":0},{"$f":"'Course 3 Class'!$G$14","v":0},{"$f":"'Course 3 Class'!$H$14","v":0},{"$f":"'Course 3 Class'!$I$14","v":0},{"$f":"'Course 3 Class'!$J$14","v":0},{"$f":"'Course 3 Class'!$K$14","v":0},{"$f":"'Course 3 Class'!$L$14","v":0},{"$f":"'Course 3 Class'!$M$14","v":0},{"$f":"'Course 3 Class'!$N$14","v":0},{"$f":"'Course 3 Class'!$O$14","v":0},{"$f":"'Course 3 Class'!$P$14","v":{"v":0,"d":"0%"}},{"$f":"'Course 3 Class'!$Q$14","v":{"v":1,"d":"100%"}},{"$f":"'Course 3 Class'!$R$14","v":72},{"$f":"'Course 3 Class'!$S$14","v":{"v":1,"d":"100%"}},{"$f":"'Course 3 Class'!$T$14","v":0},{"$f":"'Course 3 Class'!$U$14","v":{"v":0,"d":"0%"}},{"$f":"'Course 3 Class'!$V$14","v":{"v":0.25,"d":"25%"}},{"$f":"'Course 3 Class'!$W$14","v":"F"}]
[{"$f":"'Student 1'!$A$33","v":"Course 3 Steering & Suspension. Lab"}]
[{"$f":"'Student 1'!$A$34","v":"Max shop points"},null,{"$f":"'Student 1'!$C$34","v":1350},{"$f":"'Student 1'!$D$34","v":"Repair"},{"$f":"'Student 1'!$E$34","v":"Identify"},{"$f":"'Student 1'!$F$34","v":"Repair"},{"$f":"'Student 1'!$G$34","v":"Identify"},{"$f":"'Student 1'!$H$34","v":"Repair"},{"$f":"'Student 1'!$I$34","v":"R&R"},{"$f":"'Student 1'!$J$34","v":"R&R"},{"$f":"'Student 1'!$K$34","v":"R&R"},{"$f":"'Student 1'!$L$34","v":"P/S"},{"$f":"'Student 1'!$M$34","v":"R&R"},{"$f":"'Student 1'!$N$34","v":"NVH"},{"$f":"'Student 1'!$O$34","v":" "}]
[{"$f":"'Student 1'!$A$35","v":"Max shop points available depend on how much customer work is done."},null,null,{"$f":"'Student 1'!$D$35","v":"SLA"},{"$f":"'Student 1'!$E$35","v":"SLA"},{"$f":"'Student 1'!$F$35","v":"Mac-P"},{"$f":"'Student 1'!$G$35","v":"Mac-P"},{"$f":"'Student 1'!$H$35","v":"Rear"},{"$f":"'Student 1'!$I$35","v":"Rack &"},{"$f":"'Student 1'!$J$35","v":"Recirc."},{"$f":"'Student 1'!$K$35","v":"P/S"},{"$f":"'Student 1'!$L$35","v":"Pump"},{"$f":"'Student 1'!$M$35","v":"Inner"},{"$f":"'Student 1'!$N$35","v":"Runout &"},{"$f":"'Student 1'!$O$35","v":"Cus"},{"$f":"'Student 1'!$P$35","v":"Comp"}]
[{"$nulls":3},{"$f":"'Student 1'!$D$36","v":"Susp"},{"$f":"'Student 1'!$E$36","v":"Parts"},{"$f":"'Student 1'!$F$36","v":"Susp"},{"$f":"'Student 1'!$G$36","v":"Parts"},{"$f":"'Student 1'!$H$36","v":"Susp"},{"$f":"'Student 1'!$I$36","v":"Pinion"},{"$f":"'Student 1'!$J$36","v":"Gear"},{"$f":"'Student 1'!$K$36","v":"Pump"},{"$f":"'Student 1'!$L$36","v":"Test"},{"$f":"'Student 1'!$M$36","v":"Tie-Rod"},{"$f":"'Student 1'!$N$36","v":"bal. Check"},{"$f":"'Student 1'!$O$36","v":"tomer"},{"$f":"'Student 1'!$P$36","v":"etency"},{"$f":"'Student 1'!$Q$36","v":" "},{"$f":"'Student 1'!$R$36","v":" "},null,null,{"$f":"'Student 1'!$U$36","v":"Final Grade"}]
[{"$nulls":3},{"$f":"'Student 1'!$D$37","v":1},{"$f":"'Student 1'!$E$37","v":2},{"$f":"'Student 1'!$F$37","v":3},{"$f":"'Student 1'!$G$37","v":2},{"$f":"'Student 1'!$H$37","v":1},{"$f":"'Student 1'!$I$37","v":1},{"$f":"'Student 1'!$J$37","v":1},{"$f":"'Student 1'!$K$37","v":1},{"$f":"'Student 1'!$L$37","v":1},{"$f":"'Student 1'!$M$37","v":1},{"$f":"'Student 1'!$N$37","v":1},{"$f":"'Student 1'!$O$37","v":"Work"},{"$f":"'Student 1'!$P$37","v":"0 or 1"},{"$f":"'Student 1'!$Q$37","v":"Lab"},{"$nulls":3},{"$f":"'Student 1'!$U$37","v":{"v":0,"d":"0%"}},{"$f":"'Student 1'!$V$37","v":"F"}]
[{"$f":"'Student 1'!$A$38","v":"ID"},{"$f":"'Student 1'!$B$38","v":"First:"},{"$f":"'Student 1'!$C$38","v":"Last:"},{"$f":"'Student 1'!$D$38","v":150},{"$f":"'Student 1'!$E$38","v":50},{"$f":"'Student 1'!$F$38","v":225},{"$f":"'Student 1'!$G$38","v":50},{"$f":"'Student 1'!$H$38","v":50},{"$f":"'Student 1'!$I$38","v":150},{"$f":"'Student 1'!$J$38","v":125},{"$f":"'Student 1'!$K$38","v":50},{"$f":"'Student 1'!$L$38","v":50},{"$f":"'Student 1'!$M$38","v":50},{"$f":"'Student 1'!$N$38","v":100},{"$f":"'Student 1'!$O$38","v":300},{"$f":"'Student 1'!$P$38","v":"*"},{"$f":"'Student 1'!$Q$38","v":"Points"},{"$f":"'Student 1'!$R$38","v":"%"},null,null,{"$f":"'Student 1'!$U$38","v":{"v":0.695,"d":"70%"}},{"$f":"'Student 1'!$V$38","v":"D-"}]
[{"$f":"'Course 3 Lab'!$A$15","v":{"v":9,"d":"00000009"}},{"$f":"'Course 3 Lab'!$B$15","v":"Student "},{"$f":"'Course 3 Lab'!$C$15","v":"Nine"},{"$f":"'Course 3 Lab'!$D$15","v":0},{"$f":"'Course 3 Lab'!$E$15","v":0},{"$f":"'Course 3 Lab'!$F$15","v":0},{"$f":"'Course 3 Lab'!$G$15","v":0},{"$f":"'Course 3 Lab'!$H$15","v":0},{"$f":"'Course 3 Lab'!$I$15","v":0},{"$f":"'Course 3 Lab'!$J$15","v":0},{"$f":"'Course 3 Lab'!$K$15","v":0},{"$f":"'Course 3 Lab'!$L$15","v":0},{"$f":"'Course 3 Lab'!$M$15","v":0},{"$f":"'Course 3 Lab'!$N$15","v":0},{"$f":"'Course 3 Lab'!$O$15","v":0},{"$f":"'Course 3 Lab'!$P$15","v":1},{"$f":"'Course 3 Lab'!$Q$15","v":0},{"$f":"'Course 3 Lab'!$R$15","v":{"v":0,"d":"0%"}},null,null,{"$f":"'Student 1'!$U$39","v":{"v":0.715,"d":"72%"}},{"$f":"'Student 1'!$V$39","v":"D"}]
[{"$f":"'Student 1'!$A$40","v":"Course 4 Alignment. Class."},{"$nulls":7},{"$f":"'Student 1'!$I$40","v":25},{"$nulls":11},{"$f":"'Student 1'!$U$40","v":{"v":0.735,"d":"74%"}},{"$f":"'Student 1'!$V$40","v":"D+"}]
[{"$f":"'Student 1'!$A$41","v":" "},{"$f":"'Student 1'!$B$41","v":"Date assignment is due  "},null,{"$f":"'Student 1'!$D$41","v":"TBD"},{"$f":"'Student 1'!$E$41","v":"TBD"},{"$f":"'Student 1'!$F$41","v":"TBD"},{"$f":"'Student 1'!$G$41","v":"TBD"},{"$f":"'Student 1'!$H$41","v":"TBD"},{"$f":"'Student 1'!$I$41","v":"TBD"},{"$f":"'Student 1'!$J$41","v":"TBD"},{"$nulls":10},{"$f":"'Student 1'!$U$41","v":{"v":0.755,"d":"76%"}},{"$f":"'Student 1'!$V$41","v":"C-"}]
[{"$f":"'Student 1'!$A$42","v":"Class Room Points:"},null,{"$f":"'Student 1'!$C$42","v":235},{"$f":"'Student 1'!$D$42","v":25},{"$f":"'Student 1'!$E$42","v":25},{"$f":"'Student 1'!$F$42","v":20},{"$f":"'Student 1'!$G$42","v":40},{"$f":"'Student 1'!$H$42","v":50},{"$f":"'Student 1'!$I$42","v":" "},{"$f":"'Student 1'!$J$42","v":75},{"$f":"'Student 1'!$K$42","v":"Evaluation"},{"$nulls":9},{"$f":"'Student 1'!$U$42","v":{"v":0.785,"d":"79%"}},{"$f":"'Student 1'!$V$42","v":"C"}]
[{"$f":"'Student 1'!$A$43","v":"Red is late turn-in"},null,{"$f":"'Student 1'!$C$43","v":"Blue is absent"},{"$f":"'Student 1'!$D$43","v":"CH 16"},{"$f":"'Student 1'!$E$43","v":"CH 16"},{"$f":"'Student 1'!$F$43","v":"Align"},{"$f":"'Student 1'!$G$43","v":"In class"},{"$f":"'Student 1'!$H$43","v":"In class"},{"$f":"'Student 1'!$I$43","v":"Extra"},{"$f":"'Student 1'!$J$43","v":"Final"},{"$f":"'Student 1'!$K$43","v":"Class"},null,{"$f":"'Student 1'!$M$43","v":"Professionalism"},null,null,{"$f":"'Student 1'!$P$43","v":"Lab"},null,{"$f":"'Student 1'!$R$43","v":"Total  "},{"$f":"'Student 1'!$S$43","v":"Letter"},null,{"$f":"'Student 1'!$U$43","v":{"v":0.815,"d":"82%"}},{"$f":"'Student 1'!$V$43","v":"C+"}]
[{"$f":"'Student 1'!$A$44","v":"I D "},{"$f":"'Student 1'!$B$44","v":"First:"},{"$f":"'Student 1'!$C$44","v":"Last:"},{"$f":"'Student 1'!$D$44","v":"HW"},{"$f":"'Student 1'!$E$44","v":"Test"},{"$f":"'Student 1'!$F$44","v":"HW"},{"$f":"'Student 1'!$G$44","v":"Project1"},{"$f":"'Student 1'!$H$44","v":"Project2"},{"$f":"'Student 1'!$I$44","v":"Credit"},{"$f":"'Student 1'!$J$44","v":"Test"},{"$f":"'Student 1'!$K$44","v":"Points"},{"$f":"'Student 1'!$L$44","v":"%"},{"$f":"'Student 1'!$M$44","v":"Attendance"},{"$f":"'Student 1'!$N$44","v":"Points"},{"$f":"'Student 1'!$O$44","v":"%"},{"$f":"'Student 1'!$P$44","v":"Points"},{"$f":"'Student 1'!$Q$44","v":"%"},{"$f":"'Student 1'!$R$44","v":"%"},{"$f":"'Student 1'!$S$44","v":"Grade"},null,{"$f":"'Student 1'!$U$44","v":{"v":0.845,"d":"85%"}},{"$f":"'Student 1'!$V$44","v":"B-"}]
[{"$f":"'Course 4 Class'!$A$14","v":{"v":9,"d":"00000009"}},{"$f":"'Course 4 Class'!$B$14","v":"Student "},{"$f":"'Course 4 Class'!$C$14","v":"Nine"},{"$f":"'Course 4 Class'!$D$14","v":0},{"$f":"'Course 4 Class'!$E$14","v":0},{"$f":"'Course 4 Class'!$F$14","v":0},{"$f":"'Course 4 Class'!$G$14","v":0},{"$f":"'Course 4 Class'!$H$14","v":0},{"$f":"'Course 4 Class'!$I$14","v":0},{"$f":"'Course 4 Class'!$J$14","v":0},{"$f":"'Course 4 Class'!$K$14","v":0},{"$f":"'Course 4 Class'!$L$14","v":{"v":0,"d":"0%"}},{"$f":"'Course 4 Class'!$M$14","v":{"v":1,"d":"100%"}},{"$f":"'Course 4 Class'!$N$14","v":72},{"$f":"'Course 4 Class'!$O$14","v":{"v":1,"d":"100%"}},{"$f":"'Course 4 Class'!$P$14","v":0},{"$f":"'Course 4 Class'!$Q$14","v":{"v":0,"d":"0%"}},{"$f":"'Course 4 Class'!$R$14","v":{"v":0.25,"d":"25%"}},{"$f":"'Course 4 Class'!$S$14","v":"F"},null,{"$f":"'Student 1'!$U$45","v":{"v":0.875,"d":"88%"}},{"$f":"'Student 1'!$V$45","v":"B"}]
[{"$f":"'Student 1'!$A$46","v":"Course 4 Alignment. Lab"},{"$nulls":19},{"$f":"'Student 1'!$U$46","v":{"v":0.895,"d":"90%"}},{"$f":"'Student 1'!$V$46","v":"B+"}]
[{"$f":"'Student 1'!$A$47","v":"Max Shop Points:"},null,{"$f":"'Student 1'!$C$47","v":1300},{"$f":"'Student 1'!$D$47","v":"Alignment"},{"$f":"'Student 1'!$E$47","v":"Complete"},{"$f":"'Student 1'!$F$47","v":"Cus"},{"$f":"'Student 1'!$G$47","v":" "},{"$nulls":13},{"$f":"'Student 1'!$U$47","v":{"v":0.925,"d":"93%"}},{"$f":"'Student 1'!$V$47","v":"A-"}]
[{"$f":"'Student 1'!$A$48","v":"Max shop points available depend on how much customer work is done."},null,null,{"$f":"'Student 1'!$D$48","v":"Pre-check"},{"$f":"'Student 1'!$E$48","v":"Wheel"},{"$f":"'Student 1'!$F$48","v":"tomer"},{"$f":"'Student 1'!$G$48","v":"Comp"},{"$nulls":13},{"$f":"'Student 1'!$U$48","v":{"v":0.945,"d":"95%"}},{"$f":"'Student 1'!$V$48","v":"A"}]
[{"$nulls":3},{"$f":"'Student 1'!$D$49","v":"100 P"},{"$f":"'Student 1'!$E$49","v":"Alignment"},{"$f":"'Student 1'!$F$49","v":"Work"},{"$f":"'Student 1'!$G$49","v":"etency"},{"$f":"'Student 1'!$H$49","v":" "},{"$f":"'Student 1'!$I$49","v":" "},{"$nulls":11},{"$f":"'Student 1'!$U$49","v":{"v":1,"d":"100%"}},{"$f":"'Student 1'!$V$49","v":"A"}]
[{"$nulls":3},{"$f":"'Student 1'!$D$50","v":1},{"$f":"'Student 1'!$E$50","v":1},{"$f":"'Student 1'!$F$50","v":" "},{"$f":"'Student 1'!$G$50","v":"0 or 1"},{"$f":"'Student 1'!$H$50","v":"Lab"}]
[{"$f":"'Student 1'!$A$51","v":"ID"},{"$f":"'Student 1'!$B$51","v":"First:"},{"$f":"'Student 1'!$C$51","v":"Last:"},{"$f":"'Student 1'!$D$51","v":100},{"$f":"'Student 1'!$E$51","v":900},{"$f":"'Student 1'!$F$51","v":300},{"$f":"'Student 1'!$G$51","v":"*"},{"$f":"'Student 1'!$H$51","v":"Points"},{"$f":"'Student 1'!$I$51","v":"%"}]
[{"$f":"'Course 4 Lab'!$A$15","v":{"v":9,"d":"00000009"}},{"$f":"'Course 4 Lab'!$B$15","v":"Student "},{"$f":"'Course 4 Lab'!$C$15","v":"Nine"},{"$f":"'Course 4 Lab'!$D$15","v":0},{"$f":"'Course 4 Lab'!$E$15","v":0},{"$f":"'Course 4 Lab'!$F$15","v":0},{"$f":"'Course 4 Lab'!$G$15","v":1},{"$f":"'Course 4 Lab'!$H$15","v":0},{"$f":"'Course 4 Lab'!$I$15","v":{"v":0,"d":"0%"}}]
[{"$f":"'Student 1'!$A$53","v":"Course 5 Brake Systems. Class."},{"$nulls":10},{"$f":"'Student 1'!$L$53","v":35}]
[{"$f":"'Student 1'!$A$54","v":"Date assignment is due:"},null,{"$f":"'Student 1'!$C$54","v":" "},{"$f":"'Student 1'!$D$54","v":"TBD"},{"$f":"'Student 1'!$E$54","v":"TBD"},{"$f":"'Student 1'!$F$54","v":"TBD"},{"$f":"'Student 1'!$G$54","v":"TBD"},{"$f":"'Student 1'!$H$54","v":"TBD"},{"$f":"'Student 1'!$I$54","v":"TBD"},{"$f":"'Student 1'!$J$54","v":"TBD"},{"$f":"'Student 1'!$K$54","v":"TBD"},{"$f":"'Student 1'!$L$54","v":"TBD"},{"$f":"'Student 1'!$M$54","v":"TBD"}]
[{"$f":"'Student 1'!$A$55","v":"Class Room Points:"},null,{"$f":"'Student 1'!$C$55","v":440},{"$f":"'Student 1'!$D$55","v":30},{"$f":"'Student 1'!$E$55","v":25},{"$f":"'Student 1'!$F$55","v":100},{"$f":"'Student 1'!$G$55","v":30},{"$f":"'Student 1'!$H$55","v":50},{"$f":"'Student 1'!$I$55","v":30},{"$f":"'Student 1'!$J$55","v":25},{"$f":"'Student 1'!$K$55","v":50},{"$f":"'Student 1'!$L$55","v":" "},{"$f":"'Student 1'!$M$55","v":100},{"$f":"'Student 1'!$N$55","v":"Evaluation"}]
[{"$f":"'Student 1'!$A$56","v":"Red is late turn-in"},null,{"$f":"'Student 1'!$C$56","v":"Blue is absent"},{"$f":"'Student 1'!$D$56","v":"HW"},{"$f":"'Student 1'!$E$56","v":"HW"},{"$f":"'Student 1'!$F$56","v":"Test"},{"$f":"'Student 1'!$G$56","v":"HW"},{"$f":"'Student 1'!$H$56","v":"Test"},{"$f":"'Student 1'!$I$56","v":"HW"},{"$f":"'Student 1'!$J$56","v":"Test"},{"$f":"'Student 1'!$K$56","v":"Class"},{"$f":"'Student 1'!$L$56","v":"Extra"},{"$f":"'Student 1'!$M$56","v":"Final"},{"$f":"'Student 1'!$N$56","v":"Class"},null,{"$f":"'Student 1'!$P$56","v":"Professionalism"},null,null,{"$f":"'Student 1'!$S$56","v":"Lab"},null,{"$f":"'Student 1'!$U$56","v":"Total  "},{"$f":"'Student 1'!$V$56","v":"Letter"}]
[{"$f":"'Student 1'!$A$57","v":"I D "},{"$f":"'Student 1'!$B$57","v":"First:"},{"$f":"'Student 1'!$C$57","v":"Last:"},{"$f":"'Student 1'!$D$57","v":"CH 4"},{"$f":"'Student 1'!$E$57","v":"CH 5"},{"$f":"'Student 1'!$F$57","v":"#1"},{"$f":"'Student 1'!$G$57","v":"CH 7"},{"$f":"'Student 1'!$H$57","v":"Conv"},{"$f":"'Student 1'!$I$57","v":"CH 20"},{"$f":"'Student 1'!$J$57","v":"21/22"},{"$f":"'Student 1'!$K$57","v":"Project"},{"$f":"'Student 1'!$L$57","v":"Credit"},{"$f":"'Student 1'!$M$57","v":"Test"},{"$f":"'Student 1'!$N$57","v":"Points"},{"$f":"'Student 1'!$O$57","v":"%"},{"$f":"'Student 1'!$P$57","v":"Attendance"},{"$f":"'Student 1'!$Q$57","v":"Points"},{"$f":"'Student 1'!$R$57","v":"%"},{"$f":"'Student 1'!$S$57","v":"Points"},{"$f":"'Student 1'!$T$57","v":"%"},{"$f":"'Student 1'!$U$57","v":"%"},{"$f":"'Student 1'!$V$57","v":"Grade"}]
[{"$f":"'Course 5 Class'!$A$14","v":{"v":9,"d":"00000009"}},{"$f":"'Course 5 Class'!$B$14","v":"Student "},{"$f":"'Course 5 Class'!$C$14","v":"Nine"},{"$f":"'Course 5 Class'!$D$14","v":0},{"$f":"'Course 5 Class'!$E$14","v":0},{"$f":"'Course 5 Class'!$F$14","v":0},{"$f":"'Course 5 Class'!$G$14","v":0},{"$f":"'Course 5 Class'!$H$14","v":0},{"$f":"'Course 5 Class'!$I$14","v":0},{"$f":"'Course 5 Class'!$J$14","v":0},{"$f":"'Course 5 Class'!$K$14","v":0},{"$f":"'Course 5 Class'!$L$14","v":0},{"$f":"'Course 5 Class'!$M$14","v":0},{"$f":"'Course 5 Class'!$N$14","v":0},{"$f":"'Course 5 Class'!$O$14","v":{"v":0,"d":"0%"}},{"$f":"'Course 5 Class'!$P$14","v":{"v":1,"d":"100%"}},{"$f":"'Course 5 Class'!$Q$14","v":72},{"$f":"'Course 5 Class'!$R$14","v":{"v":1,"d":"100%"}},{"$f":"'Course 5 Class'!$S$14","v":0},{"$f":"'Course 5 Class'!$T$14","v":{"v":0,"d":"0%"}},{"$f":"'Course 5 Class'!$U$14","v":{"v":0.25,"d":"25%"}},{"$f":"'Course 5 Class'!$V$14","v":"F"}]
[{"$f":"'Student 1'!$A$59","v":"Course 5 Brake Systems. Lab"}]
[{"$f":"'Student 1'!$A$60","v":"  Max Shop Points:"},null,{"$f":"'Student 1'!$C$60","v":970},{"$f":"'Student 1'!$D$60","v":"Drum"},{"$f":"'Student 1'!$E$60","v":"Drum "},{"$f":"'Student 1'!$F$60","v":"Disc"},{"$f":"'Student 1'!$G$60","v":"On Car"},{"$f":"'Student 1'!$H$60","v":"Off Car"},{"$f":"'Student 1'!$I$60","v":"Wheel"},{"$f":"'Student 1'!$J$60","v":"Hydr."},{"$f":"'Student 1'!$K$60","v":"Vacuum"},{"$f":"'Student 1'!$L$60","v":"Warning"},{"$f":"'Student 1'!$M$60","v":"Brake"},{"$f":"'Student 1'!$N$60","v":"Brake"},{"$f":"'Student 1'!$O$60","v":"Dodge"},{"$f":"'Student 1'!$P$60","v":"Ford"},{"$f":"'Student 1'!$Q$60","v":"GM"},{"$f":"'Student 1'!$R$60","v":"Cus"},{"$f":"'Student 1'!$S$60","v":"Brake"}]
[{"$f":"'Student 1'!$A$61","v":"Max shop points available depend on how much customer work is done."},null,null,{"$f":"'Student 1'!$D$61","v":"Brake"},{"$f":"'Student 1'!$E$61","v":"Brake "},{"$f":"'Student 1'!$F$61","v":"Brake"},{"$f":"'Student 1'!$G$61","v":"Disc"},{"$f":"'Student 1'!$H$61","v":"Disc"},{"$f":"'Student 1'!$I$61","v":"Bearing"},{"$f":"'Student 1'!$J$61","v":"Line"},{"$f":"'Student 1'!$K$61","v":"Booster"},{"$f":"'Student 1'!$L$61","v":"Light"},{"$f":"'Student 1'!$M$61","v":"System"},{"$f":"'Student 1'!$N$61","v":"Valves"},{"$f":"'Student 1'!$O$61","v":"Anti"},{"$f":"'Student 1'!$P$61","v":"Anti"},{"$f":"'Student 1'!$Q$61","v":"Anti"},{"$f":"'Student 1'!$R$61","v":"tomer"},{"$f":"'Student 1'!$S$61","v":"Comp"}]
[{"$nulls":3},{"$f":"'Student 1'!$D$62","v":"Job"},{"$f":"'Student 1'!$E$62","v":"Mach."},{"$f":"'Student 1'!$F$62","v":"Job"},{"$f":"'Student 1'!$G$62","v":"Mach."},{"$f":"'Student 1'!$H$62","v":"Mach."},{"$f":"'Student 1'!$I$62","v":"Service"},{"$f":"'Student 1'!$J$62","v":"Repair"},{"$f":"'Student 1'!$K$62","v":"Service"},{"$f":"'Student 1'!$L$62","v":"Service"},{"$f":"'Student 1'!$M$62","v":"Bleed"},{"$f":"'Student 1'!$N$62","v":"Check"},{"$f":"'Student 1'!$O$62","v":"Lock"},{"$f":"'Student 1'!$P$62","v":"Lock"},{"$f":"'Student 1'!$Q$62","v":"Lock"},{"$f":"'Student 1'!$R$62","v":"Work"},{"$f":"'Student 1'!$S$62","v":"etency"}]
[{"$nulls":3},{"$f":"'Student 1'!$D$63","v":2},{"$f":"'Student 1'!$E$63","v":2},{"$f":"'Student 1'!$F$63","v":2},{"$f":"'Student 1'!$G$63","v":2},{"$f":"'Student 1'!$H$63","v":2},{"$f":"'Student 1'!$I$63","v":1},{"$f":"'Student 1'!$J$63","v":1},{"$f":"'Student 1'!$K$63","v":2},{"$f":"'Student 1'!$L$63","v":2},{"$f":"'Student 1'!$M$63","v":4},{"$f":"'Student 1'!$N$63","v":1},{"$f":"'Student 1'!$O$63","v":1},{"$f":"'Student 1'!$P$63","v":1},{"$f":"'Student 1'!$Q$63","v":1},{"$f":"'Student 1'!$R$63","v":" "},{"$f":"'Student 1'!$S$63","v":"Required"},{"$f":"'Student 1'!$T$63","v":"Lab"}]
[{"$f":"'Student 1'!$A$64","v":"ID"},{"$f":"'Student 1'!$B$64","v":"First:"},{"$f":"'Student 1'!$C$64","v":"Last:"},{"$f":"'Student 1'!$D$64","v":150},{"$f":"'Student 1'!$E$64","v":40},{"$f":"'Student 1'!$F$64","v":150},{"$f":"'Student 1'!$G$64","v":80},{"$f":"'Student 1'!$H$64","v":40},{"$f":"'Student 1'!$I$64","v":50},{"$f":"'Student 1'!$J$64","v":30},{"$f":"'Student 1'!$K$64","v":30},{"$f":"'Student 1'!$L$64","v":40},{"$f":"'Student 1'!$M$64","v":80},{"$f":"'Student 1'!$N$64","v":40},{"$f":"'Student 1'!$O$64","v":80},{"$f":"'Student 1'!$P$64","v":80},{"$f":"'Student 1'!$Q$64","v":80},{"$f":"'Student 1'!$R$64","v":300},{"$f":"'Student 1'!$S$64","v":"*"},{"$f":"'Student 1'!$T$64","v":"Points"},{"$f":"'Student 1'!$U$64","v":"%"}]
[{"$f":"'Course 5 Lab'!$A$15","v":{"v":9,"d":"00000009"}},{"$f":"'Course 5 Lab'!$B$15","v":"Student "},{"$f":"'Course 5 Lab'!$C$15","v":"Nine"},{"$f":"'Course 5 Lab'!$D$15","v":0},{"$f":"'Course 5 Lab'!$E$15","v":0},{"$f":"'Course 5 Lab'!$F$15","v":0},{"$f":"'Course 5 Lab'!$G$15","v":0},{"$f":"'Course 5 Lab'!$H$15","v":0},{"$f":"'Course 5 Lab'!$I$15","v":0},{"$f":"'Course 5 Lab'!$J$15","v":0},{"$f":"'Course 5 Lab'!$K$15","v":0},{"$f":"'Course 5 Lab'!$L$15","v":0},{"$f":"'Course 5 Lab'!$M$15","v":0},{"$f":"'Course 5 Lab'!$N$15","v":0},{"$f":"'Course 5 Lab'!$O$15","v":0},{"$f":"'Course 5 Lab'!$P$15","v":0},{"$f":"'Course 5 Lab'!$Q$15","v":0},{"$f":"'Course 5 Lab'!$R$15","v":0},{"$f":"'Course 5 Lab'!$S$15","v":1},{"$f":"'Course 5 Lab'!$T$15","v":0},{"$f":"'Course 5 Lab'!$U$15","v":{"v":0,"d":"0%"}}]

{"sheet":"Student 10","index":23,"n_rows":65,"n_cols":23,"rows_kept":65,"merged":[[0,0,0,2],[1,0,1,2],[2,0,2,1],[2,9,2,17],[3,0,3,1],[3,9,3,10],[3,11,3,13],[3,14,3,15],[6,0,6,2],[7,0,7,1],[8,0,10,2],[10,16,10,17],[13,0,13,2],[14,1,14,2],[15,0,15,1],[15,11,15,19],[16,0,16,1],[16,11,16,12],[16,13,16,15],[16,16,16,17],[19,0,19,2],[20,0,20,1],[21,0,23,2],[23,13,23,14],[26,0,26,2],[27,1,27,2],[28,0,28,1],[28,14,28,22],[29,0,29,1],[29,14,29,15],[29,16,29,18],[29,19,29,20],[32,0,32,2],[33,0,33,1],[34,0,36,2],[35,20,35,21],[36,16,36,17],[39,0,39,2],[40,1,40,2],[41,0,41,1],[41,10,41,18],[42,0,42,1],[42,10,42,11],[42,12,42,14],[42,15,42,16],[45,0,45,2],[46,0,46,1],[47,0,49,2],[49,7,49,8],[52,0,52,2],[53,0,53,2],[54,0,54,1],[54,13,54,21],[55,0,55,1],[55,13,55,14],[55,15,55,17],[55,18,55,19],[58,0,58,2],[59,0,59,1],[60,0,62,2],[62,19,62,20]]}
[{"$f":"'Student 1'!$A$1","v":"Course 1 Engine Diagnosis. Class"},{"$nulls":6},{"$f":"'Student 1'!$H$1","v":25}]
[{"$f":"'Student 1'!$A$2","v":"Date assignment is due"},null,{"$f":"'Student 1'!$C$2","v":" "},{"$f":"'Student 1'!$D$2","v":"TBD"},{"$f":"'Student 1'!$E$2","v":"TBD"},{"$f":"'Student 1'!$F$2","v":"TBD"},{"$f":"'Student 1'!$G$2","v":"TBD"},{"$f":"'Student 1'!$H$2","v":"TBD"},{"$f":"'Student 1'!$I$2","v":"TBD"}]
[{"$f":"'Student 1'!$A$3","v":"Class Room Points:"},null,{"$f":"'Student 1'!$C$3","v":160},{"$f":"'Student 1'!$D$3","v":20},{"$f":"'Student 1'!$E$3","v":20},{"$f":"'Student 1'!$F$3","v":20},{"$f":"'Student 1'!$G$3","v":25},{"$f":"'Student 1'!$H$3","v":" "},{"$f":"'Student 1'!$I$3","v":75},{"$f":"'Student 1'!$J$3","v":"Evaluation"}]
[{"$f":"'Student 1'!$A$4","v":"Red is late turn-in"},null,{"$f":"'Student 1'!$C$4","v":"Blue is absent"},{"$f":"'Student 1'!$D$4","v":"CH 13 "},{"$f":"'Student 1'!$E$4","v":"Lube"},{"$f":"'Student 1'!$F$4","v":"Lube"},{"$f":"'Student 1'!$G$4","v":"Condition"},{"$f":"'Student 1'!$H$4","v":"Extra"},{"$f":"'Student 1'!$I$4","v":"Final"},{"$f":"'Student 1'!$J$4","v":"Classroom"},null,{"$f":"'Student 1'!$L$4","v":"Professionalism"},null,null,{"$f":"'Student 1'!$O$4","v":"Lab"},null,{"$f":"'Student 1'!$Q$4","v":"Total  "},{"$f":"'Student 1'!$R$4","v":"Letter"}]
[{"$f":"'Student 1'!$A$5","v":"I D "},{"$f":"'Student 1'!$B$5","v":"First:"},{"$f":"'Student 1'!$C$5","v":"Last:"},{"$f":"'Student 1'!$D$5","v":"Test"},{"$f":"'Student 1'!$E$5","v":"HW"},{"$f":"'Student 1'!$F$5","v":"Test"},{"$f":"'Student 1'!$G$5","v":"Class"},{"$f":"'Student 1'!$H$5","v":"Credit"},{"$f":"'Student 1'!$I$5","v":"Test"},{"$f":"'Student 1'!$J$5","v":"Points"},{"$f":"'Student 1'!$K$5","v":"%"},{"$f":"'Student 1'!$L$5","v":"Attendance"},{"$f":"'Student 1'!$M$5","v":"Points"},{"$f":"'Student 1'!$N$5","v":"%"},{"$f":"'Student 1'!$O$5","v":"Points"},{"$f":"'Student 1'!$P$5","v":"%"},{"$f":"'Student 1'!$Q$5","v":"%"},{"$f":"'Student 1'!$R$5","v":"Grade"}]
[{"$f":"'Course 1 Class'!$A$15","v":{"v":10,"d":"00000010"}},{"$f":"'Course 1 Class'!$B$15","v":"Student"},{"$f":"'Course 1 Class'!$C$15","v":"Ten"},{"$f":"'Course 1 Class'!$D$15","v":0},{"$f":"'Course 1 Class'!$E$15","v":0},{"$f":"'Course 1 Class'!$F$15","v":0},{"$f":"'Course 1 Class'!$G$15","v":0},{"$f":"'Course 1 Class'!$H$15","v":0},{"$f":"'Course 1 Class'!$I$15","v":0},{"$f":"'Course 1 Class'!$J$15","v":0},{"$f":"'Course 1 Class'!$K$15","v":{"v":0,"d":"0%"}},{"$f":"'Course 1 Class'!$L$15","v":{"v":1,"d":"100%"}},{"$f":"'Course 1 Class'!$M$15","v":72},{"$f":"'Course 1 Class'!$N$15","v":{"v":1,"d":"100%"}},{"$f":"'Course 1 Class'!$O$15","v":0},{"$f":"'Course 1 Class'!$P$15","v":{"v":0,"d":"0%"}},{"$f":"'Course 1 Class'!$Q$15","v":{"v":0.25,"d":"25%"}},{"$f":"'Course 1 Class'!$R$15","v":"F"}]
[{"$f":"'Student 1'!$A$7","v":"Course 1 Engine Diagnosis. Lab"}]
[{"$f":"'Student 1'!$A$8","v":"  Max Shop Points:"},null,{"$f":"'Student 1'!$C$8","v":1325},{"$f":"'Student 1'!$D$8","v":"Dry"},{"$f":"'Student 1'!$E$8","v":"Wet"},{"$f":"'Student 1'!$F$8","v":"Running"},{"$f":"'Student 1'!$G$8","v":"Cylinder"},{"$f":"'Student 1'!$H$8","v":"Oil"},{"$f":"'Student 1'!$I$8","v":"Cooling"},{"$f":"'Student 1'!$J$8","v":"Vacuum"},{"$f":"'Student 1'!$K$8","v":"PCV"},{"$f":"'Student 1'!$L$8","v":"Thermostat"},{"$f":"'Student 1'!$M$8","v":"Fluid"},{"$f":"'Student 1'!$N$8","v":"Diag"},{"$f":"'Student 1'!$O$8","v":" "}]
[{"$f":"'Student 1'!$A$9","v":"Max shop points available depend on how much customer work is done."},null,null,{"$f":"'Student 1'!$D$9","v":"Compr"},{"$f":"'Student 1'!$E$9","v":"Compr"},{"$f":"'Student 1'!$F$9","v":"Compr"},{"$f":"'Student 1'!$G$9","v":"Leakage"},{"$f":"'Student 1'!$H$9","v":"Pressure"},{"$f":"'Student 1'!$I$9","v":"System"},{"$f":"'Student 1'!$J$9","v":"Gauge"},{"$f":"'Student 1'!$K$9","v":"System"},{"$f":"'Student 1'!$L$9","v":"and fan"},{"$f":"'Student 1'!$M$9","v":"Leak"},{"$f":"'Student 1'!$N$9","v":"gauges"},{"$f":"'Student 1'!$O$9","v":"Cus"},{"$f":"'Student 1'!$P$9","v":"Comp"}]
[{"$nulls":3},{"$f":"'Student 1'!$D$10","v":"Test"},{"$f":"'Student 1'!$E$10","v":"Test"},{"$f":"'Student 1'!$F$10","v":"Test"},{"$f":"'Student 1'!$G$10","v":"Test"},{"$f":"'Student 1'!$H$10","v":"Test"},{"$f":"'Student 1'!$I$10","v":"Test"},{"$f":"'Student 1'!$J$10","v":"Test"},{"$f":"'Student 1'!$K$10","v":"Check"},{"$f":"'Student 1'!$L$10","v":"Operation"},{"$f":"'Student 1'!$M$10","v":"Check"},{"$f":"'Student 1'!$N$10","v":"any vehicle"},{"$f":"'Student 1'!$O$10","v":"tomer"},{"$f":"'Student 1'!$P$10","v":"etency"},{"$f":"'Student 1'!$Q$10","v":"  "},{"$f":"'Student 1'!$R$10","v":" "}]
[{"$nulls":3},{"$f":"'Student 1'!$D$11","v":2},{"$f":"'Student 1'!$E$11","v":2},{"$f":"'Student 1'!$F$11","v":2},{"$f":"'Student 1'!$G$11","v":2},{"$f":"'Student 1'!$H$11","v":2},{"$f":"'Student 1'!$I$11","v":2},{"$f":"'Student 1'!$J$11","v":2},{"$f":"'Student 1'!$K$11","v":2},{"$f":"'Student 1'!$L$11","v":2},{"$f":"'Student 1'!$M$11","v":1},{"$f":"'Student 1'!$N$11","v":1},{"$f":"'Student 1'!$O$11","v":"Work"},{"$f":"'Student 1'!$P$11","v":"0 or 1"},{"$f":"'Student 1'!$Q$11","v":"Lab"}]
[{"$f":"'Student 1'!$A$12","v":"ID"},{"$f":"'Student 1'!$B$12","v":"First:"},{"$f":"'Student 1'!$C$12","v":"Last:"},{"$f":"'Student 1'!$D$12","v":100},{"$f":"'Student 1'!$E$12","v":100},{"$f":"'Student 1'!$F$12","v":100},{"$f":"'Student 1'!$G$12","v":100},{"$f":"'Student 1'!$H$12","v":100},{"$f":"'Student 1'!$I$12","v":150},{"$f":"'Student 1'!$J$12","v":100},{"$f":"'Student 1'!$K$12","v":50},{"$f":"'Student 1'!$L$12","v":100},{"$f":"'Student 1'!$M$12","v":25},{"$f":"'Student 1'!$N$12","v":100},{"$f":"'Student 1'!$O$12","v":300},{"$f":"'Student 1'!$P$12","v":"*"},{"$f":"'Student 1'!$Q$12","v":"Points"},{"$f":"'Student 1'!$R$12","v":"%"}]
[{"$f":"'Course 1 Lab'!$A$16","v":{"v":10,"d":"00000010"}},{"$f":"'Course 1 Lab'!$B$16","v":"Student"},{"$f":"'Course 1 Lab'!$C$16","v":"Ten"},{"$f":"'Course 1 Lab'!$D$16","v":0},{"$f":"'Course 1 Lab'!$E$16","v":0},{"$f":"'Course 1 Lab'!$F$16","v":0},{"$f":"'Course 1 Lab'!$G$16","v":0},{"$f":"'Course 1 Lab'!$H$16","v":0},{"$f":"'Course 1 Lab'!$I$16","v":0},{"$f":"'Course 1 Lab'!$J$16","v":0},{"$f":"'Course 1 Lab'!$K$16","v":0},{"$f":"'Course 1 Lab'!$L$16","v":0},{"$f":"'Course 1 Lab'!$M$16","v":0},{"$f":"'Course 1 Lab'!$N$16","v":0},{"$f":"'Course 1 Lab'!$O$16","v":0},{"$f":"'Course 1 Lab'!$P$16","v":1},{"$f":"'Course 1 Lab'!$Q$16","v":0},{"$f":"'Course 1 Lab'!$R$16","v":{"v":0,"d":"0%"}}]
[{"$f":"'Student 1'!$A$14","v":"Course 2 Engine Theory & Repair. Class"},{"$nulls":8},{"$f":"'Student 1'!$J$14","v":25}]
[{"$f":"'Student 1'!$A$15","v":" "},{"$f":"'Student 1'!$B$15","v":"Date assignment is due:"},null,{"$f":"'Student 1'!$D$15","v":"TBD"},{"$f":"'Student 1'!$E$15","v":"TBD"},{"$f":"'Student 1'!$F$15","v":"TBD"},{"$f":"'Student 1'!$G$15","v":"TBD"},{"$f":"'Student 1'!$H$15","v":"TBD"},{"$f":"'Student 1'!$I$15","v":"TBD"},{"$f":"'Student 1'!$J$15","v":"TBD"},{"$f":"'Student 1'!$K$15","v":"TBD"}]
[{"$f":"'Student 1'!$A$16","v":"Class Room Points:"},null,{"$f":"'Student 1'!$C$16","v":201},{"$f":"'Student 1'!$D$16","v":10},{"$f":"'Student 1'!$E$16","v":10},{"$f":"'Student 1'!$F$16","v":20},{"$f":"'Student 1'!$G$16","v":20},{"$f":"'Student 1'!$H$16","v":16},{"$f":"'Student 1'!$I$16","v":25},{"$f":"'Student 1'!$J$16","v":" "},{"$f":"'Student 1'!$K$16","v":100},{"$f":"'Student 1'!$L$16","v":"Evaluation"}]
[{"$f":"'Student 1'!$A$17","v":"Red is late turn-in"},null,{"$f":"'Student 1'!$C$17","v":"Blue is absent"},{"$f":"'Student 1'!$D$17","v":"HW"},{"$f":"'Student 1'!$E$17","v":"HW "},{"$f":"'Student 1'!$F$17","v":"Test"},{"$f":"'Student 1'!$G$17","v":"Test"},{"$f":"'Student 1'!$H$17","v":"HW"},{"$f":"'Student 1'!$I$17","v":"Test"},{"$f":"'Student 1'!$J$17","v":"Extra"},{"$f":"'Student 1'!$K$17","v":"Final "},{"$f":"'Student 1'!$L$17","v":"Class"},null,{"$f":"'Student 1'!$N$17","v":"Professionalism"},null,null,{"$f":"'Student 1'!$Q$17","v":"Lab"},null,{"$f":"'Student 1'!$S$17","v":"Total  "},{"$f":"'Student 1'!$T$17","v":"Letter"}]
[{"$f":"'Student 1'!$A$18","v":"I D "},{"$f":"'Student 1'!$B$18","v":"First:"},{"$f":"'Student 1'!$C$18","v":"Last:"},{"$f":"'Student 1'!$D$18","v":"CH 7"},{"$f":"'Student 1'!$E$18","v":"CH 14"},{"$f":"'Student 1'!$F$18","v":"C & L"},{"$f":"'Student 1'!$G$18","v":"CH 18"},{"$f":"'Student 1'!$H$18","v":"CH 22"},{"$f":"'Student 1'!$I$18","v":"CH 22"},{"$f":"'Student 1'!$J$18","v":"Credit"},{"$f":"'Student 1'!$K$18","v":"TEST"},{"$f":"'Student 1'!$L$18","v":"Points"},{"$f":"'Student 1'!$M$18","v":"%"},{"$f":"'Student 1'!$N$18","v":"Attendance"},{"$f":"'Student 1'!$O$18","v":"Points"},{"$f":"'Student 1'!$P$18","v":"%"},{"$f":"'Student 1'!$Q$18","v":"Points"},{"$f":"'Student 1'!$R$18","v":"%"},{"$f":"'Student 1'!$S$18","v":"%"},{"$f":"'Student 1'!$T$18","v":"Grade"}]
[{"$f":"'Course 2 Class'!$A$15","v":{"v":10,"d":"00000010"}},{"$f":"'Course 2 Class'!$B$15","v":"Student"},{"$f":"'Course 2 Class'!$C$15","v":"Ten"},{"$f":"'Course 2 Class'!$D$15","v":0},{"$f":"'Course 2 Class'!$E$15","v":0},{"$f":"'Course 2 Class'!$F$15","v":0},{"$f":"'Course 2 Class'!$G$15","v":0},{"$f":"'Course 2 Class'!$H$15","v":0},{"$f":"'Course 2 Class'!$I$15","v":0},{"$f":"'Course 2 Class'!$J$15","v":0},{"$f":"'Course 2 Class'!$K$15","v":0},{"$f":"'Course 2 Class'!$L$15","v":0},{"$f":"'Course 2 Class'!$M$15","v":{"v":0,"d":"0%"}},{"$f":"'Course 2 Class'!$N$15","v":{"v":1,"d":"100%"}},{"$f":"'Course 2 Class'!$O$15","v":72},{"$f":"'Course 2 Class'!$P$15","v":{"v":1,"d":"100%"}},{"$f":"'Course 2 Class'!$Q$15","v":0},{"$f":"'Course 2 Class'!$R$15","v":{"v":0,"d":"0%"}},{"$f":"'Course 2 Class'!$S$15","v":{"v":0.25,"d":"25%"}},{"$f":"'Course 2 Class'!$T$15","v":"F"}]
[{"$f":"'Student 1'!$A$20","v":"Course 2 Engine Theory & Repair. Lab"}]
[{"$f":"'Student 1'!$A$21","v":"  Max Shop Points:"},null,{"$f":"'Student 1'!$C$21","v":1450},{"$f":"'Student 1'!$D$21","v":"Engine"},{"$f":"'Student 1'!$E$21","v":"Cylinder"},{"$f":"'Student 1'!$F$21","v":"Red"},{"$f":"'Student 1'!$G$21","v":"Mitsubishi"},{"$f":"'Student 1'!$H$21","v":"Any"},{"$f":"'Student 1'!$I$21","v":"DOHC"},{"$f":"'Student 1'!$J$21","v":"Valve seal"},{"$f":"'Student 1'!$K$21","v":"Misc."},{"$f":"'Student 1'!$L$21","v":" "}]
[{"$f":"'Student 1'!$A$22","v":"Max shop points available depend on how much customer work is done."},null,null,{"$f":"'Student 1'!$D$22","v":"Disassemble"},{"$f":"'Student 1'!$E$22","v":"Head"},{"$f":"'Student 1'!$F$22","v":"Dodge"},{"$f":"'Student 1'!$G$22","v":"\"3.0L\""},{"$f":"'Student 1'!$H$22","v":"Engine"},{"$f":"'Student 1'!$I$22","v":"Engine"},{"$f":"'Student 1'!$J$22","v":"&"},{"$f":"'Student 1'!$K$22","v":"Engine "},{"$f":"'Student 1'!$L$22","v":"Cus"},{"$f":"'Student 1'!$M$22","v":"Comp"}]
[{"$nulls":3},{"$f":"'Student 1'!$D$23","v":"& Measure"},{"$f":"'Student 1'!$E$23","v":"Repair"},{"$f":"'Student 1'!$F$23","v":"Clip"},{"$f":"'Student 1'!$G$23","v":"Clip"},{"$f":"'Student 1'!$H$23","v":"T-chain"},{"$f":"'Student 1'!$I$23","v":" Stand"},{"$f":"'Student 1'!$J$23","v":"Lobe lift"},{"$f":"'Student 1'!$K$23","v":"Points"},{"$f":"'Student 1'!$L$23","v":"tomer"},{"$f":"'Student 1'!$M$23","v":"etency"},{"$f":"'Student 1'!$N$23","v":" "},{"$f":"'Student 1'!$O$23","v":" "}]
[{"$nulls":3},{"$f":"'Student 1'!$D$24","v":1},{"$f":"'Student 1'!$E$24","v":1},{"$f":"'Student 1'!$F$24","v":1},{"$f":"'Student 1'!$G$24","v":1},{"$f":"'Student 1'!$H$24","v":1},{"$f":"'Student 1'!$I$24","v":1},{"$f":"'Student 1'!$J$24","v":1},null,{"$f":"'Student 1'!$L$24","v":"Work"},{"$f":"'Student 1'!$M$24","v":"0 or 1"},{"$f":"'Student 1'!$N$24","v":"Lab"}]
[{"$f":"'Student 1'!$A$25","v":"ID"},{"$f":"'Student 1'!$B$25","v":"First:"},{"$f":"'Student 1'!$C$25","v":"Last:"},{"$f":"'Student 1'!$D$25","v":300},{"$f":"'Student 1'!$E$25","v":200},{"$f":"'Student 1'!$F$25","v":100},{"$f":"'Student 1'!$G$25","v":100},{"$f":"'Student 1'!$H$25","v":100},{"$f":"'Student 1'!$I$25","v":100},{"$f":"'Student 1'!$J$25","v":50},{"$f":"'Student 1'!$K$25","v":200},{"$f":"'Student 1'!$L$25","v":300},{"$f":"'Student 1'!$M$25","v":"*"},{"$f":"'Student 1'!$N$25","v":"Points"},{"$f":"'Student 1'!$O$25","v":"%"}]
[{"$f":"'Course 2 Lab'!$A$16","v":{"v":10,"d":"00000010"}},{"$f":"'Course 2 Lab'!$B$16","v":"Student"},{"$f":"'Course 2 Lab'!$C$16","v":"Ten"},{"$f":"'Course 2 Lab'!$D$16","v":0},{"$f":"'Course 2 Lab'!$E$16","v":0},{"$f":"'Course 2 Lab'!$F$16","v":0},{"$f":"'Course 2 Lab'!$G$16","v":0},{"$f":"'Course 2 Lab'!$H$16","v":0},{"$f":"'Course 2 Lab'!$I$16","v":0},{"$f":"'Course 2 Lab'!$J$16","v":0},{"$f":"'Course 2 Lab'!$K$16","v":0},{"$f":"'Course 2 Lab'!$L$16","v":0},{"$f":"'Course 2 Lab'!$M$16","v":1},{"$f":"'Course 2 Lab'!$N$16","v":0},{"$f":"'Course 2 Lab'!$O$16","v":{"v":0,"d":"0%"}}]
[{"$f":"'Student 1'!$A$27","v":"Course 3 Steering & Suspension. Class."},{"$nulls":11},{"$f":"'Student 1'!$M$27","v":25}]
[{"$f":"'Student 1'!$A$28","v":" "},{"$f":"'Student 1'!$B$28","v":"Date assignment is due:"},null,{"$f":"'Student 1'!$D$28","v":"1/18"},{"$f":"'Student 1'!$E$28","v":"2/2"},{"$f":"'Student 1'!$F$28","v":"TBD"},{"$f":"'Student 1'!$G$28","v":"TBD"},{"$f":"'Student 1'!$H$28","v":"TBD"},{"$f":"'Student 1'!$I$28","v":"TBD"},{"$f":"'Student 1'!$J$28","v":"TBD"},{"$f":"'Student 1'!$K$28","v":"TBD"},{"$f":"'Student 1'!$L$28","v":"TBD"},{"$f":"'Student 1'!$M$28","v":"TBD"},{"$f":"'Student 1'!$N$28","v":"TBD"}]
[{"$f":"'Student 1'!$A$29","v":"Class Room Points:"},null,{"$f":"'Student 1'!$C$29","v":330},{"$f":"'Student 1'!$D$29","v":20},{"$f":"'Student 1'!$E$29","v":20},{"$f":"'Student 1'!$F$29","v":24},{"$f":"'Student 1'!$G$29","v":20},{"$f":"'Student 1'!$H$29","v":25},{"$f":"'Student 1'!$I$29","v":30},{"$f":"'Student 1'!$J$29","v":20},{"$f":"'Student 1'!$K$29","v":26},{"$f":"'Student 1'!$L$29","v":45},{"$f":"'Student 1'!$M$29","v":" "},{"$f":"'Student 1'!$N$29","v":100},{"$f":"'Student 1'!$O$29","v":"Evaluation"}]
[{"$f":"'Student 1'!$A$30","v":"Red is late turn-in"},null,{"$f":"'Student 1'!$C$30","v":"Blue is absent"},{"$f":"'Student 1'!$D$30","v":"HW"},{"$f":"'Student 1'!$E$30","v":"HW"},{"$f":"'Student 1'!$F$30","v":"HW"},{"$f":"'Student 1'!$G$30","v":"QZ"},{"$f":"'Student 1'!$H$30","v":"HW"},{"$f":"'Student 1'!$I$30","v":"HW"},{"$f":"'Student 1'!$J$30","v":"Test"},{"$f":"'Student 1'!$K$30","v":"HW"},{"$f":"'Student 1'!$L$30","v":"Class"},{"$f":"'Student 1'!$M$30","v":"Extra"},{"$f":"'Student 1'!$N$30","v":"Final"},{"$f":"'Student 1'!$O$30","v":"Class"},null,{"$f":"'Student 1'!$Q$30","v":"Professionalism"},null,null,{"$f":"'Student 1'!$T$30","v":"Lab"},null,{"$f":"'Student 1'!$V$30","v":"Total  "},{"$f":"'Student 1'!$W$30","v":"Letter"}]
[{"$f":"'Student 1'!$A$31","v":"I D "},{"$f":"'Student 1'!$B$31","v":"First:"},{"$f":"'Student 1'!$C$31","v":"Last:"},{"$f":"'Student 1'!$D$31","v":"CH 1"},{"$f":"'Student 1'!$E$31","v":"CH 2"},{"$f":"'Student 1'!$F$31","v":"CH 3"},{"$f":"'Student 1'!$G$31","v":"1"},{"$f":"'Student 1'!$H$31","v":"CH 6"},{"$f":"'Student 1'!$I$31","v":"CH 9"},{"$f":"'Student 1'!$J$31","v":"1 – 9"},{"$f":"'Student 1'!$K$31","v":"CH 12"},{"$f":"'Student 1'!$L$31","v":"Project"},{"$f":"'Student 1'!$M$31","v":"Credit"},{"$f":"'Student 1'!$N$31","v":"TEST"},{"$f":"'Student 1'!$O$31","v":"Points"},{"$f":"'Student 1'!$P$31","v":"%"},{"$f":"'Student 1'!$Q$31","v":"Attendance"},{"$f":"'Student 1'!$R$31","v":"Points"},{"$f":"'Student 1'!$S$31","v":"%"},{"$f":"'Student 1'!$T$31","v":"Points"},{"$f":"'Student 1'!$U$31","v":"%"},{"$f":"'Student 1'!$V$31","v":"%"},{"$f":"'Student 1'!$W$31","v":"Grade"}]
[{"$f":"'Course 3 Class'!$A$15","v":{"v":10,"d":"00000010"}},{"$f":"'Course 3 Class'!$B$15","v":"Student"},{"$f":"'Course 3 Class'!$C$15","v":"Ten"},{"$f":"'Course 3 Class'!$D$15","v":0},{"$f":"'Course 3 Class'!$E$15","v":0},{"$f":"'Course 3 Class'!$F$15","v":0},{"$f":"'Course 3 Class'!$G$15","v":0},{"$f":"'Course 3 Class'!$H$15","v":0},{"$f":"'Course 3 Class'!$I$15","v":0},{"$f":"'Course 3 Class'!$J$15","v":0},{"$f":"'Course 3 Class'!$K$15","v":0},{"$f":"'Course 3 Class'!$L$15","v":0},{"$f":"'Course 3 Class'!$M$15","v":0},{"$f":"'Course 3 Class'!$N$15","v":0},{"$f":"'Course 3 Class'!$O$15","v":0},{"$f":"'Course 3 Class'!$P$15","v":{"v":0,"d":"0%"}},{"$f":"'Course 3 Class'!$Q$15","v":{"v":1,"d":"100%"}},{"$f":"'Course 3 Class'!$R$15","v":72},{"$f":"'Course 3 Class'!$S$15","v":{"v":1,"d":"100%"}},{"$f":"'Course 3 Class'!$T$15","v":0},{"$f":"'Course 3 Class'!$U$15","v":{"v":0,"d":"0%"}},{"$f":"'Course 3 Class'!$V$15","v":{"v":0.25,"d":"25%"}},{"$f":"'Course 3 Class'!$W$15","v":"F"}]
[{"$f":"'Student 1'!$A$33","v":"Course 3 Steering & Suspension. Lab"}]
[{"$f":"'Student 1'!$A$34","v":"Max shop points"},null,{"$f":"'Student 1'!$C$34","v":1350},{"$f":"'Student 1'!$D$34","v":"Repair"},{"$f":"'Student 1'!$E$34","v":"Identify"},{"$f":"'Student 1'!$F$34","v":"Repair"},{"$f":"'Student 1'!$G$34","v":"Identify"},{"$f":"'Student 1'!$H$34","v":"Repair"},{"$f":"'Student 1'!$I$34","v":"R&R"},{"$f":"'Student 1'!$J$34","v":"R&R"},{"$f":"'Student 1'!$K$34","v":"R&R"},{"$f":"'Student 1'!$L$34","v":"P/S"},{"$f":"'Student 1'!$M$34","v":"R&R"},{"$f":"'Student 1'!$N$34","v":"NVH"},{"$f":"'Student 1'!$O$34","v":" "}]
[{"$f":"'Student 1'!$A$35","v":"Max shop points available depend on how much customer work is done."},null,null,{"$f":"'Student 1'!$D$35","v":"SLA"},{"$f":"'Student 1'!$E$35","v":"SLA"},{"$f":"'Student 1'!$F$35","v":"Mac-P"},{"$f":"'Student 1'!$G$35","v":"Mac-P"},{"$f":"'Student 1'!$H$35","v":"Rear"},{"$f":"'Student 1'!$I$35","v":"Rack &"},{"$f":"'Student 1'!$J$35","v":"Recirc."},{"$f":"'Student 1'!$K$35","v":"P/S"},{"$f":"'Student 1'!$L$35","v":"Pump"},{"$f":"'Student 1'!$M$35","v":"Inner"},{"$f":"'Student 1'!$N$35","v":"Runout &"},{"$f":"'Student 1'!$O$35","v":"Cus"},{"$f":"'Student 1'!$P$35","v":"Comp"}]
[{"$nulls":3},{"$f":"'Student 1'!$D$36","v":"Susp"},{"$f":"'Student 1'!$E$36","v":"Parts"},{"$f":"'Student 1'!$F$36","v":"Susp"},{"$f":"'Student 1'!$G$36","v":"Parts"},{"$f":"'Student 1'!$H$36","v":"Susp"},{"$f":"'Student 1'!$I$36","v":"Pinion"},{"$f":"'Student 1'!$J$36","v":"Gear"},{"$f":"'Student 1'!$K$36","v":"Pump"},{"$f":"'Student 1'!$L$36","v":"Test"},{"$f":"'Student 1'!$M$36","v":"Tie-Rod"},{"$f":"'Student 1'!$N$36","v":"bal. Check"},{"$f":"'Student 1'!$O$36","v":"tomer"},{"$f":"'Student 1'!$P$36","v":"etency"},{"$f":"'Student 1'!$Q$36","v":" "},{"$f":"'Student 1'!$R$36","v":" "},null,null,{"$f":"'Student 1'!$U$36","v":"Final Grade"}]
[{"$nulls":3},{"$f":"'Student 1'!$D$37","v":1},{"$f":"'Student 1'!$E$37","v":2},{"$f":"'Student 1'!$F$37","v":3},{"$f":"'Student 1'!$G$37","v":2},{"$f":"'Student 1'!$H$37","v":1},{"$f":"'Student 1'!$I$37","v":1},{"$f":"'Student 1'!$J$37","v":1},{"$f":"'Student 1'!$K$37","v":1},{"$f":"'Student 1'!$L$37","v":1},{"$f":"'Student 1'!$M$37","v":1},{"$f":"'Student 1'!$N$37","v":1},{"$f":"'Student 1'!$O$37","v":"Work"},{"$f":"'Student 1'!$P$37","v":"0 or 1"},{"$f":"'Student 1'!$Q$37","v":"Lab"},{"$nulls":3},{"$f":"'Student 1'!$U$37","v":{"v":0,"d":"0%"}},{"$f":"'Student 1'!$V$37","v":"F"}]
[{"$f":"'Student 1'!$A$38","v":"ID"},{"$f":"'Student 1'!$B$38","v":"First:"},{"$f":"'Student 1'!$C$38","v":"Last:"},{"$f":"'Student 1'!$D$38","v":150},{"$f":"'Student 1'!$E$38","v":50},{"$f":"'Student 1'!$F$38","v":225},{"$f":"'Student 1'!$G$38","v":50},{"$f":"'Student 1'!$H$38","v":50},{"$f":"'Student 1'!$I$38","v":150},{"$f":"'Student 1'!$J$38","v":125},{"$f":"'Student 1'!$K$38","v":50},{"$f":"'Student 1'!$L$38","v":50},{"$f":"'Student 1'!$M$38","v":50},{"$f":"'Student 1'!$N$38","v":100},{"$f":"'Student 1'!$O$38","v":300},{"$f":"'Student 1'!$P$38","v":"*"},{"$f":"'Student 1'!$Q$38","v":"Points"},{"$f":"'Student 1'!$R$38","v":"%"},null,null,{"$f":"'Student 1'!$U$38","v":{"v":0.695,"d":"70%"}},{"$f":"'Student 1'!$V$38","v":"D-"}]
[{"$f":"'Course 3 Lab'!$A$16","v":{"v":10,"d":"00000010"}},{"$f":"'Course 3 Lab'!$B$16","v":"Student"},{"$f":"'Course 3 Lab'!$C$16","v":"Ten"},{"$f":"'Course 3 Lab'!$D$16","v":0},{"$f":"'Course 3 Lab'!$E$16","v":0},{"$f":"'Course 3 Lab'!$F$16","v":0},{"$f":"'Course 3 Lab'!$G$16","v":0},{"$f":"'Course 3 Lab'!$H$16","v":0},{"$f":"'Course 3 Lab'!$I$16","v":0},{"$f":"'Course 3 Lab'!$J$16","v":0},{"$f":"'Course 3 Lab'!$K$16","v":0},{"$f":"'Course 3 Lab'!$L$16","v":0},{"$f":"'Course 3 Lab'!$M$16","v":0},{"$f":"'Course 3 Lab'!$N$16","v":0},{"$f":"'Course 3 Lab'!$O$16","v":0},{"$f":"'Course 3 Lab'!$P$16","v":1},{"$f":"'Course 3 Lab'!$Q$16","v":0},{"$f":"'Course 3 Lab'!$R$16","v":{"v":0,"d":"0%"}},null,null,{"$f":"'Student 1'!$U$39","v":{"v":0.715,"d":"72%"}},{"$f":"'Student 1'!$V$39","v":"D"}]
[{"$f":"'Student 1'!$A$40","v":"Course 4 Alignment. Class."},{"$nulls":7},{"$f":"'Student 1'!$I$40","v":25},{"$nulls":11},{"$f":"'Student 1'!$U$40","v":{"v":0.735,"d":"74%"}},{"$f":"'Student 1'!$V$40","v":"D+"}]
[{"$f":"'Student 1'!$A$41","v":" "},{"$f":"'Student 1'!$B$41","v":"Date assignment is due  "},null,{"$f":"'Student 1'!$D$41","v":"TBD"},{"$f":"'Student 1'!$E$41","v":"TBD"},{"$f":"'Student 1'!$F$41","v":"TBD"},{"$f":"'Student 1'!$G$41","v":"TBD"},{"$f":"'Student 1'!$H$41","v":"TBD"},{"$f":"'Student 1'!$I$41","v":"TBD"},{"$f":"'Student 1'!$J$41","v":"TBD"},{"$nulls":10},{"$f":"'Student 1'!$U$41","v":{"v":0.755,"d":"76%"}},{"$f":"'Student 1'!$V$41","v":"C-"}]
[{"$f":"'Student 1'!$A$42","v":"Class Room Points:"},null,{"$f":"'Student 1'!$C$42","v":235},{"$f":"'Student 1'!$D$42","v":25},{"$f":"'Student 1'!$E$42","v":25},{"$f":"'Student 1'!$F$42","v":20},{"$f":"'Student 1'!$G$42","v":40},{"$f":"'Student 1'!$H$42","v":50},{"$f":"'Student 1'!$I$42","v":" "},{"$f":"'Student 1'!$J$42","v":75},{"$f":"'Student 1'!$K$42","v":"Evaluation"},{"$nulls":9},{"$f":"'Student 1'!$U$42","v":{"v":0.785,"d":"79%"}},{"$f":"'Student 1'!$V$42","v":"C"}]
[{"$f":"'Student 1'!$A$43","v":"Red is late turn-in"},null,{"$f":"'Student 1'!$C$43","v":"Blue is absent"},{"$f":"'Student 1'!$D$43","v":"CH 16"},{"$f":"'Student 1'!$E$43","v":"CH 16"},{"$f":"'Student 1'!$F$43","v":"Align"},{"$f":"'Student 1'!$G$43","v":"In class"},{"$f":"'Student 1'!$H$43","v":"In class"},{"$f":"'Student 1'!$I$43","v":"Extra"},{"$f":"'Student 1'!$J$43","v":"Final"},{"$f":"'Student 1'!$K$43","v":"Class"},null,{"$f":"'Student 1'!$M$43","v":"Professionalism"},null,null,{"$f":"'Student 1'!$P$43","v":"Lab"},null,{"$f":"'Student 1'!$R$43","v":"Total  "},{"$f":"'Student 1'!$S$43","v":"Letter"},null,{"$f":"'Student 1'!$U$43","v":{"v":0.815,"d":"82%"}},{"$f":"'Student 1'!$V$43","v":"C+"}]
[{"$f":"'Student 1'!$A$44","v":"I D "},{"$f":"'Student 1'!$B$44","v":"First:"},{"$f":"'Student 1'!$C$44","v":"Last:"},{"$f":"'Student 1'!$D$44","v":"HW"},{"$f":"'Student 1'!$E$44","v":"Test"},{"$f":"'Student 1'!$F$44","v":"HW"},{"$f":"'Student 1'!$G$44","v":"Project1"},{"$f":"'Student 1'!$H$44","v":"Project2"},{"$f":"'Student 1'!$I$44","v":"Credit"},{"$f":"'Student 1'!$J$44","v":"Test"},{"$f":"'Student 1'!$K$44","v":"Points"},{"$f":"'Student 1'!$L$44","v":"%"},{"$f":"'Student 1'!$M$44","v":"Attendance"},{"$f":"'Student 1'!$N$44","v":"Points"},{"$f":"'Student 1'!$O$44","v":"%"},{"$f":"'Student 1'!$P$44","v":"Points"},{"$f":"'Student 1'!$Q$44","v":"%"},{"$f":"'Student 1'!$R$44","v":"%"},{"$f":"'Student 1'!$S$44","v":"Grade"},null,{"$f":"'Student 1'!$U$44","v":{"v":0.845,"d":"85%"}},{"$f":"'Student 1'!$V$44","v":"B-"}]
[{"$f":"'Course 4 Class'!$A$15","v":{"v":10,"d":"00000010"}},{"$f":"'Course 4 Class'!$B$15","v":"Student"},{"$f":"'Course 4 Class'!$C$15","v":"Ten"},{"$f":"'Course 4 Class'!$D$15","v":0},{"$f":"'Course 4 Class'!$E$15","v":0},{"$f":"'Course 4 Class'!$F$15","v":0},{"$f":"'Course 4 Class'!$G$15","v":0},{"$f":"'Course 4 Class'!$H$15","v":0},{"$f":"'Course 4 Class'!$I$15","v":0},{"$f":"'Course 4 Class'!$J$15","v":0},{"$f":"'Course 4 Class'!$K$15","v":0},{"$f":"'Course 4 Class'!$L$15","v":{"v":0,"d":"0%"}},{"$f":"'Course 4 Class'!$M$15","v":{"v":1,"d":"100%"}},{"$f":"'Course 4 Class'!$N$15","v":72},{"$f":"'Course 4 Class'!$O$15","v":{"v":1,"d":"100%"}},{"$f":"'Course 4 Class'!$P$15","v":0},{"$f":"'Course 4 Class'!$Q$15","v":{"v":0,"d":"0%"}},{"$f":"'Course 4 Class'!$R$15","v":{"v":0.25,"d":"25%"}},{"$f":"'Course 4 Class'!$S$15","v":"F"},null,{"$f":"'Student 1'!$U$45","v":{"v":0.875,"d":"88%"}},{"$f":"'Student 1'!$V$45","v":"B"}]
[{"$f":"'Student 1'!$A$46","v":"Course 4 Alignment. Lab"},{"$nulls":19},{"$f":"'Student 1'!$U$46","v":{"v":0.895,"d":"90%"}},{"$f":"'Student 1'!$V$46","v":"B+"}]
[{"$f":"'Student 1'!$A$47","v":"Max Shop Points:"},null,{"$f":"'Student 1'!$C$47","v":1300},{"$f":"'Student 1'!$D$47","v":"Alignment"},{"$f":"'Student 1'!$E$47","v":"Complete"},{"$f":"'Student 1'!$F$47","v":"Cus"},{"$f":"'Student 1'!$G$47","v":" "},{"$nulls":13},{"$f":"'Student 1'!$U$47","v":{"v":0.925,"d":"93%"}},{"$f":"'Student 1'!$V$47","v":"A-"}]
[{"$f":"'Student 1'!$A$48","v":"Max shop points available depend on how much customer work is done."},null,null,{"$f":"'Student 1'!$D$48","v":"Pre-check"},{"$f":"'Student 1'!$E$48","v":"Wheel"},{"$f":"'Student 1'!$F$48","v":"tomer"},{"$f":"'Student 1'!$G$48","v":"Comp"},{"$nulls":13},{"$f":"'Student 1'!$U$48","v":{"v":0.945,"d":"95%"}},{"$f":"'Student 1'!$V$48","v":"A"}]
[{"$nulls":3},{"$f":"'Student 1'!$D$49","v":"100 P"},{"$f":"'Student 1'!$E$49","v":"Alignment"},{"$f":"'Student 1'!$F$49","v":"Work"},{"$f":"'Student 1'!$G$49","v":"etency"},{"$f":"'Student 1'!$H$49","v":" "},{"$f":"'Student 1'!$I$49","v":" "},{"$nulls":11},{"$f":"'Student 1'!$U$49","v":{"v":1,"d":"100%"}},{"$f":"'Student 1'!$V$49","v":"A"}]
[{"$nulls":3},{"$f":"'Student 1'!$D$50","v":1},{"$f":"'Student 1'!$E$50","v":1},{"$f":"'Student 1'!$F$50","v":" "},{"$f":"'Student 1'!$G$50","v":"0 or 1"},{"$f":"'Student 1'!$H$50","v":"Lab"}]
[{"$f":"'Student 1'!$A$51","v":"ID"},{"$f":"'Student 1'!$B$51","v":"First:"},{"$f":"'Student 1'!$C$51","v":"Last:"},{"$f":"'Student 1'!$D$51","v":100},{"$f":"'Student 1'!$E$51","v":900},{"$f":"'Student 1'!$F$51","v":300},{"$f":"'Student 1'!$G$51","v":"*"},{"$f":"'Student 1'!$H$51","v":"Points"},{"$f":"'Student 1'!$I$51","v":"%"}]
[{"$f":"'Course 4 Lab'!$A$16","v":{"v":10,"d":"00000010"}},{"$f":"'Course 4 Lab'!$B$16","v":"Student"},{"$f":"'Course 4 Lab'!$C$16","v":"Ten"},{"$f":"'Course 4 Lab'!$D$16","v":0},{"$f":"'Course 4 Lab'!$E$16","v":0},{"$f":"'Course 4 Lab'!$F$16","v":0},{"$f":"'Course 4 Lab'!$G$16","v":1},{"$f":"'Course 4 Lab'!$H$16","v":0},{"$f":"'Course 4 Lab'!$I$16","v":{"v":0,"d":"0%"}}]
[{"$f":"'Student 1'!$A$53","v":"Course 5 Brake Systems. Class."},{"$nulls":10},{"$f":"'Student 1'!$L$53","v":35}]
[{"$f":"'Student 1'!$A$54","v":"Date assignment is due:"},null,{"$f":"'Student 1'!$C$54","v":" "},{"$f":"'Student 1'!$D$54","v":"TBD"},{"$f":"'Student 1'!$E$54","v":"TBD"},{"$f":"'Student 1'!$F$54","v":"TBD"},{"$f":"'Student 1'!$G$54","v":"TBD"},{"$f":"'Student 1'!$H$54","v":"TBD"},{"$f":"'Student 1'!$I$54","v":"TBD"},{"$f":"'Student 1'!$J$54","v":"TBD"},{"$f":"'Student 1'!$K$54","v":"TBD"},{"$f":"'Student 1'!$L$54","v":"TBD"},{"$f":"'Student 1'!$M$54","v":"TBD"}]
[{"$f":"'Student 1'!$A$55","v":"Class Room Points:"},null,{"$f":"'Student 1'!$C$55","v":440},{"$f":"'Student 1'!$D$55","v":30},{"$f":"'Student 1'!$E$55","v":25},{"$f":"'Student 1'!$F$55","v":100},{"$f":"'Student 1'!$G$55","v":30},{"$f":"'Student 1'!$H$55","v":50},{"$f":"'Student 1'!$I$55","v":30},{"$f":"'Student 1'!$J$55","v":25},{"$f":"'Student 1'!$K$55","v":50},{"$f":"'Student 1'!$L$55","v":" "},{"$f":"'Student 1'!$M$55","v":100},{"$f":"'Student 1'!$N$55","v":"Evaluation"}]
[{"$f":"'Student 1'!$A$56","v":"Red is late turn-in"},null,{"$f":"'Student 1'!$C$56","v":"Blue is absent"},{"$f":"'Student 1'!$D$56","v":"HW"},{"$f":"'Student 1'!$E$56","v":"HW"},{"$f":"'Student 1'!$F$56","v":"Test"},{"$f":"'Student 1'!$G$56","v":"HW"},{"$f":"'Student 1'!$H$56","v":"Test"},{"$f":"'Student 1'!$I$56","v":"HW"},{"$f":"'Student 1'!$J$56","v":"Test"},{"$f":"'Student 1'!$K$56","v":"Class"},{"$f":"'Student 1'!$L$56","v":"Extra"},{"$f":"'Student 1'!$M$56","v":"Final"},{"$f":"'Student 1'!$N$56","v":"Class"},null,{"$f":"'Student 1'!$P$56","v":"Professionalism"},null,null,{"$f":"'Student 1'!$S$56","v":"Lab"},null,{"$f":"'Student 1'!$U$56","v":"Total  "},{"$f":"'Student 1'!$V$56","v":"Letter"}]
[{"$f":"'Student 1'!$A$57","v":"I D "},{"$f":"'Student 1'!$B$57","v":"First:"},{"$f":"'Student 1'!$C$57","v":"Last:"},{"$f":"'Student 1'!$D$57","v":"CH 4"},{"$f":"'Student 1'!$E$57","v":"CH 5"},{"$f":"'Student 1'!$F$57","v":"#1"},{"$f":"'Student 1'!$G$57","v":"CH 7"},{"$f":"'Student 1'!$H$57","v":"Conv"},{"$f":"'Student 1'!$I$57","v":"CH 20"},{"$f":"'Student 1'!$J$57","v":"21/22"},{"$f":"'Student 1'!$K$57","v":"Project"},{"$f":"'Student 1'!$L$57","v":"Credit"},{"$f":"'Student 1'!$M$57","v":"Test"},{"$f":"'Student 1'!$N$57","v":"Points"},{"$f":"'Student 1'!$O$57","v":"%"},{"$f":"'Student 1'!$P$57","v":"Attendance"},{"$f":"'Student 1'!$Q$57","v":"Points"},{"$f":"'Student 1'!$R$57","v":"%"},{"$f":"'Student 1'!$S$57","v":"Points"},{"$f":"'Student 1'!$T$57","v":"%"},{"$f":"'Student 1'!$U$57","v":"%"},{"$f":"'Student 1'!$V$57","v":"Grade"}]
[{"$f":"'Course 5 Class'!$A$15","v":{"v":10,"d":"00000010"}},{"$f":"'Course 5 Class'!$B$15","v":"Student"},{"$f":"'Course 5 Class'!$C$15","v":"Ten"},{"$f":"'Course 5 Class'!$D$15","v":0},{"$f":"'Course 5 Class'!$E$15","v":0},{"$f":"'Course 5 Class'!$F$15","v":0},{"$f":"'Course 5 Class'!$G$15","v":0},{"$f":"'Course 5 Class'!$H$15","v":0},{"$f":"'Course 5 Class'!$I$15","v":0},{"$f":"'Course 5 Class'!$J$15","v":0},{"$f":"'Course 5 Class'!$K$15","v":0},{"$f":"'Course 5 Class'!$L$15","v":0},{"$f":"'Course 5 Class'!$M$15","v":0},{"$f":"'Course 5 Class'!$N$15","v":0},{"$f":"'Course 5 Class'!$O$15","v":{"v":0,"d":"0%"}},{"$f":"'Course 5 Class'!$P$15","v":{"v":1,"d":"100%"}},{"$f":"'Course 5 Class'!$Q$15","v":72},{"$f":"'Course 5 Class'!$R$15","v":{"v":1,"d":"100%"}},{"$f":"'Course 5 Class'!$S$15","v":0},{"$f":"'Course 5 Class'!$T$15","v":{"v":0,"d":"0%"}},{"$f":"'Course 5 Class'!$U$15","v":{"v":0.25,"d":"25%"}},{"$f":"'Course 5 Class'!$V$15","v":"F"}]
[{"$f":"'Student 1'!$A$59","v":"Course 5 Brake Systems. Lab"}]
[{"$f":"'Student 1'!$A$60","v":"  Max Shop Points:"},null,{"$f":"'Student 1'!$C$60","v":970},{"$f":"'Student 1'!$D$60","v":"Drum"},{"$f":"'Student 1'!$E$60","v":"Drum "},{"$f":"'Student 1'!$F$60","v":"Disc"},{"$f":"'Student 1'!$G$60","v":"On Car"},{"$f":"'Student 1'!$H$60","v":"Off Car"},{"$f":"'Student 1'!$I$60","v":"Wheel"},{"$f":"'Student 1'!$J$60","v":"Hydr."},{"$f":"'Student 1'!$K$60","v":"Vacuum"},{"$f":"'Student 1'!$L$60","v":"Warning"},{"$f":"'Student 1'!$M$60","v":"Brake"},{"$f":"'Student 1'!$N$60","v":"Brake"},{"$f":"'Student 1'!$O$60","v":"Dodge"},{"$f":"'Student 1'!$P$60","v":"Ford"},{"$f":"'Student 1'!$Q$60","v":"GM"},{"$f":"'Student 1'!$R$60","v":"Cus"},{"$f":"'Student 1'!$S$60","v":"Brake"}]
[{"$f":"'Student 1'!$A$61","v":"Max shop points available depend on how much customer work is done."},null,null,{"$f":"'Student 1'!$D$61","v":"Brake"},{"$f":"'Student 1'!$E$61","v":"Brake "},{"$f":"'Student 1'!$F$61","v":"Brake"},{"$f":"'Student 1'!$G$61","v":"Disc"},{"$f":"'Student 1'!$H$61","v":"Disc"},{"$f":"'Student 1'!$I$61","v":"Bearing"},{"$f":"'Student 1'!$J$61","v":"Line"},{"$f":"'Student 1'!$K$61","v":"Booster"},{"$f":"'Student 1'!$L$61","v":"Light"},{"$f":"'Student 1'!$M$61","v":"System"},{"$f":"'Student 1'!$N$61","v":"Valves"},{"$f":"'Student 1'!$O$61","v":"Anti"},{"$f":"'Student 1'!$P$61","v":"Anti"},{"$f":"'Student 1'!$Q$61","v":"Anti"},{"$f":"'Student 1'!$R$61","v":"tomer"},{"$f":"'Student 1'!$S$61","v":"Comp"}]
[{"$nulls":3},{"$f":"'Student 1'!$D$62","v":"Job"},{"$f":"'Student 1'!$E$62","v":"Mach."},{"$f":"'Student 1'!$F$62","v":"Job"},{"$f":"'Student 1'!$G$62","v":"Mach."},{"$f":"'Student 1'!$H$62","v":"Mach."},{"$f":"'Student 1'!$I$62","v":"Service"},{"$f":"'Student 1'!$J$62","v":"Repair"},{"$f":"'Student 1'!$K$62","v":"Service"},{"$f":"'Student 1'!$L$62","v":"Service"},{"$f":"'Student 1'!$M$62","v":"Bleed"},{"$f":"'Student 1'!$N$62","v":"Check"},{"$f":"'Student 1'!$O$62","v":"Lock"},{"$f":"'Student 1'!$P$62","v":"Lock"},{"$f":"'Student 1'!$Q$62","v":"Lock"},{"$f":"'Student 1'!$R$62","v":"Work"},{"$f":"'Student 1'!$S$62","v":"etency"}]
[{"$nulls":3},{"$f":"'Student 1'!$D$63","v":2},{"$f":"'Student 1'!$E$63","v":2},{"$f":"'Student 1'!$F$63","v":2},{"$f":"'Student 1'!$G$63","v":2},{"$f":"'Student 1'!$H$63","v":2},{"$f":"'Student 1'!$I$63","v":1},{"$f":"'Student 1'!$J$63","v":1},{"$f":"'Student 1'!$K$63","v":2},{"$f":"'Student 1'!$L$63","v":2},{"$f":"'Student 1'!$M$63","v":4},{"$f":"'Student 1'!$N$63","v":1},{"$f":"'Student 1'!$O$63","v":1},{"$f":"'Student 1'!$P$63","v":1},{"$f":"'Student 1'!$Q$63","v":1},{"$f":"'Student 1'!$R$63","v":" "},{"$f":"'Student 1'!$S$63","v":"Required"},{"$f":"'Student 1'!$T$63","v":"Lab"}]
[{"$f":"'Student 1'!$A$64","v":"ID"},{"$f":"'Student 1'!$B$64","v":"First:"},{"$f":"'Student 1'!$C$64","v":"Last:"},{"$f":"'Student 1'!$D$64","v":150},{"$f":"'Student 1'!$E$64","v":40},{"$f":"'Student 1'!$F$64","v":150},{"$f":"'Student 1'!$G$64","v":80},{"$f":"'Student 1'!$H$64","v":40},{"$f":"'Student 1'!$I$64","v":50},{"$f":"'Student 1'!$J$64","v":30},{"$f":"'Student 1'!$K$64","v":30},{"$f":"'Student 1'!$L$64","v":40},{"$f":"'Student 1'!$M$64","v":80},{"$f":"'Student 1'!$N$64","v":40},{"$f":"'Student 1'!$O$64","v":80},{"$f":"'Student 1'!$P$64","v":80},{"$f":"'Student 1'!$Q$64","v":80},{"$f":"'Student 1'!$R$64","v":300},{"$f":"'Student 1'!$S$64","v":"*"},{"$f":"'Student 1'!$T$64","v":"Points"},{"$f":"'Student 1'!$U$64","v":"%"}]
[{"$f":"'Course 5 Lab'!$A$16","v":{"v":10,"d":"00000010"}},{"$f":"'Course 5 Lab'!$B$16","v":"Student"},{"$f":"'Course 5 Lab'!$C$16","v":"Ten"},{"$f":"'Course 5 Lab'!$D$16","v":0},{"$f":"'Course 5 Lab'!$E$16","v":0},{"$f":"'Course 5 Lab'!$F$16","v":0},{"$f":"'Course 5 Lab'!$G$16","v":0},{"$f":"'Course 5 Lab'!$H$16","v":0},{"$f":"'Course 5 Lab'!$I$16","v":0},{"$f":"'Course 5 Lab'!$J$16","v":0},{"$f":"'Course 5 Lab'!$K$16","v":0},{"$f":"'Course 5 Lab'!$L$16","v":0},{"$f":"'Course 5 Lab'!$M$16","v":0},{"$f":"'Course 5 Lab'!$N$16","v":0},{"$f":"'Course 5 Lab'!$O$16","v":0},{"$f":"'Course 5 Lab'!$P$16","v":0},{"$f":"'Course 5 Lab'!$Q$16","v":0},{"$f":"'Course 5 Lab'!$R$16","v":0},{"$f":"'Course 5 Lab'!$S$16","v":1},{"$f":"'Course 5 Lab'!$T$16","v":0},{"$f":"'Course 5 Lab'!$U$16","v":{"v":0,"d":"0%"}}]

{"sheet":"Student 11","index":24,"n_rows":65,"n_cols":23,"rows_kept":65,"merged":[[0,0,0,2],[1,0,1,2],[2,0,2,1],[2,9,2,17],[3,0,3,1],[3,9,3,10],[3,11,3,13],[3,14,3,15],[6,0,6,2],[7,0,7,1],[8,0,10,2],[10,16,10,17],[13,0,13,2],[14,1,14,2],[15,0,15,1],[15,11,15,19],[16,0,16,1],[16,11,16,12],[16,13,16,15],[16,16,16,17],[19,0,19,2],[20,0,20,1],[21,0,23,2],[23,13,23,14],[26,0,26,2],[27,1,27,2],[28,0,28,1],[28,14,28,22],[29,0,29,1],[29,14,29,15],[29,16,29,18],[29,19,29,20],[32,0,32,2],[33,0,33,1],[34,0,36,2],[35,20,35,21],[36,16,36,17],[39,0,39,2],[40,1,40,2],[41,0,41,1],[41,10,41,18],[42,0,42,1],[42,10,42,11],[42,12,42,14],[42,15,42,16],[45,0,45,2],[46,0,46,1],[47,0,49,2],[49,7,49,8],[52,0,52,2],[53,0,53,2],[54,0,54,1],[54,13,54,21],[55,0,55,1],[55,13,55,14],[55,15,55,17],[55,18,55,19],[58,0,58,2],[59,0,59,1],[60,0,62,2],[62,19,62,20]]}
[{"$f":"'Student 1'!$A$1","v":"Course 1 Engine Diagnosis. Class"},{"$nulls":6},{"$f":"'Student 1'!$H$1","v":25}]
[{"$f":"'Student 1'!$A$2","v":"Date assignment is due"},null,{"$f":"'Student 1'!$C$2","v":" "},{"$f":"'Student 1'!$D$2","v":"TBD"},{"$f":"'Student 1'!$E$2","v":"TBD"},{"$f":"'Student 1'!$F$2","v":"TBD"},{"$f":"'Student 1'!$G$2","v":"TBD"},{"$f":"'Student 1'!$H$2","v":"TBD"},{"$f":"'Student 1'!$I$2","v":"TBD"}]
[{"$f":"'Student 1'!$A$3","v":"Class Room Points:"},null,{"$f":"'Student 1'!$C$3","v":160},{"$f":"'Student 1'!$D$3","v":20},{"$f":"'Student 1'!$E$3","v":20},{"$f":"'Student 1'!$F$3","v":20},{"$f":"'Student 1'!$G$3","v":25},{"$f":"'Student 1'!$H$3","v":" "},{"$f":"'Student 1'!$I$3","v":75},{"$f":"'Student 1'!$J$3","v":"Evaluation"}]
[{"$f":"'Student 1'!$A$4","v":"Red is late turn-in"},null,{"$f":"'Student 1'!$C$4","v":"Blue is absent"},{"$f":"'Student 1'!$D$4","v":"CH 13 "},{"$f":"'Student 1'!$E$4","v":"Lube"},{"$f":"'Student 1'!$F$4","v":"Lube"},{"$f":"'Student 1'!$G$4","v":"Condition"},{"$f":"'Student 1'!$H$4","v":"Extra"},{"$f":"'Student 1'!$I$4","v":"Final"},{"$f":"'Student 1'!$J$4","v":"Classroom"},null,{"$f":"'Student 1'!$L$4","v":"Professionalism"},null,null,{"$f":"'Student 1'!$O$4","v":"Lab"},null,{"$f":"'Student 1'!$Q$4","v":"Total  "},{"$f":"'Student 1'!$R$4","v":"Letter"}]
[{"$f":"'Student 1'!$A$5","v":"I D "},{"$f":"'Student 1'!$B$5","v":"First:"},{"$f":"'Student 1'!$C$5","v":"Last:"},{"$f":"'Student 1'!$D$5","v":"Test"},{"$f":"'Student 1'!$E$5","v":"HW"},{"$f":"'Student 1'!$F$5","v":"Test"},{"$f":"'Student 1'!$G$5","v":"Class"},{"$f":"'Student 1'!$H$5","v":"Credit"},{"$f":"'Student 1'!$I$5","v":"Test"},{"$f":"'Student 1'!$J$5","v":"Points"},{"$f":"'Student 1'!$K$5","v":"%"},{"$f":"'Student 1'!$L$5","v":"Attendance"},{"$f":"'Student 1'!$M$5","v":"Points"},{"$f":"'Student 1'!$N$5","v":"%"},{"$f":"'Student 1'!$O$5","v":"Points"},{"$f":"'Student 1'!$P$5","v":"%"},{"$f":"'Student 1'!$Q$5","v":"%"},{"$f":"'Student 1'!$R$5","v":"Grade"}]
[{"$f":"'Course 1 Class'!$A$16","v":{"v":11,"d":"00000011"}},{"$f":"'Course 1 Class'!$B$16","v":"Student"},{"$f":"'Course 1 Class'!$C$16","v":"Eleven"},{"$f":"'Course 1 Class'!$D$16","v":0},{"$f":"'Course 1 Class'!$E$16","v":0},{"$f":"'Course 1 Class'!$F$16","v":0},{"$f":"'Course 1 Class'!$G$16","v":0},{"$f":"'Course 1 Class'!$H$16","v":0},{"$f":"'Course 1 Class'!$I$16","v":0},{"$f":"'Course 1 Class'!$J$16","v":0},{"$f":"'Course 1 Class'!$K$16","v":{"v":0,"d":"0%"}},{"$f":"'Course 1 Class'!$L$16","v":{"v":1,"d":"100%"}},{"$f":"'Course 1 Class'!$M$16","v":72},{"$f":"'Course 1 Class'!$N$16","v":{"v":1,"d":"100%"}},{"$f":"'Course 1 Class'!$O$16","v":0},{"$f":"'Course 1 Class'!$P$16","v":{"v":0,"d":"0%"}},{"$f":"'Course 1 Class'!$Q$16","v":{"v":0.25,"d":"25%"}},{"$f":"'Course 1 Class'!$R$16","v":"F"}]
[{"$f":"'Student 1'!$A$7","v":"Course 1 Engine Diagnosis. Lab"}]
[{"$f":"'Student 1'!$A$8","v":"  Max Shop Points:"},null,{"$f":"'Student 1'!$C$8","v":1325},{"$f":"'Student 1'!$D$8","v":"Dry"},{"$f":"'Student 1'!$E$8","v":"Wet"},{"$f":"'Student 1'!$F$8","v":"Running"},{"$f":"'Student 1'!$G$8","v":"Cylinder"},{"$f":"'Student 1'!$H$8","v":"Oil"},{"$f":"'Student 1'!$I$8","v":"Cooling"},{"$f":"'Student 1'!$J$8","v":"Vacuum"},{"$f":"'Student 1'!$K$8","v":"PCV"},{"$f":"'Student 1'!$L$8","v":"Thermostat"},{"$f":"'Student 1'!$M$8","v":"Fluid"},{"$f":"'Student 1'!$N$8","v":"Diag"},{"$f":"'Student 1'!$O$8","v":" "}]
[{"$f":"'Student 1'!$A$9","v":"Max shop points available depend on how much customer work is done."},null,null,{"$f":"'Student 1'!$D$9","v":"Compr"},{"$f":"'Student 1'!$E$9","v":"Compr"},{"$f":"'Student 1'!$F$9","v":"Compr"},{"$f":"'Student 1'!$G$9","v":"Leakage"},{"$f":"'Student 1'!$H$9","v":"Pressure"},{"$f":"'Student 1'!$I$9","v":"System"},{"$f":"'Student 1'!$J$9","v":"Gauge"},{"$f":"'Student 1'!$K$9","v":"System"},{"$f":"'Student 1'!$L$9","v":"and fan"},{"$f":"'Student 1'!$M$9","v":"Leak"},{"$f":"'Student 1'!$N$9","v":"gauges"},{"$f":"'Student 1'!$O$9","v":"Cus"},{"$f":"'Student 1'!$P$9","v":"Comp"}]
[{"$nulls":3},{"$f":"'Student 1'!$D$10","v":"Test"},{"$f":"'Student 1'!$E$10","v":"Test"},{"$f":"'Student 1'!$F$10","v":"Test"},{"$f":"'Student 1'!$G$10","v":"Test"},{"$f":"'Student 1'!$H$10","v":"Test"},{"$f":"'Student 1'!$I$10","v":"Test"},{"$f":"'Student 1'!$J$10","v":"Test"},{"$f":"'Student 1'!$K$10","v":"Check"},{"$f":"'Student 1'!$L$10","v":"Operation"},{"$f":"'Student 1'!$M$10","v":"Check"},{"$f":"'Student 1'!$N$10","v":"any vehicle"},{"$f":"'Student 1'!$O$10","v":"tomer"},{"$f":"'Student 1'!$P$10","v":"etency"},{"$f":"'Student 1'!$Q$10","v":"  "},{"$f":"'Student 1'!$R$10","v":" "}]
[{"$nulls":3},{"$f":"'Student 1'!$D$11","v":2},{"$f":"'Student 1'!$E$11","v":2},{"$f":"'Student 1'!$F$11","v":2},{"$f":"'Student 1'!$G$11","v":2},{"$f":"'Student 1'!$H$11","v":2},{"$f":"'Student 1'!$I$11","v":2},{"$f":"'Student 1'!$J$11","v":2},{"$f":"'Student 1'!$K$11","v":2},{"$f":"'Student 1'!$L$11","v":2},{"$f":"'Student 1'!$M$11","v":1},{"$f":"'Student 1'!$N$11","v":1},{"$f":"'Student 1'!$O$11","v":"Work"},{"$f":"'Student 1'!$P$11","v":"0 or 1"},{"$f":"'Student 1'!$Q$11","v":"Lab"}]
[{"$f":"'Student 1'!$A$12","v":"ID"},{"$f":"'Student 1'!$B$12","v":"First:"},{"$f":"'Student 1'!$C$12","v":"Last:"},{"$f":"'Student 1'!$D$12","v":100},{"$f":"'Student 1'!$E$12","v":100},{"$f":"'Student 1'!$F$12","v":100},{"$f":"'Student 1'!$G$12","v":100},{"$f":"'Student 1'!$H$12","v":100},{"$f":"'Student 1'!$I$12","v":150},{"$f":"'Student 1'!$J$12","v":100},{"$f":"'Student 1'!$K$12","v":50},{"$f":"'Student 1'!$L$12","v":100},{"$f":"'Student 1'!$M$12","v":25},{"$f":"'Student 1'!$N$12","v":100},{"$f":"'Student 1'!$O$12","v":300},{"$f":"'Student 1'!$P$12","v":"*"},{"$f":"'Student 1'!$Q$12","v":"Points"},{"$f":"'Student 1'!$R$12","v":"%"}]
[{"$f":"'Course 1 Lab'!$A$17","v":{"v":11,"d":"00000011"}},{"$f":"'Course 1 Lab'!$B$17","v":"Student"},{"$f":"'Course 1 Lab'!$C$17","v":"Eleven"},{"$f":"'Course 1 Lab'!$D$17","v":0},{"$f":"'Course 1 Lab'!$E$17","v":0},{"$f":"'Course 1 Lab'!$F$17","v":0},{"$f":"'Course 1 Lab'!$G$17","v":0},{"$f":"'Course 1 Lab'!$H$17","v":0},{"$f":"'Course 1 Lab'!$I$17","v":0},{"$f":"'Course 1 Lab'!$J$17","v":0},{"$f":"'Course 1 Lab'!$K$17","v":0},{"$f":"'Course 1 Lab'!$L$17","v":0},{"$f":"'Course 1 Lab'!$M$17","v":0},{"$f":"'Course 1 Lab'!$N$17","v":0},{"$f":"'Course 1 Lab'!$O$17","v":0},{"$f":"'Course 1 Lab'!$P$17","v":1},{"$f":"'Course 1 Lab'!$Q$17","v":0},{"$f":"'Course 1 Lab'!$R$17","v":{"v":0,"d":"0%"}}]
[{"$f":"'Student 1'!$A$14","v":"Course 2 Engine Theory & Repair. Class"},{"$nulls":8},{"$f":"'Student 1'!$J$14","v":25}]
[{"$f":"'Student 1'!$A$15","v":" "},{"$f":"'Student 1'!$B$15","v":"Date assignment is due:"},null,{"$f":"'Student 1'!$D$15","v":"TBD"},{"$f":"'Student 1'!$E$15","v":"TBD"},{"$f":"'Student 1'!$F$15","v":"TBD"},{"$f":"'Student 1'!$G$15","v":"TBD"},{"$f":"'Student 1'!$H$15","v":"TBD"},{"$f":"'Student 1'!$I$15","v":"TBD"},{"$f":"'Student 1'!$J$15","v":"TBD"},{"$f":"'Student 1'!$K$15","v":"TBD"}]
[{"$f":"'Student 1'!$A$16","v":"Class Room Points:"},null,{"$f":"'Student 1'!$C$16","v":201},{"$f":"'Student 1'!$D$16","v":10},{"$f":"'Student 1'!$E$16","v":10},{"$f":"'Student 1'!$F$16","v":20},{"$f":"'Student 1'!$G$16","v":20},{"$f":"'Student 1'!$H$16","v":16},{"$f":"'Student 1'!$I$16","v":25},{"$f":"'Student 1'!$J$16","v":" "},{"$f":"'Student 1'!$K$16","v":100},{"$f":"'Student 1'!$L$16","v":"Evaluation"}]
[{"$f":"'Student 1'!$A$17","v":"Red is late turn-in"},null,{"$f":"'Student 1'!$C$17","v":"Blue is absent"},{"$f":"'Student 1'!$D$17","v":"HW"},{"$f":"'Student 1'!$E$17","v":"HW "},{"$f":"'Student 1'!$F$17","v":"Test"},{"$f":"'Student 1'!$G$17","v":"Test"},{"$f":"'Student 1'!$H$17","v":"HW"},{"$f":"'Student 1'!$I$17","v":"Test"},{"$f":"'Student 1'!$J$17","v":"Extra"},{"$f":"'Student 1'!$K$17","v":"Final "},{"$f":"'Student 1'!$L$17","v":"Class"},null,{"$f":"'Student 1'!$N$17","v":"Professionalism"},null,null,{"$f":"'Student 1'!$Q$17","v":"Lab"},null,{"$f":"'Student 1'!$S$17","v":"Total  "},{"$f":"'Student 1'!$T$17","v":"Letter"}]
[{"$f":"'Student 1'!$A$18","v":"I D "},{"$f":"'Student 1'!$B$18","v":"First:"},{"$f":"'Student 1'!$C$18","v":"Last:"},{"$f":"'Student 1'!$D$18","v":"CH 7"},{"$f":"'Student 1'!$E$18","v":"CH 14"},{"$f":"'Student 1'!$F$18","v":"C & L"},{"$f":"'Student 1'!$G$18","v":"CH 18"},{"$f":"'Student 1'!$H$18","v":"CH 22"},{"$f":"'Student 1'!$I$18","v":"CH 22"},{"$f":"'Student 1'!$J$18","v":"Credit"},{"$f":"'Student 1'!$K$18","v":"TEST"},{"$f":"'Student 1'!$L$18","v":"Points"},{"$f":"'Student 1'!$M$18","v":"%"},{"$f":"'Student 1'!$N$18","v":"Attendance"},{"$f":"'Student 1'!$O$18","v":"Points"},{"$f":"'Student 1'!$P$18","v":"%"},{"$f":"'Student 1'!$Q$18","v":"Points"},{"$f":"'Student 1'!$R$18","v":"%"},{"$f":"'Student 1'!$S$18","v":"%"},{"$f":"'Student 1'!$T$18","v":"Grade"}]
[{"$f":"'Course 2 Class'!$A$16","v":{"v":11,"d":"00000011"}},{"$f":"'Course 2 Class'!$B$16","v":"Student"},{"$f":"'Course 2 Class'!$C$16","v":"Eleven"},{"$f":"'Course 2 Class'!$D$16","v":0},{"$f":"'Course 2 Class'!$E$16","v":0},{"$f":"'Course 2 Class'!$F$16","v":0},{"$f":"'Course 2 Class'!$G$16","v":0},{"$f":"'Course 2 Class'!$H$16","v":0},{"$f":"'Course 2 Class'!$I$16","v":0},{"$f":"'Course 2 Class'!$J$16","v":0},{"$f":"'Course 2 Class'!$K$16","v":0},{"$f":"'Course 2 Class'!$L$16","v":0},{"$f":"'Course 2 Class'!$M$16","v":{"v":0,"d":"0%"}},{"$f":"'Course 2 Class'!$N$16","v":{"v":1,"d":"100%"}},{"$f":"'Course 2 Class'!$O$16","v":72},{"$f":"'Course 2 Class'!$P$16","v":{"v":1,"d":"100%"}},{"$f":"'Course 2 Class'!$Q$16","v":0},{"$f":"'Course 2 Class'!$R$16","v":{"v":0,"d":"0%"}},{"$f":"'Course 2 Class'!$S$16","v":{"v":0.25,"d":"25%"}},{"$f":"'Course 2 Class'!$T$16","v":"F"}]
[{"$f":"'Student 1'!$A$20","v":"Course 2 Engine Theory & Repair. Lab"}]
[{"$f":"'Student 1'!$A$21","v":"  Max Shop Points:"},null,{"$f":"'Student 1'!$C$21","v":1450},{"$f":"'Student 1'!$D$21","v":"Engine"},{"$f":"'Student 1'!$E$21","v":"Cylinder"},{"$f":"'Student 1'!$F$21","v":"Red"},{"$f":"'Student 1'!$G$21","v":"Mitsubishi"},{"$f":"'Student 1'!$H$21","v":"Any"},{"$f":"'Student 1'!$I$21","v":"DOHC"},{"$f":"'Student 1'!$J$21","v":"Valve seal"},{"$f":"'Student 1'!$K$21","v":"Misc."},{"$f":"'Student 1'!$L$21","v":" "}]
[{"$f":"'Student 1'!$A$22","v":"Max shop points available depend on how much customer work is done."},null,null,{"$f":"'Student 1'!$D$22","v":"Disassemble"},{"$f":"'Student 1'!$E$22","v":"Head"},{"$f":"'Student 1'!$F$22","v":"Dodge"},{"$f":"'Student 1'!$G$22","v":"\"3.0L\""},{"$f":"'Student 1'!$H$22","v":"Engine"},{"$f":"'Student 1'!$I$22","v":"Engine"},{"$f":"'Student 1'!$J$22","v":"&"},{"$f":"'Student 1'!$K$22","v":"Engine "},{"$f":"'Student 1'!$L$22","v":"Cus"},{"$f":"'Student 1'!$M$22","v":"Comp"}]
[{"$nulls":3},{"$f":"'Student 1'!$D$23","v":"& Measure"},{"$f":"'Student 1'!$E$23","v":"Repair"},{"$f":"'Student 1'!$F$23","v":"Clip"},{"$f":"'Student 1'!$G$23","v":"Clip"},{"$f":"'Student 1'!$H$23","v":"T-chain"},{"$f":"'Student 1'!$I$23","v":" Stand"},{"$f":"'Student 1'!$J$23","v":"Lobe lift"},{"$f":"'Student 1'!$K$23","v":"Points"},{"$f":"'Student 1'!$L$23","v":"tomer"},{"$f":"'Student 1'!$M$23","v":"etency"},{"$f":"'Student 1'!$N$23","v":" "},{"$f":"'Student 1'!$O$23","v":" "}]
[{"$nulls":3},{"$f":"'Student 1'!$D$24","v":1},{"$f":"'Student 1'!$E$24","v":1},{"$f":"'Student 1'!$F$24","v":1},{"$f":"'Student 1'!$G$24","v":1},{"$f":"'Student 1'!$H$24","v":1},{"$f":"'Student 1'!$I$24","v":1},{"$f":"'Student 1'!$J$24","v":1},null,{"$f":"'Student 1'!$L$24","v":"Work"},{"$f":"'Student 1'!$M$24","v":"0 or 1"},{"$f":"'Student 1'!$N$24","v":"Lab"}]
[{"$f":"'Student 1'!$A$25","v":"ID"},{"$f":"'Student 1'!$B$25","v":"First:"},{"$f":"'Student 1'!$C$25","v":"Last:"},{"$f":"'Student 1'!$D$25","v":300},{"$f":"'Student 1'!$E$25","v":200},{"$f":"'Student 1'!$F$25","v":100},{"$f":"'Student 1'!$G$25","v":100},{"$f":"'Student 1'!$H$25","v":100},{"$f":"'Student 1'!$I$25","v":100},{"$f":"'Student 1'!$J$25","v":50},{"$f":"'Student 1'!$K$25","v":200},{"$f":"'Student 1'!$L$25","v":300},{"$f":"'Student 1'!$M$25","v":"*"},{"$f":"'Student 1'!$N$25","v":"Points"},{"$f":"'Student 1'!$O$25","v":"%"}]
[{"$f":"'Course 2 Lab'!$A$17","v":{"v":11,"d":"00000011"}},{"$f":"'Course 2 Lab'!$B$17","v":"Student"},{"$f":"'Course 2 Lab'!$C$17","v":"Eleven"},{"$f":"'Course 2 Lab'!$D$17","v":0},{"$f":"'Course 2 Lab'!$E$17","v":0},{"$f":"'Course 2 Lab'!$F$17","v":0},{"$f":"'Course 2 Lab'!$G$17","v":0},{"$f":"'Course 2 Lab'!$H$17","v":0},{"$f":"'Course 2 Lab'!$I$17","v":0},{"$f":"'Course 2 Lab'!$J$17","v":0},{"$f":"'Course 2 Lab'!$K$17","v":0},{"$f":"'Course 2 Lab'!$L$17","v":0},{"$f":"'Course 2 Lab'!$M$17","v":1},{"$f":"'Course 2 Lab'!$N$17","v":0},{"$f":"'Course 2 Lab'!$O$17","v":{"v":0,"d":"0%"}}]
[{"$f":"'Student 1'!$A$27","v":"Course 3 Steering & Suspension. Class."},{"$nulls":11},{"$f":"'Student 1'!$M$27","v":25}]
[{"$f":"'Student 1'!$A$28","v":" "},{"$f":"'Student 1'!$B$28","v":"Date assignment is due:"},null,{"$f":"'Student 1'!$D$28","v":"1/18"},{"$f":"'Student 1'!$E$28","v":"2/2"},{"$f":"'Student 1'!$F$28","v":"TBD"},{"$f":"'Student 1'!$G$28","v":"TBD"},{"$f":"'Student 1'!$H$28","v":"TBD"},{"$f":"'Student 1'!$I$28","v":"TBD"},{"$f":"'Student 1'!$J$28","v":"TBD"},{"$f":"'Student 1'!$K$28","v":"TBD"},{"$f":"'Student 1'!$L$28","v":"TBD"},{"$f":"'Student 1'!$M$28","v":"TBD"},{"$f":"'Student 1'!$N$28","v":"TBD"}]
[{"$f":"'Student 1'!$A$29","v":"Class Room Points:"},null,{"$f":"'Student 1'!$C$29","v":330},{"$f":"'Student 1'!$D$29","v":20},{"$f":"'Student 1'!$E$29","v":20},{"$f":"'Student 1'!$F$29","v":24},{"$f":"'Student 1'!$G$29","v":20},{"$f":"'Student 1'!$H$29","v":25},{"$f":"'Student 1'!$I$29","v":30},{"$f":"'Student 1'!$J$29","v":20},{"$f":"'Student 1'!$K$29","v":26},{"$f":"'Student 1'!$L$29","v":45},{"$f":"'Student 1'!$M$29","v":" "},{"$f":"'Student 1'!$N$29","v":100},{"$f":"'Student 1'!$O$29","v":"Evaluation"}]
[{"$f":"'Student 1'!$A$30","v":"Red is late turn-in"},null,{"$f":"'Student 1'!$C$30","v":"Blue is absent"},{"$f":"'Student 1'!$D$30","v":"HW"},{"$f":"'Student 1'!$E$30","v":"HW"},{"$f":"'Student 1'!$F$30","v":"HW"},{"$f":"'Student 1'!$G$30","v":"QZ"},{"$f":"'Student 1'!$H$30","v":"HW"},{"$f":"'Student 1'!$I$30","v":"HW"},{"$f":"'Student 1'!$J$30","v":"Test"},{"$f":"'Student 1'!$K$30","v":"HW"},{"$f":"'Student 1'!$L$30","v":"Class"},{"$f":"'Student 1'!$M$30","v":"Extra"},{"$f":"'Student 1'!$N$30","v":"Final"},{"$f":"'Student 1'!$O$30","v":"Class"},null,{"$f":"'Student 1'!$Q$30","v":"Professionalism"},null,null,{"$f":"'Student 1'!$T$30","v":"Lab"},null,{"$f":"'Student 1'!$V$30","v":"Total  "},{"$f":"'Student 1'!$W$30","v":"Letter"}]
[{"$f":"'Student 1'!$A$31","v":"I D "},{"$f":"'Student 1'!$B$31","v":"First:"},{"$f":"'Student 1'!$C$31","v":"Last:"},{"$f":"'Student 1'!$D$31","v":"CH 1"},{"$f":"'Student 1'!$E$31","v":"CH 2"},{"$f":"'Student 1'!$F$31","v":"CH 3"},{"$f":"'Student 1'!$G$31","v":"1"},{"$f":"'Student 1'!$H$31","v":"CH 6"},{"$f":"'Student 1'!$I$31","v":"CH 9"},{"$f":"'Student 1'!$J$31","v":"1 – 9"},{"$f":"'Student 1'!$K$31","v":"CH 12"},{"$f":"'Student 1'!$L$31","v":"Project"},{"$f":"'Student 1'!$M$31","v":"Credit"},{"$f":"'Student 1'!$N$31","v":"TEST"},{"$f":"'Student 1'!$O$31","v":"Points"},{"$f":"'Student 1'!$P$31","v":"%"},{"$f":"'Student 1'!$Q$31","v":"Attendance"},{"$f":"'Student 1'!$R$31","v":"Points"},{"$f":"'Student 1'!$S$31","v":"%"},{"$f":"'Student 1'!$T$31","v":"Points"},{"$f":"'Student 1'!$U$31","v":"%"},{"$f":"'Student 1'!$V$31","v":"%"},{"$f":"'Student 1'!$W$31","v":"Grade"}]
[{"$f":"'Course 3 Class'!$A$16","v":{"v":11,"d":"00000011"}},{"$f":"'Course 3 Class'!$B$16","v":"Student"},{"$f":"'Course 3 Class'!$C$16","v":"Eleven"},{"$f":"'Course 3 Class'!$D$16","v":0},{"$f":"'Course 3 Class'!$E$16","v":0},{"$f":"'Course 3 Class'!$F$16","v":0},{"$f":"'Course 3 Class'!$G$16","v":0},{"$f":"'Course 3 Class'!$H$16","v":0},{"$f":"'Course 3 Class'!$I$16","v":0},{"$f":"'Course 3 Class'!$J$16","v":0},{"$f":"'Course 3 Class'!$K$16","v":0},{"$f":"'Course 3 Class'!$L$16","v":0},{"$f":"'Course 3 Class'!$M$16","v":0},{"$f":"'Course 3 Class'!$N$16","v":0},{"$f":"'Course 3 Class'!$O$16","v":0},{"$f":"'Course 3 Class'!$P$16","v":{"v":0,"d":"0%"}},{"$f":"'Course 3 Class'!$Q$16","v":{"v":1,"d":"100%"}},{"$f":"'Course 3 Class'!$R$16","v":72},{"$f":"'Course 3 Class'!$S$16","v":{"v":1,"d":"100%"}},{"$f":"'Course 3 Class'!$T$16","v":0},{"$f":"'Course 3 Class'!$U$16","v":{"v":0,"d":"0%"}},{"$f":"'Course 3 Class'!$V$16","v":{"v":0.25,"d":"25%"}},{"$f":"'Course 3 Class'!$W$16","v":"F"}]
[{"$f":"'Student 1'!$A$33","v":"Course 3 Steering & Suspension. Lab"}]
[{"$f":"'Student 1'!$A$34","v":"Max shop points"},null,{"$f":"'Student 1'!$C$34","v":1350},{"$f":"'Student 1'!$D$34","v":"Repair"},{"$f":"'Student 1'!$E$34","v":"Identify"},{"$f":"'Student 1'!$F$34","v":"Repair"},{"$f":"'Student 1'!$G$34","v":"Identify"},{"$f":"'Student 1'!$H$34","v":"Repair"},{"$f":"'Student 1'!$I$34","v":"R&R"},{"$f":"'Student 1'!$J$34","v":"R&R"},{"$f":"'Student 1'!$K$34","v":"R&R"},{"$f":"'Student 1'!$L$34","v":"P/S"},{"$f":"'Student 1'!$M$34","v":"R&R"},{"$f":"'Student 1'!$N$34","v":"NVH"},{"$f":"'Student 1'!$O$34","v":" "}]
[{"$f":"'Student 1'!$A$35","v":"Max shop points available depend on how much customer work is done."},null,null,{"$f":"'Student 1'!$D$35","v":"SLA"},{"$f":"'Student 1'!$E$35","v":"SLA"},{"$f":"'Student 1'!$F$35","v":"Mac-P"},{"$f":"'Student 1'!$G$35","v":"Mac-P"},{"$f":"'Student 1'!$H$35","v":"Rear"},{"$f":"'Student 1'!$I$35","v":"Rack &"},{"$f":"'Student 1'!$J$35","v":"Recirc."},{"$f":"'Student 1'!$K$35","v":"P/S"},{"$f":"'Student 1'!$L$35","v":"Pump"},{"$f":"'Student 1'!$M$35","v":"Inner"},{"$f":"'Student 1'!$N$35","v":"Runout &"},{"$f":"'Student 1'!$O$35","v":"Cus"},{"$f":"'Student 1'!$P$35","v":"Comp"}]
[{"$nulls":3},{"$f":"'Student 1'!$D$36","v":"Susp"},{"$f":"'Student 1'!$E$36","v":"Parts"},{"$f":"'Student 1'!$F$36","v":"Susp"},{"$f":"'Student 1'!$G$36","v":"Parts"},{"$f":"'Student 1'!$H$36","v":"Susp"},{"$f":"'Student 1'!$I$36","v":"Pinion"},{"$f":"'Student 1'!$J$36","v":"Gear"},{"$f":"'Student 1'!$K$36","v":"Pump"},{"$f":"'Student 1'!$L$36","v":"Test"},{"$f":"'Student 1'!$M$36","v":"Tie-Rod"},{"$f":"'Student 1'!$N$36","v":"bal. Check"},{"$f":"'Student 1'!$O$36","v":"tomer"},{"$f":"'Student 1'!$P$36","v":"etency"},{"$f":"'Student 1'!$Q$36","v":" "},{"$f":"'Student 1'!$R$36","v":" "},null,null,{"$f":"'Student 1'!$U$36","v":"Final Grade"}]
[{"$nulls":3},{"$f":"'Student 1'!$D$37","v":1},{"$f":"'Student 1'!$E$37","v":2},{"$f":"'Student 1'!$F$37","v":3},{"$f":"'Student 1'!$G$37","v":2},{"$f":"'Student 1'!$H$37","v":1},{"$f":"'Student 1'!$I$37","v":1},{"$f":"'Student 1'!$J$37","v":1},{"$f":"'Student 1'!$K$37","v":1},{"$f":"'Student 1'!$L$37","v":1},{"$f":"'Student 1'!$M$37","v":1},{"$f":"'Student 1'!$N$37","v":1},{"$f":"'Student 1'!$O$37","v":"Work"},{"$f":"'Student 1'!$P$37","v":"0 or 1"},{"$f":"'Student 1'!$Q$37","v":"Lab"},{"$nulls":3},{"$f":"'Student 1'!$U$37","v":{"v":0,"d":"0%"}},{"$f":"'Student 1'!$V$37","v":"F"}]
[{"$f":"'Student 1'!$A$38","v":"ID"},{"$f":"'Student 1'!$B$38","v":"First:"},{"$f":"'Student 1'!$C$38","v":"Last:"},{"$f":"'Student 1'!$D$38","v":150},{"$f":"'Student 1'!$E$38","v":50},{"$f":"'Student 1'!$F$38","v":225},{"$f":"'Student 1'!$G$38","v":50},{"$f":"'Student 1'!$H$38","v":50},{"$f":"'Student 1'!$I$38","v":150},{"$f":"'Student 1'!$J$38","v":125},{"$f":"'Student 1'!$K$38","v":50},{"$f":"'Student 1'!$L$38","v":50},{"$f":"'Student 1'!$M$38","v":50},{"$f":"'Student 1'!$N$38","v":100},{"$f":"'Student 1'!$O$38","v":300},{"$f":"'Student 1'!$P$38","v":"*"},{"$f":"'Student 1'!$Q$38","v":"Points"},{"$f":"'Student 1'!$R$38","v":"%"},null,null,{"$f":"'Student 1'!$U$38","v":{"v":0.695,"d":"70%"}},{"$f":"'Student 1'!$V$38","v":"D-"}]
[{"$f":"'Course 3 Lab'!$A$17","v":{"v":11,"d":"00000011"}},{"$f":"'Course 3 Lab'!$B$17","v":"Student"},{"$f":"'Course 3 Lab'!$C$17","v":"Eleven"},{"$f":"'Course 3 Lab'!$D$17","v":0},{"$f":"'Course 3 Lab'!$E$17","v":0},{"$f":"'Course 3 Lab'!$F$17","v":0},{"$f":"'Course 3 Lab'!$G$17","v":0},{"$f":"'Course 3 Lab'!$H$17","v":0},{"$f":"'Course 3 Lab'!$I$17","v":0},{"$f":"'Course 3 Lab'!$J$17","v":0},{"$f":"'Course 3 Lab'!$K$17","v":0},{"$f":"'Course 3 Lab'!$L$17","v":0},{"$f":"'Course 3 Lab'!$M$17","v":0},{"$f":"'Course 3 Lab'!$N$17","v":0},{"$f":"'Course 3 Lab'!$O$17","v":0},{"$f":"'Course 3 Lab'!$P$17","v":1},{"$f":"'Course 3 Lab'!$Q$17","v":0},{"$f":"'Course 3 Lab'!$R$17","v":{"v":0,"d":"0%"}},null,null,{"$f":"'Student 1'!$U$39","v":{"v":0.715,"d":"72%"}},{"$f":"'Student 1'!$V$39","v":"D"}]
[{"$f":"'Student 1'!$A$40","v":"Course 4 Alignment. Class."},{"$nulls":7},{"$f":"'Student 1'!$I$40","v":25},{"$nulls":11},{"$f":"'Student 1'!$U$40","v":{"v":0.735,"d":"74%"}},{"$f":"'Student 1'!$V$40","v":"D+"}]
[{"$f":"'Student 1'!$A$41","v":" "},{"$f":"'Student 1'!$B$41","v":"Date assignment is due  "},null,{"$f":"'Student 1'!$D$41","v":"TBD"},{"$f":"'Student 1'!$E$41","v":"TBD"},{"$f":"'Student 1'!$F$41","v":"TBD"},{"$f":"'Student 1'!$G$41","v":"TBD"},{"$f":"'Student 1'!$H$41","v":"TBD"},{"$f":"'Student 1'!$I$41","v":"TBD"},{"$f":"'Student 1'!$J$41","v":"TBD"},{"$nulls":10},{"$f":"'Student 1'!$U$41","v":{"v":0.755,"d":"76%"}},{"$f":"'Student 1'!$V$41","v":"C-"}]
[{"$f":"'Student 1'!$A$42","v":"Class Room Points:"},null,{"$f":"'Student 1'!$C$42","v":235},{"$f":"'Student 1'!$D$42","v":25},{"$f":"'Student 1'!$E$42","v":25},{"$f":"'Student 1'!$F$42","v":20},{"$f":"'Student 1'!$G$42","v":40},{"$f":"'Student 1'!$H$42","v":50},{"$f":"'Student 1'!$I$42","v":" "},{"$f":"'Student 1'!$J$42","v":75},{"$f":"'Student 1'!$K$42","v":"Evaluation"},{"$nulls":9},{"$f":"'Student 1'!$U$42","v":{"v":0.785,"d":"79%"}},{"$f":"'Student 1'!$V$42","v":"C"}]
[{"$f":"'Student 1'!$A$43","v":"Red is late turn-in"},null,{"$f":"'Student 1'!$C$43","v":"Blue is absent"},{"$f":"'Student 1'!$D$43","v":"CH 16"},{"$f":"'Student 1'!$E$43","v":"CH 16"},{"$f":"'Student 1'!$F$43","v":"Align"},{"$f":"'Student 1'!$G$43","v":"In class"},{"$f":"'Student 1'!$H$43","v":"In class"},{"$f":"'Student 1'!$I$43","v":"Extra"},{"$f":"'Student 1'!$J$43","v":"Final"},{"$f":"'Student 1'!$K$43","v":"Class"},null,{"$f":"'Student 1'!$M$43","v":"Professionalism"},null,null,{"$f":"'Student 1'!$P$43","v":"Lab"},null,{"$f":"'Student 1'!$R$43","v":"Total  "},{"$f":"'Student 1'!$S$43","v":"Letter"},null,{"$f":"'Student 1'!$U$43","v":{"v":0.815,"d":"82%"}},{"$f":"'Student 1'!$V$43","v":"C+"}]
[{"$f":"'Student 1'!$A$44","v":"I D "},{"$f":"'Student 1'!$B$44","v":"First:"},{"$f":"'Student 1'!$C$44","v":"Last:"},{"$f":"'Student 1'!$D$44","v":"HW"},{"$f":"'Student 1'!$E$44","v":"Test"},{"$f":"'Student 1'!$F$44","v":"HW"},{"$f":"'Student 1'!$G$44","v":"Project1"},{"$f":"'Student 1'!$H$44","v":"Project2"},{"$f":"'Student 1'!$I$44","v":"Credit"},{"$f":"'Student 1'!$J$44","v":"Test"},{"$f":"'Student 1'!$K$44","v":"Points"},{"$f":"'Student 1'!$L$44","v":"%"},{"$f":"'Student 1'!$M$44","v":"Attendance"},{"$f":"'Student 1'!$N$44","v":"Points"},{"$f":"'Student 1'!$O$44","v":"%"},{"$f":"'Student 1'!$P$44","v":"Points"},{"$f":"'Student 1'!$Q$44","v":"%"},{"$f":"'Student 1'!$R$44","v":"%"},{"$f":"'Student 1'!$S$44","v":"Grade"},null,{"$f":"'Student 1'!$U$44","v":{"v":0.845,"d":"85%"}},{"$f":"'Student 1'!$V$44","v":"B-"}]
[{"$f":"'Course 4 Class'!$A$16","v":{"v":11,"d":"00000011"}},{"$f":"'Course 4 Class'!$B$16","v":"Student"},{"$f":"'Course 4 Class'!$C$16","v":"Eleven"},{"$f":"'Course 4 Class'!$D$16","v":0},{"$f":"'Course 4 Class'!$E$16","v":0},{"$f":"'Course 4 Class'!$F$16","v":0},{"$f":"'Course 4 Class'!$G$16","v":0},{"$f":"'Course 4 Class'!$H$16","v":0},{"$f":"'Course 4 Class'!$I$16","v":0},{"$f":"'Course 4 Class'!$J$16","v":0},{"$f":"'Course 4 Class'!$K$16","v":0},{"$f":"'Course 4 Class'!$L$16","v":{"v":0,"d":"0%"}},{"$f":"'Course 4 Class'!$M$16","v":{"v":1,"d":"100%"}},{"$f":"'Course 4 Class'!$N$16","v":72},{"$f":"'Course 4 Class'!$O$16","v":{"v":1,"d":"100%"}},{"$f":"'Course 4 Class'!$P$16","v":0},{"$f":"'Course 4 Class'!$Q$16","v":{"v":0,"d":"0%"}},{"$f":"'Course 4 Class'!$R$16","v":{"v":0.25,"d":"25%"}},{"$f":"'Course 4 Class'!$S$16","v":"F"},null,{"$f":"'Student 1'!$U$45","v":{"v":0.875,"d":"88%"}},{"$f":"'Student 1'!$V$45","v":"B"}]
[{"$f":"'Student 1'!$A$46","v":"Course 4 Alignment. Lab"},{"$nulls":19},{"$f":"'Student 1'!$U$46","v":{"v":0.895,"d":"90%"}},{"$f":"'Student 1'!$V$46","v":"B+"}]
[{"$f":"'Student 1'!$A$47","v":"Max Shop Points:"},null,{"$f":"'Student 1'!$C$47","v":1300},{"$f":"'Student 1'!$D$47","v":"Alignment"},{"$f":"'Student 1'!$E$47","v":"Complete"},{"$f":"'Student 1'!$F$47","v":"Cus"},{"$f":"'Student 1'!$G$47","v":" "},{"$nulls":13},{"$f":"'Student 1'!$U$47","v":{"v":0.925,"d":"93%"}},{"$f":"'Student 1'!$V$47","v":"A-"}]
[{"$f":"'Student 1'!$A$48","v":"Max shop points available depend on how much customer work is done."},null,null,{"$f":"'Student 1'!$D$48","v":"Pre-check"},{"$f":"'Student 1'!$E$48","v":"Wheel"},{"$f":"'Student 1'!$F$48","v":"tomer"},{"$f":"'Student 1'!$G$48","v":"Comp"},{"$nulls":13},{"$f":"'Student 1'!$U$48","v":{"v":0.945,"d":"95%"}},{"$f":"'Student 1'!$V$48","v":"A"}]
[{"$nulls":3},{"$f":"'Student 1'!$D$49","v":"100 P"},{"$f":"'Student 1'!$E$49","v":"Alignment"},{"$f":"'Student 1'!$F$49","v":"Work"},{"$f":"'Student 1'!$G$49","v":"etency"},{"$f":"'Student 1'!$H$49","v":" "},{"$f":"'Student 1'!$I$49","v":" "},{"$nulls":11},{"$f":"'Student 1'!$U$49","v":{"v":1,"d":"100%"}},{"$f":"'Student 1'!$V$49","v":"A"}]
[{"$nulls":3},{"$f":"'Student 1'!$D$50","v":1},{"$f":"'Student 1'!$E$50","v":1},{"$f":"'Student 1'!$F$50","v":" "},{"$f":"'Student 1'!$G$50","v":"0 or 1"},{"$f":"'Student 1'!$H$50","v":"Lab"}]
[{"$f":"'Student 1'!$A$51","v":"ID"},{"$f":"'Student 1'!$B$51","v":"First:"},{"$f":"'Student 1'!$C$51","v":"Last:"},{"$f":"'Student 1'!$D$51","v":100},{"$f":"'Student 1'!$E$51","v":900},{"$f":"'Student 1'!$F$51","v":300},{"$f":"'Student 1'!$G$51","v":"*"},{"$f":"'Student 1'!$H$51","v":"Points"},{"$f":"'Student 1'!$I$51","v":"%"}]
[{"$f":"'Course 4 Lab'!$A$17","v":{"v":11,"d":"00000011"}},{"$f":"'Course 4 Lab'!$B$17","v":"Student"},{"$f":"'Course 4 Lab'!$C$17","v":"Eleven"},{"$f":"'Course 4 Lab'!$D$17","v":0},{"$f":"'Course 4 Lab'!$E$17","v":0},{"$f":"'Course 4 Lab'!$F$17","v":0},{"$f":"'Course 4 Lab'!$G$17","v":1},{"$f":"'Course 4 Lab'!$H$17","v":0},{"$f":"'Course 4 Lab'!$I$17","v":{"v":0,"d":"0%"}}]
[{"$f":"'Student 1'!$A$53","v":"Course 5 Brake Systems. Class."},{"$nulls":10},{"$f":"'Student 1'!$L$53","v":35}]
[{"$f":"'Student 1'!$A$54","v":"Date assignment is due:"},null,{"$f":"'Student 1'!$C$54","v":" "},{"$f":"'Student 1'!$D$54","v":"TBD"},{"$f":"'Student 1'!$E$54","v":"TBD"},{"$f":"'Student 1'!$F$54","v":"TBD"},{"$f":"'Student 1'!$G$54","v":"TBD"},{"$f":"'Student 1'!$H$54","v":"TBD"},{"$f":"'Student 1'!$I$54","v":"TBD"},{"$f":"'Student 1'!$J$54","v":"TBD"},{"$f":"'Student 1'!$K$54","v":"TBD"},{"$f":"'Student 1'!$L$54","v":"TBD"},{"$f":"'Student 1'!$M$54","v":"TBD"}]
[{"$f":"'Student 1'!$A$55","v":"Class Room Points:"},null,{"$f":"'Student 1'!$C$55","v":440},{"$f":"'Student 1'!$D$55","v":30},{"$f":"'Student 1'!$E$55","v":25},{"$f":"'Student 1'!$F$55","v":100},{"$f":"'Student 1'!$G$55","v":30},{"$f":"'Student 1'!$H$55","v":50},{"$f":"'Student 1'!$I$55","v":30},{"$f":"'Student 1'!$J$55","v":25},{"$f":"'Student 1'!$K$55","v":50},{"$f":"'Student 1'!$L$55","v":" "},{"$f":"'Student 1'!$M$55","v":100},{"$f":"'Student 1'!$N$55","v":"Evaluation"}]
[{"$f":"'Student 1'!$A$56","v":"Red is late turn-in"},null,{"$f":"'Student 1'!$C$56","v":"Blue is absent"},{"$f":"'Student 1'!$D$56","v":"HW"},{"$f":"'Student 1'!$E$56","v":"HW"},{"$f":"'Student 1'!$F$56","v":"Test"},{"$f":"'Student 1'!$G$56","v":"HW"},{"$f":"'Student 1'!$H$56","v":"Test"},{"$f":"'Student 1'!$I$56","v":"HW"},{"$f":"'Student 1'!$J$56","v":"Test"},{"$f":"'Student 1'!$K$56","v":"Class"},{"$f":"'Student 1'!$L$56","v":"Extra"},{"$f":"'Student 1'!$M$56","v":"Final"},{"$f":"'Student 1'!$N$56","v":"Class"},null,{"$f":"'Student 1'!$P$56","v":"Professionalism"},null,null,{"$f":"'Student 1'!$S$56","v":"Lab"},null,{"$f":"'Student 1'!$U$56","v":"Total  "},{"$f":"'Student 1'!$V$56","v":"Letter"}]
[{"$f":"'Student 1'!$A$57","v":"I D "},{"$f":"'Student 1'!$B$57","v":"First:"},{"$f":"'Student 1'!$C$57","v":"Last:"},{"$f":"'Student 1'!$D$57","v":"CH 4"},{"$f":"'Student 1'!$E$57","v":"CH 5"},{"$f":"'Student 1'!$F$57","v":"#1"},{"$f":"'Student 1'!$G$57","v":"CH 7"},{"$f":"'Student 1'!$H$57","v":"Conv"},{"$f":"'Student 1'!$I$57","v":"CH 20"},{"$f":"'Student 1'!$J$57","v":"21/22"},{"$f":"'Student 1'!$K$57","v":"Project"},{"$f":"'Student 1'!$L$57","v":"Credit"},{"$f":"'Student 1'!$M$57","v":"Test"},{"$f":"'Student 1'!$N$57","v":"Points"},{"$f":"'Student 1'!$O$57","v":"%"},{"$f":"'Student 1'!$P$57","v":"Attendance"},{"$f":"'Student 1'!$Q$57","v":"Points"},{"$f":"'Student 1'!$R$57","v":"%"},{"$f":"'Student 1'!$S$57","v":"Points"},{"$f":"'Student 1'!$T$57","v":"%"},{"$f":"'Student 1'!$U$57","v":"%"},{"$f":"'Student 1'!$V$57","v":"Grade"}]
[{"$f":"'Course 5 Class'!$A$16","v":{"v":11,"d":"00000011"}},{"$f":"'Course 5 Class'!$B$16","v":"Student"},{"$f":"'Course 5 Class'!$C$16","v":"Eleven"},{"$f":"'Course 5 Class'!$D$16","v":0},{"$f":"'Course 5 Class'!$E$16","v":0},{"$f":"'Course 5 Class'!$F$16","v":0},{"$f":"'Course 5 Class'!$G$16","v":0},{"$f":"'Course 5 Class'!$H$16","v":0},{"$f":"'Course 5 Class'!$I$16","v":0},{"$f":"'Course 5 Class'!$J$16","v":0},{"$f":"'Course 5 Class'!$K$16","v":0},{"$f":"'Course 5 Class'!$L$16","v":0},{"$f":"'Course 5 Class'!$M$16","v":0},{"$f":"'Course 5 Class'!$N$16","v":0},{"$f":"'Course 5 Class'!$O$16","v":{"v":0,"d":"0%"}},{"$f":"'Course 5 Class'!$P$16","v":{"v":1,"d":"100%"}},{"$f":"'Course 5 Class'!$Q$16","v":72},{"$f":"'Course 5 Class'!$R$16","v":{"v":1,"d":"100%"}},{"$f":"'Course 5 Class'!$S$16","v":0},{"$f":"'Course 5 Class'!$T$16","v":{"v":0,"d":"0%"}},{"$f":"'Course 5 Class'!$U$16","v":{"v":0.25,"d":"25%"}},{"$f":"'Course 5 Class'!$V$16","v":"F"}]
[{"$f":"'Student 1'!$A$59","v":"Course 5 Brake Systems. Lab"}]
[{"$f":"'Student 1'!$A$60","v":"  Max Shop Points:"},null,{"$f":"'Student 1'!$C$60","v":970},{"$f":"'Student 1'!$D$60","v":"Drum"},{"$f":"'Student 1'!$E$60","v":"Drum "},{"$f":"'Student 1'!$F$60","v":"Disc"},{"$f":"'Student 1'!$G$60","v":"On Car"},{"$f":"'Student 1'!$H$60","v":"Off Car"},{"$f":"'Student 1'!$I$60","v":"Wheel"},{"$f":"'Student 1'!$J$60","v":"Hydr."},{"$f":"'Student 1'!$K$60","v":"Vacuum"},{"$f":"'Student 1'!$L$60","v":"Warning"},{"$f":"'Student 1'!$M$60","v":"Brake"},{"$f":"'Student 1'!$N$60","v":"Brake"},{"$f":"'Student 1'!$O$60","v":"Dodge"},{"$f":"'Student 1'!$P$60","v":"Ford"},{"$f":"'Student 1'!$Q$60","v":"GM"},{"$f":"'Student 1'!$R$60","v":"Cus"},{"$f":"'Student 1'!$S$60","v":"Brake"}]
[{"$f":"'Student 1'!$A$61","v":"Max shop points available depend on how much customer work is done."},null,null,{"$f":"'Student 1'!$D$61","v":"Brake"},{"$f":"'Student 1'!$E$61","v":"Brake "},{"$f":"'Student 1'!$F$61","v":"Brake"},{"$f":"'Student 1'!$G$61","v":"Disc"},{"$f":"'Student 1'!$H$61","v":"Disc"},{"$f":"'Student 1'!$I$61","v":"Bearing"},{"$f":"'Student 1'!$J$61","v":"Line"},{"$f":"'Student 1'!$K$61","v":"Booster"},{"$f":"'Student 1'!$L$61","v":"Light"},{"$f":"'Student 1'!$M$61","v":"System"},{"$f":"'Student 1'!$N$61","v":"Valves"},{"$f":"'Student 1'!$O$61","v":"Anti"},{"$f":"'Student 1'!$P$61","v":"Anti"},{"$f":"'Student 1'!$Q$61","v":"Anti"},{"$f":"'Student 1'!$R$61","v":"tomer"},{"$f":"'Student 1'!$S$61","v":"Comp"}]
[{"$nulls":3},{"$f":"'Student 1'!$D$62","v":"Job"},{"$f":"'Student 1'!$E$62","v":"Mach."},{"$f":"'Student 1'!$F$62","v":"Job"},{"$f":"'Student 1'!$G$62","v":"Mach."},{"$f":"'Student 1'!$H$62","v":"Mach."},{"$f":"'Student 1'!$I$62","v":"Service"},{"$f":"'Student 1'!$J$62","v":"Repair"},{"$f":"'Student 1'!$K$62","v":"Service"},{"$f":"'Student 1'!$L$62","v":"Service"},{"$f":"'Student 1'!$M$62","v":"Bleed"},{"$f":"'Student 1'!$N$62","v":"Check"},{"$f":"'Student 1'!$O$62","v":"Lock"},{"$f":"'Student 1'!$P$62","v":"Lock"},{"$f":"'Student 1'!$Q$62","v":"Lock"},{"$f":"'Student 1'!$R$62","v":"Work"},{"$f":"'Student 1'!$S$62","v":"etency"}]
[{"$nulls":3},{"$f":"'Student 1'!$D$63","v":2},{"$f":"'Student 1'!$E$63","v":2},{"$f":"'Student 1'!$F$63","v":2},{"$f":"'Student 1'!$G$63","v":2},{"$f":"'Student 1'!$H$63","v":2},{"$f":"'Student 1'!$I$63","v":1},{"$f":"'Student 1'!$J$63","v":1},{"$f":"'Student 1'!$K$63","v":2},{"$f":"'Student 1'!$L$63","v":2},{"$f":"'Student 1'!$M$63","v":4},{"$f":"'Student 1'!$N$63","v":1},{"$f":"'Student 1'!$O$63","v":1},{"$f":"'Student 1'!$P$63","v":1},{"$f":"'Student 1'!$Q$63","v":1},{"$f":"'Student 1'!$R$63","v":" "},{"$f":"'Student 1'!$S$63","v":"Required"},{"$f":"'Student 1'!$T$63","v":"Lab"}]
[{"$f":"'Student 1'!$A$64","v":"ID"},{"$f":"'Student 1'!$B$64","v":"First:"},{"$f":"'Student 1'!$C$64","v":"Last:"},{"$f":"'Student 1'!$D$64","v":150},{"$f":"'Student 1'!$E$64","v":40},{"$f":"'Student 1'!$F$64","v":150},{"$f":"'Student 1'!$G$64","v":80},{"$f":"'Student 1'!$H$64","v":40},{"$f":"'Student 1'!$I$64","v":50},{"$f":"'Student 1'!$J$64","v":30},{"$f":"'Student 1'!$K$64","v":30},{"$f":"'Student 1'!$L$64","v":40},{"$f":"'Student 1'!$M$64","v":80},{"$f":"'Student 1'!$N$64","v":40},{"$f":"'Student 1'!$O$64","v":80},{"$f":"'Student 1'!$P$64","v":80},{"$f":"'Student 1'!$Q$64","v":80},{"$f":"'Student 1'!$R$64","v":300},{"$f":"'Student 1'!$S$64","v":"*"},{"$f":"'Student 1'!$T$64","v":"Points"},{"$f":"'Student 1'!$U$64","v":"%"}]
[{"$f":"'Course 5 Lab'!$A$17","v":{"v":11,"d":"00000011"}},{"$f":"'Course 5 Lab'!$B$17","v":"Student"},{"$f":"'Course 5 Lab'!$C$17","v":"Eleven"},{"$f":"'Course 5 Lab'!$D$17","v":0},{"$f":"'Course 5 Lab'!$E$17","v":0},{"$f":"'Course 5 Lab'!$F$17","v":0},{"$f":"'Course 5 Lab'!$G$17","v":0},{"$f":"'Course 5 Lab'!$H$17","v":0},{"$f":"'Course 5 Lab'!$I$17","v":0},{"$f":"'Course 5 Lab'!$J$17","v":0},{"$f":"'Course 5 Lab'!$K$17","v":0},{"$f":"'Course 5 Lab'!$L$17","v":0},{"$f":"'Course 5 Lab'!$M$17","v":0},{"$f":"'Course 5 Lab'!$N$17","v":0},{"$f":"'Course 5 Lab'!$O$17","v":0},{"$f":"'Course 5 Lab'!$P$17","v":0},{"$f":"'Course 5 Lab'!$Q$17","v":0},{"$f":"'Course 5 Lab'!$R$17","v":0},{"$f":"'Course 5 Lab'!$S$17","v":1},{"$f":"'Course 5 Lab'!$T$17","v":0},{"$f":"'Course 5 Lab'!$U$17","v":{"v":0,"d":"0%"}}]

{"sheet":"Student 12","index":25,"n_rows":65,"n_cols":23,"rows_kept":65,"merged":[[0,0,0,2],[1,0,1,2],[2,0,2,1],[2,9,2,17],[3,0,3,1],[3,9,3,10],[3,11,3,13],[3,14,3,15],[6,0,6,2],[7,0,7,1],[8,0,10,2],[10,16,10,17],[13,0,13,2],[14,1,14,2],[15,0,15,1],[15,11,15,19],[16,0,16,1],[16,11,16,12],[16,13,16,15],[16,16,16,17],[19,0,19,2],[20,0,20,1],[21,0,23,2],[23,13,23,14],[26,0,26,2],[27,1,27,2],[28,0,28,1],[28,14,28,22],[29,0,29,1],[29,14,29,15],[29,16,29,18],[29,19,29,20],[32,0,32,2],[33,0,33,1],[34,0,36,2],[35,20,35,21],[36,16,36,17],[39,0,39,2],[40,1,40,2],[41,0,41,1],[41,10,41,18],[42,0,42,1],[42,10,42,11],[42,12,42,14],[42,15,42,16],[45,0,45,2],[46,0,46,1],[47,0,49,2],[49,7,49,8],[52,0,52,2],[53,0,53,2],[54,0,54,1],[54,13,54,21],[55,0,55,1],[55,13,55,14],[55,15,55,17],[55,18,55,19],[58,0,58,2],[59,0,59,1],[60,0,62,2],[62,19,62,20]]}
[{"$f":"'Student 1'!$A$1","v":"Course 1 Engine Diagnosis. Class"},{"$nulls":6},{"$f":"'Student 1'!$H$1","v":25}]
[{"$f":"'Student 1'!$A$2","v":"Date assignment is due"},null,{"$f":"'Student 1'!$C$2","v":" "},{"$f":"'Student 1'!$D$2","v":"TBD"},{"$f":"'Student 1'!$E$2","v":"TBD"},{"$f":"'Student 1'!$F$2","v":"TBD"},{"$f":"'Student 1'!$G$2","v":"TBD"},{"$f":"'Student 1'!$H$2","v":"TBD"},{"$f":"'Student 1'!$I$2","v":"TBD"}]
[{"$f":"'Student 1'!$A$3","v":"Class Room Points:"},null,{"$f":"'Student 1'!$C$3","v":160},{"$f":"'Student 1'!$D$3","v":20},{"$f":"'Student 1'!$E$3","v":20},{"$f":"'Student 1'!$F$3","v":20},{"$f":"'Student 1'!$G$3","v":25},{"$f":"'Student 1'!$H$3","v":" "},{"$f":"'Student 1'!$I$3","v":75},{"$f":"'Student 1'!$J$3","v":"Evaluation"}]
[{"$f":"'Student 1'!$A$4","v":"Red is late turn-in"},null,{"$f":"'Student 1'!$C$4","v":"Blue is absent"},{"$f":"'Student 1'!$D$4","v":"CH 13 "},{"$f":"'Student 1'!$E$4","v":"Lube"},{"$f":"'Student 1'!$F$4","v":"Lube"},{"$f":"'Student 1'!$G$4","v":"Condition"},{"$f":"'Student 1'!$H$4","v":"Extra"},{"$f":"'Student 1'!$I$4","v":"Final"},{"$f":"'Student 1'!$J$4","v":"Classroom"},null,{"$f":"'Student 1'!$L$4","v":"Professionalism"},null,null,{"$f":"'Student 1'!$O$4","v":"Lab"},null,{"$f":"'Student 1'!$Q$4","v":"Total  "},{"$f":"'Student 1'!$R$4","v":"Letter"}]
[{"$f":"'Student 1'!$A$5","v":"I D "},{"$f":"'Student 1'!$B$5","v":"First:"},{"$f":"'Student 1'!$C$5","v":"Last:"},{"$f":"'Student 1'!$D$5","v":"Test"},{"$f":"'Student 1'!$E$5","v":"HW"},{"$f":"'Student 1'!$F$5","v":"Test"},{"$f":"'Student 1'!$G$5","v":"Class"},{"$f":"'Student 1'!$H$5","v":"Credit"},{"$f":"'Student 1'!$I$5","v":"Test"},{"$f":"'Student 1'!$J$5","v":"Points"},{"$f":"'Student 1'!$K$5","v":"%"},{"$f":"'Student 1'!$L$5","v":"Attendance"},{"$f":"'Student 1'!$M$5","v":"Points"},{"$f":"'Student 1'!$N$5","v":"%"},{"$f":"'Student 1'!$O$5","v":"Points"},{"$f":"'Student 1'!$P$5","v":"%"},{"$f":"'Student 1'!$Q$5","v":"%"},{"$f":"'Student 1'!$R$5","v":"Grade"}]
[{"$f":"'Course 1 Class'!$A$17","v":{"v":12,"d":"00000012"}},{"$f":"'Course 1 Class'!$B$17","v":"Student"},{"$f":"'Course 1 Class'!$C$17","v":"Twelve"},{"$f":"'Course 1 Class'!$D$17","v":0},{"$f":"'Course 1 Class'!$E$17","v":0},{"$f":"'Course 1 Class'!$F$17","v":0},{"$f":"'Course 1 Class'!$G$17","v":0},{"$f":"'Course 1 Class'!$H$17","v":0},{"$f":"'Course 1 Class'!$I$17","v":0},{"$f":"'Course 1 Class'!$J$17","v":0},{"$f":"'Course 1 Class'!$K$17","v":{"v":0,"d":"0%"}},{"$f":"'Course 1 Class'!$L$17","v":{"v":0.928571428571429,"d":"93%"}},{"$f":"'Course 1 Class'!$M$17","v":71.5714285714286},{"$f":"'Course 1 Class'!$N$17","v":{"v":0.994047619047619,"d":"99%"}},{"$f":"'Course 1 Class'!$O$17","v":0},{"$f":"'Course 1 Class'!$P$17","v":{"v":0,"d":"0%"}},{"$f":"'Course 1 Class'!$Q$17","v":{"v":0.248511904761905,"d":"25%"}},{"$f":"'Course 1 Class'!$R$17","v":"F"}]
[{"$f":"'Student 1'!$A$7","v":"Course 1 Engine Diagnosis. Lab"}]
[{"$f":"'Student 1'!$A$8","v":"  Max Shop Points:"},null,{"$f":"'Student 1'!$C$8","v":1325},{"$f":"'Student 1'!$D$8","v":"Dry"},{"$f":"'Student 1'!$E$8","v":"Wet"},{"$f":"'Student 1'!$F$8","v":"Running"},{"$f":"'Student 1'!$G$8","v":"Cylinder"},{"$f":"'Student 1'!$H$8","v":"Oil"},{"$f":"'Student 1'!$I$8","v":"Cooling"},{"$f":"'Student 1'!$J$8","v":"Vacuum"},{"$f":"'Student 1'!$K$8","v":"PCV"},{"$f":"'Student 1'!$L$8","v":"Thermostat"},{"$f":"'Student 1'!$M$8","v":"Fluid"},{"$f":"'Student 1'!$N$8","v":"Diag"},{"$f":"'Student 1'!$O$8","v":" "}]
[{"$f":"'Student 1'!$A$9","v":"Max shop points available depend on how much customer work is done."},null,null,{"$f":"'Student 1'!$D$9","v":"Compr"},{"$f":"'Student 1'!$E$9","v":"Compr"},{"$f":"'Student 1'!$F$9","v":"Compr"},{"$f":"'Student 1'!$G$9","v":"Leakage"},{"$f":"'Student 1'!$H$9","v":"Pressure"},{"$f":"'Student 1'!$I$9","v":"System"},{"$f":"'Student 1'!$J$9","v":"Gauge"},{"$f":"'Student 1'!$K$9","v":"System"},{"$f":"'Student 1'!$L$9","v":"and fan"},{"$f":"'Student 1'!$M$9","v":"Leak"},{"$f":"'Student 1'!$N$9","v":"gauges"},{"$f":"'Student 1'!$O$9","v":"Cus"},{"$f":"'Student 1'!$P$9","v":"Comp"}]
[{"$nulls":3},{"$f":"'Student 1'!$D$10","v":"Test"},{"$f":"'Student 1'!$E$10","v":"Test"},{"$f":"'Student 1'!$F$10","v":"Test"},{"$f":"'Student 1'!$G$10","v":"Test"},{"$f":"'Student 1'!$H$10","v":"Test"},{"$f":"'Student 1'!$I$10","v":"Test"},{"$f":"'Student 1'!$J$10","v":"Test"},{"$f":"'Student 1'!$K$10","v":"Check"},{"$f":"'Student 1'!$L$10","v":"Operation"},{"$f":"'Student 1'!$M$10","v":"Check"},{"$f":"'Student 1'!$N$10","v":"any vehicle"},{"$f":"'Student 1'!$O$10","v":"tomer"},{"$f":"'Student 1'!$P$10","v":"etency"},{"$f":"'Student 1'!$Q$10","v":"  "},{"$f":"'Student 1'!$R$10","v":" "}]
[{"$nulls":3},{"$f":"'Student 1'!$D$11","v":2},{"$f":"'Student 1'!$E$11","v":2},{"$f":"'Student 1'!$F$11","v":2},{"$f":"'Student 1'!$G$11","v":2},{"$f":"'Student 1'!$H$11","v":2},{"$f":"'Student 1'!$I$11","v":2},{"$f":"'Student 1'!$J$11","v":2},{"$f":"'Student 1'!$K$11","v":2},{"$f":"'Student 1'!$L$11","v":2},{"$f":"'Student 1'!$M$11","v":1},{"$f":"'Student 1'!$N$11","v":1},{"$f":"'Student 1'!$O$11","v":"Work"},{"$f":"'Student 1'!$P$11","v":"0 or 1"},{"$f":"'Student 1'!$Q$11","v":"Lab"}]
[{"$f":"'Student 1'!$A$12","v":"ID"},{"$f":"'Student 1'!$B$12","v":"First:"},{"$f":"'Student 1'!$C$12","v":"Last:"},{"$f":"'Student 1'!$D$12","v":100},{"$f":"'Student 1'!$E$12","v":100},{"$f":"'Student 1'!$F$12","v":100},{"$f":"'Student 1'!$G$12","v":100},{"$f":"'Student 1'!$H$12","v":100},{"$f":"'Student 1'!$I$12","v":150},{"$f":"'Student 1'!$J$12","v":100},{"$f":"'Student 1'!$K$12","v":50},{"$f":"'Student 1'!$L$12","v":100},{"$f":"'Student 1'!$M$12","v":25},{"$f":"'Student 1'!$N$12","v":100},{"$f":"'Student 1'!$O$12","v":300},{"$f":"'Student 1'!$P$12","v":"*"},{"$f":"'Student 1'!$Q$12","v":"Points"},{"$f":"'Student 1'!$R$12","v":"%"}]
[{"$f":"'Course 1 Lab'!$A$18","v":{"v":12,"d":"00000012"}},{"$f":"'Course 1 Lab'!$B$18","v":"Student"},{"$f":"'Course 1 Lab'!$C$18","v":"Twelve"},{"$f":"'Course 1 Lab'!$D$18","v":0},{"$f":"'Course 1 Lab'!$E$18","v":0},{"$f":"'Course 1 Lab'!$F$18","v":0},{"$f":"'Course 1 Lab'!$G$18","v":0},{"$f":"'Course 1 Lab'!$H$18","v":0},{"$f":"'Course 1 Lab'!$I$18","v":0},{"$f":"'Course 1 Lab'!$J$18","v":0},{"$f":"'Course 1 Lab'!$K$18","v":0},{"$f":"'Course 1 Lab'!$L$18","v":0},{"$f":"'Course 1 Lab'!$M$18","v":0},{"$f":"'Course 1 Lab'!$N$18","v":0},{"$f":"'Course 1 Lab'!$O$18","v":0},{"$f":"'Course 1 Lab'!$P$18","v":1},{"$f":"'Course 1 Lab'!$Q$18","v":0},{"$f":"'Course 1 Lab'!$R$18","v":{"v":0,"d":"0%"}}]
[{"$f":"'Student 1'!$A$14","v":"Course 2 Engine Theory & Repair. Class"},{"$nulls":8},{"$f":"'Student 1'!$J$14","v":25}]
[{"$f":"'Student 1'!$A$15","v":" "},{"$f":"'Student 1'!$B$15","v":"Date assignment is due:"},null,{"$f":"'Student 1'!$D$15","v":"TBD"},{"$f":"'Student 1'!$E$15","v":"TBD"},{"$f":"'Student 1'!$F$15","v":"TBD"},{"$f":"'Student 1'!$G$15","v":"TBD"},{"$f":"'Student 1'!$H$15","v":"TBD"},{"$f":"'Student 1'!$I$15","v":"TBD"},{"$f":"'Student 1'!$J$15","v":"TBD"},{"$f":"'Student 1'!$K$15","v":"TBD"}]
[{"$f":"'Student 1'!$A$16","v":"Class Room Points:"},null,{"$f":"'Student 1'!$C$16","v":201},{"$f":"'Student 1'!$D$16","v":10},{"$f":"'Student 1'!$E$16","v":10},{"$f":"'Student 1'!$F$16","v":20},{"$f":"'Student 1'!$G$16","v":20},{"$f":"'Student 1'!$H$16","v":16},{"$f":"'Student 1'!$I$16","v":25},{"$f":"'Student 1'!$J$16","v":" "},{"$f":"'Student 1'!$K$16","v":100},{"$f":"'Student 1'!$L$16","v":"Evaluation"}]
[{"$f":"'Student 1'!$A$17","v":"Red is late turn-in"},null,{"$f":"'Student 1'!$C$17","v":"Blue is absent"},{"$f":"'Student 1'!$D$17","v":"HW"},{"$f":"'Student 1'!$E$17","v":"HW "},{"$f":"'Student 1'!$F$17","v":"Test"},{"$f":"'Student 1'!$G$17","v":"Test"},{"$f":"'Student 1'!$H$17","v":"HW"},{"$f":"'Student 1'!$I$17","v":"Test"},{"$f":"'Student 1'!$J$17","v":"Extra"},{"$f":"'Student 1'!$K$17","v":"Final "},{"$f":"'Student 1'!$L$17","v":"Class"},null,{"$f":"'Student 1'!$N$17","v":"Professionalism"},null,null,{"$f":"'Student 1'!$Q$17","v":"Lab"},null,{"$f":"'Student 1'!$S$17","v":"Total  "},{"$f":"'Student 1'!$T$17","v":"Letter"}]
[{"$f":"'Student 1'!$A$18","v":"I D "},{"$f":"'Student 1'!$B$18","v":"First:"},{"$f":"'Student 1'!$C$18","v":"Last:"},{"$f":"'Student 1'!$D$18","v":"CH 7"},{"$f":"'Student 1'!$E$18","v":"CH 14"},{"$f":"'Student 1'!$F$18","v":"C & L"},{"$f":"'Student 1'!$G$18","v":"CH 18"},{"$f":"'Student 1'!$H$18","v":"CH 22"},{"$f":"'Student 1'!$I$18","v":"CH 22"},{"$f":"'Student 1'!$J$18","v":"Credit"},{"$f":"'Student 1'!$K$18","v":"TEST"},{"$f":"'Student 1'!$L$18","v":"Points"},{"$f":"'Student 1'!$M$18","v":"%"},{"$f":"'Student 1'!$N$18","v":"Attendance"},{"$f":"'Student 1'!$O$18","v":"Points"},{"$f":"'Student 1'!$P$18","v":"%"},{"$f":"'Student 1'!$Q$18","v":"Points"},{"$f":"'Student 1'!$R$18","v":"%"},{"$f":"'Student 1'!$S$18","v":"%"},{"$f":"'Student 1'!$T$18","v":"Grade"}]
[{"$f":"'Course 2 Class'!$A$17","v":{"v":12,"d":"00000012"}},{"$f":"'Course 2 Class'!$B$17","v":"Student"},{"$f":"'Course 2 Class'!$C$17","v":"Twelve"},{"$f":"'Course 2 Class'!$D$17","v":0},{"$f":"'Course 2 Class'!$E$17","v":0},{"$f":"'Course 2 Class'!$F$17","v":0},{"$f":"'Course 2 Class'!$G$17","v":0},{"$f":"'Course 2 Class'!$H$17","v":0},{"$f":"'Course 2 Class'!$I$17","v":0},{"$f":"'Course 2 Class'!$J$17","v":0},{"$f":"'Course 2 Class'!$K$17","v":0},{"$f":"'Course 2 Class'!$L$17","v":0},{"$f":"'Course 2 Class'!$M$17","v":{"v":0,"d":"0%"}},{"$f":"'Course 2 Class'!$N$17","v":{"v":0.928571428571429,"d":"93%"}},{"$f":"'Course 2 Class'!$O$17","v":71.5714285714286},{"$f":"'Course 2 Class'!$P$17","v":{"v":0.994047619047619,"d":"99%"}},{"$f":"'Course 2 Class'!$Q$17","v":0},{"$f":"'Course 2 Class'!$R$17","v":{"v":0,"d":"0%"}},{"$f":"'Course 2 Class'!$S$17","v":{"v":0.248511904761905,"d":"25%"}},{"$f":"'Course 2 Class'!$T$17","v":"F"}]
[{"$f":"'Student 1'!$A$20","v":"Course 2 Engine Theory & Repair. Lab"}]
[{"$f":"'Student 1'!$A$21","v":"  Max Shop Points:"},null,{"$f":"'Student 1'!$C$21","v":1450},{"$f":"'Student 1'!$D$21","v":"Engine"},{"$f":"'Student 1'!$E$21","v":"Cylinder"},{"$f":"'Student 1'!$F$21","v":"Red"},{"$f":"'Student 1'!$G$21","v":"Mitsubishi"},{"$f":"'Student 1'!$H$21","v":"Any"},{"$f":"'Student 1'!$I$21","v":"DOHC"},{"$f":"'Student 1'!$J$21","v":"Valve seal"},{"$f":"'Student 1'!$K$21","v":"Misc."},{"$f":"'Student 1'!$L$21","v":" "}]
[{"$f":"'Student 1'!$A$22","v":"Max shop points available depend on how much customer work is done."},null,null,{"$f":"'Student 1'!$D$22","v":"Disassemble"},{"$f":"'Student 1'!$E$22","v":"Head"},{"$f":"'Student 1'!$F$22","v":"Dodge"},{"$f":"'Student 1'!$G$22","v":"\"3.0L\""},{"$f":"'Student 1'!$H$22","v":"Engine"},{"$f":"'Student 1'!$I$22","v":"Engine"},{"$f":"'Student 1'!$J$22","v":"&"},{"$f":"'Student 1'!$K$22","v":"Engine "},{"$f":"'Student 1'!$L$22","v":"Cus"},{"$f":"'Student 1'!$M$22","v":"Comp"}]
[{"$nulls":3},{"$f":"'Student 1'!$D$23","v":"& Measure"},{"$f":"'Student 1'!$E$23","v":"Repair"},{"$f":"'Student 1'!$F$23","v":"Clip"},{"$f":"'Student 1'!$G$23","v":"Clip"},{"$f":"'Student 1'!$H$23","v":"T-chain"},{"$f":"'Student 1'!$I$23","v":" Stand"},{"$f":"'Student 1'!$J$23","v":"Lobe lift"},{"$f":"'Student 1'!$K$23","v":"Points"},{"$f":"'Student 1'!$L$23","v":"tomer"},{"$f":"'Student 1'!$M$23","v":"etency"},{"$f":"'Student 1'!$N$23","v":" "},{"$f":"'Student 1'!$O$23","v":" "}]
[{"$nulls":3},{"$f":"'Student 1'!$D$24","v":1},{"$f":"'Student 1'!$E$24","v":1},{"$f":"'Student 1'!$F$24","v":1},{"$f":"'Student 1'!$G$24","v":1},{"$f":"'Student 1'!$H$24","v":1},{"$f":"'Student 1'!$I$24","v":1},{"$f":"'Student 1'!$J$24","v":1},null,{"$f":"'Student 1'!$L$24","v":"Work"},{"$f":"'Student 1'!$M$24","v":"0 or 1"},{"$f":"'Student 1'!$N$24","v":"Lab"}]
[{"$f":"'Student 1'!$A$25","v":"ID"},{"$f":"'Student 1'!$B$25","v":"First:"},{"$f":"'Student 1'!$C$25","v":"Last:"},{"$f":"'Student 1'!$D$25","v":300},{"$f":"'Student 1'!$E$25","v":200},{"$f":"'Student 1'!$F$25","v":100},{"$f":"'Student 1'!$G$25","v":100},{"$f":"'Student 1'!$H$25","v":100},{"$f":"'Student 1'!$I$25","v":100},{"$f":"'Student 1'!$J$25","v":50},{"$f":"'Student 1'!$K$25","v":200},{"$f":"'Student 1'!$L$25","v":300},{"$f":"'Student 1'!$M$25","v":"*"},{"$f":"'Student 1'!$N$25","v":"Points"},{"$f":"'Student 1'!$O$25","v":"%"}]
[{"$f":"'Course 2 Lab'!$A$18","v":{"v":12,"d":"00000012"}},{"$f":"'Course 2 Lab'!$B$18","v":"Student"},{"$f":"'Course 2 Lab'!$C$18","v":"Twelve"},{"$f":"'Course 2 Lab'!$D$18","v":0},{"$f":"'Course 2 Lab'!$E$18","v":0},{"$f":"'Course 2 Lab'!$F$18","v":0},{"$f":"'Course 2 Lab'!$G$18","v":0},{"$f":"'Course 2 Lab'!$H$18","v":0},{"$f":"'Course 2 Lab'!$I$18","v":0},{"$f":"'Course 2 Lab'!$J$18","v":0},{"$f":"'Course 2 Lab'!$K$18","v":0},{"$f":"'Course 2 Lab'!$L$18","v":0},{"$f":"'Course 2 Lab'!$M$18","v":1},{"$f":"'Course 2 Lab'!$N$18","v":0},{"$f":"'Course 2 Lab'!$O$18","v":{"v":0,"d":"0%"}}]
[{"$f":"'Student 1'!$A$27","v":"Course 3 Steering & Suspension. Class."},{"$nulls":11},{"$f":"'Student 1'!$M$27","v":25}]
[{"$f":"'Student 1'!$A$28","v":" "},{"$f":"'Student 1'!$B$28","v":"Date assignment is due:"},null,{"$f":"'Student 1'!$D$28","v":"1/18"},{"$f":"'Student 1'!$E$28","v":"2/2"},{"$f":"'Student 1'!$F$28","v":"TBD"},{"$f":"'Student 1'!$G$28","v":"TBD"},{"$f":"'Student 1'!$H$28","v":"TBD"},{"$f":"'Student 1'!$I$28","v":"TBD"},{"$f":"'Student 1'!$J$28","v":"TBD"},{"$f":"'Student 1'!$K$28","v":"TBD"},{"$f":"'Student 1'!$L$28","v":"TBD"},{"$f":"'Student 1'!$M$28","v":"TBD"},{"$f":"'Student 1'!$N$28","v":"TBD"}]
[{"$f":"'Student 1'!$A$29","v":"Class Room Points:"},null,{"$f":"'Student 1'!$C$29","v":330},{"$f":"'Student 1'!$D$29","v":20},{"$f":"'Student 1'!$E$29","v":20},{"$f":"'Student 1'!$F$29","v":24},{"$f":"'Student 1'!$G$29","v":20},{"$f":"'Student 1'!$H$29","v":25},{"$f":"'Student 1'!$I$29","v":30},{"$f":"'Student 1'!$J$29","v":20},{"$f":"'Student 1'!$K$29","v":26},{"$f":"'Student 1'!$L$29","v":45},{"$f":"'Student 1'!$M$29","v":" "},{"$f":"'Student 1'!$N$29","v":100},{"$f":"'Student 1'!$O$29","v":"Evaluation"}]
[{"$f":"'Student 1'!$A$30","v":"Red is late turn-in"},null,{"$f":"'Student 1'!$C$30","v":"Blue is absent"},{"$f":"'Student 1'!$D$30","v":"HW"},{"$f":"'Student 1'!$E$30","v":"HW"},{"$f":"'Student 1'!$F$30","v":"HW"},{"$f":"'Student 1'!$G$30","v":"QZ"},{"$f":"'Student 1'!$H$30","v":"HW"},{"$f":"'Student 1'!$I$30","v":"HW"},{"$f":"'Student 1'!$J$30","v":"Test"},{"$f":"'Student 1'!$K$30","v":"HW"},{"$f":"'Student 1'!$L$30","v":"Class"},{"$f":"'Student 1'!$M$30","v":"Extra"},{"$f":"'Student 1'!$N$30","v":"Final"},{"$f":"'Student 1'!$O$30","v":"Class"},null,{"$f":"'Student 1'!$Q$30","v":"Professionalism"},null,null,{"$f":"'Student 1'!$T$30","v":"Lab"},null,{"$f":"'Student 1'!$V$30","v":"Total  "},{"$f":"'Student 1'!$W$30","v":"Letter"}]
[{"$f":"'Student 1'!$A$31","v":"I D "},{"$f":"'Student 1'!$B$31","v":"First:"},{"$f":"'Student 1'!$C$31","v":"Last:"},{"$f":"'Student 1'!$D$31","v":"CH 1"},{"$f":"'Student 1'!$E$31","v":"CH 2"},{"$f":"'Student 1'!$F$31","v":"CH 3"},{"$f":"'Student 1'!$G$31","v":"1"},{"$f":"'Student 1'!$H$31","v":"CH 6"},{"$f":"'Student 1'!$I$31","v":"CH 9"},{"$f":"'Student 1'!$J$31","v":"1 – 9"},{"$f":"'Student 1'!$K$31","v":"CH 12"},{"$f":"'Student 1'!$L$31","v":"Project"},{"$f":"'Student 1'!$M$31","v":"Credit"},{"$f":"'Student 1'!$N$31","v":"TEST"},{"$f":"'Student 1'!$O$31","v":"Points"},{"$f":"'Student 1'!$P$31","v":"%"},{"$f":"'Student 1'!$Q$31","v":"Attendance"},{"$f":"'Student 1'!$R$31","v":"Points"},{"$f":"'Student 1'!$S$31","v":"%"},{"$f":"'Student 1'!$T$31","v":"Points"},{"$f":"'Student 1'!$U$31","v":"%"},{"$f":"'Student 1'!$V$31","v":"%"},{"$f":"'Student 1'!$W$31","v":"Grade"}]
[{"$f":"'Course 3 Class'!$A$17","v":{"v":12,"d":"00000012"}},{"$f":"'Course 3 Class'!$B$17","v":"Student"},{"$f":"'Course 3 Class'!$C$17","v":"Twelve"},{"$f":"'Course 3 Class'!$D$17","v":0},{"$f":"'Course 3 Class'!$E$17","v":0},{"$f":"'Course 3 Class'!$F$17","v":0},{"$f":"'Course 3 Class'!$G$17","v":0},{"$f":"'Course 3 Class'!$H$17","v":0},{"$f":"'Course 3 Class'!$I$17","v":0},{"$f":"'Course 3 Class'!$J$17","v":0},{"$f":"'Course 3 Class'!$K$17","v":0},{"$f":"'Course 3 Class'!$L$17","v":0},{"$f":"'Course 3 Class'!$M$17","v":0},{"$f":"'Course 3 Class'!$N$17","v":0},{"$f":"'Course 3 Class'!$O$17","v":0},{"$f":"'Course 3 Class'!$P$17","v":{"v":0,"d":"0%"}},{"$f":"'Course 3 Class'!$Q$17","v":{"v":0.928571428571429,"d":"93%"}},{"$f":"'Course 3 Class'!$R$17","v":71.5714285714286},{"$f":"'Course 3 Class'!$S$17","v":{"v":0.994047619047619,"d":"99%"}},{"$f":"'Course 3 Class'!$T$17","v":0},{"$f":"'Course 3 Class'!$U$17","v":{"v":0,"d":"0%"}},{"$f":"'Course 3 Class'!$V$17","v":{"v":0.248511904761905,"d":"25%"}},{"$f":"'Course 3 Class'!$W$17","v":"F"}]
[{"$f":"'Student 1'!$A$33","v":"Course 3 Steering & Suspension. Lab"}]
[{"$f":"'Student 1'!$A$34","v":"Max shop points"},null,{"$f":"'Student 1'!$C$34","v":1350},{"$f":"'Student 1'!$D$34","v":"Repair"},{"$f":"'Student 1'!$E$34","v":"Identify"},{"$f":"'Student 1'!$F$34","v":"Repair"},{"$f":"'Student 1'!$G$34","v":"Identify"},{"$f":"'Student 1'!$H$34","v":"Repair"},{"$f":"'Student 1'!$I$34","v":"R&R"},{"$f":"'Student 1'!$J$34","v":"R&R"},{"$f":"'Student 1'!$K$34","v":"R&R"},{"$f":"'Student 1'!$L$34","v":"P/S"},{"$f":"'Student 1'!$M$34","v":"R&R"},{"$f":"'Student 1'!$N$34","v":"NVH"},{"$f":"'Student 1'!$O$34","v":" "}]
[{"$f":"'Student 1'!$A$35","v":"Max shop points available depend on how much customer work is done."},null,null,{"$f":"'Student 1'!$D$35","v":"SLA"},{"$f":"'Student 1'!$E$35","v":"SLA"},{"$f":"'Student 1'!$F$35","v":"Mac-P"},{"$f":"'Student 1'!$G$35","v":"Mac-P"},{"$f":"'Student 1'!$H$35","v":"Rear"},{"$f":"'Student 1'!$I$35","v":"Rack &"},{"$f":"'Student 1'!$J$35","v":"Recirc."},{"$f":"'Student 1'!$K$35","v":"P/S"},{"$f":"'Student 1'!$L$35","v":"Pump"},{"$f":"'Student 1'!$M$35","v":"Inner"},{"$f":"'Student 1'!$N$35","v":"Runout &"},{"$f":"'Student 1'!$O$35","v":"Cus"},{"$f":"'Student 1'!$P$35","v":"Comp"}]
[{"$nulls":3},{"$f":"'Student 1'!$D$36","v":"Susp"},{"$f":"'Student 1'!$E$36","v":"Parts"},{"$f":"'Student 1'!$F$36","v":"Susp"},{"$f":"'Student 1'!$G$36","v":"Parts"},{"$f":"'Student 1'!$H$36","v":"Susp"},{"$f":"'Student 1'!$I$36","v":"Pinion"},{"$f":"'Student 1'!$J$36","v":"Gear"},{"$f":"'Student 1'!$K$36","v":"Pump"},{"$f":"'Student 1'!$L$36","v":"Test"},{"$f":"'Student 1'!$M$36","v":"Tie-Rod"},{"$f":"'Student 1'!$N$36","v":"bal. Check"},{"$f":"'Student 1'!$O$36","v":"tomer"},{"$f":"'Student 1'!$P$36","v":"etency"},{"$f":"'Student 1'!$Q$36","v":" "},{"$f":"'Student 1'!$R$36","v":" "},null,null,{"$f":"'Student 1'!$U$36","v":"Final Grade"}]
[{"$nulls":3},{"$f":"'Student 1'!$D$37","v":1},{"$f":"'Student 1'!$E$37","v":2},{"$f":"'Student 1'!$F$37","v":3},{"$f":"'Student 1'!$G$37","v":2},{"$f":"'Student 1'!$H$37","v":1},{"$f":"'Student 1'!$I$37","v":1},{"$f":"'Student 1'!$J$37","v":1},{"$f":"'Student 1'!$K$37","v":1},{"$f":"'Student 1'!$L$37","v":1},{"$f":"'Student 1'!$M$37","v":1},{"$f":"'Student 1'!$N$37","v":1},{"$f":"'Student 1'!$O$37","v":"Work"},{"$f":"'Student 1'!$P$37","v":"0 or 1"},{"$f":"'Student 1'!$Q$37","v":"Lab"},{"$nulls":3},{"$f":"'Student 1'!$U$37","v":{"v":0,"d":"0%"}},{"$f":"'Student 1'!$V$37","v":"F"}]
[{"$f":"'Student 1'!$A$38","v":"ID"},{"$f":"'Student 1'!$B$38","v":"First:"},{"$f":"'Student 1'!$C$38","v":"Last:"},{"$f":"'Student 1'!$D$38","v":150},{"$f":"'Student 1'!$E$38","v":50},{"$f":"'Student 1'!$F$38","v":225},{"$f":"'Student 1'!$G$38","v":50},{"$f":"'Student 1'!$H$38","v":50},{"$f":"'Student 1'!$I$38","v":150},{"$f":"'Student 1'!$J$38","v":125},{"$f":"'Student 1'!$K$38","v":50},{"$f":"'Student 1'!$L$38","v":50},{"$f":"'Student 1'!$M$38","v":50},{"$f":"'Student 1'!$N$38","v":100},{"$f":"'Student 1'!$O$38","v":300},{"$f":"'Student 1'!$P$38","v":"*"},{"$f":"'Student 1'!$Q$38","v":"Points"},{"$f":"'Student 1'!$R$38","v":"%"},null,null,{"$f":"'Student 1'!$U$38","v":{"v":0.695,"d":"70%"}},{"$f":"'Student 1'!$V$38","v":"D-"}]
[{"$f":"'Course 3 Lab'!$A$18","v":{"v":12,"d":"00000012"}},{"$f":"'Course 3 Lab'!$B$18","v":"Student"},{"$f":"'Course 3 Lab'!$C$18","v":"Twelve"},{"$f":"'Course 3 Lab'!$D$18","v":0},{"$f":"'Course 3 Lab'!$E$18","v":0},{"$f":"'Course 3 Lab'!$F$18","v":0},{"$f":"'Course 3 Lab'!$G$18","v":0},{"$f":"'Course 3 Lab'!$H$18","v":0},{"$f":"'Course 3 Lab'!$I$18","v":0},{"$f":"'Course 3 Lab'!$J$18","v":0},{"$f":"'Course 3 Lab'!$K$18","v":0},{"$f":"'Course 3 Lab'!$L$18","v":0},{"$f":"'Course 3 Lab'!$M$18","v":0},{"$f":"'Course 3 Lab'!$N$18","v":0},{"$f":"'Course 3 Lab'!$O$18","v":0},{"$f":"'Course 3 Lab'!$P$18","v":1},{"$f":"'Course 3 Lab'!$Q$18","v":0},{"$f":"'Course 3 Lab'!$R$18","v":{"v":0,"d":"0%"}},null,null,{"$f":"'Student 1'!$U$39","v":{"v":0.715,"d":"72%"}},{"$f":"'Student 1'!$V$39","v":"D"}]
[{"$f":"'Student 1'!$A$40","v":"Course 4 Alignment. Class."},{"$nulls":7},{"$f":"'Student 1'!$I$40","v":25},{"$nulls":11},{"$f":"'Student 1'!$U$40","v":{"v":0.735,"d":"74%"}},{"$f":"'Student 1'!$V$40","v":"D+"}]
[{"$f":"'Student 1'!$A$41","v":" "},{"$f":"'Student 1'!$B$41","v":"Date assignment is due  "},null,{"$f":"'Student 1'!$D$41","v":"TBD"},{"$f":"'Student 1'!$E$41","v":"TBD"},{"$f":"'Student 1'!$F$41","v":"TBD"},{"$f":"'Student 1'!$G$41","v":"TBD"},{"$f":"'Student 1'!$H$41","v":"TBD"},{"$f":"'Student 1'!$I$41","v":"TBD"},{"$f":"'Student 1'!$J$41","v":"TBD"},{"$nulls":10},{"$f":"'Student 1'!$U$41","v":{"v":0.755,"d":"76%"}},{"$f":"'Student 1'!$V$41","v":"C-"}]
[{"$f":"'Student 1'!$A$42","v":"Class Room Points:"},null,{"$f":"'Student 1'!$C$42","v":235},{"$f":"'Student 1'!$D$42","v":25},{"$f":"'Student 1'!$E$42","v":25},{"$f":"'Student 1'!$F$42","v":20},{"$f":"'Student 1'!$G$42","v":40},{"$f":"'Student 1'!$H$42","v":50},{"$f":"'Student 1'!$I$42","v":" "},{"$f":"'Student 1'!$J$42","v":75},{"$f":"'Student 1'!$K$42","v":"Evaluation"},{"$nulls":9},{"$f":"'Student 1'!$U$42","v":{"v":0.785,"d":"79%"}},{"$f":"'Student 1'!$V$42","v":"C"}]
[{"$f":"'Student 1'!$A$43","v":"Red is late turn-in"},null,{"$f":"'Student 1'!$C$43","v":"Blue is absent"},{"$f":"'Student 1'!$D$43","v":"CH 16"},{"$f":"'Student 1'!$E$43","v":"CH 16"},{"$f":"'Student 1'!$F$43","v":"Align"},{"$f":"'Student 1'!$G$43","v":"In class"},{"$f":"'Student 1'!$H$43","v":"In class"},{"$f":"'Student 1'!$I$43","v":"Extra"},{"$f":"'Student 1'!$J$43","v":"Final"},{"$f":"'Student 1'!$K$43","v":"Class"},null,{"$f":"'Student 1'!$M$43","v":"Professionalism"},null,null,{"$f":"'Student 1'!$P$43","v":"Lab"},null,{"$f":"'Student 1'!$R$43","v":"Total  "},{"$f":"'Student 1'!$S$43","v":"Letter"},null,{"$f":"'Student 1'!$U$43","v":{"v":0.815,"d":"82%"}},{"$f":"'Student 1'!$V$43","v":"C+"}]
[{"$f":"'Student 1'!$A$44","v":"I D "},{"$f":"'Student 1'!$B$44","v":"First:"},{"$f":"'Student 1'!$C$44","v":"Last:"},{"$f":"'Student 1'!$D$44","v":"HW"},{"$f":"'Student 1'!$E$44","v":"Test"},{"$f":"'Student 1'!$F$44","v":"HW"},{"$f":"'Student 1'!$G$44","v":"Project1"},{"$f":"'Student 1'!$H$44","v":"Project2"},{"$f":"'Student 1'!$I$44","v":"Credit"},{"$f":"'Student 1'!$J$44","v":"Test"},{"$f":"'Student 1'!$K$44","v":"Points"},{"$f":"'Student 1'!$L$44","v":"%"},{"$f":"'Student 1'!$M$44","v":"Attendance"},{"$f":"'Student 1'!$N$44","v":"Points"},{"$f":"'Student 1'!$O$44","v":"%"},{"$f":"'Student 1'!$P$44","v":"Points"},{"$f":"'Student 1'!$Q$44","v":"%"},{"$f":"'Student 1'!$R$44","v":"%"},{"$f":"'Student 1'!$S$44","v":"Grade"},null,{"$f":"'Student 1'!$U$44","v":{"v":0.845,"d":"85%"}},{"$f":"'Student 1'!$V$44","v":"B-"}]
[{"$f":"'Course 4 Class'!$A$17","v":{"v":12,"d":"00000012"}},{"$f":"'Course 4 Class'!$B$17","v":"Student"},{"$f":"'Course 4 Class'!$C$17","v":"Twelve"},{"$f":"'Course 4 Class'!$D$17","v":0},{"$f":"'Course 4 Class'!$E$17","v":0},{"$f":"'Course 4 Class'!$F$17","v":0},{"$f":"'Course 4 Class'!$G$17","v":0},{"$f":"'Course 4 Class'!$H$17","v":0},{"$f":"'Course 4 Class'!$I$17","v":0},{"$f":"'Course 4 Class'!$J$17","v":0},{"$f":"'Course 4 Class'!$K$17","v":0},{"$f":"'Course 4 Class'!$L$17","v":{"v":0,"d":"0%"}},{"$f":"'Course 4 Class'!$M$17","v":{"v":0.928571428571429,"d":"93%"}},{"$f":"'Course 4 Class'!$N$17","v":71.5714285714286},{"$f":"'Course 4 Class'!$O$17","v":{"v":0.994047619047619,"d":"99%"}},{"$f":"'Course 4 Class'!$P$17","v":0},{"$f":"'Course 4 Class'!$Q$17","v":{"v":0,"d":"0%"}},{"$f":"'Course 4 Class'!$R$17","v":{"v":0.248511904761905,"d":"25%"}},{"$f":"'Course 4 Class'!$S$17","v":"F"},null,{"$f":"'Student 1'!$U$45","v":{"v":0.875,"d":"88%"}},{"$f":"'Student 1'!$V$45","v":"B"}]
[{"$f":"'Student 1'!$A$46","v":"Course 4 Alignment. Lab"},{"$nulls":19},{"$f":"'Student 1'!$U$46","v":{"v":0.895,"d":"90%"}},{"$f":"'Student 1'!$V$46","v":"B+"}]
[{"$f":"'Student 1'!$A$47","v":"Max Shop Points:"},null,{"$f":"'Student 1'!$C$47","v":1300},{"$f":"'Student 1'!$D$47","v":"Alignment"},{"$f":"'Student 1'!$E$47","v":"Complete"},{"$f":"'Student 1'!$F$47","v":"Cus"},{"$f":"'Student 1'!$G$47","v":" "},{"$nulls":13},{"$f":"'Student 1'!$U$47","v":{"v":0.925,"d":"93%"}},{"$f":"'Student 1'!$V$47","v":"A-"}]
[{"$f":"'Student 1'!$A$48","v":"Max shop points available depend on how much customer work is done."},null,null,{"$f":"'Student 1'!$D$48","v":"Pre-check"},{"$f":"'Student 1'!$E$48","v":"Wheel"},{"$f":"'Student 1'!$F$48","v":"tomer"},{"$f":"'Student 1'!$G$48","v":"Comp"},{"$nulls":13},{"$f":"'Student 1'!$U$48","v":{"v":0.945,"d":"95%"}},{"$f":"'Student 1'!$V$48","v":"A"}]
[{"$nulls":3},{"$f":"'Student 1'!$D$49","v":"100 P"},{"$f":"'Student 1'!$E$49","v":"Alignment"},{"$f":"'Student 1'!$F$49","v":"Work"},{"$f":"'Student 1'!$G$49","v":"etency"},{"$f":"'Student 1'!$H$49","v":" "},{"$f":"'Student 1'!$I$49","v":" "},{"$nulls":11},{"$f":"'Student 1'!$U$49","v":{"v":1,"d":"100%"}},{"$f":"'Student 1'!$V$49","v":"A"}]
[{"$nulls":3},{"$f":"'Student 1'!$D$50","v":1},{"$f":"'Student 1'!$E$50","v":1},{"$f":"'Student 1'!$F$50","v":" "},{"$f":"'Student 1'!$G$50","v":"0 or 1"},{"$f":"'Student 1'!$H$50","v":"Lab"}]
[{"$f":"'Student 1'!$A$51","v":"ID"},{"$f":"'Student 1'!$B$51","v":"First:"},{"$f":"'Student 1'!$C$51","v":"Last:"},{"$f":"'Student 1'!$D$51","v":100},{"$f":"'Student 1'!$E$51","v":900},{"$f":"'Student 1'!$F$51","v":300},{"$f":"'Student 1'!$G$51","v":"*"},{"$f":"'Student 1'!$H$51","v":"Points"},{"$f":"'Student 1'!$I$51","v":"%"}]
[{"$f":"'Course 4 Lab'!$A$18","v":{"v":12,"d":"00000012"}},{"$f":"'Course 4 Lab'!$B$18","v":"Student"},{"$f":"'Course 4 Lab'!$C$18","v":"Twelve"},{"$f":"'Course 4 Lab'!$D$18","v":0},{"$f":"'Course 4 Lab'!$E$18","v":0},{"$f":"'Course 4 Lab'!$F$18","v":0},{"$f":"'Course 4 Lab'!$G$18","v":1},{"$f":"'Course 4 Lab'!$H$18","v":0},{"$f":"'Course 4 Lab'!$I$18","v":{"v":0,"d":"0%"}}]
[{"$f":"'Student 1'!$A$53","v":"Course 5 Brake Systems. Class."},{"$nulls":10},{"$f":"'Student 1'!$L$53","v":35}]
[{"$f":"'Student 1'!$A$54","v":"Date assignment is due:"},null,{"$f":"'Student 1'!$C$54","v":" "},{"$f":"'Student 1'!$D$54","v":"TBD"},{"$f":"'Student 1'!$E$54","v":"TBD"},{"$f":"'Student 1'!$F$54","v":"TBD"},{"$f":"'Student 1'!$G$54","v":"TBD"},{"$f":"'Student 1'!$H$54","v":"TBD"},{"$f":"'Student 1'!$I$54","v":"TBD"},{"$f":"'Student 1'!$J$54","v":"TBD"},{"$f":"'Student 1'!$K$54","v":"TBD"},{"$f":"'Student 1'!$L$54","v":"TBD"},{"$f":"'Student 1'!$M$54","v":"TBD"}]
[{"$f":"'Student 1'!$A$55","v":"Class Room Points:"},null,{"$f":"'Student 1'!$C$55","v":440},{"$f":"'Student 1'!$D$55","v":30},{"$f":"'Student 1'!$E$55","v":25},{"$f":"'Student 1'!$F$55","v":100},{"$f":"'Student 1'!$G$55","v":30},{"$f":"'Student 1'!$H$55","v":50},{"$f":"'Student 1'!$I$55","v":30},{"$f":"'Student 1'!$J$55","v":25},{"$f":"'Student 1'!$K$55","v":50},{"$f":"'Student 1'!$L$55","v":" "},{"$f":"'Student 1'!$M$55","v":100},{"$f":"'Student 1'!$N$55","v":"Evaluation"}]
[{"$f":"'Student 1'!$A$56","v":"Red is late turn-in"},null,{"$f":"'Student 1'!$C$56","v":"Blue is absent"},{"$f":"'Student 1'!$D$56","v":"HW"},{"$f":"'Student 1'!$E$56","v":"HW"},{"$f":"'Student 1'!$F$56","v":"Test"},{"$f":"'Student 1'!$G$56","v":"HW"},{"$f":"'Student 1'!$H$56","v":"Test"},{"$f":"'Student 1'!$I$56","v":"HW"},{"$f":"'Student 1'!$J$56","v":"Test"},{"$f":"'Student 1'!$K$56","v":"Class"},{"$f":"'Student 1'!$L$56","v":"Extra"},{"$f":"'Student 1'!$M$56","v":"Final"},{"$f":"'Student 1'!$N$56","v":"Class"},null,{"$f":"'Student 1'!$P$56","v":"Professionalism"},null,null,{"$f":"'Student 1'!$S$56","v":"Lab"},null,{"$f":"'Student 1'!$U$56","v":"Total  "},{"$f":"'Student 1'!$V$56","v":"Letter"}]
[{"$f":"'Student 1'!$A$57","v":"I D "},{"$f":"'Student 1'!$B$57","v":"First:"},{"$f":"'Student 1'!$C$57","v":"Last:"},{"$f":"'Student 1'!$D$57","v":"CH 4"},{"$f":"'Student 1'!$E$57","v":"CH 5"},{"$f":"'Student 1'!$F$57","v":"#1"},{"$f":"'Student 1'!$G$57","v":"CH 7"},{"$f":"'Student 1'!$H$57","v":"Conv"},{"$f":"'Student 1'!$I$57","v":"CH 20"},{"$f":"'Student 1'!$J$57","v":"21/22"},{"$f":"'Student 1'!$K$57","v":"Project"},{"$f":"'Student 1'!$L$57","v":"Credit"},{"$f":"'Student 1'!$M$57","v":"Test"},{"$f":"'Student 1'!$N$57","v":"Points"},{"$f":"'Student 1'!$O$57","v":"%"},{"$f":"'Student 1'!$P$57","v":"Attendance"},{"$f":"'Student 1'!$Q$57","v":"Points"},{"$f":"'Student 1'!$R$57","v":"%"},{"$f":"'Student 1'!$S$57","v":"Points"},{"$f":"'Student 1'!$T$57","v":"%"},{"$f":"'Student 1'!$U$57","v":"%"},{"$f":"'Student 1'!$V$57","v":"Grade"}]
[{"$f":"'Course 5 Class'!$A$17","v":{"v":12,"d":"00000012"}},{"$f":"'Course 5 Class'!$B$17","v":"Student"},{"$f":"'Course 5 Class'!$C$17","v":"Twelve"},{"$f":"'Course 5 Class'!$D$17","v":0},{"$f":"'Course 5 Class'!$E$17","v":0},{"$f":"'Course 5 Class'!$F$17","v":0},{"$f":"'Course 5 Class'!$G$17","v":0},{"$f":"'Course 5 Class'!$H$17","v":0},{"$f":"'Course 5 Class'!$I$17","v":0},{"$f":"'Course 5 Class'!$J$17","v":0},{"$f":"'Course 5 Class'!$K$17","v":0},{"$f":"'Course 5 Class'!$L$17","v":0},{"$f":"'Course 5 Class'!$M$17","v":0},{"$f":"'Course 5 Class'!$N$17","v":0},{"$f":"'Course 5 Class'!$O$17","v":{"v":0,"d":"0%"}},{"$f":"'Course 5 Class'!$P$17","v":{"v":0.928571428571429,"d":"93%"}},{"$f":"'Course 5 Class'!$Q$17","v":71.5714285714286},{"$f":"'Course 5 Class'!$R$17","v":{"v":0.994047619047619,"d":"99%"}},{"$f":"'Course 5 Class'!$S$17","v":0},{"$f":"'Course 5 Class'!$T$17","v":{"v":0,"d":"0%"}},{"$f":"'Course 5 Class'!$U$17","v":{"v":0.248511904761905,"d":"25%"}},{"$f":"'Course 5 Class'!$V$17","v":"F"}]
[{"$f":"'Student 1'!$A$59","v":"Course 5 Brake Systems. Lab"}]
[{"$f":"'Student 1'!$A$60","v":"  Max Shop Points:"},null,{"$f":"'Student 1'!$C$60","v":970},{"$f":"'Student 1'!$D$60","v":"Drum"},{"$f":"'Student 1'!$E$60","v":"Drum "},{"$f":"'Student 1'!$F$60","v":"Disc"},{"$f":"'Student 1'!$G$60","v":"On Car"},{"$f":"'Student 1'!$H$60","v":"Off Car"},{"$f":"'Student 1'!$I$60","v":"Wheel"},{"$f":"'Student 1'!$J$60","v":"Hydr."},{"$f":"'Student 1'!$K$60","v":"Vacuum"},{"$f":"'Student 1'!$L$60","v":"Warning"},{"$f":"'Student 1'!$M$60","v":"Brake"},{"$f":"'Student 1'!$N$60","v":"Brake"},{"$f":"'Student 1'!$O$60","v":"Dodge"},{"$f":"'Student 1'!$P$60","v":"Ford"},{"$f":"'Student 1'!$Q$60","v":"GM"},{"$f":"'Student 1'!$R$60","v":"Cus"},{"$f":"'Student 1'!$S$60","v":"Brake"}]
[{"$f":"'Student 1'!$A$61","v":"Max shop points available depend on how much customer work is done."},null,null,{"$f":"'Student 1'!$D$61","v":"Brake"},{"$f":"'Student 1'!$E$61","v":"Brake "},{"$f":"'Student 1'!$F$61","v":"Brake"},{"$f":"'Student 1'!$G$61","v":"Disc"},{"$f":"'Student 1'!$H$61","v":"Disc"},{"$f":"'Student 1'!$I$61","v":"Bearing"},{"$f":"'Student 1'!$J$61","v":"Line"},{"$f":"'Student 1'!$K$61","v":"Booster"},{"$f":"'Student 1'!$L$61","v":"Light"},{"$f":"'Student 1'!$M$61","v":"System"},{"$f":"'Student 1'!$N$61","v":"Valves"},{"$f":"'Student 1'!$O$61","v":"Anti"},{"$f":"'Student 1'!$P$61","v":"Anti"},{"$f":"'Student 1'!$Q$61","v":"Anti"},{"$f":"'Student 1'!$R$61","v":"tomer"},{"$f":"'Student 1'!$S$61","v":"Comp"}]
[{"$nulls":3},{"$f":"'Student 1'!$D$62","v":"Job"},{"$f":"'Student 1'!$E$62","v":"Mach."},{"$f":"'Student 1'!$F$62","v":"Job"},{"$f":"'Student 1'!$G$62","v":"Mach."},{"$f":"'Student 1'!$H$62","v":"Mach."},{"$f":"'Student 1'!$I$62","v":"Service"},{"$f":"'Student 1'!$J$62","v":"Repair"},{"$f":"'Student 1'!$K$62","v":"Service"},{"$f":"'Student 1'!$L$62","v":"Service"},{"$f":"'Student 1'!$M$62","v":"Bleed"},{"$f":"'Student 1'!$N$62","v":"Check"},{"$f":"'Student 1'!$O$62","v":"Lock"},{"$f":"'Student 1'!$P$62","v":"Lock"},{"$f":"'Student 1'!$Q$62","v":"Lock"},{"$f":"'Student 1'!$R$62","v":"Work"},{"$f":"'Student 1'!$S$62","v":"etency"}]
[{"$nulls":3},{"$f":"'Student 1'!$D$63","v":2},{"$f":"'Student 1'!$E$63","v":2},{"$f":"'Student 1'!$F$63","v":2},{"$f":"'Student 1'!$G$63","v":2},{"$f":"'Student 1'!$H$63","v":2},{"$f":"'Student 1'!$I$63","v":1},{"$f":"'Student 1'!$J$63","v":1},{"$f":"'Student 1'!$K$63","v":2},{"$f":"'Student 1'!$L$63","v":2},{"$f":"'Student 1'!$M$63","v":4},{"$f":"'Student 1'!$N$63","v":1},{"$f":"'Student 1'!$O$63","v":1},{"$f":"'Student 1'!$P$63","v":1},{"$f":"'Student 1'!$Q$63","v":1},{"$f":"'Student 1'!$R$63","v":" "},{"$f":"'Student 1'!$S$63","v":"Required"},{"$f":"'Student 1'!$T$63","v":"Lab"}]
[{"$f":"'Student 1'!$A$64","v":"ID"},{"$f":"'Student 1'!$B$64","v":"First:"},{"$f":"'Student 1'!$C$64","v":"Last:"},{"$f":"'Student 1'!$D$64","v":150},{"$f":"'Student 1'!$E$64","v":40},{"$f":"'Student 1'!$F$64","v":150},{"$f":"'Student 1'!$G$64","v":80},{"$f":"'Student 1'!$H$64","v":40},{"$f":"'Student 1'!$I$64","v":50},{"$f":"'Student 1'!$J$64","v":30},{"$f":"'Student 1'!$K$64","v":30},{"$f":"'Student 1'!$L$64","v":40},{"$f":"'Student 1'!$M$64","v":80},{"$f":"'Student 1'!$N$64","v":40},{"$f":"'Student 1'!$O$64","v":80},{"$f":"'Student 1'!$P$64","v":80},{"$f":"'Student 1'!$Q$64","v":80},{"$f":"'Student 1'!$R$64","v":300},{"$f":"'Student 1'!$S$64","v":"*"},{"$f":"'Student 1'!$T$64","v":"Points"},{"$f":"'Student 1'!$U$64","v":"%"}]
[{"$f":"'Course 5 Lab'!$A$18","v":{"v":12,"d":"00000012"}},{"$f":"'Course 5 Lab'!$B$18","v":"Student"},{"$f":"'Course 5 Lab'!$C$18","v":"Twelve"},{"$f":"'Course 5 Lab'!$D$18","v":0},{"$f":"'Course 5 Lab'!$E$18","v":0},{"$f":"'Course 5 Lab'!$F$18","v":0},{"$f":"'Course 5 Lab'!$G$18","v":0},{"$f":"'Course 5 Lab'!$H$18","v":0},{"$f":"'Course 5 Lab'!$I$18","v":0},{"$f":"'Course 5 Lab'!$J$18","v":0},{"$f":"'Course 5 Lab'!$K$18","v":0},{"$f":"'Course 5 Lab'!$L$18","v":0},{"$f":"'Course 5 Lab'!$M$18","v":0},{"$f":"'Course 5 Lab'!$N$18","v":0},{"$f":"'Course 5 Lab'!$O$18","v":0},{"$f":"'Course 5 Lab'!$P$18","v":0},{"$f":"'Course 5 Lab'!$Q$18","v":0},{"$f":"'Course 5 Lab'!$R$18","v":0},{"$f":"'Course 5 Lab'!$S$18","v":1},{"$f":"'Course 5 Lab'!$T$18","v":0},{"$f":"'Course 5 Lab'!$U$18","v":{"v":0,"d":"0%"}}]

{"sheet":"Student 13","index":26,"n_rows":65,"n_cols":23,"rows_kept":65,"merged":[[0,0,0,2],[1,0,1,2],[2,0,2,1],[2,9,2,17],[3,0,3,1],[3,9,3,10],[3,11,3,13],[3,14,3,15],[6,0,6,2],[7,0,7,1],[8,0,10,2],[10,16,10,17],[13,0,13,2],[14,1,14,2],[15,0,15,1],[15,11,15,19],[16,0,16,1],[16,11,16,12],[16,13,16,15],[16,16,16,17],[19,0,19,2],[20,0,20,1],[21,0,23,2],[23,13,23,14],[26,0,26,2],[27,1,27,2],[28,0,28,1],[28,14,28,22],[29,0,29,1],[29,14,29,15],[29,16,29,18],[29,19,29,20],[32,0,32,2],[33,0,33,1],[34,0,36,2],[35,20,35,21],[36,16,36,17],[39,0,39,2],[40,1,40,2],[41,0,41,1],[41,10,41,18],[42,0,42,1],[42,10,42,11],[42,12,42,14],[42,15,42,16],[45,0,45,2],[46,0,46,1],[47,0,49,2],[49,7,49,8],[52,0,52,2],[53,0,53,2],[54,0,54,1],[54,13,54,21],[55,0,55,1],[55,13,55,14],[55,15,55,17],[55,18,55,19],[58,0,58,2],[59,0,59,1],[60,0,62,2],[62,19,62,20]]}
[{"$f":"'Student 1'!$A$1","v":"Course 1 Engine Diagnosis. Class"},{"$nulls":6},{"$f":"'Student 1'!$H$1","v":25}]
[{"$f":"'Student 1'!$A$2","v":"Date assignment is due"},null,{"$f":"'Student 1'!$C$2","v":" "},{"$f":"'Student 1'!$D$2","v":"TBD"},{"$f":"'Student 1'!$E$2","v":"TBD"},{"$f":"'Student 1'!$F$2","v":"TBD"},{"$f":"'Student 1'!$G$2","v":"TBD"},{"$f":"'Student 1'!$H$2","v":"TBD"},{"$f":"'Student 1'!$I$2","v":"TBD"}]
[{"$f":"'Student 1'!$A$3","v":"Class Room Points:"},null,{"$f":"'Student 1'!$C$3","v":160},{"$f":"'Student 1'!$D$3","v":20},{"$f":"'Student 1'!$E$3","v":20},{"$f":"'Student 1'!$F$3","v":20},{"$f":"'Student 1'!$G$3","v":25},{"$f":"'Student 1'!$H$3","v":" "},{"$f":"'Student 1'!$I$3","v":75},{"$f":"'Student 1'!$J$3","v":"Evaluation"}]
[{"$f":"'Student 1'!$A$4","v":"Red is late turn-in"},null,{"$f":"'Student 1'!$C$4","v":"Blue is absent"},{"$f":"'Student 1'!$D$4","v":"CH 13 "},{"$f":"'Student 1'!$E$4","v":"Lube"},{"$f":"'Student 1'!$F$4","v":"Lube"},{"$f":"'Student 1'!$G$4","v":"Condition"},{"$f":"'Student 1'!$H$4","v":"Extra"},{"$f":"'Student 1'!$I$4","v":"Final"},{"$f":"'Student 1'!$J$4","v":"Classroom"},null,{"$f":"'Student 1'!$L$4","v":"Professionalism"},null,null,{"$f":"'Student 1'!$O$4","v":"Lab"},null,{"$f":"'Student 1'!$Q$4","v":"Total  "},{"$f":"'Student 1'!$R$4","v":"Letter"}]
[{"$f":"'Student 1'!$A$5","v":"I D "},{"$f":"'Student 1'!$B$5","v":"First:"},{"$f":"'Student 1'!$C$5","v":"Last:"},{"$f":"'Student 1'!$D$5","v":"Test"},{"$f":"'Student 1'!$E$5","v":"HW"},{"$f":"'Student 1'!$F$5","v":"Test"},{"$f":"'Student 1'!$G$5","v":"Class"},{"$f":"'Student 1'!$H$5","v":"Credit"},{"$f":"'Student 1'!$I$5","v":"Test"},{"$f":"'Student 1'!$J$5","v":"Points"},{"$f":"'Student 1'!$K$5","v":"%"},{"$f":"'Student 1'!$L$5","v":"Attendance"},{"$f":"'Student 1'!$M$5","v":"Points"},{"$f":"'Student 1'!$N$5","v":"%"},{"$f":"'Student 1'!$O$5","v":"Points"},{"$f":"'Student 1'!$P$5","v":"%"},{"$f":"'Student 1'!$Q$5","v":"%"},{"$f":"'Student 1'!$R$5","v":"Grade"}]
[{"$f":"'Course 1 Class'!$A$18","v":{"v":13,"d":"00000013"}},{"$f":"'Course 1 Class'!$B$18","v":"Student"},{"$f":"'Course 1 Class'!$C$18","v":"Thirteen"},{"$f":"'Course 1 Class'!$D$18","v":0},{"$f":"'Course 1 Class'!$E$18","v":0},{"$f":"'Course 1 Class'!$F$18","v":0},{"$f":"'Course 1 Class'!$G$18","v":0},{"$f":"'Course 1 Class'!$H$18","v":0},{"$f":"'Course 1 Class'!$I$18","v":0},{"$f":"'Course 1 Class'!$J$18","v":0},{"$f":"'Course 1 Class'!$K$18","v":{"v":0,"d":"0%"}},{"$f":"'Course 1 Class'!$L$18","v":{"v":1,"d":"100%"}},{"$f":"'Course 1 Class'!$M$18","v":72},{"$f":"'Course 1 Class'!$N$18","v":{"v":1,"d":"100%"}},{"$f":"'Course 1 Class'!$O$18","v":0},{"$f":"'Course 1 Class'!$P$18","v":{"v":0,"d":"0%"}},{"$f":"'Course 1 Class'!$Q$18","v":{"v":0.25,"d":"25%"}},{"$f":"'Course 1 Class'!$R$18","v":"F"}]
[{"$f":"'Student 1'!$A$7","v":"Course 1 Engine Diagnosis. Lab"}]
[{"$f":"'Student 1'!$A$8","v":"  Max Shop Points:"},null,{"$f":"'Student 1'!$C$8","v":1325},{"$f":"'Student 1'!$D$8","v":"Dry"},{"$f":"'Student 1'!$E$8","v":"Wet"},{"$f":"'Student 1'!$F$8","v":"Running"},{"$f":"'Student 1'!$G$8","v":"Cylinder"},{"$f":"'Student 1'!$H$8","v":"Oil"},{"$f":"'Student 1'!$I$8","v":"Cooling"},{"$f":"'Student 1'!$J$8","v":"Vacuum"},{"$f":"'Student 1'!$K$8","v":"PCV"},{"$f":"'Student 1'!$L$8","v":"Thermostat"},{"$f":"'Student 1'!$M$8","v":"Fluid"},{"$f":"'Student 1'!$N$8","v":"Diag"},{"$f":"'Student 1'!$O$8","v":" "}]
[{"$f":"'Student 1'!$A$9","v":"Max shop points available depend on how much customer work is done."},null,null,{"$f":"'Student 1'!$D$9","v":"Compr"},{"$f":"'Student 1'!$E$9","v":"Compr"},{"$f":"'Student 1'!$F$9","v":"Compr"},{"$f":"'Student 1'!$G$9","v":"Leakage"},{"$f":"'Student 1'!$H$9","v":"Pressure"},{"$f":"'Student 1'!$I$9","v":"System"},{"$f":"'Student 1'!$J$9","v":"Gauge"},{"$f":"'Student 1'!$K$9","v":"System"},{"$f":"'Student 1'!$L$9","v":"and fan"},{"$f":"'Student 1'!$M$9","v":"Leak"},{"$f":"'Student 1'!$N$9","v":"gauges"},{"$f":"'Student 1'!$O$9","v":"Cus"},{"$f":"'Student 1'!$P$9","v":"Comp"}]
[{"$nulls":3},{"$f":"'Student 1'!$D$10","v":"Test"},{"$f":"'Student 1'!$E$10","v":"Test"},{"$f":"'Student 1'!$F$10","v":"Test"},{"$f":"'Student 1'!$G$10","v":"Test"},{"$f":"'Student 1'!$H$10","v":"Test"},{"$f":"'Student 1'!$I$10","v":"Test"},{"$f":"'Student 1'!$J$10","v":"Test"},{"$f":"'Student 1'!$K$10","v":"Check"},{"$f":"'Student 1'!$L$10","v":"Operation"},{"$f":"'Student 1'!$M$10","v":"Check"},{"$f":"'Student 1'!$N$10","v":"any vehicle"},{"$f":"'Student 1'!$O$10","v":"tomer"},{"$f":"'Student 1'!$P$10","v":"etency"},{"$f":"'Student 1'!$Q$10","v":"  "},{"$f":"'Student 1'!$R$10","v":" "}]
[{"$nulls":3},{"$f":"'Student 1'!$D$11","v":2},{"$f":"'Student 1'!$E$11","v":2},{"$f":"'Student 1'!$F$11","v":2},{"$f":"'Student 1'!$G$11","v":2},{"$f":"'Student 1'!$H$11","v":2},{"$f":"'Student 1'!$I$11","v":2},{"$f":"'Student 1'!$J$11","v":2},{"$f":"'Student 1'!$K$11","v":2},{"$f":"'Student 1'!$L$11","v":2},{"$f":"'Student 1'!$M$11","v":1},{"$f":"'Student 1'!$N$11","v":1},{"$f":"'Student 1'!$O$11","v":"Work"},{"$f":"'Student 1'!$P$11","v":"0 or 1"},{"$f":"'Student 1'!$Q$11","v":"Lab"}]
[{"$f":"'Student 1'!$A$12","v":"ID"},{"$f":"'Student 1'!$B$12","v":"First:"},{"$f":"'Student 1'!$C$12","v":"Last:"},{"$f":"'Student 1'!$D$12","v":100},{"$f":"'Student 1'!$E$12","v":100},{"$f":"'Student 1'!$F$12","v":100},{"$f":"'Student 1'!$G$12","v":100},{"$f":"'Student 1'!$H$12","v":100},{"$f":"'Student 1'!$I$12","v":150},{"$f":"'Student 1'!$J$12","v":100},{"$f":"'Student 1'!$K$12","v":50},{"$f":"'Student 1'!$L$12","v":100},{"$f":"'Student 1'!$M$12","v":25},{"$f":"'Student 1'!$N$12","v":100},{"$f":"'Student 1'!$O$12","v":300},{"$f":"'Student 1'!$P$12","v":"*"},{"$f":"'Student 1'!$Q$12","v":"Points"},{"$f":"'Student 1'!$R$12","v":"%"}]
[{"$f":"'Course 1 Lab'!$A$19","v":{"v":13,"d":"00000013"}},{"$f":"'Course 1 Lab'!$B$19","v":"Student"},{"$f":"'Course 1 Lab'!$C$19","v":"Thirteen"},{"$f":"'Course 1 Lab'!$D$19","v":0},{"$f":"'Course 1 Lab'!$E$19","v":0},{"$f":"'Course 1 Lab'!$F$19","v":0},{"$f":"'Course 1 Lab'!$G$19","v":0},{"$f":"'Course 1 Lab'!$H$19","v":0},{"$f":"'Course 1 Lab'!$I$19","v":0},{"$f":"'Course 1 Lab'!$J$19","v":0},{"$f":"'Course 1 Lab'!$K$19","v":0},{"$f":"'Course 1 Lab'!$L$19","v":0},{"$f":"'Course 1 Lab'!$M$19","v":0},{"$f":"'Course 1 Lab'!$N$19","v":0},{"$f":"'Course 1 Lab'!$O$19","v":0},{"$f":"'Course 1 Lab'!$P$19","v":1},{"$f":"'Course 1 Lab'!$Q$19","v":0},{"$f":"'Course 1 Lab'!$R$19","v":{"v":0,"d":"0%"}}]
[{"$f":"'Student 1'!$A$14","v":"Course 2 Engine Theory & Repair. Class"},{"$nulls":8},{"$f":"'Student 1'!$J$14","v":25}]
[{"$f":"'Student 1'!$A$15","v":" "},{"$f":"'Student 1'!$B$15","v":"Date assignment is due:"},null,{"$f":"'Student 1'!$D$15","v":"TBD"},{"$f":"'Student 1'!$E$15","v":"TBD"},{"$f":"'Student 1'!$F$15","v":"TBD"},{"$f":"'Student 1'!$G$15","v":"TBD"},{"$f":"'Student 1'!$H$15","v":"TBD"},{"$f":"'Student 1'!$I$15","v":"TBD"},{"$f":"'Student 1'!$J$15","v":"TBD"},{"$f":"'Student 1'!$K$15","v":"TBD"}]
[{"$f":"'Student 1'!$A$16","v":"Class Room Points:"},null,{"$f":"'Student 1'!$C$16","v":201},{"$f":"'Student 1'!$D$16","v":10},{"$f":"'Student 1'!$E$16","v":10},{"$f":"'Student 1'!$F$16","v":20},{"$f":"'Student 1'!$G$16","v":20},{"$f":"'Student 1'!$H$16","v":16},{"$f":"'Student 1'!$I$16","v":25},{"$f":"'Student 1'!$J$16","v":" "},{"$f":"'Student 1'!$K$16","v":100},{"$f":"'Student 1'!$L$16","v":"Evaluation"}]
[{"$f":"'Student 1'!$A$17","v":"Red is late turn-in"},null,{"$f":"'Student 1'!$C$17","v":"Blue is absent"},{"$f":"'Student 1'!$D$17","v":"HW"},{"$f":"'Student 1'!$E$17","v":"HW "},{"$f":"'Student 1'!$F$17","v":"Test"},{"$f":"'Student 1'!$G$17","v":"Test"},{"$f":"'Student 1'!$H$17","v":"HW"},{"$f":"'Student 1'!$I$17","v":"Test"},{"$f":"'Student 1'!$J$17","v":"Extra"},{"$f":"'Student 1'!$K$17","v":"Final "},{"$f":"'Student 1'!$L$17","v":"Class"},null,{"$f":"'Student 1'!$N$17","v":"Professionalism"},null,null,{"$f":"'Student 1'!$Q$17","v":"Lab"},null,{"$f":"'Student 1'!$S$17","v":"Total  "},{"$f":"'Student 1'!$T$17","v":"Letter"}]
[{"$f":"'Student 1'!$A$18","v":"I D "},{"$f":"'Student 1'!$B$18","v":"First:"},{"$f":"'Student 1'!$C$18","v":"Last:"},{"$f":"'Student 1'!$D$18","v":"CH 7"},{"$f":"'Student 1'!$E$18","v":"CH 14"},{"$f":"'Student 1'!$F$18","v":"C & L"},{"$f":"'Student 1'!$G$18","v":"CH 18"},{"$f":"'Student 1'!$H$18","v":"CH 22"},{"$f":"'Student 1'!$I$18","v":"CH 22"},{"$f":"'Student 1'!$J$18","v":"Credit"},{"$f":"'Student 1'!$K$18","v":"TEST"},{"$f":"'Student 1'!$L$18","v":"Points"},{"$f":"'Student 1'!$M$18","v":"%"},{"$f":"'Student 1'!$N$18","v":"Attendance"},{"$f":"'Student 1'!$O$18","v":"Points"},{"$f":"'Student 1'!$P$18","v":"%"},{"$f":"'Student 1'!$Q$18","v":"Points"},{"$f":"'Student 1'!$R$18","v":"%"},{"$f":"'Student 1'!$S$18","v":"%"},{"$f":"'Student 1'!$T$18","v":"Grade"}]
[{"$f":"'Course 2 Class'!$A$18","v":{"v":13,"d":"00000013"}},{"$f":"'Course 2 Class'!$B$18","v":"Student"},{"$f":"'Course 2 Class'!$C$18","v":"Thirteen"},{"$f":"'Course 2 Class'!$D$18","v":0},{"$f":"'Course 2 Class'!$E$18","v":0},{"$f":"'Course 2 Class'!$F$18","v":0},{"$f":"'Course 2 Class'!$G$18","v":0},{"$f":"'Course 2 Class'!$H$18","v":0},{"$f":"'Course 2 Class'!$I$18","v":0},{"$f":"'Course 2 Class'!$J$18","v":0},{"$f":"'Course 2 Class'!$K$18","v":0},{"$f":"'Course 2 Class'!$L$18","v":0},{"$f":"'Course 2 Class'!$M$18","v":{"v":0,"d":"0%"}},{"$f":"'Course 2 Class'!$N$18","v":{"v":1,"d":"100%"}},{"$f":"'Course 2 Class'!$O$18","v":72},{"$f":"'Course 2 Class'!$P$18","v":{"v":1,"d":"100%"}},{"$f":"'Course 2 Class'!$Q$18","v":0},{"$f":"'Course 2 Class'!$R$18","v":{"v":0,"d":"0%"}},{"$f":"'Course 2 Class'!$S$18","v":{"v":0.25,"d":"25%"}},{"$f":"'Course 2 Class'!$T$18","v":"F"}]
[{"$f":"'Student 1'!$A$20","v":"Course 2 Engine Theory & Repair. Lab"}]
[{"$f":"'Student 1'!$A$21","v":"  Max Shop Points:"},null,{"$f":"'Student 1'!$C$21","v":1450},{"$f":"'Student 1'!$D$21","v":"Engine"},{"$f":"'Student 1'!$E$21","v":"Cylinder"},{"$f":"'Student 1'!$F$21","v":"Red"},{"$f":"'Student 1'!$G$21","v":"Mitsubishi"},{"$f":"'Student 1'!$H$21","v":"Any"},{"$f":"'Student 1'!$I$21","v":"DOHC"},{"$f":"'Student 1'!$J$21","v":"Valve seal"},{"$f":"'Student 1'!$K$21","v":"Misc."},{"$f":"'Student 1'!$L$21","v":" "}]
[{"$f":"'Student 1'!$A$22","v":"Max shop points available depend on how much customer work is done."},null,null,{"$f":"'Student 1'!$D$22","v":"Disassemble"},{"$f":"'Student 1'!$E$22","v":"Head"},{"$f":"'Student 1'!$F$22","v":"Dodge"},{"$f":"'Student 1'!$G$22","v":"\"3.0L\""},{"$f":"'Student 1'!$H$22","v":"Engine"},{"$f":"'Student 1'!$I$22","v":"Engine"},{"$f":"'Student 1'!$J$22","v":"&"},{"$f":"'Student 1'!$K$22","v":"Engine "},{"$f":"'Student 1'!$L$22","v":"Cus"},{"$f":"'Student 1'!$M$22","v":"Comp"}]
[{"$nulls":3},{"$f":"'Student 1'!$D$23","v":"& Measure"},{"$f":"'Student 1'!$E$23","v":"Repair"},{"$f":"'Student 1'!$F$23","v":"Clip"},{"$f":"'Student 1'!$G$23","v":"Clip"},{"$f":"'Student 1'!$H$23","v":"T-chain"},{"$f":"'Student 1'!$I$23","v":" Stand"},{"$f":"'Student 1'!$J$23","v":"Lobe lift"},{"$f":"'Student 1'!$K$23","v":"Points"},{"$f":"'Student 1'!$L$23","v":"tomer"},{"$f":"'Student 1'!$M$23","v":"etency"},{"$f":"'Student 1'!$N$23","v":" "},{"$f":"'Student 1'!$O$23","v":" "}]
[{"$nulls":3},{"$f":"'Student 1'!$D$24","v":1},{"$f":"'Student 1'!$E$24","v":1},{"$f":"'Student 1'!$F$24","v":1},{"$f":"'Student 1'!$G$24","v":1},{"$f":"'Student 1'!$H$24","v":1},{"$f":"'Student 1'!$I$24","v":1},{"$f":"'Student 1'!$J$24","v":1},null,{"$f":"'Student 1'!$L$24","v":"Work"},{"$f":"'Student 1'!$M$24","v":"0 or 1"},{"$f":"'Student 1'!$N$24","v":"Lab"}]
[{"$f":"'Student 1'!$A$25","v":"ID"},{"$f":"'Student 1'!$B$25","v":"First:"},{"$f":"'Student 1'!$C$25","v":"Last:"},{"$f":"'Student 1'!$D$25","v":300},{"$f":"'Student 1'!$E$25","v":200},{"$f":"'Student 1'!$F$25","v":100},{"$f":"'Student 1'!$G$25","v":100},{"$f":"'Student 1'!$H$25","v":100},{"$f":"'Student 1'!$I$25","v":100},{"$f":"'Student 1'!$J$25","v":50},{"$f":"'Student 1'!$K$25","v":200},{"$f":"'Student 1'!$L$25","v":300},{"$f":"'Student 1'!$M$25","v":"*"},{"$f":"'Student 1'!$N$25","v":"Points"},{"$f":"'Student 1'!$O$25","v":"%"}]
[{"$f":"'Course 2 Lab'!$A$19","v":{"v":13,"d":"00000013"}},{"$f":"'Course 2 Lab'!$B$19","v":"Student"},{"$f":"'Course 2 Lab'!$C$19","v":"Thirteen"},{"$f":"'Course 2 Lab'!$D$19","v":0},{"$f":"'Course 2 Lab'!$E$19","v":0},{"$f":"'Course 2 Lab'!$F$19","v":0},{"$f":"'Course 2 Lab'!$G$19","v":0},{"$f":"'Course 2 Lab'!$H$19","v":0},{"$f":"'Course 2 Lab'!$I$19","v":0},{"$f":"'Course 2 Lab'!$J$19","v":0},{"$f":"'Course 2 Lab'!$K$19","v":0},{"$f":"'Course 2 Lab'!$L$19","v":0},{"$f":"'Course 2 Lab'!$M$19","v":1},{"$f":"'Course 2 Lab'!$N$19","v":0},{"$f":"'Course 2 Lab'!$O$19","v":{"v":0,"d":"0%"}}]
[{"$f":"'Student 1'!$A$27","v":"Course 3 Steering & Suspension. Class."},{"$nulls":11},{"$f":"'Student 1'!$M$27","v":25}]
[{"$f":"'Student 1'!$A$28","v":" "},{"$f":"'Student 1'!$B$28","v":"Date assignment is due:"},null,{"$f":"'Student 1'!$D$28","v":"1/18"},{"$f":"'Student 1'!$E$28","v":"2/2"},{"$f":"'Student 1'!$F$28","v":"TBD"},{"$f":"'Student 1'!$G$28","v":"TBD"},{"$f":"'Student 1'!$H$28","v":"TBD"},{"$f":"'Student 1'!$I$28","v":"TBD"},{"$f":"'Student 1'!$J$28","v":"TBD"},{"$f":"'Student 1'!$K$28","v":"TBD"},{"$f":"'Student 1'!$L$28","v":"TBD"},{"$f":"'Student 1'!$M$28","v":"TBD"},{"$f":"'Student 1'!$N$28","v":"TBD"}]
[{"$f":"'Student 1'!$A$29","v":"Class Room Points:"},null,{"$f":"'Student 1'!$C$29","v":330},{"$f":"'Student 1'!$D$29","v":20},{"$f":"'Student 1'!$E$29","v":20},{"$f":"'Student 1'!$F$29","v":24},{"$f":"'Student 1'!$G$29","v":20},{"$f":"'Student 1'!$H$29","v":25},{"$f":"'Student 1'!$I$29","v":30},{"$f":"'Student 1'!$J$29","v":20},{"$f":"'Student 1'!$K$29","v":26},{"$f":"'Student 1'!$L$29","v":45},{"$f":"'Student 1'!$M$29","v":" "},{"$f":"'Student 1'!$N$29","v":100},{"$f":"'Student 1'!$O$29","v":"Evaluation"}]
[{"$f":"'Student 1'!$A$30","v":"Red is late turn-in"},null,{"$f":"'Student 1'!$C$30","v":"Blue is absent"},{"$f":"'Student 1'!$D$30","v":"HW"},{"$f":"'Student 1'!$E$30","v":"HW"},{"$f":"'Student 1'!$F$30","v":"HW"},{"$f":"'Student 1'!$G$30","v":"QZ"},{"$f":"'Student 1'!$H$30","v":"HW"},{"$f":"'Student 1'!$I$30","v":"HW"},{"$f":"'Student 1'!$J$30","v":"Test"},{"$f":"'Student 1'!$K$30","v":"HW"},{"$f":"'Student 1'!$L$30","v":"Class"},{"$f":"'Student 1'!$M$30","v":"Extra"},{"$f":"'Student 1'!$N$30","v":"Final"},{"$f":"'Student 1'!$O$30","v":"Class"},null,{"$f":"'Student 1'!$Q$30","v":"Professionalism"},null,null,{"$f":"'Student 1'!$T$30","v":"Lab"},null,{"$f":"'Student 1'!$V$30","v":"Total  "},{"$f":"'Student 1'!$W$30","v":"Letter"}]
[{"$f":"'Student 1'!$A$31","v":"I D "},{"$f":"'Student 1'!$B$31","v":"First:"},{"$f":"'Student 1'!$C$31","v":"Last:"},{"$f":"'Student 1'!$D$31","v":"CH 1"},{"$f":"'Student 1'!$E$31","v":"CH 2"},{"$f":"'Student 1'!$F$31","v":"CH 3"},{"$f":"'Student 1'!$G$31","v":"1"},{"$f":"'Student 1'!$H$31","v":"CH 6"},{"$f":"'Student 1'!$I$31","v":"CH 9"},{"$f":"'Student 1'!$J$31","v":"1 – 9"},{"$f":"'Student 1'!$K$31","v":"CH 12"},{"$f":"'Student 1'!$L$31","v":"Project"},{"$f":"'Student 1'!$M$31","v":"Credit"},{"$f":"'Student 1'!$N$31","v":"TEST"},{"$f":"'Student 1'!$O$31","v":"Points"},{"$f":"'Student 1'!$P$31","v":"%"},{"$f":"'Student 1'!$Q$31","v":"Attendance"},{"$f":"'Student 1'!$R$31","v":"Points"},{"$f":"'Student 1'!$S$31","v":"%"},{"$f":"'Student 1'!$T$31","v":"Points"},{"$f":"'Student 1'!$U$31","v":"%"},{"$f":"'Student 1'!$V$31","v":"%"},{"$f":"'Student 1'!$W$31","v":"Grade"}]
[{"$f":"'Course 3 Class'!$A$18","v":{"v":13,"d":"00000013"}},{"$f":"'Course 3 Class'!$B$18","v":"Student"},{"$f":"'Course 3 Class'!$C$18","v":"Thirteen"},{"$f":"'Course 3 Class'!$D$18","v":0},{"$f":"'Course 3 Class'!$E$18","v":0},{"$f":"'Course 3 Class'!$F$18","v":0},{"$f":"'Course 3 Class'!$G$18","v":0},{"$f":"'Course 3 Class'!$H$18","v":0},{"$f":"'Course 3 Class'!$I$18","v":0},{"$f":"'Course 3 Class'!$J$18","v":0},{"$f":"'Course 3 Class'!$K$18","v":0},{"$f":"'Course 3 Class'!$L$18","v":0},{"$f":"'Course 3 Class'!$M$18","v":0},{"$f":"'Course 3 Class'!$N$18","v":0},{"$f":"'Course 3 Class'!$O$18","v":0},{"$f":"'Course 3 Class'!$P$18","v":{"v":0,"d":"0%"}},{"$f":"'Course 3 Class'!$Q$18","v":{"v":1,"d":"100%"}},{"$f":"'Course 3 Class'!$R$18","v":72},{"$f":"'Course 3 Class'!$S$18","v":{"v":1,"d":"100%"}},{"$f":"'Course 3 Class'!$T$18","v":0},{"$f":"'Course 3 Class'!$U$18","v":{"v":0,"d":"0%"}},{"$f":"'Course 3 Class'!$V$18","v":{"v":0.25,"d":"25%"}},{"$f":"'Course 3 Class'!$W$18","v":"F"}]
[{"$f":"'Student 1'!$A$33","v":"Course 3 Steering & Suspension. Lab"}]
[{"$f":"'Student 1'!$A$34","v":"Max shop points"},null,{"$f":"'Student 1'!$C$34","v":1350},{"$f":"'Student 1'!$D$34","v":"Repair"},{"$f":"'Student 1'!$E$34","v":"Identify"},{"$f":"'Student 1'!$F$34","v":"Repair"},{"$f":"'Student 1'!$G$34","v":"Identify"},{"$f":"'Student 1'!$H$34","v":"Repair"},{"$f":"'Student 1'!$I$34","v":"R&R"},{"$f":"'Student 1'!$J$34","v":"R&R"},{"$f":"'Student 1'!$K$34","v":"R&R"},{"$f":"'Student 1'!$L$34","v":"P/S"},{"$f":"'Student 1'!$M$34","v":"R&R"},{"$f":"'Student 1'!$N$34","v":"NVH"},{"$f":"'Student 1'!$O$34","v":" "}]
[{"$f":"'Student 1'!$A$35","v":"Max shop points available depend on how much customer work is done."},null,null,{"$f":"'Student 1'!$D$35","v":"SLA"},{"$f":"'Student 1'!$E$35","v":"SLA"},{"$f":"'Student 1'!$F$35","v":"Mac-P"},{"$f":"'Student 1'!$G$35","v":"Mac-P"},{"$f":"'Student 1'!$H$35","v":"Rear"},{"$f":"'Student 1'!$I$35","v":"Rack &"},{"$f":"'Student 1'!$J$35","v":"Recirc."},{"$f":"'Student 1'!$K$35","v":"P/S"},{"$f":"'Student 1'!$L$35","v":"Pump"},{"$f":"'Student 1'!$M$35","v":"Inner"},{"$f":"'Student 1'!$N$35","v":"Runout &"},{"$f":"'Student 1'!$O$35","v":"Cus"},{"$f":"'Student 1'!$P$35","v":"Comp"}]
[{"$nulls":3},{"$f":"'Student 1'!$D$36","v":"Susp"},{"$f":"'Student 1'!$E$36","v":"Parts"},{"$f":"'Student 1'!$F$36","v":"Susp"},{"$f":"'Student 1'!$G$36","v":"Parts"},{"$f":"'Student 1'!$H$36","v":"Susp"},{"$f":"'Student 1'!$I$36","v":"Pinion"},{"$f":"'Student 1'!$J$36","v":"Gear"},{"$f":"'Student 1'!$K$36","v":"Pump"},{"$f":"'Student 1'!$L$36","v":"Test"},{"$f":"'Student 1'!$M$36","v":"Tie-Rod"},{"$f":"'Student 1'!$N$36","v":"bal. Check"},{"$f":"'Student 1'!$O$36","v":"tomer"},{"$f":"'Student 1'!$P$36","v":"etency"},{"$f":"'Student 1'!$Q$36","v":" "},{"$f":"'Student 1'!$R$36","v":" "},null,null,{"$f":"'Student 1'!$U$36","v":"Final Grade"}]
[{"$nulls":3},{"$f":"'Student 1'!$D$37","v":1},{"$f":"'Student 1'!$E$37","v":2},{"$f":"'Student 1'!$F$37","v":3},{"$f":"'Student 1'!$G$37","v":2},{"$f":"'Student 1'!$H$37","v":1},{"$f":"'Student 1'!$I$37","v":1},{"$f":"'Student 1'!$J$37","v":1},{"$f":"'Student 1'!$K$37","v":1},{"$f":"'Student 1'!$L$37","v":1},{"$f":"'Student 1'!$M$37","v":1},{"$f":"'Student 1'!$N$37","v":1},{"$f":"'Student 1'!$O$37","v":"Work"},{"$f":"'Student 1'!$P$37","v":"0 or 1"},{"$f":"'Student 1'!$Q$37","v":"Lab"},{"$nulls":3},{"$f":"'Student 1'!$U$37","v":{"v":0,"d":"0%"}},{"$f":"'Student 1'!$V$37","v":"F"}]
[{"$f":"'Student 1'!$A$38","v":"ID"},{"$f":"'Student 1'!$B$38","v":"First:"},{"$f":"'Student 1'!$C$38","v":"Last:"},{"$f":"'Student 1'!$D$38","v":150},{"$f":"'Student 1'!$E$38","v":50},{"$f":"'Student 1'!$F$38","v":225},{"$f":"'Student 1'!$G$38","v":50},{"$f":"'Student 1'!$H$38","v":50},{"$f":"'Student 1'!$I$38","v":150},{"$f":"'Student 1'!$J$38","v":125},{"$f":"'Student 1'!$K$38","v":50},{"$f":"'Student 1'!$L$38","v":50},{"$f":"'Student 1'!$M$38","v":50},{"$f":"'Student 1'!$N$38","v":100},{"$f":"'Student 1'!$O$38","v":300},{"$f":"'Student 1'!$P$38","v":"*"},{"$f":"'Student 1'!$Q$38","v":"Points"},{"$f":"'Student 1'!$R$38","v":"%"},null,null,{"$f":"'Student 1'!$U$38","v":{"v":0.695,"d":"70%"}},{"$f":"'Student 1'!$V$38","v":"D-"}]
[{"$f":"'Course 3 Lab'!$A$19","v":{"v":13,"d":"00000013"}},{"$f":"'Course 3 Lab'!$B$19","v":"Student"},{"$f":"'Course 3 Lab'!$C$19","v":"Thirteen"},{"$f":"'Course 3 Lab'!$D$19","v":0},{"$f":"'Course 3 Lab'!$E$19","v":0},{"$f":"'Course 3 Lab'!$F$19","v":0},{"$f":"'Course 3 Lab'!$G$19","v":0},{"$f":"'Course 3 Lab'!$H$19","v":0},{"$f":"'Course 3 Lab'!$I$19","v":0},{"$f":"'Course 3 Lab'!$J$19","v":0},{"$f":"'Course 3 Lab'!$K$19","v":0},{"$f":"'Course 3 Lab'!$L$19","v":0},{"$f":"'Course 3 Lab'!$M$19","v":0},{"$f":"'Course 3 Lab'!$N$19","v":0},{"$f":"'Course 3 Lab'!$O$19","v":0},{"$f":"'Course 3 Lab'!$P$19","v":1},{"$f":"'Course 3 Lab'!$Q$19","v":0},{"$f":"'Course 3 Lab'!$R$19","v":{"v":0,"d":"0%"}},null,null,{"$f":"'Student 1'!$U$39","v":{"v":0.715,"d":"72%"}},{"$f":"'Student 1'!$V$39","v":"D"}]
[{"$f":"'Student 1'!$A$40","v":"Course 4 Alignment. Class."},{"$nulls":7},{"$f":"'Student 1'!$I$40","v":25},{"$nulls":11},{"$f":"'Student 1'!$U$40","v":{"v":0.735,"d":"74%"}},{"$f":"'Student 1'!$V$40","v":"D+"}]
[{"$f":"'Student 1'!$A$41","v":" "},{"$f":"'Student 1'!$B$41","v":"Date assignment is due  "},null,{"$f":"'Student 1'!$D$41","v":"TBD"},{"$f":"'Student 1'!$E$41","v":"TBD"},{"$f":"'Student 1'!$F$41","v":"TBD"},{"$f":"'Student 1'!$G$41","v":"TBD"},{"$f":"'Student 1'!$H$41","v":"TBD"},{"$f":"'Student 1'!$I$41","v":"TBD"},{"$f":"'Student 1'!$J$41","v":"TBD"},{"$nulls":10},{"$f":"'Student 1'!$U$41","v":{"v":0.755,"d":"76%"}},{"$f":"'Student 1'!$V$41","v":"C-"}]
[{"$f":"'Student 1'!$A$42","v":"Class Room Points:"},null,{"$f":"'Student 1'!$C$42","v":235},{"$f":"'Student 1'!$D$42","v":25},{"$f":"'Student 1'!$E$42","v":25},{"$f":"'Student 1'!$F$42","v":20},{"$f":"'Student 1'!$G$42","v":40},{"$f":"'Student 1'!$H$42","v":50},{"$f":"'Student 1'!$I$42","v":" "},{"$f":"'Student 1'!$J$42","v":75},{"$f":"'Student 1'!$K$42","v":"Evaluation"},{"$nulls":9},{"$f":"'Student 1'!$U$42","v":{"v":0.785,"d":"79%"}},{"$f":"'Student 1'!$V$42","v":"C"}]
[{"$f":"'Student 1'!$A$43","v":"Red is late turn-in"},null,{"$f":"'Student 1'!$C$43","v":"Blue is absent"},{"$f":"'Student 1'!$D$43","v":"CH 16"},{"$f":"'Student 1'!$E$43","v":"CH 16"},{"$f":"'Student 1'!$F$43","v":"Align"},{"$f":"'Student 1'!$G$43","v":"In class"},{"$f":"'Student 1'!$H$43","v":"In class"},{"$f":"'Student 1'!$I$43","v":"Extra"},{"$f":"'Student 1'!$J$43","v":"Final"},{"$f":"'Student 1'!$K$43","v":"Class"},null,{"$f":"'Student 1'!$M$43","v":"Professionalism"},null,null,{"$f":"'Student 1'!$P$43","v":"Lab"},null,{"$f":"'Student 1'!$R$43","v":"Total  "},{"$f":"'Student 1'!$S$43","v":"Letter"},null,{"$f":"'Student 1'!$U$43","v":{"v":0.815,"d":"82%"}},{"$f":"'Student 1'!$V$43","v":"C+"}]
[{"$f":"'Student 1'!$A$44","v":"I D "},{"$f":"'Student 1'!$B$44","v":"First:"},{"$f":"'Student 1'!$C$44","v":"Last:"},{"$f":"'Student 1'!$D$44","v":"HW"},{"$f":"'Student 1'!$E$44","v":"Test"},{"$f":"'Student 1'!$F$44","v":"HW"},{"$f":"'Student 1'!$G$44","v":"Project1"},{"$f":"'Student 1'!$H$44","v":"Project2"},{"$f":"'Student 1'!$I$44","v":"Credit"},{"$f":"'Student 1'!$J$44","v":"Test"},{"$f":"'Student 1'!$K$44","v":"Points"},{"$f":"'Student 1'!$L$44","v":"%"},{"$f":"'Student 1'!$M$44","v":"Attendance"},{"$f":"'Student 1'!$N$44","v":"Points"},{"$f":"'Student 1'!$O$44","v":"%"},{"$f":"'Student 1'!$P$44","v":"Points"},{"$f":"'Student 1'!$Q$44","v":"%"},{"$f":"'Student 1'!$R$44","v":"%"},{"$f":"'Student 1'!$S$44","v":"Grade"},null,{"$f":"'Student 1'!$U$44","v":{"v":0.845,"d":"85%"}},{"$f":"'Student 1'!$V$44","v":"B-"}]
[{"$f":"'Course 4 Class'!$A$18","v":{"v":13,"d":"00000013"}},{"$f":"'Course 4 Class'!$B$18","v":"Student"},{"$f":"'Course 4 Class'!$C$18","v":"Thirteen"},{"$f":"'Course 4 Class'!$D$18","v":0},{"$f":"'Course 4 Class'!$E$18","v":0},{"$f":"'Course 4 Class'!$F$18","v":0},{"$f":"'Course 4 Class'!$G$18","v":0},{"$f":"'Course 4 Class'!$H$18","v":0},{"$f":"'Course 4 Class'!$I$18","v":0},{"$f":"'Course 4 Class'!$J$18","v":0},{"$f":"'Course 4 Class'!$K$18","v":0},{"$f":"'Course 4 Class'!$L$18","v":{"v":0,"d":"0%"}},{"$f":"'Course 4 Class'!$M$18","v":{"v":1,"d":"100%"}},{"$f":"'Course 4 Class'!$N$18","v":72},{"$f":"'Course 4 Class'!$O$18","v":{"v":1,"d":"100%"}},{"$f":"'Course 4 Class'!$P$18","v":0},{"$f":"'Course 4 Class'!$Q$18","v":{"v":0,"d":"0%"}},{"$f":"'Course 4 Class'!$R$18","v":{"v":0.25,"d":"25%"}},{"$f":"'Course 4 Class'!$S$18","v":"F"},null,{"$f":"'Student 1'!$U$45","v":{"v":0.875,"d":"88%"}},{"$f":"'Student 1'!$V$45","v":"B"}]
[{"$f":"'Student 1'!$A$46","v":"Course 4 Alignment. Lab"},{"$nulls":19},{"$f":"'Student 1'!$U$46","v":{"v":0.895,"d":"90%"}},{"$f":"'Student 1'!$V$46","v":"B+"}]
[{"$f":"'Student 1'!$A$47","v":"Max Shop Points:"},null,{"$f":"'Student 1'!$C$47","v":1300},{"$f":"'Student 1'!$D$47","v":"Alignment"},{"$f":"'Student 1'!$E$47","v":"Complete"},{"$f":"'Student 1'!$F$47","v":"Cus"},{"$f":"'Student 1'!$G$47","v":" "},{"$nulls":13},{"$f":"'Student 1'!$U$47","v":{"v":0.925,"d":"93%"}},{"$f":"'Student 1'!$V$47","v":"A-"}]
[{"$f":"'Student 1'!$A$48","v":"Max shop points available depend on how much customer work is done."},null,null,{"$f":"'Student 1'!$D$48","v":"Pre-check"},{"$f":"'Student 1'!$E$48","v":"Wheel"},{"$f":"'Student 1'!$F$48","v":"tomer"},{"$f":"'Student 1'!$G$48","v":"Comp"},{"$nulls":13},{"$f":"'Student 1'!$U$48","v":{"v":0.945,"d":"95%"}},{"$f":"'Student 1'!$V$48","v":"A"}]
[{"$nulls":3},{"$f":"'Student 1'!$D$49","v":"100 P"},{"$f":"'Student 1'!$E$49","v":"Alignment"},{"$f":"'Student 1'!$F$49","v":"Work"},{"$f":"'Student 1'!$G$49","v":"etency"},{"$f":"'Student 1'!$H$49","v":" "},{"$f":"'Student 1'!$I$49","v":" "},{"$nulls":11},{"$f":"'Student 1'!$U$49","v":{"v":1,"d":"100%"}},{"$f":"'Student 1'!$V$49","v":"A"}]
[{"$nulls":3},{"$f":"'Student 1'!$D$50","v":1},{"$f":"'Student 1'!$E$50","v":1},{"$f":"'Student 1'!$F$50","v":" "},{"$f":"'Student 1'!$G$50","v":"0 or 1"},{"$f":"'Student 1'!$H$50","v":"Lab"}]
[{"$f":"'Student 1'!$A$51","v":"ID"},{"$f":"'Student 1'!$B$51","v":"First:"},{"$f":"'Student 1'!$C$51","v":"Last:"},{"$f":"'Student 1'!$D$51","v":100},{"$f":"'Student 1'!$E$51","v":900},{"$f":"'Student 1'!$F$51","v":300},{"$f":"'Student 1'!$G$51","v":"*"},{"$f":"'Student 1'!$H$51","v":"Points"},{"$f":"'Student 1'!$I$51","v":"%"}]
[{"$f":"'Course 4 Lab'!$A$19","v":{"v":13,"d":"00000013"}},{"$f":"'Course 4 Lab'!$B$19","v":"Student"},{"$f":"'Course 4 Lab'!$C$19","v":"Thirteen"},{"$f":"'Course 4 Lab'!$D$19","v":0},{"$f":"'Course 4 Lab'!$E$19","v":0},{"$f":"'Course 4 Lab'!$F$19","v":0},{"$f":"'Course 4 Lab'!$G$19","v":1},{"$f":"'Course 4 Lab'!$H$19","v":0},{"$f":"'Course 4 Lab'!$I$19","v":{"v":0,"d":"0%"}}]
[{"$f":"'Student 1'!$A$53","v":"Course 5 Brake Systems. Class."},{"$nulls":10},{"$f":"'Student 1'!$L$53","v":35}]
[{"$f":"'Student 1'!$A$54","v":"Date assignment is due:"},null,{"$f":"'Student 1'!$C$54","v":" "},{"$f":"'Student 1'!$D$54","v":"TBD"},{"$f":"'Student 1'!$E$54","v":"TBD"},{"$f":"'Student 1'!$F$54","v":"TBD"},{"$f":"'Student 1'!$G$54","v":"TBD"},{"$f":"'Student 1'!$H$54","v":"TBD"},{"$f":"'Student 1'!$I$54","v":"TBD"},{"$f":"'Student 1'!$J$54","v":"TBD"},{"$f":"'Student 1'!$K$54","v":"TBD"},{"$f":"'Student 1'!$L$54","v":"TBD"},{"$f":"'Student 1'!$M$54","v":"TBD"}]
[{"$f":"'Student 1'!$A$55","v":"Class Room Points:"},null,{"$f":"'Student 1'!$C$55","v":440},{"$f":"'Student 1'!$D$55","v":30},{"$f":"'Student 1'!$E$55","v":25},{"$f":"'Student 1'!$F$55","v":100},{"$f":"'Student 1'!$G$55","v":30},{"$f":"'Student 1'!$H$55","v":50},{"$f":"'Student 1'!$I$55","v":30},{"$f":"'Student 1'!$J$55","v":25},{"$f":"'Student 1'!$K$55","v":50},{"$f":"'Student 1'!$L$55","v":" "},{"$f":"'Student 1'!$M$55","v":100},{"$f":"'Student 1'!$N$55","v":"Evaluation"}]
[{"$f":"'Student 1'!$A$56","v":"Red is late turn-in"},null,{"$f":"'Student 1'!$C$56","v":"Blue is absent"},{"$f":"'Student 1'!$D$56","v":"HW"},{"$f":"'Student 1'!$E$56","v":"HW"},{"$f":"'Student 1'!$F$56","v":"Test"},{"$f":"'Student 1'!$G$56","v":"HW"},{"$f":"'Student 1'!$H$56","v":"Test"},{"$f":"'Student 1'!$I$56","v":"HW"},{"$f":"'Student 1'!$J$56","v":"Test"},{"$f":"'Student 1'!$K$56","v":"Class"},{"$f":"'Student 1'!$L$56","v":"Extra"},{"$f":"'Student 1'!$M$56","v":"Final"},{"$f":"'Student 1'!$N$56","v":"Class"},null,{"$f":"'Student 1'!$P$56","v":"Professionalism"},null,null,{"$f":"'Student 1'!$S$56","v":"Lab"},null,{"$f":"'Student 1'!$U$56","v":"Total  "},{"$f":"'Student 1'!$V$56","v":"Letter"}]
[{"$f":"'Student 1'!$A$57","v":"I D "},{"$f":"'Student 1'!$B$57","v":"First:"},{"$f":"'Student 1'!$C$57","v":"Last:"},{"$f":"'Student 1'!$D$57","v":"CH 4"},{"$f":"'Student 1'!$E$57","v":"CH 5"},{"$f":"'Student 1'!$F$57","v":"#1"},{"$f":"'Student 1'!$G$57","v":"CH 7"},{"$f":"'Student 1'!$H$57","v":"Conv"},{"$f":"'Student 1'!$I$57","v":"CH 20"},{"$f":"'Student 1'!$J$57","v":"21/22"},{"$f":"'Student 1'!$K$57","v":"Project"},{"$f":"'Student 1'!$L$57","v":"Credit"},{"$f":"'Student 1'!$M$57","v":"Test"},{"$f":"'Student 1'!$N$57","v":"Points"},{"$f":"'Student 1'!$O$57","v":"%"},{"$f":"'Student 1'!$P$57","v":"Attendance"},{"$f":"'Student 1'!$Q$57","v":"Points"},{"$f":"'Student 1'!$R$57","v":"%"},{"$f":"'Student 1'!$S$57","v":"Points"},{"$f":"'Student 1'!$T$57","v":"%"},{"$f":"'Student 1'!$U$57","v":"%"},{"$f":"'Student 1'!$V$57","v":"Grade"}]
[{"$f":"'Course 5 Class'!$A$18","v":{"v":13,"d":"00000013"}},{"$f":"'Course 5 Class'!$B$18","v":"Student"},{"$f":"'Course 5 Class'!$C$18","v":"Thirteen"},{"$f":"'Course 5 Class'!$D$18","v":0},{"$f":"'Course 5 Class'!$E$18","v":0},{"$f":"'Course 5 Class'!$F$18","v":0},{"$f":"'Course 5 Class'!$G$18","v":0},{"$f":"'Course 5 Class'!$H$18","v":0},{"$f":"'Course 5 Class'!$I$18","v":0},{"$f":"'Course 5 Class'!$J$18","v":0},{"$f":"'Course 5 Class'!$K$18","v":0},{"$f":"'Course 5 Class'!$L$18","v":0},{"$f":"'Course 5 Class'!$M$18","v":0},{"$f":"'Course 5 Class'!$N$18","v":0},{"$f":"'Course 5 Class'!$O$18","v":{"v":0,"d":"0%"}},{"$f":"'Course 5 Class'!$P$18","v":{"v":1,"d":"100%"}},{"$f":"'Course 5 Class'!$Q$18","v":72},{"$f":"'Course 5 Class'!$R$18","v":{"v":1,"d":"100%"}},{"$f":"'Course 5 Class'!$S$18","v":0},{"$f":"'Course 5 Class'!$T$18","v":{"v":0,"d":"0%"}},{"$f":"'Course 5 Class'!$U$18","v":{"v":0.25,"d":"25%"}},{"$f":"'Course 5 Class'!$V$18","v":"F"}]
[{"$f":"'Student 1'!$A$59","v":"Course 5 Brake Systems. Lab"}]
[{"$f":"'Student 1'!$A$60","v":"  Max Shop Points:"},null,{"$f":"'Student 1'!$C$60","v":970},{"$f":"'Student 1'!$D$60","v":"Drum"},{"$f":"'Student 1'!$E$60","v":"Drum "},{"$f":"'Student 1'!$F$60","v":"Disc"},{"$f":"'Student 1'!$G$60","v":"On Car"},{"$f":"'Student 1'!$H$60","v":"Off Car"},{"$f":"'Student 1'!$I$60","v":"Wheel"},{"$f":"'Student 1'!$J$60","v":"Hydr."},{"$f":"'Student 1'!$K$60","v":"Vacuum"},{"$f":"'Student 1'!$L$60","v":"Warning"},{"$f":"'Student 1'!$M$60","v":"Brake"},{"$f":"'Student 1'!$N$60","v":"Brake"},{"$f":"'Student 1'!$O$60","v":"Dodge"},{"$f":"'Student 1'!$P$60","v":"Ford"},{"$f":"'Student 1'!$Q$60","v":"GM"},{"$f":"'Student 1'!$R$60","v":"Cus"},{"$f":"'Student 1'!$S$60","v":"Brake"}]
[{"$f":"'Student 1'!$A$61","v":"Max shop points available depend on how much customer work is done."},null,null,{"$f":"'Student 1'!$D$61","v":"Brake"},{"$f":"'Student 1'!$E$61","v":"Brake "},{"$f":"'Student 1'!$F$61","v":"Brake"},{"$f":"'Student 1'!$G$61","v":"Disc"},{"$f":"'Student 1'!$H$61","v":"Disc"},{"$f":"'Student 1'!$I$61","v":"Bearing"},{"$f":"'Student 1'!$J$61","v":"Line"},{"$f":"'Student 1'!$K$61","v":"Booster"},{"$f":"'Student 1'!$L$61","v":"Light"},{"$f":"'Student 1'!$M$61","v":"System"},{"$f":"'Student 1'!$N$61","v":"Valves"},{"$f":"'Student 1'!$O$61","v":"Anti"},{"$f":"'Student 1'!$P$61","v":"Anti"},{"$f":"'Student 1'!$Q$61","v":"Anti"},{"$f":"'Student 1'!$R$61","v":"tomer"},{"$f":"'Student 1'!$S$61","v":"Comp"}]
[{"$nulls":3},{"$f":"'Student 1'!$D$62","v":"Job"},{"$f":"'Student 1'!$E$62","v":"Mach."},{"$f":"'Student 1'!$F$62","v":"Job"},{"$f":"'Student 1'!$G$62","v":"Mach."},{"$f":"'Student 1'!$H$62","v":"Mach."},{"$f":"'Student 1'!$I$62","v":"Service"},{"$f":"'Student 1'!$J$62","v":"Repair"},{"$f":"'Student 1'!$K$62","v":"Service"},{"$f":"'Student 1'!$L$62","v":"Service"},{"$f":"'Student 1'!$M$62","v":"Bleed"},{"$f":"'Student 1'!$N$62","v":"Check"},{"$f":"'Student 1'!$O$62","v":"Lock"},{"$f":"'Student 1'!$P$62","v":"Lock"},{"$f":"'Student 1'!$Q$62","v":"Lock"},{"$f":"'Student 1'!$R$62","v":"Work"},{"$f":"'Student 1'!$S$62","v":"etency"}]
[{"$nulls":3},{"$f":"'Student 1'!$D$63","v":2},{"$f":"'Student 1'!$E$63","v":2},{"$f":"'Student 1'!$F$63","v":2},{"$f":"'Student 1'!$G$63","v":2},{"$f":"'Student 1'!$H$63","v":2},{"$f":"'Student 1'!$I$63","v":1},{"$f":"'Student 1'!$J$63","v":1},{"$f":"'Student 1'!$K$63","v":2},{"$f":"'Student 1'!$L$63","v":2},{"$f":"'Student 1'!$M$63","v":4},{"$f":"'Student 1'!$N$63","v":1},{"$f":"'Student 1'!$O$63","v":1},{"$f":"'Student 1'!$P$63","v":1},{"$f":"'Student 1'!$Q$63","v":1},{"$f":"'Student 1'!$R$63","v":" "},{"$f":"'Student 1'!$S$63","v":"Required"},{"$f":"'Student 1'!$T$63","v":"Lab"}]
[{"$f":"'Student 1'!$A$64","v":"ID"},{"$f":"'Student 1'!$B$64","v":"First:"},{"$f":"'Student 1'!$C$64","v":"Last:"},{"$f":"'Student 1'!$D$64","v":150},{"$f":"'Student 1'!$E$64","v":40},{"$f":"'Student 1'!$F$64","v":150},{"$f":"'Student 1'!$G$64","v":80},{"$f":"'Student 1'!$H$64","v":40},{"$f":"'Student 1'!$I$64","v":50},{"$f":"'Student 1'!$J$64","v":30},{"$f":"'Student 1'!$K$64","v":30},{"$f":"'Student 1'!$L$64","v":40},{"$f":"'Student 1'!$M$64","v":80},{"$f":"'Student 1'!$N$64","v":40},{"$f":"'Student 1'!$O$64","v":80},{"$f":"'Student 1'!$P$64","v":80},{"$f":"'Student 1'!$Q$64","v":80},{"$f":"'Student 1'!$R$64","v":300},{"$f":"'Student 1'!$S$64","v":"*"},{"$f":"'Student 1'!$T$64","v":"Points"},{"$f":"'Student 1'!$U$64","v":"%"}]
[{"$f":"'Course 5 Lab'!$A$19","v":{"v":13,"d":"00000013"}},{"$f":"'Course 5 Lab'!$B$19","v":"Student"},{"$f":"'Course 5 Lab'!$C$19","v":"Thirteen"},{"$f":"'Course 5 Lab'!$D$19","v":0},{"$f":"'Course 5 Lab'!$E$19","v":0},{"$f":"'Course 5 Lab'!$F$19","v":0},{"$f":"'Course 5 Lab'!$G$19","v":0},{"$f":"'Course 5 Lab'!$H$19","v":0},{"$f":"'Course 5 Lab'!$I$19","v":0},{"$f":"'Course 5 Lab'!$J$19","v":0},{"$f":"'Course 5 Lab'!$K$19","v":0},{"$f":"'Course 5 Lab'!$L$19","v":0},{"$f":"'Course 5 Lab'!$M$19","v":0},{"$f":"'Course 5 Lab'!$N$19","v":0},{"$f":"'Course 5 Lab'!$O$19","v":0},{"$f":"'Course 5 Lab'!$P$19","v":0},{"$f":"'Course 5 Lab'!$Q$19","v":0},{"$f":"'Course 5 Lab'!$R$19","v":0},{"$f":"'Course 5 Lab'!$S$19","v":1},{"$f":"'Course 5 Lab'!$T$19","v":0},{"$f":"'Course 5 Lab'!$U$19","v":{"v":0,"d":"0%"}}]

{"sheet":"Student 14","index":27,"n_rows":65,"n_cols":23,"rows_kept":65,"merged":[[0,0,0,2],[1,0,1,2],[2,0,2,1],[2,9,2,17],[3,0,3,1],[3,9,3,10],[3,11,3,13],[3,14,3,15],[6,0,6,2],[7,0,7,1],[8,0,10,2],[10,16,10,17],[13,0,13,2],[14,1,14,2],[15,0,15,1],[15,11,15,19],[16,0,16,1],[16,11,16,12],[16,13,16,15],[16,16,16,17],[19,0,19,2],[20,0,20,1],[21,0,23,2],[23,13,23,14],[26,0,26,2],[27,1,27,2],[28,0,28,1],[28,14,28,22],[29,0,29,1],[29,14,29,15],[29,16,29,18],[29,19,29,20],[32,0,32,2],[33,0,33,1],[34,0,36,2],[35,20,35,21],[36,16,36,17],[39,0,39,2],[40,1,40,2],[41,0,41,1],[41,10,41,18],[42,0,42,1],[42,10,42,11],[42,12,42,14],[42,15,42,16],[45,0,45,2],[46,0,46,1],[47,0,49,2],[49,7,49,8],[52,0,52,2],[53,0,53,2],[54,0,54,1],[54,13,54,21],[55,0,55,1],[55,13,55,14],[55,15,55,17],[55,18,55,19],[58,0,58,2],[59,0,59,1],[60,0,62,2],[62,19,62,20]]}
[{"$f":"'Student 1'!$A$1","v":"Course 1 Engine Diagnosis. Class"},{"$nulls":6},{"$f":"'Student 1'!$H$1","v":25}]
[{"$f":"'Student 1'!$A$2","v":"Date assignment is due"},null,{"$f":"'Student 1'!$C$2","v":" "},{"$f":"'Student 1'!$D$2","v":"TBD"},{"$f":"'Student 1'!$E$2","v":"TBD"},{"$f":"'Student 1'!$F$2","v":"TBD"},{"$f":"'Student 1'!$G$2","v":"TBD"},{"$f":"'Student 1'!$H$2","v":"TBD"},{"$f":"'Student 1'!$I$2","v":"TBD"}]
[{"$f":"'Student 1'!$A$3","v":"Class Room Points:"},null,{"$f":"'Student 1'!$C$3","v":160},{"$f":"'Student 1'!$D$3","v":20},{"$f":"'Student 1'!$E$3","v":20},{"$f":"'Student 1'!$F$3","v":20},{"$f":"'Student 1'!$G$3","v":25},{"$f":"'Student 1'!$H$3","v":" "},{"$f":"'Student 1'!$I$3","v":75},{"$f":"'Student 1'!$J$3","v":"Evaluation"}]
[{"$f":"'Student 1'!$A$4","v":"Red is late turn-in"},null,{"$f":"'Student 1'!$C$4","v":"Blue is absent"},{"$f":"'Student 1'!$D$4","v":"CH 13 "},{"$f":"'Student 1'!$E$4","v":"Lube"},{"$f":"'Student 1'!$F$4","v":"Lube"},{"$f":"'Student 1'!$G$4","v":"Condition"},{"$f":"'Student 1'!$H$4","v":"Extra"},{"$f":"'Student 1'!$I$4","v":"Final"},{"$f":"'Student 1'!$J$4","v":"Classroom"},null,{"$f":"'Student 1'!$L$4","v":"Professionalism"},null,null,{"$f":"'Student 1'!$O$4","v":"Lab"},null,{"$f":"'Student 1'!$Q$4","v":"Total  "},{"$f":"'Student 1'!$R$4","v":"Letter"}]
[{"$f":"'Student 1'!$A$5","v":"I D "},{"$f":"'Student 1'!$B$5","v":"First:"},{"$f":"'Student 1'!$C$5","v":"Last:"},{"$f":"'Student 1'!$D$5","v":"Test"},{"$f":"'Student 1'!$E$5","v":"HW"},{"$f":"'Student 1'!$F$5","v":"Test"},{"$f":"'Student 1'!$G$5","v":"Class"},{"$f":"'Student 1'!$H$5","v":"Credit"},{"$f":"'Student 1'!$I$5","v":"Test"},{"$f":"'Student 1'!$J$5","v":"Points"},{"$f":"'Student 1'!$K$5","v":"%"},{"$f":"'Student 1'!$L$5","v":"Attendance"},{"$f":"'Student 1'!$M$5","v":"Points"},{"$f":"'Student 1'!$N$5","v":"%"},{"$f":"'Student 1'!$O$5","v":"Points"},{"$f":"'Student 1'!$P$5","v":"%"},{"$f":"'Student 1'!$Q$5","v":"%"},{"$f":"'Student 1'!$R$5","v":"Grade"}]
[{"$f":"'Course 1 Class'!$A$19","v":{"v":14,"d":"00000014"}},{"$f":"'Course 1 Class'!$B$19","v":"Student"},{"$f":"'Course 1 Class'!$C$19","v":"Fourteen"},{"$f":"'Course 1 Class'!$D$19","v":0},{"$f":"'Course 1 Class'!$E$19","v":0},{"$f":"'Course 1 Class'!$F$19","v":0},{"$f":"'Course 1 Class'!$G$19","v":0},{"$f":"'Course 1 Class'!$H$19","v":0},{"$f":"'Course 1 Class'!$I$19","v":0},{"$f":"'Course 1 Class'!$J$19","v":0},{"$f":"'Course 1 Class'!$K$19","v":{"v":0,"d":"0%"}},{"$f":"'Course 1 Class'!$L$19","v":{"v":1,"d":"100%"}},{"$f":"'Course 1 Class'!$M$19","v":72},{"$f":"'Course 1 Class'!$N$19","v":{"v":1,"d":"100%"}},{"$f":"'Course 1 Class'!$O$19","v":0},{"$f":"'Course 1 Class'!$P$19","v":{"v":0,"d":"0%"}},{"$f":"'Course 1 Class'!$Q$19","v":{"v":0.25,"d":"25%"}},{"$f":"'Course 1 Class'!$R$19","v":"F"}]
[{"$f":"'Student 1'!$A$7","v":"Course 1 Engine Diagnosis. Lab"}]
[{"$f":"'Student 1'!$A$8","v":"  Max Shop Points:"},null,{"$f":"'Student 1'!$C$8","v":1325},{"$f":"'Student 1'!$D$8","v":"Dry"},{"$f":"'Student 1'!$E$8","v":"Wet"},{"$f":"'Student 1'!$F$8","v":"Running"},{"$f":"'Student 1'!$G$8","v":"Cylinder"},{"$f":"'Student 1'!$H$8","v":"Oil"},{"$f":"'Student 1'!$I$8","v":"Cooling"},{"$f":"'Student 1'!$J$8","v":"Vacuum"},{"$f":"'Student 1'!$K$8","v":"PCV"},{"$f":"'Student 1'!$L$8","v":"Thermostat"},{"$f":"'Student 1'!$M$8","v":"Fluid"},{"$f":"'Student 1'!$N$8","v":"Diag"},{"$f":"'Student 1'!$O$8","v":" "}]
[{"$f":"'Student 1'!$A$9","v":"Max shop points available depend on how much customer work is done."},null,null,{"$f":"'Student 1'!$D$9","v":"Compr"},{"$f":"'Student 1'!$E$9","v":"Compr"},{"$f":"'Student 1'!$F$9","v":"Compr"},{"$f":"'Student 1'!$G$9","v":"Leakage"},{"$f":"'Student 1'!$H$9","v":"Pressure"},{"$f":"'Student 1'!$I$9","v":"System"},{"$f":"'Student 1'!$J$9","v":"Gauge"},{"$f":"'Student 1'!$K$9","v":"System"},{"$f":"'Student 1'!$L$9","v":"and fan"},{"$f":"'Student 1'!$M$9","v":"Leak"},{"$f":"'Student 1'!$N$9","v":"gauges"},{"$f":"'Student 1'!$O$9","v":"Cus"},{"$f":"'Student 1'!$P$9","v":"Comp"}]
[{"$nulls":3},{"$f":"'Student 1'!$D$10","v":"Test"},{"$f":"'Student 1'!$E$10","v":"Test"},{"$f":"'Student 1'!$F$10","v":"Test"},{"$f":"'Student 1'!$G$10","v":"Test"},{"$f":"'Student 1'!$H$10","v":"Test"},{"$f":"'Student 1'!$I$10","v":"Test"},{"$f":"'Student 1'!$J$10","v":"Test"},{"$f":"'Student 1'!$K$10","v":"Check"},{"$f":"'Student 1'!$L$10","v":"Operation"},{"$f":"'Student 1'!$M$10","v":"Check"},{"$f":"'Student 1'!$N$10","v":"any vehicle"},{"$f":"'Student 1'!$O$10","v":"tomer"},{"$f":"'Student 1'!$P$10","v":"etency"},{"$f":"'Student 1'!$Q$10","v":"  "},{"$f":"'Student 1'!$R$10","v":" "}]
[{"$nulls":3},{"$f":"'Student 1'!$D$11","v":2},{"$f":"'Student 1'!$E$11","v":2},{"$f":"'Student 1'!$F$11","v":2},{"$f":"'Student 1'!$G$11","v":2},{"$f":"'Student 1'!$H$11","v":2},{"$f":"'Student 1'!$I$11","v":2},{"$f":"'Student 1'!$J$11","v":2},{"$f":"'Student 1'!$K$11","v":2},{"$f":"'Student 1'!$L$11","v":2},{"$f":"'Student 1'!$M$11","v":1},{"$f":"'Student 1'!$N$11","v":1},{"$f":"'Student 1'!$O$11","v":"Work"},{"$f":"'Student 1'!$P$11","v":"0 or 1"},{"$f":"'Student 1'!$Q$11","v":"Lab"}]
[{"$f":"'Student 1'!$A$12","v":"ID"},{"$f":"'Student 1'!$B$12","v":"First:"},{"$f":"'Student 1'!$C$12","v":"Last:"},{"$f":"'Student 1'!$D$12","v":100},{"$f":"'Student 1'!$E$12","v":100},{"$f":"'Student 1'!$F$12","v":100},{"$f":"'Student 1'!$G$12","v":100},{"$f":"'Student 1'!$H$12","v":100},{"$f":"'Student 1'!$I$12","v":150},{"$f":"'Student 1'!$J$12","v":100},{"$f":"'Student 1'!$K$12","v":50},{"$f":"'Student 1'!$L$12","v":100},{"$f":"'Student 1'!$M$12","v":25},{"$f":"'Student 1'!$N$12","v":100},{"$f":"'Student 1'!$O$12","v":300},{"$f":"'Student 1'!$P$12","v":"*"},{"$f":"'Student 1'!$Q$12","v":"Points"},{"$f":"'Student 1'!$R$12","v":"%"}]
[{"$f":"'Course 1 Lab'!$A$20","v":{"v":14,"d":"00000014"}},{"$f":"'Course 1 Lab'!$B$20","v":"Student"},{"$f":"'Course 1 Lab'!$C$20","v":"Fourteen"},{"$f":"'Course 1 Lab'!$D$20","v":0},{"$f":"'Course 1 Lab'!$E$20","v":0},{"$f":"'Course 1 Lab'!$F$20","v":0},{"$f":"'Course 1 Lab'!$G$20","v":0},{"$f":"'Course 1 Lab'!$H$20","v":0},{"$f":"'Course 1 Lab'!$I$20","v":0},{"$f":"'Course 1 Lab'!$J$20","v":0},{"$f":"'Course 1 Lab'!$K$20","v":0},{"$f":"'Course 1 Lab'!$L$20","v":0},{"$f":"'Course 1 Lab'!$M$20","v":0},{"$f":"'Course 1 Lab'!$N$20","v":0},{"$f":"'Course 1 Lab'!$O$20","v":0},{"$f":"'Course 1 Lab'!$P$20","v":1},{"$f":"'Course 1 Lab'!$Q$20","v":0},{"$f":"'Course 1 Lab'!$R$20","v":{"v":0,"d":"0%"}}]
[{"$f":"'Student 1'!$A$14","v":"Course 2 Engine Theory & Repair. Class"},{"$nulls":8},{"$f":"'Student 1'!$J$14","v":25}]
[{"$f":"'Student 1'!$A$15","v":" "},{"$f":"'Student 1'!$B$15","v":"Date assignment is due:"},null,{"$f":"'Student 1'!$D$15","v":"TBD"},{"$f":"'Student 1'!$E$15","v":"TBD"},{"$f":"'Student 1'!$F$15","v":"TBD"},{"$f":"'Student 1'!$G$15","v":"TBD"},{"$f":"'Student 1'!$H$15","v":"TBD"},{"$f":"'Student 1'!$I$15","v":"TBD"},{"$f":"'Student 1'!$J$15","v":"TBD"},{"$f":"'Student 1'!$K$15","v":"TBD"}]
[{"$f":"'Student 1'!$A$16","v":"Class Room Points:"},null,{"$f":"'Student 1'!$C$16","v":201},{"$f":"'Student 1'!$D$16","v":10},{"$f":"'Student 1'!$E$16","v":10},{"$f":"'Student 1'!$F$16","v":20},{"$f":"'Student 1'!$G$16","v":20},{"$f":"'Student 1'!$H$16","v":16},{"$f":"'Student 1'!$I$16","v":25},{"$f":"'Student 1'!$J$16","v":" "},{"$f":"'Student 1'!$K$16","v":100},{"$f":"'Student 1'!$L$16","v":"Evaluation"}]
[{"$f":"'Student 1'!$A$17","v":"Red is late turn-in"},null,{"$f":"'Student 1'!$C$17","v":"Blue is absent"},{"$f":"'Student 1'!$D$17","v":"HW"},{"$f":"'Student 1'!$E$17","v":"HW "},{"$f":"'Student 1'!$F$17","v":"Test"},{"$f":"'Student 1'!$G$17","v":"Test"},{"$f":"'Student 1'!$H$17","v":"HW"},{"$f":"'Student 1'!$I$17","v":"Test"},{"$f":"'Student 1'!$J$17","v":"Extra"},{"$f":"'Student 1'!$K$17","v":"Final "},{"$f":"'Student 1'!$L$17","v":"Class"},null,{"$f":"'Student 1'!$N$17","v":"Professionalism"},null,null,{"$f":"'Student 1'!$Q$17","v":"Lab"},null,{"$f":"'Student 1'!$S$17","v":"Total  "},{"$f":"'Student 1'!$T$17","v":"Letter"}]
[{"$f":"'Student 1'!$A$18","v":"I D "},{"$f":"'Student 1'!$B$18","v":"First:"},{"$f":"'Student 1'!$C$18","v":"Last:"},{"$f":"'Student 1'!$D$18","v":"CH 7"},{"$f":"'Student 1'!$E$18","v":"CH 14"},{"$f":"'Student 1'!$F$18","v":"C & L"},{"$f":"'Student 1'!$G$18","v":"CH 18"},{"$f":"'Student 1'!$H$18","v":"CH 22"},{"$f":"'Student 1'!$I$18","v":"CH 22"},{"$f":"'Student 1'!$J$18","v":"Credit"},{"$f":"'Student 1'!$K$18","v":"TEST"},{"$f":"'Student 1'!$L$18","v":"Points"},{"$f":"'Student 1'!$M$18","v":"%"},{"$f":"'Student 1'!$N$18","v":"Attendance"},{"$f":"'Student 1'!$O$18","v":"Points"},{"$f":"'Student 1'!$P$18","v":"%"},{"$f":"'Student 1'!$Q$18","v":"Points"},{"$f":"'Student 1'!$R$18","v":"%"},{"$f":"'Student 1'!$S$18","v":"%"},{"$f":"'Student 1'!$T$18","v":"Grade"}]
[{"$f":"'Course 2 Class'!$A$19","v":{"v":14,"d":"00000014"}},{"$f":"'Course 2 Class'!$B$19","v":"Student"},{"$f":"'Course 2 Class'!$C$19","v":"Fourteen"},{"$f":"'Course 2 Class'!$D$19","v":0},{"$f":"'Course 2 Class'!$E$19","v":0},{"$f":"'Course 2 Class'!$F$19","v":0},{"$f":"'Course 2 Class'!$G$19","v":0},{"$f":"'Course 2 Class'!$H$19","v":0},{"$f":"'Course 2 Class'!$I$19","v":0},{"$f":"'Course 2 Class'!$J$19","v":0},{"$f":"'Course 2 Class'!$K$19","v":0},{"$f":"'Course 2 Class'!$L$19","v":0},{"$f":"'Course 2 Class'!$M$19","v":{"v":0,"d":"0%"}},{"$f":"'Course 2 Class'!$N$19","v":{"v":1,"d":"100%"}},{"$f":"'Course 2 Class'!$O$19","v":72},{"$f":"'Course 2 Class'!$P$19","v":{"v":1,"d":"100%"}},{"$f":"'Course 2 Class'!$Q$19","v":0},{"$f":"'Course 2 Class'!$R$19","v":{"v":0,"d":"0%"}},{"$f":"'Course 2 Class'!$S$19","v":{"v":0.25,"d":"25%"}},{"$f":"'Course 2 Class'!$T$19","v":"F"}]
[{"$f":"'Student 1'!$A$20","v":"Course 2 Engine Theory & Repair. Lab"}]
[{"$f":"'Student 1'!$A$21","v":"  Max Shop Points:"},null,{"$f":"'Student 1'!$C$21","v":1450},{"$f":"'Student 1'!$D$21","v":"Engine"},{"$f":"'Student 1'!$E$21","v":"Cylinder"},{"$f":"'Student 1'!$F$21","v":"Red"},{"$f":"'Student 1'!$G$21","v":"Mitsubishi"},{"$f":"'Student 1'!$H$21","v":"Any"},{"$f":"'Student 1'!$I$21","v":"DOHC"},{"$f":"'Student 1'!$J$21","v":"Valve seal"},{"$f":"'Student 1'!$K$21","v":"Misc."},{"$f":"'Student 1'!$L$21","v":" "}]
[{"$f":"'Student 1'!$A$22","v":"Max shop points available depend on how much customer work is done."},null,null,{"$f":"'Student 1'!$D$22","v":"Disassemble"},{"$f":"'Student 1'!$E$22","v":"Head"},{"$f":"'Student 1'!$F$22","v":"Dodge"},{"$f":"'Student 1'!$G$22","v":"\"3.0L\""},{"$f":"'Student 1'!$H$22","v":"Engine"},{"$f":"'Student 1'!$I$22","v":"Engine"},{"$f":"'Student 1'!$J$22","v":"&"},{"$f":"'Student 1'!$K$22","v":"Engine "},{"$f":"'Student 1'!$L$22","v":"Cus"},{"$f":"'Student 1'!$M$22","v":"Comp"}]
[{"$nulls":3},{"$f":"'Student 1'!$D$23","v":"& Measure"},{"$f":"'Student 1'!$E$23","v":"Repair"},{"$f":"'Student 1'!$F$23","v":"Clip"},{"$f":"'Student 1'!$G$23","v":"Clip"},{"$f":"'Student 1'!$H$23","v":"T-chain"},{"$f":"'Student 1'!$I$23","v":" Stand"},{"$f":"'Student 1'!$J$23","v":"Lobe lift"},{"$f":"'Student 1'!$K$23","v":"Points"},{"$f":"'Student 1'!$L$23","v":"tomer"},{"$f":"'Student 1'!$M$23","v":"etency"},{"$f":"'Student 1'!$N$23","v":" "},{"$f":"'Student 1'!$O$23","v":" "}]
[{"$nulls":3},{"$f":"'Student 1'!$D$24","v":1},{"$f":"'Student 1'!$E$24","v":1},{"$f":"'Student 1'!$F$24","v":1},{"$f":"'Student 1'!$G$24","v":1},{"$f":"'Student 1'!$H$24","v":1},{"$f":"'Student 1'!$I$24","v":1},{"$f":"'Student 1'!$J$24","v":1},null,{"$f":"'Student 1'!$L$24","v":"Work"},{"$f":"'Student 1'!$M$24","v":"0 or 1"},{"$f":"'Student 1'!$N$24","v":"Lab"}]
[{"$f":"'Student 1'!$A$25","v":"ID"},{"$f":"'Student 1'!$B$25","v":"First:"},{"$f":"'Student 1'!$C$25","v":"Last:"},{"$f":"'Student 1'!$D$25","v":300},{"$f":"'Student 1'!$E$25","v":200},{"$f":"'Student 1'!$F$25","v":100},{"$f":"'Student 1'!$G$25","v":100},{"$f":"'Student 1'!$H$25","v":100},{"$f":"'Student 1'!$I$25","v":100},{"$f":"'Student 1'!$J$25","v":50},{"$f":"'Student 1'!$K$25","v":200},{"$f":"'Student 1'!$L$25","v":300},{"$f":"'Student 1'!$M$25","v":"*"},{"$f":"'Student 1'!$N$25","v":"Points"},{"$f":"'Student 1'!$O$25","v":"%"}]
[{"$f":"'Course 2 Lab'!$A$20","v":{"v":14,"d":"00000014"}},{"$f":"'Course 2 Lab'!$B$20","v":"Student"},{"$f":"'Course 2 Lab'!$C$20","v":"Fourteen"},{"$f":"'Course 2 Lab'!$D$20","v":0},{"$f":"'Course 2 Lab'!$E$20","v":0},{"$f":"'Course 2 Lab'!$F$20","v":0},{"$f":"'Course 2 Lab'!$G$20","v":0},{"$f":"'Course 2 Lab'!$H$20","v":0},{"$f":"'Course 2 Lab'!$I$20","v":0},{"$f":"'Course 2 Lab'!$J$20","v":0},{"$f":"'Course 2 Lab'!$K$20","v":0},{"$f":"'Course 2 Lab'!$L$20","v":0},{"$f":"'Course 2 Lab'!$M$20","v":1},{"$f":"'Course 2 Lab'!$N$20","v":0},{"$f":"'Course 2 Lab'!$O$20","v":{"v":0,"d":"0%"}}]
[{"$f":"'Student 1'!$A$27","v":"Course 3 Steering & Suspension. Class."},{"$nulls":11},{"$f":"'Student 1'!$M$27","v":25}]
[{"$f":"'Student 1'!$A$28","v":" "},{"$f":"'Student 1'!$B$28","v":"Date assignment is due:"},null,{"$f":"'Student 1'!$D$28","v":"1/18"},{"$f":"'Student 1'!$E$28","v":"2/2"},{"$f":"'Student 1'!$F$28","v":"TBD"},{"$f":"'Student 1'!$G$28","v":"TBD"},{"$f":"'Student 1'!$H$28","v":"TBD"},{"$f":"'Student 1'!$I$28","v":"TBD"},{"$f":"'Student 1'!$J$28","v":"TBD"},{"$f":"'Student 1'!$K$28","v":"TBD"},{"$f":"'Student 1'!$L$28","v":"TBD"},{"$f":"'Student 1'!$M$28","v":"TBD"},{"$f":"'Student 1'!$N$28","v":"TBD"}]
[{"$f":"'Student 1'!$A$29","v":"Class Room Points:"},null,{"$f":"'Student 1'!$C$29","v":330},{"$f":"'Student 1'!$D$29","v":20},{"$f":"'Student 1'!$E$29","v":20},{"$f":"'Student 1'!$F$29","v":24},{"$f":"'Student 1'!$G$29","v":20},{"$f":"'Student 1'!$H$29","v":25},{"$f":"'Student 1'!$I$29","v":30},{"$f":"'Student 1'!$J$29","v":20},{"$f":"'Student 1'!$K$29","v":26},{"$f":"'Student 1'!$L$29","v":45},{"$f":"'Student 1'!$M$29","v":" "},{"$f":"'Student 1'!$N$29","v":100},{"$f":"'Student 1'!$O$29","v":"Evaluation"}]
[{"$f":"'Student 1'!$A$30","v":"Red is late turn-in"},null,{"$f":"'Student 1'!$C$30","v":"Blue is absent"},{"$f":"'Student 1'!$D$30","v":"HW"},{"$f":"'Student 1'!$E$30","v":"HW"},{"$f":"'Student 1'!$F$30","v":"HW"},{"$f":"'Student 1'!$G$30","v":"QZ"},{"$f":"'Student 1'!$H$30","v":"HW"},{"$f":"'Student 1'!$I$30","v":"HW"},{"$f":"'Student 1'!$J$30","v":"Test"},{"$f":"'Student 1'!$K$30","v":"HW"},{"$f":"'Student 1'!$L$30","v":"Class"},{"$f":"'Student 1'!$M$30","v":"Extra"},{"$f":"'Student 1'!$N$30","v":"Final"},{"$f":"'Student 1'!$O$30","v":"Class"},null,{"$f":"'Student 1'!$Q$30","v":"Professionalism"},null,null,{"$f":"'Student 1'!$T$30","v":"Lab"},null,{"$f":"'Student 1'!$V$30","v":"Total  "},{"$f":"'Student 1'!$W$30","v":"Letter"}]
[{"$f":"'Student 1'!$A$31","v":"I D "},{"$f":"'Student 1'!$B$31","v":"First:"},{"$f":"'Student 1'!$C$31","v":"Last:"},{"$f":"'Student 1'!$D$31","v":"CH 1"},{"$f":"'Student 1'!$E$31","v":"CH 2"},{"$f":"'Student 1'!$F$31","v":"CH 3"},{"$f":"'Student 1'!$G$31","v":"1"},{"$f":"'Student 1'!$H$31","v":"CH 6"},{"$f":"'Student 1'!$I$31","v":"CH 9"},{"$f":"'Student 1'!$J$31","v":"1 – 9"},{"$f":"'Student 1'!$K$31","v":"CH 12"},{"$f":"'Student 1'!$L$31","v":"Project"},{"$f":"'Student 1'!$M$31","v":"Credit"},{"$f":"'Student 1'!$N$31","v":"TEST"},{"$f":"'Student 1'!$O$31","v":"Points"},{"$f":"'Student 1'!$P$31","v":"%"},{"$f":"'Student 1'!$Q$31","v":"Attendance"},{"$f":"'Student 1'!$R$31","v":"Points"},{"$f":"'Student 1'!$S$31","v":"%"},{"$f":"'Student 1'!$T$31","v":"Points"},{"$f":"'Student 1'!$U$31","v":"%"},{"$f":"'Student 1'!$V$31","v":"%"},{"$f":"'Student 1'!$W$31","v":"Grade"}]
[{"$f":"'Course 3 Class'!$A$19","v":{"v":14,"d":"00000014"}},{"$f":"'Course 3 Class'!$B$19","v":"Student"},{"$f":"'Course 3 Class'!$C$19","v":"Fourteen"},{"$f":"'Course 3 Class'!$D$19","v":0},{"$f":"'Course 3 Class'!$E$19","v":0},{"$f":"'Course 3 Class'!$F$19","v":0},{"$f":"'Course 3 Class'!$G$19","v":0},{"$f":"'Course 3 Class'!$H$19","v":0},{"$f":"'Course 3 Class'!$I$19","v":0},{"$f":"'Course 3 Class'!$J$19","v":0},{"$f":"'Course 3 Class'!$K$19","v":0},{"$f":"'Course 3 Class'!$L$19","v":0},{"$f":"'Course 3 Class'!$M$19","v":0},{"$f":"'Course 3 Class'!$N$19","v":0},{"$f":"'Course 3 Class'!$O$19","v":0},{"$f":"'Course 3 Class'!$P$19","v":{"v":0,"d":"0%"}},{"$f":"'Course 3 Class'!$Q$19","v":{"v":1,"d":"100%"}},{"$f":"'Course 3 Class'!$R$19","v":72},{"$f":"'Course 3 Class'!$S$19","v":{"v":1,"d":"100%"}},{"$f":"'Course 3 Class'!$T$19","v":0},{"$f":"'Course 3 Class'!$U$19","v":{"v":0,"d":"0%"}},{"$f":"'Course 3 Class'!$V$19","v":{"v":0.25,"d":"25%"}},{"$f":"'Course 3 Class'!$W$19","v":"F"}]
[{"$f":"'Student 1'!$A$33","v":"Course 3 Steering & Suspension. Lab"}]
[{"$f":"'Student 1'!$A$34","v":"Max shop points"},null,{"$f":"'Student 1'!$C$34","v":1350},{"$f":"'Student 1'!$D$34","v":"Repair"},{"$f":"'Student 1'!$E$34","v":"Identify"},{"$f":"'Student 1'!$F$34","v":"Repair"},{"$f":"'Student 1'!$G$34","v":"Identify"},{"$f":"'Student 1'!$H$34","v":"Repair"},{"$f":"'Student 1'!$I$34","v":"R&R"},{"$f":"'Student 1'!$J$34","v":"R&R"},{"$f":"'Student 1'!$K$34","v":"R&R"},{"$f":"'Student 1'!$L$34","v":"P/S"},{"$f":"'Student 1'!$M$34","v":"R&R"},{"$f":"'Student 1'!$N$34","v":"NVH"},{"$f":"'Student 1'!$O$34","v":" "}]
[{"$f":"'Student 1'!$A$35","v":"Max shop points available depend on how much customer work is done."},null,null,{"$f":"'Student 1'!$D$35","v":"SLA"},{"$f":"'Student 1'!$E$35","v":"SLA"},{"$f":"'Student 1'!$F$35","v":"Mac-P"},{"$f":"'Student 1'!$G$35","v":"Mac-P"},{"$f":"'Student 1'!$H$35","v":"Rear"},{"$f":"'Student 1'!$I$35","v":"Rack &"},{"$f":"'Student 1'!$J$35","v":"Recirc."},{"$f":"'Student 1'!$K$35","v":"P/S"},{"$f":"'Student 1'!$L$35","v":"Pump"},{"$f":"'Student 1'!$M$35","v":"Inner"},{"$f":"'Student 1'!$N$35","v":"Runout &"},{"$f":"'Student 1'!$O$35","v":"Cus"},{"$f":"'Student 1'!$P$35","v":"Comp"}]
[{"$nulls":3},{"$f":"'Student 1'!$D$36","v":"Susp"},{"$f":"'Student 1'!$E$36","v":"Parts"},{"$f":"'Student 1'!$F$36","v":"Susp"},{"$f":"'Student 1'!$G$36","v":"Parts"},{"$f":"'Student 1'!$H$36","v":"Susp"},{"$f":"'Student 1'!$I$36","v":"Pinion"},{"$f":"'Student 1'!$J$36","v":"Gear"},{"$f":"'Student 1'!$K$36","v":"Pump"},{"$f":"'Student 1'!$L$36","v":"Test"},{"$f":"'Student 1'!$M$36","v":"Tie-Rod"},{"$f":"'Student 1'!$N$36","v":"bal. Check"},{"$f":"'Student 1'!$O$36","v":"tomer"},{"$f":"'Student 1'!$P$36","v":"etency"},{"$f":"'Student 1'!$Q$36","v":" "},{"$f":"'Student 1'!$R$36","v":" "},null,null,{"$f":"'Student 1'!$U$36","v":"Final Grade"}]
[{"$nulls":3},{"$f":"'Student 1'!$D$37","v":1},{"$f":"'Student 1'!$E$37","v":2},{"$f":"'Student 1'!$F$37","v":3},{"$f":"'Student 1'!$G$37","v":2},{"$f":"'Student 1'!$H$37","v":1},{"$f":"'Student 1'!$I$37","v":1},{"$f":"'Student 1'!$J$37","v":1},{"$f":"'Student 1'!$K$37","v":1},{"$f":"'Student 1'!$L$37","v":1},{"$f":"'Student 1'!$M$37","v":1},{"$f":"'Student 1'!$N$37","v":1},{"$f":"'Student 1'!$O$37","v":"Work"},{"$f":"'Student 1'!$P$37","v":"0 or 1"},{"$f":"'Student 1'!$Q$37","v":"Lab"},{"$nulls":3},{"$f":"'Student 1'!$U$37","v":{"v":0,"d":"0%"}},{"$f":"'Student 1'!$V$37","v":"F"}]
[{"$f":"'Student 1'!$A$38","v":"ID"},{"$f":"'Student 1'!$B$38","v":"First:"},{"$f":"'Student 1'!$C$38","v":"Last:"},{"$f":"'Student 1'!$D$38","v":150},{"$f":"'Student 1'!$E$38","v":50},{"$f":"'Student 1'!$F$38","v":225},{"$f":"'Student 1'!$G$38","v":50},{"$f":"'Student 1'!$H$38","v":50},{"$f":"'Student 1'!$I$38","v":150},{"$f":"'Student 1'!$J$38","v":125},{"$f":"'Student 1'!$K$38","v":50},{"$f":"'Student 1'!$L$38","v":50},{"$f":"'Student 1'!$M$38","v":50},{"$f":"'Student 1'!$N$38","v":100},{"$f":"'Student 1'!$O$38","v":300},{"$f":"'Student 1'!$P$38","v":"*"},{"$f":"'Student 1'!$Q$38","v":"Points"},{"$f":"'Student 1'!$R$38","v":"%"},null,null,{"$f":"'Student 1'!$U$38","v":{"v":0.695,"d":"70%"}},{"$f":"'Student 1'!$V$38","v":"D-"}]
[{"$f":"'Course 3 Lab'!$A$20","v":{"v":14,"d":"00000014"}},{"$f":"'Course 3 Lab'!$B$20","v":"Student"},{"$f":"'Course 3 Lab'!$C$20","v":"Fourteen"},{"$f":"'Course 3 Lab'!$D$20","v":0},{"$f":"'Course 3 Lab'!$E$20","v":0},{"$f":"'Course 3 Lab'!$F$20","v":0},{"$f":"'Course 3 Lab'!$G$20","v":0},{"$f":"'Course 3 Lab'!$H$20","v":0},{"$f":"'Course 3 Lab'!$I$20","v":0},{"$f":"'Course 3 Lab'!$J$20","v":0},{"$f":"'Course 3 Lab'!$K$20","v":0},{"$f":"'Course 3 Lab'!$L$20","v":0},{"$f":"'Course 3 Lab'!$M$20","v":0},{"$f":"'Course 3 Lab'!$N$20","v":0},{"$f":"'Course 3 Lab'!$O$20","v":0},{"$f":"'Course 3 Lab'!$P$20","v":1},{"$f":"'Course 3 Lab'!$Q$20","v":0},{"$f":"'Course 3 Lab'!$R$20","v":{"v":0,"d":"0%"}},null,null,{"$f":"'Student 1'!$U$39","v":{"v":0.715,"d":"72%"}},{"$f":"'Student 1'!$V$39","v":"D"}]
[{"$f":"'Student 1'!$A$40","v":"Course 4 Alignment. Class."},{"$nulls":7},{"$f":"'Student 1'!$I$40","v":25},{"$nulls":11},{"$f":"'Student 1'!$U$40","v":{"v":0.735,"d":"74%"}},{"$f":"'Student 1'!$V$40","v":"D+"}]
[{"$f":"'Student 1'!$A$41","v":" "},{"$f":"'Student 1'!$B$41","v":"Date assignment is due  "},null,{"$f":"'Student 1'!$D$41","v":"TBD"},{"$f":"'Student 1'!$E$41","v":"TBD"},{"$f":"'Student 1'!$F$41","v":"TBD"},{"$f":"'Student 1'!$G$41","v":"TBD"},{"$f":"'Student 1'!$H$41","v":"TBD"},{"$f":"'Student 1'!$I$41","v":"TBD"},{"$f":"'Student 1'!$J$41","v":"TBD"},{"$nulls":10},{"$f":"'Student 1'!$U$41","v":{"v":0.755,"d":"76%"}},{"$f":"'Student 1'!$V$41","v":"C-"}]
[{"$f":"'Student 1'!$A$42","v":"Class Room Points:"},null,{"$f":"'Student 1'!$C$42","v":235},{"$f":"'Student 1'!$D$42","v":25},{"$f":"'Student 1'!$E$42","v":25},{"$f":"'Student 1'!$F$42","v":20},{"$f":"'Student 1'!$G$42","v":40},{"$f":"'Student 1'!$H$42","v":50},{"$f":"'Student 1'!$I$42","v":" "},{"$f":"'Student 1'!$J$42","v":75},{"$f":"'Student 1'!$K$42","v":"Evaluation"},{"$nulls":9},{"$f":"'Student 1'!$U$42","v":{"v":0.785,"d":"79%"}},{"$f":"'Student 1'!$V$42","v":"C"}]
[{"$f":"'Student 1'!$A$43","v":"Red is late turn-in"},null,{"$f":"'Student 1'!$C$43","v":"Blue is absent"},{"$f":"'Student 1'!$D$43","v":"CH 16"},{"$f":"'Student 1'!$E$43","v":"CH 16"},{"$f":"'Student 1'!$F$43","v":"Align"},{"$f":"'Student 1'!$G$43","v":"In class"},{"$f":"'Student 1'!$H$43","v":"In class"},{"$f":"'Student 1'!$I$43","v":"Extra"},{"$f":"'Student 1'!$J$43","v":"Final"},{"$f":"'Student 1'!$K$43","v":"Class"},null,{"$f":"'Student 1'!$M$43","v":"Professionalism"},null,null,{"$f":"'Student 1'!$P$43","v":"Lab"},null,{"$f":"'Student 1'!$R$43","v":"Total  "},{"$f":"'Student 1'!$S$43","v":"Letter"},null,{"$f":"'Student 1'!$U$43","v":{"v":0.815,"d":"82%"}},{"$f":"'Student 1'!$V$43","v":"C+"}]
[{"$f":"'Student 1'!$A$44","v":"I D "},{"$f":"'Student 1'!$B$44","v":"First:"},{"$f":"'Student 1'!$C$44","v":"Last:"},{"$f":"'Student 1'!$D$44","v":"HW"},{"$f":"'Student 1'!$E$44","v":"Test"},{"$f":"'Student 1'!$F$44","v":"HW"},{"$f":"'Student 1'!$G$44","v":"Project1"},{"$f":"'Student 1'!$H$44","v":"Project2"},{"$f":"'Student 1'!$I$44","v":"Credit"},{"$f":"'Student 1'!$J$44","v":"Test"},{"$f":"'Student 1'!$K$44","v":"Points"},{"$f":"'Student 1'!$L$44","v":"%"},{"$f":"'Student 1'!$M$44","v":"Attendance"},{"$f":"'Student 1'!$N$44","v":"Points"},{"$f":"'Student 1'!$O$44","v":"%"},{"$f":"'Student 1'!$P$44","v":"Points"},{"$f":"'Student 1'!$Q$44","v":"%"},{"$f":"'Student 1'!$R$44","v":"%"},{"$f":"'Student 1'!$S$44","v":"Grade"},null,{"$f":"'Student 1'!$U$44","v":{"v":0.845,"d":"85%"}},{"$f":"'Student 1'!$V$44","v":"B-"}]
[{"$f":"'Course 4 Class'!$A$19","v":{"v":14,"d":"00000014"}},{"$f":"'Course 4 Class'!$B$19","v":"Student"},{"$f":"'Course 4 Class'!$C$19","v":"Fourteen"},{"$f":"'Course 4 Class'!$D$19","v":0},{"$f":"'Course 4 Class'!$E$19","v":0},{"$f":"'Course 4 Class'!$F$19","v":0},{"$f":"'Course 4 Class'!$G$19","v":0},{"$f":"'Course 4 Class'!$H$19","v":0},{"$f":"'Course 4 Class'!$I$19","v":0},{"$f":"'Course 4 Class'!$J$19","v":0},{"$f":"'Course 4 Class'!$K$19","v":0},{"$f":"'Course 4 Class'!$L$19","v":{"v":0,"d":"0%"}},{"$f":"'Course 4 Class'!$M$19","v":{"v":1,"d":"100%"}},{"$f":"'Course 4 Class'!$N$19","v":72},{"$f":"'Course 4 Class'!$O$19","v":{"v":1,"d":"100%"}},{"$f":"'Course 4 Class'!$P$19","v":0},{"$f":"'Course 4 Class'!$Q$19","v":{"v":0,"d":"0%"}},{"$f":"'Course 4 Class'!$R$19","v":{"v":0.25,"d":"25%"}},{"$f":"'Course 4 Class'!$S$19","v":"F"},null,{"$f":"'Student 1'!$U$45","v":{"v":0.875,"d":"88%"}},{"$f":"'Student 1'!$V$45","v":"B"}]
[{"$f":"'Student 1'!$A$46","v":"Course 4 Alignment. Lab"},{"$nulls":19},{"$f":"'Student 1'!$U$46","v":{"v":0.895,"d":"90%"}},{"$f":"'Student 1'!$V$46","v":"B+"}]
[{"$f":"'Student 1'!$A$47","v":"Max Shop Points:"},null,{"$f":"'Student 1'!$C$47","v":1300},{"$f":"'Student 1'!$D$47","v":"Alignment"},{"$f":"'Student 1'!$E$47","v":"Complete"},{"$f":"'Student 1'!$F$47","v":"Cus"},{"$f":"'Student 1'!$G$47","v":" "},{"$nulls":13},{"$f":"'Student 1'!$U$47","v":{"v":0.925,"d":"93%"}},{"$f":"'Student 1'!$V$47","v":"A-"}]
[{"$f":"'Student 1'!$A$48","v":"Max shop points available depend on how much customer work is done."},null,null,{"$f":"'Student 1'!$D$48","v":"Pre-check"},{"$f":"'Student 1'!$E$48","v":"Wheel"},{"$f":"'Student 1'!$F$48","v":"tomer"},{"$f":"'Student 1'!$G$48","v":"Comp"},{"$nulls":13},{"$f":"'Student 1'!$U$48","v":{"v":0.945,"d":"95%"}},{"$f":"'Student 1'!$V$48","v":"A"}]
[{"$nulls":3},{"$f":"'Student 1'!$D$49","v":"100 P"},{"$f":"'Student 1'!$E$49","v":"Alignment"},{"$f":"'Student 1'!$F$49","v":"Work"},{"$f":"'Student 1'!$G$49","v":"etency"},{"$f":"'Student 1'!$H$49","v":" "},{"$f":"'Student 1'!$I$49","v":" "},{"$nulls":11},{"$f":"'Student 1'!$U$49","v":{"v":1,"d":"100%"}},{"$f":"'Student 1'!$V$49","v":"A"}]
[{"$nulls":3},{"$f":"'Student 1'!$D$50","v":1},{"$f":"'Student 1'!$E$50","v":1},{"$f":"'Student 1'!$F$50","v":" "},{"$f":"'Student 1'!$G$50","v":"0 or 1"},{"$f":"'Student 1'!$H$50","v":"Lab"}]
[{"$f":"'Student 1'!$A$51","v":"ID"},{"$f":"'Student 1'!$B$51","v":"First:"},{"$f":"'Student 1'!$C$51","v":"Last:"},{"$f":"'Student 1'!$D$51","v":100},{"$f":"'Student 1'!$E$51","v":900},{"$f":"'Student 1'!$F$51","v":300},{"$f":"'Student 1'!$G$51","v":"*"},{"$f":"'Student 1'!$H$51","v":"Points"},{"$f":"'Student 1'!$I$51","v":"%"}]
[{"$f":"'Course 4 Lab'!$A$20","v":{"v":14,"d":"00000014"}},{"$f":"'Course 4 Lab'!$B$20","v":"Student"},{"$f":"'Course 4 Lab'!$C$20","v":"Fourteen"},{"$f":"'Course 4 Lab'!$D$20","v":0},{"$f":"'Course 4 Lab'!$E$20","v":0},{"$f":"'Course 4 Lab'!$F$20","v":0},{"$f":"'Course 4 Lab'!$G$20","v":1},{"$f":"'Course 4 Lab'!$H$20","v":0},{"$f":"'Course 4 Lab'!$I$20","v":{"v":0,"d":"0%"}}]
[{"$f":"'Student 1'!$A$53","v":"Course 5 Brake Systems. Class."},{"$nulls":10},{"$f":"'Student 1'!$L$53","v":35}]
[{"$f":"'Student 1'!$A$54","v":"Date assignment is due:"},null,{"$f":"'Student 1'!$C$54","v":" "},{"$f":"'Student 1'!$D$54","v":"TBD"},{"$f":"'Student 1'!$E$54","v":"TBD"},{"$f":"'Student 1'!$F$54","v":"TBD"},{"$f":"'Student 1'!$G$54","v":"TBD"},{"$f":"'Student 1'!$H$54","v":"TBD"},{"$f":"'Student 1'!$I$54","v":"TBD"},{"$f":"'Student 1'!$J$54","v":"TBD"},{"$f":"'Student 1'!$K$54","v":"TBD"},{"$f":"'Student 1'!$L$54","v":"TBD"},{"$f":"'Student 1'!$M$54","v":"TBD"}]
[{"$f":"'Student 1'!$A$55","v":"Class Room Points:"},null,{"$f":"'Student 1'!$C$55","v":440},{"$f":"'Student 1'!$D$55","v":30},{"$f":"'Student 1'!$E$55","v":25},{"$f":"'Student 1'!$F$55","v":100},{"$f":"'Student 1'!$G$55","v":30},{"$f":"'Student 1'!$H$55","v":50},{"$f":"'Student 1'!$I$55","v":30},{"$f":"'Student 1'!$J$55","v":25},{"$f":"'Student 1'!$K$55","v":50},{"$f":"'Student 1'!$L$55","v":" "},{"$f":"'Student 1'!$M$55","v":100},{"$f":"'Student 1'!$N$55","v":"Evaluation"}]
[{"$f":"'Student 1'!$A$56","v":"Red is late turn-in"},null,{"$f":"'Student 1'!$C$56","v":"Blue is absent"},{"$f":"'Student 1'!$D$56","v":"HW"},{"$f":"'Student 1'!$E$56","v":"HW"},{"$f":"'Student 1'!$F$56","v":"Test"},{"$f":"'Student 1'!$G$56","v":"HW"},{"$f":"'Student 1'!$H$56","v":"Test"},{"$f":"'Student 1'!$I$56","v":"HW"},{"$f":"'Student 1'!$J$56","v":"Test"},{"$f":"'Student 1'!$K$56","v":"Class"},{"$f":"'Student 1'!$L$56","v":"Extra"},{"$f":"'Student 1'!$M$56","v":"Final"},{"$f":"'Student 1'!$N$56","v":"Class"},null,{"$f":"'Student 1'!$P$56","v":"Professionalism"},null,null,{"$f":"'Student 1'!$S$56","v":"Lab"},null,{"$f":"'Student 1'!$U$56","v":"Total  "},{"$f":"'Student 1'!$V$56","v":"Letter"}]
[{"$f":"'Student 1'!$A$57","v":"I D "},{"$f":"'Student 1'!$B$57","v":"First:"},{"$f":"'Student 1'!$C$57","v":"Last:"},{"$f":"'Student 1'!$D$57","v":"CH 4"},{"$f":"'Student 1'!$E$57","v":"CH 5"},{"$f":"'Student 1'!$F$57","v":"#1"},{"$f":"'Student 1'!$G$57","v":"CH 7"},{"$f":"'Student 1'!$H$57","v":"Conv"},{"$f":"'Student 1'!$I$57","v":"CH 20"},{"$f":"'Student 1'!$J$57","v":"21/22"},{"$f":"'Student 1'!$K$57","v":"Project"},{"$f":"'Student 1'!$L$57","v":"Credit"},{"$f":"'Student 1'!$M$57","v":"Test"},{"$f":"'Student 1'!$N$57","v":"Points"},{"$f":"'Student 1'!$O$57","v":"%"},{"$f":"'Student 1'!$P$57","v":"Attendance"},{"$f":"'Student 1'!$Q$57","v":"Points"},{"$f":"'Student 1'!$R$57","v":"%"},{"$f":"'Student 1'!$S$57","v":"Points"},{"$f":"'Student 1'!$T$57","v":"%"},{"$f":"'Student 1'!$U$57","v":"%"},{"$f":"'Student 1'!$V$57","v":"Grade"}]
[{"$f":"'Course 5 Class'!$A$19","v":{"v":14,"d":"00000014"}},{"$f":"'Course 5 Class'!$B$19","v":"Student"},{"$f":"'Course 5 Class'!$C$19","v":"Fourteen"},{"$f":"'Course 5 Class'!$D$19","v":0},{"$f":"'Course 5 Class'!$E$19","v":0},{"$f":"'Course 5 Class'!$F$19","v":0},{"$f":"'Course 5 Class'!$G$19","v":0},{"$f":"'Course 5 Class'!$H$19","v":0},{"$f":"'Course 5 Class'!$I$19","v":0},{"$f":"'Course 5 Class'!$J$19","v":0},{"$f":"'Course 5 Class'!$K$19","v":0},{"$f":"'Course 5 Class'!$L$19","v":0},{"$f":"'Course 5 Class'!$M$19","v":0},{"$f":"'Course 5 Class'!$N$19","v":0},{"$f":"'Course 5 Class'!$O$19","v":{"v":0,"d":"0%"}},{"$f":"'Course 5 Class'!$P$19","v":{"v":1,"d":"100%"}},{"$f":"'Course 5 Class'!$Q$19","v":72},{"$f":"'Course 5 Class'!$R$19","v":{"v":1,"d":"100%"}},{"$f":"'Course 5 Class'!$S$19","v":0},{"$f":"'Course 5 Class'!$T$19","v":{"v":0,"d":"0%"}},{"$f":"'Course 5 Class'!$U$19","v":{"v":0.25,"d":"25%"}},{"$f":"'Course 5 Class'!$V$19","v":"F"}]
[{"$f":"'Student 1'!$A$59","v":"Course 5 Brake Systems. Lab"}]
[{"$f":"'Student 1'!$A$60","v":"  Max Shop Points:"},null,{"$f":"'Student 1'!$C$60","v":970},{"$f":"'Student 1'!$D$60","v":"Drum"},{"$f":"'Student 1'!$E$60","v":"Drum "},{"$f":"'Student 1'!$F$60","v":"Disc"},{"$f":"'Student 1'!$G$60","v":"On Car"},{"$f":"'Student 1'!$H$60","v":"Off Car"},{"$f":"'Student 1'!$I$60","v":"Wheel"},{"$f":"'Student 1'!$J$60","v":"Hydr."},{"$f":"'Student 1'!$K$60","v":"Vacuum"},{"$f":"'Student 1'!$L$60","v":"Warning"},{"$f":"'Student 1'!$M$60","v":"Brake"},{"$f":"'Student 1'!$N$60","v":"Brake"},{"$f":"'Student 1'!$O$60","v":"Dodge"},{"$f":"'Student 1'!$P$60","v":"Ford"},{"$f":"'Student 1'!$Q$60","v":"GM"},{"$f":"'Student 1'!$R$60","v":"Cus"},{"$f":"'Student 1'!$S$60","v":"Brake"}]
[{"$f":"'Student 1'!$A$61","v":"Max shop points available depend on how much customer work is done."},null,null,{"$f":"'Student 1'!$D$61","v":"Brake"},{"$f":"'Student 1'!$E$61","v":"Brake "},{"$f":"'Student 1'!$F$61","v":"Brake"},{"$f":"'Student 1'!$G$61","v":"Disc"},{"$f":"'Student 1'!$H$61","v":"Disc"},{"$f":"'Student 1'!$I$61","v":"Bearing"},{"$f":"'Student 1'!$J$61","v":"Line"},{"$f":"'Student 1'!$K$61","v":"Booster"},{"$f":"'Student 1'!$L$61","v":"Light"},{"$f":"'Student 1'!$M$61","v":"System"},{"$f":"'Student 1'!$N$61","v":"Valves"},{"$f":"'Student 1'!$O$61","v":"Anti"},{"$f":"'Student 1'!$P$61","v":"Anti"},{"$f":"'Student 1'!$Q$61","v":"Anti"},{"$f":"'Student 1'!$R$61","v":"tomer"},{"$f":"'Student 1'!$S$61","v":"Comp"}]
[{"$nulls":3},{"$f":"'Student 1'!$D$62","v":"Job"},{"$f":"'Student 1'!$E$62","v":"Mach."},{"$f":"'Student 1'!$F$62","v":"Job"},{"$f":"'Student 1'!$G$62","v":"Mach."},{"$f":"'Student 1'!$H$62","v":"Mach."},{"$f":"'Student 1'!$I$62","v":"Service"},{"$f":"'Student 1'!$J$62","v":"Repair"},{"$f":"'Student 1'!$K$62","v":"Service"},{"$f":"'Student 1'!$L$62","v":"Service"},{"$f":"'Student 1'!$M$62","v":"Bleed"},{"$f":"'Student 1'!$N$62","v":"Check"},{"$f":"'Student 1'!$O$62","v":"Lock"},{"$f":"'Student 1'!$P$62","v":"Lock"},{"$f":"'Student 1'!$Q$62","v":"Lock"},{"$f":"'Student 1'!$R$62","v":"Work"},{"$f":"'Student 1'!$S$62","v":"etency"}]
[{"$nulls":3},{"$f":"'Student 1'!$D$63","v":2},{"$f":"'Student 1'!$E$63","v":2},{"$f":"'Student 1'!$F$63","v":2},{"$f":"'Student 1'!$G$63","v":2},{"$f":"'Student 1'!$H$63","v":2},{"$f":"'Student 1'!$I$63","v":1},{"$f":"'Student 1'!$J$63","v":1},{"$f":"'Student 1'!$K$63","v":2},{"$f":"'Student 1'!$L$63","v":2},{"$f":"'Student 1'!$M$63","v":4},{"$f":"'Student 1'!$N$63","v":1},{"$f":"'Student 1'!$O$63","v":1},{"$f":"'Student 1'!$P$63","v":1},{"$f":"'Student 1'!$Q$63","v":1},{"$f":"'Student 1'!$R$63","v":" "},{"$f":"'Student 1'!$S$63","v":"Required"},{"$f":"'Student 1'!$T$63","v":"Lab"}]
[{"$f":"'Student 1'!$A$64","v":"ID"},{"$f":"'Student 1'!$B$64","v":"First:"},{"$f":"'Student 1'!$C$64","v":"Last:"},{"$f":"'Student 1'!$D$64","v":150},{"$f":"'Student 1'!$E$64","v":40},{"$f":"'Student 1'!$F$64","v":150},{"$f":"'Student 1'!$G$64","v":80},{"$f":"'Student 1'!$H$64","v":40},{"$f":"'Student 1'!$I$64","v":50},{"$f":"'Student 1'!$J$64","v":30},{"$f":"'Student 1'!$K$64","v":30},{"$f":"'Student 1'!$L$64","v":40},{"$f":"'Student 1'!$M$64","v":80},{"$f":"'Student 1'!$N$64","v":40},{"$f":"'Student 1'!$O$64","v":80},{"$f":"'Student 1'!$P$64","v":80},{"$f":"'Student 1'!$Q$64","v":80},{"$f":"'Student 1'!$R$64","v":300},{"$f":"'Student 1'!$S$64","v":"*"},{"$f":"'Student 1'!$T$64","v":"Points"},{"$f":"'Student 1'!$U$64","v":"%"}]
[{"$f":"'Course 5 Lab'!$A$20","v":{"v":14,"d":"00000014"}},{"$f":"'Course 5 Lab'!$B$20","v":"Student"},{"$f":"'Course 5 Lab'!$C$20","v":"Fourteen"},{"$f":"'Course 5 Lab'!$D$20","v":0},{"$f":"'Course 5 Lab'!$E$20","v":0},{"$f":"'Course 5 Lab'!$F$20","v":0},{"$f":"'Course 5 Lab'!$G$20","v":0},{"$f":"'Course 5 Lab'!$H$20","v":0},{"$f":"'Course 5 Lab'!$I$20","v":0},{"$f":"'Course 5 Lab'!$J$20","v":0},{"$f":"'Course 5 Lab'!$K$20","v":0},{"$f":"'Course 5 Lab'!$L$20","v":0},{"$f":"'Course 5 Lab'!$M$20","v":0},{"$f":"'Course 5 Lab'!$N$20","v":0},{"$f":"'Course 5 Lab'!$O$20","v":0},{"$f":"'Course 5 Lab'!$P$20","v":0},{"$f":"'Course 5 Lab'!$Q$20","v":0},{"$f":"'Course 5 Lab'!$R$20","v":0},{"$f":"'Course 5 Lab'!$S$20","v":1},{"$f":"'Course 5 Lab'!$T$20","v":0},{"$f":"'Course 5 Lab'!$U$20","v":{"v":0,"d":"0%"}}]

{"sheet":"Student 15","index":28,"n_rows":65,"n_cols":23,"rows_kept":65,"merged":[[0,0,0,2],[1,0,1,2],[2,0,2,1],[2,9,2,17],[3,0,3,1],[3,9,3,10],[3,11,3,13],[3,14,3,15],[6,0,6,2],[7,0,7,1],[8,0,10,2],[10,16,10,17],[13,0,13,2],[14,1,14,2],[15,0,15,1],[15,11,15,19],[16,0,16,1],[16,11,16,12],[16,13,16,15],[16,16,16,17],[19,0,19,2],[20,0,20,1],[21,0,23,2],[23,13,23,14],[26,0,26,2],[27,1,27,2],[28,0,28,1],[28,14,28,22],[29,0,29,1],[29,14,29,15],[29,16,29,18],[29,19,29,20],[32,0,32,2],[33,0,33,1],[34,0,36,2],[35,20,35,21],[36,16,36,17],[39,0,39,2],[40,1,40,2],[41,0,41,1],[41,10,41,18],[42,0,42,1],[42,10,42,11],[42,12,42,14],[42,15,42,16],[45,0,45,2],[46,0,46,1],[47,0,49,2],[49,7,49,8],[52,0,52,2],[53,0,53,2],[54,0,54,1],[54,13,54,21],[55,0,55,1],[55,13,55,14],[55,15,55,17],[55,18,55,19],[58,0,58,2],[59,0,59,1],[60,0,62,2],[62,19,62,20]]}
[{"$f":"'Student 1'!$A$1","v":"Course 1 Engine Diagnosis. Class"},{"$nulls":6},{"$f":"'Student 1'!$H$1","v":25}]
[{"$f":"'Student 1'!$A$2","v":"Date assignment is due"},null,{"$f":"'Student 1'!$C$2","v":" "},{"$f":"'Student 1'!$D$2","v":"TBD"},{"$f":"'Student 1'!$E$2","v":"TBD"},{"$f":"'Student 1'!$F$2","v":"TBD"},{"$f":"'Student 1'!$G$2","v":"TBD"},{"$f":"'Student 1'!$H$2","v":"TBD"},{"$f":"'Student 1'!$I$2","v":"TBD"}]
[{"$f":"'Student 1'!$A$3","v":"Class Room Points:"},null,{"$f":"'Student 1'!$C$3","v":160},{"$f":"'Student 1'!$D$3","v":20},{"$f":"'Student 1'!$E$3","v":20},{"$f":"'Student 1'!$F$3","v":20},{"$f":"'Student 1'!$G$3","v":25},{"$f":"'Student 1'!$H$3","v":" "},{"$f":"'Student 1'!$I$3","v":75},{"$f":"'Student 1'!$J$3","v":"Evaluation"}]
[{"$f":"'Student 1'!$A$4","v":"Red is late turn-in"},null,{"$f":"'Student 1'!$C$4","v":"Blue is absent"},{"$f":"'Student 1'!$D$4","v":"CH 13 "},{"$f":"'Student 1'!$E$4","v":"Lube"},{"$f":"'Student 1'!$F$4","v":"Lube"},{"$f":"'Student 1'!$G$4","v":"Condition"},{"$f":"'Student 1'!$H$4","v":"Extra"},{"$f":"'Student 1'!$I$4","v":"Final"},{"$f":"'Student 1'!$J$4","v":"Classroom"},null,{"$f":"'Student 1'!$L$4","v":"Professionalism"},null,null,{"$f":"'Student 1'!$O$4","v":"Lab"},null,{"$f":"'Student 1'!$Q$4","v":"Total  "},{"$f":"'Student 1'!$R$4","v":"Letter"}]
[{"$f":"'Student 1'!$A$5","v":"I D "},{"$f":"'Student 1'!$B$5","v":"First:"},{"$f":"'Student 1'!$C$5","v":"Last:"},{"$f":"'Student 1'!$D$5","v":"Test"},{"$f":"'Student 1'!$E$5","v":"HW"},{"$f":"'Student 1'!$F$5","v":"Test"},{"$f":"'Student 1'!$G$5","v":"Class"},{"$f":"'Student 1'!$H$5","v":"Credit"},{"$f":"'Student 1'!$I$5","v":"Test"},{"$f":"'Student 1'!$J$5","v":"Points"},{"$f":"'Student 1'!$K$5","v":"%"},{"$f":"'Student 1'!$L$5","v":"Attendance"},{"$f":"'Student 1'!$M$5","v":"Points"},{"$f":"'Student 1'!$N$5","v":"%"},{"$f":"'Student 1'!$O$5","v":"Points"},{"$f":"'Student 1'!$P$5","v":"%"},{"$f":"'Student 1'!$Q$5","v":"%"},{"$f":"'Student 1'!$R$5","v":"Grade"}]
[{"$f":"'Course 1 Class'!$A$20","v":{"v":15,"d":"00000015"}},{"$f":"'Course 1 Class'!$B$20","v":"Student"},{"$f":"'Course 1 Class'!$C$20","v":"Fifteen"},{"$f":"'Course 1 Class'!$D$20","v":0},{"$f":"'Course 1 Class'!$E$20","v":0},{"$f":"'Course 1 Class'!$F$20","v":0},{"$f":"'Course 1 Class'!$G$20","v":0},{"$f":"'Course 1 Class'!$H$20","v":0},{"$f":"'Course 1 Class'!$I$20","v":0},{"$f":"'Course 1 Class'!$J$20","v":0},{"$f":"'Course 1 Class'!$K$20","v":{"v":0,"d":"0%"}},{"$f":"'Course 1 Class'!$L$20","v":{"v":1,"d":"100%"}},{"$f":"'Course 1 Class'!$M$20","v":72},{"$f":"'Course 1 Class'!$N$20","v":{"v":1,"d":"100%"}},{"$f":"'Course 1 Class'!$O$20","v":0},{"$f":"'Course 1 Class'!$P$20","v":{"v":0,"d":"0%"}},{"$f":"'Course 1 Class'!$Q$20","v":{"v":0.25,"d":"25%"}},{"$f":"'Course 1 Class'!$R$20","v":"F"}]
[{"$f":"'Student 1'!$A$7","v":"Course 1 Engine Diagnosis. Lab"}]
[{"$f":"'Student 1'!$A$8","v":"  Max Shop Points:"},null,{"$f":"'Student 1'!$C$8","v":1325},{"$f":"'Student 1'!$D$8","v":"Dry"},{"$f":"'Student 1'!$E$8","v":"Wet"},{"$f":"'Student 1'!$F$8","v":"Running"},{"$f":"'Student 1'!$G$8","v":"Cylinder"},{"$f":"'Student 1'!$H$8","v":"Oil"},{"$f":"'Student 1'!$I$8","v":"Cooling"},{"$f":"'Student 1'!$J$8","v":"Vacuum"},{"$f":"'Student 1'!$K$8","v":"PCV"},{"$f":"'Student 1'!$L$8","v":"Thermostat"},{"$f":"'Student 1'!$M$8","v":"Fluid"},{"$f":"'Student 1'!$N$8","v":"Diag"},{"$f":"'Student 1'!$O$8","v":" "}]
[{"$f":"'Student 1'!$A$9","v":"Max shop points available depend on how much customer work is done."},null,null,{"$f":"'Student 1'!$D$9","v":"Compr"},{"$f":"'Student 1'!$E$9","v":"Compr"},{"$f":"'Student 1'!$F$9","v":"Compr"},{"$f":"'Student 1'!$G$9","v":"Leakage"},{"$f":"'Student 1'!$H$9","v":"Pressure"},{"$f":"'Student 1'!$I$9","v":"System"},{"$f":"'Student 1'!$J$9","v":"Gauge"},{"$f":"'Student 1'!$K$9","v":"System"},{"$f":"'Student 1'!$L$9","v":"and fan"},{"$f":"'Student 1'!$M$9","v":"Leak"},{"$f":"'Student 1'!$N$9","v":"gauges"},{"$f":"'Student 1'!$O$9","v":"Cus"},{"$f":"'Student 1'!$P$9","v":"Comp"}]
[{"$nulls":3},{"$f":"'Student 1'!$D$10","v":"Test"},{"$f":"'Student 1'!$E$10","v":"Test"},{"$f":"'Student 1'!$F$10","v":"Test"},{"$f":"'Student 1'!$G$10","v":"Test"},{"$f":"'Student 1'!$H$10","v":"Test"},{"$f":"'Student 1'!$I$10","v":"Test"},{"$f":"'Student 1'!$J$10","v":"Test"},{"$f":"'Student 1'!$K$10","v":"Check"},{"$f":"'Student 1'!$L$10","v":"Operation"},{"$f":"'Student 1'!$M$10","v":"Check"},{"$f":"'Student 1'!$N$10","v":"any vehicle"},{"$f":"'Student 1'!$O$10","v":"tomer"},{"$f":"'Student 1'!$P$10","v":"etency"},{"$f":"'Student 1'!$Q$10","v":"  "},{"$f":"'Student 1'!$R$10","v":" "}]
[{"$nulls":3},{"$f":"'Student 1'!$D$11","v":2},{"$f":"'Student 1'!$E$11","v":2},{"$f":"'Student 1'!$F$11","v":2},{"$f":"'Student 1'!$G$11","v":2},{"$f":"'Student 1'!$H$11","v":2},{"$f":"'Student 1'!$I$11","v":2},{"$f":"'Student 1'!$J$11","v":2},{"$f":"'Student 1'!$K$11","v":2},{"$f":"'Student 1'!$L$11","v":2},{"$f":"'Student 1'!$M$11","v":1},{"$f":"'Student 1'!$N$11","v":1},{"$f":"'Student 1'!$O$11","v":"Work"},{"$f":"'Student 1'!$P$11","v":"0 or 1"},{"$f":"'Student 1'!$Q$11","v":"Lab"}]
[{"$f":"'Student 1'!$A$12","v":"ID"},{"$f":"'Student 1'!$B$12","v":"First:"},{"$f":"'Student 1'!$C$12","v":"Last:"},{"$f":"'Student 1'!$D$12","v":100},{"$f":"'Student 1'!$E$12","v":100},{"$f":"'Student 1'!$F$12","v":100},{"$f":"'Student 1'!$G$12","v":100},{"$f":"'Student 1'!$H$12","v":100},{"$f":"'Student 1'!$I$12","v":150},{"$f":"'Student 1'!$J$12","v":100},{"$f":"'Student 1'!$K$12","v":50},{"$f":"'Student 1'!$L$12","v":100},{"$f":"'Student 1'!$M$12","v":25},{"$f":"'Student 1'!$N$12","v":100},{"$f":"'Student 1'!$O$12","v":300},{"$f":"'Student 1'!$P$12","v":"*"},{"$f":"'Student 1'!$Q$12","v":"Points"},{"$f":"'Student 1'!$R$12","v":"%"}]
[{"$f":"'Course 1 Lab'!$A$21","v":{"v":15,"d":"00000015"}},{"$f":"'Course 1 Lab'!$B$21","v":"Student"},{"$f":"'Course 1 Lab'!$C$21","v":"Fifteen"},{"$f":"'Course 1 Lab'!$D$21","v":0},{"$f":"'Course 1 Lab'!$E$21","v":0},{"$f":"'Course 1 Lab'!$F$21","v":0},{"$f":"'Course 1 Lab'!$G$21","v":0},{"$f":"'Course 1 Lab'!$H$21","v":0},{"$f":"'Course 1 Lab'!$I$21","v":0},{"$f":"'Course 1 Lab'!$J$21","v":0},{"$f":"'Course 1 Lab'!$K$21","v":0},{"$f":"'Course 1 Lab'!$L$21","v":0},{"$f":"'Course 1 Lab'!$M$21","v":0},{"$f":"'Course 1 Lab'!$N$21","v":0},{"$f":"'Course 1 Lab'!$O$21","v":0},{"$f":"'Course 1 Lab'!$P$21","v":1},{"$f":"'Course 1 Lab'!$Q$21","v":0},{"$f":"'Course 1 Lab'!$R$21","v":{"v":0,"d":"0%"}}]
[{"$f":"'Student 1'!$A$14","v":"Course 2 Engine Theory & Repair. Class"},{"$nulls":8},{"$f":"'Student 1'!$J$14","v":25}]
[{"$f":"'Student 1'!$A$15","v":" "},{"$f":"'Student 1'!$B$15","v":"Date assignment is due:"},null,{"$f":"'Student 1'!$D$15","v":"TBD"},{"$f":"'Student 1'!$E$15","v":"TBD"},{"$f":"'Student 1'!$F$15","v":"TBD"},{"$f":"'Student 1'!$G$15","v":"TBD"},{"$f":"'Student 1'!$H$15","v":"TBD"},{"$f":"'Student 1'!$I$15","v":"TBD"},{"$f":"'Student 1'!$J$15","v":"TBD"},{"$f":"'Student 1'!$K$15","v":"TBD"}]
[{"$f":"'Student 1'!$A$16","v":"Class Room Points:"},null,{"$f":"'Student 1'!$C$16","v":201},{"$f":"'Student 1'!$D$16","v":10},{"$f":"'Student 1'!$E$16","v":10},{"$f":"'Student 1'!$F$16","v":20},{"$f":"'Student 1'!$G$16","v":20},{"$f":"'Student 1'!$H$16","v":16},{"$f":"'Student 1'!$I$16","v":25},{"$f":"'Student 1'!$J$16","v":" "},{"$f":"'Student 1'!$K$16","v":100},{"$f":"'Student 1'!$L$16","v":"Evaluation"}]
[{"$f":"'Student 1'!$A$17","v":"Red is late turn-in"},null,{"$f":"'Student 1'!$C$17","v":"Blue is absent"},{"$f":"'Student 1'!$D$17","v":"HW"},{"$f":"'Student 1'!$E$17","v":"HW "},{"$f":"'Student 1'!$F$17","v":"Test"},{"$f":"'Student 1'!$G$17","v":"Test"},{"$f":"'Student 1'!$H$17","v":"HW"},{"$f":"'Student 1'!$I$17","v":"Test"},{"$f":"'Student 1'!$J$17","v":"Extra"},{"$f":"'Student 1'!$K$17","v":"Final "},{"$f":"'Student 1'!$L$17","v":"Class"},null,{"$f":"'Student 1'!$N$17","v":"Professionalism"},null,null,{"$f":"'Student 1'!$Q$17","v":"Lab"},null,{"$f":"'Student 1'!$S$17","v":"Total  "},{"$f":"'Student 1'!$T$17","v":"Letter"}]
[{"$f":"'Student 1'!$A$18","v":"I D "},{"$f":"'Student 1'!$B$18","v":"First:"},{"$f":"'Student 1'!$C$18","v":"Last:"},{"$f":"'Student 1'!$D$18","v":"CH 7"},{"$f":"'Student 1'!$E$18","v":"CH 14"},{"$f":"'Student 1'!$F$18","v":"C & L"},{"$f":"'Student 1'!$G$18","v":"CH 18"},{"$f":"'Student 1'!$H$18","v":"CH 22"},{"$f":"'Student 1'!$I$18","v":"CH 22"},{"$f":"'Student 1'!$J$18","v":"Credit"},{"$f":"'Student 1'!$K$18","v":"TEST"},{"$f":"'Student 1'!$L$18","v":"Points"},{"$f":"'Student 1'!$M$18","v":"%"},{"$f":"'Student 1'!$N$18","v":"Attendance"},{"$f":"'Student 1'!$O$18","v":"Points"},{"$f":"'Student 1'!$P$18","v":"%"},{"$f":"'Student 1'!$Q$18","v":"Points"},{"$f":"'Student 1'!$R$18","v":"%"},{"$f":"'Student 1'!$S$18","v":"%"},{"$f":"'Student 1'!$T$18","v":"Grade"}]
[{"$f":"'Course 2 Class'!$A$20","v":{"v":15,"d":"00000015"}},{"$f":"'Course 2 Class'!$B$20","v":"Student"},{"$f":"'Course 2 Class'!$C$20","v":"Fifteen"},{"$f":"'Course 2 Class'!$D$20","v":0},{"$f":"'Course 2 Class'!$E$20","v":0},{"$f":"'Course 2 Class'!$F$20","v":0},{"$f":"'Course 2 Class'!$G$20","v":0},{"$f":"'Course 2 Class'!$H$20","v":0},{"$f":"'Course 2 Class'!$I$20","v":0},{"$f":"'Course 2 Class'!$J$20","v":0},{"$f":"'Course 2 Class'!$K$20","v":0},{"$f":"'Course 2 Class'!$L$20","v":0},{"$f":"'Course 2 Class'!$M$20","v":{"v":0,"d":"0%"}},{"$f":"'Course 2 Class'!$N$20","v":{"v":1,"d":"100%"}},{"$f":"'Course 2 Class'!$O$20","v":72},{"$f":"'Course 2 Class'!$P$20","v":{"v":1,"d":"100%"}},{"$f":"'Course 2 Class'!$Q$20","v":0},{"$f":"'Course 2 Class'!$R$20","v":{"v":0,"d":"0%"}},{"$f":"'Course 2 Class'!$S$20","v":{"v":0.25,"d":"25%"}},{"$f":"'Course 2 Class'!$T$20","v":"F"}]
[{"$f":"'Student 1'!$A$20","v":"Course 2 Engine Theory & Repair. Lab"}]
[{"$f":"'Student 1'!$A$21","v":"  Max Shop Points:"},null,{"$f":"'Student 1'!$C$21","v":1450},{"$f":"'Student 1'!$D$21","v":"Engine"},{"$f":"'Student 1'!$E$21","v":"Cylinder"},{"$f":"'Student 1'!$F$21","v":"Red"},{"$f":"'Student 1'!$G$21","v":"Mitsubishi"},{"$f":"'Student 1'!$H$21","v":"Any"},{"$f":"'Student 1'!$I$21","v":"DOHC"},{"$f":"'Student 1'!$J$21","v":"Valve seal"},{"$f":"'Student 1'!$K$21","v":"Misc."},{"$f":"'Student 1'!$L$21","v":" "}]
[{"$f":"'Student 1'!$A$22","v":"Max shop points available depend on how much customer work is done."},null,null,{"$f":"'Student 1'!$D$22","v":"Disassemble"},{"$f":"'Student 1'!$E$22","v":"Head"},{"$f":"'Student 1'!$F$22","v":"Dodge"},{"$f":"'Student 1'!$G$22","v":"\"3.0L\""},{"$f":"'Student 1'!$H$22","v":"Engine"},{"$f":"'Student 1'!$I$22","v":"Engine"},{"$f":"'Student 1'!$J$22","v":"&"},{"$f":"'Student 1'!$K$22","v":"Engine "},{"$f":"'Student 1'!$L$22","v":"Cus"},{"$f":"'Student 1'!$M$22","v":"Comp"}]
[{"$nulls":3},{"$f":"'Student 1'!$D$23","v":"& Measure"},{"$f":"'Student 1'!$E$23","v":"Repair"},{"$f":"'Student 1'!$F$23","v":"Clip"},{"$f":"'Student 1'!$G$23","v":"Clip"},{"$f":"'Student 1'!$H$23","v":"T-chain"},{"$f":"'Student 1'!$I$23","v":" Stand"},{"$f":"'Student 1'!$J$23","v":"Lobe lift"},{"$f":"'Student 1'!$K$23","v":"Points"},{"$f":"'Student 1'!$L$23","v":"tomer"},{"$f":"'Student 1'!$M$23","v":"etency"},{"$f":"'Student 1'!$N$23","v":" "},{"$f":"'Student 1'!$O$23","v":" "}]
[{"$nulls":3},{"$f":"'Student 1'!$D$24","v":1},{"$f":"'Student 1'!$E$24","v":1},{"$f":"'Student 1'!$F$24","v":1},{"$f":"'Student 1'!$G$24","v":1},{"$f":"'Student 1'!$H$24","v":1},{"$f":"'Student 1'!$I$24","v":1},{"$f":"'Student 1'!$J$24","v":1},null,{"$f":"'Student 1'!$L$24","v":"Work"},{"$f":"'Student 1'!$M$24","v":"0 or 1"},{"$f":"'Student 1'!$N$24","v":"Lab"}]
[{"$f":"'Student 1'!$A$25","v":"ID"},{"$f":"'Student 1'!$B$25","v":"First:"},{"$f":"'Student 1'!$C$25","v":"Last:"},{"$f":"'Student 1'!$D$25","v":300},{"$f":"'Student 1'!$E$25","v":200},{"$f":"'Student 1'!$F$25","v":100},{"$f":"'Student 1'!$G$25","v":100},{"$f":"'Student 1'!$H$25","v":100},{"$f":"'Student 1'!$I$25","v":100},{"$f":"'Student 1'!$J$25","v":50},{"$f":"'Student 1'!$K$25","v":200},{"$f":"'Student 1'!$L$25","v":300},{"$f":"'Student 1'!$M$25","v":"*"},{"$f":"'Student 1'!$N$25","v":"Points"},{"$f":"'Student 1'!$O$25","v":"%"}]
[{"$f":"'Course 2 Lab'!$A$21","v":{"v":15,"d":"00000015"}},{"$f":"'Course 2 Lab'!$B$21","v":"Student"},{"$f":"'Course 2 Lab'!$C$21","v":"Fifteen"},{"$f":"'Course 2 Lab'!$D$21","v":0},{"$f":"'Course 2 Lab'!$E$21","v":0},{"$f":"'Course 2 Lab'!$F$21","v":0},{"$f":"'Course 2 Lab'!$G$21","v":0},{"$f":"'Course 2 Lab'!$H$21","v":0},{"$f":"'Course 2 Lab'!$I$21","v":0},{"$f":"'Course 2 Lab'!$J$21","v":0},{"$f":"'Course 2 Lab'!$K$21","v":0},{"$f":"'Course 2 Lab'!$L$21","v":0},{"$f":"'Course 2 Lab'!$M$21","v":1},{"$f":"'Course 2 Lab'!$N$21","v":0},{"$f":"'Course 2 Lab'!$O$21","v":{"v":0,"d":"0%"}}]
[{"$f":"'Student 1'!$A$27","v":"Course 3 Steering & Suspension. Class."},{"$nulls":11},{"$f":"'Student 1'!$M$27","v":25}]
[{"$f":"'Student 1'!$A$28","v":" "},{"$f":"'Student 1'!$B$28","v":"Date assignment is due:"},null,{"$f":"'Student 1'!$D$28","v":"1/18"},{"$f":"'Student 1'!$E$28","v":"2/2"},{"$f":"'Student 1'!$F$28","v":"TBD"},{"$f":"'Student 1'!$G$28","v":"TBD"},{"$f":"'Student 1'!$H$28","v":"TBD"},{"$f":"'Student 1'!$I$28","v":"TBD"},{"$f":"'Student 1'!$J$28","v":"TBD"},{"$f":"'Student 1'!$K$28","v":"TBD"},{"$f":"'Student 1'!$L$28","v":"TBD"},{"$f":"'Student 1'!$M$28","v":"TBD"},{"$f":"'Student 1'!$N$28","v":"TBD"}]
[{"$f":"'Student 1'!$A$29","v":"Class Room Points:"},null,{"$f":"'Student 1'!$C$29","v":330},{"$f":"'Student 1'!$D$29","v":20},{"$f":"'Student 1'!$E$29","v":20},{"$f":"'Student 1'!$F$29","v":24},{"$f":"'Student 1'!$G$29","v":20},{"$f":"'Student 1'!$H$29","v":25},{"$f":"'Student 1'!$I$29","v":30},{"$f":"'Student 1'!$J$29","v":20},{"$f":"'Student 1'!$K$29","v":26},{"$f":"'Student 1'!$L$29","v":45},{"$f":"'Student 1'!$M$29","v":" "},{"$f":"'Student 1'!$N$29","v":100},{"$f":"'Student 1'!$O$29","v":"Evaluation"}]
[{"$f":"'Student 1'!$A$30","v":"Red is late turn-in"},null,{"$f":"'Student 1'!$C$30","v":"Blue is absent"},{"$f":"'Student 1'!$D$30","v":"HW"},{"$f":"'Student 1'!$E$30","v":"HW"},{"$f":"'Student 1'!$F$30","v":"HW"},{"$f":"'Student 1'!$G$30","v":"QZ"},{"$f":"'Student 1'!$H$30","v":"HW"},{"$f":"'Student 1'!$I$30","v":"HW"},{"$f":"'Student 1'!$J$30","v":"Test"},{"$f":"'Student 1'!$K$30","v":"HW"},{"$f":"'Student 1'!$L$30","v":"Class"},{"$f":"'Student 1'!$M$30","v":"Extra"},{"$f":"'Student 1'!$N$30","v":"Final"},{"$f":"'Student 1'!$O$30","v":"Class"},null,{"$f":"'Student 1'!$Q$30","v":"Professionalism"},null,null,{"$f":"'Student 1'!$T$30","v":"Lab"},null,{"$f":"'Student 1'!$V$30","v":"Total  "},{"$f":"'Student 1'!$W$30","v":"Letter"}]
[{"$f":"'Student 1'!$A$31","v":"I D "},{"$f":"'Student 1'!$B$31","v":"First:"},{"$f":"'Student 1'!$C$31","v":"Last:"},{"$f":"'Student 1'!$D$31","v":"CH 1"},{"$f":"'Student 1'!$E$31","v":"CH 2"},{"$f":"'Student 1'!$F$31","v":"CH 3"},{"$f":"'Student 1'!$G$31","v":"1"},{"$f":"'Student 1'!$H$31","v":"CH 6"},{"$f":"'Student 1'!$I$31","v":"CH 9"},{"$f":"'Student 1'!$J$31","v":"1 – 9"},{"$f":"'Student 1'!$K$31","v":"CH 12"},{"$f":"'Student 1'!$L$31","v":"Project"},{"$f":"'Student 1'!$M$31","v":"Credit"},{"$f":"'Student 1'!$N$31","v":"TEST"},{"$f":"'Student 1'!$O$31","v":"Points"},{"$f":"'Student 1'!$P$31","v":"%"},{"$f":"'Student 1'!$Q$31","v":"Attendance"},{"$f":"'Student 1'!$R$31","v":"Points"},{"$f":"'Student 1'!$S$31","v":"%"},{"$f":"'Student 1'!$T$31","v":"Points"},{"$f":"'Student 1'!$U$31","v":"%"},{"$f":"'Student 1'!$V$31","v":"%"},{"$f":"'Student 1'!$W$31","v":"Grade"}]
[{"$f":"'Course 3 Class'!$A$20","v":{"v":15,"d":"00000015"}},{"$f":"'Course 3 Class'!$B$20","v":"Student"},{"$f":"'Course 3 Class'!$C$20","v":"Fifteen"},{"$f":"'Course 3 Class'!$D$20","v":0},{"$f":"'Course 3 Class'!$E$20","v":0},{"$f":"'Course 3 Class'!$F$20","v":0},{"$f":"'Course 3 Class'!$G$20","v":0},{"$f":"'Course 3 Class'!$H$20","v":0},{"$f":"'Course 3 Class'!$I$20","v":0},{"$f":"'Course 3 Class'!$J$20","v":0},{"$f":"'Course 3 Class'!$K$20","v":0},{"$f":"'Course 3 Class'!$L$20","v":0},{"$f":"'Course 3 Class'!$M$20","v":0},{"$f":"'Course 3 Class'!$N$20","v":0},{"$f":"'Course 3 Class'!$O$20","v":0},{"$f":"'Course 3 Class'!$P$20","v":{"v":0,"d":"0%"}},{"$f":"'Course 3 Class'!$Q$20","v":{"v":1,"d":"100%"}},{"$f":"'Course 3 Class'!$R$20","v":72},{"$f":"'Course 3 Class'!$S$20","v":{"v":1,"d":"100%"}},{"$f":"'Course 3 Class'!$T$20","v":0},{"$f":"'Course 3 Class'!$U$20","v":{"v":0,"d":"0%"}},{"$f":"'Course 3 Class'!$V$20","v":{"v":0.25,"d":"25%"}},{"$f":"'Course 3 Class'!$W$20","v":"F"}]
[{"$f":"'Student 1'!$A$33","v":"Course 3 Steering & Suspension. Lab"}]
[{"$f":"'Student 1'!$A$34","v":"Max shop points"},null,{"$f":"'Student 1'!$C$34","v":1350},{"$f":"'Student 1'!$D$34","v":"Repair"},{"$f":"'Student 1'!$E$34","v":"Identify"},{"$f":"'Student 1'!$F$34","v":"Repair"},{"$f":"'Student 1'!$G$34","v":"Identify"},{"$f":"'Student 1'!$H$34","v":"Repair"},{"$f":"'Student 1'!$I$34","v":"R&R"},{"$f":"'Student 1'!$J$34","v":"R&R"},{"$f":"'Student 1'!$K$34","v":"R&R"},{"$f":"'Student 1'!$L$34","v":"P/S"},{"$f":"'Student 1'!$M$34","v":"R&R"},{"$f":"'Student 1'!$N$34","v":"NVH"},{"$f":"'Student 1'!$O$34","v":" "}]
[{"$f":"'Student 1'!$A$35","v":"Max shop points available depend on how much customer work is done."},null,null,{"$f":"'Student 1'!$D$35","v":"SLA"},{"$f":"'Student 1'!$E$35","v":"SLA"},{"$f":"'Student 1'!$F$35","v":"Mac-P"},{"$f":"'Student 1'!$G$35","v":"Mac-P"},{"$f":"'Student 1'!$H$35","v":"Rear"},{"$f":"'Student 1'!$I$35","v":"Rack &"},{"$f":"'Student 1'!$J$35","v":"Recirc."},{"$f":"'Student 1'!$K$35","v":"P/S"},{"$f":"'Student 1'!$L$35","v":"Pump"},{"$f":"'Student 1'!$M$35","v":"Inner"},{"$f":"'Student 1'!$N$35","v":"Runout &"},{"$f":"'Student 1'!$O$35","v":"Cus"},{"$f":"'Student 1'!$P$35","v":"Comp"}]
[{"$nulls":3},{"$f":"'Student 1'!$D$36","v":"Susp"},{"$f":"'Student 1'!$E$36","v":"Parts"},{"$f":"'Student 1'!$F$36","v":"Susp"},{"$f":"'Student 1'!$G$36","v":"Parts"},{"$f":"'Student 1'!$H$36","v":"Susp"},{"$f":"'Student 1'!$I$36","v":"Pinion"},{"$f":"'Student 1'!$J$36","v":"Gear"},{"$f":"'Student 1'!$K$36","v":"Pump"},{"$f":"'Student 1'!$L$36","v":"Test"},{"$f":"'Student 1'!$M$36","v":"Tie-Rod"},{"$f":"'Student 1'!$N$36","v":"bal. Check"},{"$f":"'Student 1'!$O$36","v":"tomer"},{"$f":"'Student 1'!$P$36","v":"etency"},{"$f":"'Student 1'!$Q$36","v":" "},{"$f":"'Student 1'!$R$36","v":" "},null,null,{"$f":"'Student 1'!$U$36","v":"Final Grade"}]
[{"$nulls":3},{"$f":"'Student 1'!$D$37","v":1},{"$f":"'Student 1'!$E$37","v":2},{"$f":"'Student 1'!$F$37","v":3},{"$f":"'Student 1'!$G$37","v":2},{"$f":"'Student 1'!$H$37","v":1},{"$f":"'Student 1'!$I$37","v":1},{"$f":"'Student 1'!$J$37","v":1},{"$f":"'Student 1'!$K$37","v":1},{"$f":"'Student 1'!$L$37","v":1},{"$f":"'Student 1'!$M$37","v":1},{"$f":"'Student 1'!$N$37","v":1},{"$f":"'Student 1'!$O$37","v":"Work"},{"$f":"'Student 1'!$P$37","v":"0 or 1"},{"$f":"'Student 1'!$Q$37","v":"Lab"},{"$nulls":3},{"$f":"'Student 1'!$U$37","v":{"v":0,"d":"0%"}},{"$f":"'Student 1'!$V$37","v":"F"}]
[{"$f":"'Student 1'!$A$38","v":"ID"},{"$f":"'Student 1'!$B$38","v":"First:"},{"$f":"'Student 1'!$C$38","v":"Last:"},{"$f":"'Student 1'!$D$38","v":150},{"$f":"'Student 1'!$E$38","v":50},{"$f":"'Student 1'!$F$38","v":225},{"$f":"'Student 1'!$G$38","v":50},{"$f":"'Student 1'!$H$38","v":50},{"$f":"'Student 1'!$I$38","v":150},{"$f":"'Student 1'!$J$38","v":125},{"$f":"'Student 1'!$K$38","v":50},{"$f":"'Student 1'!$L$38","v":50},{"$f":"'Student 1'!$M$38","v":50},{"$f":"'Student 1'!$N$38","v":100},{"$f":"'Student 1'!$O$38","v":300},{"$f":"'Student 1'!$P$38","v":"*"},{"$f":"'Student 1'!$Q$38","v":"Points"},{"$f":"'Student 1'!$R$38","v":"%"},null,null,{"$f":"'Student 1'!$U$38","v":{"v":0.695,"d":"70%"}},{"$f":"'Student 1'!$V$38","v":"D-"}]
[{"$f":"'Course 3 Lab'!$A$21","v":{"v":15,"d":"00000015"}},{"$f":"'Course 3 Lab'!$B$21","v":"Student"},{"$f":"'Course 3 Lab'!$C$21","v":"Fifteen"},{"$f":"'Course 3 Lab'!$D$21","v":0},{"$f":"'Course 3 Lab'!$E$21","v":0},{"$f":"'Course 3 Lab'!$F$21","v":0},{"$f":"'Course 3 Lab'!$G$21","v":0},{"$f":"'Course 3 Lab'!$H$21","v":0},{"$f":"'Course 3 Lab'!$I$21","v":0},{"$f":"'Course 3 Lab'!$J$21","v":0},{"$f":"'Course 3 Lab'!$K$21","v":0},{"$f":"'Course 3 Lab'!$L$21","v":0},{"$f":"'Course 3 Lab'!$M$21","v":0},{"$f":"'Course 3 Lab'!$N$21","v":0},{"$f":"'Course 3 Lab'!$O$21","v":0},{"$f":"'Course 3 Lab'!$P$21","v":1},{"$f":"'Course 3 Lab'!$Q$21","v":0},{"$f":"'Course 3 Lab'!$R$21","v":{"v":0,"d":"0%"}},null,null,{"$f":"'Student 1'!$U$39","v":{"v":0.715,"d":"72%"}},{"$f":"'Student 1'!$V$39","v":"D"}]
[{"$f":"'Student 1'!$A$40","v":"Course 4 Alignment. Class."},{"$nulls":7},{"$f":"'Student 1'!$I$40","v":25},{"$nulls":11},{"$f":"'Student 1'!$U$40","v":{"v":0.735,"d":"74%"}},{"$f":"'Student 1'!$V$40","v":"D+"}]
[{"$f":"'Student 1'!$A$41","v":" "},{"$f":"'Student 1'!$B$41","v":"Date assignment is due  "},null,{"$f":"'Student 1'!$D$41","v":"TBD"},{"$f":"'Student 1'!$E$41","v":"TBD"},{"$f":"'Student 1'!$F$41","v":"TBD"},{"$f":"'Student 1'!$G$41","v":"TBD"},{"$f":"'Student 1'!$H$41","v":"TBD"},{"$f":"'Student 1'!$I$41","v":"TBD"},{"$f":"'Student 1'!$J$41","v":"TBD"},{"$nulls":10},{"$f":"'Student 1'!$U$41","v":{"v":0.755,"d":"76%"}},{"$f":"'Student 1'!$V$41","v":"C-"}]
[{"$f":"'Student 1'!$A$42","v":"Class Room Points:"},null,{"$f":"'Student 1'!$C$42","v":235},{"$f":"'Student 1'!$D$42","v":25},{"$f":"'Student 1'!$E$42","v":25},{"$f":"'Student 1'!$F$42","v":20},{"$f":"'Student 1'!$G$42","v":40},{"$f":"'Student 1'!$H$42","v":50},{"$f":"'Student 1'!$I$42","v":" "},{"$f":"'Student 1'!$J$42","v":75},{"$f":"'Student 1'!$K$42","v":"Evaluation"},{"$nulls":9},{"$f":"'Student 1'!$U$42","v":{"v":0.785,"d":"79%"}},{"$f":"'Student 1'!$V$42","v":"C"}]
[{"$f":"'Student 1'!$A$43","v":"Red is late turn-in"},null,{"$f":"'Student 1'!$C$43","v":"Blue is absent"},{"$f":"'Student 1'!$D$43","v":"CH 16"},{"$f":"'Student 1'!$E$43","v":"CH 16"},{"$f":"'Student 1'!$F$43","v":"Align"},{"$f":"'Student 1'!$G$43","v":"In class"},{"$f":"'Student 1'!$H$43","v":"In class"},{"$f":"'Student 1'!$I$43","v":"Extra"},{"$f":"'Student 1'!$J$43","v":"Final"},{"$f":"'Student 1'!$K$43","v":"Class"},null,{"$f":"'Student 1'!$M$43","v":"Professionalism"},null,null,{"$f":"'Student 1'!$P$43","v":"Lab"},null,{"$f":"'Student 1'!$R$43","v":"Total  "},{"$f":"'Student 1'!$S$43","v":"Letter"},null,{"$f":"'Student 1'!$U$43","v":{"v":0.815,"d":"82%"}},{"$f":"'Student 1'!$V$43","v":"C+"}]
[{"$f":"'Student 1'!$A$44","v":"I D "},{"$f":"'Student 1'!$B$44","v":"First:"},{"$f":"'Student 1'!$C$44","v":"Last:"},{"$f":"'Student 1'!$D$44","v":"HW"},{"$f":"'Student 1'!$E$44","v":"Test"},{"$f":"'Student 1'!$F$44","v":"HW"},{"$f":"'Student 1'!$G$44","v":"Project1"},{"$f":"'Student 1'!$H$44","v":"Project2"},{"$f":"'Student 1'!$I$44","v":"Credit"},{"$f":"'Student 1'!$J$44","v":"Test"},{"$f":"'Student 1'!$K$44","v":"Points"},{"$f":"'Student 1'!$L$44","v":"%"},{"$f":"'Student 1'!$M$44","v":"Attendance"},{"$f":"'Student 1'!$N$44","v":"Points"},{"$f":"'Student 1'!$O$44","v":"%"},{"$f":"'Student 1'!$P$44","v":"Points"},{"$f":"'Student 1'!$Q$44","v":"%"},{"$f":"'Student 1'!$R$44","v":"%"},{"$f":"'Student 1'!$S$44","v":"Grade"},null,{"$f":"'Student 1'!$U$44","v":{"v":0.845,"d":"85%"}},{"$f":"'Student 1'!$V$44","v":"B-"}]
[{"$f":"'Course 4 Class'!$A$20","v":{"v":15,"d":"00000015"}},{"$f":"'Course 4 Class'!$B$20","v":"Student"},{"$f":"'Course 4 Class'!$C$20","v":"Fifteen"},{"$f":"'Course 4 Class'!$D$20","v":0},{"$f":"'Course 4 Class'!$E$20","v":0},{"$f":"'Course 4 Class'!$F$20","v":0},{"$f":"'Course 4 Class'!$G$20","v":0},{"$f":"'Course 4 Class'!$H$20","v":0},{"$f":"'Course 4 Class'!$I$20","v":0},{"$f":"'Course 4 Class'!$J$20","v":0},{"$f":"'Course 4 Class'!$K$20","v":0},{"$f":"'Course 4 Class'!$L$20","v":{"v":0,"d":"0%"}},{"$f":"'Course 4 Class'!$M$20","v":{"v":1,"d":"100%"}},{"$f":"'Course 4 Class'!$N$20","v":72},{"$f":"'Course 4 Class'!$O$20","v":{"v":1,"d":"100%"}},{"$f":"'Course 4 Class'!$P$20","v":0},{"$f":"'Course 4 Class'!$Q$20","v":{"v":0,"d":"0%"}},{"$f":"'Course 4 Class'!$R$20","v":{"v":0.25,"d":"25%"}},{"$f":"'Course 4 Class'!$S$20","v":"F"},null,{"$f":"'Student 1'!$U$45","v":{"v":0.875,"d":"88%"}},{"$f":"'Student 1'!$V$45","v":"B"}]
[{"$f":"'Student 1'!$A$46","v":"Course 4 Alignment. Lab"},{"$nulls":19},{"$f":"'Student 1'!$U$46","v":{"v":0.895,"d":"90%"}},{"$f":"'Student 1'!$V$46","v":"B+"}]
[{"$f":"'Student 1'!$A$47","v":"Max Shop Points:"},null,{"$f":"'Student 1'!$C$47","v":1300},{"$f":"'Student 1'!$D$47","v":"Alignment"},{"$f":"'Student 1'!$E$47","v":"Complete"},{"$f":"'Student 1'!$F$47","v":"Cus"},{"$f":"'Student 1'!$G$47","v":" "},{"$nulls":13},{"$f":"'Student 1'!$U$47","v":{"v":0.925,"d":"93%"}},{"$f":"'Student 1'!$V$47","v":"A-"}]
[{"$f":"'Student 1'!$A$48","v":"Max shop points available depend on how much customer work is done."},null,null,{"$f":"'Student 1'!$D$48","v":"Pre-check"},{"$f":"'Student 1'!$E$48","v":"Wheel"},{"$f":"'Student 1'!$F$48","v":"tomer"},{"$f":"'Student 1'!$G$48","v":"Comp"},{"$nulls":13},{"$f":"'Student 1'!$U$48","v":{"v":0.945,"d":"95%"}},{"$f":"'Student 1'!$V$48","v":"A"}]
[{"$nulls":3},{"$f":"'Student 1'!$D$49","v":"100 P"},{"$f":"'Student 1'!$E$49","v":"Alignment"},{"$f":"'Student 1'!$F$49","v":"Work"},{"$f":"'Student 1'!$G$49","v":"etency"},{"$f":"'Student 1'!$H$49","v":" "},{"$f":"'Student 1'!$I$49","v":" "},{"$nulls":11},{"$f":"'Student 1'!$U$49","v":{"v":1,"d":"100%"}},{"$f":"'Student 1'!$V$49","v":"A"}]
[{"$nulls":3},{"$f":"'Student 1'!$D$50","v":1},{"$f":"'Student 1'!$E$50","v":1},{"$f":"'Student 1'!$F$50","v":" "},{"$f":"'Student 1'!$G$50","v":"0 or 1"},{"$f":"'Student 1'!$H$50","v":"Lab"}]
[{"$f":"'Student 1'!$A$51","v":"ID"},{"$f":"'Student 1'!$B$51","v":"First:"},{"$f":"'Student 1'!$C$51","v":"Last:"},{"$f":"'Student 1'!$D$51","v":100},{"$f":"'Student 1'!$E$51","v":900},{"$f":"'Student 1'!$F$51","v":300},{"$f":"'Student 1'!$G$51","v":"*"},{"$f":"'Student 1'!$H$51","v":"Points"},{"$f":"'Student 1'!$I$51","v":"%"}]
[{"$f":"'Course 4 Lab'!$A$21","v":{"v":15,"d":"00000015"}},{"$f":"'Course 4 Lab'!$B$21","v":"Student"},{"$f":"'Course 4 Lab'!$C$21","v":"Fifteen"},{"$f":"'Course 4 Lab'!$D$21","v":0},{"$f":"'Course 4 Lab'!$E$21","v":0},{"$f":"'Course 4 Lab'!$F$21","v":0},{"$f":"'Course 4 Lab'!$G$21","v":1},{"$f":"'Course 4 Lab'!$H$21","v":0},{"$f":"'Course 4 Lab'!$I$21","v":{"v":0,"d":"0%"}}]
[{"$f":"'Student 1'!$A$53","v":"Course 5 Brake Systems. Class."},{"$nulls":10},{"$f":"'Student 1'!$L$53","v":35}]
[{"$f":"'Student 1'!$A$54","v":"Date assignment is due:"},null,{"$f":"'Student 1'!$C$54","v":" "},{"$f":"'Student 1'!$D$54","v":"TBD"},{"$f":"'Student 1'!$E$54","v":"TBD"},{"$f":"'Student 1'!$F$54","v":"TBD"},{"$f":"'Student 1'!$G$54","v":"TBD"},{"$f":"'Student 1'!$H$54","v":"TBD"},{"$f":"'Student 1'!$I$54","v":"TBD"},{"$f":"'Student 1'!$J$54","v":"TBD"},{"$f":"'Student 1'!$K$54","v":"TBD"},{"$f":"'Student 1'!$L$54","v":"TBD"},{"$f":"'Student 1'!$M$54","v":"TBD"}]
[{"$f":"'Student 1'!$A$55","v":"Class Room Points:"},null,{"$f":"'Student 1'!$C$55","v":440},{"$f":"'Student 1'!$D$55","v":30},{"$f":"'Student 1'!$E$55","v":25},{"$f":"'Student 1'!$F$55","v":100},{"$f":"'Student 1'!$G$55","v":30},{"$f":"'Student 1'!$H$55","v":50},{"$f":"'Student 1'!$I$55","v":30},{"$f":"'Student 1'!$J$55","v":25},{"$f":"'Student 1'!$K$55","v":50},{"$f":"'Student 1'!$L$55","v":" "},{"$f":"'Student 1'!$M$55","v":100},{"$f":"'Student 1'!$N$55","v":"Evaluation"}]
[{"$f":"'Student 1'!$A$56","v":"Red is late turn-in"},null,{"$f":"'Student 1'!$C$56","v":"Blue is absent"},{"$f":"'Student 1'!$D$56","v":"HW"},{"$f":"'Student 1'!$E$56","v":"HW"},{"$f":"'Student 1'!$F$56","v":"Test"},{"$f":"'Student 1'!$G$56","v":"HW"},{"$f":"'Student 1'!$H$56","v":"Test"},{"$f":"'Student 1'!$I$56","v":"HW"},{"$f":"'Student 1'!$J$56","v":"Test"},{"$f":"'Student 1'!$K$56","v":"Class"},{"$f":"'Student 1'!$L$56","v":"Extra"},{"$f":"'Student 1'!$M$56","v":"Final"},{"$f":"'Student 1'!$N$56","v":"Class"},null,{"$f":"'Student 1'!$P$56","v":"Professionalism"},null,null,{"$f":"'Student 1'!$S$56","v":"Lab"},null,{"$f":"'Student 1'!$U$56","v":"Total  "},{"$f":"'Student 1'!$V$56","v":"Letter"}]
[{"$f":"'Student 1'!$A$57","v":"I D "},{"$f":"'Student 1'!$B$57","v":"First:"},{"$f":"'Student 1'!$C$57","v":"Last:"},{"$f":"'Student 1'!$D$57","v":"CH 4"},{"$f":"'Student 1'!$E$57","v":"CH 5"},{"$f":"'Student 1'!$F$57","v":"#1"},{"$f":"'Student 1'!$G$57","v":"CH 7"},{"$f":"'Student 1'!$H$57","v":"Conv"},{"$f":"'Student 1'!$I$57","v":"CH 20"},{"$f":"'Student 1'!$J$57","v":"21/22"},{"$f":"'Student 1'!$K$57","v":"Project"},{"$f":"'Student 1'!$L$57","v":"Credit"},{"$f":"'Student 1'!$M$57","v":"Test"},{"$f":"'Student 1'!$N$57","v":"Points"},{"$f":"'Student 1'!$O$57","v":"%"},{"$f":"'Student 1'!$P$57","v":"Attendance"},{"$f":"'Student 1'!$Q$57","v":"Points"},{"$f":"'Student 1'!$R$57","v":"%"},{"$f":"'Student 1'!$S$57","v":"Points"},{"$f":"'Student 1'!$T$57","v":"%"},{"$f":"'Student 1'!$U$57","v":"%"},{"$f":"'Student 1'!$V$57","v":"Grade"}]
[{"$f":"'Course 5 Class'!$A$20","v":{"v":15,"d":"00000015"}},{"$f":"'Course 5 Class'!$B$20","v":"Student"},{"$f":"'Course 5 Class'!$C$20","v":"Fifteen"},{"$f":"'Course 5 Class'!$D$20","v":0},{"$f":"'Course 5 Class'!$E$20","v":0},{"$f":"'Course 5 Class'!$F$20","v":0},{"$f":"'Course 5 Class'!$G$20","v":0},{"$f":"'Course 5 Class'!$H$20","v":0},{"$f":"'Course 5 Class'!$I$20","v":0},{"$f":"'Course 5 Class'!$J$20","v":0},{"$f":"'Course 5 Class'!$K$20","v":0},{"$f":"'Course 5 Class'!$L$20","v":0},{"$f":"'Course 5 Class'!$M$20","v":0},{"$f":"'Course 5 Class'!$N$20","v":0},{"$f":"'Course 5 Class'!$O$20","v":{"v":0,"d":"0%"}},{"$f":"'Course 5 Class'!$P$20","v":{"v":1,"d":"100%"}},{"$f":"'Course 5 Class'!$Q$20","v":72},{"$f":"'Course 5 Class'!$R$20","v":{"v":1,"d":"100%"}},{"$f":"'Course 5 Class'!$S$20","v":0},{"$f":"'Course 5 Class'!$T$20","v":{"v":0,"d":"0%"}},{"$f":"'Course 5 Class'!$U$20","v":{"v":0.25,"d":"25%"}},{"$f":"'Course 5 Class'!$V$20","v":"F"}]
[{"$f":"'Student 1'!$A$59","v":"Course 5 Brake Systems. Lab"}]
[{"$f":"'Student 1'!$A$60","v":"  Max Shop Points:"},null,{"$f":"'Student 1'!$C$60","v":970},{"$f":"'Student 1'!$D$60","v":"Drum"},{"$f":"'Student 1'!$E$60","v":"Drum "},{"$f":"'Student 1'!$F$60","v":"Disc"},{"$f":"'Student 1'!$G$60","v":"On Car"},{"$f":"'Student 1'!$H$60","v":"Off Car"},{"$f":"'Student 1'!$I$60","v":"Wheel"},{"$f":"'Student 1'!$J$60","v":"Hydr."},{"$f":"'Student 1'!$K$60","v":"Vacuum"},{"$f":"'Student 1'!$L$60","v":"Warning"},{"$f":"'Student 1'!$M$60","v":"Brake"},{"$f":"'Student 1'!$N$60","v":"Brake"},{"$f":"'Student 1'!$O$60","v":"Dodge"},{"$f":"'Student 1'!$P$60","v":"Ford"},{"$f":"'Student 1'!$Q$60","v":"GM"},{"$f":"'Student 1'!$R$60","v":"Cus"},{"$f":"'Student 1'!$S$60","v":"Brake"}]
[{"$f":"'Student 1'!$A$61","v":"Max shop points available depend on how much customer work is done."},null,null,{"$f":"'Student 1'!$D$61","v":"Brake"},{"$f":"'Student 1'!$E$61","v":"Brake "},{"$f":"'Student 1'!$F$61","v":"Brake"},{"$f":"'Student 1'!$G$61","v":"Disc"},{"$f":"'Student 1'!$H$61","v":"Disc"},{"$f":"'Student 1'!$I$61","v":"Bearing"},{"$f":"'Student 1'!$J$61","v":"Line"},{"$f":"'Student 1'!$K$61","v":"Booster"},{"$f":"'Student 1'!$L$61","v":"Light"},{"$f":"'Student 1'!$M$61","v":"System"},{"$f":"'Student 1'!$N$61","v":"Valves"},{"$f":"'Student 1'!$O$61","v":"Anti"},{"$f":"'Student 1'!$P$61","v":"Anti"},{"$f":"'Student 1'!$Q$61","v":"Anti"},{"$f":"'Student 1'!$R$61","v":"tomer"},{"$f":"'Student 1'!$S$61","v":"Comp"}]
[{"$nulls":3},{"$f":"'Student 1'!$D$62","v":"Job"},{"$f":"'Student 1'!$E$62","v":"Mach."},{"$f":"'Student 1'!$F$62","v":"Job"},{"$f":"'Student 1'!$G$62","v":"Mach."},{"$f":"'Student 1'!$H$62","v":"Mach."},{"$f":"'Student 1'!$I$62","v":"Service"},{"$f":"'Student 1'!$J$62","v":"Repair"},{"$f":"'Student 1'!$K$62","v":"Service"},{"$f":"'Student 1'!$L$62","v":"Service"},{"$f":"'Student 1'!$M$62","v":"Bleed"},{"$f":"'Student 1'!$N$62","v":"Check"},{"$f":"'Student 1'!$O$62","v":"Lock"},{"$f":"'Student 1'!$P$62","v":"Lock"},{"$f":"'Student 1'!$Q$62","v":"Lock"},{"$f":"'Student 1'!$R$62","v":"Work"},{"$f":"'Student 1'!$S$62","v":"etency"}]
[{"$nulls":3},{"$f":"'Student 1'!$D$63","v":2},{"$f":"'Student 1'!$E$63","v":2},{"$f":"'Student 1'!$F$63","v":2},{"$f":"'Student 1'!$G$63","v":2},{"$f":"'Student 1'!$H$63","v":2},{"$f":"'Student 1'!$I$63","v":1},{"$f":"'Student 1'!$J$63","v":1},{"$f":"'Student 1'!$K$63","v":2},{"$f":"'Student 1'!$L$63","v":2},{"$f":"'Student 1'!$M$63","v":4},{"$f":"'Student 1'!$N$63","v":1},{"$f":"'Student 1'!$O$63","v":1},{"$f":"'Student 1'!$P$63","v":1},{"$f":"'Student 1'!$Q$63","v":1},{"$f":"'Student 1'!$R$63","v":" "},{"$f":"'Student 1'!$S$63","v":"Required"},{"$f":"'Student 1'!$T$63","v":"Lab"}]
[{"$f":"'Student 1'!$A$64","v":"ID"},{"$f":"'Student 1'!$B$64","v":"First:"},{"$f":"'Student 1'!$C$64","v":"Last:"},{"$f":"'Student 1'!$D$64","v":150},{"$f":"'Student 1'!$E$64","v":40},{"$f":"'Student 1'!$F$64","v":150},{"$f":"'Student 1'!$G$64","v":80},{"$f":"'Student 1'!$H$64","v":40},{"$f":"'Student 1'!$I$64","v":50},{"$f":"'Student 1'!$J$64","v":30},{"$f":"'Student 1'!$K$64","v":30},{"$f":"'Student 1'!$L$64","v":40},{"$f":"'Student 1'!$M$64","v":80},{"$f":"'Student 1'!$N$64","v":40},{"$f":"'Student 1'!$O$64","v":80},{"$f":"'Student 1'!$P$64","v":80},{"$f":"'Student 1'!$Q$64","v":80},{"$f":"'Student 1'!$R$64","v":300},{"$f":"'Student 1'!$S$64","v":"*"},{"$f":"'Student 1'!$T$64","v":"Points"},{"$f":"'Student 1'!$U$64","v":"%"}]
[{"$f":"'Course 5 Class'!$A$20","v":{"v":15,"d":"00000015"}},{"$f":"'Course 5 Class'!$B$20","v":"Student"},{"$f":"'Course 5 Class'!$C$20","v":"Fifteen"},{"$f":"'Course 5 Class'!$D$20","v":0},{"$f":"'Course 5 Class'!$E$20","v":0},{"$f":"'Course 5 Class'!$F$20","v":0},{"$f":"'Course 5 Class'!$G$20","v":0},{"$f":"'Course 5 Class'!$H$20","v":0},{"$f":"'Course 5 Class'!$I$20","v":0},{"$f":"'Course 5 Class'!$J$20","v":0},{"$f":"'Course 5 Class'!$K$20","v":0},{"$f":"'Course 5 Class'!$L$20","v":0},{"$f":"'Course 5 Class'!$M$20","v":0},{"$f":"'Course 5 Class'!$N$20","v":0},{"$f":"'Course 5 Class'!$O$20","v":{"v":0,"d":"0.00%"}},{"$f":"'Course 5 Class'!$P$20","v":{"v":1,"d":"100.00%"}},{"$f":"'Course 5 Class'!$Q$20","v":72},{"$f":"'Course 5 Class'!$R$20","v":{"v":1,"d":"100.00%"}},{"$f":"'Course 5 Class'!$S$20","v":0},{"$f":"'Course 5 Class'!$T$20","v":{"v":0,"d":"0.00%"}},{"$f":"'Course 5 Class'!$U$20","v":{"v":0.25,"d":"25%"}},{"$f":"'Course 5 Class'!$V$20","v":"F"}]

{"sheet":"Student 16","index":29,"n_rows":65,"n_cols":23,"rows_kept":65,"merged":[[0,0,0,2],[1,0,1,2],[2,0,2,1],[2,9,2,17],[3,0,3,1],[3,9,3,10],[3,11,3,13],[3,14,3,15],[6,0,6,2],[7,0,7,1],[8,0,10,2],[10,16,10,17],[13,0,13,2],[14,1,14,2],[15,0,15,1],[15,11,15,19],[16,0,16,1],[16,11,16,12],[16,13,16,15],[16,16,16,17],[19,0,19,2],[20,0,20,1],[21,0,23,2],[23,13,23,14],[26,0,26,2],[27,1,27,2],[28,0,28,1],[28,14,28,22],[29,0,29,1],[29,14,29,15],[29,16,29,18],[29,19,29,20],[32,0,32,2],[33,0,33,1],[34,0,36,2],[35,20,35,21],[36,16,36,17],[39,0,39,2],[40,1,40,2],[41,0,41,1],[41,10,41,18],[42,0,42,1],[42,10,42,11],[42,12,42,14],[42,15,42,16],[45,0,45,2],[46,0,46,1],[47,0,49,2],[49,7,49,8],[52,0,52,2],[53,0,53,2],[54,0,54,1],[54,13,54,21],[55,0,55,1],[55,13,55,14],[55,15,55,17],[55,18,55,19],[58,0,58,2],[59,0,59,1],[60,0,62,2],[62,19,62,20]]}
[{"$f":"'Student 1'!$A$1","v":"Course 1 Engine Diagnosis. Class"},{"$nulls":6},{"$f":"'Student 1'!$H$1","v":25}]
[{"$f":"'Student 1'!$A$2","v":"Date assignment is due"},null,{"$f":"'Student 1'!$C$2","v":" "},{"$f":"'Student 1'!$D$2","v":"TBD"},{"$f":"'Student 1'!$E$2","v":"TBD"},{"$f":"'Student 1'!$F$2","v":"TBD"},{"$f":"'Student 1'!$G$2","v":"TBD"},{"$f":"'Student 1'!$H$2","v":"TBD"},{"$f":"'Student 1'!$I$2","v":"TBD"}]
[{"$f":"'Student 1'!$A$3","v":"Class Room Points:"},null,{"$f":"'Student 1'!$C$3","v":160},{"$f":"'Student 1'!$D$3","v":20},{"$f":"'Student 1'!$E$3","v":20},{"$f":"'Student 1'!$F$3","v":20},{"$f":"'Student 1'!$G$3","v":25},{"$f":"'Student 1'!$H$3","v":" "},{"$f":"'Student 1'!$I$3","v":75},{"$f":"'Student 1'!$J$3","v":"Evaluation"}]
[{"$f":"'Student 1'!$A$4","v":"Red is late turn-in"},null,{"$f":"'Student 1'!$C$4","v":"Blue is absent"},{"$f":"'Student 1'!$D$4","v":"CH 13 "},{"$f":"'Student 1'!$E$4","v":"Lube"},{"$f":"'Student 1'!$F$4","v":"Lube"},{"$f":"'Student 1'!$G$4","v":"Condition"},{"$f":"'Student 1'!$H$4","v":"Extra"},{"$f":"'Student 1'!$I$4","v":"Final"},{"$f":"'Student 1'!$J$4","v":"Classroom"},null,{"$f":"'Student 1'!$L$4","v":"Professionalism"},null,null,{"$f":"'Student 1'!$O$4","v":"Lab"},null,{"$f":"'Student 1'!$Q$4","v":"Total  "},{"$f":"'Student 1'!$R$4","v":"Letter"}]
[{"$f":"'Student 1'!$A$5","v":"I D "},{"$f":"'Student 1'!$B$5","v":"First:"},{"$f":"'Student 1'!$C$5","v":"Last:"},{"$f":"'Student 1'!$D$5","v":"Test"},{"$f":"'Student 1'!$E$5","v":"HW"},{"$f":"'Student 1'!$F$5","v":"Test"},{"$f":"'Student 1'!$G$5","v":"Class"},{"$f":"'Student 1'!$H$5","v":"Credit"},{"$f":"'Student 1'!$I$5","v":"Test"},{"$f":"'Student 1'!$J$5","v":"Points"},{"$f":"'Student 1'!$K$5","v":"%"},{"$f":"'Student 1'!$L$5","v":"Attendance"},{"$f":"'Student 1'!$M$5","v":"Points"},{"$f":"'Student 1'!$N$5","v":"%"},{"$f":"'Student 1'!$O$5","v":"Points"},{"$f":"'Student 1'!$P$5","v":"%"},{"$f":"'Student 1'!$Q$5","v":"%"},{"$f":"'Student 1'!$R$5","v":"Grade"}]
[{"$f":"'Course 1 Class'!$A$21","v":{"v":16,"d":"00000016"}},{"$f":"'Course 1 Class'!$B$21","v":"Student"},{"$f":"'Course 1 Class'!$C$21","v":"Sixteen"},{"$f":"'Course 1 Class'!$D$21","v":0},{"$f":"'Course 1 Class'!$E$21","v":0},{"$f":"'Course 1 Class'!$F$21","v":0},{"$f":"'Course 1 Class'!$G$21","v":0},{"$f":"'Course 1 Class'!$H$21","v":0},{"$f":"'Course 1 Class'!$I$21","v":0},{"$f":"'Course 1 Class'!$J$21","v":0},{"$f":"'Course 1 Class'!$K$21","v":{"v":0,"d":"0%"}},{"$f":"'Course 1 Class'!$L$21","v":{"v":1,"d":"100%"}},{"$f":"'Course 1 Class'!$M$21","v":72},{"$f":"'Course 1 Class'!$N$21","v":{"v":1,"d":"100%"}},{"$f":"'Course 1 Class'!$O$21","v":0},{"$f":"'Course 1 Class'!$P$21","v":{"v":0,"d":"0%"}},{"$f":"'Course 1 Class'!$Q$21","v":{"v":0.25,"d":"25%"}},{"$f":"'Course 1 Class'!$R$21","v":"F"}]
[{"$f":"'Student 1'!$A$7","v":"Course 1 Engine Diagnosis. Lab"}]
[{"$f":"'Student 1'!$A$8","v":"  Max Shop Points:"},null,{"$f":"'Student 1'!$C$8","v":1325},{"$f":"'Student 1'!$D$8","v":"Dry"},{"$f":"'Student 1'!$E$8","v":"Wet"},{"$f":"'Student 1'!$F$8","v":"Running"},{"$f":"'Student 1'!$G$8","v":"Cylinder"},{"$f":"'Student 1'!$H$8","v":"Oil"},{"$f":"'Student 1'!$I$8","v":"Cooling"},{"$f":"'Student 1'!$J$8","v":"Vacuum"},{"$f":"'Student 1'!$K$8","v":"PCV"},{"$f":"'Student 1'!$L$8","v":"Thermostat"},{"$f":"'Student 1'!$M$8","v":"Fluid"},{"$f":"'Student 1'!$N$8","v":"Diag"},{"$f":"'Student 1'!$O$8","v":" "}]
[{"$f":"'Student 1'!$A$9","v":"Max shop points available depend on how much customer work is done."},null,null,{"$f":"'Student 1'!$D$9","v":"Compr"},{"$f":"'Student 1'!$E$9","v":"Compr"},{"$f":"'Student 1'!$F$9","v":"Compr"},{"$f":"'Student 1'!$G$9","v":"Leakage"},{"$f":"'Student 1'!$H$9","v":"Pressure"},{"$f":"'Student 1'!$I$9","v":"System"},{"$f":"'Student 1'!$J$9","v":"Gauge"},{"$f":"'Student 1'!$K$9","v":"System"},{"$f":"'Student 1'!$L$9","v":"and fan"},{"$f":"'Student 1'!$M$9","v":"Leak"},{"$f":"'Student 1'!$N$9","v":"gauges"},{"$f":"'Student 1'!$O$9","v":"Cus"},{"$f":"'Student 1'!$P$9","v":"Comp"}]
[{"$nulls":3},{"$f":"'Student 1'!$D$10","v":"Test"},{"$f":"'Student 1'!$E$10","v":"Test"},{"$f":"'Student 1'!$F$10","v":"Test"},{"$f":"'Student 1'!$G$10","v":"Test"},{"$f":"'Student 1'!$H$10","v":"Test"},{"$f":"'Student 1'!$I$10","v":"Test"},{"$f":"'Student 1'!$J$10","v":"Test"},{"$f":"'Student 1'!$K$10","v":"Check"},{"$f":"'Student 1'!$L$10","v":"Operation"},{"$f":"'Student 1'!$M$10","v":"Check"},{"$f":"'Student 1'!$N$10","v":"any vehicle"},{"$f":"'Student 1'!$O$10","v":"tomer"},{"$f":"'Student 1'!$P$10","v":"etency"},{"$f":"'Student 1'!$Q$10","v":"  "},{"$f":"'Student 1'!$R$10","v":" "}]
[{"$nulls":3},{"$f":"'Student 1'!$D$11","v":2},{"$f":"'Student 1'!$E$11","v":2},{"$f":"'Student 1'!$F$11","v":2},{"$f":"'Student 1'!$G$11","v":2},{"$f":"'Student 1'!$H$11","v":2},{"$f":"'Student 1'!$I$11","v":2},{"$f":"'Student 1'!$J$11","v":2},{"$f":"'Student 1'!$K$11","v":2},{"$f":"'Student 1'!$L$11","v":2},{"$f":"'Student 1'!$M$11","v":1},{"$f":"'Student 1'!$N$11","v":1},{"$f":"'Student 1'!$O$11","v":"Work"},{"$f":"'Student 1'!$P$11","v":"0 or 1"},{"$f":"'Student 1'!$Q$11","v":"Lab"}]
[{"$f":"'Student 1'!$A$12","v":"ID"},{"$f":"'Student 1'!$B$12","v":"First:"},{"$f":"'Student 1'!$C$12","v":"Last:"},{"$f":"'Student 1'!$D$12","v":100},{"$f":"'Student 1'!$E$12","v":100},{"$f":"'Student 1'!$F$12","v":100},{"$f":"'Student 1'!$G$12","v":100},{"$f":"'Student 1'!$H$12","v":100},{"$f":"'Student 1'!$I$12","v":150},{"$f":"'Student 1'!$J$12","v":100},{"$f":"'Student 1'!$K$12","v":50},{"$f":"'Student 1'!$L$12","v":100},{"$f":"'Student 1'!$M$12","v":25},{"$f":"'Student 1'!$N$12","v":100},{"$f":"'Student 1'!$O$12","v":300},{"$f":"'Student 1'!$P$12","v":"*"},{"$f":"'Student 1'!$Q$12","v":"Points"},{"$f":"'Student 1'!$R$12","v":"%"}]
[{"$f":"'Course 1 Lab'!$A$22","v":{"v":16,"d":"00000016"}},{"$f":"'Course 1 Lab'!$B$22","v":"Student"},{"$f":"'Course 1 Lab'!$C$22","v":"Sixteen"},{"$f":"'Course 1 Lab'!$D$22","v":0},{"$f":"'Course 1 Lab'!$E$22","v":0},{"$f":"'Course 1 Lab'!$F$22","v":0},{"$f":"'Course 1 Lab'!$G$22","v":0},{"$f":"'Course 1 Lab'!$H$22","v":0},{"$f":"'Course 1 Lab'!$I$22","v":0},{"$f":"'Course 1 Lab'!$J$22","v":0},{"$f":"'Course 1 Lab'!$K$22","v":0},{"$f":"'Course 1 Lab'!$L$22","v":0},{"$f":"'Course 1 Lab'!$M$22","v":0},{"$f":"'Course 1 Lab'!$N$22","v":0},{"$f":"'Course 1 Lab'!$O$22","v":0},{"$f":"'Course 1 Lab'!$P$22","v":1},{"$f":"'Course 1 Lab'!$Q$22","v":0},{"$f":"'Course 1 Lab'!$R$22","v":{"v":0,"d":"0%"}}]
[{"$f":"'Student 1'!$A$14","v":"Course 2 Engine Theory & Repair. Class"},{"$nulls":8},{"$f":"'Student 1'!$J$14","v":25}]
[{"$f":"'Student 1'!$A$15","v":" "},{"$f":"'Student 1'!$B$15","v":"Date assignment is due:"},null,{"$f":"'Student 1'!$D$15","v":"TBD"},{"$f":"'Student 1'!$E$15","v":"TBD"},{"$f":"'Student 1'!$F$15","v":"TBD"},{"$f":"'Student 1'!$G$15","v":"TBD"},{"$f":"'Student 1'!$H$15","v":"TBD"},{"$f":"'Student 1'!$I$15","v":"TBD"},{"$f":"'Student 1'!$J$15","v":"TBD"},{"$f":"'Student 1'!$K$15","v":"TBD"}]
[{"$f":"'Student 1'!$A$16","v":"Class Room Points:"},null,{"$f":"'Student 1'!$C$16","v":201},{"$f":"'Student 1'!$D$16","v":10},{"$f":"'Student 1'!$E$16","v":10},{"$f":"'Student 1'!$F$16","v":20},{"$f":"'Student 1'!$G$16","v":20},{"$f":"'Student 1'!$H$16","v":16},{"$f":"'Student 1'!$I$16","v":25},{"$f":"'Student 1'!$J$16","v":" "},{"$f":"'Student 1'!$K$16","v":100},{"$f":"'Student 1'!$L$16","v":"Evaluation"}]
[{"$f":"'Student 1'!$A$17","v":"Red is late turn-in"},null,{"$f":"'Student 1'!$C$17","v":"Blue is absent"},{"$f":"'Student 1'!$D$17","v":"HW"},{"$f":"'Student 1'!$E$17","v":"HW "},{"$f":"'Student 1'!$F$17","v":"Test"},{"$f":"'Student 1'!$G$17","v":"Test"},{"$f":"'Student 1'!$H$17","v":"HW"},{"$f":"'Student 1'!$I$17","v":"Test"},{"$f":"'Student 1'!$J$17","v":"Extra"},{"$f":"'Student 1'!$K$17","v":"Final "},{"$f":"'Student 1'!$L$17","v":"Class"},null,{"$f":"'Student 1'!$N$17","v":"Professionalism"},null,null,{"$f":"'Student 1'!$Q$17","v":"Lab"},null,{"$f":"'Student 1'!$S$17","v":"Total  "},{"$f":"'Student 1'!$T$17","v":"Letter"}]
[{"$f":"'Student 1'!$A$18","v":"I D "},{"$f":"'Student 1'!$B$18","v":"First:"},{"$f":"'Student 1'!$C$18","v":"Last:"},{"$f":"'Student 1'!$D$18","v":"CH 7"},{"$f":"'Student 1'!$E$18","v":"CH 14"},{"$f":"'Student 1'!$F$18","v":"C & L"},{"$f":"'Student 1'!$G$18","v":"CH 18"},{"$f":"'Student 1'!$H$18","v":"CH 22"},{"$f":"'Student 1'!$I$18","v":"CH 22"},{"$f":"'Student 1'!$J$18","v":"Credit"},{"$f":"'Student 1'!$K$18","v":"TEST"},{"$f":"'Student 1'!$L$18","v":"Points"},{"$f":"'Student 1'!$M$18","v":"%"},{"$f":"'Student 1'!$N$18","v":"Attendance"},{"$f":"'Student 1'!$O$18","v":"Points"},{"$f":"'Student 1'!$P$18","v":"%"},{"$f":"'Student 1'!$Q$18","v":"Points"},{"$f":"'Student 1'!$R$18","v":"%"},{"$f":"'Student 1'!$S$18","v":"%"},{"$f":"'Student 1'!$T$18","v":"Grade"}]
[{"$f":"'Course 2 Class'!$A$21","v":{"v":16,"d":"00000016"}},{"$f":"'Course 2 Class'!$B$21","v":"Student"},{"$f":"'Course 2 Class'!$C$21","v":"Sixteen"},{"$f":"'Course 2 Class'!$D$21","v":0},{"$f":"'Course 2 Class'!$E$21","v":0},{"$f":"'Course 2 Class'!$F$21","v":0},{"$f":"'Course 2 Class'!$G$21","v":0},{"$f":"'Course 2 Class'!$H$21","v":0},{"$f":"'Course 2 Class'!$I$21","v":0},{"$f":"'Course 2 Class'!$J$21","v":0},{"$f":"'Course 2 Class'!$K$21","v":0},{"$f":"'Course 2 Class'!$L$21","v":0},{"$f":"'Course 2 Class'!$M$21","v":{"v":0,"d":"0%"}},{"$f":"'Course 2 Class'!$N$21","v":{"v":1,"d":"100%"}},{"$f":"'Course 2 Class'!$O$21","v":72},{"$f":"'Course 2 Class'!$P$21","v":{"v":1,"d":"100%"}},{"$f":"'Course 2 Class'!$Q$21","v":0},{"$f":"'Course 2 Class'!$R$21","v":{"v":0,"d":"0%"}},{"$f":"'Course 2 Class'!$S$21","v":{"v":0.25,"d":"25%"}},{"$f":"'Course 2 Class'!$T$21","v":"F"}]
[{"$f":"'Student 1'!$A$20","v":"Course 2 Engine Theory & Repair. Lab"}]
[{"$f":"'Student 1'!$A$21","v":"  Max Shop Points:"},null,{"$f":"'Student 1'!$C$21","v":1450},{"$f":"'Student 1'!$D$21","v":"Engine"},{"$f":"'Student 1'!$E$21","v":"Cylinder"},{"$f":"'Student 1'!$F$21","v":"Red"},{"$f":"'Student 1'!$G$21","v":"Mitsubishi"},{"$f":"'Student 1'!$H$21","v":"Any"},{"$f":"'Student 1'!$I$21","v":"DOHC"},{"$f":"'Student 1'!$J$21","v":"Valve seal"},{"$f":"'Student 1'!$K$21","v":"Misc."},{"$f":"'Student 1'!$L$21","v":" "}]
[{"$f":"'Student 1'!$A$22","v":"Max shop points available depend on how much customer work is done."},null,null,{"$f":"'Student 1'!$D$22","v":"Disassemble"},{"$f":"'Student 1'!$E$22","v":"Head"},{"$f":"'Student 1'!$F$22","v":"Dodge"},{"$f":"'Student 1'!$G$22","v":"\"3.0L\""},{"$f":"'Student 1'!$H$22","v":"Engine"},{"$f":"'Student 1'!$I$22","v":"Engine"},{"$f":"'Student 1'!$J$22","v":"&"},{"$f":"'Student 1'!$K$22","v":"Engine "},{"$f":"'Student 1'!$L$22","v":"Cus"},{"$f":"'Student 1'!$M$22","v":"Comp"}]
[{"$nulls":3},{"$f":"'Student 1'!$D$23","v":"& Measure"},{"$f":"'Student 1'!$E$23","v":"Repair"},{"$f":"'Student 1'!$F$23","v":"Clip"},{"$f":"'Student 1'!$G$23","v":"Clip"},{"$f":"'Student 1'!$H$23","v":"T-chain"},{"$f":"'Student 1'!$I$23","v":" Stand"},{"$f":"'Student 1'!$J$23","v":"Lobe lift"},{"$f":"'Student 1'!$K$23","v":"Points"},{"$f":"'Student 1'!$L$23","v":"tomer"},{"$f":"'Student 1'!$M$23","v":"etency"},{"$f":"'Student 1'!$N$23","v":" "},{"$f":"'Student 1'!$O$23","v":" "}]
[{"$nulls":3},{"$f":"'Student 1'!$D$24","v":1},{"$f":"'Student 1'!$E$24","v":1},{"$f":"'Student 1'!$F$24","v":1},{"$f":"'Student 1'!$G$24","v":1},{"$f":"'Student 1'!$H$24","v":1},{"$f":"'Student 1'!$I$24","v":1},{"$f":"'Student 1'!$J$24","v":1},null,{"$f":"'Student 1'!$L$24","v":"Work"},{"$f":"'Student 1'!$M$24","v":"0 or 1"},{"$f":"'Student 1'!$N$24","v":"Lab"}]
[{"$f":"'Student 1'!$A$25","v":"ID"},{"$f":"'Student 1'!$B$25","v":"First:"},{"$f":"'Student 1'!$C$25","v":"Last:"},{"$f":"'Student 1'!$D$25","v":300},{"$f":"'Student 1'!$E$25","v":200},{"$f":"'Student 1'!$F$25","v":100},{"$f":"'Student 1'!$G$25","v":100},{"$f":"'Student 1'!$H$25","v":100},{"$f":"'Student 1'!$I$25","v":100},{"$f":"'Student 1'!$J$25","v":50},{"$f":"'Student 1'!$K$25","v":200},{"$f":"'Student 1'!$L$25","v":300},{"$f":"'Student 1'!$M$25","v":"*"},{"$f":"'Student 1'!$N$25","v":"Points"},{"$f":"'Student 1'!$O$25","v":"%"}]
[{"$f":"'Course 2 Lab'!$A$22","v":{"v":16,"d":"00000016"}},{"$f":"'Course 2 Lab'!$B$22","v":"Student"},{"$f":"'Course 2 Lab'!$C$22","v":"Sixteen"},{"$f":"'Course 2 Lab'!$D$22","v":0},{"$f":"'Course 2 Lab'!$E$22","v":0},{"$f":"'Course 2 Lab'!$F$22","v":0},{"$f":"'Course 2 Lab'!$G$22","v":0},{"$f":"'Course 2 Lab'!$H$22","v":0},{"$f":"'Course 2 Lab'!$I$22","v":0},{"$f":"'Course 2 Lab'!$J$22","v":0},{"$f":"'Course 2 Lab'!$K$22","v":0},{"$f":"'Course 2 Lab'!$L$22","v":0},{"$f":"'Course 2 Lab'!$M$22","v":1},{"$f":"'Course 2 Lab'!$N$22","v":0},{"$f":"'Course 2 Lab'!$O$22","v":{"v":0,"d":"0%"}}]
[{"$f":"'Student 1'!$A$27","v":"Course 3 Steering & Suspension. Class."},{"$nulls":11},{"$f":"'Student 1'!$M$27","v":25}]
[{"$f":"'Student 1'!$A$28","v":" "},{"$f":"'Student 1'!$B$28","v":"Date assignment is due:"},null,{"$f":"'Student 1'!$D$28","v":"1/18"},{"$f":"'Student 1'!$E$28","v":"2/2"},{"$f":"'Student 1'!$F$28","v":"TBD"},{"$f":"'Student 1'!$G$28","v":"TBD"},{"$f":"'Student 1'!$H$28","v":"TBD"},{"$f":"'Student 1'!$I$28","v":"TBD"},{"$f":"'Student 1'!$J$28","v":"TBD"},{"$f":"'Student 1'!$K$28","v":"TBD"},{"$f":"'Student 1'!$L$28","v":"TBD"},{"$f":"'Student 1'!$M$28","v":"TBD"},{"$f":"'Student 1'!$N$28","v":"TBD"}]
[{"$f":"'Student 1'!$A$29","v":"Class Room Points:"},null,{"$f":"'Student 1'!$C$29","v":330},{"$f":"'Student 1'!$D$29","v":20},{"$f":"'Student 1'!$E$29","v":20},{"$f":"'Student 1'!$F$29","v":24},{"$f":"'Student 1'!$G$29","v":20},{"$f":"'Student 1'!$H$29","v":25},{"$f":"'Student 1'!$I$29","v":30},{"$f":"'Student 1'!$J$29","v":20},{"$f":"'Student 1'!$K$29","v":26},{"$f":"'Student 1'!$L$29","v":45},{"$f":"'Student 1'!$M$29","v":" "},{"$f":"'Student 1'!$N$29","v":100},{"$f":"'Student 1'!$O$29","v":"Evaluation"}]
[{"$f":"'Student 1'!$A$30","v":"Red is late turn-in"},null,{"$f":"'Student 1'!$C$30","v":"Blue is absent"},{"$f":"'Student 1'!$D$30","v":"HW"},{"$f":"'Student 1'!$E$30","v":"HW"},{"$f":"'Student 1'!$F$30","v":"HW"},{"$f":"'Student 1'!$G$30","v":"QZ"},{"$f":"'Student 1'!$H$30","v":"HW"},{"$f":"'Student 1'!$I$30","v":"HW"},{"$f":"'Student 1'!$J$30","v":"Test"},{"$f":"'Student 1'!$K$30","v":"HW"},{"$f":"'Student 1'!$L$30","v":"Class"},{"$f":"'Student 1'!$M$30","v":"Extra"},{"$f":"'Student 1'!$N$30","v":"Final"},{"$f":"'Student 1'!$O$30","v":"Class"},null,{"$f":"'Student 1'!$Q$30","v":"Professionalism"},null,null,{"$f":"'Student 1'!$T$30","v":"Lab"},null,{"$f":"'Student 1'!$V$30","v":"Total  "},{"$f":"'Student 1'!$W$30","v":"Letter"}]
[{"$f":"'Student 1'!$A$31","v":"I D "},{"$f":"'Student 1'!$B$31","v":"First:"},{"$f":"'Student 1'!$C$31","v":"Last:"},{"$f":"'Student 1'!$D$31","v":"CH 1"},{"$f":"'Student 1'!$E$31","v":"CH 2"},{"$f":"'Student 1'!$F$31","v":"CH 3"},{"$f":"'Student 1'!$G$31","v":"1"},{"$f":"'Student 1'!$H$31","v":"CH 6"},{"$f":"'Student 1'!$I$31","v":"CH 9"},{"$f":"'Student 1'!$J$31","v":"1 – 9"},{"$f":"'Student 1'!$K$31","v":"CH 12"},{"$f":"'Student 1'!$L$31","v":"Project"},{"$f":"'Student 1'!$M$31","v":"Credit"},{"$f":"'Student 1'!$N$31","v":"TEST"},{"$f":"'Student 1'!$O$31","v":"Points"},{"$f":"'Student 1'!$P$31","v":"%"},{"$f":"'Student 1'!$Q$31","v":"Attendance"},{"$f":"'Student 1'!$R$31","v":"Points"},{"$f":"'Student 1'!$S$31","v":"%"},{"$f":"'Student 1'!$T$31","v":"Points"},{"$f":"'Student 1'!$U$31","v":"%"},{"$f":"'Student 1'!$V$31","v":"%"},{"$f":"'Student 1'!$W$31","v":"Grade"}]
[{"$f":"'Course 3 Class'!$A$21","v":{"v":16,"d":"00000016"}},{"$f":"'Course 3 Class'!$B$21","v":"Student"},{"$f":"'Course 3 Class'!$C$21","v":"Sixteen"},{"$f":"'Course 3 Class'!$D$21","v":0},{"$f":"'Course 3 Class'!$E$21","v":0},{"$f":"'Course 3 Class'!$F$21","v":0},{"$f":"'Course 3 Class'!$G$21","v":0},{"$f":"'Course 3 Class'!$H$21","v":0},{"$f":"'Course 3 Class'!$I$21","v":0},{"$f":"'Course 3 Class'!$J$21","v":0},{"$f":"'Course 3 Class'!$K$21","v":0},{"$f":"'Course 3 Class'!$L$21","v":0},{"$f":"'Course 3 Class'!$M$21","v":0},{"$f":"'Course 3 Class'!$N$21","v":0},{"$f":"'Course 3 Class'!$O$21","v":0},{"$f":"'Course 3 Class'!$P$21","v":{"v":0,"d":"0%"}},{"$f":"'Course 3 Class'!$Q$21","v":{"v":1,"d":"100%"}},{"$f":"'Course 3 Class'!$R$21","v":72},{"$f":"'Course 3 Class'!$S$21","v":{"v":1,"d":"100%"}},{"$f":"'Course 3 Class'!$T$21","v":0},{"$f":"'Course 3 Class'!$U$21","v":{"v":0,"d":"0%"}},{"$f":"'Course 3 Class'!$V$21","v":{"v":0.25,"d":"25%"}},{"$f":"'Course 3 Class'!$W$21","v":"F"}]
[{"$f":"'Student 1'!$A$33","v":"Course 3 Steering & Suspension. Lab"}]
[{"$f":"'Student 1'!$A$34","v":"Max shop points"},null,{"$f":"'Student 1'!$C$34","v":1350},{"$f":"'Student 1'!$D$34","v":"Repair"},{"$f":"'Student 1'!$E$34","v":"Identify"},{"$f":"'Student 1'!$F$34","v":"Repair"},{"$f":"'Student 1'!$G$34","v":"Identify"},{"$f":"'Student 1'!$H$34","v":"Repair"},{"$f":"'Student 1'!$I$34","v":"R&R"},{"$f":"'Student 1'!$J$34","v":"R&R"},{"$f":"'Student 1'!$K$34","v":"R&R"},{"$f":"'Student 1'!$L$34","v":"P/S"},{"$f":"'Student 1'!$M$34","v":"R&R"},{"$f":"'Student 1'!$N$34","v":"NVH"},{"$f":"'Student 1'!$O$34","v":" "}]
[{"$f":"'Student 1'!$A$35","v":"Max shop points available depend on how much customer work is done."},null,null,{"$f":"'Student 1'!$D$35","v":"SLA"},{"$f":"'Student 1'!$E$35","v":"SLA"},{"$f":"'Student 1'!$F$35","v":"Mac-P"},{"$f":"'Student 1'!$G$35","v":"Mac-P"},{"$f":"'Student 1'!$H$35","v":"Rear"},{"$f":"'Student 1'!$I$35","v":"Rack &"},{"$f":"'Student 1'!$J$35","v":"Recirc."},{"$f":"'Student 1'!$K$35","v":"P/S"},{"$f":"'Student 1'!$L$35","v":"Pump"},{"$f":"'Student 1'!$M$35","v":"Inner"},{"$f":"'Student 1'!$N$35","v":"Runout &"},{"$f":"'Student 1'!$O$35","v":"Cus"},{"$f":"'Student 1'!$P$35","v":"Comp"}]
[{"$nulls":3},{"$f":"'Student 1'!$D$36","v":"Susp"},{"$f":"'Student 1'!$E$36","v":"Parts"},{"$f":"'Student 1'!$F$36","v":"Susp"},{"$f":"'Student 1'!$G$36","v":"Parts"},{"$f":"'Student 1'!$H$36","v":"Susp"},{"$f":"'Student 1'!$I$36","v":"Pinion"},{"$f":"'Student 1'!$J$36","v":"Gear"},{"$f":"'Student 1'!$K$36","v":"Pump"},{"$f":"'Student 1'!$L$36","v":"Test"},{"$f":"'Student 1'!$M$36","v":"Tie-Rod"},{"$f":"'Student 1'!$N$36","v":"bal. Check"},{"$f":"'Student 1'!$O$36","v":"tomer"},{"$f":"'Student 1'!$P$36","v":"etency"},{"$f":"'Student 1'!$Q$36","v":" "},{"$f":"'Student 1'!$R$36","v":" "},null,null,{"$f":"'Student 1'!$U$36","v":"Final Grade"}]
[{"$nulls":3},{"$f":"'Student 1'!$D$37","v":1},{"$f":"'Student 1'!$E$37","v":2},{"$f":"'Student 1'!$F$37","v":3},{"$f":"'Student 1'!$G$37","v":2},{"$f":"'Student 1'!$H$37","v":1},{"$f":"'Student 1'!$I$37","v":1},{"$f":"'Student 1'!$J$37","v":1},{"$f":"'Student 1'!$K$37","v":1},{"$f":"'Student 1'!$L$37","v":1},{"$f":"'Student 1'!$M$37","v":1},{"$f":"'Student 1'!$N$37","v":1},{"$f":"'Student 1'!$O$37","v":"Work"},{"$f":"'Student 1'!$P$37","v":"0 or 1"},{"$f":"'Student 1'!$Q$37","v":"Lab"},{"$nulls":3},{"$f":"'Student 1'!$U$37","v":{"v":0,"d":"0%"}},{"$f":"'Student 1'!$V$37","v":"F"}]
[{"$f":"'Student 1'!$A$38","v":"ID"},{"$f":"'Student 1'!$B$38","v":"First:"},{"$f":"'Student 1'!$C$38","v":"Last:"},{"$f":"'Student 1'!$D$38","v":150},{"$f":"'Student 1'!$E$38","v":50},{"$f":"'Student 1'!$F$38","v":225},{"$f":"'Student 1'!$G$38","v":50},{"$f":"'Student 1'!$H$38","v":50},{"$f":"'Student 1'!$I$38","v":150},{"$f":"'Student 1'!$J$38","v":125},{"$f":"'Student 1'!$K$38","v":50},{"$f":"'Student 1'!$L$38","v":50},{"$f":"'Student 1'!$M$38","v":50},{"$f":"'Student 1'!$N$38","v":100},{"$f":"'Student 1'!$O$38","v":300},{"$f":"'Student 1'!$P$38","v":"*"},{"$f":"'Student 1'!$Q$38","v":"Points"},{"$f":"'Student 1'!$R$38","v":"%"},null,null,{"$f":"'Student 1'!$U$38","v":{"v":0.695,"d":"70%"}},{"$f":"'Student 1'!$V$38","v":"D-"}]
[{"$f":"'Course 3 Lab'!$A$22","v":{"v":16,"d":"00000016"}},{"$f":"'Course 3 Lab'!$B$22","v":"Student"},{"$f":"'Course 3 Lab'!$C$22","v":"Sixteen"},{"$f":"'Course 3 Lab'!$D$22","v":0},{"$f":"'Course 3 Lab'!$E$22","v":0},{"$f":"'Course 3 Lab'!$F$22","v":0},{"$f":"'Course 3 Lab'!$G$22","v":0},{"$f":"'Course 3 Lab'!$H$22","v":0},{"$f":"'Course 3 Lab'!$I$22","v":0},{"$f":"'Course 3 Lab'!$J$22","v":0},{"$f":"'Course 3 Lab'!$K$22","v":0},{"$f":"'Course 3 Lab'!$L$22","v":0},{"$f":"'Course 3 Lab'!$M$22","v":0},{"$f":"'Course 3 Lab'!$N$22","v":0},{"$f":"'Course 3 Lab'!$O$22","v":0},{"$f":"'Course 3 Lab'!$P$22","v":1},{"$f":"'Course 3 Lab'!$Q$22","v":0},{"$f":"'Course 3 Lab'!$R$22","v":{"v":0,"d":"0%"}},null,null,{"$f":"'Student 1'!$U$39","v":{"v":0.715,"d":"72%"}},{"$f":"'Student 1'!$V$39","v":"D"}]
[{"$f":"'Student 1'!$A$40","v":"Course 4 Alignment. Class."},{"$nulls":7},{"$f":"'Student 1'!$I$40","v":25},{"$nulls":11},{"$f":"'Student 1'!$U$40","v":{"v":0.735,"d":"74%"}},{"$f":"'Student 1'!$V$40","v":"D+"}]
[{"$f":"'Student 1'!$A$41","v":" "},{"$f":"'Student 1'!$B$41","v":"Date assignment is due  "},null,{"$f":"'Student 1'!$D$41","v":"TBD"},{"$f":"'Student 1'!$E$41","v":"TBD"},{"$f":"'Student 1'!$F$41","v":"TBD"},{"$f":"'Student 1'!$G$41","v":"TBD"},{"$f":"'Student 1'!$H$41","v":"TBD"},{"$f":"'Student 1'!$I$41","v":"TBD"},{"$f":"'Student 1'!$J$41","v":"TBD"},{"$nulls":10},{"$f":"'Student 1'!$U$41","v":{"v":0.755,"d":"76%"}},{"$f":"'Student 1'!$V$41","v":"C-"}]
[{"$f":"'Student 1'!$A$42","v":"Class Room Points:"},null,{"$f":"'Student 1'!$C$42","v":235},{"$f":"'Student 1'!$D$42","v":25},{"$f":"'Student 1'!$E$42","v":25},{"$f":"'Student 1'!$F$42","v":20},{"$f":"'Student 1'!$G$42","v":40},{"$f":"'Student 1'!$H$42","v":50},{"$f":"'Student 1'!$I$42","v":" "},{"$f":"'Student 1'!$J$42","v":75},{"$f":"'Student 1'!$K$42","v":"Evaluation"},{"$nulls":9},{"$f":"'Student 1'!$U$42","v":{"v":0.785,"d":"79%"}},{"$f":"'Student 1'!$V$42","v":"C"}]
[{"$f":"'Student 1'!$A$43","v":"Red is late turn-in"},null,{"$f":"'Student 1'!$C$43","v":"Blue is absent"},{"$f":"'Student 1'!$D$43","v":"CH 16"},{"$f":"'Student 1'!$E$43","v":"CH 16"},{"$f":"'Student 1'!$F$43","v":"Align"},{"$f":"'Student 1'!$G$43","v":"In class"},{"$f":"'Student 1'!$H$43","v":"In class"},{"$f":"'Student 1'!$I$43","v":"Extra"},{"$f":"'Student 1'!$J$43","v":"Final"},{"$f":"'Student 1'!$K$43","v":"Class"},null,{"$f":"'Student 1'!$M$43","v":"Professionalism"},null,null,{"$f":"'Student 1'!$P$43","v":"Lab"},null,{"$f":"'Student 1'!$R$43","v":"Total  "},{"$f":"'Student 1'!$S$43","v":"Letter"},null,{"$f":"'Student 1'!$U$43","v":{"v":0.815,"d":"82%"}},{"$f":"'Student 1'!$V$43","v":"C+"}]
[{"$f":"'Student 1'!$A$44","v":"I D "},{"$f":"'Student 1'!$B$44","v":"First:"},{"$f":"'Student 1'!$C$44","v":"Last:"},{"$f":"'Student 1'!$D$44","v":"HW"},{"$f":"'Student 1'!$E$44","v":"Test"},{"$f":"'Student 1'!$F$44","v":"HW"},{"$f":"'Student 1'!$G$44","v":"Project1"},{"$f":"'Student 1'!$H$44","v":"Project2"},{"$f":"'Student 1'!$I$44","v":"Credit"},{"$f":"'Student 1'!$J$44","v":"Test"},{"$f":"'Student 1'!$K$44","v":"Points"},{"$f":"'Student 1'!$L$44","v":"%"},{"$f":"'Student 1'!$M$44","v":"Attendance"},{"$f":"'Student 1'!$N$44","v":"Points"},{"$f":"'Student 1'!$O$44","v":"%"},{"$f":"'Student 1'!$P$44","v":"Points"},{"$f":"'Student 1'!$Q$44","v":"%"},{"$f":"'Student 1'!$R$44","v":"%"},{"$f":"'Student 1'!$S$44","v":"Grade"},null,{"$f":"'Student 1'!$U$44","v":{"v":0.845,"d":"85%"}},{"$f":"'Student 1'!$V$44","v":"B-"}]
[{"$f":"'Course 4 Class'!$A$21","v":{"v":16,"d":"00000016"}},{"$f":"'Course 4 Class'!$B$21","v":"Student"},{"$f":"'Course 4 Class'!$C$21","v":"Sixteen"},{"$f":"'Course 4 Class'!$D$21","v":0},{"$f":"'Course 4 Class'!$E$21","v":0},{"$f":"'Course 4 Class'!$F$21","v":0},{"$f":"'Course 4 Class'!$G$21","v":0},{"$f":"'Course 4 Class'!$H$21","v":0},{"$f":"'Course 4 Class'!$I$21","v":0},{"$f":"'Course 4 Class'!$J$21","v":0},{"$f":"'Course 4 Class'!$K$21","v":0},{"$f":"'Course 4 Class'!$L$21","v":{"v":0,"d":"0%"}},{"$f":"'Course 4 Class'!$M$21","v":{"v":1,"d":"100%"}},{"$f":"'Course 4 Class'!$N$21","v":72},{"$f":"'Course 4 Class'!$O$21","v":{"v":1,"d":"100%"}},{"$f":"'Course 4 Class'!$P$21","v":0},{"$f":"'Course 4 Class'!$Q$21","v":{"v":0,"d":"0%"}},{"$f":"'Course 4 Class'!$R$21","v":{"v":0.25,"d":"25%"}},{"$f":"'Course 4 Class'!$S$21","v":"F"},null,{"$f":"'Student 1'!$U$45","v":{"v":0.875,"d":"88%"}},{"$f":"'Student 1'!$V$45","v":"B"}]
[{"$f":"'Student 1'!$A$46","v":"Course 4 Alignment. Lab"},{"$nulls":19},{"$f":"'Student 1'!$U$46","v":{"v":0.895,"d":"90%"}},{"$f":"'Student 1'!$V$46","v":"B+"}]
[{"$f":"'Student 1'!$A$47","v":"Max Shop Points:"},null,{"$f":"'Student 1'!$C$47","v":1300},{"$f":"'Student 1'!$D$47","v":"Alignment"},{"$f":"'Student 1'!$E$47","v":"Complete"},{"$f":"'Student 1'!$F$47","v":"Cus"},{"$f":"'Student 1'!$G$47","v":" "},{"$nulls":13},{"$f":"'Student 1'!$U$47","v":{"v":0.925,"d":"93%"}},{"$f":"'Student 1'!$V$47","v":"A-"}]
[{"$f":"'Student 1'!$A$48","v":"Max shop points available depend on how much customer work is done."},null,null,{"$f":"'Student 1'!$D$48","v":"Pre-check"},{"$f":"'Student 1'!$E$48","v":"Wheel"},{"$f":"'Student 1'!$F$48","v":"tomer"},{"$f":"'Student 1'!$G$48","v":"Comp"},{"$nulls":13},{"$f":"'Student 1'!$U$48","v":{"v":0.945,"d":"95%"}},{"$f":"'Student 1'!$V$48","v":"A"}]
[{"$nulls":3},{"$f":"'Student 1'!$D$49","v":"100 P"},{"$f":"'Student 1'!$E$49","v":"Alignment"},{"$f":"'Student 1'!$F$49","v":"Work"},{"$f":"'Student 1'!$G$49","v":"etency"},{"$f":"'Student 1'!$H$49","v":" "},{"$f":"'Student 1'!$I$49","v":" "},{"$nulls":11},{"$f":"'Student 1'!$U$49","v":{"v":1,"d":"100%"}},{"$f":"'Student 1'!$V$49","v":"A"}]
[{"$nulls":3},{"$f":"'Student 1'!$D$50","v":1},{"$f":"'Student 1'!$E$50","v":1},{"$f":"'Student 1'!$F$50","v":" "},{"$f":"'Student 1'!$G$50","v":"0 or 1"},{"$f":"'Student 1'!$H$50","v":"Lab"}]
[{"$f":"'Student 1'!$A$51","v":"ID"},{"$f":"'Student 1'!$B$51","v":"First:"},{"$f":"'Student 1'!$C$51","v":"Last:"},{"$f":"'Student 1'!$D$51","v":100},{"$f":"'Student 1'!$E$51","v":900},{"$f":"'Student 1'!$F$51","v":300},{"$f":"'Student 1'!$G$51","v":"*"},{"$f":"'Student 1'!$H$51","v":"Points"},{"$f":"'Student 1'!$I$51","v":"%"}]
[{"$f":"'Course 4 Lab'!$A$22","v":{"v":16,"d":"00000016"}},{"$f":"'Course 4 Lab'!$B$22","v":"Student"},{"$f":"'Course 4 Lab'!$C$22","v":"Sixteen"},{"$f":"'Course 4 Lab'!$D$22","v":0},{"$f":"'Course 4 Lab'!$E$22","v":0},{"$f":"'Course 4 Lab'!$F$22","v":0},{"$f":"'Course 4 Lab'!$G$22","v":1},{"$f":"'Course 4 Lab'!$H$22","v":0},{"$f":"'Course 4 Lab'!$I$22","v":{"v":0,"d":"0%"}}]
[{"$f":"'Student 1'!$A$53","v":"Course 5 Brake Systems. Class."},{"$nulls":10},{"$f":"'Student 1'!$L$53","v":35}]
[{"$f":"'Student 1'!$A$54","v":"Date assignment is due:"},null,{"$f":"'Student 1'!$C$54","v":" "},{"$f":"'Student 1'!$D$54","v":"TBD"},{"$f":"'Student 1'!$E$54","v":"TBD"},{"$f":"'Student 1'!$F$54","v":"TBD"},{"$f":"'Student 1'!$G$54","v":"TBD"},{"$f":"'Student 1'!$H$54","v":"TBD"},{"$f":"'Student 1'!$I$54","v":"TBD"},{"$f":"'Student 1'!$J$54","v":"TBD"},{"$f":"'Student 1'!$K$54","v":"TBD"},{"$f":"'Student 1'!$L$54","v":"TBD"},{"$f":"'Student 1'!$M$54","v":"TBD"}]
[{"$f":"'Student 1'!$A$55","v":"Class Room Points:"},null,{"$f":"'Student 1'!$C$55","v":440},{"$f":"'Student 1'!$D$55","v":30},{"$f":"'Student 1'!$E$55","v":25},{"$f":"'Student 1'!$F$55","v":100},{"$f":"'Student 1'!$G$55","v":30},{"$f":"'Student 1'!$H$55","v":50},{"$f":"'Student 1'!$I$55","v":30},{"$f":"'Student 1'!$J$55","v":25},{"$f":"'Student 1'!$K$55","v":50},{"$f":"'Student 1'!$L$55","v":" "},{"$f":"'Student 1'!$M$55","v":100},{"$f":"'Student 1'!$N$55","v":"Evaluation"}]
[{"$f":"'Student 1'!$A$56","v":"Red is late turn-in"},null,{"$f":"'Student 1'!$C$56","v":"Blue is absent"},{"$f":"'Student 1'!$D$56","v":"HW"},{"$f":"'Student 1'!$E$56","v":"HW"},{"$f":"'Student 1'!$F$56","v":"Test"},{"$f":"'Student 1'!$G$56","v":"HW"},{"$f":"'Student 1'!$H$56","v":"Test"},{"$f":"'Student 1'!$I$56","v":"HW"},{"$f":"'Student 1'!$J$56","v":"Test"},{"$f":"'Student 1'!$K$56","v":"Class"},{"$f":"'Student 1'!$L$56","v":"Extra"},{"$f":"'Student 1'!$M$56","v":"Final"},{"$f":"'Student 1'!$N$56","v":"Class"},null,{"$f":"'Student 1'!$P$56","v":"Professionalism"},null,null,{"$f":"'Student 1'!$S$56","v":"Lab"},null,{"$f":"'Student 1'!$U$56","v":"Total  "},{"$f":"'Student 1'!$V$56","v":"Letter"}]
[{"$f":"'Student 1'!$A$57","v":"I D "},{"$f":"'Student 1'!$B$57","v":"First:"},{"$f":"'Student 1'!$C$57","v":"Last:"},{"$f":"'Student 1'!$D$57","v":"CH 4"},{"$f":"'Student 1'!$E$57","v":"CH 5"},{"$f":"'Student 1'!$F$57","v":"#1"},{"$f":"'Student 1'!$G$57","v":"CH 7"},{"$f":"'Student 1'!$H$57","v":"Conv"},{"$f":"'Student 1'!$I$57","v":"CH 20"},{"$f":"'Student 1'!$J$57","v":"21/22"},{"$f":"'Student 1'!$K$57","v":"Project"},{"$f":"'Student 1'!$L$57","v":"Credit"},{"$f":"'Student 1'!$M$57","v":"Test"},{"$f":"'Student 1'!$N$57","v":"Points"},{"$f":"'Student 1'!$O$57","v":"%"},{"$f":"'Student 1'!$P$57","v":"Attendance"},{"$f":"'Student 1'!$Q$57","v":"Points"},{"$f":"'Student 1'!$R$57","v":"%"},{"$f":"'Student 1'!$S$57","v":"Points"},{"$f":"'Student 1'!$T$57","v":"%"},{"$f":"'Student 1'!$U$57","v":"%"},{"$f":"'Student 1'!$V$57","v":"Grade"}]
[{"$f":"'Course 5 Class'!$A$21","v":{"v":16,"d":"00000016"}},{"$f":"'Course 5 Class'!$B$21","v":"Student"},{"$f":"'Course 5 Class'!$C$21","v":"Sixteen"},{"$f":"'Course 5 Class'!$D$21","v":0},{"$f":"'Course 5 Class'!$E$21","v":0},{"$f":"'Course 5 Class'!$F$21","v":0},{"$f":"'Course 5 Class'!$G$21","v":0},{"$f":"'Course 5 Class'!$H$21","v":0},{"$f":"'Course 5 Class'!$I$21","v":0},{"$f":"'Course 5 Class'!$J$21","v":0},{"$f":"'Course 5 Class'!$K$21","v":0},{"$f":"'Course 5 Class'!$L$21","v":0},{"$f":"'Course 5 Class'!$M$21","v":0},{"$f":"'Course 5 Class'!$N$21","v":0},{"$f":"'Course 5 Class'!$O$21","v":{"v":0,"d":"0%"}},{"$f":"'Course 5 Class'!$P$21","v":{"v":1,"d":"100%"}},{"$f":"'Course 5 Class'!$Q$21","v":72},{"$f":"'Course 5 Class'!$R$21","v":{"v":1,"d":"100%"}},{"$f":"'Course 5 Class'!$S$21","v":0},{"$f":"'Course 5 Class'!$T$21","v":{"v":0,"d":"0%"}},{"$f":"'Course 5 Class'!$U$21","v":{"v":0.25,"d":"25%"}},{"$f":"'Course 5 Class'!$V$21","v":"F"}]
[{"$f":"'Student 1'!$A$59","v":"Course 5 Brake Systems. Lab"}]
[{"$f":"'Student 1'!$A$60","v":"  Max Shop Points:"},null,{"$f":"'Student 1'!$C$60","v":970},{"$f":"'Student 1'!$D$60","v":"Drum"},{"$f":"'Student 1'!$E$60","v":"Drum "},{"$f":"'Student 1'!$F$60","v":"Disc"},{"$f":"'Student 1'!$G$60","v":"On Car"},{"$f":"'Student 1'!$H$60","v":"Off Car"},{"$f":"'Student 1'!$I$60","v":"Wheel"},{"$f":"'Student 1'!$J$60","v":"Hydr."},{"$f":"'Student 1'!$K$60","v":"Vacuum"},{"$f":"'Student 1'!$L$60","v":"Warning"},{"$f":"'Student 1'!$M$60","v":"Brake"},{"$f":"'Student 1'!$N$60","v":"Brake"},{"$f":"'Student 1'!$O$60","v":"Dodge"},{"$f":"'Student 1'!$P$60","v":"Ford"},{"$f":"'Student 1'!$Q$60","v":"GM"},{"$f":"'Student 1'!$R$60","v":"Cus"},{"$f":"'Student 1'!$S$60","v":"Brake"}]
[{"$f":"'Student 1'!$A$61","v":"Max shop points available depend on how much customer work is done."},null,null,{"$f":"'Student 1'!$D$61","v":"Brake"},{"$f":"'Student 1'!$E$61","v":"Brake "},{"$f":"'Student 1'!$F$61","v":"Brake"},{"$f":"'Student 1'!$G$61","v":"Disc"},{"$f":"'Student 1'!$H$61","v":"Disc"},{"$f":"'Student 1'!$I$61","v":"Bearing"},{"$f":"'Student 1'!$J$61","v":"Line"},{"$f":"'Student 1'!$K$61","v":"Booster"},{"$f":"'Student 1'!$L$61","v":"Light"},{"$f":"'Student 1'!$M$61","v":"System"},{"$f":"'Student 1'!$N$61","v":"Valves"},{"$f":"'Student 1'!$O$61","v":"Anti"},{"$f":"'Student 1'!$P$61","v":"Anti"},{"$f":"'Student 1'!$Q$61","v":"Anti"},{"$f":"'Student 1'!$R$61","v":"tomer"},{"$f":"'Student 1'!$S$61","v":"Comp"}]
[{"$nulls":3},{"$f":"'Student 1'!$D$62","v":"Job"},{"$f":"'Student 1'!$E$62","v":"Mach."},{"$f":"'Student 1'!$F$62","v":"Job"},{"$f":"'Student 1'!$G$62","v":"Mach."},{"$f":"'Student 1'!$H$62","v":"Mach."},{"$f":"'Student 1'!$I$62","v":"Service"},{"$f":"'Student 1'!$J$62","v":"Repair"},{"$f":"'Student 1'!$K$62","v":"Service"},{"$f":"'Student 1'!$L$62","v":"Service"},{"$f":"'Student 1'!$M$62","v":"Bleed"},{"$f":"'Student 1'!$N$62","v":"Check"},{"$f":"'Student 1'!$O$62","v":"Lock"},{"$f":"'Student 1'!$P$62","v":"Lock"},{"$f":"'Student 1'!$Q$62","v":"Lock"},{"$f":"'Student 1'!$R$62","v":"Work"},{"$f":"'Student 1'!$S$62","v":"etency"}]
[{"$nulls":3},{"$f":"'Student 1'!$D$63","v":2},{"$f":"'Student 1'!$E$63","v":2},{"$f":"'Student 1'!$F$63","v":2},{"$f":"'Student 1'!$G$63","v":2},{"$f":"'Student 1'!$H$63","v":2},{"$f":"'Student 1'!$I$63","v":1},{"$f":"'Student 1'!$J$63","v":1},{"$f":"'Student 1'!$K$63","v":2},{"$f":"'Student 1'!$L$63","v":2},{"$f":"'Student 1'!$M$63","v":4},{"$f":"'Student 1'!$N$63","v":1},{"$f":"'Student 1'!$O$63","v":1},{"$f":"'Student 1'!$P$63","v":1},{"$f":"'Student 1'!$Q$63","v":1},{"$f":"'Student 1'!$R$63","v":" "},{"$f":"'Student 1'!$S$63","v":"Required"},{"$f":"'Student 1'!$T$63","v":"Lab"}]
[{"$f":"'Student 1'!$A$64","v":"ID"},{"$f":"'Student 1'!$B$64","v":"First:"},{"$f":"'Student 1'!$C$64","v":"Last:"},{"$f":"'Student 1'!$D$64","v":150},{"$f":"'Student 1'!$E$64","v":40},{"$f":"'Student 1'!$F$64","v":150},{"$f":"'Student 1'!$G$64","v":80},{"$f":"'Student 1'!$H$64","v":40},{"$f":"'Student 1'!$I$64","v":50},{"$f":"'Student 1'!$J$64","v":30},{"$f":"'Student 1'!$K$64","v":30},{"$f":"'Student 1'!$L$64","v":40},{"$f":"'Student 1'!$M$64","v":80},{"$f":"'Student 1'!$N$64","v":40},{"$f":"'Student 1'!$O$64","v":80},{"$f":"'Student 1'!$P$64","v":80},{"$f":"'Student 1'!$Q$64","v":80},{"$f":"'Student 1'!$R$64","v":300},{"$f":"'Student 1'!$S$64","v":"*"},{"$f":"'Student 1'!$T$64","v":"Points"},{"$f":"'Student 1'!$U$64","v":"%"}]
[{"$f":"'Course 5 Lab'!$A$22","v":{"v":16,"d":"00000016"}},{"$f":"'Course 5 Lab'!$B$22","v":"Student"},{"$f":"'Course 5 Lab'!$C$22","v":"Sixteen"},{"$f":"'Course 5 Lab'!$D$22","v":0},{"$f":"'Course 5 Lab'!$E$22","v":0},{"$f":"'Course 5 Lab'!$F$22","v":0},{"$f":"'Course 5 Lab'!$G$22","v":0},{"$f":"'Course 5 Lab'!$H$22","v":0},{"$f":"'Course 5 Lab'!$I$22","v":0},{"$f":"'Course 5 Lab'!$J$22","v":0},{"$f":"'Course 5 Lab'!$K$22","v":0},{"$f":"'Course 5 Lab'!$L$22","v":0},{"$f":"'Course 5 Lab'!$M$22","v":0},{"$f":"'Course 5 Lab'!$N$22","v":0},{"$f":"'Course 5 Lab'!$O$22","v":0},{"$f":"'Course 5 Lab'!$P$22","v":0},{"$f":"'Course 5 Lab'!$Q$22","v":0},{"$f":"'Course 5 Lab'!$R$22","v":0},{"$f":"'Course 5 Lab'!$S$22","v":1},{"$f":"'Course 5 Lab'!$T$22","v":0},{"$f":"'Course 5 Lab'!$U$22","v":{"v":0,"d":"0%"}}]

{"sheet":"Student 17","index":30,"n_rows":65,"n_cols":23,"rows_kept":65,"merged":[[0,0,0,2],[1,0,1,2],[2,0,2,1],[2,9,2,17],[3,0,3,1],[3,9,3,10],[3,11,3,13],[3,14,3,15],[6,0,6,2],[7,0,7,1],[8,0,10,2],[10,16,10,17],[13,0,13,2],[14,1,14,2],[15,0,15,1],[15,11,15,19],[16,0,16,1],[16,11,16,12],[16,13,16,15],[16,16,16,17],[19,0,19,2],[20,0,20,1],[21,0,23,2],[23,13,23,14],[26,0,26,2],[27,1,27,2],[28,0,28,1],[28,14,28,22],[29,0,29,1],[29,14,29,15],[29,16,29,18],[29,19,29,20],[32,0,32,2],[33,0,33,1],[34,0,36,2],[35,20,35,21],[36,16,36,17],[39,0,39,2],[40,1,40,2],[41,0,41,1],[41,10,41,18],[42,0,42,1],[42,10,42,11],[42,12,42,14],[42,15,42,16],[45,0,45,2],[46,0,46,1],[47,0,49,2],[49,7,49,8],[52,0,52,2],[53,0,53,2],[54,0,54,1],[54,13,54,21],[55,0,55,1],[55,13,55,14],[55,15,55,17],[55,18,55,19],[58,0,58,2],[59,0,59,1],[60,0,62,2],[62,19,62,20]]}
[{"$f":"'Student 1'!$A$1","v":"Course 1 Engine Diagnosis. Class"},{"$nulls":6},{"$f":"'Student 1'!$H$1","v":25}]
[{"$f":"'Student 1'!$A$2","v":"Date assignment is due"},null,{"$f":"'Student 1'!$C$2","v":" "},{"$f":"'Student 1'!$D$2","v":"TBD"},{"$f":"'Student 1'!$E$2","v":"TBD"},{"$f":"'Student 1'!$F$2","v":"TBD"},{"$f":"'Student 1'!$G$2","v":"TBD"},{"$f":"'Student 1'!$H$2","v":"TBD"},{"$f":"'Student 1'!$I$2","v":"TBD"}]
[{"$f":"'Student 1'!$A$3","v":"Class Room Points:"},null,{"$f":"'Student 1'!$C$3","v":160},{"$f":"'Student 1'!$D$3","v":20},{"$f":"'Student 1'!$E$3","v":20},{"$f":"'Student 1'!$F$3","v":20},{"$f":"'Student 1'!$G$3","v":25},{"$f":"'Student 1'!$H$3","v":" "},{"$f":"'Student 1'!$I$3","v":75},{"$f":"'Student 1'!$J$3","v":"Evaluation"}]
[{"$f":"'Student 1'!$A$4","v":"Red is late turn-in"},null,{"$f":"'Student 1'!$C$4","v":"Blue is absent"},{"$f":"'Student 1'!$D$4","v":"CH 13 "},{"$f":"'Student 1'!$E$4","v":"Lube"},{"$f":"'Student 1'!$F$4","v":"Lube"},{"$f":"'Student 1'!$G$4","v":"Condition"},{"$f":"'Student 1'!$H$4","v":"Extra"},{"$f":"'Student 1'!$I$4","v":"Final"},{"$f":"'Student 1'!$J$4","v":"Classroom"},null,{"$f":"'Student 1'!$L$4","v":"Professionalism"},null,null,{"$f":"'Student 1'!$O$4","v":"Lab"},null,{"$f":"'Student 1'!$Q$4","v":"Total  "},{"$f":"'Student 1'!$R$4","v":"Letter"}]
[{"$f":"'Student 1'!$A$5","v":"I D "},{"$f":"'Student 1'!$B$5","v":"First:"},{"$f":"'Student 1'!$C$5","v":"Last:"},{"$f":"'Student 1'!$D$5","v":"Test"},{"$f":"'Student 1'!$E$5","v":"HW"},{"$f":"'Student 1'!$F$5","v":"Test"},{"$f":"'Student 1'!$G$5","v":"Class"},{"$f":"'Student 1'!$H$5","v":"Credit"},{"$f":"'Student 1'!$I$5","v":"Test"},{"$f":"'Student 1'!$J$5","v":"Points"},{"$f":"'Student 1'!$K$5","v":"%"},{"$f":"'Student 1'!$L$5","v":"Attendance"},{"$f":"'Student 1'!$M$5","v":"Points"},{"$f":"'Student 1'!$N$5","v":"%"},{"$f":"'Student 1'!$O$5","v":"Points"},{"$f":"'Student 1'!$P$5","v":"%"},{"$f":"'Student 1'!$Q$5","v":"%"},{"$f":"'Student 1'!$R$5","v":"Grade"}]
[{"$f":"'Course 1 Class'!$A$22","v":{"v":17,"d":"00000017"}},{"$f":"'Course 1 Class'!$B$22","v":"Student"},{"$f":"'Course 1 Class'!$C$22","v":"Seventeen"},{"$f":"'Course 1 Class'!$D$22","v":0},{"$f":"'Course 1 Class'!$E$22","v":0},{"$f":"'Course 1 Class'!$F$22","v":0},{"$f":"'Course 1 Class'!$G$22","v":0},{"$f":"'Course 1 Class'!$H$22","v":0},{"$f":"'Course 1 Class'!$I$22","v":0},{"$f":"'Course 1 Class'!$J$22","v":0},{"$f":"'Course 1 Class'!$K$22","v":{"v":0,"d":"0%"}},{"$f":"'Course 1 Class'!$L$22","v":{"v":1,"d":"100%"}},{"$f":"'Course 1 Class'!$M$22","v":72},{"$f":"'Course 1 Class'!$N$22","v":{"v":1,"d":"100%"}},{"$f":"'Course 1 Class'!$O$22","v":0},{"$f":"'Course 1 Class'!$P$22","v":{"v":0,"d":"0%"}},{"$f":"'Course 1 Class'!$Q$22","v":{"v":0.25,"d":"25%"}},{"$f":"'Course 1 Class'!$R$22","v":"F"}]
[{"$f":"'Student 1'!$A$7","v":"Course 1 Engine Diagnosis. Lab"}]
[{"$f":"'Student 1'!$A$8","v":"  Max Shop Points:"},null,{"$f":"'Student 1'!$C$8","v":1325},{"$f":"'Student 1'!$D$8","v":"Dry"},{"$f":"'Student 1'!$E$8","v":"Wet"},{"$f":"'Student 1'!$F$8","v":"Running"},{"$f":"'Student 1'!$G$8","v":"Cylinder"},{"$f":"'Student 1'!$H$8","v":"Oil"},{"$f":"'Student 1'!$I$8","v":"Cooling"},{"$f":"'Student 1'!$J$8","v":"Vacuum"},{"$f":"'Student 1'!$K$8","v":"PCV"},{"$f":"'Student 1'!$L$8","v":"Thermostat"},{"$f":"'Student 1'!$M$8","v":"Fluid"},{"$f":"'Student 1'!$N$8","v":"Diag"},{"$f":"'Student 1'!$O$8","v":" "}]
[{"$f":"'Student 1'!$A$9","v":"Max shop points available depend on how much customer work is done."},null,null,{"$f":"'Student 1'!$D$9","v":"Compr"},{"$f":"'Student 1'!$E$9","v":"Compr"},{"$f":"'Student 1'!$F$9","v":"Compr"},{"$f":"'Student 1'!$G$9","v":"Leakage"},{"$f":"'Student 1'!$H$9","v":"Pressure"},{"$f":"'Student 1'!$I$9","v":"System"},{"$f":"'Student 1'!$J$9","v":"Gauge"},{"$f":"'Student 1'!$K$9","v":"System"},{"$f":"'Student 1'!$L$9","v":"and fan"},{"$f":"'Student 1'!$M$9","v":"Leak"},{"$f":"'Student 1'!$N$9","v":"gauges"},{"$f":"'Student 1'!$O$9","v":"Cus"},{"$f":"'Student 1'!$P$9","v":"Comp"}]
[{"$nulls":3},{"$f":"'Student 1'!$D$10","v":"Test"},{"$f":"'Student 1'!$E$10","v":"Test"},{"$f":"'Student 1'!$F$10","v":"Test"},{"$f":"'Student 1'!$G$10","v":"Test"},{"$f":"'Student 1'!$H$10","v":"Test"},{"$f":"'Student 1'!$I$10","v":"Test"},{"$f":"'Student 1'!$J$10","v":"Test"},{"$f":"'Student 1'!$K$10","v":"Check"},{"$f":"'Student 1'!$L$10","v":"Operation"},{"$f":"'Student 1'!$M$10","v":"Check"},{"$f":"'Student 1'!$N$10","v":"any vehicle"},{"$f":"'Student 1'!$O$10","v":"tomer"},{"$f":"'Student 1'!$P$10","v":"etency"},{"$f":"'Student 1'!$Q$10","v":"  "},{"$f":"'Student 1'!$R$10","v":" "}]
[{"$nulls":3},{"$f":"'Student 1'!$D$11","v":2},{"$f":"'Student 1'!$E$11","v":2},{"$f":"'Student 1'!$F$11","v":2},{"$f":"'Student 1'!$G$11","v":2},{"$f":"'Student 1'!$H$11","v":2},{"$f":"'Student 1'!$I$11","v":2},{"$f":"'Student 1'!$J$11","v":2},{"$f":"'Student 1'!$K$11","v":2},{"$f":"'Student 1'!$L$11","v":2},{"$f":"'Student 1'!$M$11","v":1},{"$f":"'Student 1'!$N$11","v":1},{"$f":"'Student 1'!$O$11","v":"Work"},{"$f":"'Student 1'!$P$11","v":"0 or 1"},{"$f":"'Student 1'!$Q$11","v":"Lab"}]
[{"$f":"'Student 1'!$A$12","v":"ID"},{"$f":"'Student 1'!$B$12","v":"First:"},{"$f":"'Student 1'!$C$12","v":"Last:"},{"$f":"'Student 1'!$D$12","v":100},{"$f":"'Student 1'!$E$12","v":100},{"$f":"'Student 1'!$F$12","v":100},{"$f":"'Student 1'!$G$12","v":100},{"$f":"'Student 1'!$H$12","v":100},{"$f":"'Student 1'!$I$12","v":150},{"$f":"'Student 1'!$J$12","v":100},{"$f":"'Student 1'!$K$12","v":50},{"$f":"'Student 1'!$L$12","v":100},{"$f":"'Student 1'!$M$12","v":25},{"$f":"'Student 1'!$N$12","v":100},{"$f":"'Student 1'!$O$12","v":300},{"$f":"'Student 1'!$P$12","v":"*"},{"$f":"'Student 1'!$Q$12","v":"Points"},{"$f":"'Student 1'!$R$12","v":"%"}]
[{"$f":"'Course 1 Lab'!$A$23","v":{"v":17,"d":"00000017"}},{"$f":"'Course 1 Lab'!$B$23","v":"Student"},{"$f":"'Course 1 Lab'!$C$23","v":"Seventeen"},{"$f":"'Course 1 Lab'!$D$23","v":0},{"$f":"'Course 1 Lab'!$E$23","v":0},{"$f":"'Course 1 Lab'!$F$23","v":0},{"$f":"'Course 1 Lab'!$G$23","v":0},{"$f":"'Course 1 Lab'!$H$23","v":0},{"$f":"'Course 1 Lab'!$I$23","v":0},{"$f":"'Course 1 Lab'!$J$23","v":0},{"$f":"'Course 1 Lab'!$K$23","v":0},{"$f":"'Course 1 Lab'!$L$23","v":0},{"$f":"'Course 1 Lab'!$M$23","v":0},{"$f":"'Course 1 Lab'!$N$23","v":0},{"$f":"'Course 1 Lab'!$O$23","v":0},{"$f":"'Course 1 Lab'!$P$23","v":1},{"$f":"'Course 1 Lab'!$Q$23","v":0},{"$f":"'Course 1 Lab'!$R$23","v":{"v":0,"d":"0%"}}]
[{"$f":"'Student 1'!$A$14","v":"Course 2 Engine Theory & Repair. Class"},{"$nulls":8},{"$f":"'Student 1'!$J$14","v":25}]
[{"$f":"'Student 1'!$A$15","v":" "},{"$f":"'Student 1'!$B$15","v":"Date assignment is due:"},null,{"$f":"'Student 1'!$D$15","v":"TBD"},{"$f":"'Student 1'!$E$15","v":"TBD"},{"$f":"'Student 1'!$F$15","v":"TBD"},{"$f":"'Student 1'!$G$15","v":"TBD"},{"$f":"'Student 1'!$H$15","v":"TBD"},{"$f":"'Student 1'!$I$15","v":"TBD"},{"$f":"'Student 1'!$J$15","v":"TBD"},{"$f":"'Student 1'!$K$15","v":"TBD"}]
[{"$f":"'Student 1'!$A$16","v":"Class Room Points:"},null,{"$f":"'Student 1'!$C$16","v":201},{"$f":"'Student 1'!$D$16","v":10},{"$f":"'Student 1'!$E$16","v":10},{"$f":"'Student 1'!$F$16","v":20},{"$f":"'Student 1'!$G$16","v":20},{"$f":"'Student 1'!$H$16","v":16},{"$f":"'Student 1'!$I$16","v":25},{"$f":"'Student 1'!$J$16","v":" "},{"$f":"'Student 1'!$K$16","v":100},{"$f":"'Student 1'!$L$16","v":"Evaluation"}]
[{"$f":"'Student 1'!$A$17","v":"Red is late turn-in"},null,{"$f":"'Student 1'!$C$17","v":"Blue is absent"},{"$f":"'Student 1'!$D$17","v":"HW"},{"$f":"'Student 1'!$E$17","v":"HW "},{"$f":"'Student 1'!$F$17","v":"Test"},{"$f":"'Student 1'!$G$17","v":"Test"},{"$f":"'Student 1'!$H$17","v":"HW"},{"$f":"'Student 1'!$I$17","v":"Test"},{"$f":"'Student 1'!$J$17","v":"Extra"},{"$f":"'Student 1'!$K$17","v":"Final "},{"$f":"'Student 1'!$L$17","v":"Class"},null,{"$f":"'Student 1'!$N$17","v":"Professionalism"},null,null,{"$f":"'Student 1'!$Q$17","v":"Lab"},null,{"$f":"'Student 1'!$S$17","v":"Total  "},{"$f":"'Student 1'!$T$17","v":"Letter"}]
[{"$f":"'Student 1'!$A$18","v":"I D "},{"$f":"'Student 1'!$B$18","v":"First:"},{"$f":"'Student 1'!$C$18","v":"Last:"},{"$f":"'Student 1'!$D$18","v":"CH 7"},{"$f":"'Student 1'!$E$18","v":"CH 14"},{"$f":"'Student 1'!$F$18","v":"C & L"},{"$f":"'Student 1'!$G$18","v":"CH 18"},{"$f":"'Student 1'!$H$18","v":"CH 22"},{"$f":"'Student 1'!$I$18","v":"CH 22"},{"$f":"'Student 1'!$J$18","v":"Credit"},{"$f":"'Student 1'!$K$18","v":"TEST"},{"$f":"'Student 1'!$L$18","v":"Points"},{"$f":"'Student 1'!$M$18","v":"%"},{"$f":"'Student 1'!$N$18","v":"Attendance"},{"$f":"'Student 1'!$O$18","v":"Points"},{"$f":"'Student 1'!$P$18","v":"%"},{"$f":"'Student 1'!$Q$18","v":"Points"},{"$f":"'Student 1'!$R$18","v":"%"},{"$f":"'Student 1'!$S$18","v":"%"},{"$f":"'Student 1'!$T$18","v":"Grade"}]
[{"$f":"'Course 2 Class'!$A$22","v":{"v":17,"d":"00000017"}},{"$f":"'Course 2 Class'!$B$22","v":"Student"},{"$f":"'Course 2 Class'!$C$22","v":"Seventeen"},{"$f":"'Course 2 Class'!$D$22","v":0},{"$f":"'Course 2 Class'!$E$22","v":0},{"$f":"'Course 2 Class'!$F$22","v":0},{"$f":"'Course 2 Class'!$G$22","v":0},{"$f":"'Course 2 Class'!$H$22","v":0},{"$f":"'Course 2 Class'!$I$22","v":0},{"$f":"'Course 2 Class'!$J$22","v":0},{"$f":"'Course 2 Class'!$K$22","v":0},{"$f":"'Course 2 Class'!$L$22","v":0},{"$f":"'Course 2 Class'!$M$22","v":{"v":0,"d":"0%"}},{"$f":"'Course 2 Class'!$N$22","v":{"v":1,"d":"100%"}},{"$f":"'Course 2 Class'!$O$22","v":72},{"$f":"'Course 2 Class'!$P$22","v":{"v":1,"d":"100%"}},{"$f":"'Course 2 Class'!$Q$22","v":0},{"$f":"'Course 2 Class'!$R$22","v":{"v":0,"d":"0%"}},{"$f":"'Course 2 Class'!$S$22","v":{"v":0.25,"d":"25%"}},{"$f":"'Course 2 Class'!$T$22","v":"F"}]
[{"$f":"'Student 1'!$A$20","v":"Course 2 Engine Theory & Repair. Lab"}]
[{"$f":"'Student 1'!$A$21","v":"  Max Shop Points:"},null,{"$f":"'Student 1'!$C$21","v":1450},{"$f":"'Student 1'!$D$21","v":"Engine"},{"$f":"'Student 1'!$E$21","v":"Cylinder"},{"$f":"'Student 1'!$F$21","v":"Red"},{"$f":"'Student 1'!$G$21","v":"Mitsubishi"},{"$f":"'Student 1'!$H$21","v":"Any"},{"$f":"'Student 1'!$I$21","v":"DOHC"},{"$f":"'Student 1'!$J$21","v":"Valve seal"},{"$f":"'Student 1'!$K$21","v":"Misc."},{"$f":"'Student 1'!$L$21","v":" "}]
[{"$f":"'Student 1'!$A$22","v":"Max shop points available depend on how much customer work is done."},null,null,{"$f":"'Student 1'!$D$22","v":"Disassemble"},{"$f":"'Student 1'!$E$22","v":"Head"},{"$f":"'Student 1'!$F$22","v":"Dodge"},{"$f":"'Student 1'!$G$22","v":"\"3.0L\""},{"$f":"'Student 1'!$H$22","v":"Engine"},{"$f":"'Student 1'!$I$22","v":"Engine"},{"$f":"'Student 1'!$J$22","v":"&"},{"$f":"'Student 1'!$K$22","v":"Engine "},{"$f":"'Student 1'!$L$22","v":"Cus"},{"$f":"'Student 1'!$M$22","v":"Comp"}]
[{"$nulls":3},{"$f":"'Student 1'!$D$23","v":"& Measure"},{"$f":"'Student 1'!$E$23","v":"Repair"},{"$f":"'Student 1'!$F$23","v":"Clip"},{"$f":"'Student 1'!$G$23","v":"Clip"},{"$f":"'Student 1'!$H$23","v":"T-chain"},{"$f":"'Student 1'!$I$23","v":" Stand"},{"$f":"'Student 1'!$J$23","v":"Lobe lift"},{"$f":"'Student 1'!$K$23","v":"Points"},{"$f":"'Student 1'!$L$23","v":"tomer"},{"$f":"'Student 1'!$M$23","v":"etency"},{"$f":"'Student 1'!$N$23","v":" "},{"$f":"'Student 1'!$O$23","v":" "}]
[{"$nulls":3},{"$f":"'Student 1'!$D$24","v":1},{"$f":"'Student 1'!$E$24","v":1},{"$f":"'Student 1'!$F$24","v":1},{"$f":"'Student 1'!$G$24","v":1},{"$f":"'Student 1'!$H$24","v":1},{"$f":"'Student 1'!$I$24","v":1},{"$f":"'Student 1'!$J$24","v":1},null,{"$f":"'Student 1'!$L$24","v":"Work"},{"$f":"'Student 1'!$M$24","v":"0 or 1"},{"$f":"'Student 1'!$N$24","v":"Lab"}]
[{"$f":"'Student 1'!$A$25","v":"ID"},{"$f":"'Student 1'!$B$25","v":"First:"},{"$f":"'Student 1'!$C$25","v":"Last:"},{"$f":"'Student 1'!$D$25","v":300},{"$f":"'Student 1'!$E$25","v":200},{"$f":"'Student 1'!$F$25","v":100},{"$f":"'Student 1'!$G$25","v":100},{"$f":"'Student 1'!$H$25","v":100},{"$f":"'Student 1'!$I$25","v":100},{"$f":"'Student 1'!$J$25","v":50},{"$f":"'Student 1'!$K$25","v":200},{"$f":"'Student 1'!$L$25","v":300},{"$f":"'Student 1'!$M$25","v":"*"},{"$f":"'Student 1'!$N$25","v":"Points"},{"$f":"'Student 1'!$O$25","v":"%"}]
[{"$f":"'Course 2 Lab'!$A$23","v":{"v":17,"d":"00000017"}},{"$f":"'Course 2 Lab'!$B$23","v":"Student"},{"$f":"'Course 2 Lab'!$C$23","v":"Seventeen"},{"$f":"'Course 2 Lab'!$D$23","v":0},{"$f":"'Course 2 Lab'!$E$23","v":0},{"$f":"'Course 2 Lab'!$F$23","v":0},{"$f":"'Course 2 Lab'!$G$23","v":0},{"$f":"'Course 2 Lab'!$H$23","v":0},{"$f":"'Course 2 Lab'!$I$23","v":0},{"$f":"'Course 2 Lab'!$J$23","v":0},{"$f":"'Course 2 Lab'!$K$23","v":0},{"$f":"'Course 2 Lab'!$L$23","v":0},{"$f":"'Course 2 Lab'!$M$23","v":1},{"$f":"'Course 2 Lab'!$N$23","v":0},{"$f":"'Course 2 Lab'!$O$23","v":{"v":0,"d":"0%"}}]
[{"$f":"'Student 1'!$A$27","v":"Course 3 Steering & Suspension. Class."},{"$nulls":11},{"$f":"'Student 1'!$M$27","v":25}]
[{"$f":"'Student 1'!$A$28","v":" "},{"$f":"'Student 1'!$B$28","v":"Date assignment is due:"},null,{"$f":"'Student 1'!$D$28","v":"1/18"},{"$f":"'Student 1'!$E$28","v":"2/2"},{"$f":"'Student 1'!$F$28","v":"TBD"},{"$f":"'Student 1'!$G$28","v":"TBD"},{"$f":"'Student 1'!$H$28","v":"TBD"},{"$f":"'Student 1'!$I$28","v":"TBD"},{"$f":"'Student 1'!$J$28","v":"TBD"},{"$f":"'Student 1'!$K$28","v":"TBD"},{"$f":"'Student 1'!$L$28","v":"TBD"},{"$f":"'Student 1'!$M$28","v":"TBD"},{"$f":"'Student 1'!$N$28","v":"TBD"}]
[{"$f":"'Student 1'!$A$29","v":"Class Room Points:"},null,{"$f":"'Student 1'!$C$29","v":330},{"$f":"'Student 1'!$D$29","v":20},{"$f":"'Student 1'!$E$29","v":20},{"$f":"'Student 1'!$F$29","v":24},{"$f":"'Student 1'!$G$29","v":20},{"$f":"'Student 1'!$H$29","v":25},{"$f":"'Student 1'!$I$29","v":30},{"$f":"'Student 1'!$J$29","v":20},{"$f":"'Student 1'!$K$29","v":26},{"$f":"'Student 1'!$L$29","v":45},{"$f":"'Student 1'!$M$29","v":" "},{"$f":"'Student 1'!$N$29","v":100},{"$f":"'Student 1'!$O$29","v":"Evaluation"}]
[{"$f":"'Student 1'!$A$30","v":"Red is late turn-in"},null,{"$f":"'Student 1'!$C$30","v":"Blue is absent"},{"$f":"'Student 1'!$D$30","v":"HW"},{"$f":"'Student 1'!$E$30","v":"HW"},{"$f":"'Student 1'!$F$30","v":"HW"},{"$f":"'Student 1'!$G$30","v":"QZ"},{"$f":"'Student 1'!$H$30","v":"HW"},{"$f":"'Student 1'!$I$30","v":"HW"},{"$f":"'Student 1'!$J$30","v":"Test"},{"$f":"'Student 1'!$K$30","v":"HW"},{"$f":"'Student 1'!$L$30","v":"Class"},{"$f":"'Student 1'!$M$30","v":"Extra"},{"$f":"'Student 1'!$N$30","v":"Final"},{"$f":"'Student 1'!$O$30","v":"Class"},null,{"$f":"'Student 1'!$Q$30","v":"Professionalism"},null,null,{"$f":"'Student 1'!$T$30","v":"Lab"},null,{"$f":"'Student 1'!$V$30","v":"Total  "},{"$f":"'Student 1'!$W$30","v":"Letter"}]
[{"$f":"'Student 1'!$A$31","v":"I D "},{"$f":"'Student 1'!$B$31","v":"First:"},{"$f":"'Student 1'!$C$31","v":"Last:"},{"$f":"'Student 1'!$D$31","v":"CH 1"},{"$f":"'Student 1'!$E$31","v":"CH 2"},{"$f":"'Student 1'!$F$31","v":"CH 3"},{"$f":"'Student 1'!$G$31","v":"1"},{"$f":"'Student 1'!$H$31","v":"CH 6"},{"$f":"'Student 1'!$I$31","v":"CH 9"},{"$f":"'Student 1'!$J$31","v":"1 – 9"},{"$f":"'Student 1'!$K$31","v":"CH 12"},{"$f":"'Student 1'!$L$31","v":"Project"},{"$f":"'Student 1'!$M$31","v":"Credit"},{"$f":"'Student 1'!$N$31","v":"TEST"},{"$f":"'Student 1'!$O$31","v":"Points"},{"$f":"'Student 1'!$P$31","v":"%"},{"$f":"'Student 1'!$Q$31","v":"Attendance"},{"$f":"'Student 1'!$R$31","v":"Points"},{"$f":"'Student 1'!$S$31","v":"%"},{"$f":"'Student 1'!$T$31","v":"Points"},{"$f":"'Student 1'!$U$31","v":"%"},{"$f":"'Student 1'!$V$31","v":"%"},{"$f":"'Student 1'!$W$31","v":"Grade"}]
[{"$f":"'Course 3 Class'!$A$22","v":{"v":17,"d":"00000017"}},{"$f":"'Course 3 Class'!$B$22","v":"Student"},{"$f":"'Course 3 Class'!$C$22","v":"Seventeen"},{"$f":"'Course 3 Class'!$D$22","v":0},{"$f":"'Course 3 Class'!$E$22","v":0},{"$f":"'Course 3 Class'!$F$22","v":0},{"$f":"'Course 3 Class'!$G$22","v":0},{"$f":"'Course 3 Class'!$H$22","v":0},{"$f":"'Course 3 Class'!$I$22","v":0},{"$f":"'Course 3 Class'!$J$22","v":0},{"$f":"'Course 3 Class'!$K$22","v":0},{"$f":"'Course 3 Class'!$L$22","v":0},{"$f":"'Course 3 Class'!$M$22","v":0},{"$f":"'Course 3 Class'!$N$22","v":0},{"$f":"'Course 3 Class'!$O$22","v":0},{"$f":"'Course 3 Class'!$P$22","v":{"v":0,"d":"0%"}},{"$f":"'Course 3 Class'!$Q$22","v":{"v":1,"d":"100%"}},{"$f":"'Course 3 Class'!$R$22","v":72},{"$f":"'Course 3 Class'!$S$22","v":{"v":1,"d":"100%"}},{"$f":"'Course 3 Class'!$T$22","v":0},{"$f":"'Course 3 Class'!$U$22","v":{"v":0,"d":"0%"}},{"$f":"'Course 3 Class'!$V$22","v":{"v":0.25,"d":"25%"}},{"$f":"'Course 3 Class'!$W$22","v":"F"}]
[{"$f":"'Student 1'!$A$33","v":"Course 3 Steering & Suspension. Lab"}]
[{"$f":"'Student 1'!$A$34","v":"Max shop points"},null,{"$f":"'Student 1'!$C$34","v":1350},{"$f":"'Student 1'!$D$34","v":"Repair"},{"$f":"'Student 1'!$E$34","v":"Identify"},{"$f":"'Student 1'!$F$34","v":"Repair"},{"$f":"'Student 1'!$G$34","v":"Identify"},{"$f":"'Student 1'!$H$34","v":"Repair"},{"$f":"'Student 1'!$I$34","v":"R&R"},{"$f":"'Student 1'!$J$34","v":"R&R"},{"$f":"'Student 1'!$K$34","v":"R&R"},{"$f":"'Student 1'!$L$34","v":"P/S"},{"$f":"'Student 1'!$M$34","v":"R&R"},{"$f":"'Student 1'!$N$34","v":"NVH"},{"$f":"'Student 1'!$O$34","v":" "}]
[{"$f":"'Student 1'!$A$35","v":"Max shop points available depend on how much customer work is done."},null,null,{"$f":"'Student 1'!$D$35","v":"SLA"},{"$f":"'Student 1'!$E$35","v":"SLA"},{"$f":"'Student 1'!$F$35","v":"Mac-P"},{"$f":"'Student 1'!$G$35","v":"Mac-P"},{"$f":"'Student 1'!$H$35","v":"Rear"},{"$f":"'Student 1'!$I$35","v":"Rack &"},{"$f":"'Student 1'!$J$35","v":"Recirc."},{"$f":"'Student 1'!$K$35","v":"P/S"},{"$f":"'Student 1'!$L$35","v":"Pump"},{"$f":"'Student 1'!$M$35","v":"Inner"},{"$f":"'Student 1'!$N$35","v":"Runout &"},{"$f":"'Student 1'!$O$35","v":"Cus"},{"$f":"'Student 1'!$P$35","v":"Comp"}]
[{"$nulls":3},{"$f":"'Student 1'!$D$36","v":"Susp"},{"$f":"'Student 1'!$E$36","v":"Parts"},{"$f":"'Student 1'!$F$36","v":"Susp"},{"$f":"'Student 1'!$G$36","v":"Parts"},{"$f":"'Student 1'!$H$36","v":"Susp"},{"$f":"'Student 1'!$I$36","v":"Pinion"},{"$f":"'Student 1'!$J$36","v":"Gear"},{"$f":"'Student 1'!$K$36","v":"Pump"},{"$f":"'Student 1'!$L$36","v":"Test"},{"$f":"'Student 1'!$M$36","v":"Tie-Rod"},{"$f":"'Student 1'!$N$36","v":"bal. Check"},{"$f":"'Student 1'!$O$36","v":"tomer"},{"$f":"'Student 1'!$P$36","v":"etency"},{"$f":"'Student 1'!$Q$36","v":" "},{"$f":"'Student 1'!$R$36","v":" "},null,null,{"$f":"'Student 1'!$U$36","v":"Final Grade"}]
[{"$nulls":3},{"$f":"'Student 1'!$D$37","v":1},{"$f":"'Student 1'!$E$37","v":2},{"$f":"'Student 1'!$F$37","v":3},{"$f":"'Student 1'!$G$37","v":2},{"$f":"'Student 1'!$H$37","v":1},{"$f":"'Student 1'!$I$37","v":1},{"$f":"'Student 1'!$J$37","v":1},{"$f":"'Student 1'!$K$37","v":1},{"$f":"'Student 1'!$L$37","v":1},{"$f":"'Student 1'!$M$37","v":1},{"$f":"'Student 1'!$N$37","v":1},{"$f":"'Student 1'!$O$37","v":"Work"},{"$f":"'Student 1'!$P$37","v":"0 or 1"},{"$f":"'Student 1'!$Q$37","v":"Lab"},{"$nulls":3},{"$f":"'Student 1'!$U$37","v":{"v":0,"d":"0%"}},{"$f":"'Student 1'!$V$37","v":"F"}]
[{"$f":"'Student 1'!$A$38","v":"ID"},{"$f":"'Student 1'!$B$38","v":"First:"},{"$f":"'Student 1'!$C$38","v":"Last:"},{"$f":"'Student 1'!$D$38","v":150},{"$f":"'Student 1'!$E$38","v":50},{"$f":"'Student 1'!$F$38","v":225},{"$f":"'Student 1'!$G$38","v":50},{"$f":"'Student 1'!$H$38","v":50},{"$f":"'Student 1'!$I$38","v":150},{"$f":"'Student 1'!$J$38","v":125},{"$f":"'Student 1'!$K$38","v":50},{"$f":"'Student 1'!$L$38","v":50},{"$f":"'Student 1'!$M$38","v":50},{"$f":"'Student 1'!$N$38","v":100},{"$f":"'Student 1'!$O$38","v":300},{"$f":"'Student 1'!$P$38","v":"*"},{"$f":"'Student 1'!$Q$38","v":"Points"},{"$f":"'Student 1'!$R$38","v":"%"},null,null,{"$f":"'Student 1'!$U$38","v":{"v":0.695,"d":"70%"}},{"$f":"'Student 1'!$V$38","v":"D-"}]
[{"$f":"'Course 3 Lab'!$A$23","v":{"v":17,"d":"00000017"}},{"$f":"'Course 3 Lab'!$B$23","v":"Student"},{"$f":"'Course 3 Lab'!$C$23","v":"Seventeen"},{"$f":"'Course 3 Lab'!$D$23","v":0},{"$f":"'Course 3 Lab'!$E$23","v":0},{"$f":"'Course 3 Lab'!$F$23","v":0},{"$f":"'Course 3 Lab'!$G$23","v":0},{"$f":"'Course 3 Lab'!$H$23","v":0},{"$f":"'Course 3 Lab'!$I$23","v":0},{"$f":"'Course 3 Lab'!$J$23","v":0},{"$f":"'Course 3 Lab'!$K$23","v":0},{"$f":"'Course 3 Lab'!$L$23","v":0},{"$f":"'Course 3 Lab'!$M$23","v":0},{"$f":"'Course 3 Lab'!$N$23","v":0},{"$f":"'Course 3 Lab'!$O$23","v":0},{"$f":"'Course 3 Lab'!$P$23","v":1},{"$f":"'Course 3 Lab'!$Q$23","v":0},{"$f":"'Course 3 Lab'!$R$23","v":{"v":0,"d":"0%"}},null,null,{"$f":"'Student 1'!$U$39","v":{"v":0.715,"d":"72%"}},{"$f":"'Student 1'!$V$39","v":"D"}]
[{"$f":"'Student 1'!$A$40","v":"Course 4 Alignment. Class."},{"$nulls":7},{"$f":"'Student 1'!$I$40","v":25},{"$nulls":11},{"$f":"'Student 1'!$U$40","v":{"v":0.735,"d":"74%"}},{"$f":"'Student 1'!$V$40","v":"D+"}]
[{"$f":"'Student 1'!$A$41","v":" "},{"$f":"'Student 1'!$B$41","v":"Date assignment is due  "},null,{"$f":"'Student 1'!$D$41","v":"TBD"},{"$f":"'Student 1'!$E$41","v":"TBD"},{"$f":"'Student 1'!$F$41","v":"TBD"},{"$f":"'Student 1'!$G$41","v":"TBD"},{"$f":"'Student 1'!$H$41","v":"TBD"},{"$f":"'Student 1'!$I$41","v":"TBD"},{"$f":"'Student 1'!$J$41","v":"TBD"},{"$nulls":10},{"$f":"'Student 1'!$U$41","v":{"v":0.755,"d":"76%"}},{"$f":"'Student 1'!$V$41","v":"C-"}]
[{"$f":"'Student 1'!$A$42","v":"Class Room Points:"},null,{"$f":"'Student 1'!$C$42","v":235},{"$f":"'Student 1'!$D$42","v":25},{"$f":"'Student 1'!$E$42","v":25},{"$f":"'Student 1'!$F$42","v":20},{"$f":"'Student 1'!$G$42","v":40},{"$f":"'Student 1'!$H$42","v":50},{"$f":"'Student 1'!$I$42","v":" "},{"$f":"'Student 1'!$J$42","v":75},{"$f":"'Student 1'!$K$42","v":"Evaluation"},{"$nulls":9},{"$f":"'Student 1'!$U$42","v":{"v":0.785,"d":"79%"}},{"$f":"'Student 1'!$V$42","v":"C"}]
[{"$f":"'Student 1'!$A$43","v":"Red is late turn-in"},null,{"$f":"'Student 1'!$C$43","v":"Blue is absent"},{"$f":"'Student 1'!$D$43","v":"CH 16"},{"$f":"'Student 1'!$E$43","v":"CH 16"},{"$f":"'Student 1'!$F$43","v":"Align"},{"$f":"'Student 1'!$G$43","v":"In class"},{"$f":"'Student 1'!$H$43","v":"In class"},{"$f":"'Student 1'!$I$43","v":"Extra"},{"$f":"'Student 1'!$J$43","v":"Final"},{"$f":"'Student 1'!$K$43","v":"Class"},null,{"$f":"'Student 1'!$M$43","v":"Professionalism"},null,null,{"$f":"'Student 1'!$P$43","v":"Lab"},null,{"$f":"'Student 1'!$R$43","v":"Total  "},{"$f":"'Student 1'!$S$43","v":"Letter"},null,{"$f":"'Student 1'!$U$43","v":{"v":0.815,"d":"82%"}},{"$f":"'Student 1'!$V$43","v":"C+"}]
[{"$f":"'Student 1'!$A$44","v":"I D "},{"$f":"'Student 1'!$B$44","v":"First:"},{"$f":"'Student 1'!$C$44","v":"Last:"},{"$f":"'Student 1'!$D$44","v":"HW"},{"$f":"'Student 1'!$E$44","v":"Test"},{"$f":"'Student 1'!$F$44","v":"HW"},{"$f":"'Student 1'!$G$44","v":"Project1"},{"$f":"'Student 1'!$H$44","v":"Project2"},{"$f":"'Student 1'!$I$44","v":"Credit"},{"$f":"'Student 1'!$J$44","v":"Test"},{"$f":"'Student 1'!$K$44","v":"Points"},{"$f":"'Student 1'!$L$44","v":"%"},{"$f":"'Student 1'!$M$44","v":"Attendance"},{"$f":"'Student 1'!$N$44","v":"Points"},{"$f":"'Student 1'!$O$44","v":"%"},{"$f":"'Student 1'!$P$44","v":"Points"},{"$f":"'Student 1'!$Q$44","v":"%"},{"$f":"'Student 1'!$R$44","v":"%"},{"$f":"'Student 1'!$S$44","v":"Grade"},null,{"$f":"'Student 1'!$U$44","v":{"v":0.845,"d":"85%"}},{"$f":"'Student 1'!$V$44","v":"B-"}]
[{"$f":"'Course 4 Class'!$A$22","v":{"v":17,"d":"00000017"}},{"$f":"'Course 4 Class'!$B$22","v":"Student"},{"$f":"'Course 4 Class'!$C$22","v":"Seventeen"},{"$f":"'Course 4 Class'!$D$22","v":0},{"$f":"'Course 4 Class'!$E$22","v":0},{"$f":"'Course 4 Class'!$F$22","v":0},{"$f":"'Course 4 Class'!$G$22","v":0},{"$f":"'Course 4 Class'!$H$22","v":0},{"$f":"'Course 4 Class'!$I$22","v":0},{"$f":"'Course 4 Class'!$J$22","v":0},{"$f":"'Course 4 Class'!$K$22","v":0},{"$f":"'Course 4 Class'!$L$22","v":{"v":0,"d":"0%"}},{"$f":"'Course 4 Class'!$M$22","v":{"v":1,"d":"100%"}},{"$f":"'Course 4 Class'!$N$22","v":72},{"$f":"'Course 4 Class'!$O$22","v":{"v":1,"d":"100%"}},{"$f":"'Course 4 Class'!$P$22","v":0},{"$f":"'Course 4 Class'!$Q$22","v":{"v":0,"d":"0%"}},{"$f":"'Course 4 Class'!$R$22","v":{"v":0.25,"d":"25%"}},{"$f":"'Course 4 Class'!$S$22","v":"F"},null,{"$f":"'Student 1'!$U$45","v":{"v":0.875,"d":"88%"}},{"$f":"'Student 1'!$V$45","v":"B"}]
[{"$f":"'Student 1'!$A$46","v":"Course 4 Alignment. Lab"},{"$nulls":19},{"$f":"'Student 1'!$U$46","v":{"v":0.895,"d":"90%"}},{"$f":"'Student 1'!$V$46","v":"B+"}]
[{"$f":"'Student 1'!$A$47","v":"Max Shop Points:"},null,{"$f":"'Student 1'!$C$47","v":1300},{"$f":"'Student 1'!$D$47","v":"Alignment"},{"$f":"'Student 1'!$E$47","v":"Complete"},{"$f":"'Student 1'!$F$47","v":"Cus"},{"$f":"'Student 1'!$G$47","v":" "},{"$nulls":13},{"$f":"'Student 1'!$U$47","v":{"v":0.925,"d":"93%"}},{"$f":"'Student 1'!$V$47","v":"A-"}]
[{"$f":"'Student 1'!$A$48","v":"Max shop points available depend on how much customer work is done."},null,null,{"$f":"'Student 1'!$D$48","v":"Pre-check"},{"$f":"'Student 1'!$E$48","v":"Wheel"},{"$f":"'Student 1'!$F$48","v":"tomer"},{"$f":"'Student 1'!$G$48","v":"Comp"},{"$nulls":13},{"$f":"'Student 1'!$U$48","v":{"v":0.945,"d":"95%"}},{"$f":"'Student 1'!$V$48","v":"A"}]
[{"$nulls":3},{"$f":"'Student 1'!$D$49","v":"100 P"},{"$f":"'Student 1'!$E$49","v":"Alignment"},{"$f":"'Student 1'!$F$49","v":"Work"},{"$f":"'Student 1'!$G$49","v":"etency"},{"$f":"'Student 1'!$H$49","v":" "},{"$f":"'Student 1'!$I$49","v":" "},{"$nulls":11},{"$f":"'Student 1'!$U$49","v":{"v":1,"d":"100%"}},{"$f":"'Student 1'!$V$49","v":"A"}]
[{"$nulls":3},{"$f":"'Student 1'!$D$50","v":1},{"$f":"'Student 1'!$E$50","v":1},{"$f":"'Student 1'!$F$50","v":" "},{"$f":"'Student 1'!$G$50","v":"0 or 1"},{"$f":"'Student 1'!$H$50","v":"Lab"}]
[{"$f":"'Student 1'!$A$51","v":"ID"},{"$f":"'Student 1'!$B$51","v":"First:"},{"$f":"'Student 1'!$C$51","v":"Last:"},{"$f":"'Student 1'!$D$51","v":100},{"$f":"'Student 1'!$E$51","v":900},{"$f":"'Student 1'!$F$51","v":300},{"$f":"'Student 1'!$G$51","v":"*"},{"$f":"'Student 1'!$H$51","v":"Points"},{"$f":"'Student 1'!$I$51","v":"%"}]
[{"$f":"'Course 4 Lab'!$A$23","v":{"v":17,"d":"00000017"}},{"$f":"'Course 4 Lab'!$B$23","v":"Student"},{"$f":"'Course 4 Lab'!$C$23","v":"Seventeen"},{"$f":"'Course 4 Lab'!$D$23","v":0},{"$f":"'Course 4 Lab'!$E$23","v":0},{"$f":"'Course 4 Lab'!$F$23","v":0},{"$f":"'Course 4 Lab'!$G$23","v":1},{"$f":"'Course 4 Lab'!$H$23","v":0},{"$f":"'Course 4 Lab'!$I$23","v":{"v":0,"d":"0%"}}]
[{"$f":"'Student 1'!$A$53","v":"Course 5 Brake Systems. Class."},{"$nulls":10},{"$f":"'Student 1'!$L$53","v":35}]
[{"$f":"'Student 1'!$A$54","v":"Date assignment is due:"},null,{"$f":"'Student 1'!$C$54","v":" "},{"$f":"'Student 1'!$D$54","v":"TBD"},{"$f":"'Student 1'!$E$54","v":"TBD"},{"$f":"'Student 1'!$F$54","v":"TBD"},{"$f":"'Student 1'!$G$54","v":"TBD"},{"$f":"'Student 1'!$H$54","v":"TBD"},{"$f":"'Student 1'!$I$54","v":"TBD"},{"$f":"'Student 1'!$J$54","v":"TBD"},{"$f":"'Student 1'!$K$54","v":"TBD"},{"$f":"'Student 1'!$L$54","v":"TBD"},{"$f":"'Student 1'!$M$54","v":"TBD"}]
[{"$f":"'Student 1'!$A$55","v":"Class Room Points:"},null,{"$f":"'Student 1'!$C$55","v":440},{"$f":"'Student 1'!$D$55","v":30},{"$f":"'Student 1'!$E$55","v":25},{"$f":"'Student 1'!$F$55","v":100},{"$f":"'Student 1'!$G$55","v":30},{"$f":"'Student 1'!$H$55","v":50},{"$f":"'Student 1'!$I$55","v":30},{"$f":"'Student 1'!$J$55","v":25},{"$f":"'Student 1'!$K$55","v":50},{"$f":"'Student 1'!$L$55","v":" "},{"$f":"'Student 1'!$M$55","v":100},{"$f":"'Student 1'!$N$55","v":"Evaluation"}]
[{"$f":"'Student 1'!$A$56","v":"Red is late turn-in"},null,{"$f":"'Student 1'!$C$56","v":"Blue is absent"},{"$f":"'Student 1'!$D$56","v":"HW"},{"$f":"'Student 1'!$E$56","v":"HW"},{"$f":"'Student 1'!$F$56","v":"Test"},{"$f":"'Student 1'!$G$56","v":"HW"},{"$f":"'Student 1'!$H$56","v":"Test"},{"$f":"'Student 1'!$I$56","v":"HW"},{"$f":"'Student 1'!$J$56","v":"Test"},{"$f":"'Student 1'!$K$56","v":"Class"},{"$f":"'Student 1'!$L$56","v":"Extra"},{"$f":"'Student 1'!$M$56","v":"Final"},{"$f":"'Student 1'!$N$56","v":"Class"},null,{"$f":"'Student 1'!$P$56","v":"Professionalism"},null,null,{"$f":"'Student 1'!$S$56","v":"Lab"},null,{"$f":"'Student 1'!$U$56","v":"Total  "},{"$f":"'Student 1'!$V$56","v":"Letter"}]
[{"$f":"'Student 1'!$A$57","v":"I D "},{"$f":"'Student 1'!$B$57","v":"First:"},{"$f":"'Student 1'!$C$57","v":"Last:"},{"$f":"'Student 1'!$D$57","v":"CH 4"},{"$f":"'Student 1'!$E$57","v":"CH 5"},{"$f":"'Student 1'!$F$57","v":"#1"},{"$f":"'Student 1'!$G$57","v":"CH 7"},{"$f":"'Student 1'!$H$57","v":"Conv"},{"$f":"'Student 1'!$I$57","v":"CH 20"},{"$f":"'Student 1'!$J$57","v":"21/22"},{"$f":"'Student 1'!$K$57","v":"Project"},{"$f":"'Student 1'!$L$57","v":"Credit"},{"$f":"'Student 1'!$M$57","v":"Test"},{"$f":"'Student 1'!$N$57","v":"Points"},{"$f":"'Student 1'!$O$57","v":"%"},{"$f":"'Student 1'!$P$57","v":"Attendance"},{"$f":"'Student 1'!$Q$57","v":"Points"},{"$f":"'Student 1'!$R$57","v":"%"},{"$f":"'Student 1'!$S$57","v":"Points"},{"$f":"'Student 1'!$T$57","v":"%"},{"$f":"'Student 1'!$U$57","v":"%"},{"$f":"'Student 1'!$V$57","v":"Grade"}]
[{"$f":"'Course 5 Class'!$A$22","v":{"v":17,"d":"00000017"}},{"$f":"'Course 5 Class'!$B$22","v":"Student"},{"$f":"'Course 5 Class'!$C$22","v":"Seventeen"},{"$f":"'Course 5 Class'!$D$22","v":0},{"$f":"'Course 5 Class'!$E$22","v":0},{"$f":"'Course 5 Class'!$F$22","v":0},{"$f":"'Course 5 Class'!$G$22","v":0},{"$f":"'Course 5 Class'!$H$22","v":0},{"$f":"'Course 5 Class'!$I$22","v":0},{"$f":"'Course 5 Class'!$J$22","v":0},{"$f":"'Course 5 Class'!$K$22","v":0},{"$f":"'Course 5 Class'!$L$22","v":0},{"$f":"'Course 5 Class'!$M$22","v":0},{"$f":"'Course 5 Class'!$N$22","v":0},{"$f":"'Course 5 Class'!$O$22","v":{"v":0,"d":"0%"}},{"$f":"'Course 5 Class'!$P$22","v":{"v":1,"d":"100%"}},{"$f":"'Course 5 Class'!$Q$22","v":72},{"$f":"'Course 5 Class'!$R$22","v":{"v":1,"d":"100%"}},{"$f":"'Course 5 Class'!$S$22","v":0},{"$f":"'Course 5 Class'!$T$22","v":{"v":0,"d":"0%"}},{"$f":"'Course 5 Class'!$U$22","v":{"v":0.25,"d":"25%"}},{"$f":"'Course 5 Class'!$V$22","v":"F"}]
[{"$f":"'Student 1'!$A$59","v":"Course 5 Brake Systems. Lab"}]
[{"$f":"'Student 1'!$A$60","v":"  Max Shop Points:"},null,{"$f":"'Student 1'!$C$60","v":970},{"$f":"'Student 1'!$D$60","v":"Drum"},{"$f":"'Student 1'!$E$60","v":"Drum "},{"$f":"'Student 1'!$F$60","v":"Disc"},{"$f":"'Student 1'!$G$60","v":"On Car"},{"$f":"'Student 1'!$H$60","v":"Off Car"},{"$f":"'Student 1'!$I$60","v":"Wheel"},{"$f":"'Student 1'!$J$60","v":"Hydr."},{"$f":"'Student 1'!$K$60","v":"Vacuum"},{"$f":"'Student 1'!$L$60","v":"Warning"},{"$f":"'Student 1'!$M$60","v":"Brake"},{"$f":"'Student 1'!$N$60","v":"Brake"},{"$f":"'Student 1'!$O$60","v":"Dodge"},{"$f":"'Student 1'!$P$60","v":"Ford"},{"$f":"'Student 1'!$Q$60","v":"GM"},{"$f":"'Student 1'!$R$60","v":"Cus"},{"$f":"'Student 1'!$S$60","v":"Brake"}]
[{"$f":"'Student 1'!$A$61","v":"Max shop points available depend on how much customer work is done."},null,null,{"$f":"'Student 1'!$D$61","v":"Brake"},{"$f":"'Student 1'!$E$61","v":"Brake "},{"$f":"'Student 1'!$F$61","v":"Brake"},{"$f":"'Student 1'!$G$61","v":"Disc"},{"$f":"'Student 1'!$H$61","v":"Disc"},{"$f":"'Student 1'!$I$61","v":"Bearing"},{"$f":"'Student 1'!$J$61","v":"Line"},{"$f":"'Student 1'!$K$61","v":"Booster"},{"$f":"'Student 1'!$L$61","v":"Light"},{"$f":"'Student 1'!$M$61","v":"System"},{"$f":"'Student 1'!$N$61","v":"Valves"},{"$f":"'Student 1'!$O$61","v":"Anti"},{"$f":"'Student 1'!$P$61","v":"Anti"},{"$f":"'Student 1'!$Q$61","v":"Anti"},{"$f":"'Student 1'!$R$61","v":"tomer"},{"$f":"'Student 1'!$S$61","v":"Comp"}]
[{"$nulls":3},{"$f":"'Student 1'!$D$62","v":"Job"},{"$f":"'Student 1'!$E$62","v":"Mach."},{"$f":"'Student 1'!$F$62","v":"Job"},{"$f":"'Student 1'!$G$62","v":"Mach."},{"$f":"'Student 1'!$H$62","v":"Mach."},{"$f":"'Student 1'!$I$62","v":"Service"},{"$f":"'Student 1'!$J$62","v":"Repair"},{"$f":"'Student 1'!$K$62","v":"Service"},{"$f":"'Student 1'!$L$62","v":"Service"},{"$f":"'Student 1'!$M$62","v":"Bleed"},{"$f":"'Student 1'!$N$62","v":"Check"},{"$f":"'Student 1'!$O$62","v":"Lock"},{"$f":"'Student 1'!$P$62","v":"Lock"},{"$f":"'Student 1'!$Q$62","v":"Lock"},{"$f":"'Student 1'!$R$62","v":"Work"},{"$f":"'Student 1'!$S$62","v":"etency"}]
[{"$nulls":3},{"$f":"'Student 1'!$D$63","v":2},{"$f":"'Student 1'!$E$63","v":2},{"$f":"'Student 1'!$F$63","v":2},{"$f":"'Student 1'!$G$63","v":2},{"$f":"'Student 1'!$H$63","v":2},{"$f":"'Student 1'!$I$63","v":1},{"$f":"'Student 1'!$J$63","v":1},{"$f":"'Student 1'!$K$63","v":2},{"$f":"'Student 1'!$L$63","v":2},{"$f":"'Student 1'!$M$63","v":4},{"$f":"'Student 1'!$N$63","v":1},{"$f":"'Student 1'!$O$63","v":1},{"$f":"'Student 1'!$P$63","v":1},{"$f":"'Student 1'!$Q$63","v":1},{"$f":"'Student 1'!$R$63","v":" "},{"$f":"'Student 1'!$S$63","v":"Required"},{"$f":"'Student 1'!$T$63","v":"Lab"}]
[{"$f":"'Student 1'!$A$64","v":"ID"},{"$f":"'Student 1'!$B$64","v":"First:"},{"$f":"'Student 1'!$C$64","v":"Last:"},{"$f":"'Student 1'!$D$64","v":150},{"$f":"'Student 1'!$E$64","v":40},{"$f":"'Student 1'!$F$64","v":150},{"$f":"'Student 1'!$G$64","v":80},{"$f":"'Student 1'!$H$64","v":40},{"$f":"'Student 1'!$I$64","v":50},{"$f":"'Student 1'!$J$64","v":30},{"$f":"'Student 1'!$K$64","v":30},{"$f":"'Student 1'!$L$64","v":40},{"$f":"'Student 1'!$M$64","v":80},{"$f":"'Student 1'!$N$64","v":40},{"$f":"'Student 1'!$O$64","v":80},{"$f":"'Student 1'!$P$64","v":80},{"$f":"'Student 1'!$Q$64","v":80},{"$f":"'Student 1'!$R$64","v":300},{"$f":"'Student 1'!$S$64","v":"*"},{"$f":"'Student 1'!$T$64","v":"Points"},{"$f":"'Student 1'!$U$64","v":"%"}]
[{"$f":"'Course 5 Lab'!$A$23","v":{"v":17,"d":"00000017"}},{"$f":"'Course 5 Lab'!$B$23","v":"Student"},{"$f":"'Course 5 Lab'!$C$23","v":"Seventeen"},{"$f":"'Course 5 Lab'!$D$23","v":0},{"$f":"'Course 5 Lab'!$E$23","v":0},{"$f":"'Course 5 Lab'!$F$23","v":0},{"$f":"'Course 5 Lab'!$G$23","v":0},{"$f":"'Course 5 Lab'!$H$23","v":0},{"$f":"'Course 5 Lab'!$I$23","v":0},{"$f":"'Course 5 Lab'!$J$23","v":0},{"$f":"'Course 5 Lab'!$K$23","v":0},{"$f":"'Course 5 Lab'!$L$23","v":0},{"$f":"'Course 5 Lab'!$M$23","v":0},{"$f":"'Course 5 Lab'!$N$23","v":0},{"$f":"'Course 5 Lab'!$O$23","v":0},{"$f":"'Course 5 Lab'!$P$23","v":0},{"$f":"'Course 5 Lab'!$Q$23","v":0},{"$f":"'Course 5 Lab'!$R$23","v":0},{"$f":"'Course 5 Lab'!$S$23","v":1},{"$f":"'Course 5 Lab'!$T$23","v":0},{"$f":"'Course 5 Lab'!$U$23","v":{"v":0,"d":"0%"}}]

{"sheet":"Student 18","index":31,"n_rows":65,"n_cols":23,"rows_kept":65,"merged":[[0,0,0,2],[1,0,1,2],[2,0,2,1],[2,9,2,17],[3,0,3,1],[3,9,3,10],[3,11,3,13],[3,14,3,15],[6,0,6,2],[7,0,7,1],[8,0,10,2],[10,16,10,17],[13,0,13,2],[14,1,14,2],[15,0,15,1],[15,11,15,19],[16,0,16,1],[16,11,16,12],[16,13,16,15],[16,16,16,17],[19,0,19,2],[20,0,20,1],[21,0,23,2],[23,13,23,14],[26,0,26,2],[27,1,27,2],[28,0,28,1],[28,14,28,22],[29,0,29,1],[29,14,29,15],[29,16,29,18],[29,19,29,20],[32,0,32,2],[33,0,33,1],[34,0,36,2],[35,20,35,21],[36,16,36,17],[39,0,39,2],[40,1,40,2],[41,0,41,1],[41,10,41,18],[42,0,42,1],[42,10,42,11],[42,12,42,14],[42,15,42,16],[45,0,45,2],[46,0,46,1],[47,0,49,2],[49,7,49,8],[52,0,52,2],[53,0,53,2],[54,0,54,1],[54,13,54,21],[55,0,55,1],[55,13,55,14],[55,15,55,17],[55,18,55,19],[58,0,58,2],[59,0,59,1],[60,0,62,2],[62,19,62,20]]}
[{"$f":"'Student 1'!$A$1","v":"Course 1 Engine Diagnosis. Class"},{"$nulls":6},{"$f":"'Student 1'!$H$1","v":25}]
[{"$f":"'Student 1'!$A$2","v":"Date assignment is due"},null,{"$f":"'Student 1'!$C$2","v":" "},{"$f":"'Student 1'!$D$2","v":"TBD"},{"$f":"'Student 1'!$E$2","v":"TBD"},{"$f":"'Student 1'!$F$2","v":"TBD"},{"$f":"'Student 1'!$G$2","v":"TBD"},{"$f":"'Student 1'!$H$2","v":"TBD"},{"$f":"'Student 1'!$I$2","v":"TBD"}]
[{"$f":"'Student 1'!$A$3","v":"Class Room Points:"},null,{"$f":"'Student 1'!$C$3","v":160},{"$f":"'Student 1'!$D$3","v":20},{"$f":"'Student 1'!$E$3","v":20},{"$f":"'Student 1'!$F$3","v":20},{"$f":"'Student 1'!$G$3","v":25},{"$f":"'Student 1'!$H$3","v":" "},{"$f":"'Student 1'!$I$3","v":75},{"$f":"'Student 1'!$J$3","v":"Evaluation"}]
[{"$f":"'Student 1'!$A$4","v":"Red is late turn-in"},null,{"$f":"'Student 1'!$C$4","v":"Blue is absent"},{"$f":"'Student 1'!$D$4","v":"CH 13 "},{"$f":"'Student 1'!$E$4","v":"Lube"},{"$f":"'Student 1'!$F$4","v":"Lube"},{"$f":"'Student 1'!$G$4","v":"Condition"},{"$f":"'Student 1'!$H$4","v":"Extra"},{"$f":"'Student 1'!$I$4","v":"Final"},{"$f":"'Student 1'!$J$4","v":"Classroom"},null,{"$f":"'Student 1'!$L$4","v":"Professionalism"},null,null,{"$f":"'Student 1'!$O$4","v":"Lab"},null,{"$f":"'Student 1'!$Q$4","v":"Total  "},{"$f":"'Student 1'!$R$4","v":"Letter"}]
[{"$f":"'Student 1'!$A$5","v":"I D "},{"$f":"'Student 1'!$B$5","v":"First:"},{"$f":"'Student 1'!$C$5","v":"Last:"},{"$f":"'Student 1'!$D$5","v":"Test"},{"$f":"'Student 1'!$E$5","v":"HW"},{"$f":"'Student 1'!$F$5","v":"Test"},{"$f":"'Student 1'!$G$5","v":"Class"},{"$f":"'Student 1'!$H$5","v":"Credit"},{"$f":"'Student 1'!$I$5","v":"Test"},{"$f":"'Student 1'!$J$5","v":"Points"},{"$f":"'Student 1'!$K$5","v":"%"},{"$f":"'Student 1'!$L$5","v":"Attendance"},{"$f":"'Student 1'!$M$5","v":"Points"},{"$f":"'Student 1'!$N$5","v":"%"},{"$f":"'Student 1'!$O$5","v":"Points"},{"$f":"'Student 1'!$P$5","v":"%"},{"$f":"'Student 1'!$Q$5","v":"%"},{"$f":"'Student 1'!$R$5","v":"Grade"}]
[{"$f":"'Course 1 Class'!$A$23","v":{"v":18,"d":"00000018"}},{"$f":"'Course 1 Class'!$B$23","v":"Student"},{"$f":"'Course 1 Class'!$C$23","v":"Eighteen"},{"$f":"'Course 1 Class'!$D$23","v":0},{"$f":"'Course 1 Class'!$E$23","v":0},{"$f":"'Course 1 Class'!$F$23","v":0},{"$f":"'Course 1 Class'!$G$23","v":0},{"$f":"'Course 1 Class'!$H$23","v":0},{"$f":"'Course 1 Class'!$I$23","v":0},{"$f":"'Course 1 Class'!$J$23","v":0},{"$f":"'Course 1 Class'!$K$23","v":{"v":0,"d":"0%"}},{"$f":"'Course 1 Class'!$L$23","v":{"v":1,"d":"100%"}},{"$f":"'Course 1 Class'!$M$23","v":72},{"$f":"'Course 1 Class'!$N$23","v":{"v":1,"d":"100%"}},{"$f":"'Course 1 Class'!$O$23","v":0},{"$f":"'Course 1 Class'!$P$23","v":{"v":0,"d":"0%"}},{"$f":"'Course 1 Class'!$Q$23","v":{"v":0.25,"d":"25%"}},{"$f":"'Course 1 Class'!$R$23","v":"F"}]
[{"$f":"'Student 1'!$A$7","v":"Course 1 Engine Diagnosis. Lab"}]
[{"$f":"'Student 1'!$A$8","v":"  Max Shop Points:"},null,{"$f":"'Student 1'!$C$8","v":1325},{"$f":"'Student 1'!$D$8","v":"Dry"},{"$f":"'Student 1'!$E$8","v":"Wet"},{"$f":"'Student 1'!$F$8","v":"Running"},{"$f":"'Student 1'!$G$8","v":"Cylinder"},{"$f":"'Student 1'!$H$8","v":"Oil"},{"$f":"'Student 1'!$I$8","v":"Cooling"},{"$f":"'Student 1'!$J$8","v":"Vacuum"},{"$f":"'Student 1'!$K$8","v":"PCV"},{"$f":"'Student 1'!$L$8","v":"Thermostat"},{"$f":"'Student 1'!$M$8","v":"Fluid"},{"$f":"'Student 1'!$N$8","v":"Diag"},{"$f":"'Student 1'!$O$8","v":" "}]
[{"$f":"'Student 1'!$A$9","v":"Max shop points available depend on how much customer work is done."},null,null,{"$f":"'Student 1'!$D$9","v":"Compr"},{"$f":"'Student 1'!$E$9","v":"Compr"},{"$f":"'Student 1'!$F$9","v":"Compr"},{"$f":"'Student 1'!$G$9","v":"Leakage"},{"$f":"'Student 1'!$H$9","v":"Pressure"},{"$f":"'Student 1'!$I$9","v":"System"},{"$f":"'Student 1'!$J$9","v":"Gauge"},{"$f":"'Student 1'!$K$9","v":"System"},{"$f":"'Student 1'!$L$9","v":"and fan"},{"$f":"'Student 1'!$M$9","v":"Leak"},{"$f":"'Student 1'!$N$9","v":"gauges"},{"$f":"'Student 1'!$O$9","v":"Cus"},{"$f":"'Student 1'!$P$9","v":"Comp"}]
[{"$nulls":3},{"$f":"'Student 1'!$D$10","v":"Test"},{"$f":"'Student 1'!$E$10","v":"Test"},{"$f":"'Student 1'!$F$10","v":"Test"},{"$f":"'Student 1'!$G$10","v":"Test"},{"$f":"'Student 1'!$H$10","v":"Test"},{"$f":"'Student 1'!$I$10","v":"Test"},{"$f":"'Student 1'!$J$10","v":"Test"},{"$f":"'Student 1'!$K$10","v":"Check"},{"$f":"'Student 1'!$L$10","v":"Operation"},{"$f":"'Student 1'!$M$10","v":"Check"},{"$f":"'Student 1'!$N$10","v":"any vehicle"},{"$f":"'Student 1'!$O$10","v":"tomer"},{"$f":"'Student 1'!$P$10","v":"etency"},{"$f":"'Student 1'!$Q$10","v":"  "},{"$f":"'Student 1'!$R$10","v":" "}]
[{"$nulls":3},{"$f":"'Student 1'!$D$11","v":2},{"$f":"'Student 1'!$E$11","v":2},{"$f":"'Student 1'!$F$11","v":2},{"$f":"'Student 1'!$G$11","v":2},{"$f":"'Student 1'!$H$11","v":2},{"$f":"'Student 1'!$I$11","v":2},{"$f":"'Student 1'!$J$11","v":2},{"$f":"'Student 1'!$K$11","v":2},{"$f":"'Student 1'!$L$11","v":2},{"$f":"'Student 1'!$M$11","v":1},{"$f":"'Student 1'!$N$11","v":1},{"$f":"'Student 1'!$O$11","v":"Work"},{"$f":"'Student 1'!$P$11","v":"0 or 1"},{"$f":"'Student 1'!$Q$11","v":"Lab"}]
[{"$f":"'Student 1'!$A$12","v":"ID"},{"$f":"'Student 1'!$B$12","v":"First:"},{"$f":"'Student 1'!$C$12","v":"Last:"},{"$f":"'Student 1'!$D$12","v":100},{"$f":"'Student 1'!$E$12","v":100},{"$f":"'Student 1'!$F$12","v":100},{"$f":"'Student 1'!$G$12","v":100},{"$f":"'Student 1'!$H$12","v":100},{"$f":"'Student 1'!$I$12","v":150},{"$f":"'Student 1'!$J$12","v":100},{"$f":"'Student 1'!$K$12","v":50},{"$f":"'Student 1'!$L$12","v":100},{"$f":"'Student 1'!$M$12","v":25},{"$f":"'Student 1'!$N$12","v":100},{"$f":"'Student 1'!$O$12","v":300},{"$f":"'Student 1'!$P$12","v":"*"},{"$f":"'Student 1'!$Q$12","v":"Points"},{"$f":"'Student 1'!$R$12","v":"%"}]
[{"$f":"'Course 1 Lab'!$A$24","v":{"v":18,"d":"00000018"}},{"$f":"'Course 1 Lab'!$B$24","v":"Student"},{"$f":"'Course 1 Lab'!$C$24","v":"Eighteen"},{"$f":"'Course 1 Lab'!$D$24","v":0},{"$f":"'Course 1 Lab'!$E$24","v":0},{"$f":"'Course 1 Lab'!$F$24","v":0},{"$f":"'Course 1 Lab'!$G$24","v":0},{"$f":"'Course 1 Lab'!$H$24","v":0},{"$f":"'Course 1 Lab'!$I$24","v":0},{"$f":"'Course 1 Lab'!$J$24","v":0},{"$f":"'Course 1 Lab'!$K$24","v":0},{"$f":"'Course 1 Lab'!$L$24","v":0},{"$f":"'Course 1 Lab'!$M$24","v":0},{"$f":"'Course 1 Lab'!$N$24","v":0},{"$f":"'Course 1 Lab'!$O$24","v":0},{"$f":"'Course 1 Lab'!$P$24","v":1},{"$f":"'Course 1 Lab'!$Q$24","v":0},{"$f":"'Course 1 Lab'!$R$24","v":{"v":0,"d":"0%"}}]
[{"$f":"'Student 1'!$A$14","v":"Course 2 Engine Theory & Repair. Class"},{"$nulls":8},{"$f":"'Student 1'!$J$14","v":25}]
[{"$f":"'Student 1'!$A$15","v":" "},{"$f":"'Student 1'!$B$15","v":"Date assignment is due:"},null,{"$f":"'Student 1'!$D$15","v":"TBD"},{"$f":"'Student 1'!$E$15","v":"TBD"},{"$f":"'Student 1'!$F$15","v":"TBD"},{"$f":"'Student 1'!$G$15","v":"TBD"},{"$f":"'Student 1'!$H$15","v":"TBD"},{"$f":"'Student 1'!$I$15","v":"TBD"},{"$f":"'Student 1'!$J$15","v":"TBD"},{"$f":"'Student 1'!$K$15","v":"TBD"}]
[{"$f":"'Student 1'!$A$16","v":"Class Room Points:"},null,{"$f":"'Student 1'!$C$16","v":201},{"$f":"'Student 1'!$D$16","v":10},{"$f":"'Student 1'!$E$16","v":10},{"$f":"'Student 1'!$F$16","v":20},{"$f":"'Student 1'!$G$16","v":20},{"$f":"'Student 1'!$H$16","v":16},{"$f":"'Student 1'!$I$16","v":25},{"$f":"'Student 1'!$J$16","v":" "},{"$f":"'Student 1'!$K$16","v":100},{"$f":"'Student 1'!$L$16","v":"Evaluation"}]
[{"$f":"'Student 1'!$A$17","v":"Red is late turn-in"},null,{"$f":"'Student 1'!$C$17","v":"Blue is absent"},{"$f":"'Student 1'!$D$17","v":"HW"},{"$f":"'Student 1'!$E$17","v":"HW "},{"$f":"'Student 1'!$F$17","v":"Test"},{"$f":"'Student 1'!$G$17","v":"Test"},{"$f":"'Student 1'!$H$17","v":"HW"},{"$f":"'Student 1'!$I$17","v":"Test"},{"$f":"'Student 1'!$J$17","v":"Extra"},{"$f":"'Student 1'!$K$17","v":"Final "},{"$f":"'Student 1'!$L$17","v":"Class"},null,{"$f":"'Student 1'!$N$17","v":"Professionalism"},null,null,{"$f":"'Student 1'!$Q$17","v":"Lab"},null,{"$f":"'Student 1'!$S$17","v":"Total  "},{"$f":"'Student 1'!$T$17","v":"Letter"}]
[{"$f":"'Student 1'!$A$18","v":"I D "},{"$f":"'Student 1'!$B$18","v":"First:"},{"$f":"'Student 1'!$C$18","v":"Last:"},{"$f":"'Student 1'!$D$18","v":"CH 7"},{"$f":"'Student 1'!$E$18","v":"CH 14"},{"$f":"'Student 1'!$F$18","v":"C & L"},{"$f":"'Student 1'!$G$18","v":"CH 18"},{"$f":"'Student 1'!$H$18","v":"CH 22"},{"$f":"'Student 1'!$I$18","v":"CH 22"},{"$f":"'Student 1'!$J$18","v":"Credit"},{"$f":"'Student 1'!$K$18","v":"TEST"},{"$f":"'Student 1'!$L$18","v":"Points"},{"$f":"'Student 1'!$M$18","v":"%"},{"$f":"'Student 1'!$N$18","v":"Attendance"},{"$f":"'Student 1'!$O$18","v":"Points"},{"$f":"'Student 1'!$P$18","v":"%"},{"$f":"'Student 1'!$Q$18","v":"Points"},{"$f":"'Student 1'!$R$18","v":"%"},{"$f":"'Student 1'!$S$18","v":"%"},{"$f":"'Student 1'!$T$18","v":"Grade"}]
[{"$f":"'Course 2 Class'!$A$23","v":{"v":18,"d":"00000018"}},{"$f":"'Course 2 Class'!$B$23","v":"Student"},{"$f":"'Course 2 Class'!$C$23","v":"Eighteen"},{"$f":"'Course 2 Class'!$D$23","v":0},{"$f":"'Course 2 Class'!$E$23","v":0},{"$f":"'Course 2 Class'!$F$23","v":0},{"$f":"'Course 2 Class'!$G$23","v":0},{"$f":"'Course 2 Class'!$H$23","v":0},{"$f":"'Course 2 Class'!$I$23","v":0},{"$f":"'Course 2 Class'!$J$23","v":0},{"$f":"'Course 2 Class'!$K$23","v":0},{"$f":"'Course 2 Class'!$L$23","v":0},{"$f":"'Course 2 Class'!$M$23","v":{"v":0,"d":"0%"}},{"$f":"'Course 2 Class'!$N$23","v":{"v":1,"d":"100%"}},{"$f":"'Course 2 Class'!$O$23","v":72},{"$f":"'Course 2 Class'!$P$23","v":{"v":1,"d":"100%"}},{"$f":"'Course 2 Class'!$Q$23","v":0},{"$f":"'Course 2 Class'!$R$23","v":{"v":0,"d":"0%"}},{"$f":"'Course 2 Class'!$S$23","v":{"v":0.25,"d":"25%"}},{"$f":"'Course 2 Class'!$T$23","v":"F"}]
[{"$f":"'Student 1'!$A$20","v":"Course 2 Engine Theory & Repair. Lab"}]
[{"$f":"'Student 1'!$A$21","v":"  Max Shop Points:"},null,{"$f":"'Student 1'!$C$21","v":1450},{"$f":"'Student 1'!$D$21","v":"Engine"},{"$f":"'Student 1'!$E$21","v":"Cylinder"},{"$f":"'Student 1'!$F$21","v":"Red"},{"$f":"'Student 1'!$G$21","v":"Mitsubishi"},{"$f":"'Student 1'!$H$21","v":"Any"},{"$f":"'Student 1'!$I$21","v":"DOHC"},{"$f":"'Student 1'!$J$21","v":"Valve seal"},{"$f":"'Student 1'!$K$21","v":"Misc."},{"$f":"'Student 1'!$L$21","v":" "}]
[{"$f":"'Student 1'!$A$22","v":"Max shop points available depend on how much customer work is done."},null,null,{"$f":"'Student 1'!$D$22","v":"Disassemble"},{"$f":"'Student 1'!$E$22","v":"Head"},{"$f":"'Student 1'!$F$22","v":"Dodge"},{"$f":"'Student 1'!$G$22","v":"\"3.0L\""},{"$f":"'Student 1'!$H$22","v":"Engine"},{"$f":"'Student 1'!$I$22","v":"Engine"},{"$f":"'Student 1'!$J$22","v":"&"},{"$f":"'Student 1'!$K$22","v":"Engine "},{"$f":"'Student 1'!$L$22","v":"Cus"},{"$f":"'Student 1'!$M$22","v":"Comp"}]
[{"$nulls":3},{"$f":"'Student 1'!$D$23","v":"& Measure"},{"$f":"'Student 1'!$E$23","v":"Repair"},{"$f":"'Student 1'!$F$23","v":"Clip"},{"$f":"'Student 1'!$G$23","v":"Clip"},{"$f":"'Student 1'!$H$23","v":"T-chain"},{"$f":"'Student 1'!$I$23","v":" Stand"},{"$f":"'Student 1'!$J$23","v":"Lobe lift"},{"$f":"'Student 1'!$K$23","v":"Points"},{"$f":"'Student 1'!$L$23","v":"tomer"},{"$f":"'Student 1'!$M$23","v":"etency"},{"$f":"'Student 1'!$N$23","v":" "},{"$f":"'Student 1'!$O$23","v":" "}]
[{"$nulls":3},{"$f":"'Student 1'!$D$24","v":1},{"$f":"'Student 1'!$E$24","v":1},{"$f":"'Student 1'!$F$24","v":1},{"$f":"'Student 1'!$G$24","v":1},{"$f":"'Student 1'!$H$24","v":1},{"$f":"'Student 1'!$I$24","v":1},{"$f":"'Student 1'!$J$24","v":1},null,{"$f":"'Student 1'!$L$24","v":"Work"},{"$f":"'Student 1'!$M$24","v":"0 or 1"},{"$f":"'Student 1'!$N$24","v":"Lab"}]
[{"$f":"'Student 1'!$A$25","v":"ID"},{"$f":"'Student 1'!$B$25","v":"First:"},{"$f":"'Student 1'!$C$25","v":"Last:"},{"$f":"'Student 1'!$D$25","v":300},{"$f":"'Student 1'!$E$25","v":200},{"$f":"'Student 1'!$F$25","v":100},{"$f":"'Student 1'!$G$25","v":100},{"$f":"'Student 1'!$H$25","v":100},{"$f":"'Student 1'!$I$25","v":100},{"$f":"'Student 1'!$J$25","v":50},{"$f":"'Student 1'!$K$25","v":200},{"$f":"'Student 1'!$L$25","v":300},{"$f":"'Student 1'!$M$25","v":"*"},{"$f":"'Student 1'!$N$25","v":"Points"},{"$f":"'Student 1'!$O$25","v":"%"}]
[{"$f":"'Course 2 Lab'!$A$24","v":{"v":18,"d":"00000018"}},{"$f":"'Course 2 Lab'!$B$24","v":"Student"},{"$f":"'Course 2 Lab'!$C$24","v":"Eighteen"},{"$f":"'Course 2 Lab'!$D$24","v":0},{"$f":"'Course 2 Lab'!$E$24","v":0},{"$f":"'Course 2 Lab'!$F$24","v":0},{"$f":"'Course 2 Lab'!$G$24","v":0},{"$f":"'Course 2 Lab'!$H$24","v":0},{"$f":"'Course 2 Lab'!$I$24","v":0},{"$f":"'Course 2 Lab'!$J$24","v":0},{"$f":"'Course 2 Lab'!$K$24","v":0},{"$f":"'Course 2 Lab'!$L$24","v":0},{"$f":"'Course 2 Lab'!$M$24","v":1},{"$f":"'Course 2 Lab'!$N$24","v":0},{"$f":"'Course 2 Lab'!$O$24","v":{"v":0,"d":"0%"}}]
[{"$f":"'Student 1'!$A$27","v":"Course 3 Steering & Suspension. Class."},{"$nulls":11},{"$f":"'Student 1'!$M$27","v":25}]
[{"$f":"'Student 1'!$A$28","v":" "},{"$f":"'Student 1'!$B$28","v":"Date assignment is due:"},null,{"$f":"'Student 1'!$D$28","v":"1/18"},{"$f":"'Student 1'!$E$28","v":"2/2"},{"$f":"'Student 1'!$F$28","v":"TBD"},{"$f":"'Student 1'!$G$28","v":"TBD"},{"$f":"'Student 1'!$H$28","v":"TBD"},{"$f":"'Student 1'!$I$28","v":"TBD"},{"$f":"'Student 1'!$J$28","v":"TBD"},{"$f":"'Student 1'!$K$28","v":"TBD"},{"$f":"'Student 1'!$L$28","v":"TBD"},{"$f":"'Student 1'!$M$28","v":"TBD"},{"$f":"'Student 1'!$N$28","v":"TBD"}]
[{"$f":"'Student 1'!$A$29","v":"Class Room Points:"},null,{"$f":"'Student 1'!$C$29","v":330},{"$f":"'Student 1'!$D$29","v":20},{"$f":"'Student 1'!$E$29","v":20},{"$f":"'Student 1'!$F$29","v":24},{"$f":"'Student 1'!$G$29","v":20},{"$f":"'Student 1'!$H$29","v":25},{"$f":"'Student 1'!$I$29","v":30},{"$f":"'Student 1'!$J$29","v":20},{"$f":"'Student 1'!$K$29","v":26},{"$f":"'Student 1'!$L$29","v":45},{"$f":"'Student 1'!$M$29","v":" "},{"$f":"'Student 1'!$N$29","v":100},{"$f":"'Student 1'!$O$29","v":"Evaluation"}]
[{"$f":"'Student 1'!$A$30","v":"Red is late turn-in"},null,{"$f":"'Student 1'!$C$30","v":"Blue is absent"},{"$f":"'Student 1'!$D$30","v":"HW"},{"$f":"'Student 1'!$E$30","v":"HW"},{"$f":"'Student 1'!$F$30","v":"HW"},{"$f":"'Student 1'!$G$30","v":"QZ"},{"$f":"'Student 1'!$H$30","v":"HW"},{"$f":"'Student 1'!$I$30","v":"HW"},{"$f":"'Student 1'!$J$30","v":"Test"},{"$f":"'Student 1'!$K$30","v":"HW"},{"$f":"'Student 1'!$L$30","v":"Class"},{"$f":"'Student 1'!$M$30","v":"Extra"},{"$f":"'Student 1'!$N$30","v":"Final"},{"$f":"'Student 1'!$O$30","v":"Class"},null,{"$f":"'Student 1'!$Q$30","v":"Professionalism"},null,null,{"$f":"'Student 1'!$T$30","v":"Lab"},null,{"$f":"'Student 1'!$V$30","v":"Total  "},{"$f":"'Student 1'!$W$30","v":"Letter"}]
[{"$f":"'Student 1'!$A$31","v":"I D "},{"$f":"'Student 1'!$B$31","v":"First:"},{"$f":"'Student 1'!$C$31","v":"Last:"},{"$f":"'Student 1'!$D$31","v":"CH 1"},{"$f":"'Student 1'!$E$31","v":"CH 2"},{"$f":"'Student 1'!$F$31","v":"CH 3"},{"$f":"'Student 1'!$G$31","v":"1"},{"$f":"'Student 1'!$H$31","v":"CH 6"},{"$f":"'Student 1'!$I$31","v":"CH 9"},{"$f":"'Student 1'!$J$31","v":"1 – 9"},{"$f":"'Student 1'!$K$31","v":"CH 12"},{"$f":"'Student 1'!$L$31","v":"Project"},{"$f":"'Student 1'!$M$31","v":"Credit"},{"$f":"'Student 1'!$N$31","v":"TEST"},{"$f":"'Student 1'!$O$31","v":"Points"},{"$f":"'Student 1'!$P$31","v":"%"},{"$f":"'Student 1'!$Q$31","v":"Attendance"},{"$f":"'Student 1'!$R$31","v":"Points"},{"$f":"'Student 1'!$S$31","v":"%"},{"$f":"'Student 1'!$T$31","v":"Points"},{"$f":"'Student 1'!$U$31","v":"%"},{"$f":"'Student 1'!$V$31","v":"%"},{"$f":"'Student 1'!$W$31","v":"Grade"}]
[{"$f":"'Course 3 Class'!$A$23","v":{"v":18,"d":"00000018"}},{"$f":"'Course 3 Class'!$B$23","v":"Student"},{"$f":"'Course 3 Class'!$C$23","v":"Eighteen"},{"$f":"'Course 3 Class'!$D$23","v":0},{"$f":"'Course 3 Class'!$E$23","v":0},{"$f":"'Course 3 Class'!$F$23","v":0},{"$f":"'Course 3 Class'!$G$23","v":0},{"$f":"'Course 3 Class'!$H$23","v":0},{"$f":"'Course 3 Class'!$I$23","v":0},{"$f":"'Course 3 Class'!$J$23","v":0},{"$f":"'Course 3 Class'!$K$23","v":0},{"$f":"'Course 3 Class'!$L$23","v":0},{"$f":"'Course 3 Class'!$M$23","v":0},{"$f":"'Course 3 Class'!$N$23","v":0},{"$f":"'Course 3 Class'!$O$23","v":0},{"$f":"'Course 3 Class'!$P$23","v":{"v":0,"d":"0%"}},{"$f":"'Course 3 Class'!$Q$23","v":{"v":1,"d":"100%"}},{"$f":"'Course 3 Class'!$R$23","v":72},{"$f":"'Course 3 Class'!$S$23","v":{"v":1,"d":"100%"}},{"$f":"'Course 3 Class'!$T$23","v":0},{"$f":"'Course 3 Class'!$U$23","v":{"v":0,"d":"0%"}},{"$f":"'Course 3 Class'!$V$23","v":{"v":0.25,"d":"25%"}},{"$f":"'Course 3 Class'!$W$23","v":"F"}]
[{"$f":"'Student 1'!$A$33","v":"Course 3 Steering & Suspension. Lab"}]
[{"$f":"'Student 1'!$A$34","v":"Max shop points"},null,{"$f":"'Student 1'!$C$34","v":1350},{"$f":"'Student 1'!$D$34","v":"Repair"},{"$f":"'Student 1'!$E$34","v":"Identify"},{"$f":"'Student 1'!$F$34","v":"Repair"},{"$f":"'Student 1'!$G$34","v":"Identify"},{"$f":"'Student 1'!$H$34","v":"Repair"},{"$f":"'Student 1'!$I$34","v":"R&R"},{"$f":"'Student 1'!$J$34","v":"R&R"},{"$f":"'Student 1'!$K$34","v":"R&R"},{"$f":"'Student 1'!$L$34","v":"P/S"},{"$f":"'Student 1'!$M$34","v":"R&R"},{"$f":"'Student 1'!$N$34","v":"NVH"},{"$f":"'Student 1'!$O$34","v":" "}]
[{"$f":"'Student 1'!$A$35","v":"Max shop points available depend on how much customer work is done."},null,null,{"$f":"'Student 1'!$D$35","v":"SLA"},{"$f":"'Student 1'!$E$35","v":"SLA"},{"$f":"'Student 1'!$F$35","v":"Mac-P"},{"$f":"'Student 1'!$G$35","v":"Mac-P"},{"$f":"'Student 1'!$H$35","v":"Rear"},{"$f":"'Student 1'!$I$35","v":"Rack &"},{"$f":"'Student 1'!$J$35","v":"Recirc."},{"$f":"'Student 1'!$K$35","v":"P/S"},{"$f":"'Student 1'!$L$35","v":"Pump"},{"$f":"'Student 1'!$M$35","v":"Inner"},{"$f":"'Student 1'!$N$35","v":"Runout &"},{"$f":"'Student 1'!$O$35","v":"Cus"},{"$f":"'Student 1'!$P$35","v":"Comp"}]
[{"$nulls":3},{"$f":"'Student 1'!$D$36","v":"Susp"},{"$f":"'Student 1'!$E$36","v":"Parts"},{"$f":"'Student 1'!$F$36","v":"Susp"},{"$f":"'Student 1'!$G$36","v":"Parts"},{"$f":"'Student 1'!$H$36","v":"Susp"},{"$f":"'Student 1'!$I$36","v":"Pinion"},{"$f":"'Student 1'!$J$36","v":"Gear"},{"$f":"'Student 1'!$K$36","v":"Pump"},{"$f":"'Student 1'!$L$36","v":"Test"},{"$f":"'Student 1'!$M$36","v":"Tie-Rod"},{"$f":"'Student 1'!$N$36","v":"bal. Check"},{"$f":"'Student 1'!$O$36","v":"tomer"},{"$f":"'Student 1'!$P$36","v":"etency"},{"$f":"'Student 1'!$Q$36","v":" "},{"$f":"'Student 1'!$R$36","v":" "},null,null,{"$f":"'Student 1'!$U$36","v":"Final Grade"}]
[{"$nulls":3},{"$f":"'Student 1'!$D$37","v":1},{"$f":"'Student 1'!$E$37","v":2},{"$f":"'Student 1'!$F$37","v":3},{"$f":"'Student 1'!$G$37","v":2},{"$f":"'Student 1'!$H$37","v":1},{"$f":"'Student 1'!$I$37","v":1},{"$f":"'Student 1'!$J$37","v":1},{"$f":"'Student 1'!$K$37","v":1},{"$f":"'Student 1'!$L$37","v":1},{"$f":"'Student 1'!$M$37","v":1},{"$f":"'Student 1'!$N$37","v":1},{"$f":"'Student 1'!$O$37","v":"Work"},{"$f":"'Student 1'!$P$37","v":"0 or 1"},{"$f":"'Student 1'!$Q$37","v":"Lab"},{"$nulls":3},{"$f":"'Student 1'!$U$37","v":{"v":0,"d":"0%"}},{"$f":"'Student 1'!$V$37","v":"F"}]
[{"$f":"'Student 1'!$A$38","v":"ID"},{"$f":"'Student 1'!$B$38","v":"First:"},{"$f":"'Student 1'!$C$38","v":"Last:"},{"$f":"'Student 1'!$D$38","v":150},{"$f":"'Student 1'!$E$38","v":50},{"$f":"'Student 1'!$F$38","v":225},{"$f":"'Student 1'!$G$38","v":50},{"$f":"'Student 1'!$H$38","v":50},{"$f":"'Student 1'!$I$38","v":150},{"$f":"'Student 1'!$J$38","v":125},{"$f":"'Student 1'!$K$38","v":50},{"$f":"'Student 1'!$L$38","v":50},{"$f":"'Student 1'!$M$38","v":50},{"$f":"'Student 1'!$N$38","v":100},{"$f":"'Student 1'!$O$38","v":300},{"$f":"'Student 1'!$P$38","v":"*"},{"$f":"'Student 1'!$Q$38","v":"Points"},{"$f":"'Student 1'!$R$38","v":"%"},null,null,{"$f":"'Student 1'!$U$38","v":{"v":0.695,"d":"70%"}},{"$f":"'Student 1'!$V$38","v":"D-"}]
[{"$f":"'Course 3 Lab'!$A$24","v":{"v":18,"d":"00000018"}},{"$f":"'Course 3 Lab'!$B$24","v":"Student"},{"$f":"'Course 3 Lab'!$C$24","v":"Eighteen"},{"$f":"'Course 3 Lab'!$D$24","v":0},{"$f":"'Course 3 Lab'!$E$24","v":0},{"$f":"'Course 3 Lab'!$F$24","v":0},{"$f":"'Course 3 Lab'!$G$24","v":0},{"$f":"'Course 3 Lab'!$H$24","v":0},{"$f":"'Course 3 Lab'!$I$24","v":0},{"$f":"'Course 3 Lab'!$J$24","v":0},{"$f":"'Course 3 Lab'!$K$24","v":0},{"$f":"'Course 3 Lab'!$L$24","v":0},{"$f":"'Course 3 Lab'!$M$24","v":0},{"$f":"'Course 3 Lab'!$N$24","v":0},{"$f":"'Course 3 Lab'!$O$24","v":0},{"$f":"'Course 3 Lab'!$P$24","v":1},{"$f":"'Course 3 Lab'!$Q$24","v":0},{"$f":"'Course 3 Lab'!$R$24","v":{"v":0,"d":"0%"}},null,null,{"$f":"'Student 1'!$U$39","v":{"v":0.715,"d":"72%"}},{"$f":"'Student 1'!$V$39","v":"D"}]
[{"$f":"'Student 1'!$A$40","v":"Course 4 Alignment. Class."},{"$nulls":7},{"$f":"'Student 1'!$I$40","v":25},{"$nulls":11},{"$f":"'Student 1'!$U$40","v":{"v":0.735,"d":"74%"}},{"$f":"'Student 1'!$V$40","v":"D+"}]
[{"$f":"'Student 1'!$A$41","v":" "},{"$f":"'Student 1'!$B$41","v":"Date assignment is due  "},null,{"$f":"'Student 1'!$D$41","v":"TBD"},{"$f":"'Student 1'!$E$41","v":"TBD"},{"$f":"'Student 1'!$F$41","v":"TBD"},{"$f":"'Student 1'!$G$41","v":"TBD"},{"$f":"'Student 1'!$H$41","v":"TBD"},{"$f":"'Student 1'!$I$41","v":"TBD"},{"$f":"'Student 1'!$J$41","v":"TBD"},{"$nulls":10},{"$f":"'Student 1'!$U$41","v":{"v":0.755,"d":"76%"}},{"$f":"'Student 1'!$V$41","v":"C-"}]
[{"$f":"'Student 1'!$A$42","v":"Class Room Points:"},null,{"$f":"'Student 1'!$C$42","v":235},{"$f":"'Student 1'!$D$42","v":25},{"$f":"'Student 1'!$E$42","v":25},{"$f":"'Student 1'!$F$42","v":20},{"$f":"'Student 1'!$G$42","v":40},{"$f":"'Student 1'!$H$42","v":50},{"$f":"'Student 1'!$I$42","v":" "},{"$f":"'Student 1'!$J$42","v":75},{"$f":"'Student 1'!$K$42","v":"Evaluation"},{"$nulls":9},{"$f":"'Student 1'!$U$42","v":{"v":0.785,"d":"79%"}},{"$f":"'Student 1'!$V$42","v":"C"}]
[{"$f":"'Student 1'!$A$43","v":"Red is late turn-in"},null,{"$f":"'Student 1'!$C$43","v":"Blue is absent"},{"$f":"'Student 1'!$D$43","v":"CH 16"},{"$f":"'Student 1'!$E$43","v":"CH 16"},{"$f":"'Student 1'!$F$43","v":"Align"},{"$f":"'Student 1'!$G$43","v":"In class"},{"$f":"'Student 1'!$H$43","v":"In class"},{"$f":"'Student 1'!$I$43","v":"Extra"},{"$f":"'Student 1'!$J$43","v":"Final"},{"$f":"'Student 1'!$K$43","v":"Class"},null,{"$f":"'Student 1'!$M$43","v":"Professionalism"},null,null,{"$f":"'Student 1'!$P$43","v":"Lab"},null,{"$f":"'Student 1'!$R$43","v":"Total  "},{"$f":"'Student 1'!$S$43","v":"Letter"},null,{"$f":"'Student 1'!$U$43","v":{"v":0.815,"d":"82%"}},{"$f":"'Student 1'!$V$43","v":"C+"}]
[{"$f":"'Student 1'!$A$44","v":"I D "},{"$f":"'Student 1'!$B$44","v":"First:"},{"$f":"'Student 1'!$C$44","v":"Last:"},{"$f":"'Student 1'!$D$44","v":"HW"},{"$f":"'Student 1'!$E$44","v":"Test"},{"$f":"'Student 1'!$F$44","v":"HW"},{"$f":"'Student 1'!$G$44","v":"Project1"},{"$f":"'Student 1'!$H$44","v":"Project2"},{"$f":"'Student 1'!$I$44","v":"Credit"},{"$f":"'Student 1'!$J$44","v":"Test"},{"$f":"'Student 1'!$K$44","v":"Points"},{"$f":"'Student 1'!$L$44","v":"%"},{"$f":"'Student 1'!$M$44","v":"Attendance"},{"$f":"'Student 1'!$N$44","v":"Points"},{"$f":"'Student 1'!$O$44","v":"%"},{"$f":"'Student 1'!$P$44","v":"Points"},{"$f":"'Student 1'!$Q$44","v":"%"},{"$f":"'Student 1'!$R$44","v":"%"},{"$f":"'Student 1'!$S$44","v":"Grade"},null,{"$f":"'Student 1'!$U$44","v":{"v":0.845,"d":"85%"}},{"$f":"'Student 1'!$V$44","v":"B-"}]
[{"$f":"'Course 4 Class'!$A$23","v":{"v":18,"d":"00000018"}},{"$f":"'Course 4 Class'!$B$23","v":"Student"},{"$f":"'Course 4 Class'!$C$23","v":"Eighteen"},{"$f":"'Course 4 Class'!$D$23","v":0},{"$f":"'Course 4 Class'!$E$23","v":0},{"$f":"'Course 4 Class'!$F$23","v":0},{"$f":"'Course 4 Class'!$G$23","v":0},{"$f":"'Course 4 Class'!$H$23","v":0},{"$f":"'Course 4 Class'!$I$23","v":0},{"$f":"'Course 4 Class'!$J$23","v":0},{"$f":"'Course 4 Class'!$K$23","v":0},{"$f":"'Course 4 Class'!$L$23","v":{"v":0,"d":"0%"}},{"$f":"'Course 4 Class'!$M$23","v":{"v":1,"d":"100%"}},{"$f":"'Course 4 Class'!$N$23","v":72},{"$f":"'Course 4 Class'!$O$23","v":{"v":1,"d":"100%"}},{"$f":"'Course 4 Class'!$P$23","v":0},{"$f":"'Course 4 Class'!$Q$23","v":{"v":0,"d":"0%"}},{"$f":"'Course 4 Class'!$R$23","v":{"v":0.25,"d":"25%"}},{"$f":"'Course 4 Class'!$S$23","v":"F"},null,{"$f":"'Student 1'!$U$45","v":{"v":0.875,"d":"88%"}},{"$f":"'Student 1'!$V$45","v":"B"}]
[{"$f":"'Student 1'!$A$46","v":"Course 4 Alignment. Lab"},{"$nulls":19},{"$f":"'Student 1'!$U$46","v":{"v":0.895,"d":"90%"}},{"$f":"'Student 1'!$V$46","v":"B+"}]
[{"$f":"'Student 1'!$A$47","v":"Max Shop Points:"},null,{"$f":"'Student 1'!$C$47","v":1300},{"$f":"'Student 1'!$D$47","v":"Alignment"},{"$f":"'Student 1'!$E$47","v":"Complete"},{"$f":"'Student 1'!$F$47","v":"Cus"},{"$f":"'Student 1'!$G$47","v":" "},{"$nulls":13},{"$f":"'Student 1'!$U$47","v":{"v":0.925,"d":"93%"}},{"$f":"'Student 1'!$V$47","v":"A-"}]
[{"$f":"'Student 1'!$A$48","v":"Max shop points available depend on how much customer work is done."},null,null,{"$f":"'Student 1'!$D$48","v":"Pre-check"},{"$f":"'Student 1'!$E$48","v":"Wheel"},{"$f":"'Student 1'!$F$48","v":"tomer"},{"$f":"'Student 1'!$G$48","v":"Comp"},{"$nulls":13},{"$f":"'Student 1'!$U$48","v":{"v":0.945,"d":"95%"}},{"$f":"'Student 1'!$V$48","v":"A"}]
[{"$nulls":3},{"$f":"'Student 1'!$D$49","v":"100 P"},{"$f":"'Student 1'!$E$49","v":"Alignment"},{"$f":"'Student 1'!$F$49","v":"Work"},{"$f":"'Student 1'!$G$49","v":"etency"},{"$f":"'Student 1'!$H$49","v":" "},{"$f":"'Student 1'!$I$49","v":" "},{"$nulls":11},{"$f":"'Student 1'!$U$49","v":{"v":1,"d":"100%"}},{"$f":"'Student 1'!$V$49","v":"A"}]
[{"$nulls":3},{"$f":"'Student 1'!$D$50","v":1},{"$f":"'Student 1'!$E$50","v":1},{"$f":"'Student 1'!$F$50","v":" "},{"$f":"'Student 1'!$G$50","v":"0 or 1"},{"$f":"'Student 1'!$H$50","v":"Lab"}]
[{"$f":"'Student 1'!$A$51","v":"ID"},{"$f":"'Student 1'!$B$51","v":"First:"},{"$f":"'Student 1'!$C$51","v":"Last:"},{"$f":"'Student 1'!$D$51","v":100},{"$f":"'Student 1'!$E$51","v":900},{"$f":"'Student 1'!$F$51","v":300},{"$f":"'Student 1'!$G$51","v":"*"},{"$f":"'Student 1'!$H$51","v":"Points"},{"$f":"'Student 1'!$I$51","v":"%"}]
[{"$f":"'Course 4 Lab'!$A$24","v":{"v":18,"d":"00000018"}},{"$f":"'Course 4 Lab'!$B$24","v":"Student"},{"$f":"'Course 4 Lab'!$C$24","v":"Eighteen"},{"$f":"'Course 4 Lab'!$D$24","v":0},{"$f":"'Course 4 Lab'!$E$24","v":0},{"$f":"'Course 4 Lab'!$F$24","v":0},{"$f":"'Course 4 Lab'!$G$24","v":1},{"$f":"'Course 4 Lab'!$H$24","v":0},{"$f":"'Course 4 Lab'!$I$24","v":{"v":0,"d":"0%"}}]
[{"$f":"'Student 1'!$A$53","v":"Course 5 Brake Systems. Class."},{"$nulls":10},{"$f":"'Student 1'!$L$53","v":35}]
[{"$f":"'Student 1'!$A$54","v":"Date assignment is due:"},null,{"$f":"'Student 1'!$C$54","v":" "},{"$f":"'Student 1'!$D$54","v":"TBD"},{"$f":"'Student 1'!$E$54","v":"TBD"},{"$f":"'Student 1'!$F$54","v":"TBD"},{"$f":"'Student 1'!$G$54","v":"TBD"},{"$f":"'Student 1'!$H$54","v":"TBD"},{"$f":"'Student 1'!$I$54","v":"TBD"},{"$f":"'Student 1'!$J$54","v":"TBD"},{"$f":"'Student 1'!$K$54","v":"TBD"},{"$f":"'Student 1'!$L$54","v":"TBD"},{"$f":"'Student 1'!$M$54","v":"TBD"}]
[{"$f":"'Student 1'!$A$55","v":"Class Room Points:"},null,{"$f":"'Student 1'!$C$55","v":440},{"$f":"'Student 1'!$D$55","v":30},{"$f":"'Student 1'!$E$55","v":25},{"$f":"'Student 1'!$F$55","v":100},{"$f":"'Student 1'!$G$55","v":30},{"$f":"'Student 1'!$H$55","v":50},{"$f":"'Student 1'!$I$55","v":30},{"$f":"'Student 1'!$J$55","v":25},{"$f":"'Student 1'!$K$55","v":50},{"$f":"'Student 1'!$L$55","v":" "},{"$f":"'Student 1'!$M$55","v":100},{"$f":"'Student 1'!$N$55","v":"Evaluation"}]
[{"$f":"'Student 1'!$A$56","v":"Red is late turn-in"},null,{"$f":"'Student 1'!$C$56","v":"Blue is absent"},{"$f":"'Student 1'!$D$56","v":"HW"},{"$f":"'Student 1'!$E$56","v":"HW"},{"$f":"'Student 1'!$F$56","v":"Test"},{"$f":"'Student 1'!$G$56","v":"HW"},{"$f":"'Student 1'!$H$56","v":"Test"},{"$f":"'Student 1'!$I$56","v":"HW"},{"$f":"'Student 1'!$J$56","v":"Test"},{"$f":"'Student 1'!$K$56","v":"Class"},{"$f":"'Student 1'!$L$56","v":"Extra"},{"$f":"'Student 1'!$M$56","v":"Final"},{"$f":"'Student 1'!$N$56","v":"Class"},null,{"$f":"'Student 1'!$P$56","v":"Professionalism"},null,null,{"$f":"'Student 1'!$S$56","v":"Lab"},null,{"$f":"'Student 1'!$U$56","v":"Total  "},{"$f":"'Student 1'!$V$56","v":"Letter"}]
[{"$f":"'Student 1'!$A$57","v":"I D "},{"$f":"'Student 1'!$B$57","v":"First:"},{"$f":"'Student 1'!$C$57","v":"Last:"},{"$f":"'Student 1'!$D$57","v":"CH 4"},{"$f":"'Student 1'!$E$57","v":"CH 5"},{"$f":"'Student 1'!$F$57","v":"#1"},{"$f":"'Student 1'!$G$57","v":"CH 7"},{"$f":"'Student 1'!$H$57","v":"Conv"},{"$f":"'Student 1'!$I$57","v":"CH 20"},{"$f":"'Student 1'!$J$57","v":"21/22"},{"$f":"'Student 1'!$K$57","v":"Project"},{"$f":"'Student 1'!$L$57","v":"Credit"},{"$f":"'Student 1'!$M$57","v":"Test"},{"$f":"'Student 1'!$N$57","v":"Points"},{"$f":"'Student 1'!$O$57","v":"%"},{"$f":"'Student 1'!$P$57","v":"Attendance"},{"$f":"'Student 1'!$Q$57","v":"Points"},{"$f":"'Student 1'!$R$57","v":"%"},{"$f":"'Student 1'!$S$57","v":"Points"},{"$f":"'Student 1'!$T$57","v":"%"},{"$f":"'Student 1'!$U$57","v":"%"},{"$f":"'Student 1'!$V$57","v":"Grade"}]
[{"$f":"'Course 5 Class'!$A$23","v":{"v":18,"d":"00000018"}},{"$f":"'Course 5 Class'!$B$23","v":"Student"},{"$f":"'Course 5 Class'!$C$23","v":"Eighteen"},{"$f":"'Course 5 Class'!$D$23","v":0},{"$f":"'Course 5 Class'!$E$23","v":0},{"$f":"'Course 5 Class'!$F$23","v":0},{"$f":"'Course 5 Class'!$G$23","v":0},{"$f":"'Course 5 Class'!$H$23","v":0},{"$f":"'Course 5 Class'!$I$23","v":0},{"$f":"'Course 5 Class'!$J$23","v":0},{"$f":"'Course 5 Class'!$K$23","v":0},{"$f":"'Course 5 Class'!$L$23","v":0},{"$f":"'Course 5 Class'!$M$23","v":0},{"$f":"'Course 5 Class'!$N$23","v":0},{"$f":"'Course 5 Class'!$O$23","v":{"v":0,"d":"0%"}},{"$f":"'Course 5 Class'!$P$23","v":{"v":1,"d":"100%"}},{"$f":"'Course 5 Class'!$Q$23","v":72},{"$f":"'Course 5 Class'!$R$23","v":{"v":1,"d":"100%"}},{"$f":"'Course 5 Class'!$S$23","v":0},{"$f":"'Course 5 Class'!$T$23","v":{"v":0,"d":"0%"}},{"$f":"'Course 5 Class'!$U$23","v":{"v":0.25,"d":"25%"}},{"$f":"'Course 5 Class'!$V$23","v":"F"}]
[{"$f":"'Student 1'!$A$59","v":"Course 5 Brake Systems. Lab"}]
[{"$f":"'Student 1'!$A$60","v":"  Max Shop Points:"},null,{"$f":"'Student 1'!$C$60","v":970},{"$f":"'Student 1'!$D$60","v":"Drum"},{"$f":"'Student 1'!$E$60","v":"Drum "},{"$f":"'Student 1'!$F$60","v":"Disc"},{"$f":"'Student 1'!$G$60","v":"On Car"},{"$f":"'Student 1'!$H$60","v":"Off Car"},{"$f":"'Student 1'!$I$60","v":"Wheel"},{"$f":"'Student 1'!$J$60","v":"Hydr."},{"$f":"'Student 1'!$K$60","v":"Vacuum"},{"$f":"'Student 1'!$L$60","v":"Warning"},{"$f":"'Student 1'!$M$60","v":"Brake"},{"$f":"'Student 1'!$N$60","v":"Brake"},{"$f":"'Student 1'!$O$60","v":"Dodge"},{"$f":"'Student 1'!$P$60","v":"Ford"},{"$f":"'Student 1'!$Q$60","v":"GM"},{"$f":"'Student 1'!$R$60","v":"Cus"},{"$f":"'Student 1'!$S$60","v":"Brake"}]
[{"$f":"'Student 1'!$A$61","v":"Max shop points available depend on how much customer work is done."},null,null,{"$f":"'Student 1'!$D$61","v":"Brake"},{"$f":"'Student 1'!$E$61","v":"Brake "},{"$f":"'Student 1'!$F$61","v":"Brake"},{"$f":"'Student 1'!$G$61","v":"Disc"},{"$f":"'Student 1'!$H$61","v":"Disc"},{"$f":"'Student 1'!$I$61","v":"Bearing"},{"$f":"'Student 1'!$J$61","v":"Line"},{"$f":"'Student 1'!$K$61","v":"Booster"},{"$f":"'Student 1'!$L$61","v":"Light"},{"$f":"'Student 1'!$M$61","v":"System"},{"$f":"'Student 1'!$N$61","v":"Valves"},{"$f":"'Student 1'!$O$61","v":"Anti"},{"$f":"'Student 1'!$P$61","v":"Anti"},{"$f":"'Student 1'!$Q$61","v":"Anti"},{"$f":"'Student 1'!$R$61","v":"tomer"},{"$f":"'Student 1'!$S$61","v":"Comp"}]
[{"$nulls":3},{"$f":"'Student 1'!$D$62","v":"Job"},{"$f":"'Student 1'!$E$62","v":"Mach."},{"$f":"'Student 1'!$F$62","v":"Job"},{"$f":"'Student 1'!$G$62","v":"Mach."},{"$f":"'Student 1'!$H$62","v":"Mach."},{"$f":"'Student 1'!$I$62","v":"Service"},{"$f":"'Student 1'!$J$62","v":"Repair"},{"$f":"'Student 1'!$K$62","v":"Service"},{"$f":"'Student 1'!$L$62","v":"Service"},{"$f":"'Student 1'!$M$62","v":"Bleed"},{"$f":"'Student 1'!$N$62","v":"Check"},{"$f":"'Student 1'!$O$62","v":"Lock"},{"$f":"'Student 1'!$P$62","v":"Lock"},{"$f":"'Student 1'!$Q$62","v":"Lock"},{"$f":"'Student 1'!$R$62","v":"Work"},{"$f":"'Student 1'!$S$62","v":"etency"}]
[{"$nulls":3},{"$f":"'Student 1'!$D$63","v":2},{"$f":"'Student 1'!$E$63","v":2},{"$f":"'Student 1'!$F$63","v":2},{"$f":"'Student 1'!$G$63","v":2},{"$f":"'Student 1'!$H$63","v":2},{"$f":"'Student 1'!$I$63","v":1},{"$f":"'Student 1'!$J$63","v":1},{"$f":"'Student 1'!$K$63","v":2},{"$f":"'Student 1'!$L$63","v":2},{"$f":"'Student 1'!$M$63","v":4},{"$f":"'Student 1'!$N$63","v":1},{"$f":"'Student 1'!$O$63","v":1},{"$f":"'Student 1'!$P$63","v":1},{"$f":"'Student 1'!$Q$63","v":1},{"$f":"'Student 1'!$R$63","v":" "},{"$f":"'Student 1'!$S$63","v":"Required"},{"$f":"'Student 1'!$T$63","v":"Lab"}]
[{"$f":"'Student 1'!$A$64","v":"ID"},{"$f":"'Student 1'!$B$64","v":"First:"},{"$f":"'Student 1'!$C$64","v":"Last:"},{"$f":"'Student 1'!$D$64","v":150},{"$f":"'Student 1'!$E$64","v":40},{"$f":"'Student 1'!$F$64","v":150},{"$f":"'Student 1'!$G$64","v":80},{"$f":"'Student 1'!$H$64","v":40},{"$f":"'Student 1'!$I$64","v":50},{"$f":"'Student 1'!$J$64","v":30},{"$f":"'Student 1'!$K$64","v":30},{"$f":"'Student 1'!$L$64","v":40},{"$f":"'Student 1'!$M$64","v":80},{"$f":"'Student 1'!$N$64","v":40},{"$f":"'Student 1'!$O$64","v":80},{"$f":"'Student 1'!$P$64","v":80},{"$f":"'Student 1'!$Q$64","v":80},{"$f":"'Student 1'!$R$64","v":300},{"$f":"'Student 1'!$S$64","v":"*"},{"$f":"'Student 1'!$T$64","v":"Points"},{"$f":"'Student 1'!$U$64","v":"%"}]
[{"$f":"'Course 5 Lab'!$A$24","v":{"v":18,"d":"00000018"}},{"$f":"'Course 5 Lab'!$B$24","v":"Student"},{"$f":"'Course 5 Lab'!$C$24","v":"Eighteen"},{"$f":"'Course 5 Lab'!$D$24","v":0},{"$f":"'Course 5 Lab'!$E$24","v":0},{"$f":"'Course 5 Lab'!$F$24","v":0},{"$f":"'Course 5 Lab'!$G$24","v":0},{"$f":"'Course 5 Lab'!$H$24","v":0},{"$f":"'Course 5 Lab'!$I$24","v":0},{"$f":"'Course 5 Lab'!$J$24","v":0},{"$f":"'Course 5 Lab'!$K$24","v":0},{"$f":"'Course 5 Lab'!$L$24","v":0},{"$f":"'Course 5 Lab'!$M$24","v":0},{"$f":"'Course 5 Lab'!$N$24","v":0},{"$f":"'Course 5 Lab'!$O$24","v":0},{"$f":"'Course 5 Lab'!$P$24","v":0},{"$f":"'Course 5 Lab'!$Q$24","v":0},{"$f":"'Course 5 Lab'!$R$24","v":0},{"$f":"'Course 5 Lab'!$S$24","v":1},{"$f":"'Course 5 Lab'!$T$24","v":0},{"$f":"'Course 5 Lab'!$U$24","v":{"v":0,"d":"0%"}}]

{"sheet":"Student 19","index":32,"n_rows":65,"n_cols":23,"rows_kept":65,"merged":[[0,0,0,2],[1,0,1,2],[2,0,2,1],[2,9,2,17],[3,0,3,1],[3,9,3,10],[3,11,3,13],[3,14,3,15],[6,0,6,2],[7,0,7,1],[8,0,10,2],[10,16,10,17],[13,0,13,2],[14,1,14,2],[15,0,15,1],[15,11,15,19],[16,0,16,1],[16,11,16,12],[16,13,16,15],[16,16,16,17],[19,0,19,2],[20,0,20,1],[21,0,23,2],[23,13,23,14],[26,0,26,2],[27,1,27,2],[28,0,28,1],[28,14,28,22],[29,0,29,1],[29,14,29,15],[29,16,29,18],[29,19,29,20],[32,0,32,2],[33,0,33,1],[34,0,36,2],[35,20,35,21],[36,16,36,17],[39,0,39,2],[40,1,40,2],[41,0,41,1],[41,10,41,18],[42,0,42,1],[42,10,42,11],[42,12,42,14],[42,15,42,16],[45,0,45,2],[46,0,46,1],[47,0,49,2],[49,7,49,8],[52,0,52,2],[53,0,53,2],[54,0,54,1],[54,13,54,21],[55,0,55,1],[55,13,55,14],[55,15,55,17],[55,18,55,19],[58,0,58,2],[59,0,59,1],[60,0,62,2],[62,19,62,20]]}
[{"$f":"'Student 1'!$A$1","v":"Course 1 Engine Diagnosis. Class"},{"$nulls":6},{"$f":"'Student 1'!$H$1","v":25}]
[{"$f":"'Student 1'!$A$2","v":"Date assignment is due"},null,{"$f":"'Student 1'!$C$2","v":" "},{"$f":"'Student 1'!$D$2","v":"TBD"},{"$f":"'Student 1'!$E$2","v":"TBD"},{"$f":"'Student 1'!$F$2","v":"TBD"},{"$f":"'Student 1'!$G$2","v":"TBD"},{"$f":"'Student 1'!$H$2","v":"TBD"},{"$f":"'Student 1'!$I$2","v":"TBD"}]
[{"$f":"'Student 1'!$A$3","v":"Class Room Points:"},null,{"$f":"'Student 1'!$C$3","v":160},{"$f":"'Student 1'!$D$3","v":20},{"$f":"'Student 1'!$E$3","v":20},{"$f":"'Student 1'!$F$3","v":20},{"$f":"'Student 1'!$G$3","v":25},{"$f":"'Student 1'!$H$3","v":" "},{"$f":"'Student 1'!$I$3","v":75},{"$f":"'Student 1'!$J$3","v":"Evaluation"}]
[{"$f":"'Student 1'!$A$4","v":"Red is late turn-in"},null,{"$f":"'Student 1'!$C$4","v":"Blue is absent"},{"$f":"'Student 1'!$D$4","v":"CH 13 "},{"$f":"'Student 1'!$E$4","v":"Lube"},{"$f":"'Student 1'!$F$4","v":"Lube"},{"$f":"'Student 1'!$G$4","v":"Condition"},{"$f":"'Student 1'!$H$4","v":"Extra"},{"$f":"'Student 1'!$I$4","v":"Final"},{"$f":"'Student 1'!$J$4","v":"Classroom"},null,{"$f":"'Student 1'!$L$4","v":"Professionalism"},null,null,{"$f":"'Student 1'!$O$4","v":"Lab"},null,{"$f":"'Student 1'!$Q$4","v":"Total  "},{"$f":"'Student 1'!$R$4","v":"Letter"}]
[{"$f":"'Student 1'!$A$5","v":"I D "},{"$f":"'Student 1'!$B$5","v":"First:"},{"$f":"'Student 1'!$C$5","v":"Last:"},{"$f":"'Student 1'!$D$5","v":"Test"},{"$f":"'Student 1'!$E$5","v":"HW"},{"$f":"'Student 1'!$F$5","v":"Test"},{"$f":"'Student 1'!$G$5","v":"Class"},{"$f":"'Student 1'!$H$5","v":"Credit"},{"$f":"'Student 1'!$I$5","v":"Test"},{"$f":"'Student 1'!$J$5","v":"Points"},{"$f":"'Student 1'!$K$5","v":"%"},{"$f":"'Student 1'!$L$5","v":"Attendance"},{"$f":"'Student 1'!$M$5","v":"Points"},{"$f":"'Student 1'!$N$5","v":"%"},{"$f":"'Student 1'!$O$5","v":"Points"},{"$f":"'Student 1'!$P$5","v":"%"},{"$f":"'Student 1'!$Q$5","v":"%"},{"$f":"'Student 1'!$R$5","v":"Grade"}]
[{"$f":"'Course 1 Class'!$A$24","v":{"v":19,"d":"00000019"}},{"$f":"'Course 1 Class'!$B$24","v":"Student"},{"$f":"'Course 1 Class'!$C$24","v":"Nineteen"},{"$f":"'Course 1 Class'!$D$24","v":0},{"$f":"'Course 1 Class'!$E$24","v":0},{"$f":"'Course 1 Class'!$F$24","v":0},{"$f":"'Course 1 Class'!$G$24","v":0},{"$f":"'Course 1 Class'!$H$24","v":0},{"$f":"'Course 1 Class'!$I$24","v":0},{"$f":"'Course 1 Class'!$J$24","v":0},{"$f":"'Course 1 Class'!$K$24","v":{"v":0,"d":"0%"}},{"$f":"'Course 1 Class'!$L$24","v":{"v":1,"d":"100%"}},{"$f":"'Course 1 Class'!$M$24","v":72},{"$f":"'Course 1 Class'!$N$24","v":{"v":1,"d":"100%"}},{"$f":"'Course 1 Class'!$O$24","v":0},{"$f":"'Course 1 Class'!$P$24","v":{"v":0,"d":"0%"}},{"$f":"'Course 1 Class'!$Q$24","v":{"v":0.25,"d":"25%"}},{"$f":"'Course 1 Class'!$R$24","v":"F"}]
[{"$f":"'Student 1'!$A$7","v":"Course 1 Engine Diagnosis. Lab"}]
[{"$f":"'Student 1'!$A$8","v":"  Max Shop Points:"},null,{"$f":"'Student 1'!$C$8","v":1325},{"$f":"'Student 1'!$D$8","v":"Dry"},{"$f":"'Student 1'!$E$8","v":"Wet"},{"$f":"'Student 1'!$F$8","v":"Running"},{"$f":"'Student 1'!$G$8","v":"Cylinder"},{"$f":"'Student 1'!$H$8","v":"Oil"},{"$f":"'Student 1'!$I$8","v":"Cooling"},{"$f":"'Student 1'!$J$8","v":"Vacuum"},{"$f":"'Student 1'!$K$8","v":"PCV"},{"$f":"'Student 1'!$L$8","v":"Thermostat"},{"$f":"'Student 1'!$M$8","v":"Fluid"},{"$f":"'Student 1'!$N$8","v":"Diag"},{"$f":"'Student 1'!$O$8","v":" "}]
[{"$f":"'Student 1'!$A$9","v":"Max shop points available depend on how much customer work is done."},null,null,{"$f":"'Student 1'!$D$9","v":"Compr"},{"$f":"'Student 1'!$E$9","v":"Compr"},{"$f":"'Student 1'!$F$9","v":"Compr"},{"$f":"'Student 1'!$G$9","v":"Leakage"},{"$f":"'Student 1'!$H$9","v":"Pressure"},{"$f":"'Student 1'!$I$9","v":"System"},{"$f":"'Student 1'!$J$9","v":"Gauge"},{"$f":"'Student 1'!$K$9","v":"System"},{"$f":"'Student 1'!$L$9","v":"and fan"},{"$f":"'Student 1'!$M$9","v":"Leak"},{"$f":"'Student 1'!$N$9","v":"gauges"},{"$f":"'Student 1'!$O$9","v":"Cus"},{"$f":"'Student 1'!$P$9","v":"Comp"}]
[{"$nulls":3},{"$f":"'Student 1'!$D$10","v":"Test"},{"$f":"'Student 1'!$E$10","v":"Test"},{"$f":"'Student 1'!$F$10","v":"Test"},{"$f":"'Student 1'!$G$10","v":"Test"},{"$f":"'Student 1'!$H$10","v":"Test"},{"$f":"'Student 1'!$I$10","v":"Test"},{"$f":"'Student 1'!$J$10","v":"Test"},{"$f":"'Student 1'!$K$10","v":"Check"},{"$f":"'Student 1'!$L$10","v":"Operation"},{"$f":"'Student 1'!$M$10","v":"Check"},{"$f":"'Student 1'!$N$10","v":"any vehicle"},{"$f":"'Student 1'!$O$10","v":"tomer"},{"$f":"'Student 1'!$P$10","v":"etency"},{"$f":"'Student 1'!$Q$10","v":"  "},{"$f":"'Student 1'!$R$10","v":" "}]
[{"$nulls":3},{"$f":"'Student 1'!$D$11","v":2},{"$f":"'Student 1'!$E$11","v":2},{"$f":"'Student 1'!$F$11","v":2},{"$f":"'Student 1'!$G$11","v":2},{"$f":"'Student 1'!$H$11","v":2},{"$f":"'Student 1'!$I$11","v":2},{"$f":"'Student 1'!$J$11","v":2},{"$f":"'Student 1'!$K$11","v":2},{"$f":"'Student 1'!$L$11","v":2},{"$f":"'Student 1'!$M$11","v":1},{"$f":"'Student 1'!$N$11","v":1},{"$f":"'Student 1'!$O$11","v":"Work"},{"$f":"'Student 1'!$P$11","v":"0 or 1"},{"$f":"'Student 1'!$Q$11","v":"Lab"}]
[{"$f":"'Student 1'!$A$12","v":"ID"},{"$f":"'Student 1'!$B$12","v":"First:"},{"$f":"'Student 1'!$C$12","v":"Last:"},{"$f":"'Student 1'!$D$12","v":100},{"$f":"'Student 1'!$E$12","v":100},{"$f":"'Student 1'!$F$12","v":100},{"$f":"'Student 1'!$G$12","v":100},{"$f":"'Student 1'!$H$12","v":100},{"$f":"'Student 1'!$I$12","v":150},{"$f":"'Student 1'!$J$12","v":100},{"$f":"'Student 1'!$K$12","v":50},{"$f":"'Student 1'!$L$12","v":100},{"$f":"'Student 1'!$M$12","v":25},{"$f":"'Student 1'!$N$12","v":100},{"$f":"'Student 1'!$O$12","v":300},{"$f":"'Student 1'!$P$12","v":"*"},{"$f":"'Student 1'!$Q$12","v":"Points"},{"$f":"'Student 1'!$R$12","v":"%"}]
[{"$f":"'Course 1 Lab'!$A$25","v":{"v":19,"d":"00000019"}},{"$f":"'Course 1 Lab'!$B$25","v":"Student"},{"$f":"'Course 1 Lab'!$C$25","v":"Nineteen"},{"$f":"'Course 1 Lab'!$D$25","v":0},{"$f":"'Course 1 Lab'!$E$25","v":0},{"$f":"'Course 1 Lab'!$F$25","v":0},{"$f":"'Course 1 Lab'!$G$25","v":0},{"$f":"'Course 1 Lab'!$H$25","v":0},{"$f":"'Course 1 Lab'!$I$25","v":0},{"$f":"'Course 1 Lab'!$J$25","v":0},{"$f":"'Course 1 Lab'!$K$25","v":0},{"$f":"'Course 1 Lab'!$L$25","v":0},{"$f":"'Course 1 Lab'!$M$25","v":0},{"$f":"'Course 1 Lab'!$N$25","v":0},{"$f":"'Course 1 Lab'!$O$25","v":0},{"$f":"'Course 1 Lab'!$P$25","v":1},{"$f":"'Course 1 Lab'!$Q$25","v":0},{"$f":"'Course 1 Lab'!$R$25","v":{"v":0,"d":"0%"}}]
[{"$f":"'Student 1'!$A$14","v":"Course 2 Engine Theory & Repair. Class"},{"$nulls":8},{"$f":"'Student 1'!$J$14","v":25}]
[{"$f":"'Student 1'!$A$15","v":" "},{"$f":"'Student 1'!$B$15","v":"Date assignment is due:"},null,{"$f":"'Student 1'!$D$15","v":"TBD"},{"$f":"'Student 1'!$E$15","v":"TBD"},{"$f":"'Student 1'!$F$15","v":"TBD"},{"$f":"'Student 1'!$G$15","v":"TBD"},{"$f":"'Student 1'!$H$15","v":"TBD"},{"$f":"'Student 1'!$I$15","v":"TBD"},{"$f":"'Student 1'!$J$15","v":"TBD"},{"$f":"'Student 1'!$K$15","v":"TBD"}]
[{"$f":"'Student 1'!$A$16","v":"Class Room Points:"},null,{"$f":"'Student 1'!$C$16","v":201},{"$f":"'Student 1'!$D$16","v":10},{"$f":"'Student 1'!$E$16","v":10},{"$f":"'Student 1'!$F$16","v":20},{"$f":"'Student 1'!$G$16","v":20},{"$f":"'Student 1'!$H$16","v":16},{"$f":"'Student 1'!$I$16","v":25},{"$f":"'Student 1'!$J$16","v":" "},{"$f":"'Student 1'!$K$16","v":100},{"$f":"'Student 1'!$L$16","v":"Evaluation"}]
[{"$f":"'Student 1'!$A$17","v":"Red is late turn-in"},null,{"$f":"'Student 1'!$C$17","v":"Blue is absent"},{"$f":"'Student 1'!$D$17","v":"HW"},{"$f":"'Student 1'!$E$17","v":"HW "},{"$f":"'Student 1'!$F$17","v":"Test"},{"$f":"'Student 1'!$G$17","v":"Test"},{"$f":"'Student 1'!$H$17","v":"HW"},{"$f":"'Student 1'!$I$17","v":"Test"},{"$f":"'Student 1'!$J$17","v":"Extra"},{"$f":"'Student 1'!$K$17","v":"Final "},{"$f":"'Student 1'!$L$17","v":"Class"},null,{"$f":"'Student 1'!$N$17","v":"Professionalism"},null,null,{"$f":"'Student 1'!$Q$17","v":"Lab"},null,{"$f":"'Student 1'!$S$17","v":"Total  "},{"$f":"'Student 1'!$T$17","v":"Letter"}]
[{"$f":"'Student 1'!$A$18","v":"I D "},{"$f":"'Student 1'!$B$18","v":"First:"},{"$f":"'Student 1'!$C$18","v":"Last:"},{"$f":"'Student 1'!$D$18","v":"CH 7"},{"$f":"'Student 1'!$E$18","v":"CH 14"},{"$f":"'Student 1'!$F$18","v":"C & L"},{"$f":"'Student 1'!$G$18","v":"CH 18"},{"$f":"'Student 1'!$H$18","v":"CH 22"},{"$f":"'Student 1'!$I$18","v":"CH 22"},{"$f":"'Student 1'!$J$18","v":"Credit"},{"$f":"'Student 1'!$K$18","v":"TEST"},{"$f":"'Student 1'!$L$18","v":"Points"},{"$f":"'Student 1'!$M$18","v":"%"},{"$f":"'Student 1'!$N$18","v":"Attendance"},{"$f":"'Student 1'!$O$18","v":"Points"},{"$f":"'Student 1'!$P$18","v":"%"},{"$f":"'Student 1'!$Q$18","v":"Points"},{"$f":"'Student 1'!$R$18","v":"%"},{"$f":"'Student 1'!$S$18","v":"%"},{"$f":"'Student 1'!$T$18","v":"Grade"}]
[{"$f":"'Course 2 Class'!$A$24","v":{"v":19,"d":"00000019"}},{"$f":"'Course 2 Class'!$B$24","v":"Student"},{"$f":"'Course 2 Class'!$C$24","v":"Nineteen"},{"$f":"'Course 2 Class'!$D$24","v":0},{"$f":"'Course 2 Class'!$E$24","v":0},{"$f":"'Course 2 Class'!$F$24","v":0},{"$f":"'Course 2 Class'!$G$24","v":0},{"$f":"'Course 2 Class'!$H$24","v":0},{"$f":"'Course 2 Class'!$I$24","v":0},{"$f":"'Course 2 Class'!$J$24","v":0},{"$f":"'Course 2 Class'!$K$24","v":0},{"$f":"'Course 2 Class'!$L$24","v":0},{"$f":"'Course 2 Class'!$M$24","v":{"v":0,"d":"0%"}},{"$f":"'Course 2 Class'!$N$24","v":{"v":1,"d":"100%"}},{"$f":"'Course 2 Class'!$O$24","v":72},{"$f":"'Course 2 Class'!$P$24","v":{"v":1,"d":"100%"}},{"$f":"'Course 2 Class'!$Q$24","v":0},{"$f":"'Course 2 Class'!$R$24","v":{"v":0,"d":"0%"}},{"$f":"'Course 2 Class'!$S$24","v":{"v":0.25,"d":"25%"}},{"$f":"'Course 2 Class'!$T$24","v":"F"}]
[{"$f":"'Student 1'!$A$20","v":"Course 2 Engine Theory & Repair. Lab"}]
[{"$f":"'Student 1'!$A$21","v":"  Max Shop Points:"},null,{"$f":"'Student 1'!$C$21","v":1450},{"$f":"'Student 1'!$D$21","v":"Engine"},{"$f":"'Student 1'!$E$21","v":"Cylinder"},{"$f":"'Student 1'!$F$21","v":"Red"},{"$f":"'Student 1'!$G$21","v":"Mitsubishi"},{"$f":"'Student 1'!$H$21","v":"Any"},{"$f":"'Student 1'!$I$21","v":"DOHC"},{"$f":"'Student 1'!$J$21","v":"Valve seal"},{"$f":"'Student 1'!$K$21","v":"Misc."},{"$f":"'Student 1'!$L$21","v":" "}]
[{"$f":"'Student 1'!$A$22","v":"Max shop points available depend on how much customer work is done."},null,null,{"$f":"'Student 1'!$D$22","v":"Disassemble"},{"$f":"'Student 1'!$E$22","v":"Head"},{"$f":"'Student 1'!$F$22","v":"Dodge"},{"$f":"'Student 1'!$G$22","v":"\"3.0L\""},{"$f":"'Student 1'!$H$22","v":"Engine"},{"$f":"'Student 1'!$I$22","v":"Engine"},{"$f":"'Student 1'!$J$22","v":"&"},{"$f":"'Student 1'!$K$22","v":"Engine "},{"$f":"'Student 1'!$L$22","v":"Cus"},{"$f":"'Student 1'!$M$22","v":"Comp"}]
[{"$nulls":3},{"$f":"'Student 1'!$D$23","v":"& Measure"},{"$f":"'Student 1'!$E$23","v":"Repair"},{"$f":"'Student 1'!$F$23","v":"Clip"},{"$f":"'Student 1'!$G$23","v":"Clip"},{"$f":"'Student 1'!$H$23","v":"T-chain"},{"$f":"'Student 1'!$I$23","v":" Stand"},{"$f":"'Student 1'!$J$23","v":"Lobe lift"},{"$f":"'Student 1'!$K$23","v":"Points"},{"$f":"'Student 1'!$L$23","v":"tomer"},{"$f":"'Student 1'!$M$23","v":"etency"},{"$f":"'Student 1'!$N$23","v":" "},{"$f":"'Student 1'!$O$23","v":" "}]
[{"$nulls":3},{"$f":"'Student 1'!$D$24","v":1},{"$f":"'Student 1'!$E$24","v":1},{"$f":"'Student 1'!$F$24","v":1},{"$f":"'Student 1'!$G$24","v":1},{"$f":"'Student 1'!$H$24","v":1},{"$f":"'Student 1'!$I$24","v":1},{"$f":"'Student 1'!$J$24","v":1},null,{"$f":"'Student 1'!$L$24","v":"Work"},{"$f":"'Student 1'!$M$24","v":"0 or 1"},{"$f":"'Student 1'!$N$24","v":"Lab"}]
[{"$f":"'Student 1'!$A$25","v":"ID"},{"$f":"'Student 1'!$B$25","v":"First:"},{"$f":"'Student 1'!$C$25","v":"Last:"},{"$f":"'Student 1'!$D$25","v":300},{"$f":"'Student 1'!$E$25","v":200},{"$f":"'Student 1'!$F$25","v":100},{"$f":"'Student 1'!$G$25","v":100},{"$f":"'Student 1'!$H$25","v":100},{"$f":"'Student 1'!$I$25","v":100},{"$f":"'Student 1'!$J$25","v":50},{"$f":"'Student 1'!$K$25","v":200},{"$f":"'Student 1'!$L$25","v":300},{"$f":"'Student 1'!$M$25","v":"*"},{"$f":"'Student 1'!$N$25","v":"Points"},{"$f":"'Student 1'!$O$25","v":"%"}]
[{"$f":"'Course 2 Lab'!$A$25","v":{"v":19,"d":"00000019"}},{"$f":"'Course 2 Lab'!$B$25","v":"Student"},{"$f":"'Course 2 Lab'!$C$25","v":"Nineteen"},{"$f":"'Course 2 Lab'!$D$25","v":0},{"$f":"'Course 2 Lab'!$E$25","v":0},{"$f":"'Course 2 Lab'!$F$25","v":0},{"$f":"'Course 2 Lab'!$G$25","v":0},{"$f":"'Course 2 Lab'!$H$25","v":0},{"$f":"'Course 2 Lab'!$I$25","v":0},{"$f":"'Course 2 Lab'!$J$25","v":0},{"$f":"'Course 2 Lab'!$K$25","v":0},{"$f":"'Course 2 Lab'!$L$25","v":0},{"$f":"'Course 2 Lab'!$M$25","v":1},{"$f":"'Course 2 Lab'!$N$25","v":0},{"$f":"'Course 2 Lab'!$O$25","v":{"v":0,"d":"0%"}}]
[{"$f":"'Student 1'!$A$27","v":"Course 3 Steering & Suspension. Class."},{"$nulls":11},{"$f":"'Student 1'!$M$27","v":25}]
[{"$f":"'Student 1'!$A$28","v":" "},{"$f":"'Student 1'!$B$28","v":"Date assignment is due:"},null,{"$f":"'Student 1'!$D$28","v":"1/18"},{"$f":"'Student 1'!$E$28","v":"2/2"},{"$f":"'Student 1'!$F$28","v":"TBD"},{"$f":"'Student 1'!$G$28","v":"TBD"},{"$f":"'Student 1'!$H$28","v":"TBD"},{"$f":"'Student 1'!$I$28","v":"TBD"},{"$f":"'Student 1'!$J$28","v":"TBD"},{"$f":"'Student 1'!$K$28","v":"TBD"},{"$f":"'Student 1'!$L$28","v":"TBD"},{"$f":"'Student 1'!$M$28","v":"TBD"},{"$f":"'Student 1'!$N$28","v":"TBD"}]
[{"$f":"'Student 1'!$A$29","v":"Class Room Points:"},null,{"$f":"'Student 1'!$C$29","v":330},{"$f":"'Student 1'!$D$29","v":20},{"$f":"'Student 1'!$E$29","v":20},{"$f":"'Student 1'!$F$29","v":24},{"$f":"'Student 1'!$G$29","v":20},{"$f":"'Student 1'!$H$29","v":25},{"$f":"'Student 1'!$I$29","v":30},{"$f":"'Student 1'!$J$29","v":20},{"$f":"'Student 1'!$K$29","v":26},{"$f":"'Student 1'!$L$29","v":45},{"$f":"'Student 1'!$M$29","v":" "},{"$f":"'Student 1'!$N$29","v":100},{"$f":"'Student 1'!$O$29","v":"Evaluation"}]
[{"$f":"'Student 1'!$A$30","v":"Red is late turn-in"},null,{"$f":"'Student 1'!$C$30","v":"Blue is absent"},{"$f":"'Student 1'!$D$30","v":"HW"},{"$f":"'Student 1'!$E$30","v":"HW"},{"$f":"'Student 1'!$F$30","v":"HW"},{"$f":"'Student 1'!$G$30","v":"QZ"},{"$f":"'Student 1'!$H$30","v":"HW"},{"$f":"'Student 1'!$I$30","v":"HW"},{"$f":"'Student 1'!$J$30","v":"Test"},{"$f":"'Student 1'!$K$30","v":"HW"},{"$f":"'Student 1'!$L$30","v":"Class"},{"$f":"'Student 1'!$M$30","v":"Extra"},{"$f":"'Student 1'!$N$30","v":"Final"},{"$f":"'Student 1'!$O$30","v":"Class"},null,{"$f":"'Student 1'!$Q$30","v":"Professionalism"},null,null,{"$f":"'Student 1'!$T$30","v":"Lab"},null,{"$f":"'Student 1'!$V$30","v":"Total  "},{"$f":"'Student 1'!$W$30","v":"Letter"}]
[{"$f":"'Student 1'!$A$31","v":"I D "},{"$f":"'Student 1'!$B$31","v":"First:"},{"$f":"'Student 1'!$C$31","v":"Last:"},{"$f":"'Student 1'!$D$31","v":"CH 1"},{"$f":"'Student 1'!$E$31","v":"CH 2"},{"$f":"'Student 1'!$F$31","v":"CH 3"},{"$f":"'Student 1'!$G$31","v":"1"},{"$f":"'Student 1'!$H$31","v":"CH 6"},{"$f":"'Student 1'!$I$31","v":"CH 9"},{"$f":"'Student 1'!$J$31","v":"1 – 9"},{"$f":"'Student 1'!$K$31","v":"CH 12"},{"$f":"'Student 1'!$L$31","v":"Project"},{"$f":"'Student 1'!$M$31","v":"Credit"},{"$f":"'Student 1'!$N$31","v":"TEST"},{"$f":"'Student 1'!$O$31","v":"Points"},{"$f":"'Student 1'!$P$31","v":"%"},{"$f":"'Student 1'!$Q$31","v":"Attendance"},{"$f":"'Student 1'!$R$31","v":"Points"},{"$f":"'Student 1'!$S$31","v":"%"},{"$f":"'Student 1'!$T$31","v":"Points"},{"$f":"'Student 1'!$U$31","v":"%"},{"$f":"'Student 1'!$V$31","v":"%"},{"$f":"'Student 1'!$W$31","v":"Grade"}]
[{"$f":"'Course 3 Class'!$A$24","v":{"v":19,"d":"00000019"}},{"$f":"'Course 3 Class'!$B$24","v":"Student"},{"$f":"'Course 3 Class'!$C$24","v":"Nineteen"},{"$f":"'Course 3 Class'!$D$24","v":0},{"$f":"'Course 3 Class'!$E$24","v":0},{"$f":"'Course 3 Class'!$F$24","v":0},{"$f":"'Course 3 Class'!$G$24","v":0},{"$f":"'Course 3 Class'!$H$24","v":0},{"$f":"'Course 3 Class'!$I$24","v":0},{"$f":"'Course 3 Class'!$J$24","v":0},{"$f":"'Course 3 Class'!$K$24","v":0},{"$f":"'Course 3 Class'!$L$24","v":0},{"$f":"'Course 3 Class'!$M$24","v":0},{"$f":"'Course 3 Class'!$N$24","v":0},{"$f":"'Course 3 Class'!$O$24","v":0},{"$f":"'Course 3 Class'!$P$24","v":{"v":0,"d":"0%"}},{"$f":"'Course 3 Class'!$Q$24","v":{"v":1,"d":"100%"}},{"$f":"'Course 3 Class'!$R$24","v":72},{"$f":"'Course 3 Class'!$S$24","v":{"v":1,"d":"100%"}},{"$f":"'Course 3 Class'!$T$24","v":0},{"$f":"'Course 3 Class'!$U$24","v":{"v":0,"d":"0%"}},{"$f":"'Course 3 Class'!$V$24","v":{"v":0.25,"d":"25%"}},{"$f":"'Course 3 Class'!$W$24","v":"F"}]
[{"$f":"'Student 1'!$A$33","v":"Course 3 Steering & Suspension. Lab"}]
[{"$f":"'Student 1'!$A$34","v":"Max shop points"},null,{"$f":"'Student 1'!$C$34","v":1350},{"$f":"'Student 1'!$D$34","v":"Repair"},{"$f":"'Student 1'!$E$34","v":"Identify"},{"$f":"'Student 1'!$F$34","v":"Repair"},{"$f":"'Student 1'!$G$34","v":"Identify"},{"$f":"'Student 1'!$H$34","v":"Repair"},{"$f":"'Student 1'!$I$34","v":"R&R"},{"$f":"'Student 1'!$J$34","v":"R&R"},{"$f":"'Student 1'!$K$34","v":"R&R"},{"$f":"'Student 1'!$L$34","v":"P/S"},{"$f":"'Student 1'!$M$34","v":"R&R"},{"$f":"'Student 1'!$N$34","v":"NVH"},{"$f":"'Student 1'!$O$34","v":" "}]
[{"$f":"'Student 1'!$A$35","v":"Max shop points available depend on how much customer work is done."},null,null,{"$f":"'Student 1'!$D$35","v":"SLA"},{"$f":"'Student 1'!$E$35","v":"SLA"},{"$f":"'Student 1'!$F$35","v":"Mac-P"},{"$f":"'Student 1'!$G$35","v":"Mac-P"},{"$f":"'Student 1'!$H$35","v":"Rear"},{"$f":"'Student 1'!$I$35","v":"Rack &"},{"$f":"'Student 1'!$J$35","v":"Recirc."},{"$f":"'Student 1'!$K$35","v":"P/S"},{"$f":"'Student 1'!$L$35","v":"Pump"},{"$f":"'Student 1'!$M$35","v":"Inner"},{"$f":"'Student 1'!$N$35","v":"Runout &"},{"$f":"'Student 1'!$O$35","v":"Cus"},{"$f":"'Student 1'!$P$35","v":"Comp"}]
[{"$nulls":3},{"$f":"'Student 1'!$D$36","v":"Susp"},{"$f":"'Student 1'!$E$36","v":"Parts"},{"$f":"'Student 1'!$F$36","v":"Susp"},{"$f":"'Student 1'!$G$36","v":"Parts"},{"$f":"'Student 1'!$H$36","v":"Susp"},{"$f":"'Student 1'!$I$36","v":"Pinion"},{"$f":"'Student 1'!$J$36","v":"Gear"},{"$f":"'Student 1'!$K$36","v":"Pump"},{"$f":"'Student 1'!$L$36","v":"Test"},{"$f":"'Student 1'!$M$36","v":"Tie-Rod"},{"$f":"'Student 1'!$N$36","v":"bal. Check"},{"$f":"'Student 1'!$O$36","v":"tomer"},{"$f":"'Student 1'!$P$36","v":"etency"},{"$f":"'Student 1'!$Q$36","v":" "},{"$f":"'Student 1'!$R$36","v":" "},null,null,{"$f":"'Student 1'!$U$36","v":"Final Grade"}]
[{"$nulls":3},{"$f":"'Student 1'!$D$37","v":1},{"$f":"'Student 1'!$E$37","v":2},{"$f":"'Student 1'!$F$37","v":3},{"$f":"'Student 1'!$G$37","v":2},{"$f":"'Student 1'!$H$37","v":1},{"$f":"'Student 1'!$I$37","v":1},{"$f":"'Student 1'!$J$37","v":1},{"$f":"'Student 1'!$K$37","v":1},{"$f":"'Student 1'!$L$37","v":1},{"$f":"'Student 1'!$M$37","v":1},{"$f":"'Student 1'!$N$37","v":1},{"$f":"'Student 1'!$O$37","v":"Work"},{"$f":"'Student 1'!$P$37","v":"0 or 1"},{"$f":"'Student 1'!$Q$37","v":"Lab"},{"$nulls":3},{"$f":"'Student 1'!$U$37","v":{"v":0,"d":"0%"}},{"$f":"'Student 1'!$V$37","v":"F"}]
[{"$f":"'Student 1'!$A$38","v":"ID"},{"$f":"'Student 1'!$B$38","v":"First:"},{"$f":"'Student 1'!$C$38","v":"Last:"},{"$f":"'Student 1'!$D$38","v":150},{"$f":"'Student 1'!$E$38","v":50},{"$f":"'Student 1'!$F$38","v":225},{"$f":"'Student 1'!$G$38","v":50},{"$f":"'Student 1'!$H$38","v":50},{"$f":"'Student 1'!$I$38","v":150},{"$f":"'Student 1'!$J$38","v":125},{"$f":"'Student 1'!$K$38","v":50},{"$f":"'Student 1'!$L$38","v":50},{"$f":"'Student 1'!$M$38","v":50},{"$f":"'Student 1'!$N$38","v":100},{"$f":"'Student 1'!$O$38","v":300},{"$f":"'Student 1'!$P$38","v":"*"},{"$f":"'Student 1'!$Q$38","v":"Points"},{"$f":"'Student 1'!$R$38","v":"%"},null,null,{"$f":"'Student 1'!$U$38","v":{"v":0.695,"d":"70%"}},{"$f":"'Student 1'!$V$38","v":"D-"}]
[{"$f":"'Course 3 Lab'!$A$25","v":{"v":19,"d":"00000019"}},{"$f":"'Course 3 Lab'!$B$25","v":"Student"},{"$f":"'Course 3 Lab'!$C$25","v":"Nineteen"},{"$f":"'Course 3 Lab'!$D$25","v":0},{"$f":"'Course 3 Lab'!$E$25","v":0},{"$f":"'Course 3 Lab'!$F$25","v":0},{"$f":"'Course 3 Lab'!$G$25","v":0},{"$f":"'Course 3 Lab'!$H$25","v":0},{"$f":"'Course 3 Lab'!$I$25","v":0},{"$f":"'Course 3 Lab'!$J$25","v":0},{"$f":"'Course 3 Lab'!$K$25","v":0},{"$f":"'Course 3 Lab'!$L$25","v":0},{"$f":"'Course 3 Lab'!$M$25","v":0},{"$f":"'Course 3 Lab'!$N$25","v":0},{"$f":"'Course 3 Lab'!$O$25","v":0},{"$f":"'Course 3 Lab'!$P$25","v":1},{"$f":"'Course 3 Lab'!$Q$25","v":0},{"$f":"'Course 3 Lab'!$R$25","v":{"v":0,"d":"0%"}},null,null,{"$f":"'Student 1'!$U$39","v":{"v":0.715,"d":"72%"}},{"$f":"'Student 1'!$V$39","v":"D"}]
[{"$f":"'Student 1'!$A$40","v":"Course 4 Alignment. Class."},{"$nulls":7},{"$f":"'Student 1'!$I$40","v":25},{"$nulls":11},{"$f":"'Student 1'!$U$40","v":{"v":0.735,"d":"74%"}},{"$f":"'Student 1'!$V$40","v":"D+"}]
[{"$f":"'Student 1'!$A$41","v":" "},{"$f":"'Student 1'!$B$41","v":"Date assignment is due  "},null,{"$f":"'Student 1'!$D$41","v":"TBD"},{"$f":"'Student 1'!$E$41","v":"TBD"},{"$f":"'Student 1'!$F$41","v":"TBD"},{"$f":"'Student 1'!$G$41","v":"TBD"},{"$f":"'Student 1'!$H$41","v":"TBD"},{"$f":"'Student 1'!$I$41","v":"TBD"},{"$f":"'Student 1'!$J$41","v":"TBD"},{"$nulls":10},{"$f":"'Student 1'!$U$41","v":{"v":0.755,"d":"76%"}},{"$f":"'Student 1'!$V$41","v":"C-"}]
[{"$f":"'Student 1'!$A$42","v":"Class Room Points:"},null,{"$f":"'Student 1'!$C$42","v":235},{"$f":"'Student 1'!$D$42","v":25},{"$f":"'Student 1'!$E$42","v":25},{"$f":"'Student 1'!$F$42","v":20},{"$f":"'Student 1'!$G$42","v":40},{"$f":"'Student 1'!$H$42","v":50},{"$f":"'Student 1'!$I$42","v":" "},{"$f":"'Student 1'!$J$42","v":75},{"$f":"'Student 1'!$K$42","v":"Evaluation"},{"$nulls":9},{"$f":"'Student 1'!$U$42","v":{"v":0.785,"d":"79%"}},{"$f":"'Student 1'!$V$42","v":"C"}]
[{"$f":"'Student 1'!$A$43","v":"Red is late turn-in"},null,{"$f":"'Student 1'!$C$43","v":"Blue is absent"},{"$f":"'Student 1'!$D$43","v":"CH 16"},{"$f":"'Student 1'!$E$43","v":"CH 16"},{"$f":"'Student 1'!$F$43","v":"Align"},{"$f":"'Student 1'!$G$43","v":"In class"},{"$f":"'Student 1'!$H$43","v":"In class"},{"$f":"'Student 1'!$I$43","v":"Extra"},{"$f":"'Student 1'!$J$43","v":"Final"},{"$f":"'Student 1'!$K$43","v":"Class"},null,{"$f":"'Student 1'!$M$43","v":"Professionalism"},null,null,{"$f":"'Student 1'!$P$43","v":"Lab"},null,{"$f":"'Student 1'!$R$43","v":"Total  "},{"$f":"'Student 1'!$S$43","v":"Letter"},null,{"$f":"'Student 1'!$U$43","v":{"v":0.815,"d":"82%"}},{"$f":"'Student 1'!$V$43","v":"C+"}]
[{"$f":"'Student 1'!$A$44","v":"I D "},{"$f":"'Student 1'!$B$44","v":"First:"},{"$f":"'Student 1'!$C$44","v":"Last:"},{"$f":"'Student 1'!$D$44","v":"HW"},{"$f":"'Student 1'!$E$44","v":"Test"},{"$f":"'Student 1'!$F$44","v":"HW"},{"$f":"'Student 1'!$G$44","v":"Project1"},{"$f":"'Student 1'!$H$44","v":"Project2"},{"$f":"'Student 1'!$I$44","v":"Credit"},{"$f":"'Student 1'!$J$44","v":"Test"},{"$f":"'Student 1'!$K$44","v":"Points"},{"$f":"'Student 1'!$L$44","v":"%"},{"$f":"'Student 1'!$M$44","v":"Attendance"},{"$f":"'Student 1'!$N$44","v":"Points"},{"$f":"'Student 1'!$O$44","v":"%"},{"$f":"'Student 1'!$P$44","v":"Points"},{"$f":"'Student 1'!$Q$44","v":"%"},{"$f":"'Student 1'!$R$44","v":"%"},{"$f":"'Student 1'!$S$44","v":"Grade"},null,{"$f":"'Student 1'!$U$44","v":{"v":0.845,"d":"85%"}},{"$f":"'Student 1'!$V$44","v":"B-"}]
[{"$f":"'Course 4 Class'!$A$24","v":{"v":19,"d":"00000019"}},{"$f":"'Course 4 Class'!$B$24","v":"Student"},{"$f":"'Course 4 Class'!$C$24","v":"Nineteen"},{"$f":"'Course 4 Class'!$D$24","v":0},{"$f":"'Course 4 Class'!$E$24","v":0},{"$f":"'Course 4 Class'!$F$24","v":0},{"$f":"'Course 4 Class'!$G$24","v":0},{"$f":"'Course 4 Class'!$H$24","v":0},{"$f":"'Course 4 Class'!$I$24","v":0},{"$f":"'Course 4 Class'!$J$24","v":0},{"$f":"'Course 4 Class'!$K$24","v":0},{"$f":"'Course 4 Class'!$L$24","v":{"v":0,"d":"0%"}},{"$f":"'Course 4 Class'!$M$24","v":{"v":1,"d":"100%"}},{"$f":"'Course 4 Class'!$N$24","v":72},{"$f":"'Course 4 Class'!$O$24","v":{"v":1,"d":"100%"}},{"$f":"'Course 4 Class'!$P$24","v":0},{"$f":"'Course 4 Class'!$Q$24","v":{"v":0,"d":"0%"}},{"$f":"'Course 4 Class'!$R$24","v":{"v":0.25,"d":"25%"}},{"$f":"'Course 4 Class'!$S$24","v":"F"},null,{"$f":"'Student 1'!$U$45","v":{"v":0.875,"d":"88%"}},{"$f":"'Student 1'!$V$45","v":"B"}]
[{"$f":"'Student 1'!$A$46","v":"Course 4 Alignment. Lab"},{"$nulls":19},{"$f":"'Student 1'!$U$46","v":{"v":0.895,"d":"90%"}},{"$f":"'Student 1'!$V$46","v":"B+"}]
[{"$f":"'Student 1'!$A$47","v":"Max Shop Points:"},null,{"$f":"'Student 1'!$C$47","v":1300},{"$f":"'Student 1'!$D$47","v":"Alignment"},{"$f":"'Student 1'!$E$47","v":"Complete"},{"$f":"'Student 1'!$F$47","v":"Cus"},{"$f":"'Student 1'!$G$47","v":" "},{"$nulls":13},{"$f":"'Student 1'!$U$47","v":{"v":0.925,"d":"93%"}},{"$f":"'Student 1'!$V$47","v":"A-"}]
[{"$f":"'Student 1'!$A$48","v":"Max shop points available depend on how much customer work is done."},null,null,{"$f":"'Student 1'!$D$48","v":"Pre-check"},{"$f":"'Student 1'!$E$48","v":"Wheel"},{"$f":"'Student 1'!$F$48","v":"tomer"},{"$f":"'Student 1'!$G$48","v":"Comp"},{"$nulls":13},{"$f":"'Student 1'!$U$48","v":{"v":0.945,"d":"95%"}},{"$f":"'Student 1'!$V$48","v":"A"}]
[{"$nulls":3},{"$f":"'Student 1'!$D$49","v":"100 P"},{"$f":"'Student 1'!$E$49","v":"Alignment"},{"$f":"'Student 1'!$F$49","v":"Work"},{"$f":"'Student 1'!$G$49","v":"etency"},{"$f":"'Student 1'!$H$49","v":" "},{"$f":"'Student 1'!$I$49","v":" "},{"$nulls":11},{"$f":"'Student 1'!$U$49","v":{"v":1,"d":"100%"}},{"$f":"'Student 1'!$V$49","v":"A"}]
[{"$nulls":3},{"$f":"'Student 1'!$D$50","v":1},{"$f":"'Student 1'!$E$50","v":1},{"$f":"'Student 1'!$F$50","v":" "},{"$f":"'Student 1'!$G$50","v":"0 or 1"},{"$f":"'Student 1'!$H$50","v":"Lab"}]
[{"$f":"'Student 1'!$A$51","v":"ID"},{"$f":"'Student 1'!$B$51","v":"First:"},{"$f":"'Student 1'!$C$51","v":"Last:"},{"$f":"'Student 1'!$D$51","v":100},{"$f":"'Student 1'!$E$51","v":900},{"$f":"'Student 1'!$F$51","v":300},{"$f":"'Student 1'!$G$51","v":"*"},{"$f":"'Student 1'!$H$51","v":"Points"},{"$f":"'Student 1'!$I$51","v":"%"}]
[{"$f":"'Course 4 Lab'!$A$25","v":{"v":19,"d":"00000019"}},{"$f":"'Course 4 Lab'!$B$25","v":"Student"},{"$f":"'Course 4 Lab'!$C$25","v":"Nineteen"},{"$f":"'Course 4 Lab'!$D$25","v":0},{"$f":"'Course 4 Lab'!$E$25","v":0},{"$f":"'Course 4 Lab'!$F$25","v":0},{"$f":"'Course 4 Lab'!$G$25","v":1},{"$f":"'Course 4 Lab'!$H$25","v":0},{"$f":"'Course 4 Lab'!$I$25","v":{"v":0,"d":"0%"}}]
[{"$f":"'Student 1'!$A$53","v":"Course 5 Brake Systems. Class."},{"$nulls":10},{"$f":"'Student 1'!$L$53","v":35}]
[{"$f":"'Student 1'!$A$54","v":"Date assignment is due:"},null,{"$f":"'Student 1'!$C$54","v":" "},{"$f":"'Student 1'!$D$54","v":"TBD"},{"$f":"'Student 1'!$E$54","v":"TBD"},{"$f":"'Student 1'!$F$54","v":"TBD"},{"$f":"'Student 1'!$G$54","v":"TBD"},{"$f":"'Student 1'!$H$54","v":"TBD"},{"$f":"'Student 1'!$I$54","v":"TBD"},{"$f":"'Student 1'!$J$54","v":"TBD"},{"$f":"'Student 1'!$K$54","v":"TBD"},{"$f":"'Student 1'!$L$54","v":"TBD"},{"$f":"'Student 1'!$M$54","v":"TBD"}]
[{"$f":"'Student 1'!$A$55","v":"Class Room Points:"},null,{"$f":"'Student 1'!$C$55","v":440},{"$f":"'Student 1'!$D$55","v":30},{"$f":"'Student 1'!$E$55","v":25},{"$f":"'Student 1'!$F$55","v":100},{"$f":"'Student 1'!$G$55","v":30},{"$f":"'Student 1'!$H$55","v":50},{"$f":"'Student 1'!$I$55","v":30},{"$f":"'Student 1'!$J$55","v":25},{"$f":"'Student 1'!$K$55","v":50},{"$f":"'Student 1'!$L$55","v":" "},{"$f":"'Student 1'!$M$55","v":100},{"$f":"'Student 1'!$N$55","v":"Evaluation"}]
[{"$f":"'Student 1'!$A$56","v":"Red is late turn-in"},null,{"$f":"'Student 1'!$C$56","v":"Blue is absent"},{"$f":"'Student 1'!$D$56","v":"HW"},{"$f":"'Student 1'!$E$56","v":"HW"},{"$f":"'Student 1'!$F$56","v":"Test"},{"$f":"'Student 1'!$G$56","v":"HW"},{"$f":"'Student 1'!$H$56","v":"Test"},{"$f":"'Student 1'!$I$56","v":"HW"},{"$f":"'Student 1'!$J$56","v":"Test"},{"$f":"'Student 1'!$K$56","v":"Class"},{"$f":"'Student 1'!$L$56","v":"Extra"},{"$f":"'Student 1'!$M$56","v":"Final"},{"$f":"'Student 1'!$N$56","v":"Class"},null,{"$f":"'Student 1'!$P$56","v":"Professionalism"},null,null,{"$f":"'Student 1'!$S$56","v":"Lab"},null,{"$f":"'Student 1'!$U$56","v":"Total  "},{"$f":"'Student 1'!$V$56","v":"Letter"}]
[{"$f":"'Student 1'!$A$57","v":"I D "},{"$f":"'Student 1'!$B$57","v":"First:"},{"$f":"'Student 1'!$C$57","v":"Last:"},{"$f":"'Student 1'!$D$57","v":"CH 4"},{"$f":"'Student 1'!$E$57","v":"CH 5"},{"$f":"'Student 1'!$F$57","v":"#1"},{"$f":"'Student 1'!$G$57","v":"CH 7"},{"$f":"'Student 1'!$H$57","v":"Conv"},{"$f":"'Student 1'!$I$57","v":"CH 20"},{"$f":"'Student 1'!$J$57","v":"21/22"},{"$f":"'Student 1'!$K$57","v":"Project"},{"$f":"'Student 1'!$L$57","v":"Credit"},{"$f":"'Student 1'!$M$57","v":"Test"},{"$f":"'Student 1'!$N$57","v":"Points"},{"$f":"'Student 1'!$O$57","v":"%"},{"$f":"'Student 1'!$P$57","v":"Attendance"},{"$f":"'Student 1'!$Q$57","v":"Points"},{"$f":"'Student 1'!$R$57","v":"%"},{"$f":"'Student 1'!$S$57","v":"Points"},{"$f":"'Student 1'!$T$57","v":"%"},{"$f":"'Student 1'!$U$57","v":"%"},{"$f":"'Student 1'!$V$57","v":"Grade"}]
[{"$f":"'Course 5 Class'!$A$24","v":{"v":19,"d":"00000019"}},{"$f":"'Course 5 Class'!$B$24","v":"Student"},{"$f":"'Course 5 Class'!$C$24","v":"Nineteen"},{"$f":"'Course 5 Class'!$D$24","v":0},{"$f":"'Course 5 Class'!$E$24","v":0},{"$f":"'Course 5 Class'!$F$24","v":0},{"$f":"'Course 5 Class'!$G$24","v":0},{"$f":"'Course 5 Class'!$H$24","v":0},{"$f":"'Course 5 Class'!$I$24","v":0},{"$f":"'Course 5 Class'!$J$24","v":0},{"$f":"'Course 5 Class'!$K$24","v":0},{"$f":"'Course 5 Class'!$L$24","v":0},{"$f":"'Course 5 Class'!$M$24","v":0},{"$f":"'Course 5 Class'!$N$24","v":0},{"$f":"'Course 5 Class'!$O$24","v":{"v":0,"d":"0%"}},{"$f":"'Course 5 Class'!$P$24","v":{"v":1,"d":"100%"}},{"$f":"'Course 5 Class'!$Q$24","v":72},{"$f":"'Course 5 Class'!$R$24","v":{"v":1,"d":"100%"}},{"$f":"'Course 5 Class'!$S$24","v":0},{"$f":"'Course 5 Class'!$T$24","v":{"v":0,"d":"0%"}},{"$f":"'Course 5 Class'!$U$24","v":{"v":0.25,"d":"25%"}},{"$f":"'Course 5 Class'!$V$24","v":"F"}]
[{"$f":"'Student 1'!$A$59","v":"Course 5 Brake Systems. Lab"}]
[{"$f":"'Student 1'!$A$60","v":"  Max Shop Points:"},null,{"$f":"'Student 1'!$C$60","v":970},{"$f":"'Student 1'!$D$60","v":"Drum"},{"$f":"'Student 1'!$E$60","v":"Drum "},{"$f":"'Student 1'!$F$60","v":"Disc"},{"$f":"'Student 1'!$G$60","v":"On Car"},{"$f":"'Student 1'!$H$60","v":"Off Car"},{"$f":"'Student 1'!$I$60","v":"Wheel"},{"$f":"'Student 1'!$J$60","v":"Hydr."},{"$f":"'Student 1'!$K$60","v":"Vacuum"},{"$f":"'Student 1'!$L$60","v":"Warning"},{"$f":"'Student 1'!$M$60","v":"Brake"},{"$f":"'Student 1'!$N$60","v":"Brake"},{"$f":"'Student 1'!$O$60","v":"Dodge"},{"$f":"'Student 1'!$P$60","v":"Ford"},{"$f":"'Student 1'!$Q$60","v":"GM"},{"$f":"'Student 1'!$R$60","v":"Cus"},{"$f":"'Student 1'!$S$60","v":"Brake"}]
[{"$f":"'Student 1'!$A$61","v":"Max shop points available depend on how much customer work is done."},null,null,{"$f":"'Student 1'!$D$61","v":"Brake"},{"$f":"'Student 1'!$E$61","v":"Brake "},{"$f":"'Student 1'!$F$61","v":"Brake"},{"$f":"'Student 1'!$G$61","v":"Disc"},{"$f":"'Student 1'!$H$61","v":"Disc"},{"$f":"'Student 1'!$I$61","v":"Bearing"},{"$f":"'Student 1'!$J$61","v":"Line"},{"$f":"'Student 1'!$K$61","v":"Booster"},{"$f":"'Student 1'!$L$61","v":"Light"},{"$f":"'Student 1'!$M$61","v":"System"},{"$f":"'Student 1'!$N$61","v":"Valves"},{"$f":"'Student 1'!$O$61","v":"Anti"},{"$f":"'Student 1'!$P$61","v":"Anti"},{"$f":"'Student 1'!$Q$61","v":"Anti"},{"$f":"'Student 1'!$R$61","v":"tomer"},{"$f":"'Student 1'!$S$61","v":"Comp"}]
[{"$nulls":3},{"$f":"'Student 1'!$D$62","v":"Job"},{"$f":"'Student 1'!$E$62","v":"Mach."},{"$f":"'Student 1'!$F$62","v":"Job"},{"$f":"'Student 1'!$G$62","v":"Mach."},{"$f":"'Student 1'!$H$62","v":"Mach."},{"$f":"'Student 1'!$I$62","v":"Service"},{"$f":"'Student 1'!$J$62","v":"Repair"},{"$f":"'Student 1'!$K$62","v":"Service"},{"$f":"'Student 1'!$L$62","v":"Service"},{"$f":"'Student 1'!$M$62","v":"Bleed"},{"$f":"'Student 1'!$N$62","v":"Check"},{"$f":"'Student 1'!$O$62","v":"Lock"},{"$f":"'Student 1'!$P$62","v":"Lock"},{"$f":"'Student 1'!$Q$62","v":"Lock"},{"$f":"'Student 1'!$R$62","v":"Work"},{"$f":"'Student 1'!$S$62","v":"etency"}]
[{"$nulls":3},{"$f":"'Student 1'!$D$63","v":2},{"$f":"'Student 1'!$E$63","v":2},{"$f":"'Student 1'!$F$63","v":2},{"$f":"'Student 1'!$G$63","v":2},{"$f":"'Student 1'!$H$63","v":2},{"$f":"'Student 1'!$I$63","v":1},{"$f":"'Student 1'!$J$63","v":1},{"$f":"'Student 1'!$K$63","v":2},{"$f":"'Student 1'!$L$63","v":2},{"$f":"'Student 1'!$M$63","v":4},{"$f":"'Student 1'!$N$63","v":1},{"$f":"'Student 1'!$O$63","v":1},{"$f":"'Student 1'!$P$63","v":1},{"$f":"'Student 1'!$Q$63","v":1},{"$f":"'Student 1'!$R$63","v":" "},{"$f":"'Student 1'!$S$63","v":"Required"},{"$f":"'Student 1'!$T$63","v":"Lab"}]
[{"$f":"'Student 1'!$A$64","v":"ID"},{"$f":"'Student 1'!$B$64","v":"First:"},{"$f":"'Student 1'!$C$64","v":"Last:"},{"$f":"'Student 1'!$D$64","v":150},{"$f":"'Student 1'!$E$64","v":40},{"$f":"'Student 1'!$F$64","v":150},{"$f":"'Student 1'!$G$64","v":80},{"$f":"'Student 1'!$H$64","v":40},{"$f":"'Student 1'!$I$64","v":50},{"$f":"'Student 1'!$J$64","v":30},{"$f":"'Student 1'!$K$64","v":30},{"$f":"'Student 1'!$L$64","v":40},{"$f":"'Student 1'!$M$64","v":80},{"$f":"'Student 1'!$N$64","v":40},{"$f":"'Student 1'!$O$64","v":80},{"$f":"'Student 1'!$P$64","v":80},{"$f":"'Student 1'!$Q$64","v":80},{"$f":"'Student 1'!$R$64","v":300},{"$f":"'Student 1'!$S$64","v":"*"},{"$f":"'Student 1'!$T$64","v":"Points"},{"$f":"'Student 1'!$U$64","v":"%"}]
[{"$f":"'Course 5 Lab'!$A$25","v":{"v":19,"d":"00000019"}},{"$f":"'Course 5 Lab'!$B$25","v":"Student"},{"$f":"'Course 5 Lab'!$C$25","v":"Nineteen"},{"$f":"'Course 5 Lab'!$D$25","v":0},{"$f":"'Course 5 Lab'!$E$25","v":0},{"$f":"'Course 5 Lab'!$F$25","v":0},{"$f":"'Course 5 Lab'!$G$25","v":0},{"$f":"'Course 5 Lab'!$H$25","v":0},{"$f":"'Course 5 Lab'!$I$25","v":0},{"$f":"'Course 5 Lab'!$J$25","v":0},{"$f":"'Course 5 Lab'!$K$25","v":0},{"$f":"'Course 5 Lab'!$L$25","v":0},{"$f":"'Course 5 Lab'!$M$25","v":0},{"$f":"'Course 5 Lab'!$N$25","v":0},{"$f":"'Course 5 Lab'!$O$25","v":0},{"$f":"'Course 5 Lab'!$P$25","v":0},{"$f":"'Course 5 Lab'!$Q$25","v":0},{"$f":"'Course 5 Lab'!$R$25","v":0},{"$f":"'Course 5 Lab'!$S$25","v":1},{"$f":"'Course 5 Lab'!$T$25","v":0},{"$f":"'Course 5 Lab'!$U$25","v":{"v":0,"d":"0%"}}]

{"sheet":"Student 20","index":33,"n_rows":65,"n_cols":23,"rows_kept":65,"merged":[[0,0,0,2],[1,0,1,2],[2,0,2,1],[2,9,2,17],[3,0,3,1],[3,9,3,10],[3,11,3,13],[3,14,3,15],[6,0,6,2],[7,0,7,1],[8,0,10,2],[10,16,10,17],[13,0,13,2],[14,1,14,2],[15,0,15,1],[15,11,15,19],[16,0,16,1],[16,11,16,12],[16,13,16,15],[16,16,16,17],[19,0,19,2],[20,0,20,1],[21,0,23,2],[23,13,23,14],[26,0,26,2],[27,1,27,2],[28,0,28,1],[28,14,28,22],[29,0,29,1],[29,14,29,15],[29,16,29,18],[29,19,29,20],[32,0,32,2],[33,0,33,1],[34,0,36,2],[35,20,35,21],[36,16,36,17],[39,0,39,2],[40,1,40,2],[41,0,41,1],[41,10,41,18],[42,0,42,1],[42,10,42,11],[42,12,42,14],[42,15,42,16],[45,0,45,2],[46,0,46,1],[47,0,49,2],[49,7,49,8],[52,0,52,2],[53,0,53,2],[54,0,54,1],[54,13,54,21],[55,0,55,1],[55,13,55,14],[55,15,55,17],[55,18,55,19],[58,0,58,2],[59,0,59,1],[60,0,62,2],[62,19,62,20]]}
[{"$f":"'Student 1'!$A$1","v":"Course 1 Engine Diagnosis. Class"},{"$nulls":6},{"$f":"'Student 1'!$H$1","v":25}]
[{"$f":"'Student 1'!$A$2","v":"Date assignment is due"},null,{"$f":"'Student 1'!$C$2","v":" "},{"$f":"'Student 1'!$D$2","v":"TBD"},{"$f":"'Student 1'!$E$2","v":"TBD"},{"$f":"'Student 1'!$F$2","v":"TBD"},{"$f":"'Student 1'!$G$2","v":"TBD"},{"$f":"'Student 1'!$H$2","v":"TBD"},{"$f":"'Student 1'!$I$2","v":"TBD"}]
[{"$f":"'Student 1'!$A$3","v":"Class Room Points:"},null,{"$f":"'Student 1'!$C$3","v":160},{"$f":"'Student 1'!$D$3","v":20},{"$f":"'Student 1'!$E$3","v":20},{"$f":"'Student 1'!$F$3","v":20},{"$f":"'Student 1'!$G$3","v":25},{"$f":"'Student 1'!$H$3","v":" "},{"$f":"'Student 1'!$I$3","v":75},{"$f":"'Student 1'!$J$3","v":"Evaluation"}]
[{"$f":"'Student 1'!$A$4","v":"Red is late turn-in"},null,{"$f":"'Student 1'!$C$4","v":"Blue is absent"},{"$f":"'Student 1'!$D$4","v":"CH 13 "},{"$f":"'Student 1'!$E$4","v":"Lube"},{"$f":"'Student 1'!$F$4","v":"Lube"},{"$f":"'Student 1'!$G$4","v":"Condition"},{"$f":"'Student 1'!$H$4","v":"Extra"},{"$f":"'Student 1'!$I$4","v":"Final"},{"$f":"'Student 1'!$J$4","v":"Classroom"},null,{"$f":"'Student 1'!$L$4","v":"Professionalism"},null,null,{"$f":"'Student 1'!$O$4","v":"Lab"},null,{"$f":"'Student 1'!$Q$4","v":"Total  "},{"$f":"'Student 1'!$R$4","v":"Letter"}]
[{"$f":"'Student 1'!$A$5","v":"I D "},{"$f":"'Student 1'!$B$5","v":"First:"},{"$f":"'Student 1'!$C$5","v":"Last:"},{"$f":"'Student 1'!$D$5","v":"Test"},{"$f":"'Student 1'!$E$5","v":"HW"},{"$f":"'Student 1'!$F$5","v":"Test"},{"$f":"'Student 1'!$G$5","v":"Class"},{"$f":"'Student 1'!$H$5","v":"Credit"},{"$f":"'Student 1'!$I$5","v":"Test"},{"$f":"'Student 1'!$J$5","v":"Points"},{"$f":"'Student 1'!$K$5","v":"%"},{"$f":"'Student 1'!$L$5","v":"Attendance"},{"$f":"'Student 1'!$M$5","v":"Points"},{"$f":"'Student 1'!$N$5","v":"%"},{"$f":"'Student 1'!$O$5","v":"Points"},{"$f":"'Student 1'!$P$5","v":"%"},{"$f":"'Student 1'!$Q$5","v":"%"},{"$f":"'Student 1'!$R$5","v":"Grade"}]
[{"$f":"'Course 1 Class'!$A$25","v":{"v":20,"d":"00000020"}},{"$f":"'Course 1 Class'!$B$25","v":"Student"},{"$f":"'Course 1 Class'!$C$25","v":"Twenty"},{"$f":"'Course 1 Class'!$D$25","v":0},{"$f":"'Course 1 Class'!$E$25","v":0},{"$f":"'Course 1 Class'!$F$25","v":0},{"$f":"'Course 1 Class'!$G$25","v":0},{"$f":"'Course 1 Class'!$H$25","v":0},{"$f":"'Course 1 Class'!$I$25","v":0},{"$f":"'Course 1 Class'!$J$25","v":0},{"$f":"'Course 1 Class'!$K$25","v":{"v":0,"d":"0%"}},{"$f":"'Course 1 Class'!$L$25","v":{"v":1,"d":"100%"}},{"$f":"'Course 1 Class'!$M$25","v":72},{"$f":"'Course 1 Class'!$N$25","v":{"v":1,"d":"100%"}},{"$f":"'Course 1 Class'!$O$25","v":0},{"$f":"'Course 1 Class'!$P$25","v":{"v":0,"d":"0%"}},{"$f":"'Course 1 Class'!$Q$25","v":{"v":0.25,"d":"25%"}},{"$f":"'Course 1 Class'!$R$25","v":"F"}]
[{"$f":"'Student 1'!$A$7","v":"Course 1 Engine Diagnosis. Lab"}]
[{"$f":"'Student 1'!$A$8","v":"  Max Shop Points:"},null,{"$f":"'Student 1'!$C$8","v":1325},{"$f":"'Student 1'!$D$8","v":"Dry"},{"$f":"'Student 1'!$E$8","v":"Wet"},{"$f":"'Student 1'!$F$8","v":"Running"},{"$f":"'Student 1'!$G$8","v":"Cylinder"},{"$f":"'Student 1'!$H$8","v":"Oil"},{"$f":"'Student 1'!$I$8","v":"Cooling"},{"$f":"'Student 1'!$J$8","v":"Vacuum"},{"$f":"'Student 1'!$K$8","v":"PCV"},{"$f":"'Student 1'!$L$8","v":"Thermostat"},{"$f":"'Student 1'!$M$8","v":"Fluid"},{"$f":"'Student 1'!$N$8","v":"Diag"},{"$f":"'Student 1'!$O$8","v":" "}]
[{"$f":"'Student 1'!$A$9","v":"Max shop points available depend on how much customer work is done."},null,null,{"$f":"'Student 1'!$D$9","v":"Compr"},{"$f":"'Student 1'!$E$9","v":"Compr"},{"$f":"'Student 1'!$F$9","v":"Compr"},{"$f":"'Student 1'!$G$9","v":"Leakage"},{"$f":"'Student 1'!$H$9","v":"Pressure"},{"$f":"'Student 1'!$I$9","v":"System"},{"$f":"'Student 1'!$J$9","v":"Gauge"},{"$f":"'Student 1'!$K$9","v":"System"},{"$f":"'Student 1'!$L$9","v":"and fan"},{"$f":"'Student 1'!$M$9","v":"Leak"},{"$f":"'Student 1'!$N$9","v":"gauges"},{"$f":"'Student 1'!$O$9","v":"Cus"},{"$f":"'Student 1'!$P$9","v":"Comp"}]
[{"$nulls":3},{"$f":"'Student 1'!$D$10","v":"Test"},{"$f":"'Student 1'!$E$10","v":"Test"},{"$f":"'Student 1'!$F$10","v":"Test"},{"$f":"'Student 1'!$G$10","v":"Test"},{"$f":"'Student 1'!$H$10","v":"Test"},{"$f":"'Student 1'!$I$10","v":"Test"},{"$f":"'Student 1'!$J$10","v":"Test"},{"$f":"'Student 1'!$K$10","v":"Check"},{"$f":"'Student 1'!$L$10","v":"Operation"},{"$f":"'Student 1'!$M$10","v":"Check"},{"$f":"'Student 1'!$N$10","v":"any vehicle"},{"$f":"'Student 1'!$O$10","v":"tomer"},{"$f":"'Student 1'!$P$10","v":"etency"},{"$f":"'Student 1'!$Q$10","v":"  "},{"$f":"'Student 1'!$R$10","v":" "}]
[{"$nulls":3},{"$f":"'Student 1'!$D$11","v":2},{"$f":"'Student 1'!$E$11","v":2},{"$f":"'Student 1'!$F$11","v":2},{"$f":"'Student 1'!$G$11","v":2},{"$f":"'Student 1'!$H$11","v":2},{"$f":"'Student 1'!$I$11","v":2},{"$f":"'Student 1'!$J$11","v":2},{"$f":"'Student 1'!$K$11","v":2},{"$f":"'Student 1'!$L$11","v":2},{"$f":"'Student 1'!$M$11","v":1},{"$f":"'Student 1'!$N$11","v":1},{"$f":"'Student 1'!$O$11","v":"Work"},{"$f":"'Student 1'!$P$11","v":"0 or 1"},{"$f":"'Student 1'!$Q$11","v":"Lab"}]
[{"$f":"'Student 1'!$A$12","v":"ID"},{"$f":"'Student 1'!$B$12","v":"First:"},{"$f":"'Student 1'!$C$12","v":"Last:"},{"$f":"'Student 1'!$D$12","v":100},{"$f":"'Student 1'!$E$12","v":100},{"$f":"'Student 1'!$F$12","v":100},{"$f":"'Student 1'!$G$12","v":100},{"$f":"'Student 1'!$H$12","v":100},{"$f":"'Student 1'!$I$12","v":150},{"$f":"'Student 1'!$J$12","v":100},{"$f":"'Student 1'!$K$12","v":50},{"$f":"'Student 1'!$L$12","v":100},{"$f":"'Student 1'!$M$12","v":25},{"$f":"'Student 1'!$N$12","v":100},{"$f":"'Student 1'!$O$12","v":300},{"$f":"'Student 1'!$P$12","v":"*"},{"$f":"'Student 1'!$Q$12","v":"Points"},{"$f":"'Student 1'!$R$12","v":"%"}]
[{"$f":"'Course 1 Lab'!$A$26","v":{"v":20,"d":"00000020"}},{"$f":"'Course 1 Lab'!$B$26","v":"Student"},{"$f":"'Course 1 Lab'!$C$26","v":"Twenty"},{"$f":"'Course 1 Lab'!$D$26","v":0},{"$f":"'Course 1 Lab'!$E$26","v":0},{"$f":"'Course 1 Lab'!$F$26","v":0},{"$f":"'Course 1 Lab'!$G$26","v":0},{"$f":"'Course 1 Lab'!$H$26","v":0},{"$f":"'Course 1 Lab'!$I$26","v":0},{"$f":"'Course 1 Lab'!$J$26","v":0},{"$f":"'Course 1 Lab'!$K$26","v":0},{"$f":"'Course 1 Lab'!$L$26","v":0},{"$f":"'Course 1 Lab'!$M$26","v":0},{"$f":"'Course 1 Lab'!$N$26","v":0},{"$f":"'Course 1 Lab'!$O$26","v":0},{"$f":"'Course 1 Lab'!$P$26","v":1},{"$f":"'Course 1 Lab'!$Q$26","v":0},{"$f":"'Course 1 Lab'!$R$26","v":{"v":0,"d":"0%"}}]
[{"$f":"'Student 1'!$A$14","v":"Course 2 Engine Theory & Repair. Class"},{"$nulls":8},{"$f":"'Student 1'!$J$14","v":25}]
[{"$f":"'Student 1'!$A$15","v":" "},{"$f":"'Student 1'!$B$15","v":"Date assignment is due:"},null,{"$f":"'Student 1'!$D$15","v":"TBD"},{"$f":"'Student 1'!$E$15","v":"TBD"},{"$f":"'Student 1'!$F$15","v":"TBD"},{"$f":"'Student 1'!$G$15","v":"TBD"},{"$f":"'Student 1'!$H$15","v":"TBD"},{"$f":"'Student 1'!$I$15","v":"TBD"},{"$f":"'Student 1'!$J$15","v":"TBD"},{"$f":"'Student 1'!$K$15","v":"TBD"}]
[{"$f":"'Student 1'!$A$16","v":"Class Room Points:"},null,{"$f":"'Student 1'!$C$16","v":201},{"$f":"'Student 1'!$D$16","v":10},{"$f":"'Student 1'!$E$16","v":10},{"$f":"'Student 1'!$F$16","v":20},{"$f":"'Student 1'!$G$16","v":20},{"$f":"'Student 1'!$H$16","v":16},{"$f":"'Student 1'!$I$16","v":25},{"$f":"'Student 1'!$J$16","v":" "},{"$f":"'Student 1'!$K$16","v":100},{"$f":"'Student 1'!$L$16","v":"Evaluation"}]
[{"$f":"'Student 1'!$A$17","v":"Red is late turn-in"},null,{"$f":"'Student 1'!$C$17","v":"Blue is absent"},{"$f":"'Student 1'!$D$17","v":"HW"},{"$f":"'Student 1'!$E$17","v":"HW "},{"$f":"'Student 1'!$F$17","v":"Test"},{"$f":"'Student 1'!$G$17","v":"Test"},{"$f":"'Student 1'!$H$17","v":"HW"},{"$f":"'Student 1'!$I$17","v":"Test"},{"$f":"'Student 1'!$J$17","v":"Extra"},{"$f":"'Student 1'!$K$17","v":"Final "},{"$f":"'Student 1'!$L$17","v":"Class"},null,{"$f":"'Student 1'!$N$17","v":"Professionalism"},null,null,{"$f":"'Student 1'!$Q$17","v":"Lab"},null,{"$f":"'Student 1'!$S$17","v":"Total  "},{"$f":"'Student 1'!$T$17","v":"Letter"}]
[{"$f":"'Student 1'!$A$18","v":"I D "},{"$f":"'Student 1'!$B$18","v":"First:"},{"$f":"'Student 1'!$C$18","v":"Last:"},{"$f":"'Student 1'!$D$18","v":"CH 7"},{"$f":"'Student 1'!$E$18","v":"CH 14"},{"$f":"'Student 1'!$F$18","v":"C & L"},{"$f":"'Student 1'!$G$18","v":"CH 18"},{"$f":"'Student 1'!$H$18","v":"CH 22"},{"$f":"'Student 1'!$I$18","v":"CH 22"},{"$f":"'Student 1'!$J$18","v":"Credit"},{"$f":"'Student 1'!$K$18","v":"TEST"},{"$f":"'Student 1'!$L$18","v":"Points"},{"$f":"'Student 1'!$M$18","v":"%"},{"$f":"'Student 1'!$N$18","v":"Attendance"},{"$f":"'Student 1'!$O$18","v":"Points"},{"$f":"'Student 1'!$P$18","v":"%"},{"$f":"'Student 1'!$Q$18","v":"Points"},{"$f":"'Student 1'!$R$18","v":"%"},{"$f":"'Student 1'!$S$18","v":"%"},{"$f":"'Student 1'!$T$18","v":"Grade"}]
[{"$f":"'Course 2 Class'!$A$25","v":{"v":20,"d":"00000020"}},{"$f":"'Course 2 Class'!$B$25","v":"Student"},{"$f":"'Course 2 Class'!$C$25","v":"Twenty"},{"$f":"'Course 2 Class'!$D$25","v":0},{"$f":"'Course 2 Class'!$E$25","v":0},{"$f":"'Course 2 Class'!$F$25","v":0},{"$f":"'Course 2 Class'!$G$25","v":0},{"$f":"'Course 2 Class'!$H$25","v":0},{"$f":"'Course 2 Class'!$I$25","v":0},{"$f":"'Course 2 Class'!$J$25","v":0},{"$f":"'Course 2 Class'!$K$25","v":0},{"$f":"'Course 2 Class'!$L$25","v":0},{"$f":"'Course 2 Class'!$M$25","v":{"v":0,"d":"0%"}},{"$f":"'Course 2 Class'!$N$25","v":{"v":1,"d":"100%"}},{"$f":"'Course 2 Class'!$O$25","v":72},{"$f":"'Course 2 Class'!$P$25","v":{"v":1,"d":"100%"}},{"$f":"'Course 2 Class'!$Q$25","v":0},{"$f":"'Course 2 Class'!$R$25","v":{"v":0,"d":"0%"}},{"$f":"'Course 2 Class'!$S$25","v":{"v":0.25,"d":"25%"}},{"$f":"'Course 2 Class'!$T$25","v":"F"}]
[{"$f":"'Student 1'!$A$20","v":"Course 2 Engine Theory & Repair. Lab"}]
[{"$f":"'Student 1'!$A$21","v":"  Max Shop Points:"},null,{"$f":"'Student 1'!$C$21","v":1450},{"$f":"'Student 1'!$D$21","v":"Engine"},{"$f":"'Student 1'!$E$21","v":"Cylinder"},{"$f":"'Student 1'!$F$21","v":"Red"},{"$f":"'Student 1'!$G$21","v":"Mitsubishi"},{"$f":"'Student 1'!$H$21","v":"Any"},{"$f":"'Student 1'!$I$21","v":"DOHC"},{"$f":"'Student 1'!$J$21","v":"Valve seal"},{"$f":"'Student 1'!$K$21","v":"Misc."},{"$f":"'Student 1'!$L$21","v":" "}]
[{"$f":"'Student 1'!$A$22","v":"Max shop points available depend on how much customer work is done."},null,null,{"$f":"'Student 1'!$D$22","v":"Disassemble"},{"$f":"'Student 1'!$E$22","v":"Head"},{"$f":"'Student 1'!$F$22","v":"Dodge"},{"$f":"'Student 1'!$G$22","v":"\"3.0L\""},{"$f":"'Student 1'!$H$22","v":"Engine"},{"$f":"'Student 1'!$I$22","v":"Engine"},{"$f":"'Student 1'!$J$22","v":"&"},{"$f":"'Student 1'!$K$22","v":"Engine "},{"$f":"'Student 1'!$L$22","v":"Cus"},{"$f":"'Student 1'!$M$22","v":"Comp"}]
[{"$nulls":3},{"$f":"'Student 1'!$D$23","v":"& Measure"},{"$f":"'Student 1'!$E$23","v":"Repair"},{"$f":"'Student 1'!$F$23","v":"Clip"},{"$f":"'Student 1'!$G$23","v":"Clip"},{"$f":"'Student 1'!$H$23","v":"T-chain"},{"$f":"'Student 1'!$I$23","v":" Stand"},{"$f":"'Student 1'!$J$23","v":"Lobe lift"},{"$f":"'Student 1'!$K$23","v":"Points"},{"$f":"'Student 1'!$L$23","v":"tomer"},{"$f":"'Student 1'!$M$23","v":"etency"},{"$f":"'Student 1'!$N$23","v":" "},{"$f":"'Student 1'!$O$23","v":" "}]
[{"$nulls":3},{"$f":"'Student 1'!$D$24","v":1},{"$f":"'Student 1'!$E$24","v":1},{"$f":"'Student 1'!$F$24","v":1},{"$f":"'Student 1'!$G$24","v":1},{"$f":"'Student 1'!$H$24","v":1},{"$f":"'Student 1'!$I$24","v":1},{"$f":"'Student 1'!$J$24","v":1},null,{"$f":"'Student 1'!$L$24","v":"Work"},{"$f":"'Student 1'!$M$24","v":"0 or 1"},{"$f":"'Student 1'!$N$24","v":"Lab"}]
[{"$f":"'Student 1'!$A$25","v":"ID"},{"$f":"'Student 1'!$B$25","v":"First:"},{"$f":"'Student 1'!$C$25","v":"Last:"},{"$f":"'Student 1'!$D$25","v":300},{"$f":"'Student 1'!$E$25","v":200},{"$f":"'Student 1'!$F$25","v":100},{"$f":"'Student 1'!$G$25","v":100},{"$f":"'Student 1'!$H$25","v":100},{"$f":"'Student 1'!$I$25","v":100},{"$f":"'Student 1'!$J$25","v":50},{"$f":"'Student 1'!$K$25","v":200},{"$f":"'Student 1'!$L$25","v":300},{"$f":"'Student 1'!$M$25","v":"*"},{"$f":"'Student 1'!$N$25","v":"Points"},{"$f":"'Student 1'!$O$25","v":"%"}]
[{"$f":"'Course 2 Lab'!$A$26","v":{"v":20,"d":"00000020"}},{"$f":"'Course 2 Lab'!$B$26","v":"Student"},{"$f":"'Course 2 Lab'!$C$26","v":"Twenty"},{"$f":"'Course 2 Lab'!$D$26","v":0},{"$f":"'Course 2 Lab'!$E$26","v":0},{"$f":"'Course 2 Lab'!$F$26","v":0},{"$f":"'Course 2 Lab'!$G$26","v":0},{"$f":"'Course 2 Lab'!$H$26","v":0},{"$f":"'Course 2 Lab'!$I$26","v":0},{"$f":"'Course 2 Lab'!$J$26","v":0},{"$f":"'Course 2 Lab'!$K$26","v":0},{"$f":"'Course 2 Lab'!$L$26","v":0},{"$f":"'Course 2 Lab'!$M$26","v":1},{"$f":"'Course 2 Lab'!$N$26","v":0},{"$f":"'Course 2 Lab'!$O$26","v":{"v":0,"d":"0%"}}]
[{"$f":"'Student 1'!$A$27","v":"Course 3 Steering & Suspension. Class."},{"$nulls":11},{"$f":"'Student 1'!$M$27","v":25}]
[{"$f":"'Student 1'!$A$28","v":" "},{"$f":"'Student 1'!$B$28","v":"Date assignment is due:"},null,{"$f":"'Student 1'!$D$28","v":"1/18"},{"$f":"'Student 1'!$E$28","v":"2/2"},{"$f":"'Student 1'!$F$28","v":"TBD"},{"$f":"'Student 1'!$G$28","v":"TBD"},{"$f":"'Student 1'!$H$28","v":"TBD"},{"$f":"'Student 1'!$I$28","v":"TBD"},{"$f":"'Student 1'!$J$28","v":"TBD"},{"$f":"'Student 1'!$K$28","v":"TBD"},{"$f":"'Student 1'!$L$28","v":"TBD"},{"$f":"'Student 1'!$M$28","v":"TBD"},{"$f":"'Student 1'!$N$28","v":"TBD"}]
[{"$f":"'Student 1'!$A$29","v":"Class Room Points:"},null,{"$f":"'Student 1'!$C$29","v":330},{"$f":"'Student 1'!$D$29","v":20},{"$f":"'Student 1'!$E$29","v":20},{"$f":"'Student 1'!$F$29","v":24},{"$f":"'Student 1'!$G$29","v":20},{"$f":"'Student 1'!$H$29","v":25},{"$f":"'Student 1'!$I$29","v":30},{"$f":"'Student 1'!$J$29","v":20},{"$f":"'Student 1'!$K$29","v":26},{"$f":"'Student 1'!$L$29","v":45},{"$f":"'Student 1'!$M$29","v":" "},{"$f":"'Student 1'!$N$29","v":100},{"$f":"'Student 1'!$O$29","v":"Evaluation"}]
[{"$f":"'Student 1'!$A$30","v":"Red is late turn-in"},null,{"$f":"'Student 1'!$C$30","v":"Blue is absent"},{"$f":"'Student 1'!$D$30","v":"HW"},{"$f":"'Student 1'!$E$30","v":"HW"},{"$f":"'Student 1'!$F$30","v":"HW"},{"$f":"'Student 1'!$G$30","v":"QZ"},{"$f":"'Student 1'!$H$30","v":"HW"},{"$f":"'Student 1'!$I$30","v":"HW"},{"$f":"'Student 1'!$J$30","v":"Test"},{"$f":"'Student 1'!$K$30","v":"HW"},{"$f":"'Student 1'!$L$30","v":"Class"},{"$f":"'Student 1'!$M$30","v":"Extra"},{"$f":"'Student 1'!$N$30","v":"Final"},{"$f":"'Student 1'!$O$30","v":"Class"},null,{"$f":"'Student 1'!$Q$30","v":"Professionalism"},null,null,{"$f":"'Student 1'!$T$30","v":"Lab"},null,{"$f":"'Student 1'!$V$30","v":"Total  "},{"$f":"'Student 1'!$W$30","v":"Letter"}]
[{"$f":"'Student 1'!$A$31","v":"I D "},{"$f":"'Student 1'!$B$31","v":"First:"},{"$f":"'Student 1'!$C$31","v":"Last:"},{"$f":"'Student 1'!$D$31","v":"CH 1"},{"$f":"'Student 1'!$E$31","v":"CH 2"},{"$f":"'Student 1'!$F$31","v":"CH 3"},{"$f":"'Student 1'!$G$31","v":"1"},{"$f":"'Student 1'!$H$31","v":"CH 6"},{"$f":"'Student 1'!$I$31","v":"CH 9"},{"$f":"'Student 1'!$J$31","v":"1 – 9"},{"$f":"'Student 1'!$K$31","v":"CH 12"},{"$f":"'Student 1'!$L$31","v":"Project"},{"$f":"'Student 1'!$M$31","v":"Credit"},{"$f":"'Student 1'!$N$31","v":"TEST"},{"$f":"'Student 1'!$O$31","v":"Points"},{"$f":"'Student 1'!$P$31","v":"%"},{"$f":"'Student 1'!$Q$31","v":"Attendance"},{"$f":"'Student 1'!$R$31","v":"Points"},{"$f":"'Student 1'!$S$31","v":"%"},{"$f":"'Student 1'!$T$31","v":"Points"},{"$f":"'Student 1'!$U$31","v":"%"},{"$f":"'Student 1'!$V$31","v":"%"},{"$f":"'Student 1'!$W$31","v":"Grade"}]
[{"$f":"'Course 3 Class'!$A$25","v":{"v":20,"d":"00000020"}},{"$f":"'Course 3 Class'!$B$25","v":"Student"},{"$f":"'Course 3 Class'!$C$25","v":"Twenty"},{"$f":"'Course 3 Class'!$D$25","v":0},{"$f":"'Course 3 Class'!$E$25","v":0},{"$f":"'Course 3 Class'!$F$25","v":0},{"$f":"'Course 3 Class'!$G$25","v":0},{"$f":"'Course 3 Class'!$H$25","v":0},{"$f":"'Course 3 Class'!$I$25","v":0},{"$f":"'Course 3 Class'!$J$25","v":0},{"$f":"'Course 3 Class'!$K$25","v":0},{"$f":"'Course 3 Class'!$L$25","v":0},{"$f":"'Course 3 Class'!$M$25","v":0},{"$f":"'Course 3 Class'!$N$25","v":0},{"$f":"'Course 3 Class'!$O$25","v":0},{"$f":"'Course 3 Class'!$P$25","v":{"v":0,"d":"0%"}},{"$f":"'Course 3 Class'!$Q$25","v":{"v":1,"d":"100%"}},{"$f":"'Course 3 Class'!$R$25","v":72},{"$f":"'Course 3 Class'!$S$25","v":{"v":1,"d":"100%"}},{"$f":"'Course 3 Class'!$T$25","v":0},{"$f":"'Course 3 Class'!$U$25","v":{"v":0,"d":"0%"}},{"$f":"'Course 3 Class'!$V$25","v":{"v":0.25,"d":"25%"}},{"$f":"'Course 3 Class'!$W$25","v":"F"}]
[{"$f":"'Student 1'!$A$33","v":"Course 3 Steering & Suspension. Lab"}]
[{"$f":"'Student 1'!$A$34","v":"Max shop points"},null,{"$f":"'Student 1'!$C$34","v":1350},{"$f":"'Student 1'!$D$34","v":"Repair"},{"$f":"'Student 1'!$E$34","v":"Identify"},{"$f":"'Student 1'!$F$34","v":"Repair"},{"$f":"'Student 1'!$G$34","v":"Identify"},{"$f":"'Student 1'!$H$34","v":"Repair"},{"$f":"'Student 1'!$I$34","v":"R&R"},{"$f":"'Student 1'!$J$34","v":"R&R"},{"$f":"'Student 1'!$K$34","v":"R&R"},{"$f":"'Student 1'!$L$34","v":"P/S"},{"$f":"'Student 1'!$M$34","v":"R&R"},{"$f":"'Student 1'!$N$34","v":"NVH"},{"$f":"'Student 1'!$O$34","v":" "}]
[{"$f":"'Student 1'!$A$35","v":"Max shop points available depend on how much customer work is done."},null,null,{"$f":"'Student 1'!$D$35","v":"SLA"},{"$f":"'Student 1'!$E$35","v":"SLA"},{"$f":"'Student 1'!$F$35","v":"Mac-P"},{"$f":"'Student 1'!$G$35","v":"Mac-P"},{"$f":"'Student 1'!$H$35","v":"Rear"},{"$f":"'Student 1'!$I$35","v":"Rack &"},{"$f":"'Student 1'!$J$35","v":"Recirc."},{"$f":"'Student 1'!$K$35","v":"P/S"},{"$f":"'Student 1'!$L$35","v":"Pump"},{"$f":"'Student 1'!$M$35","v":"Inner"},{"$f":"'Student 1'!$N$35","v":"Runout &"},{"$f":"'Student 1'!$O$35","v":"Cus"},{"$f":"'Student 1'!$P$35","v":"Comp"}]
[{"$nulls":3},{"$f":"'Student 1'!$D$36","v":"Susp"},{"$f":"'Student 1'!$E$36","v":"Parts"},{"$f":"'Student 1'!$F$36","v":"Susp"},{"$f":"'Student 1'!$G$36","v":"Parts"},{"$f":"'Student 1'!$H$36","v":"Susp"},{"$f":"'Student 1'!$I$36","v":"Pinion"},{"$f":"'Student 1'!$J$36","v":"Gear"},{"$f":"'Student 1'!$K$36","v":"Pump"},{"$f":"'Student 1'!$L$36","v":"Test"},{"$f":"'Student 1'!$M$36","v":"Tie-Rod"},{"$f":"'Student 1'!$N$36","v":"bal. Check"},{"$f":"'Student 1'!$O$36","v":"tomer"},{"$f":"'Student 1'!$P$36","v":"etency"},{"$f":"'Student 1'!$Q$36","v":" "},{"$f":"'Student 1'!$R$36","v":" "},null,null,{"$f":"'Student 1'!$U$36","v":"Final Grade"}]
[{"$nulls":3},{"$f":"'Student 1'!$D$37","v":1},{"$f":"'Student 1'!$E$37","v":2},{"$f":"'Student 1'!$F$37","v":3},{"$f":"'Student 1'!$G$37","v":2},{"$f":"'Student 1'!$H$37","v":1},{"$f":"'Student 1'!$I$37","v":1},{"$f":"'Student 1'!$J$37","v":1},{"$f":"'Student 1'!$K$37","v":1},{"$f":"'Student 1'!$L$37","v":1},{"$f":"'Student 1'!$M$37","v":1},{"$f":"'Student 1'!$N$37","v":1},{"$f":"'Student 1'!$O$37","v":"Work"},{"$f":"'Student 1'!$P$37","v":"0 or 1"},{"$f":"'Student 1'!$Q$37","v":"Lab"},{"$nulls":3},{"$f":"'Student 1'!$U$37","v":{"v":0,"d":"0%"}},{"$f":"'Student 1'!$V$37","v":"F"}]
[{"$f":"'Student 1'!$A$38","v":"ID"},{"$f":"'Student 1'!$B$38","v":"First:"},{"$f":"'Student 1'!$C$38","v":"Last:"},{"$f":"'Student 1'!$D$38","v":150},{"$f":"'Student 1'!$E$38","v":50},{"$f":"'Student 1'!$F$38","v":225},{"$f":"'Student 1'!$G$38","v":50},{"$f":"'Student 1'!$H$38","v":50},{"$f":"'Student 1'!$I$38","v":150},{"$f":"'Student 1'!$J$38","v":125},{"$f":"'Student 1'!$K$38","v":50},{"$f":"'Student 1'!$L$38","v":50},{"$f":"'Student 1'!$M$38","v":50},{"$f":"'Student 1'!$N$38","v":100},{"$f":"'Student 1'!$O$38","v":300},{"$f":"'Student 1'!$P$38","v":"*"},{"$f":"'Student 1'!$Q$38","v":"Points"},{"$f":"'Student 1'!$R$38","v":"%"},null,null,{"$f":"'Student 1'!$U$38","v":{"v":0.695,"d":"70%"}},{"$f":"'Student 1'!$V$38","v":"D-"}]
[{"$f":"'Course 3 Lab'!$A$26","v":{"v":20,"d":"00000020"}},{"$f":"'Course 3 Lab'!$B$26","v":"Student"},{"$f":"'Course 3 Lab'!$C$26","v":"Twenty"},{"$f":"'Course 3 Lab'!$D$26","v":0},{"$f":"'Course 3 Lab'!$E$26","v":0},{"$f":"'Course 3 Lab'!$F$26","v":0},{"$f":"'Course 3 Lab'!$G$26","v":0},{"$f":"'Course 3 Lab'!$H$26","v":0},{"$f":"'Course 3 Lab'!$I$26","v":0},{"$f":"'Course 3 Lab'!$J$26","v":0},{"$f":"'Course 3 Lab'!$K$26","v":0},{"$f":"'Course 3 Lab'!$L$26","v":0},{"$f":"'Course 3 Lab'!$M$26","v":0},{"$f":"'Course 3 Lab'!$N$26","v":0},{"$f":"'Course 3 Lab'!$O$26","v":0},{"$f":"'Course 3 Lab'!$P$26","v":1},{"$f":"'Course 3 Lab'!$Q$26","v":0},{"$f":"'Course 3 Lab'!$R$26","v":{"v":0,"d":"0%"}},null,null,{"$f":"'Student 1'!$U$39","v":{"v":0.715,"d":"72%"}},{"$f":"'Student 1'!$V$39","v":"D"}]
[{"$f":"'Student 1'!$A$40","v":"Course 4 Alignment. Class."},{"$nulls":7},{"$f":"'Student 1'!$I$40","v":25},{"$nulls":11},{"$f":"'Student 1'!$U$40","v":{"v":0.735,"d":"74%"}},{"$f":"'Student 1'!$V$40","v":"D+"}]
[{"$f":"'Student 1'!$A$41","v":" "},{"$f":"'Student 1'!$B$41","v":"Date assignment is due  "},null,{"$f":"'Student 1'!$D$41","v":"TBD"},{"$f":"'Student 1'!$E$41","v":"TBD"},{"$f":"'Student 1'!$F$41","v":"TBD"},{"$f":"'Student 1'!$G$41","v":"TBD"},{"$f":"'Student 1'!$H$41","v":"TBD"},{"$f":"'Student 1'!$I$41","v":"TBD"},{"$f":"'Student 1'!$J$41","v":"TBD"},{"$nulls":10},{"$f":"'Student 1'!$U$41","v":{"v":0.755,"d":"76%"}},{"$f":"'Student 1'!$V$41","v":"C-"}]
[{"$f":"'Student 1'!$A$42","v":"Class Room Points:"},null,{"$f":"'Student 1'!$C$42","v":235},{"$f":"'Student 1'!$D$42","v":25},{"$f":"'Student 1'!$E$42","v":25},{"$f":"'Student 1'!$F$42","v":20},{"$f":"'Student 1'!$G$42","v":40},{"$f":"'Student 1'!$H$42","v":50},{"$f":"'Student 1'!$I$42","v":" "},{"$f":"'Student 1'!$J$42","v":75},{"$f":"'Student 1'!$K$42","v":"Evaluation"},{"$nulls":9},{"$f":"'Student 1'!$U$42","v":{"v":0.785,"d":"79%"}},{"$f":"'Student 1'!$V$42","v":"C"}]
[{"$f":"'Student 1'!$A$43","v":"Red is late turn-in"},null,{"$f":"'Student 1'!$C$43","v":"Blue is absent"},{"$f":"'Student 1'!$D$43","v":"CH 16"},{"$f":"'Student 1'!$E$43","v":"CH 16"},{"$f":"'Student 1'!$F$43","v":"Align"},{"$f":"'Student 1'!$G$43","v":"In class"},{"$f":"'Student 1'!$H$43","v":"In class"},{"$f":"'Student 1'!$I$43","v":"Extra"},{"$f":"'Student 1'!$J$43","v":"Final"},{"$f":"'Student 1'!$K$43","v":"Class"},null,{"$f":"'Student 1'!$M$43","v":"Professionalism"},null,null,{"$f":"'Student 1'!$P$43","v":"Lab"},null,{"$f":"'Student 1'!$R$43","v":"Total  "},{"$f":"'Student 1'!$S$43","v":"Letter"},null,{"$f":"'Student 1'!$U$43","v":{"v":0.815,"d":"82%"}},{"$f":"'Student 1'!$V$43","v":"C+"}]
[{"$f":"'Student 1'!$A$44","v":"I D "},{"$f":"'Student 1'!$B$44","v":"First:"},{"$f":"'Student 1'!$C$44","v":"Last:"},{"$f":"'Student 1'!$D$44","v":"HW"},{"$f":"'Student 1'!$E$44","v":"Test"},{"$f":"'Student 1'!$F$44","v":"HW"},{"$f":"'Student 1'!$G$44","v":"Project1"},{"$f":"'Student 1'!$H$44","v":"Project2"},{"$f":"'Student 1'!$I$44","v":"Credit"},{"$f":"'Student 1'!$J$44","v":"Test"},{"$f":"'Student 1'!$K$44","v":"Points"},{"$f":"'Student 1'!$L$44","v":"%"},{"$f":"'Student 1'!$M$44","v":"Attendance"},{"$f":"'Student 1'!$N$44","v":"Points"},{"$f":"'Student 1'!$O$44","v":"%"},{"$f":"'Student 1'!$P$44","v":"Points"},{"$f":"'Student 1'!$Q$44","v":"%"},{"$f":"'Student 1'!$R$44","v":"%"},{"$f":"'Student 1'!$S$44","v":"Grade"},null,{"$f":"'Student 1'!$U$44","v":{"v":0.845,"d":"85%"}},{"$f":"'Student 1'!$V$44","v":"B-"}]
[{"$f":"'Course 4 Class'!$A$25","v":{"v":20,"d":"00000020"}},{"$f":"'Course 4 Class'!$B$25","v":"Student"},{"$f":"'Course 4 Class'!$C$25","v":"Twenty"},{"$f":"'Course 4 Class'!$D$25","v":0},{"$f":"'Course 4 Class'!$E$25","v":0},{"$f":"'Course 4 Class'!$F$25","v":0},{"$f":"'Course 4 Class'!$G$25","v":0},{"$f":"'Course 4 Class'!$H$25","v":0},{"$f":"'Course 4 Class'!$I$25","v":0},{"$f":"'Course 4 Class'!$J$25","v":0},{"$f":"'Course 4 Class'!$K$25","v":0},{"$f":"'Course 4 Class'!$L$25","v":{"v":0,"d":"0%"}},{"$f":"'Course 4 Class'!$M$25","v":{"v":1,"d":"100%"}},{"$f":"'Course 4 Class'!$N$25","v":72},{"$f":"'Course 4 Class'!$O$25","v":{"v":1,"d":"100%"}},{"$f":"'Course 4 Class'!$P$25","v":0},{"$f":"'Course 4 Class'!$Q$25","v":{"v":0,"d":"0%"}},{"$f":"'Course 4 Class'!$R$25","v":{"v":0.25,"d":"25%"}},{"$f":"'Course 4 Class'!$S$25","v":"F"},null,{"$f":"'Student 1'!$U$45","v":{"v":0.875,"d":"88%"}},{"$f":"'Student 1'!$V$45","v":"B"}]
[{"$f":"'Student 1'!$A$46","v":"Course 4 Alignment. Lab"},{"$nulls":19},{"$f":"'Student 1'!$U$46","v":{"v":0.895,"d":"90%"}},{"$f":"'Student 1'!$V$46","v":"B+"}]
[{"$f":"'Student 1'!$A$47","v":"Max Shop Points:"},null,{"$f":"'Student 1'!$C$47","v":1300},{"$f":"'Student 1'!$D$47","v":"Alignment"},{"$f":"'Student 1'!$E$47","v":"Complete"},{"$f":"'Student 1'!$F$47","v":"Cus"},{"$f":"'Student 1'!$G$47","v":" "},{"$nulls":13},{"$f":"'Student 1'!$U$47","v":{"v":0.925,"d":"93%"}},{"$f":"'Student 1'!$V$47","v":"A-"}]
[{"$f":"'Student 1'!$A$48","v":"Max shop points available depend on how much customer work is done."},null,null,{"$f":"'Student 1'!$D$48","v":"Pre-check"},{"$f":"'Student 1'!$E$48","v":"Wheel"},{"$f":"'Student 1'!$F$48","v":"tomer"},{"$f":"'Student 1'!$G$48","v":"Comp"},{"$nulls":13},{"$f":"'Student 1'!$U$48","v":{"v":0.945,"d":"95%"}},{"$f":"'Student 1'!$V$48","v":"A"}]
[{"$nulls":3},{"$f":"'Student 1'!$D$49","v":"100 P"},{"$f":"'Student 1'!$E$49","v":"Alignment"},{"$f":"'Student 1'!$F$49","v":"Work"},{"$f":"'Student 1'!$G$49","v":"etency"},{"$f":"'Student 1'!$H$49","v":" "},{"$f":"'Student 1'!$I$49","v":" "},{"$nulls":11},{"$f":"'Student 1'!$U$49","v":{"v":1,"d":"100%"}},{"$f":"'Student 1'!$V$49","v":"A"}]
[{"$nulls":3},{"$f":"'Student 1'!$D$50","v":1},{"$f":"'Student 1'!$E$50","v":1},{"$f":"'Student 1'!$F$50","v":" "},{"$f":"'Student 1'!$G$50","v":"0 or 1"},{"$f":"'Student 1'!$H$50","v":"Lab"}]
[{"$f":"'Student 1'!$A$51","v":"ID"},{"$f":"'Student 1'!$B$51","v":"First:"},{"$f":"'Student 1'!$C$51","v":"Last:"},{"$f":"'Student 1'!$D$51","v":100},{"$f":"'Student 1'!$E$51","v":900},{"$f":"'Student 1'!$F$51","v":300},{"$f":"'Student 1'!$G$51","v":"*"},{"$f":"'Student 1'!$H$51","v":"Points"},{"$f":"'Student 1'!$I$51","v":"%"}]
[{"$f":"'Course 4 Lab'!$A$26","v":{"v":20,"d":"00000020"}},{"$f":"'Course 4 Lab'!$B$26","v":"Student"},{"$f":"'Course 4 Lab'!$C$26","v":"Twenty"},{"$f":"'Course 4 Lab'!$D$26","v":0},{"$f":"'Course 4 Lab'!$E$26","v":0},{"$f":"'Course 4 Lab'!$F$26","v":0},{"$f":"'Course 4 Lab'!$G$26","v":1},{"$f":"'Course 4 Lab'!$H$26","v":0},{"$f":"'Course 4 Lab'!$I$26","v":{"v":0,"d":"0%"}}]
[{"$f":"'Student 1'!$A$53","v":"Course 5 Brake Systems. Class."},{"$nulls":10},{"$f":"'Student 1'!$L$53","v":35}]
[{"$f":"'Student 1'!$A$54","v":"Date assignment is due:"},null,{"$f":"'Student 1'!$C$54","v":" "},{"$f":"'Student 1'!$D$54","v":"TBD"},{"$f":"'Student 1'!$E$54","v":"TBD"},{"$f":"'Student 1'!$F$54","v":"TBD"},{"$f":"'Student 1'!$G$54","v":"TBD"},{"$f":"'Student 1'!$H$54","v":"TBD"},{"$f":"'Student 1'!$I$54","v":"TBD"},{"$f":"'Student 1'!$J$54","v":"TBD"},{"$f":"'Student 1'!$K$54","v":"TBD"},{"$f":"'Student 1'!$L$54","v":"TBD"},{"$f":"'Student 1'!$M$54","v":"TBD"}]
[{"$f":"'Student 1'!$A$55","v":"Class Room Points:"},null,{"$f":"'Student 1'!$C$55","v":440},{"$f":"'Student 1'!$D$55","v":30},{"$f":"'Student 1'!$E$55","v":25},{"$f":"'Student 1'!$F$55","v":100},{"$f":"'Student 1'!$G$55","v":30},{"$f":"'Student 1'!$H$55","v":50},{"$f":"'Student 1'!$I$55","v":30},{"$f":"'Student 1'!$J$55","v":25},{"$f":"'Student 1'!$K$55","v":50},{"$f":"'Student 1'!$L$55","v":" "},{"$f":"'Student 1'!$M$55","v":100},{"$f":"'Student 1'!$N$55","v":"Evaluation"}]
[{"$f":"'Student 1'!$A$56","v":"Red is late turn-in"},null,{"$f":"'Student 1'!$C$56","v":"Blue is absent"},{"$f":"'Student 1'!$D$56","v":"HW"},{"$f":"'Student 1'!$E$56","v":"HW"},{"$f":"'Student 1'!$F$56","v":"Test"},{"$f":"'Student 1'!$G$56","v":"HW"},{"$f":"'Student 1'!$H$56","v":"Test"},{"$f":"'Student 1'!$I$56","v":"HW"},{"$f":"'Student 1'!$J$56","v":"Test"},{"$f":"'Student 1'!$K$56","v":"Class"},{"$f":"'Student 1'!$L$56","v":"Extra"},{"$f":"'Student 1'!$M$56","v":"Final"},{"$f":"'Student 1'!$N$56","v":"Class"},null,{"$f":"'Student 1'!$P$56","v":"Professionalism"},null,null,{"$f":"'Student 1'!$S$56","v":"Lab"},null,{"$f":"'Student 1'!$U$56","v":"Total  "},{"$f":"'Student 1'!$V$56","v":"Letter"}]
[{"$f":"'Student 1'!$A$57","v":"I D "},{"$f":"'Student 1'!$B$57","v":"First:"},{"$f":"'Student 1'!$C$57","v":"Last:"},{"$f":"'Student 1'!$D$57","v":"CH 4"},{"$f":"'Student 1'!$E$57","v":"CH 5"},{"$f":"'Student 1'!$F$57","v":"#1"},{"$f":"'Student 1'!$G$57","v":"CH 7"},{"$f":"'Student 1'!$H$57","v":"Conv"},{"$f":"'Student 1'!$I$57","v":"CH 20"},{"$f":"'Student 1'!$J$57","v":"21/22"},{"$f":"'Student 1'!$K$57","v":"Project"},{"$f":"'Student 1'!$L$57","v":"Credit"},{"$f":"'Student 1'!$M$57","v":"Test"},{"$f":"'Student 1'!$N$57","v":"Points"},{"$f":"'Student 1'!$O$57","v":"%"},{"$f":"'Student 1'!$P$57","v":"Attendance"},{"$f":"'Student 1'!$Q$57","v":"Points"},{"$f":"'Student 1'!$R$57","v":"%"},{"$f":"'Student 1'!$S$57","v":"Points"},{"$f":"'Student 1'!$T$57","v":"%"},{"$f":"'Student 1'!$U$57","v":"%"},{"$f":"'Student 1'!$V$57","v":"Grade"}]
[{"$f":"'Course 5 Class'!$A$25","v":{"v":20,"d":"00000020"}},{"$f":"'Course 5 Class'!$B$25","v":"Student"},{"$f":"'Course 5 Class'!$C$25","v":"Twenty"},{"$f":"'Course 5 Class'!$D$25","v":0},{"$f":"'Course 5 Class'!$E$25","v":0},{"$f":"'Course 5 Class'!$F$25","v":0},{"$f":"'Course 5 Class'!$G$25","v":0},{"$f":"'Course 5 Class'!$H$25","v":0},{"$f":"'Course 5 Class'!$I$25","v":0},{"$f":"'Course 5 Class'!$J$25","v":0},{"$f":"'Course 5 Class'!$K$25","v":0},{"$f":"'Course 5 Class'!$L$25","v":0},{"$f":"'Course 5 Class'!$M$25","v":0},{"$f":"'Course 5 Class'!$N$25","v":0},{"$f":"'Course 5 Class'!$O$25","v":{"v":0,"d":"0%"}},{"$f":"'Course 5 Class'!$P$25","v":{"v":1,"d":"100%"}},{"$f":"'Course 5 Class'!$Q$25","v":72},{"$f":"'Course 5 Class'!$R$25","v":{"v":1,"d":"100%"}},{"$f":"'Course 5 Class'!$S$25","v":0},{"$f":"'Course 5 Class'!$T$25","v":{"v":0,"d":"0%"}},{"$f":"'Course 5 Class'!$U$25","v":{"v":0.25,"d":"25%"}},{"$f":"'Course 5 Class'!$V$25","v":"F"}]
[{"$f":"'Student 1'!$A$59","v":"Course 5 Brake Systems. Lab"}]
[{"$f":"'Student 1'!$A$60","v":"  Max Shop Points:"},null,{"$f":"'Student 1'!$C$60","v":970},{"$f":"'Student 1'!$D$60","v":"Drum"},{"$f":"'Student 1'!$E$60","v":"Drum "},{"$f":"'Student 1'!$F$60","v":"Disc"},{"$f":"'Student 1'!$G$60","v":"On Car"},{"$f":"'Student 1'!$H$60","v":"Off Car"},{"$f":"'Student 1'!$I$60","v":"Wheel"},{"$f":"'Student 1'!$J$60","v":"Hydr."},{"$f":"'Student 1'!$K$60","v":"Vacuum"},{"$f":"'Student 1'!$L$60","v":"Warning"},{"$f":"'Student 1'!$M$60","v":"Brake"},{"$f":"'Student 1'!$N$60","v":"Brake"},{"$f":"'Student 1'!$O$60","v":"Dodge"},{"$f":"'Student 1'!$P$60","v":"Ford"},{"$f":"'Student 1'!$Q$60","v":"GM"},{"$f":"'Student 1'!$R$60","v":"Cus"},{"$f":"'Student 1'!$S$60","v":"Brake"}]
[{"$f":"'Student 1'!$A$61","v":"Max shop points available depend on how much customer work is done."},null,null,{"$f":"'Student 1'!$D$61","v":"Brake"},{"$f":"'Student 1'!$E$61","v":"Brake "},{"$f":"'Student 1'!$F$61","v":"Brake"},{"$f":"'Student 1'!$G$61","v":"Disc"},{"$f":"'Student 1'!$H$61","v":"Disc"},{"$f":"'Student 1'!$I$61","v":"Bearing"},{"$f":"'Student 1'!$J$61","v":"Line"},{"$f":"'Student 1'!$K$61","v":"Booster"},{"$f":"'Student 1'!$L$61","v":"Light"},{"$f":"'Student 1'!$M$61","v":"System"},{"$f":"'Student 1'!$N$61","v":"Valves"},{"$f":"'Student 1'!$O$61","v":"Anti"},{"$f":"'Student 1'!$P$61","v":"Anti"},{"$f":"'Student 1'!$Q$61","v":"Anti"},{"$f":"'Student 1'!$R$61","v":"tomer"},{"$f":"'Student 1'!$S$61","v":"Comp"}]
[{"$nulls":3},{"$f":"'Student 1'!$D$62","v":"Job"},{"$f":"'Student 1'!$E$62","v":"Mach."},{"$f":"'Student 1'!$F$62","v":"Job"},{"$f":"'Student 1'!$G$62","v":"Mach."},{"$f":"'Student 1'!$H$62","v":"Mach."},{"$f":"'Student 1'!$I$62","v":"Service"},{"$f":"'Student 1'!$J$62","v":"Repair"},{"$f":"'Student 1'!$K$62","v":"Service"},{"$f":"'Student 1'!$L$62","v":"Service"},{"$f":"'Student 1'!$M$62","v":"Bleed"},{"$f":"'Student 1'!$N$62","v":"Check"},{"$f":"'Student 1'!$O$62","v":"Lock"},{"$f":"'Student 1'!$P$62","v":"Lock"},{"$f":"'Student 1'!$Q$62","v":"Lock"},{"$f":"'Student 1'!$R$62","v":"Work"},{"$f":"'Student 1'!$S$62","v":"etency"}]
[{"$nulls":3},{"$f":"'Student 1'!$D$63","v":2},{"$f":"'Student 1'!$E$63","v":2},{"$f":"'Student 1'!$F$63","v":2},{"$f":"'Student 1'!$G$63","v":2},{"$f":"'Student 1'!$H$63","v":2},{"$f":"'Student 1'!$I$63","v":1},{"$f":"'Student 1'!$J$63","v":1},{"$f":"'Student 1'!$K$63","v":2},{"$f":"'Student 1'!$L$63","v":2},{"$f":"'Student 1'!$M$63","v":4},{"$f":"'Student 1'!$N$63","v":1},{"$f":"'Student 1'!$O$63","v":1},{"$f":"'Student 1'!$P$63","v":1},{"$f":"'Student 1'!$Q$63","v":1},{"$f":"'Student 1'!$R$63","v":" "},{"$f":"'Student 1'!$S$63","v":"Required"},{"$f":"'Student 1'!$T$63","v":"Lab"}]
[{"$f":"'Student 1'!$A$64","v":"ID"},{"$f":"'Student 1'!$B$64","v":"First:"},{"$f":"'Student 1'!$C$64","v":"Last:"},{"$f":"'Student 1'!$D$64","v":150},{"$f":"'Student 1'!$E$64","v":40},{"$f":"'Student 1'!$F$64","v":150},{"$f":"'Student 1'!$G$64","v":80},{"$f":"'Student 1'!$H$64","v":40},{"$f":"'Student 1'!$I$64","v":50},{"$f":"'Student 1'!$J$64","v":30},{"$f":"'Student 1'!$K$64","v":30},{"$f":"'Student 1'!$L$64","v":40},{"$f":"'Student 1'!$M$64","v":80},{"$f":"'Student 1'!$N$64","v":40},{"$f":"'Student 1'!$O$64","v":80},{"$f":"'Student 1'!$P$64","v":80},{"$f":"'Student 1'!$Q$64","v":80},{"$f":"'Student 1'!$R$64","v":300},{"$f":"'Student 1'!$S$64","v":"*"},{"$f":"'Student 1'!$T$64","v":"Points"},{"$f":"'Student 1'!$U$64","v":"%"}]
[{"$f":"'Course 5 Lab'!$A$26","v":{"v":20,"d":"00000020"}},{"$f":"'Course 5 Lab'!$B$26","v":"Student"},{"$f":"'Course 5 Lab'!$C$26","v":"Twenty"},{"$f":"'Course 5 Lab'!$D$26","v":0},{"$f":"'Course 5 Lab'!$E$26","v":0},{"$f":"'Course 5 Lab'!$F$26","v":0},{"$f":"'Course 5 Lab'!$G$26","v":0},{"$f":"'Course 5 Lab'!$H$26","v":0},{"$f":"'Course 5 Lab'!$I$26","v":0},{"$f":"'Course 5 Lab'!$J$26","v":0},{"$f":"'Course 5 Lab'!$K$26","v":0},{"$f":"'Course 5 Lab'!$L$26","v":0},{"$f":"'Course 5 Lab'!$M$26","v":0},{"$f":"'Course 5 Lab'!$N$26","v":0},{"$f":"'Course 5 Lab'!$O$26","v":0},{"$f":"'Course 5 Lab'!$P$26","v":0},{"$f":"'Course 5 Lab'!$Q$26","v":0},{"$f":"'Course 5 Lab'!$R$26","v":0},{"$f":"'Course 5 Lab'!$S$26","v":1},{"$f":"'Course 5 Lab'!$T$26","v":0},{"$f":"'Course 5 Lab'!$U$26","v":{"v":0,"d":"0%"}}]

{"sheet":"Student 21","index":34,"n_rows":65,"n_cols":23,"rows_kept":65,"merged":[[0,0,0,2],[1,0,1,2],[2,0,2,1],[2,9,2,17],[3,0,3,1],[3,9,3,10],[3,11,3,13],[3,14,3,15],[6,0,6,2],[7,0,7,1],[8,0,10,2],[10,16,10,17],[13,0,13,2],[14,1,14,2],[15,0,15,1],[15,11,15,19],[16,0,16,1],[16,11,16,12],[16,13,16,15],[16,16,16,17],[19,0,19,2],[20,0,20,1],[21,0,23,2],[23,13,23,14],[26,0,26,2],[27,1,27,2],[28,0,28,1],[28,14,28,22],[29,0,29,1],[29,14,29,15],[29,16,29,18],[29,19,29,20],[32,0,32,2],[33,0,33,1],[34,0,36,2],[35,20,35,21],[36,16,36,17],[39,0,39,2],[40,1,40,2],[41,0,41,1],[41,10,41,18],[42,0,42,1],[42,10,42,11],[42,12,42,14],[42,15,42,16],[45,0,45,2],[46,0,46,1],[47,0,49,2],[49,7,49,8],[52,0,52,2],[53,0,53,2],[54,0,54,1],[54,13,54,21],[55,0,55,1],[55,13,55,14],[55,15,55,17],[55,18,55,19],[58,0,58,2],[59,0,59,1],[60,0,62,2],[62,19,62,20]]}
[{"$f":"'Student 1'!$A$1","v":"Course 1 Engine Diagnosis. Class"},{"$nulls":6},{"$f":"'Student 1'!$H$1","v":25}]
[{"$f":"'Student 1'!$A$2","v":"Date assignment is due"},null,{"$f":"'Student 1'!$C$2","v":" "},{"$f":"'Student 1'!$D$2","v":"TBD"},{"$f":"'Student 1'!$E$2","v":"TBD"},{"$f":"'Student 1'!$F$2","v":"TBD"},{"$f":"'Student 1'!$G$2","v":"TBD"},{"$f":"'Student 1'!$H$2","v":"TBD"},{"$f":"'Student 1'!$I$2","v":"TBD"}]
[{"$f":"'Student 1'!$A$3","v":"Class Room Points:"},null,{"$f":"'Student 1'!$C$3","v":160},{"$f":"'Student 1'!$D$3","v":20},{"$f":"'Student 1'!$E$3","v":20},{"$f":"'Student 1'!$F$3","v":20},{"$f":"'Student 1'!$G$3","v":25},{"$f":"'Student 1'!$H$3","v":" "},{"$f":"'Student 1'!$I$3","v":75},{"$f":"'Student 1'!$J$3","v":"Evaluation"}]
[{"$f":"'Student 1'!$A$4","v":"Red is late turn-in"},null,{"$f":"'Student 1'!$C$4","v":"Blue is absent"},{"$f":"'Student 1'!$D$4","v":"CH 13 "},{"$f":"'Student 1'!$E$4","v":"Lube"},{"$f":"'Student 1'!$F$4","v":"Lube"},{"$f":"'Student 1'!$G$4","v":"Condition"},{"$f":"'Student 1'!$H$4","v":"Extra"},{"$f":"'Student 1'!$I$4","v":"Final"},{"$f":"'Student 1'!$J$4","v":"Classroom"},null,{"$f":"'Student 1'!$L$4","v":"Professionalism"},null,null,{"$f":"'Student 1'!$O$4","v":"Lab"},null,{"$f":"'Student 1'!$Q$4","v":"Total  "},{"$f":"'Student 1'!$R$4","v":"Letter"}]
[{"$f":"'Student 1'!$A$5","v":"I D "},{"$f":"'Student 1'!$B$5","v":"First:"},{"$f":"'Student 1'!$C$5","v":"Last:"},{"$f":"'Student 1'!$D$5","v":"Test"},{"$f":"'Student 1'!$E$5","v":"HW"},{"$f":"'Student 1'!$F$5","v":"Test"},{"$f":"'Student 1'!$G$5","v":"Class"},{"$f":"'Student 1'!$H$5","v":"Credit"},{"$f":"'Student 1'!$I$5","v":"Test"},{"$f":"'Student 1'!$J$5","v":"Points"},{"$f":"'Student 1'!$K$5","v":"%"},{"$f":"'Student 1'!$L$5","v":"Attendance"},{"$f":"'Student 1'!$M$5","v":"Points"},{"$f":"'Student 1'!$N$5","v":"%"},{"$f":"'Student 1'!$O$5","v":"Points"},{"$f":"'Student 1'!$P$5","v":"%"},{"$f":"'Student 1'!$Q$5","v":"%"},{"$f":"'Student 1'!$R$5","v":"Grade"}]
[{"$f":"'Course 1 Class'!$A$26","v":{"v":21,"d":"00000021"}},{"$f":"'Course 1 Class'!$B$26","v":"Student"},{"$f":"'Course 1 Class'!$C$26","v":"Twenty one"},{"$f":"'Course 1 Class'!$D$26","v":0},{"$f":"'Course 1 Class'!$E$26","v":0},{"$f":"'Course 1 Class'!$F$26","v":0},{"$f":"'Course 1 Class'!$G$26","v":0},{"$f":"'Course 1 Class'!$H$26","v":0},{"$f":"'Course 1 Class'!$I$26","v":0},{"$f":"'Course 1 Class'!$J$26","v":0},{"$f":"'Course 1 Class'!$K$26","v":{"v":0,"d":"0%"}},{"$f":"'Course 1 Class'!$L$26","v":{"v":1,"d":"100%"}},{"$f":"'Course 1 Class'!$M$26","v":72},{"$f":"'Course 1 Class'!$N$26","v":{"v":1,"d":"100%"}},{"$f":"'Course 1 Class'!$O$26","v":0},{"$f":"'Course 1 Class'!$P$26","v":{"v":0,"d":"0%"}},{"$f":"'Course 1 Class'!$Q$26","v":{"v":0.25,"d":"25%"}},{"$f":"'Course 1 Class'!$R$26","v":"F"}]
[{"$f":"'Student 1'!$A$7","v":"Course 1 Engine Diagnosis. Lab"}]
[{"$f":"'Student 1'!$A$8","v":"  Max Shop Points:"},null,{"$f":"'Student 1'!$C$8","v":1325},{"$f":"'Student 1'!$D$8","v":"Dry"},{"$f":"'Student 1'!$E$8","v":"Wet"},{"$f":"'Student 1'!$F$8","v":"Running"},{"$f":"'Student 1'!$G$8","v":"Cylinder"},{"$f":"'Student 1'!$H$8","v":"Oil"},{"$f":"'Student 1'!$I$8","v":"Cooling"},{"$f":"'Student 1'!$J$8","v":"Vacuum"},{"$f":"'Student 1'!$K$8","v":"PCV"},{"$f":"'Student 1'!$L$8","v":"Thermostat"},{"$f":"'Student 1'!$M$8","v":"Fluid"},{"$f":"'Student 1'!$N$8","v":"Diag"},{"$f":"'Student 1'!$O$8","v":" "}]
[{"$f":"'Student 1'!$A$9","v":"Max shop points available depend on how much customer work is done."},null,null,{"$f":"'Student 1'!$D$9","v":"Compr"},{"$f":"'Student 1'!$E$9","v":"Compr"},{"$f":"'Student 1'!$F$9","v":"Compr"},{"$f":"'Student 1'!$G$9","v":"Leakage"},{"$f":"'Student 1'!$H$9","v":"Pressure"},{"$f":"'Student 1'!$I$9","v":"System"},{"$f":"'Student 1'!$J$9","v":"Gauge"},{"$f":"'Student 1'!$K$9","v":"System"},{"$f":"'Student 1'!$L$9","v":"and fan"},{"$f":"'Student 1'!$M$9","v":"Leak"},{"$f":"'Student 1'!$N$9","v":"gauges"},{"$f":"'Student 1'!$O$9","v":"Cus"},{"$f":"'Student 1'!$P$9","v":"Comp"}]
[{"$nulls":3},{"$f":"'Student 1'!$D$10","v":"Test"},{"$f":"'Student 1'!$E$10","v":"Test"},{"$f":"'Student 1'!$F$10","v":"Test"},{"$f":"'Student 1'!$G$10","v":"Test"},{"$f":"'Student 1'!$H$10","v":"Test"},{"$f":"'Student 1'!$I$10","v":"Test"},{"$f":"'Student 1'!$J$10","v":"Test"},{"$f":"'Student 1'!$K$10","v":"Check"},{"$f":"'Student 1'!$L$10","v":"Operation"},{"$f":"'Student 1'!$M$10","v":"Check"},{"$f":"'Student 1'!$N$10","v":"any vehicle"},{"$f":"'Student 1'!$O$10","v":"tomer"},{"$f":"'Student 1'!$P$10","v":"etency"},{"$f":"'Student 1'!$Q$10","v":"  "},{"$f":"'Student 1'!$R$10","v":" "}]
[{"$nulls":3},{"$f":"'Student 1'!$D$11","v":2},{"$f":"'Student 1'!$E$11","v":2},{"$f":"'Student 1'!$F$11","v":2},{"$f":"'Student 1'!$G$11","v":2},{"$f":"'Student 1'!$H$11","v":2},{"$f":"'Student 1'!$I$11","v":2},{"$f":"'Student 1'!$J$11","v":2},{"$f":"'Student 1'!$K$11","v":2},{"$f":"'Student 1'!$L$11","v":2},{"$f":"'Student 1'!$M$11","v":1},{"$f":"'Student 1'!$N$11","v":1},{"$f":"'Student 1'!$O$11","v":"Work"},{"$f":"'Student 1'!$P$11","v":"0 or 1"},{"$f":"'Student 1'!$Q$11","v":"Lab"}]
[{"$f":"'Student 1'!$A$12","v":"ID"},{"$f":"'Student 1'!$B$12","v":"First:"},{"$f":"'Student 1'!$C$12","v":"Last:"},{"$f":"'Student 1'!$D$12","v":100},{"$f":"'Student 1'!$E$12","v":100},{"$f":"'Student 1'!$F$12","v":100},{"$f":"'Student 1'!$G$12","v":100},{"$f":"'Student 1'!$H$12","v":100},{"$f":"'Student 1'!$I$12","v":150},{"$f":"'Student 1'!$J$12","v":100},{"$f":"'Student 1'!$K$12","v":50},{"$f":"'Student 1'!$L$12","v":100},{"$f":"'Student 1'!$M$12","v":25},{"$f":"'Student 1'!$N$12","v":100},{"$f":"'Student 1'!$O$12","v":300},{"$f":"'Student 1'!$P$12","v":"*"},{"$f":"'Student 1'!$Q$12","v":"Points"},{"$f":"'Student 1'!$R$12","v":"%"}]
[{"$f":"'Course 1 Lab'!$A$27","v":{"v":21,"d":"00000021"}},{"$f":"'Course 1 Lab'!$B$27","v":"Student"},{"$f":"'Course 1 Lab'!$C$27","v":"Twenty one"},{"$f":"'Course 1 Lab'!$D$27","v":0},{"$f":"'Course 1 Lab'!$E$27","v":0},{"$f":"'Course 1 Lab'!$F$27","v":0},{"$f":"'Course 1 Lab'!$G$27","v":0},{"$f":"'Course 1 Lab'!$H$27","v":0},{"$f":"'Course 1 Lab'!$I$27","v":0},{"$f":"'Course 1 Lab'!$J$27","v":0},{"$f":"'Course 1 Lab'!$K$27","v":0},{"$f":"'Course 1 Lab'!$L$27","v":0},{"$f":"'Course 1 Lab'!$M$27","v":0},{"$f":"'Course 1 Lab'!$N$27","v":0},{"$f":"'Course 1 Lab'!$O$27","v":0},{"$f":"'Course 1 Lab'!$P$27","v":1},{"$f":"'Course 1 Lab'!$Q$27","v":0},{"$f":"'Course 1 Lab'!$R$27","v":{"v":0,"d":"0%"}}]
[{"$f":"'Student 1'!$A$14","v":"Course 2 Engine Theory & Repair. Class"},{"$nulls":8},{"$f":"'Student 1'!$J$14","v":25}]
[{"$f":"'Student 1'!$A$15","v":" "},{"$f":"'Student 1'!$B$15","v":"Date assignment is due:"},null,{"$f":"'Student 1'!$D$15","v":"TBD"},{"$f":"'Student 1'!$E$15","v":"TBD"},{"$f":"'Student 1'!$F$15","v":"TBD"},{"$f":"'Student 1'!$G$15","v":"TBD"},{"$f":"'Student 1'!$H$15","v":"TBD"},{"$f":"'Student 1'!$I$15","v":"TBD"},{"$f":"'Student 1'!$J$15","v":"TBD"},{"$f":"'Student 1'!$K$15","v":"TBD"}]
[{"$f":"'Student 1'!$A$16","v":"Class Room Points:"},null,{"$f":"'Student 1'!$C$16","v":201},{"$f":"'Student 1'!$D$16","v":10},{"$f":"'Student 1'!$E$16","v":10},{"$f":"'Student 1'!$F$16","v":20},{"$f":"'Student 1'!$G$16","v":20},{"$f":"'Student 1'!$H$16","v":16},{"$f":"'Student 1'!$I$16","v":25},{"$f":"'Student 1'!$J$16","v":" "},{"$f":"'Student 1'!$K$16","v":100},{"$f":"'Student 1'!$L$16","v":"Evaluation"}]
[{"$f":"'Student 1'!$A$17","v":"Red is late turn-in"},null,{"$f":"'Student 1'!$C$17","v":"Blue is absent"},{"$f":"'Student 1'!$D$17","v":"HW"},{"$f":"'Student 1'!$E$17","v":"HW "},{"$f":"'Student 1'!$F$17","v":"Test"},{"$f":"'Student 1'!$G$17","v":"Test"},{"$f":"'Student 1'!$H$17","v":"HW"},{"$f":"'Student 1'!$I$17","v":"Test"},{"$f":"'Student 1'!$J$17","v":"Extra"},{"$f":"'Student 1'!$K$17","v":"Final "},{"$f":"'Student 1'!$L$17","v":"Class"},null,{"$f":"'Student 1'!$N$17","v":"Professionalism"},null,null,{"$f":"'Student 1'!$Q$17","v":"Lab"},null,{"$f":"'Student 1'!$S$17","v":"Total  "},{"$f":"'Student 1'!$T$17","v":"Letter"}]
[{"$f":"'Student 1'!$A$18","v":"I D "},{"$f":"'Student 1'!$B$18","v":"First:"},{"$f":"'Student 1'!$C$18","v":"Last:"},{"$f":"'Student 1'!$D$18","v":"CH 7"},{"$f":"'Student 1'!$E$18","v":"CH 14"},{"$f":"'Student 1'!$F$18","v":"C & L"},{"$f":"'Student 1'!$G$18","v":"CH 18"},{"$f":"'Student 1'!$H$18","v":"CH 22"},{"$f":"'Student 1'!$I$18","v":"CH 22"},{"$f":"'Student 1'!$J$18","v":"Credit"},{"$f":"'Student 1'!$K$18","v":"TEST"},{"$f":"'Student 1'!$L$18","v":"Points"},{"$f":"'Student 1'!$M$18","v":"%"},{"$f":"'Student 1'!$N$18","v":"Attendance"},{"$f":"'Student 1'!$O$18","v":"Points"},{"$f":"'Student 1'!$P$18","v":"%"},{"$f":"'Student 1'!$Q$18","v":"Points"},{"$f":"'Student 1'!$R$18","v":"%"},{"$f":"'Student 1'!$S$18","v":"%"},{"$f":"'Student 1'!$T$18","v":"Grade"}]
[{"$f":"'Course 2 Class'!$A$26","v":{"v":21,"d":"00000021"}},{"$f":"'Course 2 Class'!$B$26","v":"Student"},{"$f":"'Course 2 Class'!$C$26","v":"Twenty one"},{"$f":"'Course 2 Class'!$D$26","v":0},{"$f":"'Course 2 Class'!$E$26","v":0},{"$f":"'Course 2 Class'!$F$26","v":0},{"$f":"'Course 2 Class'!$G$26","v":0},{"$f":"'Course 2 Class'!$H$26","v":0},{"$f":"'Course 2 Class'!$I$26","v":0},{"$f":"'Course 2 Class'!$J$26","v":0},{"$f":"'Course 2 Class'!$K$26","v":0},{"$f":"'Course 2 Class'!$L$26","v":0},{"$f":"'Course 2 Class'!$M$26","v":{"v":0,"d":"0%"}},{"$f":"'Course 2 Class'!$N$26","v":{"v":1,"d":"100%"}},{"$f":"'Course 2 Class'!$O$26","v":72},{"$f":"'Course 2 Class'!$P$26","v":{"v":1,"d":"100%"}},{"$f":"'Course 2 Class'!$Q$26","v":0},{"$f":"'Course 2 Class'!$R$26","v":{"v":0,"d":"0%"}},{"$f":"'Course 2 Class'!$S$26","v":{"v":0.25,"d":"25%"}},{"$f":"'Course 2 Class'!$T$26","v":"F"}]
[{"$f":"'Student 1'!$A$20","v":"Course 2 Engine Theory & Repair. Lab"}]
[{"$f":"'Student 1'!$A$21","v":"  Max Shop Points:"},null,{"$f":"'Student 1'!$C$21","v":1450},{"$f":"'Student 1'!$D$21","v":"Engine"},{"$f":"'Student 1'!$E$21","v":"Cylinder"},{"$f":"'Student 1'!$F$21","v":"Red"},{"$f":"'Student 1'!$G$21","v":"Mitsubishi"},{"$f":"'Student 1'!$H$21","v":"Any"},{"$f":"'Student 1'!$I$21","v":"DOHC"},{"$f":"'Student 1'!$J$21","v":"Valve seal"},{"$f":"'Student 1'!$K$21","v":"Misc."},{"$f":"'Student 1'!$L$21","v":" "}]
[{"$f":"'Student 1'!$A$22","v":"Max shop points available depend on how much customer work is done."},null,null,{"$f":"'Student 1'!$D$22","v":"Disassemble"},{"$f":"'Student 1'!$E$22","v":"Head"},{"$f":"'Student 1'!$F$22","v":"Dodge"},{"$f":"'Student 1'!$G$22","v":"\"3.0L\""},{"$f":"'Student 1'!$H$22","v":"Engine"},{"$f":"'Student 1'!$I$22","v":"Engine"},{"$f":"'Student 1'!$J$22","v":"&"},{"$f":"'Student 1'!$K$22","v":"Engine "},{"$f":"'Student 1'!$L$22","v":"Cus"},{"$f":"'Student 1'!$M$22","v":"Comp"}]
[{"$nulls":3},{"$f":"'Student 1'!$D$23","v":"& Measure"},{"$f":"'Student 1'!$E$23","v":"Repair"},{"$f":"'Student 1'!$F$23","v":"Clip"},{"$f":"'Student 1'!$G$23","v":"Clip"},{"$f":"'Student 1'!$H$23","v":"T-chain"},{"$f":"'Student 1'!$I$23","v":" Stand"},{"$f":"'Student 1'!$J$23","v":"Lobe lift"},{"$f":"'Student 1'!$K$23","v":"Points"},{"$f":"'Student 1'!$L$23","v":"tomer"},{"$f":"'Student 1'!$M$23","v":"etency"},{"$f":"'Student 1'!$N$23","v":" "},{"$f":"'Student 1'!$O$23","v":" "}]
[{"$nulls":3},{"$f":"'Student 1'!$D$24","v":1},{"$f":"'Student 1'!$E$24","v":1},{"$f":"'Student 1'!$F$24","v":1},{"$f":"'Student 1'!$G$24","v":1},{"$f":"'Student 1'!$H$24","v":1},{"$f":"'Student 1'!$I$24","v":1},{"$f":"'Student 1'!$J$24","v":1},null,{"$f":"'Student 1'!$L$24","v":"Work"},{"$f":"'Student 1'!$M$24","v":"0 or 1"},{"$f":"'Student 1'!$N$24","v":"Lab"}]
[{"$f":"'Student 1'!$A$25","v":"ID"},{"$f":"'Student 1'!$B$25","v":"First:"},{"$f":"'Student 1'!$C$25","v":"Last:"},{"$f":"'Student 1'!$D$25","v":300},{"$f":"'Student 1'!$E$25","v":200},{"$f":"'Student 1'!$F$25","v":100},{"$f":"'Student 1'!$G$25","v":100},{"$f":"'Student 1'!$H$25","v":100},{"$f":"'Student 1'!$I$25","v":100},{"$f":"'Student 1'!$J$25","v":50},{"$f":"'Student 1'!$K$25","v":200},{"$f":"'Student 1'!$L$25","v":300},{"$f":"'Student 1'!$M$25","v":"*"},{"$f":"'Student 1'!$N$25","v":"Points"},{"$f":"'Student 1'!$O$25","v":"%"}]
[{"$f":"'Course 2 Lab'!$A$27","v":{"v":21,"d":"00000021"}},{"$f":"'Course 2 Lab'!$B$27","v":"Student"},{"$f":"'Course 2 Lab'!$C$27","v":"Twenty one"},{"$f":"'Course 2 Lab'!$D$27","v":0},{"$f":"'Course 2 Lab'!$E$27","v":0},{"$f":"'Course 2 Lab'!$F$27","v":0},{"$f":"'Course 2 Lab'!$G$27","v":0},{"$f":"'Course 2 Lab'!$H$27","v":0},{"$f":"'Course 2 Lab'!$I$27","v":0},{"$f":"'Course 2 Lab'!$J$27","v":0},{"$f":"'Course 2 Lab'!$K$27","v":0},{"$f":"'Course 2 Lab'!$L$27","v":0},{"$f":"'Course 2 Lab'!$M$27","v":1},{"$f":"'Course 2 Lab'!$N$27","v":0},{"$f":"'Course 2 Lab'!$O$27","v":{"v":0,"d":"0%"}}]
[{"$f":"'Student 1'!$A$27","v":"Course 3 Steering & Suspension. Class."},{"$nulls":11},{"$f":"'Student 1'!$M$27","v":25}]
[{"$f":"'Student 1'!$A$28","v":" "},{"$f":"'Student 1'!$B$28","v":"Date assignment is due:"},null,{"$f":"'Student 1'!$D$28","v":"1/18"},{"$f":"'Student 1'!$E$28","v":"2/2"},{"$f":"'Student 1'!$F$28","v":"TBD"},{"$f":"'Student 1'!$G$28","v":"TBD"},{"$f":"'Student 1'!$H$28","v":"TBD"},{"$f":"'Student 1'!$I$28","v":"TBD"},{"$f":"'Student 1'!$J$28","v":"TBD"},{"$f":"'Student 1'!$K$28","v":"TBD"},{"$f":"'Student 1'!$L$28","v":"TBD"},{"$f":"'Student 1'!$M$28","v":"TBD"},{"$f":"'Student 1'!$N$28","v":"TBD"}]
[{"$f":"'Student 1'!$A$29","v":"Class Room Points:"},null,{"$f":"'Student 1'!$C$29","v":330},{"$f":"'Student 1'!$D$29","v":20},{"$f":"'Student 1'!$E$29","v":20},{"$f":"'Student 1'!$F$29","v":24},{"$f":"'Student 1'!$G$29","v":20},{"$f":"'Student 1'!$H$29","v":25},{"$f":"'Student 1'!$I$29","v":30},{"$f":"'Student 1'!$J$29","v":20},{"$f":"'Student 1'!$K$29","v":26},{"$f":"'Student 1'!$L$29","v":45},{"$f":"'Student 1'!$M$29","v":" "},{"$f":"'Student 1'!$N$29","v":100},{"$f":"'Student 1'!$O$29","v":"Evaluation"}]
[{"$f":"'Student 1'!$A$30","v":"Red is late turn-in"},null,{"$f":"'Student 1'!$C$30","v":"Blue is absent"},{"$f":"'Student 1'!$D$30","v":"HW"},{"$f":"'Student 1'!$E$30","v":"HW"},{"$f":"'Student 1'!$F$30","v":"HW"},{"$f":"'Student 1'!$G$30","v":"QZ"},{"$f":"'Student 1'!$H$30","v":"HW"},{"$f":"'Student 1'!$I$30","v":"HW"},{"$f":"'Student 1'!$J$30","v":"Test"},{"$f":"'Student 1'!$K$30","v":"HW"},{"$f":"'Student 1'!$L$30","v":"Class"},{"$f":"'Student 1'!$M$30","v":"Extra"},{"$f":"'Student 1'!$N$30","v":"Final"},{"$f":"'Student 1'!$O$30","v":"Class"},null,{"$f":"'Student 1'!$Q$30","v":"Professionalism"},null,null,{"$f":"'Student 1'!$T$30","v":"Lab"},null,{"$f":"'Student 1'!$V$30","v":"Total  "},{"$f":"'Student 1'!$W$30","v":"Letter"}]
[{"$f":"'Student 1'!$A$31","v":"I D "},{"$f":"'Student 1'!$B$31","v":"First:"},{"$f":"'Student 1'!$C$31","v":"Last:"},{"$f":"'Student 1'!$D$31","v":"CH 1"},{"$f":"'Student 1'!$E$31","v":"CH 2"},{"$f":"'Student 1'!$F$31","v":"CH 3"},{"$f":"'Student 1'!$G$31","v":"1"},{"$f":"'Student 1'!$H$31","v":"CH 6"},{"$f":"'Student 1'!$I$31","v":"CH 9"},{"$f":"'Student 1'!$J$31","v":"1 – 9"},{"$f":"'Student 1'!$K$31","v":"CH 12"},{"$f":"'Student 1'!$L$31","v":"Project"},{"$f":"'Student 1'!$M$31","v":"Credit"},{"$f":"'Student 1'!$N$31","v":"TEST"},{"$f":"'Student 1'!$O$31","v":"Points"},{"$f":"'Student 1'!$P$31","v":"%"},{"$f":"'Student 1'!$Q$31","v":"Attendance"},{"$f":"'Student 1'!$R$31","v":"Points"},{"$f":"'Student 1'!$S$31","v":"%"},{"$f":"'Student 1'!$T$31","v":"Points"},{"$f":"'Student 1'!$U$31","v":"%"},{"$f":"'Student 1'!$V$31","v":"%"},{"$f":"'Student 1'!$W$31","v":"Grade"}]
[{"$f":"'Course 3 Class'!$A$26","v":{"v":21,"d":"00000021"}},{"$f":"'Course 3 Class'!$B$26","v":"Student"},{"$f":"'Course 3 Class'!$C$26","v":"Twenty one"},{"$f":"'Course 3 Class'!$D$26","v":0},{"$f":"'Course 3 Class'!$E$26","v":0},{"$f":"'Course 3 Class'!$F$26","v":0},{"$f":"'Course 3 Class'!$G$26","v":0},{"$f":"'Course 3 Class'!$H$26","v":0},{"$f":"'Course 3 Class'!$I$26","v":0},{"$f":"'Course 3 Class'!$J$26","v":0},{"$f":"'Course 3 Class'!$K$26","v":0},{"$f":"'Course 3 Class'!$L$26","v":0},{"$f":"'Course 3 Class'!$M$26","v":0},{"$f":"'Course 3 Class'!$N$26","v":0},{"$f":"'Course 3 Class'!$O$26","v":0},{"$f":"'Course 3 Class'!$P$26","v":{"v":0,"d":"0%"}},{"$f":"'Course 3 Class'!$Q$26","v":{"v":1,"d":"100%"}},{"$f":"'Course 3 Class'!$R$26","v":72},{"$f":"'Course 3 Class'!$S$26","v":{"v":1,"d":"100%"}},{"$f":"'Course 3 Class'!$T$26","v":0},{"$f":"'Course 3 Class'!$U$26","v":{"v":0,"d":"0%"}},{"$f":"'Course 3 Class'!$V$26","v":{"v":0.25,"d":"25%"}},{"$f":"'Course 3 Class'!$W$26","v":"F"}]
[{"$f":"'Student 1'!$A$33","v":"Course 3 Steering & Suspension. Lab"}]
[{"$f":"'Student 1'!$A$34","v":"Max shop points"},null,{"$f":"'Student 1'!$C$34","v":1350},{"$f":"'Student 1'!$D$34","v":"Repair"},{"$f":"'Student 1'!$E$34","v":"Identify"},{"$f":"'Student 1'!$F$34","v":"Repair"},{"$f":"'Student 1'!$G$34","v":"Identify"},{"$f":"'Student 1'!$H$34","v":"Repair"},{"$f":"'Student 1'!$I$34","v":"R&R"},{"$f":"'Student 1'!$J$34","v":"R&R"},{"$f":"'Student 1'!$K$34","v":"R&R"},{"$f":"'Student 1'!$L$34","v":"P/S"},{"$f":"'Student 1'!$M$34","v":"R&R"},{"$f":"'Student 1'!$N$34","v":"NVH"},{"$f":"'Student 1'!$O$34","v":" "}]
[{"$f":"'Student 1'!$A$35","v":"Max shop points available depend on how much customer work is done."},null,null,{"$f":"'Student 1'!$D$35","v":"SLA"},{"$f":"'Student 1'!$E$35","v":"SLA"},{"$f":"'Student 1'!$F$35","v":"Mac-P"},{"$f":"'Student 1'!$G$35","v":"Mac-P"},{"$f":"'Student 1'!$H$35","v":"Rear"},{"$f":"'Student 1'!$I$35","v":"Rack &"},{"$f":"'Student 1'!$J$35","v":"Recirc."},{"$f":"'Student 1'!$K$35","v":"P/S"},{"$f":"'Student 1'!$L$35","v":"Pump"},{"$f":"'Student 1'!$M$35","v":"Inner"},{"$f":"'Student 1'!$N$35","v":"Runout &"},{"$f":"'Student 1'!$O$35","v":"Cus"},{"$f":"'Student 1'!$P$35","v":"Comp"}]
[{"$nulls":3},{"$f":"'Student 1'!$D$36","v":"Susp"},{"$f":"'Student 1'!$E$36","v":"Parts"},{"$f":"'Student 1'!$F$36","v":"Susp"},{"$f":"'Student 1'!$G$36","v":"Parts"},{"$f":"'Student 1'!$H$36","v":"Susp"},{"$f":"'Student 1'!$I$36","v":"Pinion"},{"$f":"'Student 1'!$J$36","v":"Gear"},{"$f":"'Student 1'!$K$36","v":"Pump"},{"$f":"'Student 1'!$L$36","v":"Test"},{"$f":"'Student 1'!$M$36","v":"Tie-Rod"},{"$f":"'Student 1'!$N$36","v":"bal. Check"},{"$f":"'Student 1'!$O$36","v":"tomer"},{"$f":"'Student 1'!$P$36","v":"etency"},{"$f":"'Student 1'!$Q$36","v":" "},{"$f":"'Student 1'!$R$36","v":" "},null,null,{"$f":"'Student 1'!$U$36","v":"Final Grade"}]
[{"$nulls":3},{"$f":"'Student 1'!$D$37","v":1},{"$f":"'Student 1'!$E$37","v":2},{"$f":"'Student 1'!$F$37","v":3},{"$f":"'Student 1'!$G$37","v":2},{"$f":"'Student 1'!$H$37","v":1},{"$f":"'Student 1'!$I$37","v":1},{"$f":"'Student 1'!$J$37","v":1},{"$f":"'Student 1'!$K$37","v":1},{"$f":"'Student 1'!$L$37","v":1},{"$f":"'Student 1'!$M$37","v":1},{"$f":"'Student 1'!$N$37","v":1},{"$f":"'Student 1'!$O$37","v":"Work"},{"$f":"'Student 1'!$P$37","v":"0 or 1"},{"$f":"'Student 1'!$Q$37","v":"Lab"},{"$nulls":3},{"$f":"'Student 1'!$U$37","v":{"v":0,"d":"0%"}},{"$f":"'Student 1'!$V$37","v":"F"}]
[{"$f":"'Student 1'!$A$38","v":"ID"},{"$f":"'Student 1'!$B$38","v":"First:"},{"$f":"'Student 1'!$C$38","v":"Last:"},{"$f":"'Student 1'!$D$38","v":150},{"$f":"'Student 1'!$E$38","v":50},{"$f":"'Student 1'!$F$38","v":225},{"$f":"'Student 1'!$G$38","v":50},{"$f":"'Student 1'!$H$38","v":50},{"$f":"'Student 1'!$I$38","v":150},{"$f":"'Student 1'!$J$38","v":125},{"$f":"'Student 1'!$K$38","v":50},{"$f":"'Student 1'!$L$38","v":50},{"$f":"'Student 1'!$M$38","v":50},{"$f":"'Student 1'!$N$38","v":100},{"$f":"'Student 1'!$O$38","v":300},{"$f":"'Student 1'!$P$38","v":"*"},{"$f":"'Student 1'!$Q$38","v":"Points"},{"$f":"'Student 1'!$R$38","v":"%"},null,null,{"$f":"'Student 1'!$U$38","v":{"v":0.695,"d":"70%"}},{"$f":"'Student 1'!$V$38","v":"D-"}]
[{"$f":"'Course 3 Lab'!$A$27","v":{"v":21,"d":"00000021"}},{"$f":"'Course 3 Lab'!$B$27","v":"Student"},{"$f":"'Course 3 Lab'!$C$27","v":"Twenty one"},{"$f":"'Course 3 Lab'!$D$27","v":0},{"$f":"'Course 3 Lab'!$E$27","v":0},{"$f":"'Course 3 Lab'!$F$27","v":0},{"$f":"'Course 3 Lab'!$G$27","v":0},{"$f":"'Course 3 Lab'!$H$27","v":0},{"$f":"'Course 3 Lab'!$I$27","v":0},{"$f":"'Course 3 Lab'!$J$27","v":0},{"$f":"'Course 3 Lab'!$K$27","v":0},{"$f":"'Course 3 Lab'!$L$27","v":0},{"$f":"'Course 3 Lab'!$M$27","v":0},{"$f":"'Course 3 Lab'!$N$27","v":0},{"$f":"'Course 3 Lab'!$O$27","v":0},{"$f":"'Course 3 Lab'!$P$27","v":1},{"$f":"'Course 3 Lab'!$Q$27","v":0},{"$f":"'Course 3 Lab'!$R$27","v":{"v":0,"d":"0%"}},null,null,{"$f":"'Student 1'!$U$39","v":{"v":0.715,"d":"72%"}},{"$f":"'Student 1'!$V$39","v":"D"}]
[{"$f":"'Student 1'!$A$40","v":"Course 4 Alignment. Class."},{"$nulls":7},{"$f":"'Student 1'!$I$40","v":25},{"$nulls":11},{"$f":"'Student 1'!$U$40","v":{"v":0.735,"d":"74%"}},{"$f":"'Student 1'!$V$40","v":"D+"}]
[{"$f":"'Student 1'!$A$41","v":" "},{"$f":"'Student 1'!$B$41","v":"Date assignment is due  "},null,{"$f":"'Student 1'!$D$41","v":"TBD"},{"$f":"'Student 1'!$E$41","v":"TBD"},{"$f":"'Student 1'!$F$41","v":"TBD"},{"$f":"'Student 1'!$G$41","v":"TBD"},{"$f":"'Student 1'!$H$41","v":"TBD"},{"$f":"'Student 1'!$I$41","v":"TBD"},{"$f":"'Student 1'!$J$41","v":"TBD"},{"$nulls":10},{"$f":"'Student 1'!$U$41","v":{"v":0.755,"d":"76%"}},{"$f":"'Student 1'!$V$41","v":"C-"}]
[{"$f":"'Student 1'!$A$42","v":"Class Room Points:"},null,{"$f":"'Student 1'!$C$42","v":235},{"$f":"'Student 1'!$D$42","v":25},{"$f":"'Student 1'!$E$42","v":25},{"$f":"'Student 1'!$F$42","v":20},{"$f":"'Student 1'!$G$42","v":40},{"$f":"'Student 1'!$H$42","v":50},{"$f":"'Student 1'!$I$42","v":" "},{"$f":"'Student 1'!$J$42","v":75},{"$f":"'Student 1'!$K$42","v":"Evaluation"},{"$nulls":9},{"$f":"'Student 1'!$U$42","v":{"v":0.785,"d":"79%"}},{"$f":"'Student 1'!$V$42","v":"C"}]
[{"$f":"'Student 1'!$A$43","v":"Red is late turn-in"},null,{"$f":"'Student 1'!$C$43","v":"Blue is absent"},{"$f":"'Student 1'!$D$43","v":"CH 16"},{"$f":"'Student 1'!$E$43","v":"CH 16"},{"$f":"'Student 1'!$F$43","v":"Align"},{"$f":"'Student 1'!$G$43","v":"In class"},{"$f":"'Student 1'!$H$43","v":"In class"},{"$f":"'Student 1'!$I$43","v":"Extra"},{"$f":"'Student 1'!$J$43","v":"Final"},{"$f":"'Student 1'!$K$43","v":"Class"},null,{"$f":"'Student 1'!$M$43","v":"Professionalism"},null,null,{"$f":"'Student 1'!$P$43","v":"Lab"},null,{"$f":"'Student 1'!$R$43","v":"Total  "},{"$f":"'Student 1'!$S$43","v":"Letter"},null,{"$f":"'Student 1'!$U$43","v":{"v":0.815,"d":"82%"}},{"$f":"'Student 1'!$V$43","v":"C+"}]
[{"$f":"'Student 1'!$A$44","v":"I D "},{"$f":"'Student 1'!$B$44","v":"First:"},{"$f":"'Student 1'!$C$44","v":"Last:"},{"$f":"'Student 1'!$D$44","v":"HW"},{"$f":"'Student 1'!$E$44","v":"Test"},{"$f":"'Student 1'!$F$44","v":"HW"},{"$f":"'Student 1'!$G$44","v":"Project1"},{"$f":"'Student 1'!$H$44","v":"Project2"},{"$f":"'Student 1'!$I$44","v":"Credit"},{"$f":"'Student 1'!$J$44","v":"Test"},{"$f":"'Student 1'!$K$44","v":"Points"},{"$f":"'Student 1'!$L$44","v":"%"},{"$f":"'Student 1'!$M$44","v":"Attendance"},{"$f":"'Student 1'!$N$44","v":"Points"},{"$f":"'Student 1'!$O$44","v":"%"},{"$f":"'Student 1'!$P$44","v":"Points"},{"$f":"'Student 1'!$Q$44","v":"%"},{"$f":"'Student 1'!$R$44","v":"%"},{"$f":"'Student 1'!$S$44","v":"Grade"},null,{"$f":"'Student 1'!$U$44","v":{"v":0.845,"d":"85%"}},{"$f":"'Student 1'!$V$44","v":"B-"}]
[{"$f":"'Course 4 Class'!$A$26","v":{"v":21,"d":"00000021"}},{"$f":"'Course 4 Class'!$B$26","v":"Student"},{"$f":"'Course 4 Class'!$C$26","v":"Twenty one"},{"$f":"'Course 4 Class'!$D$26","v":0},{"$f":"'Course 4 Class'!$E$26","v":0},{"$f":"'Course 4 Class'!$F$26","v":0},{"$f":"'Course 4 Class'!$G$26","v":0},{"$f":"'Course 4 Class'!$H$26","v":0},{"$f":"'Course 4 Class'!$I$26","v":0},{"$f":"'Course 4 Class'!$J$26","v":0},{"$f":"'Course 4 Class'!$K$26","v":0},{"$f":"'Course 4 Class'!$L$26","v":{"v":0,"d":"0%"}},{"$f":"'Course 4 Class'!$M$26","v":{"v":1,"d":"100%"}},{"$f":"'Course 4 Class'!$N$26","v":72},{"$f":"'Course 4 Class'!$O$26","v":{"v":1,"d":"100%"}},{"$f":"'Course 4 Class'!$P$26","v":0},{"$f":"'Course 4 Class'!$Q$26","v":{"v":0,"d":"0%"}},{"$f":"'Course 4 Class'!$R$26","v":{"v":0.25,"d":"25%"}},{"$f":"'Course 4 Class'!$S$26","v":"F"},null,{"$f":"'Student 1'!$U$45","v":{"v":0.875,"d":"88%"}},{"$f":"'Student 1'!$V$45","v":"B"}]
[{"$f":"'Student 1'!$A$46","v":"Course 4 Alignment. Lab"},{"$nulls":19},{"$f":"'Student 1'!$U$46","v":{"v":0.895,"d":"90%"}},{"$f":"'Student 1'!$V$46","v":"B+"}]
[{"$f":"'Student 1'!$A$47","v":"Max Shop Points:"},null,{"$f":"'Student 1'!$C$47","v":1300},{"$f":"'Student 1'!$D$47","v":"Alignment"},{"$f":"'Student 1'!$E$47","v":"Complete"},{"$f":"'Student 1'!$F$47","v":"Cus"},{"$f":"'Student 1'!$G$47","v":" "},{"$nulls":13},{"$f":"'Student 1'!$U$47","v":{"v":0.925,"d":"93%"}},{"$f":"'Student 1'!$V$47","v":"A-"}]
[{"$f":"'Student 1'!$A$48","v":"Max shop points available depend on how much customer work is done."},null,null,{"$f":"'Student 1'!$D$48","v":"Pre-check"},{"$f":"'Student 1'!$E$48","v":"Wheel"},{"$f":"'Student 1'!$F$48","v":"tomer"},{"$f":"'Student 1'!$G$48","v":"Comp"},{"$nulls":13},{"$f":"'Student 1'!$U$48","v":{"v":0.945,"d":"95%"}},{"$f":"'Student 1'!$V$48","v":"A"}]
[{"$nulls":3},{"$f":"'Student 1'!$D$49","v":"100 P"},{"$f":"'Student 1'!$E$49","v":"Alignment"},{"$f":"'Student 1'!$F$49","v":"Work"},{"$f":"'Student 1'!$G$49","v":"etency"},{"$f":"'Student 1'!$H$49","v":" "},{"$f":"'Student 1'!$I$49","v":" "},{"$nulls":11},{"$f":"'Student 1'!$U$49","v":{"v":1,"d":"100%"}},{"$f":"'Student 1'!$V$49","v":"A"}]
[{"$nulls":3},{"$f":"'Student 1'!$D$50","v":1},{"$f":"'Student 1'!$E$50","v":1},{"$f":"'Student 1'!$F$50","v":" "},{"$f":"'Student 1'!$G$50","v":"0 or 1"},{"$f":"'Student 1'!$H$50","v":"Lab"}]
[{"$f":"'Student 1'!$A$51","v":"ID"},{"$f":"'Student 1'!$B$51","v":"First:"},{"$f":"'Student 1'!$C$51","v":"Last:"},{"$f":"'Student 1'!$D$51","v":100},{"$f":"'Student 1'!$E$51","v":900},{"$f":"'Student 1'!$F$51","v":300},{"$f":"'Student 1'!$G$51","v":"*"},{"$f":"'Student 1'!$H$51","v":"Points"},{"$f":"'Student 1'!$I$51","v":"%"}]
[{"$f":"'Course 4 Lab'!$A$27","v":{"v":21,"d":"00000021"}},{"$f":"'Course 4 Lab'!$B$27","v":"Student"},{"$f":"'Course 4 Lab'!$C$27","v":"Twenty one"},{"$f":"'Course 4 Lab'!$D$27","v":0},{"$f":"'Course 4 Lab'!$E$27","v":0},{"$f":"'Course 4 Lab'!$F$27","v":0},{"$f":"'Course 4 Lab'!$G$27","v":1},{"$f":"'Course 4 Lab'!$H$27","v":0},{"$f":"'Course 4 Lab'!$I$27","v":{"v":0,"d":"0%"}}]
[{"$f":"'Student 1'!$A$53","v":"Course 5 Brake Systems. Class."},{"$nulls":10},{"$f":"'Student 1'!$L$53","v":35}]
[{"$f":"'Student 1'!$A$54","v":"Date assignment is due:"},null,{"$f":"'Student 1'!$C$54","v":" "},{"$f":"'Student 1'!$D$54","v":"TBD"},{"$f":"'Student 1'!$E$54","v":"TBD"},{"$f":"'Student 1'!$F$54","v":"TBD"},{"$f":"'Student 1'!$G$54","v":"TBD"},{"$f":"'Student 1'!$H$54","v":"TBD"},{"$f":"'Student 1'!$I$54","v":"TBD"},{"$f":"'Student 1'!$J$54","v":"TBD"},{"$f":"'Student 1'!$K$54","v":"TBD"},{"$f":"'Student 1'!$L$54","v":"TBD"},{"$f":"'Student 1'!$M$54","v":"TBD"}]
[{"$f":"'Student 1'!$A$55","v":"Class Room Points:"},null,{"$f":"'Student 1'!$C$55","v":440},{"$f":"'Student 1'!$D$55","v":30},{"$f":"'Student 1'!$E$55","v":25},{"$f":"'Student 1'!$F$55","v":100},{"$f":"'Student 1'!$G$55","v":30},{"$f":"'Student 1'!$H$55","v":50},{"$f":"'Student 1'!$I$55","v":30},{"$f":"'Student 1'!$J$55","v":25},{"$f":"'Student 1'!$K$55","v":50},{"$f":"'Student 1'!$L$55","v":" "},{"$f":"'Student 1'!$M$55","v":100},{"$f":"'Student 1'!$N$55","v":"Evaluation"}]
[{"$f":"'Student 1'!$A$56","v":"Red is late turn-in"},null,{"$f":"'Student 1'!$C$56","v":"Blue is absent"},{"$f":"'Student 1'!$D$56","v":"HW"},{"$f":"'Student 1'!$E$56","v":"HW"},{"$f":"'Student 1'!$F$56","v":"Test"},{"$f":"'Student 1'!$G$56","v":"HW"},{"$f":"'Student 1'!$H$56","v":"Test"},{"$f":"'Student 1'!$I$56","v":"HW"},{"$f":"'Student 1'!$J$56","v":"Test"},{"$f":"'Student 1'!$K$56","v":"Class"},{"$f":"'Student 1'!$L$56","v":"Extra"},{"$f":"'Student 1'!$M$56","v":"Final"},{"$f":"'Student 1'!$N$56","v":"Class"},null,{"$f":"'Student 1'!$P$56","v":"Professionalism"},null,null,{"$f":"'Student 1'!$S$56","v":"Lab"},null,{"$f":"'Student 1'!$U$56","v":"Total  "},{"$f":"'Student 1'!$V$56","v":"Letter"}]
[{"$f":"'Student 1'!$A$57","v":"I D "},{"$f":"'Student 1'!$B$57","v":"First:"},{"$f":"'Student 1'!$C$57","v":"Last:"},{"$f":"'Student 1'!$D$57","v":"CH 4"},{"$f":"'Student 1'!$E$57","v":"CH 5"},{"$f":"'Student 1'!$F$57","v":"#1"},{"$f":"'Student 1'!$G$57","v":"CH 7"},{"$f":"'Student 1'!$H$57","v":"Conv"},{"$f":"'Student 1'!$I$57","v":"CH 20"},{"$f":"'Student 1'!$J$57","v":"21/22"},{"$f":"'Student 1'!$K$57","v":"Project"},{"$f":"'Student 1'!$L$57","v":"Credit"},{"$f":"'Student 1'!$M$57","v":"Test"},{"$f":"'Student 1'!$N$57","v":"Points"},{"$f":"'Student 1'!$O$57","v":"%"},{"$f":"'Student 1'!$P$57","v":"Attendance"},{"$f":"'Student 1'!$Q$57","v":"Points"},{"$f":"'Student 1'!$R$57","v":"%"},{"$f":"'Student 1'!$S$57","v":"Points"},{"$f":"'Student 1'!$T$57","v":"%"},{"$f":"'Student 1'!$U$57","v":"%"},{"$f":"'Student 1'!$V$57","v":"Grade"}]
[{"$f":"'Course 5 Class'!$A$26","v":{"v":21,"d":"00000021"}},{"$f":"'Course 5 Class'!$B$26","v":"Student"},{"$f":"'Course 5 Class'!$C$26","v":"Twenty one"},{"$f":"'Course 5 Class'!$D$26","v":0},{"$f":"'Course 5 Class'!$E$26","v":0},{"$f":"'Course 5 Class'!$F$26","v":0},{"$f":"'Course 5 Class'!$G$26","v":0},{"$f":"'Course 5 Class'!$H$26","v":0},{"$f":"'Course 5 Class'!$I$26","v":0},{"$f":"'Course 5 Class'!$J$26","v":0},{"$f":"'Course 5 Class'!$K$26","v":0},{"$f":"'Course 5 Class'!$L$26","v":0},{"$f":"'Course 5 Class'!$M$26","v":0},{"$f":"'Course 5 Class'!$N$26","v":0},{"$f":"'Course 5 Class'!$O$26","v":{"v":0,"d":"0%"}},{"$f":"'Course 5 Class'!$P$26","v":{"v":1,"d":"100%"}},{"$f":"'Course 5 Class'!$Q$26","v":72},{"$f":"'Course 5 Class'!$R$26","v":{"v":1,"d":"100%"}},{"$f":"'Course 5 Class'!$S$26","v":0},{"$f":"'Course 5 Class'!$T$26","v":{"v":0,"d":"0%"}},{"$f":"'Course 5 Class'!$U$26","v":{"v":0.25,"d":"25%"}},{"$f":"'Course 5 Class'!$V$26","v":"F"}]
[{"$f":"'Student 1'!$A$59","v":"Course 5 Brake Systems. Lab"}]
[{"$f":"'Student 1'!$A$60","v":"  Max Shop Points:"},null,{"$f":"'Student 1'!$C$60","v":970},{"$f":"'Student 1'!$D$60","v":"Drum"},{"$f":"'Student 1'!$E$60","v":"Drum "},{"$f":"'Student 1'!$F$60","v":"Disc"},{"$f":"'Student 1'!$G$60","v":"On Car"},{"$f":"'Student 1'!$H$60","v":"Off Car"},{"$f":"'Student 1'!$I$60","v":"Wheel"},{"$f":"'Student 1'!$J$60","v":"Hydr."},{"$f":"'Student 1'!$K$60","v":"Vacuum"},{"$f":"'Student 1'!$L$60","v":"Warning"},{"$f":"'Student 1'!$M$60","v":"Brake"},{"$f":"'Student 1'!$N$60","v":"Brake"},{"$f":"'Student 1'!$O$60","v":"Dodge"},{"$f":"'Student 1'!$P$60","v":"Ford"},{"$f":"'Student 1'!$Q$60","v":"GM"},{"$f":"'Student 1'!$R$60","v":"Cus"},{"$f":"'Student 1'!$S$60","v":"Brake"}]
[{"$f":"'Student 1'!$A$61","v":"Max shop points available depend on how much customer work is done."},null,null,{"$f":"'Student 1'!$D$61","v":"Brake"},{"$f":"'Student 1'!$E$61","v":"Brake "},{"$f":"'Student 1'!$F$61","v":"Brake"},{"$f":"'Student 1'!$G$61","v":"Disc"},{"$f":"'Student 1'!$H$61","v":"Disc"},{"$f":"'Student 1'!$I$61","v":"Bearing"},{"$f":"'Student 1'!$J$61","v":"Line"},{"$f":"'Student 1'!$K$61","v":"Booster"},{"$f":"'Student 1'!$L$61","v":"Light"},{"$f":"'Student 1'!$M$61","v":"System"},{"$f":"'Student 1'!$N$61","v":"Valves"},{"$f":"'Student 1'!$O$61","v":"Anti"},{"$f":"'Student 1'!$P$61","v":"Anti"},{"$f":"'Student 1'!$Q$61","v":"Anti"},{"$f":"'Student 1'!$R$61","v":"tomer"},{"$f":"'Student 1'!$S$61","v":"Comp"}]
[{"$nulls":3},{"$f":"'Student 1'!$D$62","v":"Job"},{"$f":"'Student 1'!$E$62","v":"Mach."},{"$f":"'Student 1'!$F$62","v":"Job"},{"$f":"'Student 1'!$G$62","v":"Mach."},{"$f":"'Student 1'!$H$62","v":"Mach."},{"$f":"'Student 1'!$I$62","v":"Service"},{"$f":"'Student 1'!$J$62","v":"Repair"},{"$f":"'Student 1'!$K$62","v":"Service"},{"$f":"'Student 1'!$L$62","v":"Service"},{"$f":"'Student 1'!$M$62","v":"Bleed"},{"$f":"'Student 1'!$N$62","v":"Check"},{"$f":"'Student 1'!$O$62","v":"Lock"},{"$f":"'Student 1'!$P$62","v":"Lock"},{"$f":"'Student 1'!$Q$62","v":"Lock"},{"$f":"'Student 1'!$R$62","v":"Work"},{"$f":"'Student 1'!$S$62","v":"etency"}]
[{"$nulls":3},{"$f":"'Student 1'!$D$63","v":2},{"$f":"'Student 1'!$E$63","v":2},{"$f":"'Student 1'!$F$63","v":2},{"$f":"'Student 1'!$G$63","v":2},{"$f":"'Student 1'!$H$63","v":2},{"$f":"'Student 1'!$I$63","v":1},{"$f":"'Student 1'!$J$63","v":1},{"$f":"'Student 1'!$K$63","v":2},{"$f":"'Student 1'!$L$63","v":2},{"$f":"'Student 1'!$M$63","v":4},{"$f":"'Student 1'!$N$63","v":1},{"$f":"'Student 1'!$O$63","v":1},{"$f":"'Student 1'!$P$63","v":1},{"$f":"'Student 1'!$Q$63","v":1},{"$f":"'Student 1'!$R$63","v":" "},{"$f":"'Student 1'!$S$63","v":"Required"},{"$f":"'Student 1'!$T$63","v":"Lab"}]
[{"$f":"'Student 1'!$A$64","v":"ID"},{"$f":"'Student 1'!$B$64","v":"First:"},{"$f":"'Student 1'!$C$64","v":"Last:"},{"$f":"'Student 1'!$D$64","v":150},{"$f":"'Student 1'!$E$64","v":40},{"$f":"'Student 1'!$F$64","v":150},{"$f":"'Student 1'!$G$64","v":80},{"$f":"'Student 1'!$H$64","v":40},{"$f":"'Student 1'!$I$64","v":50},{"$f":"'Student 1'!$J$64","v":30},{"$f":"'Student 1'!$K$64","v":30},{"$f":"'Student 1'!$L$64","v":40},{"$f":"'Student 1'!$M$64","v":80},{"$f":"'Student 1'!$N$64","v":40},{"$f":"'Student 1'!$O$64","v":80},{"$f":"'Student 1'!$P$64","v":80},{"$f":"'Student 1'!$Q$64","v":80},{"$f":"'Student 1'!$R$64","v":300},{"$f":"'Student 1'!$S$64","v":"*"},{"$f":"'Student 1'!$T$64","v":"Points"},{"$f":"'Student 1'!$U$64","v":"%"}]
[{"$f":"'Course 5 Lab'!$A$27","v":{"v":21,"d":"00000021"}},{"$f":"'Course 5 Lab'!$B$27","v":"Student"},{"$f":"'Course 5 Lab'!$C$27","v":"Twenty one"},{"$f":"'Course 5 Lab'!$D$27","v":0},{"$f":"'Course 5 Lab'!$E$27","v":0},{"$f":"'Course 5 Lab'!$F$27","v":0},{"$f":"'Course 5 Lab'!$G$27","v":0},{"$f":"'Course 5 Lab'!$H$27","v":0},{"$f":"'Course 5 Lab'!$I$27","v":0},{"$f":"'Course 5 Lab'!$J$27","v":0},{"$f":"'Course 5 Lab'!$K$27","v":0},{"$f":"'Course 5 Lab'!$L$27","v":0},{"$f":"'Course 5 Lab'!$M$27","v":0},{"$f":"'Course 5 Lab'!$N$27","v":0},{"$f":"'Course 5 Lab'!$O$27","v":0},{"$f":"'Course 5 Lab'!$P$27","v":0},{"$f":"'Course 5 Lab'!$Q$27","v":0},{"$f":"'Course 5 Lab'!$R$27","v":0},{"$f":"'Course 5 Lab'!$S$27","v":1},{"$f":"'Course 5 Lab'!$T$27","v":0},{"$f":"'Course 5 Lab'!$U$27","v":{"v":0,"d":"0%"}}]

{"sheet":"Student 22","index":35,"n_rows":65,"n_cols":23,"rows_kept":65,"merged":[[0,0,0,2],[1,0,1,2],[2,0,2,1],[2,9,2,17],[3,0,3,1],[3,9,3,10],[3,11,3,13],[3,14,3,15],[6,0,6,2],[7,0,7,1],[8,0,10,2],[10,16,10,17],[13,0,13,2],[14,1,14,2],[15,0,15,1],[15,11,15,19],[16,0,16,1],[16,11,16,12],[16,13,16,15],[16,16,16,17],[19,0,19,2],[20,0,20,1],[21,0,23,2],[23,13,23,14],[26,0,26,2],[27,1,27,2],[28,0,28,1],[28,14,28,22],[29,0,29,1],[29,14,29,15],[29,16,29,18],[29,19,29,20],[32,0,32,2],[33,0,33,1],[34,0,36,2],[35,20,35,21],[36,16,36,17],[39,0,39,2],[40,1,40,2],[41,0,41,1],[41,10,41,18],[42,0,42,1],[42,10,42,11],[42,12,42,14],[42,15,42,16],[45,0,45,2],[46,0,46,1],[47,0,49,2],[49,7,49,8],[52,0,52,2],[53,0,53,2],[54,0,54,1],[54,13,54,21],[55,0,55,1],[55,13,55,14],[55,15,55,17],[55,18,55,19],[58,0,58,2],[59,0,59,1],[60,0,62,2],[62,19,62,20]]}
[{"$f":"'Student 1'!$A$1","v":"Course 1 Engine Diagnosis. Class"},{"$nulls":6},{"$f":"'Student 1'!$H$1","v":25}]
[{"$f":"'Student 1'!$A$2","v":"Date assignment is due"},null,{"$f":"'Student 1'!$C$2","v":" "},{"$f":"'Student 1'!$D$2","v":"TBD"},{"$f":"'Student 1'!$E$2","v":"TBD"},{"$f":"'Student 1'!$F$2","v":"TBD"},{"$f":"'Student 1'!$G$2","v":"TBD"},{"$f":"'Student 1'!$H$2","v":"TBD"},{"$f":"'Student 1'!$I$2","v":"TBD"}]
[{"$f":"'Student 1'!$A$3","v":"Class Room Points:"},null,{"$f":"'Student 1'!$C$3","v":160},{"$f":"'Student 1'!$D$3","v":20},{"$f":"'Student 1'!$E$3","v":20},{"$f":"'Student 1'!$F$3","v":20},{"$f":"'Student 1'!$G$3","v":25},{"$f":"'Student 1'!$H$3","v":" "},{"$f":"'Student 1'!$I$3","v":75},{"$f":"'Student 1'!$J$3","v":"Evaluation"}]
[{"$f":"'Student 1'!$A$4","v":"Red is late turn-in"},null,{"$f":"'Student 1'!$C$4","v":"Blue is absent"},{"$f":"'Student 1'!$D$4","v":"CH 13 "},{"$f":"'Student 1'!$E$4","v":"Lube"},{"$f":"'Student 1'!$F$4","v":"Lube"},{"$f":"'Student 1'!$G$4","v":"Condition"},{"$f":"'Student 1'!$H$4","v":"Extra"},{"$f":"'Student 1'!$I$4","v":"Final"},{"$f":"'Student 1'!$J$4","v":"Classroom"},null,{"$f":"'Student 1'!$L$4","v":"Professionalism"},null,null,{"$f":"'Student 1'!$O$4","v":"Lab"},null,{"$f":"'Student 1'!$Q$4","v":"Total  "},{"$f":"'Student 1'!$R$4","v":"Letter"}]
[{"$f":"'Student 1'!$A$5","v":"I D "},{"$f":"'Student 1'!$B$5","v":"First:"},{"$f":"'Student 1'!$C$5","v":"Last:"},{"$f":"'Student 1'!$D$5","v":"Test"},{"$f":"'Student 1'!$E$5","v":"HW"},{"$f":"'Student 1'!$F$5","v":"Test"},{"$f":"'Student 1'!$G$5","v":"Class"},{"$f":"'Student 1'!$H$5","v":"Credit"},{"$f":"'Student 1'!$I$5","v":"Test"},{"$f":"'Student 1'!$J$5","v":"Points"},{"$f":"'Student 1'!$K$5","v":"%"},{"$f":"'Student 1'!$L$5","v":"Attendance"},{"$f":"'Student 1'!$M$5","v":"Points"},{"$f":"'Student 1'!$N$5","v":"%"},{"$f":"'Student 1'!$O$5","v":"Points"},{"$f":"'Student 1'!$P$5","v":"%"},{"$f":"'Student 1'!$Q$5","v":"%"},{"$f":"'Student 1'!$R$5","v":"Grade"}]
[{"$f":"'Course 1 Class'!$A$27","v":{"v":22,"d":"00000022"}},{"$f":"'Course 1 Class'!$B$27","v":"Student"},{"$f":"'Course 1 Class'!$C$27","v":"Twenty two"},{"$f":"'Course 1 Class'!$D$27","v":0},{"$f":"'Course 1 Class'!$E$27","v":0},{"$f":"'Course 1 Class'!$F$27","v":0},{"$f":"'Course 1 Class'!$G$27","v":0},{"$f":"'Course 1 Class'!$H$27","v":0},{"$f":"'Course 1 Class'!$I$27","v":0},{"$f":"'Course 1 Class'!$J$27","v":0},{"$f":"'Course 1 Class'!$K$27","v":{"v":0,"d":"0%"}},{"$f":"'Course 1 Class'!$L$27","v":{"v":1,"d":"100%"}},{"$f":"'Course 1 Class'!$M$27","v":72},{"$f":"'Course 1 Class'!$N$27","v":{"v":1,"d":"100%"}},{"$f":"'Course 1 Class'!$O$27","v":0},{"$f":"'Course 1 Class'!$P$27","v":{"v":0,"d":"0%"}},{"$f":"'Course 1 Class'!$Q$27","v":{"v":0.25,"d":"25%"}},{"$f":"'Course 1 Class'!$R$27","v":"F"}]
[{"$f":"'Student 1'!$A$7","v":"Course 1 Engine Diagnosis. Lab"}]
[{"$f":"'Student 1'!$A$8","v":"  Max Shop Points:"},null,{"$f":"'Student 1'!$C$8","v":1325},{"$f":"'Student 1'!$D$8","v":"Dry"},{"$f":"'Student 1'!$E$8","v":"Wet"},{"$f":"'Student 1'!$F$8","v":"Running"},{"$f":"'Student 1'!$G$8","v":"Cylinder"},{"$f":"'Student 1'!$H$8","v":"Oil"},{"$f":"'Student 1'!$I$8","v":"Cooling"},{"$f":"'Student 1'!$J$8","v":"Vacuum"},{"$f":"'Student 1'!$K$8","v":"PCV"},{"$f":"'Student 1'!$L$8","v":"Thermostat"},{"$f":"'Student 1'!$M$8","v":"Fluid"},{"$f":"'Student 1'!$N$8","v":"Diag"},{"$f":"'Student 1'!$O$8","v":" "}]
[{"$f":"'Student 1'!$A$9","v":"Max shop points available depend on how much customer work is done."},null,null,{"$f":"'Student 1'!$D$9","v":"Compr"},{"$f":"'Student 1'!$E$9","v":"Compr"},{"$f":"'Student 1'!$F$9","v":"Compr"},{"$f":"'Student 1'!$G$9","v":"Leakage"},{"$f":"'Student 1'!$H$9","v":"Pressure"},{"$f":"'Student 1'!$I$9","v":"System"},{"$f":"'Student 1'!$J$9","v":"Gauge"},{"$f":"'Student 1'!$K$9","v":"System"},{"$f":"'Student 1'!$L$9","v":"and fan"},{"$f":"'Student 1'!$M$9","v":"Leak"},{"$f":"'Student 1'!$N$9","v":"gauges"},{"$f":"'Student 1'!$O$9","v":"Cus"},{"$f":"'Student 1'!$P$9","v":"Comp"}]
[{"$nulls":3},{"$f":"'Student 1'!$D$10","v":"Test"},{"$f":"'Student 1'!$E$10","v":"Test"},{"$f":"'Student 1'!$F$10","v":"Test"},{"$f":"'Student 1'!$G$10","v":"Test"},{"$f":"'Student 1'!$H$10","v":"Test"},{"$f":"'Student 1'!$I$10","v":"Test"},{"$f":"'Student 1'!$J$10","v":"Test"},{"$f":"'Student 1'!$K$10","v":"Check"},{"$f":"'Student 1'!$L$10","v":"Operation"},{"$f":"'Student 1'!$M$10","v":"Check"},{"$f":"'Student 1'!$N$10","v":"any vehicle"},{"$f":"'Student 1'!$O$10","v":"tomer"},{"$f":"'Student 1'!$P$10","v":"etency"},{"$f":"'Student 1'!$Q$10","v":"  "},{"$f":"'Student 1'!$R$10","v":" "}]
[{"$nulls":3},{"$f":"'Student 1'!$D$11","v":2},{"$f":"'Student 1'!$E$11","v":2},{"$f":"'Student 1'!$F$11","v":2},{"$f":"'Student 1'!$G$11","v":2},{"$f":"'Student 1'!$H$11","v":2},{"$f":"'Student 1'!$I$11","v":2},{"$f":"'Student 1'!$J$11","v":2},{"$f":"'Student 1'!$K$11","v":2},{"$f":"'Student 1'!$L$11","v":2},{"$f":"'Student 1'!$M$11","v":1},{"$f":"'Student 1'!$N$11","v":1},{"$f":"'Student 1'!$O$11","v":"Work"},{"$f":"'Student 1'!$P$11","v":"0 or 1"},{"$f":"'Student 1'!$Q$11","v":"Lab"}]
[{"$f":"'Student 1'!$A$12","v":"ID"},{"$f":"'Student 1'!$B$12","v":"First:"},{"$f":"'Student 1'!$C$12","v":"Last:"},{"$f":"'Student 1'!$D$12","v":100},{"$f":"'Student 1'!$E$12","v":100},{"$f":"'Student 1'!$F$12","v":100},{"$f":"'Student 1'!$G$12","v":100},{"$f":"'Student 1'!$H$12","v":100},{"$f":"'Student 1'!$I$12","v":150},{"$f":"'Student 1'!$J$12","v":100},{"$f":"'Student 1'!$K$12","v":50},{"$f":"'Student 1'!$L$12","v":100},{"$f":"'Student 1'!$M$12","v":25},{"$f":"'Student 1'!$N$12","v":100},{"$f":"'Student 1'!$O$12","v":300},{"$f":"'Student 1'!$P$12","v":"*"},{"$f":"'Student 1'!$Q$12","v":"Points"},{"$f":"'Student 1'!$R$12","v":"%"}]
[{"$f":"'Course 1 Lab'!$A$28","v":{"v":22,"d":"00000022"}},{"$f":"'Course 1 Lab'!$B$28","v":"Student"},{"$f":"'Course 1 Lab'!$C$28","v":"Twenty two"},{"$f":"'Course 1 Lab'!$D$28","v":0},{"$f":"'Course 1 Lab'!$E$28","v":0},{"$f":"'Course 1 Lab'!$F$28","v":0},{"$f":"'Course 1 Lab'!$G$28","v":0},{"$f":"'Course 1 Lab'!$H$28","v":0},{"$f":"'Course 1 Lab'!$I$28","v":0},{"$f":"'Course 1 Lab'!$J$28","v":0},{"$f":"'Course 1 Lab'!$K$28","v":0},{"$f":"'Course 1 Lab'!$L$28","v":0},{"$f":"'Course 1 Lab'!$M$28","v":0},{"$f":"'Course 1 Lab'!$N$28","v":0},{"$f":"'Course 1 Lab'!$O$28","v":0},{"$f":"'Course 1 Lab'!$P$28","v":1},{"$f":"'Course 1 Lab'!$Q$28","v":0},{"$f":"'Course 1 Lab'!$R$28","v":{"v":0,"d":"0%"}}]
[{"$f":"'Student 1'!$A$14","v":"Course 2 Engine Theory & Repair. Class"},{"$nulls":8},{"$f":"'Student 1'!$J$14","v":25}]
[{"$f":"'Student 1'!$A$15","v":" "},{"$f":"'Student 1'!$B$15","v":"Date assignment is due:"},null,{"$f":"'Student 1'!$D$15","v":"TBD"},{"$f":"'Student 1'!$E$15","v":"TBD"},{"$f":"'Student 1'!$F$15","v":"TBD"},{"$f":"'Student 1'!$G$15","v":"TBD"},{"$f":"'Student 1'!$H$15","v":"TBD"},{"$f":"'Student 1'!$I$15","v":"TBD"},{"$f":"'Student 1'!$J$15","v":"TBD"},{"$f":"'Student 1'!$K$15","v":"TBD"}]
[{"$f":"'Student 1'!$A$16","v":"Class Room Points:"},null,{"$f":"'Student 1'!$C$16","v":201},{"$f":"'Student 1'!$D$16","v":10},{"$f":"'Student 1'!$E$16","v":10},{"$f":"'Student 1'!$F$16","v":20},{"$f":"'Student 1'!$G$16","v":20},{"$f":"'Student 1'!$H$16","v":16},{"$f":"'Student 1'!$I$16","v":25},{"$f":"'Student 1'!$J$16","v":" "},{"$f":"'Student 1'!$K$16","v":100},{"$f":"'Student 1'!$L$16","v":"Evaluation"}]
[{"$f":"'Student 1'!$A$17","v":"Red is late turn-in"},null,{"$f":"'Student 1'!$C$17","v":"Blue is absent"},{"$f":"'Student 1'!$D$17","v":"HW"},{"$f":"'Student 1'!$E$17","v":"HW "},{"$f":"'Student 1'!$F$17","v":"Test"},{"$f":"'Student 1'!$G$17","v":"Test"},{"$f":"'Student 1'!$H$17","v":"HW"},{"$f":"'Student 1'!$I$17","v":"Test"},{"$f":"'Student 1'!$J$17","v":"Extra"},{"$f":"'Student 1'!$K$17","v":"Final "},{"$f":"'Student 1'!$L$17","v":"Class"},null,{"$f":"'Student 1'!$N$17","v":"Professionalism"},null,null,{"$f":"'Student 1'!$Q$17","v":"Lab"},null,{"$f":"'Student 1'!$S$17","v":"Total  "},{"$f":"'Student 1'!$T$17","v":"Letter"}]
[{"$f":"'Student 1'!$A$18","v":"I D "},{"$f":"'Student 1'!$B$18","v":"First:"},{"$f":"'Student 1'!$C$18","v":"Last:"},{"$f":"'Student 1'!$D$18","v":"CH 7"},{"$f":"'Student 1'!$E$18","v":"CH 14"},{"$f":"'Student 1'!$F$18","v":"C & L"},{"$f":"'Student 1'!$G$18","v":"CH 18"},{"$f":"'Student 1'!$H$18","v":"CH 22"},{"$f":"'Student 1'!$I$18","v":"CH 22"},{"$f":"'Student 1'!$J$18","v":"Credit"},{"$f":"'Student 1'!$K$18","v":"TEST"},{"$f":"'Student 1'!$L$18","v":"Points"},{"$f":"'Student 1'!$M$18","v":"%"},{"$f":"'Student 1'!$N$18","v":"Attendance"},{"$f":"'Student 1'!$O$18","v":"Points"},{"$f":"'Student 1'!$P$18","v":"%"},{"$f":"'Student 1'!$Q$18","v":"Points"},{"$f":"'Student 1'!$R$18","v":"%"},{"$f":"'Student 1'!$S$18","v":"%"},{"$f":"'Student 1'!$T$18","v":"Grade"}]
[{"$f":"'Course 2 Class'!$A$27","v":{"v":22,"d":"00000022"}},{"$f":"'Course 2 Class'!$B$27","v":"Student"},{"$f":"'Course 2 Class'!$C$27","v":"Twenty two"},{"$f":"'Course 2 Class'!$D$27","v":0},{"$f":"'Course 2 Class'!$E$27","v":0},{"$f":"'Course 2 Class'!$F$27","v":0},{"$f":"'Course 2 Class'!$G$27","v":0},{"$f":"'Course 2 Class'!$H$27","v":0},{"$f":"'Course 2 Class'!$I$27","v":0},{"$f":"'Course 2 Class'!$J$27","v":0},{"$f":"'Course 2 Class'!$K$27","v":0},{"$f":"'Course 2 Class'!$L$27","v":0},{"$f":"'Course 2 Class'!$M$27","v":{"v":0,"d":"0%"}},{"$f":"'Course 2 Class'!$N$27","v":{"v":1,"d":"100%"}},{"$f":"'Course 2 Class'!$O$27","v":72},{"$f":"'Course 2 Class'!$P$27","v":{"v":1,"d":"100%"}},{"$f":"'Course 2 Class'!$Q$27","v":0},{"$f":"'Course 2 Class'!$R$27","v":{"v":0,"d":"0%"}},{"$f":"'Course 2 Class'!$S$27","v":{"v":0.25,"d":"25%"}},{"$f":"'Course 2 Class'!$T$27","v":"F"}]
[{"$f":"'Student 1'!$A$20","v":"Course 2 Engine Theory & Repair. Lab"}]
[{"$f":"'Student 1'!$A$21","v":"  Max Shop Points:"},null,{"$f":"'Student 1'!$C$21","v":1450},{"$f":"'Student 1'!$D$21","v":"Engine"},{"$f":"'Student 1'!$E$21","v":"Cylinder"},{"$f":"'Student 1'!$F$21","v":"Red"},{"$f":"'Student 1'!$G$21","v":"Mitsubishi"},{"$f":"'Student 1'!$H$21","v":"Any"},{"$f":"'Student 1'!$I$21","v":"DOHC"},{"$f":"'Student 1'!$J$21","v":"Valve seal"},{"$f":"'Student 1'!$K$21","v":"Misc."},{"$f":"'Student 1'!$L$21","v":" "}]
[{"$f":"'Student 1'!$A$22","v":"Max shop points available depend on how much customer work is done."},null,null,{"$f":"'Student 1'!$D$22","v":"Disassemble"},{"$f":"'Student 1'!$E$22","v":"Head"},{"$f":"'Student 1'!$F$22","v":"Dodge"},{"$f":"'Student 1'!$G$22","v":"\"3.0L\""},{"$f":"'Student 1'!$H$22","v":"Engine"},{"$f":"'Student 1'!$I$22","v":"Engine"},{"$f":"'Student 1'!$J$22","v":"&"},{"$f":"'Student 1'!$K$22","v":"Engine "},{"$f":"'Student 1'!$L$22","v":"Cus"},{"$f":"'Student 1'!$M$22","v":"Comp"}]
[{"$nulls":3},{"$f":"'Student 1'!$D$23","v":"& Measure"},{"$f":"'Student 1'!$E$23","v":"Repair"},{"$f":"'Student 1'!$F$23","v":"Clip"},{"$f":"'Student 1'!$G$23","v":"Clip"},{"$f":"'Student 1'!$H$23","v":"T-chain"},{"$f":"'Student 1'!$I$23","v":" Stand"},{"$f":"'Student 1'!$J$23","v":"Lobe lift"},{"$f":"'Student 1'!$K$23","v":"Points"},{"$f":"'Student 1'!$L$23","v":"tomer"},{"$f":"'Student 1'!$M$23","v":"etency"},{"$f":"'Student 1'!$N$23","v":" "},{"$f":"'Student 1'!$O$23","v":" "}]
[{"$nulls":3},{"$f":"'Student 1'!$D$24","v":1},{"$f":"'Student 1'!$E$24","v":1},{"$f":"'Student 1'!$F$24","v":1},{"$f":"'Student 1'!$G$24","v":1},{"$f":"'Student 1'!$H$24","v":1},{"$f":"'Student 1'!$I$24","v":1},{"$f":"'Student 1'!$J$24","v":1},null,{"$f":"'Student 1'!$L$24","v":"Work"},{"$f":"'Student 1'!$M$24","v":"0 or 1"},{"$f":"'Student 1'!$N$24","v":"Lab"}]
[{"$f":"'Student 1'!$A$25","v":"ID"},{"$f":"'Student 1'!$B$25","v":"First:"},{"$f":"'Student 1'!$C$25","v":"Last:"},{"$f":"'Student 1'!$D$25","v":300},{"$f":"'Student 1'!$E$25","v":200},{"$f":"'Student 1'!$F$25","v":100},{"$f":"'Student 1'!$G$25","v":100},{"$f":"'Student 1'!$H$25","v":100},{"$f":"'Student 1'!$I$25","v":100},{"$f":"'Student 1'!$J$25","v":50},{"$f":"'Student 1'!$K$25","v":200},{"$f":"'Student 1'!$L$25","v":300},{"$f":"'Student 1'!$M$25","v":"*"},{"$f":"'Student 1'!$N$25","v":"Points"},{"$f":"'Student 1'!$O$25","v":"%"}]
[{"$f":"'Course 2 Lab'!$A$28","v":{"v":22,"d":"00000022"}},{"$f":"'Course 2 Lab'!$B$28","v":"Student"},{"$f":"'Course 2 Lab'!$C$28","v":"Twenty two"},{"$f":"'Course 2 Lab'!$D$28","v":0},{"$f":"'Course 2 Lab'!$E$28","v":0},{"$f":"'Course 2 Lab'!$F$28","v":0},{"$f":"'Course 2 Lab'!$G$28","v":0},{"$f":"'Course 2 Lab'!$H$28","v":0},{"$f":"'Course 2 Lab'!$I$28","v":0},{"$f":"'Course 2 Lab'!$J$28","v":0},{"$f":"'Course 2 Lab'!$K$28","v":0},{"$f":"'Course 2 Lab'!$L$28","v":0},{"$f":"'Course 2 Lab'!$M$28","v":1},{"$f":"'Course 2 Lab'!$N$28","v":0},{"$f":"'Course 2 Lab'!$O$28","v":{"v":0,"d":"0%"}}]
[{"$f":"'Student 1'!$A$27","v":"Course 3 Steering & Suspension. Class."},{"$nulls":11},{"$f":"'Student 1'!$M$27","v":25}]
[{"$f":"'Student 1'!$A$28","v":" "},{"$f":"'Student 1'!$B$28","v":"Date assignment is due:"},null,{"$f":"'Student 1'!$D$28","v":"1/18"},{"$f":"'Student 1'!$E$28","v":"2/2"},{"$f":"'Student 1'!$F$28","v":"TBD"},{"$f":"'Student 1'!$G$28","v":"TBD"},{"$f":"'Student 1'!$H$28","v":"TBD"},{"$f":"'Student 1'!$I$28","v":"TBD"},{"$f":"'Student 1'!$J$28","v":"TBD"},{"$f":"'Student 1'!$K$28","v":"TBD"},{"$f":"'Student 1'!$L$28","v":"TBD"},{"$f":"'Student 1'!$M$28","v":"TBD"},{"$f":"'Student 1'!$N$28","v":"TBD"}]
[{"$f":"'Student 1'!$A$29","v":"Class Room Points:"},null,{"$f":"'Student 1'!$C$29","v":330},{"$f":"'Student 1'!$D$29","v":20},{"$f":"'Student 1'!$E$29","v":20},{"$f":"'Student 1'!$F$29","v":24},{"$f":"'Student 1'!$G$29","v":20},{"$f":"'Student 1'!$H$29","v":25},{"$f":"'Student 1'!$I$29","v":30},{"$f":"'Student 1'!$J$29","v":20},{"$f":"'Student 1'!$K$29","v":26},{"$f":"'Student 1'!$L$29","v":45},{"$f":"'Student 1'!$M$29","v":" "},{"$f":"'Student 1'!$N$29","v":100},{"$f":"'Student 1'!$O$29","v":"Evaluation"}]
[{"$f":"'Student 1'!$A$30","v":"Red is late turn-in"},null,{"$f":"'Student 1'!$C$30","v":"Blue is absent"},{"$f":"'Student 1'!$D$30","v":"HW"},{"$f":"'Student 1'!$E$30","v":"HW"},{"$f":"'Student 1'!$F$30","v":"HW"},{"$f":"'Student 1'!$G$30","v":"QZ"},{"$f":"'Student 1'!$H$30","v":"HW"},{"$f":"'Student 1'!$I$30","v":"HW"},{"$f":"'Student 1'!$J$30","v":"Test"},{"$f":"'Student 1'!$K$30","v":"HW"},{"$f":"'Student 1'!$L$30","v":"Class"},{"$f":"'Student 1'!$M$30","v":"Extra"},{"$f":"'Student 1'!$N$30","v":"Final"},{"$f":"'Student 1'!$O$30","v":"Class"},null,{"$f":"'Student 1'!$Q$30","v":"Professionalism"},null,null,{"$f":"'Student 1'!$T$30","v":"Lab"},null,{"$f":"'Student 1'!$V$30","v":"Total  "},{"$f":"'Student 1'!$W$30","v":"Letter"}]
[{"$f":"'Student 1'!$A$31","v":"I D "},{"$f":"'Student 1'!$B$31","v":"First:"},{"$f":"'Student 1'!$C$31","v":"Last:"},{"$f":"'Student 1'!$D$31","v":"CH 1"},{"$f":"'Student 1'!$E$31","v":"CH 2"},{"$f":"'Student 1'!$F$31","v":"CH 3"},{"$f":"'Student 1'!$G$31","v":"1"},{"$f":"'Student 1'!$H$31","v":"CH 6"},{"$f":"'Student 1'!$I$31","v":"CH 9"},{"$f":"'Student 1'!$J$31","v":"1 – 9"},{"$f":"'Student 1'!$K$31","v":"CH 12"},{"$f":"'Student 1'!$L$31","v":"Project"},{"$f":"'Student 1'!$M$31","v":"Credit"},{"$f":"'Student 1'!$N$31","v":"TEST"},{"$f":"'Student 1'!$O$31","v":"Points"},{"$f":"'Student 1'!$P$31","v":"%"},{"$f":"'Student 1'!$Q$31","v":"Attendance"},{"$f":"'Student 1'!$R$31","v":"Points"},{"$f":"'Student 1'!$S$31","v":"%"},{"$f":"'Student 1'!$T$31","v":"Points"},{"$f":"'Student 1'!$U$31","v":"%"},{"$f":"'Student 1'!$V$31","v":"%"},{"$f":"'Student 1'!$W$31","v":"Grade"}]
[{"$f":"'Course 3 Class'!$A$27","v":{"v":22,"d":"00000022"}},{"$f":"'Course 3 Class'!$B$27","v":"Student"},{"$f":"'Course 3 Class'!$C$27","v":"Twenty two"},{"$f":"'Course 3 Class'!$D$27","v":0},{"$f":"'Course 3 Class'!$E$27","v":0},{"$f":"'Course 3 Class'!$F$27","v":0},{"$f":"'Course 3 Class'!$G$27","v":0},{"$f":"'Course 3 Class'!$H$27","v":0},{"$f":"'Course 3 Class'!$I$27","v":0},{"$f":"'Course 3 Class'!$J$27","v":0},{"$f":"'Course 3 Class'!$K$27","v":0},{"$f":"'Course 3 Class'!$L$27","v":0},{"$f":"'Course 3 Class'!$M$27","v":0},{"$f":"'Course 3 Class'!$N$27","v":0},{"$f":"'Course 3 Class'!$O$27","v":0},{"$f":"'Course 3 Class'!$P$27","v":{"v":0,"d":"0%"}},{"$f":"'Course 3 Class'!$Q$27","v":{"v":1,"d":"100%"}},{"$f":"'Course 3 Class'!$R$27","v":72},{"$f":"'Course 3 Class'!$S$27","v":{"v":1,"d":"100%"}},{"$f":"'Course 3 Class'!$T$27","v":0},{"$f":"'Course 3 Class'!$U$27","v":{"v":0,"d":"0%"}},{"$f":"'Course 3 Class'!$V$27","v":{"v":0.25,"d":"25%"}},{"$f":"'Course 3 Class'!$W$27","v":"F"}]
[{"$f":"'Student 1'!$A$33","v":"Course 3 Steering & Suspension. Lab"}]
[{"$f":"'Student 1'!$A$34","v":"Max shop points"},null,{"$f":"'Student 1'!$C$34","v":1350},{"$f":"'Student 1'!$D$34","v":"Repair"},{"$f":"'Student 1'!$E$34","v":"Identify"},{"$f":"'Student 1'!$F$34","v":"Repair"},{"$f":"'Student 1'!$G$34","v":"Identify"},{"$f":"'Student 1'!$H$34","v":"Repair"},{"$f":"'Student 1'!$I$34","v":"R&R"},{"$f":"'Student 1'!$J$34","v":"R&R"},{"$f":"'Student 1'!$K$34","v":"R&R"},{"$f":"'Student 1'!$L$34","v":"P/S"},{"$f":"'Student 1'!$M$34","v":"R&R"},{"$f":"'Student 1'!$N$34","v":"NVH"},{"$f":"'Student 1'!$O$34","v":" "}]
[{"$f":"'Student 1'!$A$35","v":"Max shop points available depend on how much customer work is done."},null,null,{"$f":"'Student 1'!$D$35","v":"SLA"},{"$f":"'Student 1'!$E$35","v":"SLA"},{"$f":"'Student 1'!$F$35","v":"Mac-P"},{"$f":"'Student 1'!$G$35","v":"Mac-P"},{"$f":"'Student 1'!$H$35","v":"Rear"},{"$f":"'Student 1'!$I$35","v":"Rack &"},{"$f":"'Student 1'!$J$35","v":"Recirc."},{"$f":"'Student 1'!$K$35","v":"P/S"},{"$f":"'Student 1'!$L$35","v":"Pump"},{"$f":"'Student 1'!$M$35","v":"Inner"},{"$f":"'Student 1'!$N$35","v":"Runout &"},{"$f":"'Student 1'!$O$35","v":"Cus"},{"$f":"'Student 1'!$P$35","v":"Comp"}]
[{"$nulls":3},{"$f":"'Student 1'!$D$36","v":"Susp"},{"$f":"'Student 1'!$E$36","v":"Parts"},{"$f":"'Student 1'!$F$36","v":"Susp"},{"$f":"'Student 1'!$G$36","v":"Parts"},{"$f":"'Student 1'!$H$36","v":"Susp"},{"$f":"'Student 1'!$I$36","v":"Pinion"},{"$f":"'Student 1'!$J$36","v":"Gear"},{"$f":"'Student 1'!$K$36","v":"Pump"},{"$f":"'Student 1'!$L$36","v":"Test"},{"$f":"'Student 1'!$M$36","v":"Tie-Rod"},{"$f":"'Student 1'!$N$36","v":"bal. Check"},{"$f":"'Student 1'!$O$36","v":"tomer"},{"$f":"'Student 1'!$P$36","v":"etency"},{"$f":"'Student 1'!$Q$36","v":" "},{"$f":"'Student 1'!$R$36","v":" "},null,null,{"$f":"'Student 1'!$U$36","v":"Final Grade"}]
[{"$nulls":3},{"$f":"'Student 1'!$D$37","v":1},{"$f":"'Student 1'!$E$37","v":2},{"$f":"'Student 1'!$F$37","v":3},{"$f":"'Student 1'!$G$37","v":2},{"$f":"'Student 1'!$H$37","v":1},{"$f":"'Student 1'!$I$37","v":1},{"$f":"'Student 1'!$J$37","v":1},{"$f":"'Student 1'!$K$37","v":1},{"$f":"'Student 1'!$L$37","v":1},{"$f":"'Student 1'!$M$37","v":1},{"$f":"'Student 1'!$N$37","v":1},{"$f":"'Student 1'!$O$37","v":"Work"},{"$f":"'Student 1'!$P$37","v":"0 or 1"},{"$f":"'Student 1'!$Q$37","v":"Lab"},{"$nulls":3},{"$f":"'Student 1'!$U$37","v":{"v":0,"d":"0%"}},{"$f":"'Student 1'!$V$37","v":"F"}]
[{"$f":"'Student 1'!$A$38","v":"ID"},{"$f":"'Student 1'!$B$38","v":"First:"},{"$f":"'Student 1'!$C$38","v":"Last:"},{"$f":"'Student 1'!$D$38","v":150},{"$f":"'Student 1'!$E$38","v":50},{"$f":"'Student 1'!$F$38","v":225},{"$f":"'Student 1'!$G$38","v":50},{"$f":"'Student 1'!$H$38","v":50},{"$f":"'Student 1'!$I$38","v":150},{"$f":"'Student 1'!$J$38","v":125},{"$f":"'Student 1'!$K$38","v":50},{"$f":"'Student 1'!$L$38","v":50},{"$f":"'Student 1'!$M$38","v":50},{"$f":"'Student 1'!$N$38","v":100},{"$f":"'Student 1'!$O$38","v":300},{"$f":"'Student 1'!$P$38","v":"*"},{"$f":"'Student 1'!$Q$38","v":"Points"},{"$f":"'Student 1'!$R$38","v":"%"},null,null,{"$f":"'Student 1'!$U$38","v":{"v":0.695,"d":"70%"}},{"$f":"'Student 1'!$V$38","v":"D-"}]
[{"$f":"'Course 3 Lab'!$A$28","v":{"v":22,"d":"00000022"}},{"$f":"'Course 3 Lab'!$B$28","v":"Student"},{"$f":"'Course 3 Lab'!$C$28","v":"Twenty two"},{"$f":"'Course 3 Lab'!$D$28","v":0},{"$f":"'Course 3 Lab'!$E$28","v":0},{"$f":"'Course 3 Lab'!$F$28","v":0},{"$f":"'Course 3 Lab'!$G$28","v":0},{"$f":"'Course 3 Lab'!$H$28","v":0},{"$f":"'Course 3 Lab'!$I$28","v":0},{"$f":"'Course 3 Lab'!$J$28","v":0},{"$f":"'Course 3 Lab'!$K$28","v":0},{"$f":"'Course 3 Lab'!$L$28","v":0},{"$f":"'Course 3 Lab'!$M$28","v":0},{"$f":"'Course 3 Lab'!$N$28","v":0},{"$f":"'Course 3 Lab'!$O$28","v":0},{"$f":"'Course 3 Lab'!$P$28","v":1},{"$f":"'Course 3 Lab'!$Q$28","v":0},{"$f":"'Course 3 Lab'!$R$28","v":{"v":0,"d":"0%"}},null,null,{"$f":"'Student 1'!$U$39","v":{"v":0.715,"d":"72%"}},{"$f":"'Student 1'!$V$39","v":"D"}]
[{"$f":"'Student 1'!$A$40","v":"Course 4 Alignment. Class."},{"$nulls":7},{"$f":"'Student 1'!$I$40","v":25},{"$nulls":11},{"$f":"'Student 1'!$U$40","v":{"v":0.735,"d":"74%"}},{"$f":"'Student 1'!$V$40","v":"D+"}]
[{"$f":"'Student 1'!$A$41","v":" "},{"$f":"'Student 1'!$B$41","v":"Date assignment is due  "},null,{"$f":"'Student 1'!$D$41","v":"TBD"},{"$f":"'Student 1'!$E$41","v":"TBD"},{"$f":"'Student 1'!$F$41","v":"TBD"},{"$f":"'Student 1'!$G$41","v":"TBD"},{"$f":"'Student 1'!$H$41","v":"TBD"},{"$f":"'Student 1'!$I$41","v":"TBD"},{"$f":"'Student 1'!$J$41","v":"TBD"},{"$nulls":10},{"$f":"'Student 1'!$U$41","v":{"v":0.755,"d":"76%"}},{"$f":"'Student 1'!$V$41","v":"C-"}]
[{"$f":"'Student 1'!$A$42","v":"Class Room Points:"},null,{"$f":"'Student 1'!$C$42","v":235},{"$f":"'Student 1'!$D$42","v":25},{"$f":"'Student 1'!$E$42","v":25},{"$f":"'Student 1'!$F$42","v":20},{"$f":"'Student 1'!$G$42","v":40},{"$f":"'Student 1'!$H$42","v":50},{"$f":"'Student 1'!$I$42","v":" "},{"$f":"'Student 1'!$J$42","v":75},{"$f":"'Student 1'!$K$42","v":"Evaluation"},{"$nulls":9},{"$f":"'Student 1'!$U$42","v":{"v":0.785,"d":"79%"}},{"$f":"'Student 1'!$V$42","v":"C"}]
[{"$f":"'Student 1'!$A$43","v":"Red is late turn-in"},null,{"$f":"'Student 1'!$C$43","v":"Blue is absent"},{"$f":"'Student 1'!$D$43","v":"CH 16"},{"$f":"'Student 1'!$E$43","v":"CH 16"},{"$f":"'Student 1'!$F$43","v":"Align"},{"$f":"'Student 1'!$G$43","v":"In class"},{"$f":"'Student 1'!$H$43","v":"In class"},{"$f":"'Student 1'!$I$43","v":"Extra"},{"$f":"'Student 1'!$J$43","v":"Final"},{"$f":"'Student 1'!$K$43","v":"Class"},null,{"$f":"'Student 1'!$M$43","v":"Professionalism"},null,null,{"$f":"'Student 1'!$P$43","v":"Lab"},null,{"$f":"'Student 1'!$R$43","v":"Total  "},{"$f":"'Student 1'!$S$43","v":"Letter"},null,{"$f":"'Student 1'!$U$43","v":{"v":0.815,"d":"82%"}},{"$f":"'Student 1'!$V$43","v":"C+"}]
[{"$f":"'Student 1'!$A$44","v":"I D "},{"$f":"'Student 1'!$B$44","v":"First:"},{"$f":"'Student 1'!$C$44","v":"Last:"},{"$f":"'Student 1'!$D$44","v":"HW"},{"$f":"'Student 1'!$E$44","v":"Test"},{"$f":"'Student 1'!$F$44","v":"HW"},{"$f":"'Student 1'!$G$44","v":"Project1"},{"$f":"'Student 1'!$H$44","v":"Project2"},{"$f":"'Student 1'!$I$44","v":"Credit"},{"$f":"'Student 1'!$J$44","v":"Test"},{"$f":"'Student 1'!$K$44","v":"Points"},{"$f":"'Student 1'!$L$44","v":"%"},{"$f":"'Student 1'!$M$44","v":"Attendance"},{"$f":"'Student 1'!$N$44","v":"Points"},{"$f":"'Student 1'!$O$44","v":"%"},{"$f":"'Student 1'!$P$44","v":"Points"},{"$f":"'Student 1'!$Q$44","v":"%"},{"$f":"'Student 1'!$R$44","v":"%"},{"$f":"'Student 1'!$S$44","v":"Grade"},null,{"$f":"'Student 1'!$U$44","v":{"v":0.845,"d":"85%"}},{"$f":"'Student 1'!$V$44","v":"B-"}]
[{"$f":"'Course 4 Class'!$A$27","v":{"v":22,"d":"00000022"}},{"$f":"'Course 4 Class'!$B$27","v":"Student"},{"$f":"'Course 4 Class'!$C$27","v":"Twenty two"},{"$f":"'Course 4 Class'!$D$27","v":0},{"$f":"'Course 4 Class'!$E$27","v":0},{"$f":"'Course 4 Class'!$F$27","v":0},{"$f":"'Course 4 Class'!$G$27","v":0},{"$f":"'Course 4 Class'!$H$27","v":0},{"$f":"'Course 4 Class'!$I$27","v":0},{"$f":"'Course 4 Class'!$J$27","v":0},{"$f":"'Course 4 Class'!$K$27","v":0},{"$f":"'Course 4 Class'!$L$27","v":{"v":0,"d":"0%"}},{"$f":"'Course 4 Class'!$M$27","v":{"v":1,"d":"100%"}},{"$f":"'Course 4 Class'!$N$27","v":72},{"$f":"'Course 4 Class'!$O$27","v":{"v":1,"d":"100%"}},{"$f":"'Course 4 Class'!$P$27","v":0},{"$f":"'Course 4 Class'!$Q$27","v":{"v":0,"d":"0%"}},{"$f":"'Course 4 Class'!$R$27","v":{"v":0.25,"d":"25%"}},{"$f":"'Course 4 Class'!$S$27","v":"F"},null,{"$f":"'Student 1'!$U$45","v":{"v":0.875,"d":"88%"}},{"$f":"'Student 1'!$V$45","v":"B"}]
[{"$f":"'Student 1'!$A$46","v":"Course 4 Alignment. Lab"},{"$nulls":19},{"$f":"'Student 1'!$U$46","v":{"v":0.895,"d":"90%"}},{"$f":"'Student 1'!$V$46","v":"B+"}]
[{"$f":"'Student 1'!$A$47","v":"Max Shop Points:"},null,{"$f":"'Student 1'!$C$47","v":1300},{"$f":"'Student 1'!$D$47","v":"Alignment"},{"$f":"'Student 1'!$E$47","v":"Complete"},{"$f":"'Student 1'!$F$47","v":"Cus"},{"$f":"'Student 1'!$G$47","v":" "},{"$nulls":13},{"$f":"'Student 1'!$U$47","v":{"v":0.925,"d":"93%"}},{"$f":"'Student 1'!$V$47","v":"A-"}]
[{"$f":"'Student 1'!$A$48","v":"Max shop points available depend on how much customer work is done."},null,null,{"$f":"'Student 1'!$D$48","v":"Pre-check"},{"$f":"'Student 1'!$E$48","v":"Wheel"},{"$f":"'Student 1'!$F$48","v":"tomer"},{"$f":"'Student 1'!$G$48","v":"Comp"},{"$nulls":13},{"$f":"'Student 1'!$U$48","v":{"v":0.945,"d":"95%"}},{"$f":"'Student 1'!$V$48","v":"A"}]
[{"$nulls":3},{"$f":"'Student 1'!$D$49","v":"100 P"},{"$f":"'Student 1'!$E$49","v":"Alignment"},{"$f":"'Student 1'!$F$49","v":"Work"},{"$f":"'Student 1'!$G$49","v":"etency"},{"$f":"'Student 1'!$H$49","v":" "},{"$f":"'Student 1'!$I$49","v":" "},{"$nulls":11},{"$f":"'Student 1'!$U$49","v":{"v":1,"d":"100%"}},{"$f":"'Student 1'!$V$49","v":"A"}]
[{"$nulls":3},{"$f":"'Student 1'!$D$50","v":1},{"$f":"'Student 1'!$E$50","v":1},{"$f":"'Student 1'!$F$50","v":" "},{"$f":"'Student 1'!$G$50","v":"0 or 1"},{"$f":"'Student 1'!$H$50","v":"Lab"}]
[{"$f":"'Student 1'!$A$51","v":"ID"},{"$f":"'Student 1'!$B$51","v":"First:"},{"$f":"'Student 1'!$C$51","v":"Last:"},{"$f":"'Student 1'!$D$51","v":100},{"$f":"'Student 1'!$E$51","v":900},{"$f":"'Student 1'!$F$51","v":300},{"$f":"'Student 1'!$G$51","v":"*"},{"$f":"'Student 1'!$H$51","v":"Points"},{"$f":"'Student 1'!$I$51","v":"%"}]
[{"$f":"'Course 4 Lab'!$A$28","v":{"v":22,"d":"00000022"}},{"$f":"'Course 4 Lab'!$B$28","v":"Student"},{"$f":"'Course 4 Lab'!$C$28","v":"Twenty two"},{"$f":"'Course 4 Lab'!$D$28","v":0},{"$f":"'Course 4 Lab'!$E$28","v":0},{"$f":"'Course 4 Lab'!$F$28","v":0},{"$f":"'Course 4 Lab'!$G$28","v":1},{"$f":"'Course 4 Lab'!$H$28","v":0},{"$f":"'Course 4 Lab'!$I$28","v":{"v":0,"d":"0%"}}]
[{"$f":"'Student 1'!$A$53","v":"Course 5 Brake Systems. Class."},{"$nulls":10},{"$f":"'Student 1'!$L$53","v":35}]
[{"$f":"'Student 1'!$A$54","v":"Date assignment is due:"},null,{"$f":"'Student 1'!$C$54","v":" "},{"$f":"'Student 1'!$D$54","v":"TBD"},{"$f":"'Student 1'!$E$54","v":"TBD"},{"$f":"'Student 1'!$F$54","v":"TBD"},{"$f":"'Student 1'!$G$54","v":"TBD"},{"$f":"'Student 1'!$H$54","v":"TBD"},{"$f":"'Student 1'!$I$54","v":"TBD"},{"$f":"'Student 1'!$J$54","v":"TBD"},{"$f":"'Student 1'!$K$54","v":"TBD"},{"$f":"'Student 1'!$L$54","v":"TBD"},{"$f":"'Student 1'!$M$54","v":"TBD"}]
[{"$f":"'Student 1'!$A$55","v":"Class Room Points:"},null,{"$f":"'Student 1'!$C$55","v":440},{"$f":"'Student 1'!$D$55","v":30},{"$f":"'Student 1'!$E$55","v":25},{"$f":"'Student 1'!$F$55","v":100},{"$f":"'Student 1'!$G$55","v":30},{"$f":"'Student 1'!$H$55","v":50},{"$f":"'Student 1'!$I$55","v":30},{"$f":"'Student 1'!$J$55","v":25},{"$f":"'Student 1'!$K$55","v":50},{"$f":"'Student 1'!$L$55","v":" "},{"$f":"'Student 1'!$M$55","v":100},{"$f":"'Student 1'!$N$55","v":"Evaluation"}]
[{"$f":"'Student 1'!$A$56","v":"Red is late turn-in"},null,{"$f":"'Student 1'!$C$56","v":"Blue is absent"},{"$f":"'Student 1'!$D$56","v":"HW"},{"$f":"'Student 1'!$E$56","v":"HW"},{"$f":"'Student 1'!$F$56","v":"Test"},{"$f":"'Student 1'!$G$56","v":"HW"},{"$f":"'Student 1'!$H$56","v":"Test"},{"$f":"'Student 1'!$I$56","v":"HW"},{"$f":"'Student 1'!$J$56","v":"Test"},{"$f":"'Student 1'!$K$56","v":"Class"},{"$f":"'Student 1'!$L$56","v":"Extra"},{"$f":"'Student 1'!$M$56","v":"Final"},{"$f":"'Student 1'!$N$56","v":"Class"},null,{"$f":"'Student 1'!$P$56","v":"Professionalism"},null,null,{"$f":"'Student 1'!$S$56","v":"Lab"},null,{"$f":"'Student 1'!$U$56","v":"Total  "},{"$f":"'Student 1'!$V$56","v":"Letter"}]
[{"$f":"'Student 1'!$A$57","v":"I D "},{"$f":"'Student 1'!$B$57","v":"First:"},{"$f":"'Student 1'!$C$57","v":"Last:"},{"$f":"'Student 1'!$D$57","v":"CH 4"},{"$f":"'Student 1'!$E$57","v":"CH 5"},{"$f":"'Student 1'!$F$57","v":"#1"},{"$f":"'Student 1'!$G$57","v":"CH 7"},{"$f":"'Student 1'!$H$57","v":"Conv"},{"$f":"'Student 1'!$I$57","v":"CH 20"},{"$f":"'Student 1'!$J$57","v":"21/22"},{"$f":"'Student 1'!$K$57","v":"Project"},{"$f":"'Student 1'!$L$57","v":"Credit"},{"$f":"'Student 1'!$M$57","v":"Test"},{"$f":"'Student 1'!$N$57","v":"Points"},{"$f":"'Student 1'!$O$57","v":"%"},{"$f":"'Student 1'!$P$57","v":"Attendance"},{"$f":"'Student 1'!$Q$57","v":"Points"},{"$f":"'Student 1'!$R$57","v":"%"},{"$f":"'Student 1'!$S$57","v":"Points"},{"$f":"'Student 1'!$T$57","v":"%"},{"$f":"'Student 1'!$U$57","v":"%"},{"$f":"'Student 1'!$V$57","v":"Grade"}]
[{"$f":"'Course 5 Class'!$A$27","v":{"v":22,"d":"00000022"}},{"$f":"'Course 5 Class'!$B$27","v":"Student"},{"$f":"'Course 5 Class'!$C$27","v":"Twenty two"},{"$f":"'Course 5 Class'!$D$27","v":0},{"$f":"'Course 5 Class'!$E$27","v":0},{"$f":"'Course 5 Class'!$F$27","v":0},{"$f":"'Course 5 Class'!$G$27","v":0},{"$f":"'Course 5 Class'!$H$27","v":0},{"$f":"'Course 5 Class'!$I$27","v":0},{"$f":"'Course 5 Class'!$J$27","v":0},{"$f":"'Course 5 Class'!$K$27","v":0},{"$f":"'Course 5 Class'!$L$27","v":0},{"$f":"'Course 5 Class'!$M$27","v":0},{"$f":"'Course 5 Class'!$N$27","v":0},{"$f":"'Course 5 Class'!$O$27","v":{"v":0,"d":"0%"}},{"$f":"'Course 5 Class'!$P$27","v":{"v":1,"d":"100%"}},{"$f":"'Course 5 Class'!$Q$27","v":72},{"$f":"'Course 5 Class'!$R$27","v":{"v":1,"d":"100%"}},{"$f":"'Course 5 Class'!$S$27","v":0},{"$f":"'Course 5 Class'!$T$27","v":{"v":0,"d":"0%"}},{"$f":"'Course 5 Class'!$U$27","v":{"v":0.25,"d":"25%"}},{"$f":"'Course 5 Class'!$V$27","v":"F"}]
[{"$f":"'Student 1'!$A$59","v":"Course 5 Brake Systems. Lab"}]
[{"$f":"'Student 1'!$A$60","v":"  Max Shop Points:"},null,{"$f":"'Student 1'!$C$60","v":970},{"$f":"'Student 1'!$D$60","v":"Drum"},{"$f":"'Student 1'!$E$60","v":"Drum "},{"$f":"'Student 1'!$F$60","v":"Disc"},{"$f":"'Student 1'!$G$60","v":"On Car"},{"$f":"'Student 1'!$H$60","v":"Off Car"},{"$f":"'Student 1'!$I$60","v":"Wheel"},{"$f":"'Student 1'!$J$60","v":"Hydr."},{"$f":"'Student 1'!$K$60","v":"Vacuum"},{"$f":"'Student 1'!$L$60","v":"Warning"},{"$f":"'Student 1'!$M$60","v":"Brake"},{"$f":"'Student 1'!$N$60","v":"Brake"},{"$f":"'Student 1'!$O$60","v":"Dodge"},{"$f":"'Student 1'!$P$60","v":"Ford"},{"$f":"'Student 1'!$Q$60","v":"GM"},{"$f":"'Student 1'!$R$60","v":"Cus"},{"$f":"'Student 1'!$S$60","v":"Brake"}]
[{"$f":"'Student 1'!$A$61","v":"Max shop points available depend on how much customer work is done."},null,null,{"$f":"'Student 1'!$D$61","v":"Brake"},{"$f":"'Student 1'!$E$61","v":"Brake "},{"$f":"'Student 1'!$F$61","v":"Brake"},{"$f":"'Student 1'!$G$61","v":"Disc"},{"$f":"'Student 1'!$H$61","v":"Disc"},{"$f":"'Student 1'!$I$61","v":"Bearing"},{"$f":"'Student 1'!$J$61","v":"Line"},{"$f":"'Student 1'!$K$61","v":"Booster"},{"$f":"'Student 1'!$L$61","v":"Light"},{"$f":"'Student 1'!$M$61","v":"System"},{"$f":"'Student 1'!$N$61","v":"Valves"},{"$f":"'Student 1'!$O$61","v":"Anti"},{"$f":"'Student 1'!$P$61","v":"Anti"},{"$f":"'Student 1'!$Q$61","v":"Anti"},{"$f":"'Student 1'!$R$61","v":"tomer"},{"$f":"'Student 1'!$S$61","v":"Comp"}]
[{"$nulls":3},{"$f":"'Student 1'!$D$62","v":"Job"},{"$f":"'Student 1'!$E$62","v":"Mach."},{"$f":"'Student 1'!$F$62","v":"Job"},{"$f":"'Student 1'!$G$62","v":"Mach."},{"$f":"'Student 1'!$H$62","v":"Mach."},{"$f":"'Student 1'!$I$62","v":"Service"},{"$f":"'Student 1'!$J$62","v":"Repair"},{"$f":"'Student 1'!$K$62","v":"Service"},{"$f":"'Student 1'!$L$62","v":"Service"},{"$f":"'Student 1'!$M$62","v":"Bleed"},{"$f":"'Student 1'!$N$62","v":"Check"},{"$f":"'Student 1'!$O$62","v":"Lock"},{"$f":"'Student 1'!$P$62","v":"Lock"},{"$f":"'Student 1'!$Q$62","v":"Lock"},{"$f":"'Student 1'!$R$62","v":"Work"},{"$f":"'Student 1'!$S$62","v":"etency"}]
[{"$nulls":3},{"$f":"'Student 1'!$D$63","v":2},{"$f":"'Student 1'!$E$63","v":2},{"$f":"'Student 1'!$F$63","v":2},{"$f":"'Student 1'!$G$63","v":2},{"$f":"'Student 1'!$H$63","v":2},{"$f":"'Student 1'!$I$63","v":1},{"$f":"'Student 1'!$J$63","v":1},{"$f":"'Student 1'!$K$63","v":2},{"$f":"'Student 1'!$L$63","v":2},{"$f":"'Student 1'!$M$63","v":4},{"$f":"'Student 1'!$N$63","v":1},{"$f":"'Student 1'!$O$63","v":1},{"$f":"'Student 1'!$P$63","v":1},{"$f":"'Student 1'!$Q$63","v":1},{"$f":"'Student 1'!$R$63","v":" "},{"$f":"'Student 1'!$S$63","v":"Required"},{"$f":"'Student 1'!$T$63","v":"Lab"}]
[{"$f":"'Student 1'!$A$64","v":"ID"},{"$f":"'Student 1'!$B$64","v":"First:"},{"$f":"'Student 1'!$C$64","v":"Last:"},{"$f":"'Student 1'!$D$64","v":150},{"$f":"'Student 1'!$E$64","v":40},{"$f":"'Student 1'!$F$64","v":150},{"$f":"'Student 1'!$G$64","v":80},{"$f":"'Student 1'!$H$64","v":40},{"$f":"'Student 1'!$I$64","v":50},{"$f":"'Student 1'!$J$64","v":30},{"$f":"'Student 1'!$K$64","v":30},{"$f":"'Student 1'!$L$64","v":40},{"$f":"'Student 1'!$M$64","v":80},{"$f":"'Student 1'!$N$64","v":40},{"$f":"'Student 1'!$O$64","v":80},{"$f":"'Student 1'!$P$64","v":80},{"$f":"'Student 1'!$Q$64","v":80},{"$f":"'Student 1'!$R$64","v":300},{"$f":"'Student 1'!$S$64","v":"*"},{"$f":"'Student 1'!$T$64","v":"Points"},{"$f":"'Student 1'!$U$64","v":"%"}]
[{"$f":"'Course 5 Lab'!$A$28","v":{"v":22,"d":"00000022"}},{"$f":"'Course 5 Lab'!$B$28","v":"Student"},{"$f":"'Course 5 Lab'!$C$28","v":"Twenty two"},{"$f":"'Course 5 Lab'!$D$28","v":0},{"$f":"'Course 5 Lab'!$E$28","v":0},{"$f":"'Course 5 Lab'!$F$28","v":0},{"$f":"'Course 5 Lab'!$G$28","v":0},{"$f":"'Course 5 Lab'!$H$28","v":0},{"$f":"'Course 5 Lab'!$I$28","v":0},{"$f":"'Course 5 Lab'!$J$28","v":0},{"$f":"'Course 5 Lab'!$K$28","v":0},{"$f":"'Course 5 Lab'!$L$28","v":0},{"$f":"'Course 5 Lab'!$M$28","v":0},{"$f":"'Course 5 Lab'!$N$28","v":0},{"$f":"'Course 5 Lab'!$O$28","v":0},{"$f":"'Course 5 Lab'!$P$28","v":0},{"$f":"'Course 5 Lab'!$Q$28","v":0},{"$f":"'Course 5 Lab'!$R$28","v":0},{"$f":"'Course 5 Lab'!$S$28","v":1},{"$f":"'Course 5 Lab'!$T$28","v":0},{"$f":"'Course 5 Lab'!$U$28","v":{"v":0,"d":"0%"}}]

{"sheet":"Student 23","index":36,"n_rows":65,"n_cols":23,"rows_kept":65,"merged":[[0,0,0,2],[1,0,1,2],[2,0,2,1],[2,9,2,17],[3,0,3,1],[3,9,3,10],[3,11,3,13],[3,14,3,15],[6,0,6,2],[7,0,7,1],[8,0,10,2],[10,16,10,17],[13,0,13,2],[14,1,14,2],[15,0,15,1],[15,11,15,19],[16,0,16,1],[16,11,16,12],[16,13,16,15],[16,16,16,17],[19,0,19,2],[20,0,20,1],[21,0,23,2],[23,13,23,14],[26,0,26,2],[27,1,27,2],[28,0,28,1],[28,14,28,22],[29,0,29,1],[29,14,29,15],[29,16,29,18],[29,19,29,20],[32,0,32,2],[33,0,33,1],[34,0,36,2],[35,20,35,21],[36,16,36,17],[39,0,39,2],[40,1,40,2],[41,0,41,1],[41,10,41,18],[42,0,42,1],[42,10,42,11],[42,12,42,14],[42,15,42,16],[45,0,45,2],[46,0,46,1],[47,0,49,2],[49,7,49,8],[52,0,52,2],[53,0,53,2],[54,0,54,1],[54,13,54,21],[55,0,55,1],[55,13,55,14],[55,15,55,17],[55,18,55,19],[58,0,58,2],[59,0,59,1],[60,0,62,2],[62,19,62,20]]}
[{"$f":"'Student 1'!$A$1","v":"Course 1 Engine Diagnosis. Class"},{"$nulls":6},{"$f":"'Student 1'!$H$1","v":25}]
[{"$f":"'Student 1'!$A$2","v":"Date assignment is due"},null,{"$f":"'Student 1'!$C$2","v":" "},{"$f":"'Student 1'!$D$2","v":"TBD"},{"$f":"'Student 1'!$E$2","v":"TBD"},{"$f":"'Student 1'!$F$2","v":"TBD"},{"$f":"'Student 1'!$G$2","v":"TBD"},{"$f":"'Student 1'!$H$2","v":"TBD"},{"$f":"'Student 1'!$I$2","v":"TBD"}]
[{"$f":"'Student 1'!$A$3","v":"Class Room Points:"},null,{"$f":"'Student 1'!$C$3","v":160},{"$f":"'Student 1'!$D$3","v":20},{"$f":"'Student 1'!$E$3","v":20},{"$f":"'Student 1'!$F$3","v":20},{"$f":"'Student 1'!$G$3","v":25},{"$f":"'Student 1'!$H$3","v":" "},{"$f":"'Student 1'!$I$3","v":75},{"$f":"'Student 1'!$J$3","v":"Evaluation"}]
[{"$f":"'Student 1'!$A$4","v":"Red is late turn-in"},null,{"$f":"'Student 1'!$C$4","v":"Blue is absent"},{"$f":"'Student 1'!$D$4","v":"CH 13 "},{"$f":"'Student 1'!$E$4","v":"Lube"},{"$f":"'Student 1'!$F$4","v":"Lube"},{"$f":"'Student 1'!$G$4","v":"Condition"},{"$f":"'Student 1'!$H$4","v":"Extra"},{"$f":"'Student 1'!$I$4","v":"Final"},{"$f":"'Student 1'!$J$4","v":"Classroom"},null,{"$f":"'Student 1'!$L$4","v":"Professionalism"},null,null,{"$f":"'Student 1'!$O$4","v":"Lab"},null,{"$f":"'Student 1'!$Q$4","v":"Total  "},{"$f":"'Student 1'!$R$4","v":"Letter"}]
[{"$f":"'Student 1'!$A$5","v":"I D "},{"$f":"'Student 1'!$B$5","v":"First:"},{"$f":"'Student 1'!$C$5","v":"Last:"},{"$f":"'Student 1'!$D$5","v":"Test"},{"$f":"'Student 1'!$E$5","v":"HW"},{"$f":"'Student 1'!$F$5","v":"Test"},{"$f":"'Student 1'!$G$5","v":"Class"},{"$f":"'Student 1'!$H$5","v":"Credit"},{"$f":"'Student 1'!$I$5","v":"Test"},{"$f":"'Student 1'!$J$5","v":"Points"},{"$f":"'Student 1'!$K$5","v":"%"},{"$f":"'Student 1'!$L$5","v":"Attendance"},{"$f":"'Student 1'!$M$5","v":"Points"},{"$f":"'Student 1'!$N$5","v":"%"},{"$f":"'Student 1'!$O$5","v":"Points"},{"$f":"'Student 1'!$P$5","v":"%"},{"$f":"'Student 1'!$Q$5","v":"%"},{"$f":"'Student 1'!$R$5","v":"Grade"}]
[{"$f":"'Course 1 Class'!$A$28","v":{"v":23,"d":"00000023"}},{"$f":"'Course 1 Class'!$B$28","v":"Student"},{"$f":"'Course 1 Class'!$C$28","v":"Twenty three"},{"$f":"'Course 1 Class'!$D$28","v":0},{"$f":"'Course 1 Class'!$E$28","v":0},{"$f":"'Course 1 Class'!$F$28","v":0},{"$f":"'Course 1 Class'!$G$28","v":0},{"$f":"'Course 1 Class'!$H$28","v":0},{"$f":"'Course 1 Class'!$I$28","v":0},{"$f":"'Course 1 Class'!$J$28","v":0},{"$f":"'Course 1 Class'!$K$28","v":{"v":0,"d":"0%"}},{"$f":"'Course 1 Class'!$L$28","v":{"v":1,"d":"100%"}},{"$f":"'Course 1 Class'!$M$28","v":72},{"$f":"'Course 1 Class'!$N$28","v":{"v":1,"d":"100%"}},{"$f":"'Course 1 Class'!$O$28","v":0},{"$f":"'Course 1 Class'!$P$28","v":{"v":0,"d":"0%"}},{"$f":"'Course 1 Class'!$Q$28","v":{"v":0.25,"d":"25%"}},{"$f":"'Course 1 Class'!$R$28","v":"F"}]
[{"$f":"'Student 1'!$A$7","v":"Course 1 Engine Diagnosis. Lab"}]
[{"$f":"'Student 1'!$A$8","v":"  Max Shop Points:"},null,{"$f":"'Student 1'!$C$8","v":1325},{"$f":"'Student 1'!$D$8","v":"Dry"},{"$f":"'Student 1'!$E$8","v":"Wet"},{"$f":"'Student 1'!$F$8","v":"Running"},{"$f":"'Student 1'!$G$8","v":"Cylinder"},{"$f":"'Student 1'!$H$8","v":"Oil"},{"$f":"'Student 1'!$I$8","v":"Cooling"},{"$f":"'Student 1'!$J$8","v":"Vacuum"},{"$f":"'Student 1'!$K$8","v":"PCV"},{"$f":"'Student 1'!$L$8","v":"Thermostat"},{"$f":"'Student 1'!$M$8","v":"Fluid"},{"$f":"'Student 1'!$N$8","v":"Diag"},{"$f":"'Student 1'!$O$8","v":" "}]
[{"$f":"'Student 1'!$A$9","v":"Max shop points available depend on how much customer work is done."},null,null,{"$f":"'Student 1'!$D$9","v":"Compr"},{"$f":"'Student 1'!$E$9","v":"Compr"},{"$f":"'Student 1'!$F$9","v":"Compr"},{"$f":"'Student 1'!$G$9","v":"Leakage"},{"$f":"'Student 1'!$H$9","v":"Pressure"},{"$f":"'Student 1'!$I$9","v":"System"},{"$f":"'Student 1'!$J$9","v":"Gauge"},{"$f":"'Student 1'!$K$9","v":"System"},{"$f":"'Student 1'!$L$9","v":"and fan"},{"$f":"'Student 1'!$M$9","v":"Leak"},{"$f":"'Student 1'!$N$9","v":"gauges"},{"$f":"'Student 1'!$O$9","v":"Cus"},{"$f":"'Student 1'!$P$9","v":"Comp"}]
[{"$nulls":3},{"$f":"'Student 1'!$D$10","v":"Test"},{"$f":"'Student 1'!$E$10","v":"Test"},{"$f":"'Student 1'!$F$10","v":"Test"},{"$f":"'Student 1'!$G$10","v":"Test"},{"$f":"'Student 1'!$H$10","v":"Test"},{"$f":"'Student 1'!$I$10","v":"Test"},{"$f":"'Student 1'!$J$10","v":"Test"},{"$f":"'Student 1'!$K$10","v":"Check"},{"$f":"'Student 1'!$L$10","v":"Operation"},{"$f":"'Student 1'!$M$10","v":"Check"},{"$f":"'Student 1'!$N$10","v":"any vehicle"},{"$f":"'Student 1'!$O$10","v":"tomer"},{"$f":"'Student 1'!$P$10","v":"etency"},{"$f":"'Student 1'!$Q$10","v":"  "},{"$f":"'Student 1'!$R$10","v":" "}]
[{"$nulls":3},{"$f":"'Student 1'!$D$11","v":2},{"$f":"'Student 1'!$E$11","v":2},{"$f":"'Student 1'!$F$11","v":2},{"$f":"'Student 1'!$G$11","v":2},{"$f":"'Student 1'!$H$11","v":2},{"$f":"'Student 1'!$I$11","v":2},{"$f":"'Student 1'!$J$11","v":2},{"$f":"'Student 1'!$K$11","v":2},{"$f":"'Student 1'!$L$11","v":2},{"$f":"'Student 1'!$M$11","v":1},{"$f":"'Student 1'!$N$11","v":1},{"$f":"'Student 1'!$O$11","v":"Work"},{"$f":"'Student 1'!$P$11","v":"0 or 1"},{"$f":"'Student 1'!$Q$11","v":"Lab"}]
[{"$f":"'Student 1'!$A$12","v":"ID"},{"$f":"'Student 1'!$B$12","v":"First:"},{"$f":"'Student 1'!$C$12","v":"Last:"},{"$f":"'Student 1'!$D$12","v":100},{"$f":"'Student 1'!$E$12","v":100},{"$f":"'Student 1'!$F$12","v":100},{"$f":"'Student 1'!$G$12","v":100},{"$f":"'Student 1'!$H$12","v":100},{"$f":"'Student 1'!$I$12","v":150},{"$f":"'Student 1'!$J$12","v":100},{"$f":"'Student 1'!$K$12","v":50},{"$f":"'Student 1'!$L$12","v":100},{"$f":"'Student 1'!$M$12","v":25},{"$f":"'Student 1'!$N$12","v":100},{"$f":"'Student 1'!$O$12","v":300},{"$f":"'Student 1'!$P$12","v":"*"},{"$f":"'Student 1'!$Q$12","v":"Points"},{"$f":"'Student 1'!$R$12","v":"%"}]
[{"$f":"'Course 1 Lab'!$A$29","v":{"v":23,"d":"00000023"}},{"$f":"'Course 1 Lab'!$B$29","v":"Student"},{"$f":"'Course 1 Lab'!$C$29","v":"Twenty three"},{"$f":"'Course 1 Lab'!$D$29","v":0},{"$f":"'Course 1 Lab'!$E$29","v":0},{"$f":"'Course 1 Lab'!$F$29","v":0},{"$f":"'Course 1 Lab'!$G$29","v":0},{"$f":"'Course 1 Lab'!$H$29","v":0},{"$f":"'Course 1 Lab'!$I$29","v":0},{"$f":"'Course 1 Lab'!$J$29","v":0},{"$f":"'Course 1 Lab'!$K$29","v":0},{"$f":"'Course 1 Lab'!$L$29","v":0},{"$f":"'Course 1 Lab'!$M$29","v":0},{"$f":"'Course 1 Lab'!$N$29","v":0},{"$f":"'Course 1 Lab'!$O$29","v":0},{"$f":"'Course 1 Lab'!$P$29","v":1},{"$f":"'Course 1 Lab'!$Q$29","v":0},{"$f":"'Course 1 Lab'!$R$29","v":{"v":0,"d":"0%"}}]
[{"$f":"'Student 1'!$A$14","v":"Course 2 Engine Theory & Repair. Class"},{"$nulls":8},{"$f":"'Student 1'!$J$14","v":25}]
[{"$f":"'Student 1'!$A$15","v":" "},{"$f":"'Student 1'!$B$15","v":"Date assignment is due:"},null,{"$f":"'Student 1'!$D$15","v":"TBD"},{"$f":"'Student 1'!$E$15","v":"TBD"},{"$f":"'Student 1'!$F$15","v":"TBD"},{"$f":"'Student 1'!$G$15","v":"TBD"},{"$f":"'Student 1'!$H$15","v":"TBD"},{"$f":"'Student 1'!$I$15","v":"TBD"},{"$f":"'Student 1'!$J$15","v":"TBD"},{"$f":"'Student 1'!$K$15","v":"TBD"}]
[{"$f":"'Student 1'!$A$16","v":"Class Room Points:"},null,{"$f":"'Student 1'!$C$16","v":201},{"$f":"'Student 1'!$D$16","v":10},{"$f":"'Student 1'!$E$16","v":10},{"$f":"'Student 1'!$F$16","v":20},{"$f":"'Student 1'!$G$16","v":20},{"$f":"'Student 1'!$H$16","v":16},{"$f":"'Student 1'!$I$16","v":25},{"$f":"'Student 1'!$J$16","v":" "},{"$f":"'Student 1'!$K$16","v":100},{"$f":"'Student 1'!$L$16","v":"Evaluation"}]
[{"$f":"'Student 1'!$A$17","v":"Red is late turn-in"},null,{"$f":"'Student 1'!$C$17","v":"Blue is absent"},{"$f":"'Student 1'!$D$17","v":"HW"},{"$f":"'Student 1'!$E$17","v":"HW "},{"$f":"'Student 1'!$F$17","v":"Test"},{"$f":"'Student 1'!$G$17","v":"Test"},{"$f":"'Student 1'!$H$17","v":"HW"},{"$f":"'Student 1'!$I$17","v":"Test"},{"$f":"'Student 1'!$J$17","v":"Extra"},{"$f":"'Student 1'!$K$17","v":"Final "},{"$f":"'Student 1'!$L$17","v":"Class"},null,{"$f":"'Student 1'!$N$17","v":"Professionalism"},null,null,{"$f":"'Student 1'!$Q$17","v":"Lab"},null,{"$f":"'Student 1'!$S$17","v":"Total  "},{"$f":"'Student 1'!$T$17","v":"Letter"}]
[{"$f":"'Student 1'!$A$18","v":"I D "},{"$f":"'Student 1'!$B$18","v":"First:"},{"$f":"'Student 1'!$C$18","v":"Last:"},{"$f":"'Student 1'!$D$18","v":"CH 7"},{"$f":"'Student 1'!$E$18","v":"CH 14"},{"$f":"'Student 1'!$F$18","v":"C & L"},{"$f":"'Student 1'!$G$18","v":"CH 18"},{"$f":"'Student 1'!$H$18","v":"CH 22"},{"$f":"'Student 1'!$I$18","v":"CH 22"},{"$f":"'Student 1'!$J$18","v":"Credit"},{"$f":"'Student 1'!$K$18","v":"TEST"},{"$f":"'Student 1'!$L$18","v":"Points"},{"$f":"'Student 1'!$M$18","v":"%"},{"$f":"'Student 1'!$N$18","v":"Attendance"},{"$f":"'Student 1'!$O$18","v":"Points"},{"$f":"'Student 1'!$P$18","v":"%"},{"$f":"'Student 1'!$Q$18","v":"Points"},{"$f":"'Student 1'!$R$18","v":"%"},{"$f":"'Student 1'!$S$18","v":"%"},{"$f":"'Student 1'!$T$18","v":"Grade"}]
[{"$f":"'Course 2 Class'!$A$28","v":{"v":23,"d":"00000023"}},{"$f":"'Course 2 Class'!$B$28","v":"Student"},{"$f":"'Course 2 Class'!$C$28","v":"Twenty three"},{"$f":"'Course 2 Class'!$D$28","v":0},{"$f":"'Course 2 Class'!$E$28","v":0},{"$f":"'Course 2 Class'!$F$28","v":0},{"$f":"'Course 2 Class'!$G$28","v":0},{"$f":"'Course 2 Class'!$H$28","v":0},{"$f":"'Course 2 Class'!$I$28","v":0},{"$f":"'Course 2 Class'!$J$28","v":0},{"$f":"'Course 2 Class'!$K$28","v":0},{"$f":"'Course 2 Class'!$L$28","v":0},{"$f":"'Course 2 Class'!$M$28","v":{"v":0,"d":"0%"}},{"$f":"'Course 2 Class'!$N$28","v":{"v":1,"d":"100%"}},{"$f":"'Course 2 Class'!$O$28","v":72},{"$f":"'Course 2 Class'!$P$28","v":{"v":1,"d":"100%"}},{"$f":"'Course 2 Class'!$Q$28","v":0},{"$f":"'Course 2 Class'!$R$28","v":{"v":0,"d":"0%"}},{"$f":"'Course 2 Class'!$S$28","v":{"v":0.25,"d":"25%"}},{"$f":"'Course 2 Class'!$T$28","v":"F"}]
[{"$f":"'Student 1'!$A$20","v":"Course 2 Engine Theory & Repair. Lab"}]
[{"$f":"'Student 1'!$A$21","v":"  Max Shop Points:"},null,{"$f":"'Student 1'!$C$21","v":1450},{"$f":"'Student 1'!$D$21","v":"Engine"},{"$f":"'Student 1'!$E$21","v":"Cylinder"},{"$f":"'Student 1'!$F$21","v":"Red"},{"$f":"'Student 1'!$G$21","v":"Mitsubishi"},{"$f":"'Student 1'!$H$21","v":"Any"},{"$f":"'Student 1'!$I$21","v":"DOHC"},{"$f":"'Student 1'!$J$21","v":"Valve seal"},{"$f":"'Student 1'!$K$21","v":"Misc."},{"$f":"'Student 1'!$L$21","v":" "}]
[{"$f":"'Student 1'!$A$22","v":"Max shop points available depend on how much customer work is done."},null,null,{"$f":"'Student 1'!$D$22","v":"Disassemble"},{"$f":"'Student 1'!$E$22","v":"Head"},{"$f":"'Student 1'!$F$22","v":"Dodge"},{"$f":"'Student 1'!$G$22","v":"\"3.0L\""},{"$f":"'Student 1'!$H$22","v":"Engine"},{"$f":"'Student 1'!$I$22","v":"Engine"},{"$f":"'Student 1'!$J$22","v":"&"},{"$f":"'Student 1'!$K$22","v":"Engine "},{"$f":"'Student 1'!$L$22","v":"Cus"},{"$f":"'Student 1'!$M$22","v":"Comp"}]
[{"$nulls":3},{"$f":"'Student 1'!$D$23","v":"& Measure"},{"$f":"'Student 1'!$E$23","v":"Repair"},{"$f":"'Student 1'!$F$23","v":"Clip"},{"$f":"'Student 1'!$G$23","v":"Clip"},{"$f":"'Student 1'!$H$23","v":"T-chain"},{"$f":"'Student 1'!$I$23","v":" Stand"},{"$f":"'Student 1'!$J$23","v":"Lobe lift"},{"$f":"'Student 1'!$K$23","v":"Points"},{"$f":"'Student 1'!$L$23","v":"tomer"},{"$f":"'Student 1'!$M$23","v":"etency"},{"$f":"'Student 1'!$N$23","v":" "},{"$f":"'Student 1'!$O$23","v":" "}]
[{"$nulls":3},{"$f":"'Student 1'!$D$24","v":1},{"$f":"'Student 1'!$E$24","v":1},{"$f":"'Student 1'!$F$24","v":1},{"$f":"'Student 1'!$G$24","v":1},{"$f":"'Student 1'!$H$24","v":1},{"$f":"'Student 1'!$I$24","v":1},{"$f":"'Student 1'!$J$24","v":1},null,{"$f":"'Student 1'!$L$24","v":"Work"},{"$f":"'Student 1'!$M$24","v":"0 or 1"},{"$f":"'Student 1'!$N$24","v":"Lab"}]
[{"$f":"'Student 1'!$A$25","v":"ID"},{"$f":"'Student 1'!$B$25","v":"First:"},{"$f":"'Student 1'!$C$25","v":"Last:"},{"$f":"'Student 1'!$D$25","v":300},{"$f":"'Student 1'!$E$25","v":200},{"$f":"'Student 1'!$F$25","v":100},{"$f":"'Student 1'!$G$25","v":100},{"$f":"'Student 1'!$H$25","v":100},{"$f":"'Student 1'!$I$25","v":100},{"$f":"'Student 1'!$J$25","v":50},{"$f":"'Student 1'!$K$25","v":200},{"$f":"'Student 1'!$L$25","v":300},{"$f":"'Student 1'!$M$25","v":"*"},{"$f":"'Student 1'!$N$25","v":"Points"},{"$f":"'Student 1'!$O$25","v":"%"}]
[{"$f":"'Course 2 Lab'!$A$29","v":{"v":23,"d":"00000023"}},{"$f":"'Course 2 Lab'!$B$29","v":"Student"},{"$f":"'Course 2 Lab'!$C$29","v":"Twenty three"},{"$f":"'Course 2 Lab'!$D$29","v":0},{"$f":"'Course 2 Lab'!$E$29","v":0},{"$f":"'Course 2 Lab'!$F$29","v":0},{"$f":"'Course 2 Lab'!$G$29","v":0},{"$f":"'Course 2 Lab'!$H$29","v":0},{"$f":"'Course 2 Lab'!$I$29","v":0},{"$f":"'Course 2 Lab'!$J$29","v":0},{"$f":"'Course 2 Lab'!$K$29","v":0},{"$f":"'Course 2 Lab'!$L$29","v":0},{"$f":"'Course 2 Lab'!$M$29","v":1},{"$f":"'Course 2 Lab'!$N$29","v":0},{"$f":"'Course 2 Lab'!$O$29","v":{"v":0,"d":"0%"}}]
[{"$f":"'Student 1'!$A$27","v":"Course 3 Steering & Suspension. Class."},{"$nulls":11},{"$f":"'Student 1'!$M$27","v":25}]
[{"$f":"'Student 1'!$A$28","v":" "},{"$f":"'Student 1'!$B$28","v":"Date assignment is due:"},null,{"$f":"'Student 1'!$D$28","v":"1/18"},{"$f":"'Student 1'!$E$28","v":"2/2"},{"$f":"'Student 1'!$F$28","v":"TBD"},{"$f":"'Student 1'!$G$28","v":"TBD"},{"$f":"'Student 1'!$H$28","v":"TBD"},{"$f":"'Student 1'!$I$28","v":"TBD"},{"$f":"'Student 1'!$J$28","v":"TBD"},{"$f":"'Student 1'!$K$28","v":"TBD"},{"$f":"'Student 1'!$L$28","v":"TBD"},{"$f":"'Student 1'!$M$28","v":"TBD"},{"$f":"'Student 1'!$N$28","v":"TBD"}]
[{"$f":"'Student 1'!$A$29","v":"Class Room Points:"},null,{"$f":"'Student 1'!$C$29","v":330},{"$f":"'Student 1'!$D$29","v":20},{"$f":"'Student 1'!$E$29","v":20},{"$f":"'Student 1'!$F$29","v":24},{"$f":"'Student 1'!$G$29","v":20},{"$f":"'Student 1'!$H$29","v":25},{"$f":"'Student 1'!$I$29","v":30},{"$f":"'Student 1'!$J$29","v":20},{"$f":"'Student 1'!$K$29","v":26},{"$f":"'Student 1'!$L$29","v":45},{"$f":"'Student 1'!$M$29","v":" "},{"$f":"'Student 1'!$N$29","v":100},{"$f":"'Student 1'!$O$29","v":"Evaluation"}]
[{"$f":"'Student 1'!$A$30","v":"Red is late turn-in"},null,{"$f":"'Student 1'!$C$30","v":"Blue is absent"},{"$f":"'Student 1'!$D$30","v":"HW"},{"$f":"'Student 1'!$E$30","v":"HW"},{"$f":"'Student 1'!$F$30","v":"HW"},{"$f":"'Student 1'!$G$30","v":"QZ"},{"$f":"'Student 1'!$H$30","v":"HW"},{"$f":"'Student 1'!$I$30","v":"HW"},{"$f":"'Student 1'!$J$30","v":"Test"},{"$f":"'Student 1'!$K$30","v":"HW"},{"$f":"'Student 1'!$L$30","v":"Class"},{"$f":"'Student 1'!$M$30","v":"Extra"},{"$f":"'Student 1'!$N$30","v":"Final"},{"$f":"'Student 1'!$O$30","v":"Class"},null,{"$f":"'Student 1'!$Q$30","v":"Professionalism"},null,null,{"$f":"'Student 1'!$T$30","v":"Lab"},null,{"$f":"'Student 1'!$V$30","v":"Total  "},{"$f":"'Student 1'!$W$30","v":"Letter"}]
[{"$f":"'Student 1'!$A$31","v":"I D "},{"$f":"'Student 1'!$B$31","v":"First:"},{"$f":"'Student 1'!$C$31","v":"Last:"},{"$f":"'Student 1'!$D$31","v":"CH 1"},{"$f":"'Student 1'!$E$31","v":"CH 2"},{"$f":"'Student 1'!$F$31","v":"CH 3"},{"$f":"'Student 1'!$G$31","v":"1"},{"$f":"'Student 1'!$H$31","v":"CH 6"},{"$f":"'Student 1'!$I$31","v":"CH 9"},{"$f":"'Student 1'!$J$31","v":"1 – 9"},{"$f":"'Student 1'!$K$31","v":"CH 12"},{"$f":"'Student 1'!$L$31","v":"Project"},{"$f":"'Student 1'!$M$31","v":"Credit"},{"$f":"'Student 1'!$N$31","v":"TEST"},{"$f":"'Student 1'!$O$31","v":"Points"},{"$f":"'Student 1'!$P$31","v":"%"},{"$f":"'Student 1'!$Q$31","v":"Attendance"},{"$f":"'Student 1'!$R$31","v":"Points"},{"$f":"'Student 1'!$S$31","v":"%"},{"$f":"'Student 1'!$T$31","v":"Points"},{"$f":"'Student 1'!$U$31","v":"%"},{"$f":"'Student 1'!$V$31","v":"%"},{"$f":"'Student 1'!$W$31","v":"Grade"}]
[{"$f":"'Course 3 Class'!$A$28","v":{"v":23,"d":"00000023"}},{"$f":"'Course 3 Class'!$B$28","v":"Student"},{"$f":"'Course 3 Class'!$C$28","v":"Twenty three"},{"$f":"'Course 3 Class'!$D$28","v":0},{"$f":"'Course 3 Class'!$E$28","v":0},{"$f":"'Course 3 Class'!$F$28","v":0},{"$f":"'Course 3 Class'!$G$28","v":0},{"$f":"'Course 3 Class'!$H$28","v":0},{"$f":"'Course 3 Class'!$I$28","v":0},{"$f":"'Course 3 Class'!$J$28","v":0},{"$f":"'Course 3 Class'!$K$28","v":0},{"$f":"'Course 3 Class'!$L$28","v":0},{"$f":"'Course 3 Class'!$M$28","v":0},{"$f":"'Course 3 Class'!$N$28","v":0},{"$f":"'Course 3 Class'!$O$28","v":0},{"$f":"'Course 3 Class'!$P$28","v":{"v":0,"d":"0%"}},{"$f":"'Course 3 Class'!$Q$28","v":{"v":1,"d":"100%"}},{"$f":"'Course 3 Class'!$R$28","v":72},{"$f":"'Course 3 Class'!$S$28","v":{"v":1,"d":"100%"}},{"$f":"'Course 3 Class'!$T$28","v":0},{"$f":"'Course 3 Class'!$U$28","v":{"v":0,"d":"0%"}},{"$f":"'Course 3 Class'!$V$28","v":{"v":0.25,"d":"25%"}},{"$f":"'Course 3 Class'!$W$28","v":"F"}]
[{"$f":"'Student 1'!$A$33","v":"Course 3 Steering & Suspension. Lab"}]
[{"$f":"'Student 1'!$A$34","v":"Max shop points"},null,{"$f":"'Student 1'!$C$34","v":1350},{"$f":"'Student 1'!$D$34","v":"Repair"},{"$f":"'Student 1'!$E$34","v":"Identify"},{"$f":"'Student 1'!$F$34","v":"Repair"},{"$f":"'Student 1'!$G$34","v":"Identify"},{"$f":"'Student 1'!$H$34","v":"Repair"},{"$f":"'Student 1'!$I$34","v":"R&R"},{"$f":"'Student 1'!$J$34","v":"R&R"},{"$f":"'Student 1'!$K$34","v":"R&R"},{"$f":"'Student 1'!$L$34","v":"P/S"},{"$f":"'Student 1'!$M$34","v":"R&R"},{"$f":"'Student 1'!$N$34","v":"NVH"},{"$f":"'Student 1'!$O$34","v":" "}]
[{"$f":"'Student 1'!$A$35","v":"Max shop points available depend on how much customer work is done."},null,null,{"$f":"'Student 1'!$D$35","v":"SLA"},{"$f":"'Student 1'!$E$35","v":"SLA"},{"$f":"'Student 1'!$F$35","v":"Mac-P"},{"$f":"'Student 1'!$G$35","v":"Mac-P"},{"$f":"'Student 1'!$H$35","v":"Rear"},{"$f":"'Student 1'!$I$35","v":"Rack &"},{"$f":"'Student 1'!$J$35","v":"Recirc."},{"$f":"'Student 1'!$K$35","v":"P/S"},{"$f":"'Student 1'!$L$35","v":"Pump"},{"$f":"'Student 1'!$M$35","v":"Inner"},{"$f":"'Student 1'!$N$35","v":"Runout &"},{"$f":"'Student 1'!$O$35","v":"Cus"},{"$f":"'Student 1'!$P$35","v":"Comp"}]
[{"$nulls":3},{"$f":"'Student 1'!$D$36","v":"Susp"},{"$f":"'Student 1'!$E$36","v":"Parts"},{"$f":"'Student 1'!$F$36","v":"Susp"},{"$f":"'Student 1'!$G$36","v":"Parts"},{"$f":"'Student 1'!$H$36","v":"Susp"},{"$f":"'Student 1'!$I$36","v":"Pinion"},{"$f":"'Student 1'!$J$36","v":"Gear"},{"$f":"'Student 1'!$K$36","v":"Pump"},{"$f":"'Student 1'!$L$36","v":"Test"},{"$f":"'Student 1'!$M$36","v":"Tie-Rod"},{"$f":"'Student 1'!$N$36","v":"bal. Check"},{"$f":"'Student 1'!$O$36","v":"tomer"},{"$f":"'Student 1'!$P$36","v":"etency"},{"$f":"'Student 1'!$Q$36","v":" "},{"$f":"'Student 1'!$R$36","v":" "},null,null,{"$f":"'Student 1'!$U$36","v":"Final Grade"}]
[{"$nulls":3},{"$f":"'Student 1'!$D$37","v":1},{"$f":"'Student 1'!$E$37","v":2},{"$f":"'Student 1'!$F$37","v":3},{"$f":"'Student 1'!$G$37","v":2},{"$f":"'Student 1'!$H$37","v":1},{"$f":"'Student 1'!$I$37","v":1},{"$f":"'Student 1'!$J$37","v":1},{"$f":"'Student 1'!$K$37","v":1},{"$f":"'Student 1'!$L$37","v":1},{"$f":"'Student 1'!$M$37","v":1},{"$f":"'Student 1'!$N$37","v":1},{"$f":"'Student 1'!$O$37","v":"Work"},{"$f":"'Student 1'!$P$37","v":"0 or 1"},{"$f":"'Student 1'!$Q$37","v":"Lab"},{"$nulls":3},{"$f":"'Student 1'!$U$37","v":{"v":0,"d":"0%"}},{"$f":"'Student 1'!$V$37","v":"F"}]
[{"$f":"'Student 1'!$A$38","v":"ID"},{"$f":"'Student 1'!$B$38","v":"First:"},{"$f":"'Student 1'!$C$38","v":"Last:"},{"$f":"'Student 1'!$D$38","v":150},{"$f":"'Student 1'!$E$38","v":50},{"$f":"'Student 1'!$F$38","v":225},{"$f":"'Student 1'!$G$38","v":50},{"$f":"'Student 1'!$H$38","v":50},{"$f":"'Student 1'!$I$38","v":150},{"$f":"'Student 1'!$J$38","v":125},{"$f":"'Student 1'!$K$38","v":50},{"$f":"'Student 1'!$L$38","v":50},{"$f":"'Student 1'!$M$38","v":50},{"$f":"'Student 1'!$N$38","v":100},{"$f":"'Student 1'!$O$38","v":300},{"$f":"'Student 1'!$P$38","v":"*"},{"$f":"'Student 1'!$Q$38","v":"Points"},{"$f":"'Student 1'!$R$38","v":"%"},null,null,{"$f":"'Student 1'!$U$38","v":{"v":0.695,"d":"70%"}},{"$f":"'Student 1'!$V$38","v":"D-"}]
[{"$f":"'Course 3 Lab'!$A$29","v":{"v":23,"d":"00000023"}},{"$f":"'Course 3 Lab'!$B$29","v":"Student"},{"$f":"'Course 3 Lab'!$C$29","v":"Twenty three"},{"$f":"'Course 3 Lab'!$D$29","v":0},{"$f":"'Course 3 Lab'!$E$29","v":0},{"$f":"'Course 3 Lab'!$F$29","v":0},{"$f":"'Course 3 Lab'!$G$29","v":0},{"$f":"'Course 3 Lab'!$H$29","v":0},{"$f":"'Course 3 Lab'!$I$29","v":0},{"$f":"'Course 3 Lab'!$J$29","v":0},{"$f":"'Course 3 Lab'!$K$29","v":0},{"$f":"'Course 3 Lab'!$L$29","v":0},{"$f":"'Course 3 Lab'!$M$29","v":0},{"$f":"'Course 3 Lab'!$N$29","v":0},{"$f":"'Course 3 Lab'!$O$29","v":0},{"$f":"'Course 3 Lab'!$P$29","v":1},{"$f":"'Course 3 Lab'!$Q$29","v":0},{"$f":"'Course 3 Lab'!$R$29","v":{"v":0,"d":"0%"}},null,null,{"$f":"'Student 1'!$U$39","v":{"v":0.715,"d":"72%"}},{"$f":"'Student 1'!$V$39","v":"D"}]
[{"$f":"'Student 1'!$A$40","v":"Course 4 Alignment. Class."},{"$nulls":7},{"$f":"'Student 1'!$I$40","v":25},{"$nulls":11},{"$f":"'Student 1'!$U$40","v":{"v":0.735,"d":"74%"}},{"$f":"'Student 1'!$V$40","v":"D+"}]
[{"$f":"'Student 1'!$A$41","v":" "},{"$f":"'Student 1'!$B$41","v":"Date assignment is due  "},null,{"$f":"'Student 1'!$D$41","v":"TBD"},{"$f":"'Student 1'!$E$41","v":"TBD"},{"$f":"'Student 1'!$F$41","v":"TBD"},{"$f":"'Student 1'!$G$41","v":"TBD"},{"$f":"'Student 1'!$H$41","v":"TBD"},{"$f":"'Student 1'!$I$41","v":"TBD"},{"$f":"'Student 1'!$J$41","v":"TBD"},{"$nulls":10},{"$f":"'Student 1'!$U$41","v":{"v":0.755,"d":"76%"}},{"$f":"'Student 1'!$V$41","v":"C-"}]
[{"$f":"'Student 1'!$A$42","v":"Class Room Points:"},null,{"$f":"'Student 1'!$C$42","v":235},{"$f":"'Student 1'!$D$42","v":25},{"$f":"'Student 1'!$E$42","v":25},{"$f":"'Student 1'!$F$42","v":20},{"$f":"'Student 1'!$G$42","v":40},{"$f":"'Student 1'!$H$42","v":50},{"$f":"'Student 1'!$I$42","v":" "},{"$f":"'Student 1'!$J$42","v":75},{"$f":"'Student 1'!$K$42","v":"Evaluation"},{"$nulls":9},{"$f":"'Student 1'!$U$42","v":{"v":0.785,"d":"79%"}},{"$f":"'Student 1'!$V$42","v":"C"}]
[{"$f":"'Student 1'!$A$43","v":"Red is late turn-in"},null,{"$f":"'Student 1'!$C$43","v":"Blue is absent"},{"$f":"'Student 1'!$D$43","v":"CH 16"},{"$f":"'Student 1'!$E$43","v":"CH 16"},{"$f":"'Student 1'!$F$43","v":"Align"},{"$f":"'Student 1'!$G$43","v":"In class"},{"$f":"'Student 1'!$H$43","v":"In class"},{"$f":"'Student 1'!$I$43","v":"Extra"},{"$f":"'Student 1'!$J$43","v":"Final"},{"$f":"'Student 1'!$K$43","v":"Class"},null,{"$f":"'Student 1'!$M$43","v":"Professionalism"},null,null,{"$f":"'Student 1'!$P$43","v":"Lab"},null,{"$f":"'Student 1'!$R$43","v":"Total  "},{"$f":"'Student 1'!$S$43","v":"Letter"},null,{"$f":"'Student 1'!$U$43","v":{"v":0.815,"d":"82%"}},{"$f":"'Student 1'!$V$43","v":"C+"}]
[{"$f":"'Student 1'!$A$44","v":"I D "},{"$f":"'Student 1'!$B$44","v":"First:"},{"$f":"'Student 1'!$C$44","v":"Last:"},{"$f":"'Student 1'!$D$44","v":"HW"},{"$f":"'Student 1'!$E$44","v":"Test"},{"$f":"'Student 1'!$F$44","v":"HW"},{"$f":"'Student 1'!$G$44","v":"Project1"},{"$f":"'Student 1'!$H$44","v":"Project2"},{"$f":"'Student 1'!$I$44","v":"Credit"},{"$f":"'Student 1'!$J$44","v":"Test"},{"$f":"'Student 1'!$K$44","v":"Points"},{"$f":"'Student 1'!$L$44","v":"%"},{"$f":"'Student 1'!$M$44","v":"Attendance"},{"$f":"'Student 1'!$N$44","v":"Points"},{"$f":"'Student 1'!$O$44","v":"%"},{"$f":"'Student 1'!$P$44","v":"Points"},{"$f":"'Student 1'!$Q$44","v":"%"},{"$f":"'Student 1'!$R$44","v":"%"},{"$f":"'Student 1'!$S$44","v":"Grade"},null,{"$f":"'Student 1'!$U$44","v":{"v":0.845,"d":"85%"}},{"$f":"'Student 1'!$V$44","v":"B-"}]
[{"$f":"'Course 4 Class'!$A$28","v":{"v":23,"d":"00000023"}},{"$f":"'Course 4 Class'!$B$28","v":"Student"},{"$f":"'Course 4 Class'!$C$28","v":"Twenty three"},{"$f":"'Course 4 Class'!$D$28","v":0},{"$f":"'Course 4 Class'!$E$28","v":0},{"$f":"'Course 4 Class'!$F$28","v":0},{"$f":"'Course 4 Class'!$G$28","v":0},{"$f":"'Course 4 Class'!$H$28","v":0},{"$f":"'Course 4 Class'!$I$28","v":0},{"$f":"'Course 4 Class'!$J$28","v":0},{"$f":"'Course 4 Class'!$K$28","v":0},{"$f":"'Course 4 Class'!$L$28","v":{"v":0,"d":"0%"}},{"$f":"'Course 4 Class'!$M$28","v":{"v":1,"d":"100%"}},{"$f":"'Course 4 Class'!$N$28","v":72},{"$f":"'Course 4 Class'!$O$28","v":{"v":1,"d":"100%"}},{"$f":"'Course 4 Class'!$P$28","v":0},{"$f":"'Course 4 Class'!$Q$28","v":{"v":0,"d":"0%"}},{"$f":"'Course 4 Class'!$R$28","v":{"v":0.25,"d":"25%"}},{"$f":"'Course 4 Class'!$S$28","v":"F"},null,{"$f":"'Student 1'!$U$45","v":{"v":0.875,"d":"88%"}},{"$f":"'Student 1'!$V$45","v":"B"}]
[{"$f":"'Student 1'!$A$46","v":"Course 4 Alignment. Lab"},{"$nulls":19},{"$f":"'Student 1'!$U$46","v":{"v":0.895,"d":"90%"}},{"$f":"'Student 1'!$V$46","v":"B+"}]
[{"$f":"'Student 1'!$A$47","v":"Max Shop Points:"},null,{"$f":"'Student 1'!$C$47","v":1300},{"$f":"'Student 1'!$D$47","v":"Alignment"},{"$f":"'Student 1'!$E$47","v":"Complete"},{"$f":"'Student 1'!$F$47","v":"Cus"},{"$f":"'Student 1'!$G$47","v":" "},{"$nulls":13},{"$f":"'Student 1'!$U$47","v":{"v":0.925,"d":"93%"}},{"$f":"'Student 1'!$V$47","v":"A-"}]
[{"$f":"'Student 1'!$A$48","v":"Max shop points available depend on how much customer work is done."},null,null,{"$f":"'Student 1'!$D$48","v":"Pre-check"},{"$f":"'Student 1'!$E$48","v":"Wheel"},{"$f":"'Student 1'!$F$48","v":"tomer"},{"$f":"'Student 1'!$G$48","v":"Comp"},{"$nulls":13},{"$f":"'Student 1'!$U$48","v":{"v":0.945,"d":"95%"}},{"$f":"'Student 1'!$V$48","v":"A"}]
[{"$nulls":3},{"$f":"'Student 1'!$D$49","v":"100 P"},{"$f":"'Student 1'!$E$49","v":"Alignment"},{"$f":"'Student 1'!$F$49","v":"Work"},{"$f":"'Student 1'!$G$49","v":"etency"},{"$f":"'Student 1'!$H$49","v":" "},{"$f":"'Student 1'!$I$49","v":" "},{"$nulls":11},{"$f":"'Student 1'!$U$49","v":{"v":1,"d":"100%"}},{"$f":"'Student 1'!$V$49","v":"A"}]
[{"$nulls":3},{"$f":"'Student 1'!$D$50","v":1},{"$f":"'Student 1'!$E$50","v":1},{"$f":"'Student 1'!$F$50","v":" "},{"$f":"'Student 1'!$G$50","v":"0 or 1"},{"$f":"'Student 1'!$H$50","v":"Lab"}]
[{"$f":"'Student 1'!$A$51","v":"ID"},{"$f":"'Student 1'!$B$51","v":"First:"},{"$f":"'Student 1'!$C$51","v":"Last:"},{"$f":"'Student 1'!$D$51","v":100},{"$f":"'Student 1'!$E$51","v":900},{"$f":"'Student 1'!$F$51","v":300},{"$f":"'Student 1'!$G$51","v":"*"},{"$f":"'Student 1'!$H$51","v":"Points"},{"$f":"'Student 1'!$I$51","v":"%"}]
[{"$f":"'Course 4 Lab'!$A$29","v":{"v":23,"d":"00000023"}},{"$f":"'Course 4 Lab'!$B$29","v":"Student"},{"$f":"'Course 4 Lab'!$C$29","v":"Twenty three"},{"$f":"'Course 4 Lab'!$D$29","v":0},{"$f":"'Course 4 Lab'!$E$29","v":0},{"$f":"'Course 4 Lab'!$F$29","v":0},{"$f":"'Course 4 Lab'!$G$29","v":1},{"$f":"'Course 4 Lab'!$H$29","v":0},{"$f":"'Course 4 Lab'!$I$29","v":{"v":0,"d":"0%"}}]
[{"$f":"'Student 1'!$A$53","v":"Course 5 Brake Systems. Class."},{"$nulls":10},{"$f":"'Student 1'!$L$53","v":35}]
[{"$f":"'Student 1'!$A$54","v":"Date assignment is due:"},null,{"$f":"'Student 1'!$C$54","v":" "},{"$f":"'Student 1'!$D$54","v":"TBD"},{"$f":"'Student 1'!$E$54","v":"TBD"},{"$f":"'Student 1'!$F$54","v":"TBD"},{"$f":"'Student 1'!$G$54","v":"TBD"},{"$f":"'Student 1'!$H$54","v":"TBD"},{"$f":"'Student 1'!$I$54","v":"TBD"},{"$f":"'Student 1'!$J$54","v":"TBD"},{"$f":"'Student 1'!$K$54","v":"TBD"},{"$f":"'Student 1'!$L$54","v":"TBD"},{"$f":"'Student 1'!$M$54","v":"TBD"}]
[{"$f":"'Student 1'!$A$55","v":"Class Room Points:"},null,{"$f":"'Student 1'!$C$55","v":440},{"$f":"'Student 1'!$D$55","v":30},{"$f":"'Student 1'!$E$55","v":25},{"$f":"'Student 1'!$F$55","v":100},{"$f":"'Student 1'!$G$55","v":30},{"$f":"'Student 1'!$H$55","v":50},{"$f":"'Student 1'!$I$55","v":30},{"$f":"'Student 1'!$J$55","v":25},{"$f":"'Student 1'!$K$55","v":50},{"$f":"'Student 1'!$L$55","v":" "},{"$f":"'Student 1'!$M$55","v":100},{"$f":"'Student 1'!$N$55","v":"Evaluation"}]
[{"$f":"'Student 1'!$A$56","v":"Red is late turn-in"},null,{"$f":"'Student 1'!$C$56","v":"Blue is absent"},{"$f":"'Student 1'!$D$56","v":"HW"},{"$f":"'Student 1'!$E$56","v":"HW"},{"$f":"'Student 1'!$F$56","v":"Test"},{"$f":"'Student 1'!$G$56","v":"HW"},{"$f":"'Student 1'!$H$56","v":"Test"},{"$f":"'Student 1'!$I$56","v":"HW"},{"$f":"'Student 1'!$J$56","v":"Test"},{"$f":"'Student 1'!$K$56","v":"Class"},{"$f":"'Student 1'!$L$56","v":"Extra"},{"$f":"'Student 1'!$M$56","v":"Final"},{"$f":"'Student 1'!$N$56","v":"Class"},null,{"$f":"'Student 1'!$P$56","v":"Professionalism"},null,null,{"$f":"'Student 1'!$S$56","v":"Lab"},null,{"$f":"'Student 1'!$U$56","v":"Total  "},{"$f":"'Student 1'!$V$56","v":"Letter"}]
[{"$f":"'Student 1'!$A$57","v":"I D "},{"$f":"'Student 1'!$B$57","v":"First:"},{"$f":"'Student 1'!$C$57","v":"Last:"},{"$f":"'Student 1'!$D$57","v":"CH 4"},{"$f":"'Student 1'!$E$57","v":"CH 5"},{"$f":"'Student 1'!$F$57","v":"#1"},{"$f":"'Student 1'!$G$57","v":"CH 7"},{"$f":"'Student 1'!$H$57","v":"Conv"},{"$f":"'Student 1'!$I$57","v":"CH 20"},{"$f":"'Student 1'!$J$57","v":"21/22"},{"$f":"'Student 1'!$K$57","v":"Project"},{"$f":"'Student 1'!$L$57","v":"Credit"},{"$f":"'Student 1'!$M$57","v":"Test"},{"$f":"'Student 1'!$N$57","v":"Points"},{"$f":"'Student 1'!$O$57","v":"%"},{"$f":"'Student 1'!$P$57","v":"Attendance"},{"$f":"'Student 1'!$Q$57","v":"Points"},{"$f":"'Student 1'!$R$57","v":"%"},{"$f":"'Student 1'!$S$57","v":"Points"},{"$f":"'Student 1'!$T$57","v":"%"},{"$f":"'Student 1'!$U$57","v":"%"},{"$f":"'Student 1'!$V$57","v":"Grade"}]
[{"$f":"'Course 5 Class'!$A$28","v":{"v":23,"d":"00000023"}},{"$f":"'Course 5 Class'!$B$28","v":"Student"},{"$f":"'Course 5 Class'!$C$28","v":"Twenty three"},{"$f":"'Course 5 Class'!$D$28","v":0},{"$f":"'Course 5 Class'!$E$28","v":0},{"$f":"'Course 5 Class'!$F$28","v":0},{"$f":"'Course 5 Class'!$G$28","v":0},{"$f":"'Course 5 Class'!$H$28","v":0},{"$f":"'Course 5 Class'!$I$28","v":0},{"$f":"'Course 5 Class'!$J$28","v":0},{"$f":"'Course 5 Class'!$K$28","v":0},{"$f":"'Course 5 Class'!$L$28","v":0},{"$f":"'Course 5 Class'!$M$28","v":0},{"$f":"'Course 5 Class'!$N$28","v":0},{"$f":"'Course 5 Class'!$O$28","v":{"v":0,"d":"0%"}},{"$f":"'Course 5 Class'!$P$28","v":{"v":1,"d":"100%"}},{"$f":"'Course 5 Class'!$Q$28","v":72},{"$f":"'Course 5 Class'!$R$28","v":{"v":1,"d":"100%"}},{"$f":"'Course 5 Class'!$S$28","v":0},{"$f":"'Course 5 Class'!$T$28","v":{"v":0,"d":"0%"}},{"$f":"'Course 5 Class'!$U$28","v":{"v":0.25,"d":"25%"}},{"$f":"'Course 5 Class'!$V$28","v":"F"}]
[{"$f":"'Student 1'!$A$59","v":"Course 5 Brake Systems. Lab"}]
[{"$f":"'Student 1'!$A$60","v":"  Max Shop Points:"},null,{"$f":"'Student 1'!$C$60","v":970},{"$f":"'Student 1'!$D$60","v":"Drum"},{"$f":"'Student 1'!$E$60","v":"Drum "},{"$f":"'Student 1'!$F$60","v":"Disc"},{"$f":"'Student 1'!$G$60","v":"On Car"},{"$f":"'Student 1'!$H$60","v":"Off Car"},{"$f":"'Student 1'!$I$60","v":"Wheel"},{"$f":"'Student 1'!$J$60","v":"Hydr."},{"$f":"'Student 1'!$K$60","v":"Vacuum"},{"$f":"'Student 1'!$L$60","v":"Warning"},{"$f":"'Student 1'!$M$60","v":"Brake"},{"$f":"'Student 1'!$N$60","v":"Brake"},{"$f":"'Student 1'!$O$60","v":"Dodge"},{"$f":"'Student 1'!$P$60","v":"Ford"},{"$f":"'Student 1'!$Q$60","v":"GM"},{"$f":"'Student 1'!$R$60","v":"Cus"},{"$f":"'Student 1'!$S$60","v":"Brake"}]
[{"$f":"'Student 1'!$A$61","v":"Max shop points available depend on how much customer work is done."},null,null,{"$f":"'Student 1'!$D$61","v":"Brake"},{"$f":"'Student 1'!$E$61","v":"Brake "},{"$f":"'Student 1'!$F$61","v":"Brake"},{"$f":"'Student 1'!$G$61","v":"Disc"},{"$f":"'Student 1'!$H$61","v":"Disc"},{"$f":"'Student 1'!$I$61","v":"Bearing"},{"$f":"'Student 1'!$J$61","v":"Line"},{"$f":"'Student 1'!$K$61","v":"Booster"},{"$f":"'Student 1'!$L$61","v":"Light"},{"$f":"'Student 1'!$M$61","v":"System"},{"$f":"'Student 1'!$N$61","v":"Valves"},{"$f":"'Student 1'!$O$61","v":"Anti"},{"$f":"'Student 1'!$P$61","v":"Anti"},{"$f":"'Student 1'!$Q$61","v":"Anti"},{"$f":"'Student 1'!$R$61","v":"tomer"},{"$f":"'Student 1'!$S$61","v":"Comp"}]
[{"$nulls":3},{"$f":"'Student 1'!$D$62","v":"Job"},{"$f":"'Student 1'!$E$62","v":"Mach."},{"$f":"'Student 1'!$F$62","v":"Job"},{"$f":"'Student 1'!$G$62","v":"Mach."},{"$f":"'Student 1'!$H$62","v":"Mach."},{"$f":"'Student 1'!$I$62","v":"Service"},{"$f":"'Student 1'!$J$62","v":"Repair"},{"$f":"'Student 1'!$K$62","v":"Service"},{"$f":"'Student 1'!$L$62","v":"Service"},{"$f":"'Student 1'!$M$62","v":"Bleed"},{"$f":"'Student 1'!$N$62","v":"Check"},{"$f":"'Student 1'!$O$62","v":"Lock"},{"$f":"'Student 1'!$P$62","v":"Lock"},{"$f":"'Student 1'!$Q$62","v":"Lock"},{"$f":"'Student 1'!$R$62","v":"Work"},{"$f":"'Student 1'!$S$62","v":"etency"}]
[{"$nulls":3},{"$f":"'Student 1'!$D$63","v":2},{"$f":"'Student 1'!$E$63","v":2},{"$f":"'Student 1'!$F$63","v":2},{"$f":"'Student 1'!$G$63","v":2},{"$f":"'Student 1'!$H$63","v":2},{"$f":"'Student 1'!$I$63","v":1},{"$f":"'Student 1'!$J$63","v":1},{"$f":"'Student 1'!$K$63","v":2},{"$f":"'Student 1'!$L$63","v":2},{"$f":"'Student 1'!$M$63","v":4},{"$f":"'Student 1'!$N$63","v":1},{"$f":"'Student 1'!$O$63","v":1},{"$f":"'Student 1'!$P$63","v":1},{"$f":"'Student 1'!$Q$63","v":1},{"$f":"'Student 1'!$R$63","v":" "},{"$f":"'Student 1'!$S$63","v":"Required"},{"$f":"'Student 1'!$T$63","v":"Lab"}]
[{"$f":"'Student 1'!$A$64","v":"ID"},{"$f":"'Student 1'!$B$64","v":"First:"},{"$f":"'Student 1'!$C$64","v":"Last:"},{"$f":"'Student 1'!$D$64","v":150},{"$f":"'Student 1'!$E$64","v":40},{"$f":"'Student 1'!$F$64","v":150},{"$f":"'Student 1'!$G$64","v":80},{"$f":"'Student 1'!$H$64","v":40},{"$f":"'Student 1'!$I$64","v":50},{"$f":"'Student 1'!$J$64","v":30},{"$f":"'Student 1'!$K$64","v":30},{"$f":"'Student 1'!$L$64","v":40},{"$f":"'Student 1'!$M$64","v":80},{"$f":"'Student 1'!$N$64","v":40},{"$f":"'Student 1'!$O$64","v":80},{"$f":"'Student 1'!$P$64","v":80},{"$f":"'Student 1'!$Q$64","v":80},{"$f":"'Student 1'!$R$64","v":300},{"$f":"'Student 1'!$S$64","v":"*"},{"$f":"'Student 1'!$T$64","v":"Points"},{"$f":"'Student 1'!$U$64","v":"%"}]
[{"$f":"'Course 5 Lab'!$A$29","v":{"v":23,"d":"00000023"}},{"$f":"'Course 5 Lab'!$B$29","v":"Student"},{"$f":"'Course 5 Lab'!$C$29","v":"Twenty three"},{"$f":"'Course 5 Lab'!$D$29","v":0},{"$f":"'Course 5 Lab'!$E$29","v":0},{"$f":"'Course 5 Lab'!$F$29","v":0},{"$f":"'Course 5 Lab'!$G$29","v":0},{"$f":"'Course 5 Lab'!$H$29","v":0},{"$f":"'Course 5 Lab'!$I$29","v":0},{"$f":"'Course 5 Lab'!$J$29","v":0},{"$f":"'Course 5 Lab'!$K$29","v":0},{"$f":"'Course 5 Lab'!$L$29","v":0},{"$f":"'Course 5 Lab'!$M$29","v":0},{"$f":"'Course 5 Lab'!$N$29","v":0},{"$f":"'Course 5 Lab'!$O$29","v":0},{"$f":"'Course 5 Lab'!$P$29","v":0},{"$f":"'Course 5 Lab'!$Q$29","v":0},{"$f":"'Course 5 Lab'!$R$29","v":0},{"$f":"'Course 5 Lab'!$S$29","v":1},{"$f":"'Course 5 Lab'!$T$29","v":0},{"$f":"'Course 5 Lab'!$U$29","v":{"v":0,"d":"0%"}}]

{"sheet":"Student 24","index":37,"n_rows":65,"n_cols":23,"rows_kept":65,"merged":[[0,0,0,2],[1,0,1,2],[2,0,2,1],[2,9,2,17],[3,0,3,1],[3,9,3,10],[3,11,3,13],[3,14,3,15],[6,0,6,2],[7,0,7,1],[8,0,10,2],[10,16,10,17],[13,0,13,2],[14,1,14,2],[15,0,15,1],[15,11,15,19],[16,0,16,1],[16,11,16,12],[16,13,16,15],[16,16,16,17],[19,0,19,2],[20,0,20,1],[21,0,23,2],[23,13,23,14],[26,0,26,2],[27,1,27,2],[28,0,28,1],[28,14,28,22],[29,0,29,1],[29,14,29,15],[29,16,29,18],[29,19,29,20],[32,0,32,2],[33,0,33,1],[34,0,36,2],[35,20,35,21],[36,16,36,17],[39,0,39,2],[40,1,40,2],[41,0,41,1],[41,10,41,18],[42,0,42,1],[42,10,42,11],[42,12,42,14],[42,15,42,16],[45,0,45,2],[46,0,46,1],[47,0,49,2],[49,7,49,8],[52,0,52,2],[53,0,53,2],[54,0,54,1],[54,13,54,21],[55,0,55,1],[55,13,55,14],[55,15,55,17],[55,18,55,19],[58,0,58,2],[59,0,59,1],[60,0,62,2],[62,19,62,20]]}
[{"$f":"'Student 1'!$A$1","v":"Course 1 Engine Diagnosis. Class"},{"$nulls":6},{"$f":"'Student 1'!$H$1","v":25}]
[{"$f":"'Student 1'!$A$2","v":"Date assignment is due"},null,{"$f":"'Student 1'!$C$2","v":" "},{"$f":"'Student 1'!$D$2","v":"TBD"},{"$f":"'Student 1'!$E$2","v":"TBD"},{"$f":"'Student 1'!$F$2","v":"TBD"},{"$f":"'Student 1'!$G$2","v":"TBD"},{"$f":"'Student 1'!$H$2","v":"TBD"},{"$f":"'Student 1'!$I$2","v":"TBD"}]
[{"$f":"'Student 1'!$A$3","v":"Class Room Points:"},null,{"$f":"'Student 1'!$C$3","v":160},{"$f":"'Student 1'!$D$3","v":20},{"$f":"'Student 1'!$E$3","v":20},{"$f":"'Student 1'!$F$3","v":20},{"$f":"'Student 1'!$G$3","v":25},{"$f":"'Student 1'!$H$3","v":" "},{"$f":"'Student 1'!$I$3","v":75},{"$f":"'Student 1'!$J$3","v":"Evaluation"}]
[{"$f":"'Student 1'!$A$4","v":"Red is late turn-in"},null,{"$f":"'Student 1'!$C$4","v":"Blue is absent"},{"$f":"'Student 1'!$D$4","v":"CH 13 "},{"$f":"'Student 1'!$E$4","v":"Lube"},{"$f":"'Student 1'!$F$4","v":"Lube"},{"$f":"'Student 1'!$G$4","v":"Condition"},{"$f":"'Student 1'!$H$4","v":"Extra"},{"$f":"'Student 1'!$I$4","v":"Final"},{"$f":"'Student 1'!$J$4","v":"Classroom"},null,{"$f":"'Student 1'!$L$4","v":"Professionalism"},null,null,{"$f":"'Student 1'!$O$4","v":"Lab"},null,{"$f":"'Student 1'!$Q$4","v":"Total  "},{"$f":"'Student 1'!$R$4","v":"Letter"}]
[{"$f":"'Student 1'!$A$5","v":"I D "},{"$f":"'Student 1'!$B$5","v":"First:"},{"$f":"'Student 1'!$C$5","v":"Last:"},{"$f":"'Student 1'!$D$5","v":"Test"},{"$f":"'Student 1'!$E$5","v":"HW"},{"$f":"'Student 1'!$F$5","v":"Test"},{"$f":"'Student 1'!$G$5","v":"Class"},{"$f":"'Student 1'!$H$5","v":"Credit"},{"$f":"'Student 1'!$I$5","v":"Test"},{"$f":"'Student 1'!$J$5","v":"Points"},{"$f":"'Student 1'!$K$5","v":"%"},{"$f":"'Student 1'!$L$5","v":"Attendance"},{"$f":"'Student 1'!$M$5","v":"Points"},{"$f":"'Student 1'!$N$5","v":"%"},{"$f":"'Student 1'!$O$5","v":"Points"},{"$f":"'Student 1'!$P$5","v":"%"},{"$f":"'Student 1'!$Q$5","v":"%"},{"$f":"'Student 1'!$R$5","v":"Grade"}]
[{"$f":"'Course 1 Class'!$A$29","v":{"v":24,"d":"00000024"}},{"$f":"'Course 1 Class'!$B$29","v":"Student"},{"$f":"'Course 1 Class'!$C$29","v":"Twenty four"},{"$f":"'Course 1 Class'!$D$29","v":0},{"$f":"'Course 1 Class'!$E$29","v":0},{"$f":"'Course 1 Class'!$F$29","v":0},{"$f":"'Course 1 Class'!$G$29","v":0},{"$f":"'Course 1 Class'!$H$29","v":0},{"$f":"'Course 1 Class'!$I$29","v":0},{"$f":"'Course 1 Class'!$J$29","v":0},{"$f":"'Course 1 Class'!$K$29","v":{"v":0,"d":"0%"}},{"$f":"'Course 1 Class'!$L$29","v":{"v":1,"d":"100%"}},{"$f":"'Course 1 Class'!$M$29","v":72},{"$f":"'Course 1 Class'!$N$29","v":{"v":1,"d":"100%"}},{"$f":"'Course 1 Class'!$O$29","v":0},{"$f":"'Course 1 Class'!$P$29","v":{"v":0,"d":"0%"}},{"$f":"'Course 1 Class'!$Q$29","v":{"v":0.25,"d":"25%"}},{"$f":"'Course 1 Class'!$R$29","v":"F"}]
[{"$f":"'Student 1'!$A$7","v":"Course 1 Engine Diagnosis. Lab"}]
[{"$f":"'Student 1'!$A$8","v":"  Max Shop Points:"},null,{"$f":"'Student 1'!$C$8","v":1325},{"$f":"'Student 1'!$D$8","v":"Dry"},{"$f":"'Student 1'!$E$8","v":"Wet"},{"$f":"'Student 1'!$F$8","v":"Running"},{"$f":"'Student 1'!$G$8","v":"Cylinder"},{"$f":"'Student 1'!$H$8","v":"Oil"},{"$f":"'Student 1'!$I$8","v":"Cooling"},{"$f":"'Student 1'!$J$8","v":"Vacuum"},{"$f":"'Student 1'!$K$8","v":"PCV"},{"$f":"'Student 1'!$L$8","v":"Thermostat"},{"$f":"'Student 1'!$M$8","v":"Fluid"},{"$f":"'Student 1'!$N$8","v":"Diag"},{"$f":"'Student 1'!$O$8","v":" "}]
[{"$f":"'Student 1'!$A$9","v":"Max shop points available depend on how much customer work is done."},null,null,{"$f":"'Student 1'!$D$9","v":"Compr"},{"$f":"'Student 1'!$E$9","v":"Compr"},{"$f":"'Student 1'!$F$9","v":"Compr"},{"$f":"'Student 1'!$G$9","v":"Leakage"},{"$f":"'Student 1'!$H$9","v":"Pressure"},{"$f":"'Student 1'!$I$9","v":"System"},{"$f":"'Student 1'!$J$9","v":"Gauge"},{"$f":"'Student 1'!$K$9","v":"System"},{"$f":"'Student 1'!$L$9","v":"and fan"},{"$f":"'Student 1'!$M$9","v":"Leak"},{"$f":"'Student 1'!$N$9","v":"gauges"},{"$f":"'Student 1'!$O$9","v":"Cus"},{"$f":"'Student 1'!$P$9","v":"Comp"}]
[{"$nulls":3},{"$f":"'Student 1'!$D$10","v":"Test"},{"$f":"'Student 1'!$E$10","v":"Test"},{"$f":"'Student 1'!$F$10","v":"Test"},{"$f":"'Student 1'!$G$10","v":"Test"},{"$f":"'Student 1'!$H$10","v":"Test"},{"$f":"'Student 1'!$I$10","v":"Test"},{"$f":"'Student 1'!$J$10","v":"Test"},{"$f":"'Student 1'!$K$10","v":"Check"},{"$f":"'Student 1'!$L$10","v":"Operation"},{"$f":"'Student 1'!$M$10","v":"Check"},{"$f":"'Student 1'!$N$10","v":"any vehicle"},{"$f":"'Student 1'!$O$10","v":"tomer"},{"$f":"'Student 1'!$P$10","v":"etency"},{"$f":"'Student 1'!$Q$10","v":"  "},{"$f":"'Student 1'!$R$10","v":" "}]
[{"$nulls":3},{"$f":"'Student 1'!$D$11","v":2},{"$f":"'Student 1'!$E$11","v":2},{"$f":"'Student 1'!$F$11","v":2},{"$f":"'Student 1'!$G$11","v":2},{"$f":"'Student 1'!$H$11","v":2},{"$f":"'Student 1'!$I$11","v":2},{"$f":"'Student 1'!$J$11","v":2},{"$f":"'Student 1'!$K$11","v":2},{"$f":"'Student 1'!$L$11","v":2},{"$f":"'Student 1'!$M$11","v":1},{"$f":"'Student 1'!$N$11","v":1},{"$f":"'Student 1'!$O$11","v":"Work"},{"$f":"'Student 1'!$P$11","v":"0 or 1"},{"$f":"'Student 1'!$Q$11","v":"Lab"}]
[{"$f":"'Student 1'!$A$12","v":"ID"},{"$f":"'Student 1'!$B$12","v":"First:"},{"$f":"'Student 1'!$C$12","v":"Last:"},{"$f":"'Student 1'!$D$12","v":100},{"$f":"'Student 1'!$E$12","v":100},{"$f":"'Student 1'!$F$12","v":100},{"$f":"'Student 1'!$G$12","v":100},{"$f":"'Student 1'!$H$12","v":100},{"$f":"'Student 1'!$I$12","v":150},{"$f":"'Student 1'!$J$12","v":100},{"$f":"'Student 1'!$K$12","v":50},{"$f":"'Student 1'!$L$12","v":100},{"$f":"'Student 1'!$M$12","v":25},{"$f":"'Student 1'!$N$12","v":100},{"$f":"'Student 1'!$O$12","v":300},{"$f":"'Student 1'!$P$12","v":"*"},{"$f":"'Student 1'!$Q$12","v":"Points"},{"$f":"'Student 1'!$R$12","v":"%"}]
[{"$f":"'Course 1 Lab'!$A$30","v":{"v":24,"d":"00000024"}},{"$f":"'Course 1 Lab'!$B$30","v":"Student"},{"$f":"'Course 1 Lab'!$C$30","v":"Twenty four"},{"$f":"'Course 1 Lab'!$D$30","v":0},{"$f":"'Course 1 Lab'!$E$30","v":0},{"$f":"'Course 1 Lab'!$F$30","v":0},{"$f":"'Course 1 Lab'!$G$30","v":0},{"$f":"'Course 1 Lab'!$H$30","v":0},{"$f":"'Course 1 Lab'!$I$30","v":0},{"$f":"'Course 1 Lab'!$J$30","v":0},{"$f":"'Course 1 Lab'!$K$30","v":0},{"$f":"'Course 1 Lab'!$L$30","v":0},{"$f":"'Course 1 Lab'!$M$30","v":0},{"$f":"'Course 1 Lab'!$N$30","v":0},{"$f":"'Course 1 Lab'!$O$30","v":0},{"$f":"'Course 1 Lab'!$P$30","v":1},{"$f":"'Course 1 Lab'!$Q$30","v":0},{"$f":"'Course 1 Lab'!$R$30","v":{"v":0,"d":"0%"}}]
[{"$f":"'Student 1'!$A$14","v":"Course 2 Engine Theory & Repair. Class"},{"$nulls":8},{"$f":"'Student 1'!$J$14","v":25}]
[{"$f":"'Student 1'!$A$15","v":" "},{"$f":"'Student 1'!$B$15","v":"Date assignment is due:"},null,{"$f":"'Student 1'!$D$15","v":"TBD"},{"$f":"'Student 1'!$E$15","v":"TBD"},{"$f":"'Student 1'!$F$15","v":"TBD"},{"$f":"'Student 1'!$G$15","v":"TBD"},{"$f":"'Student 1'!$H$15","v":"TBD"},{"$f":"'Student 1'!$I$15","v":"TBD"},{"$f":"'Student 1'!$J$15","v":"TBD"},{"$f":"'Student 1'!$K$15","v":"TBD"}]
[{"$f":"'Student 1'!$A$16","v":"Class Room Points:"},null,{"$f":"'Student 1'!$C$16","v":201},{"$f":"'Student 1'!$D$16","v":10},{"$f":"'Student 1'!$E$16","v":10},{"$f":"'Student 1'!$F$16","v":20},{"$f":"'Student 1'!$G$16","v":20},{"$f":"'Student 1'!$H$16","v":16},{"$f":"'Student 1'!$I$16","v":25},{"$f":"'Student 1'!$J$16","v":" "},{"$f":"'Student 1'!$K$16","v":100},{"$f":"'Student 1'!$L$16","v":"Evaluation"}]
[{"$f":"'Student 1'!$A$17","v":"Red is late turn-in"},null,{"$f":"'Student 1'!$C$17","v":"Blue is absent"},{"$f":"'Student 1'!$D$17","v":"HW"},{"$f":"'Student 1'!$E$17","v":"HW "},{"$f":"'Student 1'!$F$17","v":"Test"},{"$f":"'Student 1'!$G$17","v":"Test"},{"$f":"'Student 1'!$H$17","v":"HW"},{"$f":"'Student 1'!$I$17","v":"Test"},{"$f":"'Student 1'!$J$17","v":"Extra"},{"$f":"'Student 1'!$K$17","v":"Final "},{"$f":"'Student 1'!$L$17","v":"Class"},null,{"$f":"'Student 1'!$N$17","v":"Professionalism"},null,null,{"$f":"'Student 1'!$Q$17","v":"Lab"},null,{"$f":"'Student 1'!$S$17","v":"Total  "},{"$f":"'Student 1'!$T$17","v":"Letter"}]
[{"$f":"'Student 1'!$A$18","v":"I D "},{"$f":"'Student 1'!$B$18","v":"First:"},{"$f":"'Student 1'!$C$18","v":"Last:"},{"$f":"'Student 1'!$D$18","v":"CH 7"},{"$f":"'Student 1'!$E$18","v":"CH 14"},{"$f":"'Student 1'!$F$18","v":"C & L"},{"$f":"'Student 1'!$G$18","v":"CH 18"},{"$f":"'Student 1'!$H$18","v":"CH 22"},{"$f":"'Student 1'!$I$18","v":"CH 22"},{"$f":"'Student 1'!$J$18","v":"Credit"},{"$f":"'Student 1'!$K$18","v":"TEST"},{"$f":"'Student 1'!$L$18","v":"Points"},{"$f":"'Student 1'!$M$18","v":"%"},{"$f":"'Student 1'!$N$18","v":"Attendance"},{"$f":"'Student 1'!$O$18","v":"Points"},{"$f":"'Student 1'!$P$18","v":"%"},{"$f":"'Student 1'!$Q$18","v":"Points"},{"$f":"'Student 1'!$R$18","v":"%"},{"$f":"'Student 1'!$S$18","v":"%"},{"$f":"'Student 1'!$T$18","v":"Grade"}]
[{"$f":"'Course 2 Class'!$A$29","v":{"v":24,"d":"00000024"}},{"$f":"'Course 2 Class'!$B$29","v":"Student"},{"$f":"'Course 2 Class'!$C$29","v":"Twenty four"},{"$f":"'Course 2 Class'!$D$29","v":0},{"$f":"'Course 2 Class'!$E$29","v":0},{"$f":"'Course 2 Class'!$F$29","v":0},{"$f":"'Course 2 Class'!$G$29","v":0},{"$f":"'Course 2 Class'!$H$29","v":0},{"$f":"'Course 2 Class'!$I$29","v":0},{"$f":"'Course 2 Class'!$J$29","v":0},{"$f":"'Course 2 Class'!$K$29","v":0},{"$f":"'Course 2 Class'!$L$29","v":0},{"$f":"'Course 2 Class'!$M$29","v":{"v":0,"d":"0%"}},{"$f":"'Course 2 Class'!$N$29","v":{"v":1,"d":"100%"}},{"$f":"'Course 2 Class'!$O$29","v":72},{"$f":"'Course 2 Class'!$P$29","v":{"v":1,"d":"100%"}},{"$f":"'Course 2 Class'!$Q$29","v":0},{"$f":"'Course 2 Class'!$R$29","v":{"v":0,"d":"0%"}},{"$f":"'Course 2 Class'!$S$29","v":{"v":0.25,"d":"25%"}},{"$f":"'Course 2 Class'!$T$29","v":"F"}]
[{"$f":"'Student 1'!$A$20","v":"Course 2 Engine Theory & Repair. Lab"}]
[{"$f":"'Student 1'!$A$21","v":"  Max Shop Points:"},null,{"$f":"'Student 1'!$C$21","v":1450},{"$f":"'Student 1'!$D$21","v":"Engine"},{"$f":"'Student 1'!$E$21","v":"Cylinder"},{"$f":"'Student 1'!$F$21","v":"Red"},{"$f":"'Student 1'!$G$21","v":"Mitsubishi"},{"$f":"'Student 1'!$H$21","v":"Any"},{"$f":"'Student 1'!$I$21","v":"DOHC"},{"$f":"'Student 1'!$J$21","v":"Valve seal"},{"$f":"'Student 1'!$K$21","v":"Misc."},{"$f":"'Student 1'!$L$21","v":" "}]
[{"$f":"'Student 1'!$A$22","v":"Max shop points available depend on how much customer work is done."},null,null,{"$f":"'Student 1'!$D$22","v":"Disassemble"},{"$f":"'Student 1'!$E$22","v":"Head"},{"$f":"'Student 1'!$F$22","v":"Dodge"},{"$f":"'Student 1'!$G$22","v":"\"3.0L\""},{"$f":"'Student 1'!$H$22","v":"Engine"},{"$f":"'Student 1'!$I$22","v":"Engine"},{"$f":"'Student 1'!$J$22","v":"&"},{"$f":"'Student 1'!$K$22","v":"Engine "},{"$f":"'Student 1'!$L$22","v":"Cus"},{"$f":"'Student 1'!$M$22","v":"Comp"}]
[{"$nulls":3},{"$f":"'Student 1'!$D$23","v":"& Measure"},{"$f":"'Student 1'!$E$23","v":"Repair"},{"$f":"'Student 1'!$F$23","v":"Clip"},{"$f":"'Student 1'!$G$23","v":"Clip"},{"$f":"'Student 1'!$H$23","v":"T-chain"},{"$f":"'Student 1'!$I$23","v":" Stand"},{"$f":"'Student 1'!$J$23","v":"Lobe lift"},{"$f":"'Student 1'!$K$23","v":"Points"},{"$f":"'Student 1'!$L$23","v":"tomer"},{"$f":"'Student 1'!$M$23","v":"etency"},{"$f":"'Student 1'!$N$23","v":" "},{"$f":"'Student 1'!$O$23","v":" "}]
[{"$nulls":3},{"$f":"'Student 1'!$D$24","v":1},{"$f":"'Student 1'!$E$24","v":1},{"$f":"'Student 1'!$F$24","v":1},{"$f":"'Student 1'!$G$24","v":1},{"$f":"'Student 1'!$H$24","v":1},{"$f":"'Student 1'!$I$24","v":1},{"$f":"'Student 1'!$J$24","v":1},null,{"$f":"'Student 1'!$L$24","v":"Work"},{"$f":"'Student 1'!$M$24","v":"0 or 1"},{"$f":"'Student 1'!$N$24","v":"Lab"}]
[{"$f":"'Student 1'!$A$25","v":"ID"},{"$f":"'Student 1'!$B$25","v":"First:"},{"$f":"'Student 1'!$C$25","v":"Last:"},{"$f":"'Student 1'!$D$25","v":300},{"$f":"'Student 1'!$E$25","v":200},{"$f":"'Student 1'!$F$25","v":100},{"$f":"'Student 1'!$G$25","v":100},{"$f":"'Student 1'!$H$25","v":100},{"$f":"'Student 1'!$I$25","v":100},{"$f":"'Student 1'!$J$25","v":50},{"$f":"'Student 1'!$K$25","v":200},{"$f":"'Student 1'!$L$25","v":300},{"$f":"'Student 1'!$M$25","v":"*"},{"$f":"'Student 1'!$N$25","v":"Points"},{"$f":"'Student 1'!$O$25","v":"%"}]
[{"$f":"'Course 2 Lab'!$A$30","v":{"v":24,"d":"00000024"}},{"$f":"'Course 2 Lab'!$B$30","v":"Student"},{"$f":"'Course 2 Lab'!$C$30","v":"Twenty four"},{"$f":"'Course 2 Lab'!$D$30","v":0},{"$f":"'Course 2 Lab'!$E$30","v":0},{"$f":"'Course 2 Lab'!$F$30","v":0},{"$f":"'Course 2 Lab'!$G$30","v":0},{"$f":"'Course 2 Lab'!$H$30","v":0},{"$f":"'Course 2 Lab'!$I$30","v":0},{"$f":"'Course 2 Lab'!$J$30","v":0},{"$f":"'Course 2 Lab'!$K$30","v":0},{"$f":"'Course 2 Lab'!$L$30","v":0},{"$f":"'Course 2 Lab'!$M$30","v":1},{"$f":"'Course 2 Lab'!$N$30","v":0},{"$f":"'Course 2 Lab'!$O$30","v":{"v":0,"d":"0%"}}]
[{"$f":"'Student 1'!$A$27","v":"Course 3 Steering & Suspension. Class."},{"$nulls":11},{"$f":"'Student 1'!$M$27","v":25}]
[{"$f":"'Student 1'!$A$28","v":" "},{"$f":"'Student 1'!$B$28","v":"Date assignment is due:"},null,{"$f":"'Student 1'!$D$28","v":"1/18"},{"$f":"'Student 1'!$E$28","v":"2/2"},{"$f":"'Student 1'!$F$28","v":"TBD"},{"$f":"'Student 1'!$G$28","v":"TBD"},{"$f":"'Student 1'!$H$28","v":"TBD"},{"$f":"'Student 1'!$I$28","v":"TBD"},{"$f":"'Student 1'!$J$28","v":"TBD"},{"$f":"'Student 1'!$K$28","v":"TBD"},{"$f":"'Student 1'!$L$28","v":"TBD"},{"$f":"'Student 1'!$M$28","v":"TBD"},{"$f":"'Student 1'!$N$28","v":"TBD"}]
[{"$f":"'Student 1'!$A$29","v":"Class Room Points:"},null,{"$f":"'Student 1'!$C$29","v":330},{"$f":"'Student 1'!$D$29","v":20},{"$f":"'Student 1'!$E$29","v":20},{"$f":"'Student 1'!$F$29","v":24},{"$f":"'Student 1'!$G$29","v":20},{"$f":"'Student 1'!$H$29","v":25},{"$f":"'Student 1'!$I$29","v":30},{"$f":"'Student 1'!$J$29","v":20},{"$f":"'Student 1'!$K$29","v":26},{"$f":"'Student 1'!$L$29","v":45},{"$f":"'Student 1'!$M$29","v":" "},{"$f":"'Student 1'!$N$29","v":100},{"$f":"'Student 1'!$O$29","v":"Evaluation"}]
[{"$f":"'Student 1'!$A$30","v":"Red is late turn-in"},null,{"$f":"'Student 1'!$C$30","v":"Blue is absent"},{"$f":"'Student 1'!$D$30","v":"HW"},{"$f":"'Student 1'!$E$30","v":"HW"},{"$f":"'Student 1'!$F$30","v":"HW"},{"$f":"'Student 1'!$G$30","v":"QZ"},{"$f":"'Student 1'!$H$30","v":"HW"},{"$f":"'Student 1'!$I$30","v":"HW"},{"$f":"'Student 1'!$J$30","v":"Test"},{"$f":"'Student 1'!$K$30","v":"HW"},{"$f":"'Student 1'!$L$30","v":"Class"},{"$f":"'Student 1'!$M$30","v":"Extra"},{"$f":"'Student 1'!$N$30","v":"Final"},{"$f":"'Student 1'!$O$30","v":"Class"},null,{"$f":"'Student 1'!$Q$30","v":"Professionalism"},null,null,{"$f":"'Student 1'!$T$30","v":"Lab"},null,{"$f":"'Student 1'!$V$30","v":"Total  "},{"$f":"'Student 1'!$W$30","v":"Letter"}]
[{"$f":"'Student 1'!$A$31","v":"I D "},{"$f":"'Student 1'!$B$31","v":"First:"},{"$f":"'Student 1'!$C$31","v":"Last:"},{"$f":"'Student 1'!$D$31","v":"CH 1"},{"$f":"'Student 1'!$E$31","v":"CH 2"},{"$f":"'Student 1'!$F$31","v":"CH 3"},{"$f":"'Student 1'!$G$31","v":"1"},{"$f":"'Student 1'!$H$31","v":"CH 6"},{"$f":"'Student 1'!$I$31","v":"CH 9"},{"$f":"'Student 1'!$J$31","v":"1 – 9"},{"$f":"'Student 1'!$K$31","v":"CH 12"},{"$f":"'Student 1'!$L$31","v":"Project"},{"$f":"'Student 1'!$M$31","v":"Credit"},{"$f":"'Student 1'!$N$31","v":"TEST"},{"$f":"'Student 1'!$O$31","v":"Points"},{"$f":"'Student 1'!$P$31","v":"%"},{"$f":"'Student 1'!$Q$31","v":"Attendance"},{"$f":"'Student 1'!$R$31","v":"Points"},{"$f":"'Student 1'!$S$31","v":"%"},{"$f":"'Student 1'!$T$31","v":"Points"},{"$f":"'Student 1'!$U$31","v":"%"},{"$f":"'Student 1'!$V$31","v":"%"},{"$f":"'Student 1'!$W$31","v":"Grade"}]
[{"$f":"'Course 3 Class'!$A$29","v":{"v":24,"d":"00000024"}},{"$f":"'Course 3 Class'!$B$29","v":"Student"},{"$f":"'Course 3 Class'!$C$29","v":"Twenty four"},{"$f":"'Course 3 Class'!$D$29","v":0},{"$f":"'Course 3 Class'!$E$29","v":0},{"$f":"'Course 3 Class'!$F$29","v":0},{"$f":"'Course 3 Class'!$G$29","v":0},{"$f":"'Course 3 Class'!$H$29","v":0},{"$f":"'Course 3 Class'!$I$29","v":0},{"$f":"'Course 3 Class'!$J$29","v":0},{"$f":"'Course 3 Class'!$K$29","v":0},{"$f":"'Course 3 Class'!$L$29","v":0},{"$f":"'Course 3 Class'!$M$29","v":0},{"$f":"'Course 3 Class'!$N$29","v":0},{"$f":"'Course 3 Class'!$O$29","v":0},{"$f":"'Course 3 Class'!$P$29","v":{"v":0,"d":"0%"}},{"$f":"'Course 3 Class'!$Q$29","v":{"v":1,"d":"100%"}},{"$f":"'Course 3 Class'!$R$29","v":72},{"$f":"'Course 3 Class'!$S$29","v":{"v":1,"d":"100%"}},{"$f":"'Course 3 Class'!$T$29","v":0},{"$f":"'Course 3 Class'!$U$29","v":{"v":0,"d":"0%"}},{"$f":"'Course 3 Class'!$V$29","v":{"v":0.25,"d":"25%"}},{"$f":"'Course 3 Class'!$W$29","v":"F"}]
[{"$f":"'Student 1'!$A$33","v":"Course 3 Steering & Suspension. Lab"}]
[{"$f":"'Student 1'!$A$34","v":"Max shop points"},null,{"$f":"'Student 1'!$C$34","v":1350},{"$f":"'Student 1'!$D$34","v":"Repair"},{"$f":"'Student 1'!$E$34","v":"Identify"},{"$f":"'Student 1'!$F$34","v":"Repair"},{"$f":"'Student 1'!$G$34","v":"Identify"},{"$f":"'Student 1'!$H$34","v":"Repair"},{"$f":"'Student 1'!$I$34","v":"R&R"},{"$f":"'Student 1'!$J$34","v":"R&R"},{"$f":"'Student 1'!$K$34","v":"R&R"},{"$f":"'Student 1'!$L$34","v":"P/S"},{"$f":"'Student 1'!$M$34","v":"R&R"},{"$f":"'Student 1'!$N$34","v":"NVH"},{"$f":"'Student 1'!$O$34","v":" "}]
[{"$f":"'Student 1'!$A$35","v":"Max shop points available depend on how much customer work is done."},null,null,{"$f":"'Student 1'!$D$35","v":"SLA"},{"$f":"'Student 1'!$E$35","v":"SLA"},{"$f":"'Student 1'!$F$35","v":"Mac-P"},{"$f":"'Student 1'!$G$35","v":"Mac-P"},{"$f":"'Student 1'!$H$35","v":"Rear"},{"$f":"'Student 1'!$I$35","v":"Rack &"},{"$f":"'Student 1'!$J$35","v":"Recirc."},{"$f":"'Student 1'!$K$35","v":"P/S"},{"$f":"'Student 1'!$L$35","v":"Pump"},{"$f":"'Student 1'!$M$35","v":"Inner"},{"$f":"'Student 1'!$N$35","v":"Runout &"},{"$f":"'Student 1'!$O$35","v":"Cus"},{"$f":"'Student 1'!$P$35","v":"Comp"}]
[{"$nulls":3},{"$f":"'Student 1'!$D$36","v":"Susp"},{"$f":"'Student 1'!$E$36","v":"Parts"},{"$f":"'Student 1'!$F$36","v":"Susp"},{"$f":"'Student 1'!$G$36","v":"Parts"},{"$f":"'Student 1'!$H$36","v":"Susp"},{"$f":"'Student 1'!$I$36","v":"Pinion"},{"$f":"'Student 1'!$J$36","v":"Gear"},{"$f":"'Student 1'!$K$36","v":"Pump"},{"$f":"'Student 1'!$L$36","v":"Test"},{"$f":"'Student 1'!$M$36","v":"Tie-Rod"},{"$f":"'Student 1'!$N$36","v":"bal. Check"},{"$f":"'Student 1'!$O$36","v":"tomer"},{"$f":"'Student 1'!$P$36","v":"etency"},{"$f":"'Student 1'!$Q$36","v":" "},{"$f":"'Student 1'!$R$36","v":" "},null,null,{"$f":"'Student 1'!$U$36","v":"Final Grade"}]
[{"$nulls":3},{"$f":"'Student 1'!$D$37","v":1},{"$f":"'Student 1'!$E$37","v":2},{"$f":"'Student 1'!$F$37","v":3},{"$f":"'Student 1'!$G$37","v":2},{"$f":"'Student 1'!$H$37","v":1},{"$f":"'Student 1'!$I$37","v":1},{"$f":"'Student 1'!$J$37","v":1},{"$f":"'Student 1'!$K$37","v":1},{"$f":"'Student 1'!$L$37","v":1},{"$f":"'Student 1'!$M$37","v":1},{"$f":"'Student 1'!$N$37","v":1},{"$f":"'Student 1'!$O$37","v":"Work"},{"$f":"'Student 1'!$P$37","v":"0 or 1"},{"$f":"'Student 1'!$Q$37","v":"Lab"},{"$nulls":3},{"$f":"'Student 1'!$U$37","v":{"v":0,"d":"0%"}},{"$f":"'Student 1'!$V$37","v":"F"}]
[{"$f":"'Student 1'!$A$38","v":"ID"},{"$f":"'Student 1'!$B$38","v":"First:"},{"$f":"'Student 1'!$C$38","v":"Last:"},{"$f":"'Student 1'!$D$38","v":150},{"$f":"'Student 1'!$E$38","v":50},{"$f":"'Student 1'!$F$38","v":225},{"$f":"'Student 1'!$G$38","v":50},{"$f":"'Student 1'!$H$38","v":50},{"$f":"'Student 1'!$I$38","v":150},{"$f":"'Student 1'!$J$38","v":125},{"$f":"'Student 1'!$K$38","v":50},{"$f":"'Student 1'!$L$38","v":50},{"$f":"'Student 1'!$M$38","v":50},{"$f":"'Student 1'!$N$38","v":100},{"$f":"'Student 1'!$O$38","v":300},{"$f":"'Student 1'!$P$38","v":"*"},{"$f":"'Student 1'!$Q$38","v":"Points"},{"$f":"'Student 1'!$R$38","v":"%"},null,null,{"$f":"'Student 1'!$U$38","v":{"v":0.695,"d":"70%"}},{"$f":"'Student 1'!$V$38","v":"D-"}]
[{"$f":"'Course 3 Lab'!$A$30","v":{"v":24,"d":"00000024"}},{"$f":"'Course 3 Lab'!$B$30","v":"Student"},{"$f":"'Course 3 Lab'!$C$30","v":"Twenty four"},{"$f":"'Course 3 Lab'!$D$30","v":0},{"$f":"'Course 3 Lab'!$E$30","v":0},{"$f":"'Course 3 Lab'!$F$30","v":0},{"$f":"'Course 3 Lab'!$G$30","v":0},{"$f":"'Course 3 Lab'!$H$30","v":0},{"$f":"'Course 3 Lab'!$I$30","v":0},{"$f":"'Course 3 Lab'!$J$30","v":0},{"$f":"'Course 3 Lab'!$K$30","v":0},{"$f":"'Course 3 Lab'!$L$30","v":0},{"$f":"'Course 3 Lab'!$M$30","v":0},{"$f":"'Course 3 Lab'!$N$30","v":0},{"$f":"'Course 3 Lab'!$O$30","v":0},{"$f":"'Course 3 Lab'!$P$30","v":1},{"$f":"'Course 3 Lab'!$Q$30","v":0},{"$f":"'Course 3 Lab'!$R$30","v":{"v":0,"d":"0%"}},null,null,{"$f":"'Student 1'!$U$39","v":{"v":0.715,"d":"72%"}},{"$f":"'Student 1'!$V$39","v":"D"}]
[{"$f":"'Student 1'!$A$40","v":"Course 4 Alignment. Class."},{"$nulls":7},{"$f":"'Student 1'!$I$40","v":25},{"$nulls":11},{"$f":"'Student 1'!$U$40","v":{"v":0.735,"d":"74%"}},{"$f":"'Student 1'!$V$40","v":"D+"}]
[{"$f":"'Student 1'!$A$41","v":" "},{"$f":"'Student 1'!$B$41","v":"Date assignment is due  "},null,{"$f":"'Student 1'!$D$41","v":"TBD"},{"$f":"'Student 1'!$E$41","v":"TBD"},{"$f":"'Student 1'!$F$41","v":"TBD"},{"$f":"'Student 1'!$G$41","v":"TBD"},{"$f":"'Student 1'!$H$41","v":"TBD"},{"$f":"'Student 1'!$I$41","v":"TBD"},{"$f":"'Student 1'!$J$41","v":"TBD"},{"$nulls":10},{"$f":"'Student 1'!$U$41","v":{"v":0.755,"d":"76%"}},{"$f":"'Student 1'!$V$41","v":"C-"}]
[{"$f":"'Student 1'!$A$42","v":"Class Room Points:"},null,{"$f":"'Student 1'!$C$42","v":235},{"$f":"'Student 1'!$D$42","v":25},{"$f":"'Student 1'!$E$42","v":25},{"$f":"'Student 1'!$F$42","v":20},{"$f":"'Student 1'!$G$42","v":40},{"$f":"'Student 1'!$H$42","v":50},{"$f":"'Student 1'!$I$42","v":" "},{"$f":"'Student 1'!$J$42","v":75},{"$f":"'Student 1'!$K$42","v":"Evaluation"},{"$nulls":9},{"$f":"'Student 1'!$U$42","v":{"v":0.785,"d":"79%"}},{"$f":"'Student 1'!$V$42","v":"C"}]
[{"$f":"'Student 1'!$A$43","v":"Red is late turn-in"},null,{"$f":"'Student 1'!$C$43","v":"Blue is absent"},{"$f":"'Student 1'!$D$43","v":"CH 16"},{"$f":"'Student 1'!$E$43","v":"CH 16"},{"$f":"'Student 1'!$F$43","v":"Align"},{"$f":"'Student 1'!$G$43","v":"In class"},{"$f":"'Student 1'!$H$43","v":"In class"},{"$f":"'Student 1'!$I$43","v":"Extra"},{"$f":"'Student 1'!$J$43","v":"Final"},{"$f":"'Student 1'!$K$43","v":"Class"},null,{"$f":"'Student 1'!$M$43","v":"Professionalism"},null,null,{"$f":"'Student 1'!$P$43","v":"Lab"},null,{"$f":"'Student 1'!$R$43","v":"Total  "},{"$f":"'Student 1'!$S$43","v":"Letter"},null,{"$f":"'Student 1'!$U$43","v":{"v":0.815,"d":"82%"}},{"$f":"'Student 1'!$V$43","v":"C+"}]
[{"$f":"'Student 1'!$A$44","v":"I D "},{"$f":"'Student 1'!$B$44","v":"First:"},{"$f":"'Student 1'!$C$44","v":"Last:"},{"$f":"'Student 1'!$D$44","v":"HW"},{"$f":"'Student 1'!$E$44","v":"Test"},{"$f":"'Student 1'!$F$44","v":"HW"},{"$f":"'Student 1'!$G$44","v":"Project1"},{"$f":"'Student 1'!$H$44","v":"Project2"},{"$f":"'Student 1'!$I$44","v":"Credit"},{"$f":"'Student 1'!$J$44","v":"Test"},{"$f":"'Student 1'!$K$44","v":"Points"},{"$f":"'Student 1'!$L$44","v":"%"},{"$f":"'Student 1'!$M$44","v":"Attendance"},{"$f":"'Student 1'!$N$44","v":"Points"},{"$f":"'Student 1'!$O$44","v":"%"},{"$f":"'Student 1'!$P$44","v":"Points"},{"$f":"'Student 1'!$Q$44","v":"%"},{"$f":"'Student 1'!$R$44","v":"%"},{"$f":"'Student 1'!$S$44","v":"Grade"},null,{"$f":"'Student 1'!$U$44","v":{"v":0.845,"d":"85%"}},{"$f":"'Student 1'!$V$44","v":"B-"}]
[{"$f":"'Course 4 Class'!$A$29","v":{"v":24,"d":"00000024"}},{"$f":"'Course 4 Class'!$B$29","v":"Student"},{"$f":"'Course 4 Class'!$C$29","v":"Twenty four"},{"$f":"'Course 4 Class'!$D$29","v":0},{"$f":"'Course 4 Class'!$E$29","v":0},{"$f":"'Course 4 Class'!$F$29","v":0},{"$f":"'Course 4 Class'!$G$29","v":0},{"$f":"'Course 4 Class'!$H$29","v":0},{"$f":"'Course 4 Class'!$I$29","v":0},{"$f":"'Course 4 Class'!$J$29","v":0},{"$f":"'Course 4 Class'!$K$29","v":0},{"$f":"'Course 4 Class'!$L$29","v":{"v":0,"d":"0%"}},{"$f":"'Course 4 Class'!$M$29","v":{"v":1,"d":"100%"}},{"$f":"'Course 4 Class'!$N$29","v":72},{"$f":"'Course 4 Class'!$O$29","v":{"v":1,"d":"100%"}},{"$f":"'Course 4 Class'!$P$29","v":0},{"$f":"'Course 4 Class'!$Q$29","v":{"v":0,"d":"0%"}},{"$f":"'Course 4 Class'!$R$29","v":{"v":0.25,"d":"25%"}},{"$f":"'Course 4 Class'!$S$29","v":"F"},null,{"$f":"'Student 1'!$U$45","v":{"v":0.875,"d":"88%"}},{"$f":"'Student 1'!$V$45","v":"B"}]
[{"$f":"'Student 1'!$A$46","v":"Course 4 Alignment. Lab"},{"$nulls":19},{"$f":"'Student 1'!$U$46","v":{"v":0.895,"d":"90%"}},{"$f":"'Student 1'!$V$46","v":"B+"}]
[{"$f":"'Student 1'!$A$47","v":"Max Shop Points:"},null,{"$f":"'Student 1'!$C$47","v":1300},{"$f":"'Student 1'!$D$47","v":"Alignment"},{"$f":"'Student 1'!$E$47","v":"Complete"},{"$f":"'Student 1'!$F$47","v":"Cus"},{"$f":"'Student 1'!$G$47","v":" "},{"$nulls":13},{"$f":"'Student 1'!$U$47","v":{"v":0.925,"d":"93%"}},{"$f":"'Student 1'!$V$47","v":"A-"}]
[{"$f":"'Student 1'!$A$48","v":"Max shop points available depend on how much customer work is done."},null,null,{"$f":"'Student 1'!$D$48","v":"Pre-check"},{"$f":"'Student 1'!$E$48","v":"Wheel"},{"$f":"'Student 1'!$F$48","v":"tomer"},{"$f":"'Student 1'!$G$48","v":"Comp"},{"$nulls":13},{"$f":"'Student 1'!$U$48","v":{"v":0.945,"d":"95%"}},{"$f":"'Student 1'!$V$48","v":"A"}]
[{"$nulls":3},{"$f":"'Student 1'!$D$49","v":"100 P"},{"$f":"'Student 1'!$E$49","v":"Alignment"},{"$f":"'Student 1'!$F$49","v":"Work"},{"$f":"'Student 1'!$G$49","v":"etency"},{"$f":"'Student 1'!$H$49","v":" "},{"$f":"'Student 1'!$I$49","v":" "},{"$nulls":11},{"$f":"'Student 1'!$U$49","v":{"v":1,"d":"100%"}},{"$f":"'Student 1'!$V$49","v":"A"}]
[{"$nulls":3},{"$f":"'Student 1'!$D$50","v":1},{"$f":"'Student 1'!$E$50","v":1},{"$f":"'Student 1'!$F$50","v":" "},{"$f":"'Student 1'!$G$50","v":"0 or 1"},{"$f":"'Student 1'!$H$50","v":"Lab"}]
[{"$f":"'Student 1'!$A$51","v":"ID"},{"$f":"'Student 1'!$B$51","v":"First:"},{"$f":"'Student 1'!$C$51","v":"Last:"},{"$f":"'Student 1'!$D$51","v":100},{"$f":"'Student 1'!$E$51","v":900},{"$f":"'Student 1'!$F$51","v":300},{"$f":"'Student 1'!$G$51","v":"*"},{"$f":"'Student 1'!$H$51","v":"Points"},{"$f":"'Student 1'!$I$51","v":"%"}]
[{"$f":"'Course 4 Lab'!$A$30","v":{"v":24,"d":"00000024"}},{"$f":"'Course 4 Lab'!$B$30","v":"Student"},{"$f":"'Course 4 Lab'!$C$30","v":"Twenty four"},{"$f":"'Course 4 Lab'!$D$30","v":0},{"$f":"'Course 4 Lab'!$E$30","v":0},{"$f":"'Course 4 Lab'!$F$30","v":0},{"$f":"'Course 4 Lab'!$G$30","v":1},{"$f":"'Course 4 Lab'!$H$30","v":0},{"$f":"'Course 4 Lab'!$I$30","v":{"v":0,"d":"0%"}}]
[{"$f":"'Student 1'!$A$53","v":"Course 5 Brake Systems. Class."},{"$nulls":10},{"$f":"'Student 1'!$L$53","v":35}]
[{"$f":"'Student 1'!$A$54","v":"Date assignment is due:"},null,{"$f":"'Student 1'!$C$54","v":" "},{"$f":"'Student 1'!$D$54","v":"TBD"},{"$f":"'Student 1'!$E$54","v":"TBD"},{"$f":"'Student 1'!$F$54","v":"TBD"},{"$f":"'Student 1'!$G$54","v":"TBD"},{"$f":"'Student 1'!$H$54","v":"TBD"},{"$f":"'Student 1'!$I$54","v":"TBD"},{"$f":"'Student 1'!$J$54","v":"TBD"},{"$f":"'Student 1'!$K$54","v":"TBD"},{"$f":"'Student 1'!$L$54","v":"TBD"},{"$f":"'Student 1'!$M$54","v":"TBD"}]
[{"$f":"'Student 1'!$A$55","v":"Class Room Points:"},null,{"$f":"'Student 1'!$C$55","v":440},{"$f":"'Student 1'!$D$55","v":30},{"$f":"'Student 1'!$E$55","v":25},{"$f":"'Student 1'!$F$55","v":100},{"$f":"'Student 1'!$G$55","v":30},{"$f":"'Student 1'!$H$55","v":50},{"$f":"'Student 1'!$I$55","v":30},{"$f":"'Student 1'!$J$55","v":25},{"$f":"'Student 1'!$K$55","v":50},{"$f":"'Student 1'!$L$55","v":" "},{"$f":"'Student 1'!$M$55","v":100},{"$f":"'Student 1'!$N$55","v":"Evaluation"}]
[{"$f":"'Student 1'!$A$56","v":"Red is late turn-in"},null,{"$f":"'Student 1'!$C$56","v":"Blue is absent"},{"$f":"'Student 1'!$D$56","v":"HW"},{"$f":"'Student 1'!$E$56","v":"HW"},{"$f":"'Student 1'!$F$56","v":"Test"},{"$f":"'Student 1'!$G$56","v":"HW"},{"$f":"'Student 1'!$H$56","v":"Test"},{"$f":"'Student 1'!$I$56","v":"HW"},{"$f":"'Student 1'!$J$56","v":"Test"},{"$f":"'Student 1'!$K$56","v":"Class"},{"$f":"'Student 1'!$L$56","v":"Extra"},{"$f":"'Student 1'!$M$56","v":"Final"},{"$f":"'Student 1'!$N$56","v":"Class"},null,{"$f":"'Student 1'!$P$56","v":"Professionalism"},null,null,{"$f":"'Student 1'!$S$56","v":"Lab"},null,{"$f":"'Student 1'!$U$56","v":"Total  "},{"$f":"'Student 1'!$V$56","v":"Letter"}]
[{"$f":"'Student 1'!$A$57","v":"I D "},{"$f":"'Student 1'!$B$57","v":"First:"},{"$f":"'Student 1'!$C$57","v":"Last:"},{"$f":"'Student 1'!$D$57","v":"CH 4"},{"$f":"'Student 1'!$E$57","v":"CH 5"},{"$f":"'Student 1'!$F$57","v":"#1"},{"$f":"'Student 1'!$G$57","v":"CH 7"},{"$f":"'Student 1'!$H$57","v":"Conv"},{"$f":"'Student 1'!$I$57","v":"CH 20"},{"$f":"'Student 1'!$J$57","v":"21/22"},{"$f":"'Student 1'!$K$57","v":"Project"},{"$f":"'Student 1'!$L$57","v":"Credit"},{"$f":"'Student 1'!$M$57","v":"Test"},{"$f":"'Student 1'!$N$57","v":"Points"},{"$f":"'Student 1'!$O$57","v":"%"},{"$f":"'Student 1'!$P$57","v":"Attendance"},{"$f":"'Student 1'!$Q$57","v":"Points"},{"$f":"'Student 1'!$R$57","v":"%"},{"$f":"'Student 1'!$S$57","v":"Points"},{"$f":"'Student 1'!$T$57","v":"%"},{"$f":"'Student 1'!$U$57","v":"%"},{"$f":"'Student 1'!$V$57","v":"Grade"}]
[{"$f":"'Course 5 Class'!$A$29","v":{"v":24,"d":"00000024"}},{"$f":"'Course 5 Class'!$B$29","v":"Student"},{"$f":"'Course 5 Class'!$C$29","v":"Twenty four"},{"$f":"'Course 5 Class'!$D$29","v":0},{"$f":"'Course 5 Class'!$E$29","v":0},{"$f":"'Course 5 Class'!$F$29","v":0},{"$f":"'Course 5 Class'!$G$29","v":0},{"$f":"'Course 5 Class'!$H$29","v":0},{"$f":"'Course 5 Class'!$I$29","v":0},{"$f":"'Course 5 Class'!$J$29","v":0},{"$f":"'Course 5 Class'!$K$29","v":0},{"$f":"'Course 5 Class'!$L$29","v":0},{"$f":"'Course 5 Class'!$M$29","v":0},{"$f":"'Course 5 Class'!$N$29","v":0},{"$f":"'Course 5 Class'!$O$29","v":{"v":0,"d":"0%"}},{"$f":"'Course 5 Class'!$P$29","v":{"v":1,"d":"100%"}},{"$f":"'Course 5 Class'!$Q$29","v":72},{"$f":"'Course 5 Class'!$R$29","v":{"v":1,"d":"100%"}},{"$f":"'Course 5 Class'!$S$29","v":0},{"$f":"'Course 5 Class'!$T$29","v":{"v":0,"d":"0%"}},{"$f":"'Course 5 Class'!$U$29","v":{"v":0.25,"d":"25%"}},{"$f":"'Course 5 Class'!$V$29","v":"F"}]
[{"$f":"'Student 1'!$A$59","v":"Course 5 Brake Systems. Lab"}]
[{"$f":"'Student 1'!$A$60","v":"  Max Shop Points:"},null,{"$f":"'Student 1'!$C$60","v":970},{"$f":"'Student 1'!$D$60","v":"Drum"},{"$f":"'Student 1'!$E$60","v":"Drum "},{"$f":"'Student 1'!$F$60","v":"Disc"},{"$f":"'Student 1'!$G$60","v":"On Car"},{"$f":"'Student 1'!$H$60","v":"Off Car"},{"$f":"'Student 1'!$I$60","v":"Wheel"},{"$f":"'Student 1'!$J$60","v":"Hydr."},{"$f":"'Student 1'!$K$60","v":"Vacuum"},{"$f":"'Student 1'!$L$60","v":"Warning"},{"$f":"'Student 1'!$M$60","v":"Brake"},{"$f":"'Student 1'!$N$60","v":"Brake"},{"$f":"'Student 1'!$O$60","v":"Dodge"},{"$f":"'Student 1'!$P$60","v":"Ford"},{"$f":"'Student 1'!$Q$60","v":"GM"},{"$f":"'Student 1'!$R$60","v":"Cus"},{"$f":"'Student 1'!$S$60","v":"Brake"}]
[{"$f":"'Student 1'!$A$61","v":"Max shop points available depend on how much customer work is done."},null,null,{"$f":"'Student 1'!$D$61","v":"Brake"},{"$f":"'Student 1'!$E$61","v":"Brake "},{"$f":"'Student 1'!$F$61","v":"Brake"},{"$f":"'Student 1'!$G$61","v":"Disc"},{"$f":"'Student 1'!$H$61","v":"Disc"},{"$f":"'Student 1'!$I$61","v":"Bearing"},{"$f":"'Student 1'!$J$61","v":"Line"},{"$f":"'Student 1'!$K$61","v":"Booster"},{"$f":"'Student 1'!$L$61","v":"Light"},{"$f":"'Student 1'!$M$61","v":"System"},{"$f":"'Student 1'!$N$61","v":"Valves"},{"$f":"'Student 1'!$O$61","v":"Anti"},{"$f":"'Student 1'!$P$61","v":"Anti"},{"$f":"'Student 1'!$Q$61","v":"Anti"},{"$f":"'Student 1'!$R$61","v":"tomer"},{"$f":"'Student 1'!$S$61","v":"Comp"}]
[{"$nulls":3},{"$f":"'Student 1'!$D$62","v":"Job"},{"$f":"'Student 1'!$E$62","v":"Mach."},{"$f":"'Student 1'!$F$62","v":"Job"},{"$f":"'Student 1'!$G$62","v":"Mach."},{"$f":"'Student 1'!$H$62","v":"Mach."},{"$f":"'Student 1'!$I$62","v":"Service"},{"$f":"'Student 1'!$J$62","v":"Repair"},{"$f":"'Student 1'!$K$62","v":"Service"},{"$f":"'Student 1'!$L$62","v":"Service"},{"$f":"'Student 1'!$M$62","v":"Bleed"},{"$f":"'Student 1'!$N$62","v":"Check"},{"$f":"'Student 1'!$O$62","v":"Lock"},{"$f":"'Student 1'!$P$62","v":"Lock"},{"$f":"'Student 1'!$Q$62","v":"Lock"},{"$f":"'Student 1'!$R$62","v":"Work"},{"$f":"'Student 1'!$S$62","v":"etency"}]
[{"$nulls":3},{"$f":"'Student 1'!$D$63","v":2},{"$f":"'Student 1'!$E$63","v":2},{"$f":"'Student 1'!$F$63","v":2},{"$f":"'Student 1'!$G$63","v":2},{"$f":"'Student 1'!$H$63","v":2},{"$f":"'Student 1'!$I$63","v":1},{"$f":"'Student 1'!$J$63","v":1},{"$f":"'Student 1'!$K$63","v":2},{"$f":"'Student 1'!$L$63","v":2},{"$f":"'Student 1'!$M$63","v":4},{"$f":"'Student 1'!$N$63","v":1},{"$f":"'Student 1'!$O$63","v":1},{"$f":"'Student 1'!$P$63","v":1},{"$f":"'Student 1'!$Q$63","v":1},{"$f":"'Student 1'!$R$63","v":" "},{"$f":"'Student 1'!$S$63","v":"Required"},{"$f":"'Student 1'!$T$63","v":"Lab"}]
[{"$f":"'Student 1'!$A$64","v":"ID"},{"$f":"'Student 1'!$B$64","v":"First:"},{"$f":"'Student 1'!$C$64","v":"Last:"},{"$f":"'Student 1'!$D$64","v":150},{"$f":"'Student 1'!$E$64","v":40},{"$f":"'Student 1'!$F$64","v":150},{"$f":"'Student 1'!$G$64","v":80},{"$f":"'Student 1'!$H$64","v":40},{"$f":"'Student 1'!$I$64","v":50},{"$f":"'Student 1'!$J$64","v":30},{"$f":"'Student 1'!$K$64","v":30},{"$f":"'Student 1'!$L$64","v":40},{"$f":"'Student 1'!$M$64","v":80},{"$f":"'Student 1'!$N$64","v":40},{"$f":"'Student 1'!$O$64","v":80},{"$f":"'Student 1'!$P$64","v":80},{"$f":"'Student 1'!$Q$64","v":80},{"$f":"'Student 1'!$R$64","v":300},{"$f":"'Student 1'!$S$64","v":"*"},{"$f":"'Student 1'!$T$64","v":"Points"},{"$f":"'Student 1'!$U$64","v":"%"}]
[{"$f":"'Course 5 Lab'!$A$30","v":{"v":24,"d":"00000024"}},{"$f":"'Course 5 Lab'!$B$30","v":"Student"},{"$f":"'Course 5 Lab'!$C$30","v":"Twenty four"},{"$f":"'Course 5 Lab'!$D$30","v":0},{"$f":"'Course 5 Lab'!$E$30","v":0},{"$f":"'Course 5 Lab'!$F$30","v":0},{"$f":"'Course 5 Lab'!$G$30","v":0},{"$f":"'Course 5 Lab'!$H$30","v":0},{"$f":"'Course 5 Lab'!$I$30","v":0},{"$f":"'Course 5 Lab'!$J$30","v":0},{"$f":"'Course 5 Lab'!$K$30","v":0},{"$f":"'Course 5 Lab'!$L$30","v":0},{"$f":"'Course 5 Lab'!$M$30","v":0},{"$f":"'Course 5 Lab'!$N$30","v":0},{"$f":"'Course 5 Lab'!$O$30","v":0},{"$f":"'Course 5 Lab'!$P$30","v":0},{"$f":"'Course 5 Lab'!$Q$30","v":0},{"$f":"'Course 5 Lab'!$R$30","v":0},{"$f":"'Course 5 Lab'!$S$30","v":1},{"$f":"'Course 5 Lab'!$T$30","v":0},{"$f":"'Course 5 Lab'!$U$30","v":{"v":0,"d":"0%"}}]

{"sheet":"Student 25","index":38,"n_rows":65,"n_cols":23,"rows_kept":65,"merged":[[0,0,0,2],[1,0,1,2],[2,0,2,1],[2,9,2,17],[3,0,3,1],[3,9,3,10],[3,11,3,13],[3,14,3,15],[6,0,6,2],[7,0,7,1],[8,0,10,2],[10,16,10,17],[13,0,13,2],[14,1,14,2],[15,0,15,1],[15,11,15,19],[16,0,16,1],[16,11,16,12],[16,13,16,15],[16,16,16,17],[19,0,19,2],[20,0,20,1],[21,0,23,2],[23,13,23,14],[26,0,26,2],[27,1,27,2],[28,0,28,1],[28,14,28,22],[29,0,29,1],[29,14,29,15],[29,16,29,18],[29,19,29,20],[32,0,32,2],[33,0,33,1],[34,0,36,2],[35,20,35,21],[36,16,36,17],[39,0,39,2],[40,1,40,2],[41,0,41,1],[41,10,41,18],[42,0,42,1],[42,10,42,11],[42,12,42,14],[42,15,42,16],[45,0,45,2],[46,0,46,1],[47,0,49,2],[49,7,49,8],[52,0,52,2],[53,0,53,2],[54,0,54,1],[54,13,54,21],[55,0,55,1],[55,13,55,14],[55,15,55,17],[55,18,55,19],[58,0,58,2],[59,0,59,1],[60,0,62,2],[62,19,62,20]]}
[{"$f":"'Student 1'!$A$1","v":"Course 1 Engine Diagnosis. Class"},{"$nulls":6},{"$f":"'Student 1'!$H$1","v":25}]
[{"$f":"'Student 1'!$A$2","v":"Date assignment is due"},null,{"$f":"'Student 1'!$C$2","v":" "},{"$f":"'Student 1'!$D$2","v":"TBD"},{"$f":"'Student 1'!$E$2","v":"TBD"},{"$f":"'Student 1'!$F$2","v":"TBD"},{"$f":"'Student 1'!$G$2","v":"TBD"},{"$f":"'Student 1'!$H$2","v":"TBD"},{"$f":"'Student 1'!$I$2","v":"TBD"}]
[{"$f":"'Student 1'!$A$3","v":"Class Room Points:"},null,{"$f":"'Student 1'!$C$3","v":160},{"$f":"'Student 1'!$D$3","v":20},{"$f":"'Student 1'!$E$3","v":20},{"$f":"'Student 1'!$F$3","v":20},{"$f":"'Student 1'!$G$3","v":25},{"$f":"'Student 1'!$H$3","v":" "},{"$f":"'Student 1'!$I$3","v":75},{"$f":"'Student 1'!$J$3","v":"Evaluation"}]
[{"$f":"'Student 1'!$A$4","v":"Red is late turn-in"},null,{"$f":"'Student 1'!$C$4","v":"Blue is absent"},{"$f":"'Student 1'!$D$4","v":"CH 13 "},{"$f":"'Student 1'!$E$4","v":"Lube"},{"$f":"'Student 1'!$F$4","v":"Lube"},{"$f":"'Student 1'!$G$4","v":"Condition"},{"$f":"'Student 1'!$H$4","v":"Extra"},{"$f":"'Student 1'!$I$4","v":"Final"},{"$f":"'Student 1'!$J$4","v":"Classroom"},null,{"$f":"'Student 1'!$L$4","v":"Professionalism"},null,null,{"$f":"'Student 1'!$O$4","v":"Lab"},null,{"$f":"'Student 1'!$Q$4","v":"Total  "},{"$f":"'Student 1'!$R$4","v":"Letter"}]
[{"$f":"'Student 1'!$A$5","v":"I D "},{"$f":"'Student 1'!$B$5","v":"First:"},{"$f":"'Student 1'!$C$5","v":"Last:"},{"$f":"'Student 1'!$D$5","v":"Test"},{"$f":"'Student 1'!$E$5","v":"HW"},{"$f":"'Student 1'!$F$5","v":"Test"},{"$f":"'Student 1'!$G$5","v":"Class"},{"$f":"'Student 1'!$H$5","v":"Credit"},{"$f":"'Student 1'!$I$5","v":"Test"},{"$f":"'Student 1'!$J$5","v":"Points"},{"$f":"'Student 1'!$K$5","v":"%"},{"$f":"'Student 1'!$L$5","v":"Attendance"},{"$f":"'Student 1'!$M$5","v":"Points"},{"$f":"'Student 1'!$N$5","v":"%"},{"$f":"'Student 1'!$O$5","v":"Points"},{"$f":"'Student 1'!$P$5","v":"%"},{"$f":"'Student 1'!$Q$5","v":"%"},{"$f":"'Student 1'!$R$5","v":"Grade"}]
[{"$f":"'Course 1 Class'!$A$30","v":{"v":25,"d":"00000025"}},{"$f":"'Course 1 Class'!$B$30","v":"Student"},{"$f":"'Course 1 Class'!$C$30","v":"Twenty five"},{"$f":"'Course 1 Class'!$D$30","v":0},{"$f":"'Course 1 Class'!$E$30","v":0},{"$f":"'Course 1 Class'!$F$30","v":0},{"$f":"'Course 1 Class'!$G$30","v":0},{"$f":"'Course 1 Class'!$H$30","v":0},{"$f":"'Course 1 Class'!$I$30","v":0},{"$f":"'Course 1 Class'!$J$30","v":0},{"$f":"'Course 1 Class'!$K$30","v":{"v":0,"d":"0%"}},{"$f":"'Course 1 Class'!$L$30","v":{"v":1,"d":"100%"}},{"$f":"'Course 1 Class'!$M$30","v":72},{"$f":"'Course 1 Class'!$N$30","v":{"v":1,"d":"100%"}},{"$f":"'Course 1 Class'!$O$30","v":0},{"$f":"'Course 1 Class'!$P$30","v":{"v":0,"d":"0%"}},{"$f":"'Course 1 Class'!$Q$30","v":{"v":0.25,"d":"25%"}},{"$f":"'Course 1 Class'!$R$30","v":"F"}]
[{"$f":"'Student 1'!$A$7","v":"Course 1 Engine Diagnosis. Lab"}]
[{"$f":"'Student 1'!$A$8","v":"  Max Shop Points:"},null,{"$f":"'Student 1'!$C$8","v":1325},{"$f":"'Student 1'!$D$8","v":"Dry"},{"$f":"'Student 1'!$E$8","v":"Wet"},{"$f":"'Student 1'!$F$8","v":"Running"},{"$f":"'Student 1'!$G$8","v":"Cylinder"},{"$f":"'Student 1'!$H$8","v":"Oil"},{"$f":"'Student 1'!$I$8","v":"Cooling"},{"$f":"'Student 1'!$J$8","v":"Vacuum"},{"$f":"'Student 1'!$K$8","v":"PCV"},{"$f":"'Student 1'!$L$8","v":"Thermostat"},{"$f":"'Student 1'!$M$8","v":"Fluid"},{"$f":"'Student 1'!$N$8","v":"Diag"},{"$f":"'Student 1'!$O$8","v":" "}]
[{"$f":"'Student 1'!$A$9","v":"Max shop points available depend on how much customer work is done."},null,null,{"$f":"'Student 1'!$D$9","v":"Compr"},{"$f":"'Student 1'!$E$9","v":"Compr"},{"$f":"'Student 1'!$F$9","v":"Compr"},{"$f":"'Student 1'!$G$9","v":"Leakage"},{"$f":"'Student 1'!$H$9","v":"Pressure"},{"$f":"'Student 1'!$I$9","v":"System"},{"$f":"'Student 1'!$J$9","v":"Gauge"},{"$f":"'Student 1'!$K$9","v":"System"},{"$f":"'Student 1'!$L$9","v":"and fan"},{"$f":"'Student 1'!$M$9","v":"Leak"},{"$f":"'Student 1'!$N$9","v":"gauges"},{"$f":"'Student 1'!$O$9","v":"Cus"},{"$f":"'Student 1'!$P$9","v":"Comp"}]
[{"$nulls":3},{"$f":"'Student 1'!$D$10","v":"Test"},{"$f":"'Student 1'!$E$10","v":"Test"},{"$f":"'Student 1'!$F$10","v":"Test"},{"$f":"'Student 1'!$G$10","v":"Test"},{"$f":"'Student 1'!$H$10","v":"Test"},{"$f":"'Student 1'!$I$10","v":"Test"},{"$f":"'Student 1'!$J$10","v":"Test"},{"$f":"'Student 1'!$K$10","v":"Check"},{"$f":"'Student 1'!$L$10","v":"Operation"},{"$f":"'Student 1'!$M$10","v":"Check"},{"$f":"'Student 1'!$N$10","v":"any vehicle"},{"$f":"'Student 1'!$O$10","v":"tomer"},{"$f":"'Student 1'!$P$10","v":"etency"},{"$f":"'Student 1'!$Q$10","v":"  "},{"$f":"'Student 1'!$R$10","v":" "}]
[{"$nulls":3},{"$f":"'Student 1'!$D$11","v":2},{"$f":"'Student 1'!$E$11","v":2},{"$f":"'Student 1'!$F$11","v":2},{"$f":"'Student 1'!$G$11","v":2},{"$f":"'Student 1'!$H$11","v":2},{"$f":"'Student 1'!$I$11","v":2},{"$f":"'Student 1'!$J$11","v":2},{"$f":"'Student 1'!$K$11","v":2},{"$f":"'Student 1'!$L$11","v":2},{"$f":"'Student 1'!$M$11","v":1},{"$f":"'Student 1'!$N$11","v":1},{"$f":"'Student 1'!$O$11","v":"Work"},{"$f":"'Student 1'!$P$11","v":"0 or 1"},{"$f":"'Student 1'!$Q$11","v":"Lab"}]
[{"$f":"'Student 1'!$A$12","v":"ID"},{"$f":"'Student 1'!$B$12","v":"First:"},{"$f":"'Student 1'!$C$12","v":"Last:"},{"$f":"'Student 1'!$D$12","v":100},{"$f":"'Student 1'!$E$12","v":100},{"$f":"'Student 1'!$F$12","v":100},{"$f":"'Student 1'!$G$12","v":100},{"$f":"'Student 1'!$H$12","v":100},{"$f":"'Student 1'!$I$12","v":150},{"$f":"'Student 1'!$J$12","v":100},{"$f":"'Student 1'!$K$12","v":50},{"$f":"'Student 1'!$L$12","v":100},{"$f":"'Student 1'!$M$12","v":25},{"$f":"'Student 1'!$N$12","v":100},{"$f":"'Student 1'!$O$12","v":300},{"$f":"'Student 1'!$P$12","v":"*"},{"$f":"'Student 1'!$Q$12","v":"Points"},{"$f":"'Student 1'!$R$12","v":"%"}]
[{"$f":"'Course 1 Lab'!$A$31","v":{"v":25,"d":"00000025"}},{"$f":"'Course 1 Lab'!$B$31","v":"Student"},{"$f":"'Course 1 Lab'!$C$31","v":"Twenty five"},{"$f":"'Course 1 Lab'!$D$31","v":0},{"$f":"'Course 1 Lab'!$E$31","v":0},{"$f":"'Course 1 Lab'!$F$31","v":0},{"$f":"'Course 1 Lab'!$G$31","v":0},{"$f":"'Course 1 Lab'!$H$31","v":0},{"$f":"'Course 1 Lab'!$I$31","v":0},{"$f":"'Course 1 Lab'!$J$31","v":0},{"$f":"'Course 1 Lab'!$K$31","v":0},{"$f":"'Course 1 Lab'!$L$31","v":0},{"$f":"'Course 1 Lab'!$M$31","v":0},{"$f":"'Course 1 Lab'!$N$31","v":0},{"$f":"'Course 1 Lab'!$O$31","v":0},{"$f":"'Course 1 Lab'!$P$31","v":1},{"$f":"'Course 1 Lab'!$Q$31","v":0},{"$f":"'Course 1 Lab'!$R$31","v":{"v":0,"d":"0%"}}]
[{"$f":"'Student 1'!$A$14","v":"Course 2 Engine Theory & Repair. Class"},{"$nulls":8},{"$f":"'Student 1'!$J$14","v":25}]
[{"$f":"'Student 1'!$A$15","v":" "},{"$f":"'Student 1'!$B$15","v":"Date assignment is due:"},null,{"$f":"'Student 1'!$D$15","v":"TBD"},{"$f":"'Student 1'!$E$15","v":"TBD"},{"$f":"'Student 1'!$F$15","v":"TBD"},{"$f":"'Student 1'!$G$15","v":"TBD"},{"$f":"'Student 1'!$H$15","v":"TBD"},{"$f":"'Student 1'!$I$15","v":"TBD"},{"$f":"'Student 1'!$J$15","v":"TBD"},{"$f":"'Student 1'!$K$15","v":"TBD"}]
[{"$f":"'Student 1'!$A$16","v":"Class Room Points:"},null,{"$f":"'Student 1'!$C$16","v":201},{"$f":"'Student 1'!$D$16","v":10},{"$f":"'Student 1'!$E$16","v":10},{"$f":"'Student 1'!$F$16","v":20},{"$f":"'Student 1'!$G$16","v":20},{"$f":"'Student 1'!$H$16","v":16},{"$f":"'Student 1'!$I$16","v":25},{"$f":"'Student 1'!$J$16","v":" "},{"$f":"'Student 1'!$K$16","v":100},{"$f":"'Student 1'!$L$16","v":"Evaluation"}]
[{"$f":"'Student 1'!$A$17","v":"Red is late turn-in"},null,{"$f":"'Student 1'!$C$17","v":"Blue is absent"},{"$f":"'Student 1'!$D$17","v":"HW"},{"$f":"'Student 1'!$E$17","v":"HW "},{"$f":"'Student 1'!$F$17","v":"Test"},{"$f":"'Student 1'!$G$17","v":"Test"},{"$f":"'Student 1'!$H$17","v":"HW"},{"$f":"'Student 1'!$I$17","v":"Test"},{"$f":"'Student 1'!$J$17","v":"Extra"},{"$f":"'Student 1'!$K$17","v":"Final "},{"$f":"'Student 1'!$L$17","v":"Class"},null,{"$f":"'Student 1'!$N$17","v":"Professionalism"},null,null,{"$f":"'Student 1'!$Q$17","v":"Lab"},null,{"$f":"'Student 1'!$S$17","v":"Total  "},{"$f":"'Student 1'!$T$17","v":"Letter"}]
[{"$f":"'Student 1'!$A$18","v":"I D "},{"$f":"'Student 1'!$B$18","v":"First:"},{"$f":"'Student 1'!$C$18","v":"Last:"},{"$f":"'Student 1'!$D$18","v":"CH 7"},{"$f":"'Student 1'!$E$18","v":"CH 14"},{"$f":"'Student 1'!$F$18","v":"C & L"},{"$f":"'Student 1'!$G$18","v":"CH 18"},{"$f":"'Student 1'!$H$18","v":"CH 22"},{"$f":"'Student 1'!$I$18","v":"CH 22"},{"$f":"'Student 1'!$J$18","v":"Credit"},{"$f":"'Student 1'!$K$18","v":"TEST"},{"$f":"'Student 1'!$L$18","v":"Points"},{"$f":"'Student 1'!$M$18","v":"%"},{"$f":"'Student 1'!$N$18","v":"Attendance"},{"$f":"'Student 1'!$O$18","v":"Points"},{"$f":"'Student 1'!$P$18","v":"%"},{"$f":"'Student 1'!$Q$18","v":"Points"},{"$f":"'Student 1'!$R$18","v":"%"},{"$f":"'Student 1'!$S$18","v":"%"},{"$f":"'Student 1'!$T$18","v":"Grade"}]
[{"$f":"'Course 2 Class'!$A$30","v":{"v":25,"d":"00000025"}},{"$f":"'Course 2 Class'!$B$30","v":"Student"},{"$f":"'Course 2 Class'!$C$30","v":"Twenty five"},{"$f":"'Course 2 Class'!$D$30","v":0},{"$f":"'Course 2 Class'!$E$30","v":0},{"$f":"'Course 2 Class'!$F$30","v":0},{"$f":"'Course 2 Class'!$G$30","v":0},{"$f":"'Course 2 Class'!$H$30","v":0},{"$f":"'Course 2 Class'!$I$30","v":0},{"$f":"'Course 2 Class'!$J$30","v":0},{"$f":"'Course 2 Class'!$K$30","v":0},{"$f":"'Course 2 Class'!$L$30","v":0},{"$f":"'Course 2 Class'!$M$30","v":{"v":0,"d":"0%"}},{"$f":"'Course 2 Class'!$N$30","v":{"v":1,"d":"100%"}},{"$f":"'Course 2 Class'!$O$30","v":72},{"$f":"'Course 2 Class'!$P$30","v":{"v":1,"d":"100%"}},{"$f":"'Course 2 Class'!$Q$30","v":0},{"$f":"'Course 2 Class'!$R$30","v":{"v":0,"d":"0%"}},{"$f":"'Course 2 Class'!$S$30","v":{"v":0.25,"d":"25%"}},{"$f":"'Course 2 Class'!$T$30","v":"F"}]
[{"$f":"'Student 1'!$A$20","v":"Course 2 Engine Theory & Repair. Lab"}]
[{"$f":"'Student 1'!$A$21","v":"  Max Shop Points:"},null,{"$f":"'Student 1'!$C$21","v":1450},{"$f":"'Student 1'!$D$21","v":"Engine"},{"$f":"'Student 1'!$E$21","v":"Cylinder"},{"$f":"'Student 1'!$F$21","v":"Red"},{"$f":"'Student 1'!$G$21","v":"Mitsubishi"},{"$f":"'Student 1'!$H$21","v":"Any"},{"$f":"'Student 1'!$I$21","v":"DOHC"},{"$f":"'Student 1'!$J$21","v":"Valve seal"},{"$f":"'Student 1'!$K$21","v":"Misc."},{"$f":"'Student 1'!$L$21","v":" "}]
[{"$f":"'Student 1'!$A$22","v":"Max shop points available depend on how much customer work is done."},null,null,{"$f":"'Student 1'!$D$22","v":"Disassemble"},{"$f":"'Student 1'!$E$22","v":"Head"},{"$f":"'Student 1'!$F$22","v":"Dodge"},{"$f":"'Student 1'!$G$22","v":"\"3.0L\""},{"$f":"'Student 1'!$H$22","v":"Engine"},{"$f":"'Student 1'!$I$22","v":"Engine"},{"$f":"'Student 1'!$J$22","v":"&"},{"$f":"'Student 1'!$K$22","v":"Engine "},{"$f":"'Student 1'!$L$22","v":"Cus"},{"$f":"'Student 1'!$M$22","v":"Comp"}]
[{"$nulls":3},{"$f":"'Student 1'!$D$23","v":"& Measure"},{"$f":"'Student 1'!$E$23","v":"Repair"},{"$f":"'Student 1'!$F$23","v":"Clip"},{"$f":"'Student 1'!$G$23","v":"Clip"},{"$f":"'Student 1'!$H$23","v":"T-chain"},{"$f":"'Student 1'!$I$23","v":" Stand"},{"$f":"'Student 1'!$J$23","v":"Lobe lift"},{"$f":"'Student 1'!$K$23","v":"Points"},{"$f":"'Student 1'!$L$23","v":"tomer"},{"$f":"'Student 1'!$M$23","v":"etency"},{"$f":"'Student 1'!$N$23","v":" "},{"$f":"'Student 1'!$O$23","v":" "}]
[{"$nulls":3},{"$f":"'Student 1'!$D$24","v":1},{"$f":"'Student 1'!$E$24","v":1},{"$f":"'Student 1'!$F$24","v":1},{"$f":"'Student 1'!$G$24","v":1},{"$f":"'Student 1'!$H$24","v":1},{"$f":"'Student 1'!$I$24","v":1},{"$f":"'Student 1'!$J$24","v":1},null,{"$f":"'Student 1'!$L$24","v":"Work"},{"$f":"'Student 1'!$M$24","v":"0 or 1"},{"$f":"'Student 1'!$N$24","v":"Lab"}]
[{"$f":"'Student 1'!$A$25","v":"ID"},{"$f":"'Student 1'!$B$25","v":"First:"},{"$f":"'Student 1'!$C$25","v":"Last:"},{"$f":"'Student 1'!$D$25","v":300},{"$f":"'Student 1'!$E$25","v":200},{"$f":"'Student 1'!$F$25","v":100},{"$f":"'Student 1'!$G$25","v":100},{"$f":"'Student 1'!$H$25","v":100},{"$f":"'Student 1'!$I$25","v":100},{"$f":"'Student 1'!$J$25","v":50},{"$f":"'Student 1'!$K$25","v":200},{"$f":"'Student 1'!$L$25","v":300},{"$f":"'Student 1'!$M$25","v":"*"},{"$f":"'Student 1'!$N$25","v":"Points"},{"$f":"'Student 1'!$O$25","v":"%"}]
[{"$f":"'Course 2 Lab'!$A$31","v":{"v":25,"d":"00000025"}},{"$f":"'Course 2 Lab'!$B$31","v":"Student"},{"$f":"'Course 2 Lab'!$C$31","v":"Twenty five"},{"$f":"'Course 2 Lab'!$D$31","v":0},{"$f":"'Course 2 Lab'!$E$31","v":0},{"$f":"'Course 2 Lab'!$F$31","v":0},{"$f":"'Course 2 Lab'!$G$31","v":0},{"$f":"'Course 2 Lab'!$H$31","v":0},{"$f":"'Course 2 Lab'!$I$31","v":0},{"$f":"'Course 2 Lab'!$J$31","v":0},{"$f":"'Course 2 Lab'!$K$31","v":0},{"$f":"'Course 2 Lab'!$L$31","v":0},{"$f":"'Course 2 Lab'!$M$31","v":1},{"$f":"'Course 2 Lab'!$N$31","v":0},{"$f":"'Course 2 Lab'!$O$31","v":{"v":0,"d":"0%"}}]
[{"$f":"'Student 1'!$A$27","v":"Course 3 Steering & Suspension. Class."},{"$nulls":11},{"$f":"'Student 1'!$M$27","v":25}]
[{"$f":"'Student 1'!$A$28","v":" "},{"$f":"'Student 1'!$B$28","v":"Date assignment is due:"},null,{"$f":"'Student 1'!$D$28","v":"1/18"},{"$f":"'Student 1'!$E$28","v":"2/2"},{"$f":"'Student 1'!$F$28","v":"TBD"},{"$f":"'Student 1'!$G$28","v":"TBD"},{"$f":"'Student 1'!$H$28","v":"TBD"},{"$f":"'Student 1'!$I$28","v":"TBD"},{"$f":"'Student 1'!$J$28","v":"TBD"},{"$f":"'Student 1'!$K$28","v":"TBD"},{"$f":"'Student 1'!$L$28","v":"TBD"},{"$f":"'Student 1'!$M$28","v":"TBD"},{"$f":"'Student 1'!$N$28","v":"TBD"}]
[{"$f":"'Student 1'!$A$29","v":"Class Room Points:"},null,{"$f":"'Student 1'!$C$29","v":330},{"$f":"'Student 1'!$D$29","v":20},{"$f":"'Student 1'!$E$29","v":20},{"$f":"'Student 1'!$F$29","v":24},{"$f":"'Student 1'!$G$29","v":20},{"$f":"'Student 1'!$H$29","v":25},{"$f":"'Student 1'!$I$29","v":30},{"$f":"'Student 1'!$J$29","v":20},{"$f":"'Student 1'!$K$29","v":26},{"$f":"'Student 1'!$L$29","v":45},{"$f":"'Student 1'!$M$29","v":" "},{"$f":"'Student 1'!$N$29","v":100},{"$f":"'Student 1'!$O$29","v":"Evaluation"}]
[{"$f":"'Student 1'!$A$30","v":"Red is late turn-in"},null,{"$f":"'Student 1'!$C$30","v":"Blue is absent"},{"$f":"'Student 1'!$D$30","v":"HW"},{"$f":"'Student 1'!$E$30","v":"HW"},{"$f":"'Student 1'!$F$30","v":"HW"},{"$f":"'Student 1'!$G$30","v":"QZ"},{"$f":"'Student 1'!$H$30","v":"HW"},{"$f":"'Student 1'!$I$30","v":"HW"},{"$f":"'Student 1'!$J$30","v":"Test"},{"$f":"'Student 1'!$K$30","v":"HW"},{"$f":"'Student 1'!$L$30","v":"Class"},{"$f":"'Student 1'!$M$30","v":"Extra"},{"$f":"'Student 1'!$N$30","v":"Final"},{"$f":"'Student 1'!$O$30","v":"Class"},null,{"$f":"'Student 1'!$Q$30","v":"Professionalism"},null,null,{"$f":"'Student 1'!$T$30","v":"Lab"},null,{"$f":"'Student 1'!$V$30","v":"Total  "},{"$f":"'Student 1'!$W$30","v":"Letter"}]
[{"$f":"'Student 1'!$A$31","v":"I D "},{"$f":"'Student 1'!$B$31","v":"First:"},{"$f":"'Student 1'!$C$31","v":"Last:"},{"$f":"'Student 1'!$D$31","v":"CH 1"},{"$f":"'Student 1'!$E$31","v":"CH 2"},{"$f":"'Student 1'!$F$31","v":"CH 3"},{"$f":"'Student 1'!$G$31","v":"1"},{"$f":"'Student 1'!$H$31","v":"CH 6"},{"$f":"'Student 1'!$I$31","v":"CH 9"},{"$f":"'Student 1'!$J$31","v":"1 – 9"},{"$f":"'Student 1'!$K$31","v":"CH 12"},{"$f":"'Student 1'!$L$31","v":"Project"},{"$f":"'Student 1'!$M$31","v":"Credit"},{"$f":"'Student 1'!$N$31","v":"TEST"},{"$f":"'Student 1'!$O$31","v":"Points"},{"$f":"'Student 1'!$P$31","v":"%"},{"$f":"'Student 1'!$Q$31","v":"Attendance"},{"$f":"'Student 1'!$R$31","v":"Points"},{"$f":"'Student 1'!$S$31","v":"%"},{"$f":"'Student 1'!$T$31","v":"Points"},{"$f":"'Student 1'!$U$31","v":"%"},{"$f":"'Student 1'!$V$31","v":"%"},{"$f":"'Student 1'!$W$31","v":"Grade"}]
[{"$f":"'Course 3 Class'!$A$30","v":{"v":25,"d":"00000025"}},{"$f":"'Course 3 Class'!$B$30","v":"Student"},{"$f":"'Course 3 Class'!$C$30","v":"Twenty five"},{"$f":"'Course 3 Class'!$D$30","v":0},{"$f":"'Course 3 Class'!$E$30","v":0},{"$f":"'Course 3 Class'!$F$30","v":0},{"$f":"'Course 3 Class'!$G$30","v":0},{"$f":"'Course 3 Class'!$H$30","v":0},{"$f":"'Course 3 Class'!$I$30","v":0},{"$f":"'Course 3 Class'!$J$30","v":0},{"$f":"'Course 3 Class'!$K$30","v":0},{"$f":"'Course 3 Class'!$L$30","v":0},{"$f":"'Course 3 Class'!$M$30","v":0},{"$f":"'Course 3 Class'!$N$30","v":0},{"$f":"'Course 3 Class'!$O$30","v":0},{"$f":"'Course 3 Class'!$P$30","v":{"v":0,"d":"0%"}},{"$f":"'Course 3 Class'!$Q$30","v":{"v":1,"d":"100%"}},{"$f":"'Course 3 Class'!$R$30","v":72},{"$f":"'Course 3 Class'!$S$30","v":{"v":1,"d":"100%"}},{"$f":"'Course 3 Class'!$T$30","v":0},{"$f":"'Course 3 Class'!$U$30","v":{"v":0,"d":"0%"}},{"$f":"'Course 3 Class'!$V$30","v":{"v":0.25,"d":"25%"}},{"$f":"'Course 3 Class'!$W$30","v":"F"}]
[{"$f":"'Student 1'!$A$33","v":"Course 3 Steering & Suspension. Lab"}]
[{"$f":"'Student 1'!$A$34","v":"Max shop points"},null,{"$f":"'Student 1'!$C$34","v":1350},{"$f":"'Student 1'!$D$34","v":"Repair"},{"$f":"'Student 1'!$E$34","v":"Identify"},{"$f":"'Student 1'!$F$34","v":"Repair"},{"$f":"'Student 1'!$G$34","v":"Identify"},{"$f":"'Student 1'!$H$34","v":"Repair"},{"$f":"'Student 1'!$I$34","v":"R&R"},{"$f":"'Student 1'!$J$34","v":"R&R"},{"$f":"'Student 1'!$K$34","v":"R&R"},{"$f":"'Student 1'!$L$34","v":"P/S"},{"$f":"'Student 1'!$M$34","v":"R&R"},{"$f":"'Student 1'!$N$34","v":"NVH"},{"$f":"'Student 1'!$O$34","v":" "}]
[{"$f":"'Student 1'!$A$35","v":"Max shop points available depend on how much customer work is done."},null,null,{"$f":"'Student 1'!$D$35","v":"SLA"},{"$f":"'Student 1'!$E$35","v":"SLA"},{"$f":"'Student 1'!$F$35","v":"Mac-P"},{"$f":"'Student 1'!$G$35","v":"Mac-P"},{"$f":"'Student 1'!$H$35","v":"Rear"},{"$f":"'Student 1'!$I$35","v":"Rack &"},{"$f":"'Student 1'!$J$35","v":"Recirc."},{"$f":"'Student 1'!$K$35","v":"P/S"},{"$f":"'Student 1'!$L$35","v":"Pump"},{"$f":"'Student 1'!$M$35","v":"Inner"},{"$f":"'Student 1'!$N$35","v":"Runout &"},{"$f":"'Student 1'!$O$35","v":"Cus"},{"$f":"'Student 1'!$P$35","v":"Comp"}]
[{"$nulls":3},{"$f":"'Student 1'!$D$36","v":"Susp"},{"$f":"'Student 1'!$E$36","v":"Parts"},{"$f":"'Student 1'!$F$36","v":"Susp"},{"$f":"'Student 1'!$G$36","v":"Parts"},{"$f":"'Student 1'!$H$36","v":"Susp"},{"$f":"'Student 1'!$I$36","v":"Pinion"},{"$f":"'Student 1'!$J$36","v":"Gear"},{"$f":"'Student 1'!$K$36","v":"Pump"},{"$f":"'Student 1'!$L$36","v":"Test"},{"$f":"'Student 1'!$M$36","v":"Tie-Rod"},{"$f":"'Student 1'!$N$36","v":"bal. Check"},{"$f":"'Student 1'!$O$36","v":"tomer"},{"$f":"'Student 1'!$P$36","v":"etency"},{"$f":"'Student 1'!$Q$36","v":" "},{"$f":"'Student 1'!$R$36","v":" "},null,null,{"$f":"'Student 1'!$U$36","v":"Final Grade"}]
[{"$nulls":3},{"$f":"'Student 1'!$D$37","v":1},{"$f":"'Student 1'!$E$37","v":2},{"$f":"'Student 1'!$F$37","v":3},{"$f":"'Student 1'!$G$37","v":2},{"$f":"'Student 1'!$H$37","v":1},{"$f":"'Student 1'!$I$37","v":1},{"$f":"'Student 1'!$J$37","v":1},{"$f":"'Student 1'!$K$37","v":1},{"$f":"'Student 1'!$L$37","v":1},{"$f":"'Student 1'!$M$37","v":1},{"$f":"'Student 1'!$N$37","v":1},{"$f":"'Student 1'!$O$37","v":"Work"},{"$f":"'Student 1'!$P$37","v":"0 or 1"},{"$f":"'Student 1'!$Q$37","v":"Lab"},{"$nulls":3},{"$f":"'Student 1'!$U$37","v":{"v":0,"d":"0%"}},{"$f":"'Student 1'!$V$37","v":"F"}]
[{"$f":"'Student 1'!$A$38","v":"ID"},{"$f":"'Student 1'!$B$38","v":"First:"},{"$f":"'Student 1'!$C$38","v":"Last:"},{"$f":"'Student 1'!$D$38","v":150},{"$f":"'Student 1'!$E$38","v":50},{"$f":"'Student 1'!$F$38","v":225},{"$f":"'Student 1'!$G$38","v":50},{"$f":"'Student 1'!$H$38","v":50},{"$f":"'Student 1'!$I$38","v":150},{"$f":"'Student 1'!$J$38","v":125},{"$f":"'Student 1'!$K$38","v":50},{"$f":"'Student 1'!$L$38","v":50},{"$f":"'Student 1'!$M$38","v":50},{"$f":"'Student 1'!$N$38","v":100},{"$f":"'Student 1'!$O$38","v":300},{"$f":"'Student 1'!$P$38","v":"*"},{"$f":"'Student 1'!$Q$38","v":"Points"},{"$f":"'Student 1'!$R$38","v":"%"},null,null,{"$f":"'Student 1'!$U$38","v":{"v":0.695,"d":"70%"}},{"$f":"'Student 1'!$V$38","v":"D-"}]
[{"$f":"'Course 3 Lab'!$A$31","v":{"v":25,"d":"00000025"}},{"$f":"'Course 3 Lab'!$B$31","v":"Student"},{"$f":"'Course 3 Lab'!$C$31","v":"Twenty five"},{"$f":"'Course 3 Lab'!$D$31","v":0},{"$f":"'Course 3 Lab'!$E$31","v":0},{"$f":"'Course 3 Lab'!$F$31","v":0},{"$f":"'Course 3 Lab'!$G$31","v":0},{"$f":"'Course 3 Lab'!$H$31","v":0},{"$f":"'Course 3 Lab'!$I$31","v":0},{"$f":"'Course 3 Lab'!$J$31","v":0},{"$f":"'Course 3 Lab'!$K$31","v":0},{"$f":"'Course 3 Lab'!$L$31","v":0},{"$f":"'Course 3 Lab'!$M$31","v":0},{"$f":"'Course 3 Lab'!$N$31","v":0},{"$f":"'Course 3 Lab'!$O$31","v":0},{"$f":"'Course 3 Lab'!$P$31","v":1},{"$f":"'Course 3 Lab'!$Q$31","v":0},{"$f":"'Course 3 Lab'!$R$31","v":{"v":0,"d":"0%"}},null,null,{"$f":"'Student 1'!$U$39","v":{"v":0.715,"d":"72%"}},{"$f":"'Student 1'!$V$39","v":"D"}]
[{"$f":"'Student 1'!$A$40","v":"Course 4 Alignment. Class."},{"$nulls":7},{"$f":"'Student 1'!$I$40","v":25},{"$nulls":11},{"$f":"'Student 1'!$U$40","v":{"v":0.735,"d":"74%"}},{"$f":"'Student 1'!$V$40","v":"D+"}]
[{"$f":"'Student 1'!$A$41","v":" "},{"$f":"'Student 1'!$B$41","v":"Date assignment is due  "},null,{"$f":"'Student 1'!$D$41","v":"TBD"},{"$f":"'Student 1'!$E$41","v":"TBD"},{"$f":"'Student 1'!$F$41","v":"TBD"},{"$f":"'Student 1'!$G$41","v":"TBD"},{"$f":"'Student 1'!$H$41","v":"TBD"},{"$f":"'Student 1'!$I$41","v":"TBD"},{"$f":"'Student 1'!$J$41","v":"TBD"},{"$nulls":10},{"$f":"'Student 1'!$U$41","v":{"v":0.755,"d":"76%"}},{"$f":"'Student 1'!$V$41","v":"C-"}]
[{"$f":"'Student 1'!$A$42","v":"Class Room Points:"},null,{"$f":"'Student 1'!$C$42","v":235},{"$f":"'Student 1'!$D$42","v":25},{"$f":"'Student 1'!$E$42","v":25},{"$f":"'Student 1'!$F$42","v":20},{"$f":"'Student 1'!$G$42","v":40},{"$f":"'Student 1'!$H$42","v":50},{"$f":"'Student 1'!$I$42","v":" "},{"$f":"'Student 1'!$J$42","v":75},{"$f":"'Student 1'!$K$42","v":"Evaluation"},{"$nulls":9},{"$f":"'Student 1'!$U$42","v":{"v":0.785,"d":"79%"}},{"$f":"'Student 1'!$V$42","v":"C"}]
[{"$f":"'Student 1'!$A$43","v":"Red is late turn-in"},null,{"$f":"'Student 1'!$C$43","v":"Blue is absent"},{"$f":"'Student 1'!$D$43","v":"CH 16"},{"$f":"'Student 1'!$E$43","v":"CH 16"},{"$f":"'Student 1'!$F$43","v":"Align"},{"$f":"'Student 1'!$G$43","v":"In class"},{"$f":"'Student 1'!$H$43","v":"In class"},{"$f":"'Student 1'!$I$43","v":"Extra"},{"$f":"'Student 1'!$J$43","v":"Final"},{"$f":"'Student 1'!$K$43","v":"Class"},null,{"$f":"'Student 1'!$M$43","v":"Professionalism"},null,null,{"$f":"'Student 1'!$P$43","v":"Lab"},null,{"$f":"'Student 1'!$R$43","v":"Total  "},{"$f":"'Student 1'!$S$43","v":"Letter"},null,{"$f":"'Student 1'!$U$43","v":{"v":0.815,"d":"82%"}},{"$f":"'Student 1'!$V$43","v":"C+"}]
[{"$f":"'Student 1'!$A$44","v":"I D "},{"$f":"'Student 1'!$B$44","v":"First:"},{"$f":"'Student 1'!$C$44","v":"Last:"},{"$f":"'Student 1'!$D$44","v":"HW"},{"$f":"'Student 1'!$E$44","v":"Test"},{"$f":"'Student 1'!$F$44","v":"HW"},{"$f":"'Student 1'!$G$44","v":"Project1"},{"$f":"'Student 1'!$H$44","v":"Project2"},{"$f":"'Student 1'!$I$44","v":"Credit"},{"$f":"'Student 1'!$J$44","v":"Test"},{"$f":"'Student 1'!$K$44","v":"Points"},{"$f":"'Student 1'!$L$44","v":"%"},{"$f":"'Student 1'!$M$44","v":"Attendance"},{"$f":"'Student 1'!$N$44","v":"Points"},{"$f":"'Student 1'!$O$44","v":"%"},{"$f":"'Student 1'!$P$44","v":"Points"},{"$f":"'Student 1'!$Q$44","v":"%"},{"$f":"'Student 1'!$R$44","v":"%"},{"$f":"'Student 1'!$S$44","v":"Grade"},null,{"$f":"'Student 1'!$U$44","v":{"v":0.845,"d":"85%"}},{"$f":"'Student 1'!$V$44","v":"B-"}]
[{"$f":"'Course 4 Class'!$A$30","v":{"v":25,"d":"00000025"}},{"$f":"'Course 4 Class'!$B$30","v":"Student"},{"$f":"'Course 4 Class'!$C$30","v":"Twenty five"},{"$f":"'Course 4 Class'!$D$30","v":0},{"$f":"'Course 4 Class'!$E$30","v":0},{"$f":"'Course 4 Class'!$F$30","v":0},{"$f":"'Course 4 Class'!$G$30","v":0},{"$f":"'Course 4 Class'!$H$30","v":0},{"$f":"'Course 4 Class'!$I$30","v":0},{"$f":"'Course 4 Class'!$J$30","v":0},{"$f":"'Course 4 Class'!$K$30","v":0},{"$f":"'Course 4 Class'!$L$30","v":{"v":0,"d":"0%"}},{"$f":"'Course 4 Class'!$M$30","v":{"v":1,"d":"100%"}},{"$f":"'Course 4 Class'!$N$30","v":72},{"$f":"'Course 4 Class'!$O$30","v":{"v":1,"d":"100%"}},{"$f":"'Course 4 Class'!$P$30","v":0},{"$f":"'Course 4 Class'!$Q$30","v":{"v":0,"d":"0%"}},{"$f":"'Course 4 Class'!$R$30","v":{"v":0.25,"d":"25%"}},{"$f":"'Course 4 Class'!$S$30","v":"F"},null,{"$f":"'Student 1'!$U$45","v":{"v":0.875,"d":"88%"}},{"$f":"'Student 1'!$V$45","v":"B"}]
[{"$f":"'Student 1'!$A$46","v":"Course 4 Alignment. Lab"},{"$nulls":19},{"$f":"'Student 1'!$U$46","v":{"v":0.895,"d":"90%"}},{"$f":"'Student 1'!$V$46","v":"B+"}]
[{"$f":"'Student 1'!$A$47","v":"Max Shop Points:"},null,{"$f":"'Student 1'!$C$47","v":1300},{"$f":"'Student 1'!$D$47","v":"Alignment"},{"$f":"'Student 1'!$E$47","v":"Complete"},{"$f":"'Student 1'!$F$47","v":"Cus"},{"$f":"'Student 1'!$G$47","v":" "},{"$nulls":13},{"$f":"'Student 1'!$U$47","v":{"v":0.925,"d":"93%"}},{"$f":"'Student 1'!$V$47","v":"A-"}]
[{"$f":"'Student 1'!$A$48","v":"Max shop points available depend on how much customer work is done."},null,null,{"$f":"'Student 1'!$D$48","v":"Pre-check"},{"$f":"'Student 1'!$E$48","v":"Wheel"},{"$f":"'Student 1'!$F$48","v":"tomer"},{"$f":"'Student 1'!$G$48","v":"Comp"},{"$nulls":13},{"$f":"'Student 1'!$U$48","v":{"v":0.945,"d":"95%"}},{"$f":"'Student 1'!$V$48","v":"A"}]
[{"$nulls":3},{"$f":"'Student 1'!$D$49","v":"100 P"},{"$f":"'Student 1'!$E$49","v":"Alignment"},{"$f":"'Student 1'!$F$49","v":"Work"},{"$f":"'Student 1'!$G$49","v":"etency"},{"$f":"'Student 1'!$H$49","v":" "},{"$f":"'Student 1'!$I$49","v":" "},{"$nulls":11},{"$f":"'Student 1'!$U$49","v":{"v":1,"d":"100%"}},{"$f":"'Student 1'!$V$49","v":"A"}]
[{"$nulls":3},{"$f":"'Student 1'!$D$50","v":1},{"$f":"'Student 1'!$E$50","v":1},{"$f":"'Student 1'!$F$50","v":" "},{"$f":"'Student 1'!$G$50","v":"0 or 1"},{"$f":"'Student 1'!$H$50","v":"Lab"}]
[{"$f":"'Student 1'!$A$51","v":"ID"},{"$f":"'Student 1'!$B$51","v":"First:"},{"$f":"'Student 1'!$C$51","v":"Last:"},{"$f":"'Student 1'!$D$51","v":100},{"$f":"'Student 1'!$E$51","v":900},{"$f":"'Student 1'!$F$51","v":300},{"$f":"'Student 1'!$G$51","v":"*"},{"$f":"'Student 1'!$H$51","v":"Points"},{"$f":"'Student 1'!$I$51","v":"%"}]
[{"$f":"'Course 4 Lab'!$A$31","v":{"v":25,"d":"00000025"}},{"$f":"'Course 4 Lab'!$B$31","v":"Student"},{"$f":"'Course 4 Lab'!$C$31","v":"Twenty five"},{"$f":"'Course 4 Lab'!$D$31","v":0},{"$f":"'Course 4 Lab'!$E$31","v":0},{"$f":"'Course 4 Lab'!$F$31","v":0},{"$f":"'Course 4 Lab'!$G$31","v":1},{"$f":"'Course 4 Lab'!$H$31","v":0},{"$f":"'Course 4 Lab'!$I$31","v":{"v":0,"d":"0%"}}]
[{"$f":"'Student 1'!$A$53","v":"Course 5 Brake Systems. Class."},{"$nulls":10},{"$f":"'Student 1'!$L$53","v":35}]
[{"$f":"'Student 1'!$A$54","v":"Date assignment is due:"},null,{"$f":"'Student 1'!$C$54","v":" "},{"$f":"'Student 1'!$D$54","v":"TBD"},{"$f":"'Student 1'!$E$54","v":"TBD"},{"$f":"'Student 1'!$F$54","v":"TBD"},{"$f":"'Student 1'!$G$54","v":"TBD"},{"$f":"'Student 1'!$H$54","v":"TBD"},{"$f":"'Student 1'!$I$54","v":"TBD"},{"$f":"'Student 1'!$J$54","v":"TBD"},{"$f":"'Student 1'!$K$54","v":"TBD"},{"$f":"'Student 1'!$L$54","v":"TBD"},{"$f":"'Student 1'!$M$54","v":"TBD"}]
[{"$f":"'Student 1'!$A$55","v":"Class Room Points:"},null,{"$f":"'Student 1'!$C$55","v":440},{"$f":"'Student 1'!$D$55","v":30},{"$f":"'Student 1'!$E$55","v":25},{"$f":"'Student 1'!$F$55","v":100},{"$f":"'Student 1'!$G$55","v":30},{"$f":"'Student 1'!$H$55","v":50},{"$f":"'Student 1'!$I$55","v":30},{"$f":"'Student 1'!$J$55","v":25},{"$f":"'Student 1'!$K$55","v":50},{"$f":"'Student 1'!$L$55","v":" "},{"$f":"'Student 1'!$M$55","v":100},{"$f":"'Student 1'!$N$55","v":"Evaluation"}]
[{"$f":"'Student 1'!$A$56","v":"Red is late turn-in"},null,{"$f":"'Student 1'!$C$56","v":"Blue is absent"},{"$f":"'Student 1'!$D$56","v":"HW"},{"$f":"'Student 1'!$E$56","v":"HW"},{"$f":"'Student 1'!$F$56","v":"Test"},{"$f":"'Student 1'!$G$56","v":"HW"},{"$f":"'Student 1'!$H$56","v":"Test"},{"$f":"'Student 1'!$I$56","v":"HW"},{"$f":"'Student 1'!$J$56","v":"Test"},{"$f":"'Student 1'!$K$56","v":"Class"},{"$f":"'Student 1'!$L$56","v":"Extra"},{"$f":"'Student 1'!$M$56","v":"Final"},{"$f":"'Student 1'!$N$56","v":"Class"},null,{"$f":"'Student 1'!$P$56","v":"Professionalism"},null,null,{"$f":"'Student 1'!$S$56","v":"Lab"},null,{"$f":"'Student 1'!$U$56","v":"Total  "},{"$f":"'Student 1'!$V$56","v":"Letter"}]
[{"$f":"'Student 1'!$A$57","v":"I D "},{"$f":"'Student 1'!$B$57","v":"First:"},{"$f":"'Student 1'!$C$57","v":"Last:"},{"$f":"'Student 1'!$D$57","v":"CH 4"},{"$f":"'Student 1'!$E$57","v":"CH 5"},{"$f":"'Student 1'!$F$57","v":"#1"},{"$f":"'Student 1'!$G$57","v":"CH 7"},{"$f":"'Student 1'!$H$57","v":"Conv"},{"$f":"'Student 1'!$I$57","v":"CH 20"},{"$f":"'Student 1'!$J$57","v":"21/22"},{"$f":"'Student 1'!$K$57","v":"Project"},{"$f":"'Student 1'!$L$57","v":"Credit"},{"$f":"'Student 1'!$M$57","v":"Test"},{"$f":"'Student 1'!$N$57","v":"Points"},{"$f":"'Student 1'!$O$57","v":"%"},{"$f":"'Student 1'!$P$57","v":"Attendance"},{"$f":"'Student 1'!$Q$57","v":"Points"},{"$f":"'Student 1'!$R$57","v":"%"},{"$f":"'Student 1'!$S$57","v":"Points"},{"$f":"'Student 1'!$T$57","v":"%"},{"$f":"'Student 1'!$U$57","v":"%"},{"$f":"'Student 1'!$V$57","v":"Grade"}]
[{"$f":"'Course 5 Class'!$A$30","v":{"v":25,"d":"00000025"}},{"$f":"'Course 5 Class'!$B$30","v":"Student"},{"$f":"'Course 5 Class'!$C$30","v":"Twenty five"},{"$f":"'Course 5 Class'!$D$30","v":0},{"$f":"'Course 5 Class'!$E$30","v":0},{"$f":"'Course 5 Class'!$F$30","v":0},{"$f":"'Course 5 Class'!$G$30","v":0},{"$f":"'Course 5 Class'!$H$30","v":0},{"$f":"'Course 5 Class'!$I$30","v":0},{"$f":"'Course 5 Class'!$J$30","v":0},{"$f":"'Course 5 Class'!$K$30","v":0},{"$f":"'Course 5 Class'!$L$30","v":0},{"$f":"'Course 5 Class'!$M$30","v":0},{"$f":"'Course 5 Class'!$N$30","v":0},{"$f":"'Course 5 Class'!$O$30","v":{"v":0,"d":"0%"}},{"$f":"'Course 5 Class'!$P$30","v":{"v":1,"d":"100%"}},{"$f":"'Course 5 Class'!$Q$30","v":72},{"$f":"'Course 5 Class'!$R$30","v":{"v":1,"d":"100%"}},{"$f":"'Course 5 Class'!$S$30","v":0},{"$f":"'Course 5 Class'!$T$30","v":{"v":0,"d":"0%"}},{"$f":"'Course 5 Class'!$U$30","v":{"v":0.25,"d":"25%"}},{"$f":"'Course 5 Class'!$V$30","v":"F"}]
[{"$f":"'Student 1'!$A$59","v":"Course 5 Brake Systems. Lab"}]
[{"$f":"'Student 1'!$A$60","v":"  Max Shop Points:"},null,{"$f":"'Student 1'!$C$60","v":970},{"$f":"'Student 1'!$D$60","v":"Drum"},{"$f":"'Student 1'!$E$60","v":"Drum "},{"$f":"'Student 1'!$F$60","v":"Disc"},{"$f":"'Student 1'!$G$60","v":"On Car"},{"$f":"'Student 1'!$H$60","v":"Off Car"},{"$f":"'Student 1'!$I$60","v":"Wheel"},{"$f":"'Student 1'!$J$60","v":"Hydr."},{"$f":"'Student 1'!$K$60","v":"Vacuum"},{"$f":"'Student 1'!$L$60","v":"Warning"},{"$f":"'Student 1'!$M$60","v":"Brake"},{"$f":"'Student 1'!$N$60","v":"Brake"},{"$f":"'Student 1'!$O$60","v":"Dodge"},{"$f":"'Student 1'!$P$60","v":"Ford"},{"$f":"'Student 1'!$Q$60","v":"GM"},{"$f":"'Student 1'!$R$60","v":"Cus"},{"$f":"'Student 1'!$S$60","v":"Brake"}]
[{"$f":"'Student 1'!$A$61","v":"Max shop points available depend on how much customer work is done."},null,null,{"$f":"'Student 1'!$D$61","v":"Brake"},{"$f":"'Student 1'!$E$61","v":"Brake "},{"$f":"'Student 1'!$F$61","v":"Brake"},{"$f":"'Student 1'!$G$61","v":"Disc"},{"$f":"'Student 1'!$H$61","v":"Disc"},{"$f":"'Student 1'!$I$61","v":"Bearing"},{"$f":"'Student 1'!$J$61","v":"Line"},{"$f":"'Student 1'!$K$61","v":"Booster"},{"$f":"'Student 1'!$L$61","v":"Light"},{"$f":"'Student 1'!$M$61","v":"System"},{"$f":"'Student 1'!$N$61","v":"Valves"},{"$f":"'Student 1'!$O$61","v":"Anti"},{"$f":"'Student 1'!$P$61","v":"Anti"},{"$f":"'Student 1'!$Q$61","v":"Anti"},{"$f":"'Student 1'!$R$61","v":"tomer"},{"$f":"'Student 1'!$S$61","v":"Comp"}]
[{"$nulls":3},{"$f":"'Student 1'!$D$62","v":"Job"},{"$f":"'Student 1'!$E$62","v":"Mach."},{"$f":"'Student 1'!$F$62","v":"Job"},{"$f":"'Student 1'!$G$62","v":"Mach."},{"$f":"'Student 1'!$H$62","v":"Mach."},{"$f":"'Student 1'!$I$62","v":"Service"},{"$f":"'Student 1'!$J$62","v":"Repair"},{"$f":"'Student 1'!$K$62","v":"Service"},{"$f":"'Student 1'!$L$62","v":"Service"},{"$f":"'Student 1'!$M$62","v":"Bleed"},{"$f":"'Student 1'!$N$62","v":"Check"},{"$f":"'Student 1'!$O$62","v":"Lock"},{"$f":"'Student 1'!$P$62","v":"Lock"},{"$f":"'Student 1'!$Q$62","v":"Lock"},{"$f":"'Student 1'!$R$62","v":"Work"},{"$f":"'Student 1'!$S$62","v":"etency"}]
[{"$nulls":3},{"$f":"'Student 1'!$D$63","v":2},{"$f":"'Student 1'!$E$63","v":2},{"$f":"'Student 1'!$F$63","v":2},{"$f":"'Student 1'!$G$63","v":2},{"$f":"'Student 1'!$H$63","v":2},{"$f":"'Student 1'!$I$63","v":1},{"$f":"'Student 1'!$J$63","v":1},{"$f":"'Student 1'!$K$63","v":2},{"$f":"'Student 1'!$L$63","v":2},{"$f":"'Student 1'!$M$63","v":4},{"$f":"'Student 1'!$N$63","v":1},{"$f":"'Student 1'!$O$63","v":1},{"$f":"'Student 1'!$P$63","v":1},{"$f":"'Student 1'!$Q$63","v":1},{"$f":"'Student 1'!$R$63","v":" "},{"$f":"'Student 1'!$S$63","v":"Required"},{"$f":"'Student 1'!$T$63","v":"Lab"}]
[{"$f":"'Student 1'!$A$64","v":"ID"},{"$f":"'Student 1'!$B$64","v":"First:"},{"$f":"'Student 1'!$C$64","v":"Last:"},{"$f":"'Student 1'!$D$64","v":150},{"$f":"'Student 1'!$E$64","v":40},{"$f":"'Student 1'!$F$64","v":150},{"$f":"'Student 1'!$G$64","v":80},{"$f":"'Student 1'!$H$64","v":40},{"$f":"'Student 1'!$I$64","v":50},{"$f":"'Student 1'!$J$64","v":30},{"$f":"'Student 1'!$K$64","v":30},{"$f":"'Student 1'!$L$64","v":40},{"$f":"'Student 1'!$M$64","v":80},{"$f":"'Student 1'!$N$64","v":40},{"$f":"'Student 1'!$O$64","v":80},{"$f":"'Student 1'!$P$64","v":80},{"$f":"'Student 1'!$Q$64","v":80},{"$f":"'Student 1'!$R$64","v":300},{"$f":"'Student 1'!$S$64","v":"*"},{"$f":"'Student 1'!$T$64","v":"Points"},{"$f":"'Student 1'!$U$64","v":"%"}]
[{"$f":"'Course 5 Lab'!$A$31","v":{"v":25,"d":"00000025"}},{"$f":"'Course 5 Lab'!$B$31","v":"Student"},{"$f":"'Course 5 Lab'!$C$31","v":"Twenty five"},{"$f":"'Course 5 Lab'!$D$31","v":0},{"$f":"'Course 5 Lab'!$E$31","v":0},{"$f":"'Course 5 Lab'!$F$31","v":0},{"$f":"'Course 5 Lab'!$G$31","v":0},{"$f":"'Course 5 Lab'!$H$31","v":0},{"$f":"'Course 5 Lab'!$I$31","v":0},{"$f":"'Course 5 Lab'!$J$31","v":0},{"$f":"'Course 5 Lab'!$K$31","v":0},{"$f":"'Course 5 Lab'!$L$31","v":0},{"$f":"'Course 5 Lab'!$M$31","v":0},{"$f":"'Course 5 Lab'!$N$31","v":0},{"$f":"'Course 5 Lab'!$O$31","v":0},{"$f":"'Course 5 Lab'!$P$31","v":0},{"$f":"'Course 5 Lab'!$Q$31","v":0},{"$f":"'Course 5 Lab'!$R$31","v":0},{"$f":"'Course 5 Lab'!$S$31","v":1},{"$f":"'Course 5 Lab'!$T$31","v":0},{"$f":"'Course 5 Lab'!$U$31","v":{"v":0,"d":"0%"}}]