{"text_format":"3","workbook":"xlsx","n_sheets":8,"sheets":["Summary","Class 1","Class 2","Class 3","Class 4","Class 5","Class 6","GPA Tables"],"not_rendered":{"defined_names":8},"read":"whole","date_system":"1900"}

{"sheet":"Summary","index":0,"n_rows":11,"n_cols":7,"rows_kept":11,"merged":[[1,1,1,2]]}
[]
[null,"School Name",null,"    Your Name:",null," Semester/Year:"]
[]
[null,"Classes","Credit Hours","Current Percent","Letter Grade","GPA","Weighted GPA"]
[null,"Class 1",{"v":3,"d":"3.00"},{"$f":"'Class 1'!D$35","v":{"v":0.883333333333333,"d":"88.33%"}},{"$f":"IF(D5<>\"\",HLOOKUP(D5,'GPA Tables'!$C$5:$O$7,2),\"\")","v":"B+"},{"$f":"IF(D5<>\"\",HLOOKUP(D5,'GPA Tables'!$C$5:$O$7,3),\"\")","v":{"v":3,"d":"3.00"}},{"$f":"IF(F5<>\"\",F5*C5/(SUM($C$5:$C$10)),\"\")","v":0.45}]
[null,"Class 2",{"v":4,"d":"4.00"},{"$f":"'Class 2'!D$35","v":""},{"$f":"IF(D6<>\"\",HLOOKUP(D6,'GPA Tables'!$C$10:$O$12,2),\"\")","v":""},{"$f":"IF(D6<>\"\",HLOOKUP(D6,'GPA Tables'!$C$10:$O$12,3),\"\")","v":""},{"$f":"IF(F6<>\"\",F6*C6/(SUM($C$5:$C$10)),\"\")","v":""}]
[null,"Class 3",{"v":5,"d":"5.00"},{"$f":"'Class 3'!D$35","v":""},{"$f":"IF(D7<>\"\",HLOOKUP(D7,'GPA Tables'!$C$15:$O$17,2),\"\")","v":""},{"$f":"IF(D7<>\"\",HLOOKUP(D7,'GPA Tables'!$C$15:$O$17,3),\"\")","v":""},{"$f":"IF(F7<>\"\",F7*C7/(SUM($C$5:$C$10)),\"\")","v":""}]
[null,"Class 4",{"v":2,"d":"2.00"},{"$f":"'Class 4'!D$35","v":""},{"$f":"IF(D8<>\"\",HLOOKUP(D8,'GPA Tables'!$C$20:$O$22,2),\"\")","v":""},{"$f":"IF(D8<>\"\",HLOOKUP(D8,'GPA Tables'!$C$20:$O$22,3),\"\")","v":""},{"$f":"IF(F8<>\"\",F8*C8/(SUM($C$5:$C$10)),\"\")","v":""}]
[null,"Class 5",{"v":3,"d":"3.00"},{"$f":"'Class 5'!D$35","v":""},{"$f":"IF(D9<>\"\",HLOOKUP(D9,'GPA Tables'!$C$25:$O$27,2),\"\")","v":""},{"$f":"IF(D9<>\"\",HLOOKUP(D9,'GPA Tables'!$C$25:$O$27,3),\"\")","v":""},{"$f":"IF(F9<>\"\",F9*C9/(SUM($C$5:$C$10)),\"\")","v":""}]
[null,"Class 6",{"v":3,"d":"3.00"},{"$f":"'Class 6'!D$35","v":""},{"$f":"IF(D10<>\"\",HLOOKUP(D10,'GPA Tables'!$C$30:$O$32,2),\"\")","v":""},{"$f":"IF(D10<>\"\",HLOOKUP(D10,'GPA Tables'!$C$30:$O$32,3),\"\")","v":""},{"$f":"IF(F10<>\"\",F10*C10/(SUM($C$5:$C$10)),\"\")","v":""}]
[null,"Totals",{"$f":"SUM(C5:C10)","v":20},{"$f":"AVERAGE(D5:D10)","v":{"v":0.883333333333333,"d":"88.33%"}},{"$f":"IF(D11<>\"\",HLOOKUP(D11,'GPA Tables'!$C$35:$O$37,2),\"\")","v":"B+"},{"$f":"AVERAGE(F5:F10)","v":{"v":3,"d":"3.00"}},{"$f":"SUM(G5:G10)","v":0.45}]

{"sheet":"Class 1","index":1,"n_rows":37,"n_cols":8,"rows_kept":37,"merged":[[1,1,1,2]]}
[]
[null,"Class 1"]
[null,"Professor:",null,null,"Percentage of Total Possible Points",null,null,{"$f":"D35","v":{"v":0.883333333333333,"d":"88.33%"}}]
[null,"E-mail:",null,null,"Current Grade",null,{"$f":"IF(Summary!C5<>\"\",HLOOKUP(H3,'GPA Tables'!$C$5:$O$7,3),\"\")","v":{"v":3,"d":"3.00"}},{"$f":"IF(Summary!C5<>\"\",HLOOKUP(H3,'GPA Tables'!$C$5:$O$7,2),\"\")","v":"B+"}]
[]
[null,"Assignments","Homework","Papers","Exams","Misc.","Quizzes","Final Exam"]
[null,"Weight",{"v":0.1,"d":"10.0%"}]
[null,"HW",{"$f":"9/10","v":{"v":0.9,"d":"0.90"}}]
[null,"Paper",null,{"$f":"80/100","v":{"v":0.8,"d":"0.80"}}]
[null,"Exam",null,null,{"$f":"95/100","v":0.95}]
{"$rows_empty":23}
[null,"Total Points",{"$f":"IF(COUNT(C8:C33)>0,SUM(C8:C33)/COUNT(C8:C33),\"\")","v":{"v":0.9,"d":"0.9000"}},{"$f":"IF(COUNT(D8:D33)>0,SUM(D8:D33)/COUNT(D8:D33),\"\")","v":{"v":0.8,"d":"0.8000"}},{"$f":"IF(COUNT(E8:E33)>0,SUM(E8:E33)/COUNT(E8:E33),\"\")","v":{"v":0.95,"d":"0.9500"}},{"$f":"IF(COUNT(F8:F33)>0,SUM(F8:F33)/COUNT(F8:F33),\"\")","v":""},{"$f":"IF(COUNT(G8:G33)>0,SUM(G8:G33)/COUNT(G8:G33),\"\")","v":""},{"$f":"IF(COUNT(H8:H33)>0,SUM(H8:H33)/COUNT(H8:H33),\"\")","v":""}]
[null,"Percentage of Total Possible Points",null,{"$f":"IF(COUNT(C34:H34)<>0,SUM(C34:H34)/COUNT(C34:H34),\"\")","v":{"v":0.883333333333333,"d":"88.33%"}}]
[]
[null,"Enter grades as a percent"]

{"sheet":"Class 2","index":2,"n_rows":37,"n_cols":8,"rows_kept":37,"merged":[[1,1,1,2]]}
[]
[null,"Class 2"]
[null,"Professor:",null,null,"Percentage of Total Possible Points",null,null,{"$f":"D35","v":""}]
[null,"E-mail:",null,null,"Current Grade",null,{"$f":"IF(Summary!D6<>\"\",HLOOKUP(H3,'GPA Tables'!$C$10:$O$12,3),\"\")","v":""},{"$f":"IF(Summary!D6<>\"\",HLOOKUP(H3,'GPA Tables'!$C$10:$O$12,2),\"\")","v":""}]
[]
[null,"Assignments","Homework","Papers","Exams","Misc.","Quizzes","Final Exam"]
[null,"Weight",{"v":0,"d":"0.0%"},{"v":0,"d":"0.0%"},{"v":0,"d":"0.0%"},{"v":0,"d":"0.0%"},{"v":0,"d":"0.0%"},{"v":0,"d":"0.0%"}]
{"$rows_empty":26}
[null,"Total Points",{"$f":"IF(COUNT(C8:C33)>0,SUM(C8:C33)/COUNT(C8:C33),\"\")","v":""},{"$f":"IF(COUNT(D8:D33)>0,SUM(D8:D33)/COUNT(D8:D33),\"\")","v":""},{"$f":"IF(COUNT(E8:E33)>0,SUM(E8:E33)/COUNT(E8:E33),\"\")","v":""},{"$f":"IF(COUNT(F8:F33)>0,SUM(F8:F33)/COUNT(F8:F33),\"\")","v":""},{"$f":"IF(COUNT(G8:G33)>0,SUM(G8:G33)/COUNT(G8:G33),\"\")","v":""},{"$f":"IF(COUNT(H8:H33)>0,SUM(H8:H33)/COUNT(H8:H33),\"\")","v":""}]
[null,"Percentage of Total Possible Points",null,{"$f":"IF(COUNT(C34:H34)<>0,SUM(C34:H34)/COUNT(C34:H34),\"\")","v":""}]
[]
[null,"Enter grades as a percent"]

{"sheet":"Class 3","index":3,"n_rows":37,"n_cols":8,"rows_kept":37,"merged":[[1,1,1,2]]}
[]
[null,"Class 2"]
[null,"Professor:",null,null,"Percentage of Total Possible Points",null,null,{"$f":"D35","v":""}]
[null,"E-mail:",null,null,"Current Grade",null,{"$f":"IF(Summary!D7<>\"\",HLOOKUP(H3,'GPA Tables'!$C$15:$O$17,3),\"\")","v":""},{"$f":"IF(Summary!D7<>\"\",HLOOKUP(H3,'GPA Tables'!$C$15:$O$17,2),\"\")","v":""}]
[]
[null,"Assignments","Homework","Papers","Exams","Misc.","Quizzes","Final Exam"]
[null,"Weight",{"v":0,"d":"0.0%"},{"v":0,"d":"0.0%"},{"v":0,"d":"0.0%"},{"v":0,"d":"0.0%"},{"v":0,"d":"0.0%"},{"v":0,"d":"0.0%"}]
{"$rows_empty":26}
[null,"Total Points",{"$f":"IF(COUNT(C8:C33)>0,SUM(C8:C33)/COUNT(C8:C33),\"\")","v":""},{"$f":"IF(COUNT(D8:D33)>0,SUM(D8:D33)/COUNT(D8:D33),\"\")","v":""},{"$f":"IF(COUNT(E8:E33)>0,SUM(E8:E33)/COUNT(E8:E33),\"\")","v":""},{"$f":"IF(COUNT(F8:F33)>0,SUM(F8:F33)/COUNT(F8:F33),\"\")","v":""},{"$f":"IF(COUNT(G8:G33)>0,SUM(G8:G33)/COUNT(G8:G33),\"\")","v":""},{"$f":"IF(COUNT(H8:H33)>0,SUM(H8:H33)/COUNT(H8:H33),\"\")","v":""}]
[null,"Percentage of Total Possible Points",null,{"$f":"IF(COUNT(C34:H34)<>0,SUM(C34:H34)/COUNT(C34:H34),\"\")","v":""}]
[]
[null,"Enter grades as a percent"]

{"sheet":"Class 4","index":4,"n_rows":37,"n_cols":8,"rows_kept":37,"merged":[[1,1,1,2]]}
[]
[null,"Class 2"]
[null,"Professor:",null,null,"Percentage of Total Possible Points",null,null,{"$f":"D35","v":""}]
[null,"E-mail:",null,null,"Current Grade",null,{"$f":"IF(Summary!D8<>\"\",HLOOKUP(H3,'GPA Tables'!$C$20:$O$22,3),\"\")","v":""},{"$f":"IF(Summary!D8<>\"\",HLOOKUP(H3,'GPA Tables'!$C$20:$O$22,2),\"\")","v":""}]
[]
[null,"Assignments","Homework","Papers","Exams","Misc.","Quizzes","Final Exam"]
[null,"Weight",{"v":0,"d":"0.0%"},{"v":0,"d":"0.0%"},{"v":0,"d":"0.0%"},{"v":0,"d":"0.0%"},{"v":0,"d":"0.0%"},{"v":0,"d":"0.0%"}]
{"$rows_empty":26}
[null,"Total Points",{"$f":"IF(COUNT(C8:C33)>0,SUM(C8:C33)/COUNT(C8:C33),\"\")","v":""},{"$f":"IF(COUNT(D8:D33)>0,SUM(D8:D33)/COUNT(D8:D33),\"\")","v":""},{"$f":"IF(COUNT(E8:E33)>0,SUM(E8:E33)/COUNT(E8:E33),\"\")","v":""},{"$f":"IF(COUNT(F8:F33)>0,SUM(F8:F33)/COUNT(F8:F33),\"\")","v":""},{"$f":"IF(COUNT(G8:G33)>0,SUM(G8:G33)/COUNT(G8:G33),\"\")","v":""},{"$f":"IF(COUNT(H8:H33)>0,SUM(H8:H33)/COUNT(H8:H33),\"\")","v":""}]
[null,"Percentage of Total Possible Points",null,{"$f":"IF(COUNT(C34:H34)<>0,SUM(C34:H34)/COUNT(C34:H34),\"\")","v":""}]
[]
[null,"Enter grades as a percent"]

{"sheet":"Class 5","index":5,"n_rows":37,"n_cols":8,"rows_kept":37,"merged":[[1,1,1,2]]}
[]
[null,"Class 2"]
[null,"Professor:",null,null,"Percentage of Total Possible Points",null,null,{"$f":"D35","v":""}]
[null,"E-mail:",null,null,"Current Grade",null,{"$f":"IF(Summary!D9<>\"\",HLOOKUP(H3,'GPA Tables'!$C$25:$O$27,3),\"\")","v":""},{"$f":"IF(Summary!D9<>\"\",HLOOKUP(H3,'GPA Tables'!$C$25:$O$27,2),\"\")","v":""}]
[]
[null,"Assignments","Homework","Papers","Exams","Misc.","Quizzes","Final Exam"]
[null,"Weight",{"v":0,"d":"0.0%"},{"v":0,"d":"0.0%"},{"v":0,"d":"0.0%"},{"v":0,"d":"0.0%"},{"v":0,"d":"0.0%"},{"v":0,"d":"0.0%"}]
{"$rows_empty":26}
[null,"Total Points",{"$f":"IF(COUNT(C8:C33)>0,SUM(C8:C33)/COUNT(C8:C33),\"\")","v":""},{"$f":"IF(COUNT(D8:D33)>0,SUM(D8:D33)/COUNT(D8:D33),\"\")","v":""},{"$f":"IF(COUNT(E8:E33)>0,SUM(E8:E33)/COUNT(E8:E33),\"\")","v":""},{"$f":"IF(COUNT(F8:F33)>0,SUM(F8:F33)/COUNT(F8:F33),\"\")","v":""},{"$f":"IF(COUNT(G8:G33)>0,SUM(G8:G33)/COUNT(G8:G33),\"\")","v":""},{"$f":"IF(COUNT(H8:H33)>0,SUM(H8:H33)/COUNT(H8:H33),\"\")","v":""}]
[null,"Percentage of Total Possible Points",null,{"$f":"IF(COUNT(C34:H34)<>0,SUM(C34:H34)/COUNT(C34:H34),\"\")","v":""}]
[]
[null,"Enter grades as a percent"]

{"sheet":"Class 6","index":6,"n_rows":37,"n_cols":8,"rows_kept":37,"merged":[[1,1,1,2]]}
[]
[null,"Class 2"]
[null,"Professor:",null,null,"Percentage of Total Possible Points",null,null,{"$f":"D35","v":""}]
[null,"E-mail:",null,null,"Current Grade",null,{"$f":"IF(Summary!D10<>\"\",HLOOKUP(H3,'GPA Tables'!$C$30:$O$32,3),\"\")","v":""},{"$f":"IF(Summary!D10<>\"\",HLOOKUP(H3,'GPA Tables'!$C$30:$O$32,2),\"\")","v":""}]
[]
[null,"Assignments","Homework","Papers","Exams","Misc.","Quizzes","Final Exam"]
[null,"Weight",{"v":0,"d":"0.0%"},{"v":0,"d":"0.0%"},{"v":0,"d":"0.0%"},{"v":0,"d":"0.0%"},{"v":0,"d":"0.0%"},{"v":0,"d":"0.0%"}]
{"$rows_empty":26}
[null,"Total Points",{"$f":"IF(COUNT(C8:C33)>0,SUM(C8:C33)/COUNT(C8:C33),\"\")","v":""},{"$f":"IF(COUNT(D8:D33)>0,SUM(D8:D33)/COUNT(D8:D33),\"\")","v":""},{"$f":"IF(COUNT(E8:E33)>0,SUM(E8:E33)/COUNT(E8:E33),\"\")","v":""},{"$f":"IF(COUNT(F8:F33)>0,SUM(F8:F33)/COUNT(F8:F33),\"\")","v":""},{"$f":"IF(COUNT(G8:G33)>0,SUM(G8:G33)/COUNT(G8:G33),\"\")","v":""},{"$f":"IF(COUNT(H8:H33)>0,SUM(H8:H33)/COUNT(H8:H33),\"\")","v":""}]
[null,"Percentage of Total Possible Points",null,{"$f":"IF(COUNT(C34:H34)<>0,SUM(C34:H34)/COUNT(C34:H34),\"\")","v":""}]
[]
[null,"Enter grades as a percent"]

{"sheet":"GPA Tables","index":7,"n_rows":37,"n_cols":15,"rows_kept":37}
[]
[null,"Grade & GPA Tables"]
[]
[null,"Class 1 Grade & GPA Table"]
[null,"Average",{"v":0,"d":"0%"},{"v":0.5,"d":"50%"},{"v":0.6,"d":"60%"},{"v":0.68,"d":"68%"},{"v":0.7,"d":"70%"},{"v":0.72,"d":"72%"},{"v":0.78,"d":"78%"},{"v":0.8,"d":"80%"},{"v":0.82,"d":"82%"},{"v":0.88,"d":"88%"},{"v":0.9,"d":"90%"},{"v":0.92,"d":"92%"},{"v":1,"d":"100%"}]
[null,"Letter Grade","F","D-","D","D+","C-","C","C+","B-","B","B+","A-","A","A+"]
[null,"GPA",{"v":0,"d":"0.00"},{"v":0.7,"d":"0.70"},{"v":1,"d":"1.00"},{"v":1.3,"d":"1.30"},{"v":1.7,"d":"1.70"},{"v":2,"d":"2.00"},{"v":2.3,"d":"2.30"},{"v":2.7,"d":"2.70"},{"v":3,"d":"3.00"},{"v":3,"d":"3.00"},{"v":3.5,"d":"3.50"},{"v":4,"d":"4.00"},{"v":4,"d":"4.00"}]
[]
[null,"Class 2 Grade & GPA Table"]
[null,"Average",{"v":0,"d":"0%"},{"v":0.5,"d":"50%"},{"v":0.6,"d":"60%"},{"v":0.68,"d":"68%"},{"v":0.7,"d":"70%"},{"v":0.72,"d":"72%"},{"v":0.78,"d":"78%"},{"v":0.8,"d":"80%"},{"v":0.82,"d":"82%"},{"v":0.88,"d":"88%"},{"v":0.9,"d":"90%"},{"v":0.92,"d":"92%"},{"v":1,"d":"100%"}]
[null,"Letter Grade","F","D-","D","D+","C-","C","C+","B-","B","B+","A-","A","A+"]
[null,"GPA",{"v":0,"d":"0.00"},{"v":0.7,"d":"0.70"},{"v":1,"d":"1.00"},{"v":1.3,"d":"1.30"},{"v":1.7,"d":"1.70"},{"v":2,"d":"2.00"},{"v":2.3,"d":"2.30"},{"v":2.7,"d":"2.70"},{"v":3,"d":"3.00"},{"v":3,"d":"3.00"},{"v":3.5,"d":"3.50"},{"v":4,"d":"4.00"},{"v":4,"d":"4.00"}]
[]
[null,"Class 3 Grade & GPA Table"]
[null,"Average",{"v":0,"d":"0%"},{"v":0.5,"d":"50%"},{"v":0.6,"d":"60%"},{"v":0.68,"d":"68%"},{"v":0.7,"d":"70%"},{"v":0.72,"d":"72%"},{"v":0.78,"d":"78%"},{"v":0.8,"d":"80%"},{"v":0.82,"d":"82%"},{"v":0.88,"d":"88%"},{"v":0.9,"d":"90%"},{"v":0.92,"d":"92%"},{"v":1,"d":"100%"}]
[null,"Letter Grade","F","D-","D","D+","C-","C","C+","B-","B","B+","A-","A","A+"]
[null,"GPA",{"v":0,"d":"0.00"},{"v":0.7,"d":"0.70"},{"v":1,"d":"1.00"},{"v":1.3,"d":"1.30"},{"v":1.7,"d":"1.70"},{"v":2,"d":"2.00"},{"v":2.3,"d":"2.30"},{"v":2.7,"d":"2.70"},{"v":3,"d":"3.00"},{"v":3,"d":"3.00"},{"v":3.5,"d":"3.50"},{"v":4,"d":"4.00"},{"v":4,"d":"4.00"}]
[]
[null,"Class 4 Grade & GPA Table"]
[null,"Average",{"v":0,"d":"0%"},{"v":0.5,"d":"50%"},{"v":0.6,"d":"60%"},{"v":0.68,"d":"68%"},{"v":0.7,"d":"70%"},{"v":0.72,"d":"72%"},{"v":0.78,"d":"78%"},{"v":0.8,"d":"80%"},{"v":0.82,"d":"82%"},{"v":0.88,"d":"88%"},{"v":0.9,"d":"90%"},{"v":0.92,"d":"92%"},{"v":1,"d":"100%"}]
[null,"Letter Grade","F","D-","D","D+","C-","C","C+","B-","B","B+","A-","A","A+"]
[null,"GPA",{"v":0,"d":"0.00"},{"v":0.7,"d":"0.70"},{"v":1,"d":"1.00"},{"v":1.3,"d":"1.30"},{"v":1.7,"d":"1.70"},{"v":2,"d":"2.00"},{"v":2.3,"d":"2.30"},{"v":2.7,"d":"2.70"},{"v":3,"d":"3.00"},{"v":3,"d":"3.00"},{"v":3.5,"d":"3.50"},{"v":4,"d":"4.00"},{"v":4,"d":"4.00"}]
[]
[null,"Clas 5 Grade & GPA Table"]
[null,"Average",{"v":0,"d":"0%"},{"v":0.5,"d":"50%"},{"v":0.6,"d":"60%"},{"v":0.68,"d":"68%"},{"v":0.7,"d":"70%"},{"v":0.72,"d":"72%"},{"v":0.78,"d":"78%"},{"v":0.8,"d":"80%"},{"v":0.82,"d":"82%"},{"v":0.88,"d":"88%"},{"v":0.9,"d":"90%"},{"v":0.92,"d":"92%"},{"v":1,"d":"100%"}]
[null,"Letter Grade","F","D-","D","D+","C-","C","C+","B-","B","B+","A-","A","A+"]
[null,"GPA",{"v":0,"d":"0.00"},{"v":0.7,"d":"0.70"},{"v":1,"d":"1.00"},{"v":1.3,"d":"1.30"},{"v":1.7,"d":"1.70"},{"v":2,"d":"2.00"},{"v":2.3,"d":"2.30"},{"v":2.7,"d":"2.70"},{"v":3,"d":"3.00"},{"v":3,"d":"3.00"},{"v":3.5,"d":"3.50"},{"v":4,"d":"4.00"},{"v":4,"d":"4.00"}]
[]
[null,"Class 6 Grade & GPA Table"]
[null,"Average",{"v":0,"d":"0%"},{"v":0.5,"d":"50%"},{"v":0.6,"d":"60%"},{"v":0.68,"d":"68%"},{"v":0.7,"d":"70%"},{"v":0.72,"d":"72%"},{"v":0.78,"d":"78%"},{"v":0.8,"d":"80%"},{"v":0.82,"d":"82%"},{"v":0.88,"d":"88%"},{"v":0.9,"d":"90%"},{"v":0.92,"d":"92%"},{"v":1,"d":"100%"}]
[null,"Letter Grade","F","D-","D","D+","C-","C","C+","B-","B","B+","A-","A","A+"]
[null,"GPA",{"v":0,"d":"0.00"},{"v":0.7,"d":"0.70"},{"v":1,"d":"1.00"},{"v":1.3,"d":"1.30"},{"v":1.7,"d":"1.70"},{"v":2,"d":"2.00"},{"v":2.3,"d":"2.30"},{"v":2.7,"d":"2.70"},{"v":3,"d":"3.00"},{"v":3,"d":"3.00"},{"v":3.5,"d":"3.50"},{"v":4,"d":"4.00"},{"v":4,"d":"4.00"}]
[]
[null,"School Grade & GPA Table"]
[null,"Average",{"v":0,"d":"0%"},{"v":0.5,"d":"50%"},{"v":0.6,"d":"60%"},{"v":0.68,"d":"68%"},{"v":0.7,"d":"70%"},{"v":0.72,"d":"72%"},{"v":0.78,"d":"78%"},{"v":0.8,"d":"80%"},{"v":0.82,"d":"82%"},{"v":0.88,"d":"88%"},{"v":0.9,"d":"90%"},{"v":0.92,"d":"92%"},{"v":1,"d":"100%"}]
[null,"Letter Grade","F","D-","D","D+","C-","C","C+","B-","B","B+","A-","A","A+"]
[null,"GPA",{"v":0,"d":"0.00"},{"v":0.7,"d":"0.70"},{"v":1,"d":"1.00"},{"v":1.3,"d":"1.30"},{"v":1.7,"d":"1.70"},{"v":2,"d":"2.00"},{"v":2.3,"d":"2.30"},{"v":2.7,"d":"2.70"},{"v":3,"d":"3.00"},{"v":3,"d":"3.00"},{"v":3.5,"d":"3.50"},{"v":4,"d":"4.00"},{"v":4,"d":"4.00"}]