Workbook

Sheet INSTRUCTIONS
A1: Harrison's Payroll Management
A2: Help | B2: Home | C2: Employees | D2: Payroll | E2: Schedual | F2: Attendance | G2: Discipline
A4: Welcome to Harrison's payroll management!
B6: To Start off the top of the page has a collection of other pages. Lets start by imputing employee data. Click on employees at the top of
A7: page and insert all the information. Then go to payroll and insert there name and rate of pay.
B8: Then put there name and position on the schedule page and input there hours. And your done.
C9: after creating the schedual for an employee the only data you need to put in is the amount of hours at the schedule page
B10: On payroll page it will show the hours worked and there earned pay.
B13: I am still working to fix payroll reports so check back and Ill get an updated version soon.
B16: I am also working on a newer version please if you can think of anything to add to a payroll software let me know
G19: contact me at
G20: softwareforyou8150@gmail.com

Sheet Home
A1: Harrison's Payroll Management
A2: Help | B2: Home | C2: Employees | D2: Payroll | E2: Schedual | F2: Attendance | G2: Discipline | H2: Payroll Report

Sheet Employees
A1: Harrison's Payroll Management
A2: Help | B2: Home | C2: Employees | D2: Payroll | E2: Schedual | F2: Attendance | G2: Discipline | H2: Payroll Report
A4: Name | C4: Phone | D4: Address | F4: Social Security | G4: Age | H4: Birth Date | I4: Hire Date | J4: Cell Phone | K4: Family Size | L4: Degree | M4: Position | N4: City,State,zip
A5: jane doe | C5: 859-231-2311 | D5: 273 villa dr | F5: 342-23-2321 | G5: 23 | H5: 33532 | I5: 36594 | J5: 513-222-1121 | K5: 4 | L5: high sch. | M5: cashier | N5: newport, ky 41071

Sheet Payroll
B1: Harrison's Payroll Management
B2: Help | C2: Home | D2: Employees | E2: Payroll | F2: Schedual | G2: Attendance | H2: Discipline | I2: Payroll Report
A4: 1 | B4: Name | D4: Reg. Rate | E4: OT Rate | F4: Holi Rate | G4: Reg. Hours | H4: OT Hours | I4: Holi Hours | J4: Total Hours | K4: Reg. Pay | L4: OT Pay | M4: Holi Pay | N4: Total Pay
A5: 2 | B5: Jane Doe | D5: 8 | E5: 12 | F5: 8 | G5: =Schedual!L5 -> 40 | H5: =Schedual!M5 -> 0 | I5: =Schedual!N5 -> 0 | J5: =SUM(G5:I5) -> 40 | K5: =D5*G5 -> 320 | L5: =E5*H5 -> 0 | M5: =F5*I5 -> 0 | N5: =SUM(K5:M5) -> 320
A6: 3 | G6: =Schedual!L6 -> 0 | H6: =Schedual!M6 -> 0 | I6: =Schedual!N6 -> 0 | K6: =D6*G6 -> 0 | L6: =E6*H6 -> 0 | M6: =F6*I6 -> 0 | N6: =SUM(K6:M6) -> 0
A7: 4 | G7: =Schedual!L7 -> 0 | H7: =Schedual!M7 -> 0 | I7: =Schedual!N7 -> 0 | K7: =D7*G7 -> 0 | L7: =E7*H7 -> 0 | M7: =F7*I7 -> 0 | N7: =SUM(K7:M7) -> 0
A8: 5 | G8: =Schedual!L8 -> 0 | H8: =Schedual!M8 -> 0 | I8: =Schedual!N8 -> 0 | K8: =D8*G8 -> 0 | L8: =E8*H8 -> 0 | M8: =F8*I8 -> 0 | N8: =SUM(K8:M8) -> 0
A9: 6 | G9: =Schedual!L9 -> 0 | H9: =Schedual!M9 -> 0 | I9: =Schedual!N9 -> 0 | K9: =D9*G9 -> 0 | L9: =E9*H9 -> 0 | M9: =F9*I9 -> 0 | N9: =SUM(K9:M9) -> 0
A10: 7 | G10: =Schedual!L10 -> 0 | H10: =Schedual!M10 -> 0 | I10: =Schedual!N10 -> 0 | K10: =D10*G10 -> 0 | L10: =E10*H10 -> 0 | M10: =F10*I10 -> 0 | N10: =SUM(K10:M10) -> 0
A11: 8 | G11: =Schedual!L11 -> 0 | H11: =Schedual!M11 -> 0 | I11: =Schedual!N11 -> 0 | K11: =D11*G11 -> 0 | L11: =E11*H11 -> 0 | M11: =F11*I11 -> 0 | N11: =SUM(K11:M11) -> 0
A12: 9 | G12: =Schedual!L12 -> 0 | H12: =Schedual!M12 -> 0 | I12: =Schedual!N12 -> 0 | K12: =D12*G12 -> 0 | L12: =E12*H12 -> 0 | M12: =F12*I12 -> 0 | N12: =SUM(K12:M12) -> 0
A13: 10 | G13: =Schedual!L13 -> 0 | H13: =Schedual!M13 -> 0 | I13: =Schedual!N13 -> 0 | K13: =D13*G13 -> 0 | L13: =E13*H13 -> 0 | M13: =F13*I13 -> 0 | N13: =SUM(K13:M13) -> 0
A14: 11 | G14: =Schedual!L14 -> 0 | H14: =Schedual!M14 -> 0 | I14: =Schedual!N14 -> 0 | K14: =D14*G14 -> 0 | L14: =E14*H14 -> 0 | M14: =F14*I14 -> 0 | N14: =SUM(K14:M14) -> 0
A15: 12 | G15: =Schedual!L15 -> 0 | H15: =Schedual!M15 -> 0 | I15: =Schedual!N15 -> 0 | K15: =D15*G15 -> 0 | L15: =E15*H15 -> 0 | M15: =F15*I15 -> 0 | N15: =SUM(K15:M15) -> 0
A16: 13 | G16: =Schedual!L16 -> 0 | H16: =Schedual!M16 -> 0 | I16: =Schedual!N16 -> 0 | K16: =D16*G16 -> 0 | L16: =E16*H16 -> 0 | M16: =F16*I16 -> 0 | N16: =SUM(K16:M16) -> 0
A17: 14 | G17: =Schedual!L17 -> 0 | H17: =Schedual!M17 -> 0 | I17: =Schedual!N17 -> 0 | K17: =D17*G17 -> 0 | L17: =E17*H17 -> 0 | M17: =F17*I17 -> 0 | N17: =SUM(K17:M17) -> 0
... A402: 399 | G402: =Schedual!L402 -> 0 | H402: =Schedual!M402 -> 0 | I402: =Schedual!N402 -> 0 | K402: =D402*G402 -> 0 | L402: =E402*H402 -> 0 | M402: =F402*I402 -> 0 | N402: =SUM(K402:M402) -> 0

Sheet Schedual
B1: Harrison's Payroll Management
B2: Help | C2: Home | D2: Employees | E2: Payroll | F2: Schedual | G2: Attendance | H2: Discipline | I2: Payroll Report
A4: 1 | B4: Name | D4: Position | E4: Mon | F4: Tues | G4: Wed | H4: Thurs | I4: Fri | J4: Sat | K4: Sun | L4: Reg. Hours | M4: OT hours | N4: Holi Hours
A5: 2 | B5: Jane Doe | D5: cashier | E5: 8am-4pm | G5: 8am-4pm | H5: 8am-4pm | J5: 8am-4pm | K5: 8am-4pm | L5: 40 | M5: 0 | N5: 0
A6: 3 | L6: 0 | M6: 0 | N6: 0
A7: 4 | L7: 0 | M7: 0 | N7: 0
A8: 5 | L8: 0 | M8: 0 | N8: 0
A9: 6 | L9: 0 | M9: 0 | N9: 0
A10: 7 | L10: 0 | M10: 0 | N10: 0
A11: 8 | L11: 0 | M11: 0 | N11: 0
A12: 9 | L12: 0 | M12: 0 | N12: 0
A13: 10 | L13: 0 | M13: 0 | N13: 0
A14: 11 | L14: 0 | M14: 0 | N14: 0
A15: 12 | L15: 0 | M15: 0 | N15: 0
A16: 13 | L16: 0 | M16: 0 | N16: 0
A17: 14 | L17: 0 | M17: 0 | N17: 0
... A162: 159 | L162: 0 | M162: 0 | N162: 0
A163: 160
A164: 161
A165: 162
A166: 163
A167: 164
A168: 165
A169: 166
A170: 167
A171: 168
A172: 169
A173: 170
A174: 171
... A402: 399

Sheet schedual Print
A1: Name | C1: Position | D1: Mon | E1: Tues | F1: Wed | G1: Thurs | H1: Fri | I1: Sat | J1: Sun | K1: Total Hours
A2: =Schedual!B5 -> Jane Doe | C2: =Schedual!D5 -> cashier | D2: =Schedual!E5 -> 8am-4pm | E2: =Schedual!F5 -> 0 | F2: =Schedual!G5 -> 8am-4pm | G2: =Schedual!H5 -> 8am-4pm | H2: =Schedual!I5 -> 0 | I2: =Schedual!J5 -> 8am-4pm | J2: =Schedual!K5 -> 8am-4pm | K2: =Schedual!L5+Schedual!M5+Schedual!N5 -> 40
A3: =Schedual!B6 -> 0 | C3: =Schedual!D6 -> 0 | D3: =Schedual!E6 -> 0 | E3: =Schedual!F6 -> 0 | F3: =Schedual!G6 -> 0 | G3: =Schedual!H6 -> 0 | H3: =Schedual!I6 -> 0 | I3: =Schedual!J6 -> 0 | J3: =Schedual!K6 -> 0 | K3: =Schedual!L6+Schedual!M6+Schedual!N6 -> 0
A4: =Schedual!B7 -> 0 | C4: =Schedual!D7 -> 0 | D4: =Schedual!E7 -> 0 | E4: =Schedual!F7 -> 0 | F4: =Schedual!G7 -> 0 | G4: =Schedual!H7 -> 0 | H4: =Schedual!I7 -> 0 | I4: =Schedual!J7 -> 0 | J4: =Schedual!K7 -> 0 | K4: =Schedual!L7+Schedual!M7+Schedual!N7 -> 0
A5: =Schedual!B8 -> 0 | C5: =Schedual!D8 -> 0 | D5: =Schedual!E8 -> 0 | E5: =Schedual!F8 -> 0 | F5: =Schedual!G8 -> 0 | G5: =Schedual!H8 -> 0 | H5: =Schedual!I8 -> 0 | I5: =Schedual!J8 -> 0 | J5: =Schedual!K8 -> 0 | K5: =Schedual!L8+Schedual!M8+Schedual!N8 -> 0
A6: =Schedual!B9 -> 0 | C6: =Schedual!D9 -> 0 | D6: =Schedual!E9 -> 0 | E6: =Schedual!F9 -> 0 | F6: =Schedual!G9 -> 0 | G6: =Schedual!H9 -> 0 | H6: =Schedual!I9 -> 0 | I6: =Schedual!J9 -> 0 | J6: =Schedual!K9 -> 0 | K6: =Schedual!L9+Schedual!M9+Schedual!N9 -> 0
A7: =Schedual!B10 -> 0 | C7: =Schedual!D10 -> 0 | D7: =Schedual!E10 -> 0 | E7: =Schedual!F10 -> 0 | F7: =Schedual!G10 -> 0 | G7: =Schedual!H10 -> 0 | H7: =Schedual!I10 -> 0 | I7: =Schedual!J10 -> 0 | J7: =Schedual!K10 -> 0 | K7: =Schedual!L10+Schedual!M10+Schedual!N10 -> 0
A8: =Schedual!B11 -> 0 | C8: =Schedual!D11 -> 0 | D8: =Schedual!E11 -> 0 | E8: =Schedual!F11 -> 0 | F8: =Schedual!G11 -> 0 | G8: =Schedual!H11 -> 0 | H8: =Schedual!I11 -> 0 | I8: =Schedual!J11 -> 0 | J8: =Schedual!K11 -> 0 | K8: =Schedual!L11+Schedual!M11+Schedual!N11 -> 0
A9: =Schedual!B12 -> 0 | C9: =Schedual!D12 -> 0 | D9: =Schedual!E12 -> 0 | E9: =Schedual!F12 -> 0 | F9: =Schedual!G12 -> 0 | G9: =Schedual!H12 -> 0 | H9: =Schedual!I12 -> 0 | I9: =Schedual!J12 -> 0 | J9: =Schedual!K12 -> 0 | K9: =Schedual!L12+Schedual!M12+Schedual!N12 -> 0
A10: =Schedual!B13 -> 0 | C10: =Schedual!D13 -> 0 | D10: =Schedual!E13 -> 0 | E10: =Schedual!F13 -> 0 | F10: =Schedual!G13 -> 0 | G10: =Schedual!H13 -> 0 | H10: =Schedual!I13 -> 0 | I10: =Schedual!J13 -> 0 | J10: =Schedual!K13 -> 0 | K10: =Schedual!L13+Schedual!M13+Schedual!N13 -> 0
A11: =Schedual!B14 -> 0 | C11: =Schedual!D14 -> 0 | D11: =Schedual!E14 -> 0 | E11: =Schedual!F14 -> 0 | F11: =Schedual!G14 -> 0 | G11: =Schedual!H14 -> 0 | H11: =Schedual!I14 -> 0 | I11: =Schedual!J14 -> 0 | J11: =Schedual!K14 -> 0 | K11: =Schedual!L14+Schedual!M14+Schedual!N14 -> 0
A12: =Schedual!B15 -> 0 | C12: =Schedual!D15 -> 0 | D12: =Schedual!E15 -> 0 | E12: =Schedual!F15 -> 0 | F12: =Schedual!G15 -> 0 | G12: =Schedual!H15 -> 0 | H12: =Schedual!I15 -> 0 | I12: =Schedual!J15 -> 0 | J12: =Schedual!K15 -> 0 | K12: =Schedual!L15+Schedual!M15+Schedual!N15 -> 0
A13: =Schedual!B16 -> 0 | C13: =Schedual!D16 -> 0 | D13: =Schedual!E16 -> 0 | E13: =Schedual!F16 -> 0 | F13: =Schedual!G16 -> 0 | G13: =Schedual!H16 -> 0 | H13: =Schedual!I16 -> 0 | I13: =Schedual!J16 -> 0 | J13: =Schedual!K16 -> 0 | K13: =Schedual!L16+Schedual!M16+Schedual!N16 -> 0
... A200: =Schedual!B203 -> 0 | C200: =Schedual!D203 -> 0 | D200: =Schedual!E203 -> 0 | E200: =Schedual!F203 -> 0 | F200: =Schedual!G203 -> 0 | G200: =Schedual!H203 -> 0 | H200: =Schedual!I203 -> 0 | I200: =Schedual!J203 -> 0 | J200: =Schedual!K203 -> 0 | K200: =Schedual!L203+Schedual!M203+Schedual!N203 -> 0

Sheet Attendance
A1: Harrison's Payroll Management
A2: Help | B2: Home | C2: Employees | D2: Payroll | E2: Schedual | F2: Attendance | G2: Discipline | H2: Payroll Report
A4: Name | C4: Call in Date | D4: Reason | E4: Call in Date | F4: Reason | G4: Call in Date | H4: Reason | I4: Call in Date | J4: Reason | K4: Call in Date | L4: Reason | M4: Call in Date | N4: Reason
A5: Jane Doe | C5: 0 | D5: 0 | E5: 0 | F5: 0 | G5: 0 | H5: 0 | I5: 0 | J5: 0 | K5: 0 | L5: 0 | M5: 0 | N5: 0

Sheet Attendance Print 
A1: Name | C1: Call in Date | D1: Reason | E1: Call in Date | F1: Reason | G1: Call in Date | H1: Reason | I1: Call in Date | J1: Reason | K1: Call in Date | L1: Reason | M1: Call in Date | N1: Reason
A2: =Attendance!A5 -> Jane Doe | C2: =Attendance!C5 -> 0 | D2: =Attendance!D5 -> 0 | E2: =Attendance!E5 -> 0 | F2: =Attendance!F5 -> 0 | G2: =Attendance!G5 -> 0 | H2: =Attendance!H5 -> 0 | I2: =Attendance!I5 -> 0 | J2: =Attendance!J5 -> 0 | ... N2: =Attendance!N5 -> 0

Sheet Discipline
A1: Harrison's Payroll Management
A2: Help | B2: Home | C2: Employees | D2: Payroll | E2: Schedual | F2: Attendance | G2: Discipline
A4: Name | C4: Date | D4: Infraction | I4: Consequence
A5: jane doe

Sheet Payroll Report
A1: =Employees!A5 -> jane doe | B1: B-Day | C1: =Employees!H5 -> 33532 | D1: Age | E1: =Employees!G5 -> 23
A2: =Employees!F5 -> 342-23-2321 | D2: Earning Items | F2: Rate | G2: Hours | H2: Earned | J2: Tax
A3: =Employees!D5 -> 273 villa dr | D3: Reg. Hours | F3: =Payroll!D5 -> 8 | G3: =SUM(Schedual!L5) -> 40 | H3: =F3*G3 -> 320 | J3: Federal | K3: 19.5 | M3: Health Insur. | N3: 31.12
A4: =Employees!N5 -> newport, ky 41071 | D4: OT Hours | F4: =Payroll!E5 -> 12 | G4: =SUM(Schedual!M5) -> 0 | H4: =F4*G4 -> 0 | J4: Social Security | K4: 15.39 | M4: Other | N4: 0
D5: Holi Hours | F5: =Payroll!F5 -> 8 | G5: =SUM(Schedual!N5) -> 0 | H5: =F5*G5 -> 0 | J5: Medicare | K5: 11.9 | M5: Other | N5: 0
A6: Hire Date | B6: =Employees!I5 -> 36594 | J6: State | K6: 10
A7: Position | B7: =Employees!M5 -> cashier | J7: County | K7: 15
J8: City | K8: 10
A9: Harrison's Payroll Management | J9: Deductions | K9: 0 | O9: Net Pay
F10: Total Amount Earned | H10: =SUM(H3:H5) -> 320 | J10: Total | K10: =SUM(K3:K9) -> 81.79 | M10: Total | N10: =SUM(N3:N5) -> 31.12 | O10: =SUM(H10-K10-N10) -> 207.09
A12: =Employees!A16 -> 0 | B12: B-Day | C12: =Employees!H16 -> 0 | D12: Age | E12: =Employees!G16 -> 0
A13: =Employees!F16 -> 0 | D13: Earning Items | F13: Rate | G13: Hours | H13: Earned | J13: Tax
A14: =Employees!D16 -> 0 | D14: Reg. Hours | F14: =Payroll!D16 -> 0 | G14: =SUM(Schedual!L16) -> 0 | H14: =F14*G14 -> 0 | J14: Federal | K14: 19.5 | M14: Health Insur. | N14: 31.12
A15: =Employees!N16 -> 0 | D15: OT Hours | F15: =Payroll!E16 -> 0 | G15: =SUM(Schedual!M16) -> 0 | H15: =F15*G15 -> 0 | J15: Social Security | K15: 15.39 | M15: Other | N15: 0
D16: Holi Hours | F16: =Payroll!F16 -> 0 | G16: =SUM(Schedual!N16) -> 0 | H16: =F16*G16 -> 0 | J16: Medicare | K16: 11.9 | M16: Other | N16: 0
A17: Hire Date | B17: =Employees!I16 -> 0 | J17: State | K17: 10
A18: Position | B18: =Employees!M16 -> 0 | J18: County | K18: 15
J19: City | K19: 10
A20: Harrison's Payroll Management | J20: Deductions | K20: 0 | O20: Net Pay
F21: Total Amount Earned | H21: =SUM(H14:H16) -> 0 | J21: Total | K21: =SUM(K14:K20) -> 81.79 | M21: Total | N21: =SUM(N14:N16) -> 31.12 | O21: =SUM(H21-K21-N21) -> -112.91
A23: =Employees!A27 -> 0 | B23: B-Day | C23: =Employees!H27 -> 0 | D23: Age | E23: =Employees!G27 -> 0
A24: =Employees!F27 -> 0 | D24: Earning Items | F24: Rate | G24: Hours | H24: Earned | J24: Tax
A25: =Employees!D27 -> 0 | D25: Reg. Hours | F25: =Payroll!D27 -> 0 | G25: =SUM(Schedual!L27) -> 0 | H25: =F25*G25 -> 0 | J25: Federal | K25: 19.5 | M25: Health Insur. | N25: 31.12
A26: =Employees!N27 -> 0 | D26: OT Hours | F26: =Payroll!E27 -> 0 | G26: =SUM(Schedual!M27) -> 0 | H26: =F26*G26 -> 0 | J26: Social Security | K26: 15.39 | M26: Other | N26: 0
D27: Holi Hours | F27: =Payroll!F27 -> 0 | G27: =SUM(Schedual!N27) -> 0 | H27: =F27*G27 -> 0 | J27: Medicare | K27: 11.9 | M27: Other | N27: 0
A28: Hire Date | B28: =Employees!I27 -> 0 | J28: State | K28: 10
A29: Position | B29: =Employees!M27 -> 0 | J29: County | K29: 15
J30: City | K30: 10
A31: Harrison's Payroll Management | J31: Deductions | K31: 0 | O31: Net Pay
F32: Total Amount Earned | H32: =SUM(H25:H27) -> 0 | J32: Total | K32: =SUM(K25:K31) -> 81.79 | M32: Total | N32: =SUM(N25:N27) -> 31.12 | O32: =SUM(H32-K32-N32) -> -112.91
A33: =Employees!A37 -> 0 | B33: B-Day | C33: =Employees!H37 -> 0 | D33: Age | E33: =Employees!G37 -> 0
A34: =Employees!F37 -> 0 | D34: Earning Items | F34: Rate | G34: Hours | H34: Earned | J34: Tax
A35: =Employees!D37 -> 0 | D35: Reg. Hours | F35: =Payroll!D37 -> 0 | G35: =SUM(Schedual!L37) -> 0 | H35: =F35*G35 -> 0 | J35: Federal | K35: 19.5 | M35: Health Insur. | N35: 31.12
A36: =Employees!N37 -> 0 | D36: OT Hours | F36: =Payroll!E37 -> 0 | G36: =SUM(Schedual!M37) -> 0 | H36: =F36*G36 -> 0 | J36: Social Security | K36: 15.39 | M36: Other | N36: 0
D37: Holi Hours | F37: =Payroll!F37 -> 0 | G37: =SUM(Schedual!N37) -> 0 | H37: =F37*G37 -> 0 | J37: Medicare | K37: 11.9 | M37: Other | N37: 0
A38: Hire Date | B38: =Employees!I37 -> 0 | J38: State | K38: 10
A39: Position | B39: =Employees!M37 -> 0 | J39: County | K39: 15
J40: City | K40: 10
A41: Harrison's Payroll Management | J41: Deductions | K41: 0 | O41: Net Pay
F42: Total Amount Earned | H42: =SUM(H35:H37) -> 0 | J42: Total | K42: =SUM(K35:K41) -> 81.79 | M42: Total | N42: =SUM(N35:N37) -> 31.12 | O42: =SUM(H42-K42-N42) -> -112.91
A43: =Employees!A47 -> 0 | B43: B-Day | C43: =Employees!H47 -> 0 | D43: Age | E43: =Employees!G47 -> 0
A44: =Employees!F47 -> 0 | D44: Earning Items | F44: Rate | G44: Hours | H44: Earned | J44: Tax
A45: =Employees!D47 -> 0 | D45: Reg. Hours | F45: =Payroll!D47 -> 0 | G45: =SUM(Schedual!L47) -> 0 | H45: =F45*G45 -> 0 | J45: Federal | K45: 19.5 | M45: Health Insur. | N45: 31.12
A46: =Employees!N47 -> 0 | D46: OT Hours | F46: =Payroll!E47 -> 0 | G46: =SUM(Schedual!M47) -> 0 | H46: =F46*G46 -> 0 | J46: Social Security | K46: 15.39 | M46: Other | N46: 0
D47: Holi Hours | F47: =Payroll!F47 -> 0 | G47: =SUM(Schedual!N47) -> 0 | H47: =F47*G47 -> 0 | J47: Medicare | K47: 11.9 | M47: Other | N47: 0
A48: Hire Date | B48: =Employees!I47 -> 0 | J48: State | K48: 10
A49: Position | B49: =Employees!M47 -> 0 | J49: County | K49: 15
J50: City | K50: 10
A51: Harrison's Payroll Management | J51: Deductions | K51: 0 | O51: Net Pay
F52: Total Amount Earned | H52: =SUM(H45:H47) -> 0 | J52: Total | K52: =SUM(K45:K51) -> 81.79 | M52: Total | N52: =SUM(N45:N47) -> 31.12 | O52: =SUM(H52-K52-N52) -> -112.91
A53: =Employees!A57 -> 0 | B53: B-Day | C53: =Employees!H57 -> 0 | D53: Age | E53: =Employees!G57 -> 0
A54: =Employees!F57 -> 0 | D54: Earning Items | F54: Rate | G54: Hours | H54: Earned | J54: Tax
A55: =Employees!D57 -> 0 | D55: Reg. Hours | F55: =Payroll!D57 -> 0 | G55: =SUM(Schedual!L57) -> 0 | H55: =F55*G55 -> 0 | J55: Federal | K55: 19.5 | M55: Health Insur. | N55: 31.12
A56: =Employees!N57 -> 0 | D56: OT Hours | F56: =Payroll!E57 -> 0 | G56: =SUM(Schedual!M57) -> 0 | H56: =F56*G56 -> 0 | J56: Social Security | K56: 15.39 | M56: Other | N56: 0
D57: Holi Hours | F57: =Payroll!F57 -> 0 | G57: =SUM(Schedual!N57) -> 0 | H57: =F57*G57 -> 0 | J57: Medicare | K57: 11.9 | M57: Other | N57: 0
A58: Hire Date | B58: =Employees!I57 -> 0 | J58: State | K58: 10
A59: Position | B59: =Employees!M57 -> 0 | J59: County | K59: 15
J60: City | K60: 10
A61: Harrison's Payroll Management | J61: Deductions | K61: 0 | O61: Net Pay
F62: Total Amount Earned | H62: =SUM(H55:H57) -> 0 | J62: Total | K62: =SUM(K55:K61) -> 81.79 | M62: Total | N62: =SUM(N55:N57) -> 31.12 | O62: =SUM(H62-K62-N62) -> -112.91
A63: =Employees!A67 -> 0 | B63: B-Day | C63: =Employees!H67 -> 0 | D63: Age | E63: =Employees!G67 -> 0
A64: =Employees!F67 -> 0 | D64: Earning Items | F64: Rate | G64: Hours | H64: Earned | J64: Tax
A65: =Employees!D67 -> 0 | D65: Reg. Hours | F65: =Payroll!D67 -> 0 | G65: =SUM(Schedual!L67) -> 0 | H65: =F65*G65 -> 0 | J65: Federal | K65: 19.5 | M65: Health Insur. | N65: 31.12
A66: =Employees!N67 -> 0 | D66: OT Hours | F66: =Payroll!E67 -> 0 | G66: =SUM(Schedual!M67) -> 0 | H66: =F66*G66 -> 0 | J66: Social Security | K66: 15.39 | M66: Other | N66: 0
D67: Holi Hours | F67: =Payroll!F67 -> 0 | G67: =SUM(Schedual!N67) -> 0 | H67: =F67*G67 -> 0 | J67: Medicare | K67: 11.9 | M67: Other | N67: 0
A68: Hire Date | B68: =Employees!I67 -> 0 | J68: State | K68: 10
A69: Position | B69: =Employees!M67 -> 0 | J69: County | K69: 15
J70: City | K70: 10
A71: Harrison's Payroll Management | J71: Deductions | K71: 0 | O71: Net Pay
F72: Total Amount Earned | H72: =SUM(H65:H67) -> 0 | J72: Total | K72: =SUM(K65:K71) -> 81.79 | M72: Total | N72: =SUM(N65:N67) -> 31.12 | O72: =SUM(H72-K72-N72) -> -112.91
A73: =Employees!A77 -> 0 | B73: B-Day | C73: =Employees!H77 -> 0 | D73: Age | E73: =Employees!G77 -> 0
A74: =Employees!F77 -> 0 | D74: Earning Items | F74: Rate | G74: Hours | H74: Earned | J74: Tax
A75: =Employees!D77 -> 0 | D75: Reg. Hours | F75: =Payroll!D77 -> 0 | G75: =SUM(Schedual!L77) -> 0 | H75: =F75*G75 -> 0 | J75: Federal | K75: 19.5 | M75: Health Insur. | N75: 31.12
A76: =Employees!N77 -> 0 | D76: OT Hours | F76: =Payroll!E77 -> 0 | G76: =SUM(Schedual!M77) -> 0 | H76: =F76*G76 -> 0 | J76: Social Security | K76: 15.39 | M76: Other | N76: 0
D77: Holi Hours | F77: =Payroll!F77 -> 0 | G77: =SUM(Schedual!N77) -> 0 | H77: =F77*G77 -> 0 | J77: Medicare | K77: 11.9 | M77: Other | N77: 0
A78: Hire Date | B78: =Employees!I77 -> 0 | J78: State | K78: 10
A79: Position | B79: =Employees!M77 -> 0 | J79: County | K79: 15
J80: City | K80: 10
A81: Harrison's Payroll Management | J81: Deductions | K81: 0 | O81: Net Pay
F82: Total Amount Earned | H82: =SUM(H75:H77) -> 0 | J82: Total | K82: =SUM(K75:K81) -> 81.79 | M82: Total | N82: =SUM(N75:N77) -> 31.12 | O82: =SUM(H82-K82-N82) -> -112.91
A83: =Employees!A87 -> 0 | B83: B-Day | C83: =Employees!H87 -> 0 | D83: Age | E83: =Employees!G87 -> 0
A84: =Employees!F87 -> 0 | D84: Earning Items | F84: Rate | G84: Hours | H84: Earned | J84: Tax
A85: =Employees!D87 -> 0 | D85: Reg. Hours | F85: =Payroll!D87 -> 0 | G85: =SUM(Schedual!L87) -> 0 | H85: =F85*G85 -> 0 | J85: Federal | K85: 19.5 | M85: Health Insur. | N85: 31.12
A86: =Employees!N87 -> 0 | D86: OT Hours | F86: =Payroll!E87 -> 0 | G86: =SUM(Schedual!M87) -> 0 | H86: =F86*G86 -> 0 | J86: Social Security | K86: 15.39 | M86: Other | N86: 0
D87: Holi Hours | F87: =Payroll!F87 -> 0 | G87: =SUM(Schedual!N87) -> 0 | H87: =F87*G87 -> 0 | J87: Medicare | K87: 11.9 | M87: Other | N87: 0
A88: Hire Date | B88: =Employees!I87 -> 0 | J88: State | K88: 10
A89: Position | B89: =Employees!M87 -> 0 | J89: County | K89: 15
J90: City | K90: 10
A91: Harrison's Payroll Management | J91: Deductions | K91: 0 | O91: Net Pay
F92: Total Amount Earned | H92: =SUM(H85:H87) -> 0 | J92: Total | K92: =SUM(K85:K91) -> 81.79 | M92: Total | N92: =SUM(N85:N87) -> 31.12 | O92: =SUM(H92-K92-N92) -> -112.91
A93: =Employees!A97 -> 0 | B93: B-Day | C93: =Employees!H97 -> 0 | D93: Age | E93: =Employees!G97 -> 0
A94: =Employees!F97 -> 0 | D94: Earning Items | F94: Rate | G94: Hours | H94: Earned | J94: Tax
A95: =Employees!D97 -> 0 | D95: Reg. Hours | F95: =Payroll!D97 -> 0 | G95: =SUM(Schedual!L97) -> 0 | H95: =F95*G95 -> 0 | J95: Federal | K95: 19.5 | M95: Health Insur. | N95: 31.12
A96: =Employees!N97 -> 0 | D96: OT Hours | F96: =Payroll!E97 -> 0 | G96: =SUM(Schedual!M97) -> 0 | H96: =F96*G96 -> 0 | J96: Social Security | K96: 15.39 | M96: Other | N96: 0
D97: Holi Hours | F97: =Payroll!F97 -> 0 | G97: =SUM(Schedual!N97) -> 0 | H97: =F97*G97 -> 0 | J97: Medicare | K97: 11.9 | M97: Other | N97: 0
A98: Hire Date | B98: =Employees!I97 -> 0 | J98: State | K98: 10
A99: Position | B99: =Employees!M97 -> 0 | J99: County | K99: 15
J100: City | K100: 10
A101: Harrison's Payroll Management | J101: Deductions | K101: 0 | O101: Net Pay
F102: Total Amount Earned | H102: =SUM(H95:H97) -> 0 | J102: Total | K102: =SUM(K95:K101) -> 81.79 | M102: Total | N102: =SUM(N95:N97) -> 31.12 | O102: =SUM(H102-K102-N102) -> -112.91
...

Sheet Sheet12

Sheet Sheet13
