Workbook

Sheet Year
A1: 2010
A2: =DATE($A$1,1,1) -> 40179 | I2: =DATE($A$1,2,1) -> 40210 | Q2: =DATE($A$1,3,1) -> 40238
A3: Sun | B3: Mon | C3: Tue | D3: Wed | E3: Thu | F3: Fri | G3: Sat | I3: Sun | J3: Mon | K3: Tue | L3: Wed | M3: Thu | N3: Fri | O3: Sat | Q3: Sun | R3: Mon | S3: Tue | T3: Wed | U3: Thu | V3: Fri | W3: Sat
A4: =IF(WEEKDAY(A2)=1,A2,"") | B4: =IF(WEEKDAY(A2)=2, A2, IF(WEEKDAY(A2)<2, A4+1,"")) | C4: =IF(WEEKDAY(A2)=3, A2, IF(WEEKDAY(A2)<3, B4+1,"")) | D4: =IF(WEEKDAY(A2)=4, A2, IF(WEEKDAY(A2)<4, C4+1,"")) | E4: =IF(WEEKDAY(A2)=5, A2, IF(WEEKDAY(A2)<5, D4+1,"")) | F4: =IF(WEEKDAY(A2)=6, A2, IF(WEEKDAY(A2)<6, E4+1,"")) -> 40179 | G4: =IF(WEEKDAY(A2)=7, A2, IF(WEEKDAY(A2)<7, F4+1,"")) -> 40180 | I4: =IF(WEEKDAY(I2)=1,I2,"") | J4: =IF(WEEKDAY(I2)=2, I2, IF(WEEKDAY(I2)<2, I4+1,"")) -> 40210 | K4: =IF(WEEKDAY(I2)=3, I2, IF(WEEKDAY(I2)<3, J4+1,"")) -> 40211 | L4: =IF(WEEKDAY(I2)=4, I2, IF(WEEKDAY(I2)<4, K4+1,"")) -> 40212 | M4: =IF(WEEKDAY(I2)=5, I2, IF(WEEKDAY(I2)<5, L4+1,"")) -> 40213 | N4: =IF(WEEKDAY(I2)=6, I2, IF(WEEKDAY(I2)<6, M4+1,"")) -> 40214 | O4: =IF(WEEKDAY(I2)=7, I2, IF(WEEKDAY(I2)<7, N4+1,"")) -> 40215 | Q4: =IF(WEEKDAY(Q2)=1,Q2,"") | R4: =IF(WEEKDAY(Q2)=2, Q2, IF(WEEKDAY(Q2)<2, Q4+1,"")) -> 40238 | S4: =IF(WEEKDAY(Q2)=3, Q2, IF(WEEKDAY(Q2)<3, R4+1,"")) -> 40239 | T4: =IF(WEEKDAY(Q2)=4, Q2, IF(WEEKDAY(Q2)<4, S4+1,"")) -> 40240 | U4: =IF(WEEKDAY(Q2)=5, Q2, IF(WEEKDAY(Q2)<5, T4+1,"")) -> 40241 | V4: =IF(WEEKDAY(Q2)=6, Q2, IF(WEEKDAY(Q2)<6, U4+1,"")) -> 40242 | W4: =IF(WEEKDAY(Q2)=7, Q2, IF(WEEKDAY(Q2)<7, V4+1,"")) -> 40243
A5: =G4+1 -> 40181 | B5: =A5+1 -> 40182 | C5: =B5+1 -> 40183 | D5: =C5+1 -> 40184 | E5: =D5+1 -> 40185 | F5: =E5+1 -> 40186 | G5: =F5+1 -> 40187 | I5: =O4+1 -> 40216 | J5: =I5+1 -> 40217 | K5: =J5+1 -> 40218 | L5: =K5+1 -> 40219 | M5: =L5+1 -> 40220 | N5: =M5+1 -> 40221 | O5: =N5+1 -> 40222 | Q5: =W4+1 -> 40244 | R5: =Q5+1 -> 40245 | S5: =R5+1 -> 40246 | T5: =S5+1 -> 40247 | U5: =T5+1 -> 40248 | V5: =U5+1 -> 40249 | W5: =V5+1 -> 40250
A6: =G5+1 -> 40188 | B6: =A6+1 -> 40189 | C6: =B6+1 -> 40190 | D6: =C6+1 -> 40191 | E6: =D6+1 -> 40192 | F6: =E6+1 -> 40193 | G6: =F6+1 -> 40194 | I6: =O5+1 -> 40223 | J6: =I6+1 -> 40224 | K6: =J6+1 -> 40225 | L6: =K6+1 -> 40226 | M6: =L6+1 -> 40227 | N6: =M6+1 -> 40228 | O6: =N6+1 -> 40229 | Q6: =W5+1 -> 40251 | R6: =Q6+1 -> 40252 | S6: =R6+1 -> 40253 | T6: =S6+1 -> 40254 | U6: =T6+1 -> 40255 | V6: =U6+1 -> 40256 | W6: =V6+1 -> 40257
A7: =G6+1 -> 40195 | B7: =A7+1 -> 40196 | C7: =B7+1 -> 40197 | D7: =C7+1 -> 40198 | E7: =D7+1 -> 40199 | F7: =E7+1 -> 40200 | G7: =F7+1 -> 40201 | I7: =O6+1 -> 40230 | J7: =I7+1 -> 40231 | K7: =J7+1 -> 40232 | L7: =K7+1 -> 40233 | M7: =L7+1 -> 40234 | N7: =M7+1 -> 40235 | O7: =N7+1 -> 40236 | Q7: =W6+1 -> 40258 | R7: =Q7+1 -> 40259 | S7: =R7+1 -> 40260 | T7: =S7+1 -> 40261 | U7: =T7+1 -> 40262 | V7: =U7+1 -> 40263 | W7: =V7+1 -> 40264
A8: =IF(MONTH(A6+14)=MONTH(A6), A6+14, "") -> 40202 | B8: =IF(MONTH(B6+14)=MONTH(B6), B6+14, "") -> 40203 | C8: =IF(MONTH(C6+14)=MONTH(C6), C6+14, "") -> 40204 | D8: =IF(MONTH(D6+14)=MONTH(D6), D6+14, "") -> 40205 | E8: =IF(MONTH(E6+14)=MONTH(E6), E6+14, "") -> 40206 | F8: =IF(MONTH(F6+14)=MONTH(F6), F6+14, "") -> 40207 | G8: =IF(MONTH(G6+14)=MONTH(G6), G6+14, "") -> 40208 | I8: =IF(MONTH(I6+14)=MONTH(I6), I6+14, "") -> 40237 | J8: =IF(MONTH(J6+14)=MONTH(J6), J6+14, "") | K8: =IF(MONTH(K6+14)=MONTH(K6), K6+14, "") | L8: =IF(MONTH(L6+14)=MONTH(L6), L6+14, "") | M8: =IF(MONTH(M6+14)=MONTH(M6), M6+14, "") | N8: =IF(MONTH(N6+14)=MONTH(N6), N6+14, "") | O8: =IF(MONTH(O6+14)=MONTH(O6), O6+14, "") | Q8: =IF(MONTH(Q6+14)=MONTH(Q6), Q6+14, "") -> 40265 | R8: =IF(MONTH(R6+14)=MONTH(R6), R6+14, "") -> 40266 | S8: =IF(MONTH(S6+14)=MONTH(S6), S6+14, "") -> 40267 | T8: =IF(MONTH(T6+14)=MONTH(T6), T6+14, "") -> 40268 | U8: =IF(MONTH(U6+14)=MONTH(U6), U6+14, "") | V8: =IF(MONTH(V6+14)=MONTH(V6), V6+14, "") | W8: =IF(MONTH(W6+14)=MONTH(W6), W6+14, "")
A9: =IF(MONTH(A7+14)=MONTH(A7), A7+14, "") -> 40209 | B9: =IF(MONTH(B7+14)=MONTH(B7), B7+14, "") | C9: =IF(MONTH(C7+14)=MONTH(C7), C7+14, "") | D9: =IF(MONTH(D7+14)=MONTH(D7), D7+14, "") | E9: =IF(MONTH(E7+14)=MONTH(E7), E7+14, "") | F9: =IF(MONTH(F7+14)=MONTH(F7), F7+14, "") | G9: =IF(MONTH(G7+14)=MONTH(G7), G7+14, "") | I9: =IF(MONTH(I7+14)=MONTH(I7), I7+14, "") | J9: =IF(MONTH(J7+14)=MONTH(J7), J7+14, "") | K9: =IF(MONTH(K7+14)=MONTH(K7), K7+14, "") | L9: =IF(MONTH(L7+14)=MONTH(L7), L7+14, "") | M9: =IF(MONTH(M7+14)=MONTH(M7), M7+14, "") | N9: =IF(MONTH(N7+14)=MONTH(N7), N7+14, "") | O9: =IF(MONTH(O7+14)=MONTH(O7), O7+14, "") | Q9: =IF(MONTH(Q7+14)=MONTH(Q7), Q7+14, "") | R9: =IF(MONTH(R7+14)=MONTH(R7), R7+14, "") | S9: =IF(MONTH(S7+14)=MONTH(S7), S7+14, "") | T9: =IF(MONTH(T7+14)=MONTH(T7), T7+14, "") | U9: =IF(MONTH(U7+14)=MONTH(U7), U7+14, "") | V9: =IF(MONTH(V7+14)=MONTH(V7), V7+14, "") | W9: =IF(MONTH(W7+14)=MONTH(W7), W7+14, "")
A10: =DATE($A$1,4,1) -> 40269 | I10: =DATE($A$1,5,1) -> 40299 | Q10: =DATE($A$1,6,1) -> 40330
A11: Sun | B11: Mon | C11: Tue | D11: Wed | E11: Thu | F11: Fri | G11: Sat | I11: Sun | J11: Mon | K11: Tue | L11: Wed | M11: Thu | N11: Fri | O11: Sat | Q11: Sun | R11: Mon | S11: Tue | T11: Wed | U11: Thu | V11: Fri | W11: Sat
A12: =IF(WEEKDAY(A10)=1,A10,"") | B12: =IF(WEEKDAY(A10)=2, A10, IF(WEEKDAY(A10)<2, A12+1,"")) | C12: =IF(WEEKDAY(A10)=3, A10, IF(WEEKDAY(A10)<3, B12+1,"")) | D12: =IF(WEEKDAY(A10)=4, A10, IF(WEEKDAY(A10)<4, C12+1,"")) | E12: =IF(WEEKDAY(A10)=5, A10, IF(WEEKDAY(A10)<5, D12+1,"")) -> 40269 | F12: =IF(WEEKDAY(A10)=6, A10, IF(WEEKDAY(A10)<6, E12+1,"")) -> 40270 | G12: =IF(WEEKDAY(A10)=7, A10, IF(WEEKDAY(A10)<7, F12+1,"")) -> 40271 | I12: =IF(WEEKDAY(I10)=1,I10,"") | J12: =IF(WEEKDAY(I10)=2, I10, IF(WEEKDAY(I10)<2, I12+1,"")) | K12: =IF(WEEKDAY(I10)=3, I10, IF(WEEKDAY(I10)<3, J12+1,"")) | L12: =IF(WEEKDAY(I10)=4, I10, IF(WEEKDAY(I10)<4, K12+1,"")) | M12: =IF(WEEKDAY(I10)=5, I10, IF(WEEKDAY(I10)<5, L12+1,"")) | N12: =IF(WEEKDAY(I10)=6, I10, IF(WEEKDAY(I10)<6, M12+1,"")) | O12: =IF(WEEKDAY(I10)=7, I10, IF(WEEKDAY(I10)<7, N12+1,"")) -> 40299 | Q12: =IF(WEEKDAY(Q10)=1,Q10,"") | R12: =IF(WEEKDAY(Q10)=2, Q10, IF(WEEKDAY(Q10)<2, Q12+1,"")) | S12: =IF(WEEKDAY(Q10)=3, Q10, IF(WEEKDAY(Q10)<3, R12+1,"")) -> 40330 | T12: =IF(WEEKDAY(Q10)=4, Q10, IF(WEEKDAY(Q10)<4, S12+1,"")) -> 40331 | U12: =IF(WEEKDAY(Q10)=5, Q10, IF(WEEKDAY(Q10)<5, T12+1,"")) -> 40332 | V12: =IF(WEEKDAY(Q10)=6, Q10, IF(WEEKDAY(Q10)<6, U12+1,"")) -> 40333 | W12: =IF(WEEKDAY(Q10)=7, Q10, IF(WEEKDAY(Q10)<7, V12+1,"")) -> 40334
A13: =G12+1 -> 40272 | B13: =A13+1 -> 40273 | C13: =B13+1 -> 40274 | D13: =C13+1 -> 40275 | E13: =D13+1 -> 40276 | F13: =E13+1 -> 40277 | G13: =F13+1 -> 40278 | I13: =O12+1 -> 40300 | J13: =I13+1 -> 40301 | K13: =J13+1 -> 40302 | L13: =K13+1 -> 40303 | M13: =L13+1 -> 40304 | N13: =M13+1 -> 40305 | O13: =N13+1 -> 40306 | Q13: =W12+1 -> 40335 | R13: =Q13+1 -> 40336 | S13: =R13+1 -> 40337 | T13: =S13+1 -> 40338 | U13: =T13+1 -> 40339 | V13: =U13+1 -> 40340 | W13: =V13+1 -> 40341
A14: =G13+1 -> 40279 | B14: =A14+1 -> 40280 | C14: =B14+1 -> 40281 | D14: =C14+1 -> 40282 | E14: =D14+1 -> 40283 | F14: =E14+1 -> 40284 | G14: =F14+1 -> 40285 | I14: =O13+1 -> 40307 | J14: =I14+1 -> 40308 | K14: =J14+1 -> 40309 | L14: =K14+1 -> 40310 | M14: =L14+1 -> 40311 | N14: =M14+1 -> 40312 | O14: =N14+1 -> 40313 | Q14: =W13+1 -> 40342 | R14: =Q14+1 -> 40343 | S14: =R14+1 -> 40344 | T14: =S14+1 -> 40345 | U14: =T14+1 -> 40346 | V14: =U14+1 -> 40347 | W14: =V14+1 -> 40348
A15: =G14+1 -> 40286 | B15: =A15+1 -> 40287 | C15: =B15+1 -> 40288 | D15: =C15+1 -> 40289 | E15: =D15+1 -> 40290 | F15: =E15+1 -> 40291 | G15: =F15+1 -> 40292 | I15: =O14+1 -> 40314 | J15: =I15+1 -> 40315 | K15: =J15+1 -> 40316 | L15: =K15+1 -> 40317 | M15: =L15+1 -> 40318 | N15: =M15+1 -> 40319 | O15: =N15+1 -> 40320 | Q15: =W14+1 -> 40349 | R15: =Q15+1 -> 40350 | S15: =R15+1 -> 40351 | T15: =S15+1 -> 40352 | U15: =T15+1 -> 40353 | V15: =U15+1 -> 40354 | W15: =V15+1 -> 40355
A16: =IF(MONTH(A14+14)=MONTH(A14), A14+14, "") -> 40293 | B16: =IF(MONTH(B14+14)=MONTH(B14), B14+14, "") -> 40294 | C16: =IF(MONTH(C14+14)=MONTH(C14), C14+14, "") -> 40295 | D16: =IF(MONTH(D14+14)=MONTH(D14), D14+14, "") -> 40296 | E16: =IF(MONTH(E14+14)=MONTH(E14), E14+14, "") -> 40297 | F16: =IF(MONTH(F14+14)=MONTH(F14), F14+14, "") -> 40298 | G16: =IF(MONTH(G14+14)=MONTH(G14), G14+14, "") | I16: =IF(MONTH(I14+14)=MONTH(I14), I14+14, "") -> 40321 | J16: =IF(MONTH(J14+14)=MONTH(J14), J14+14, "") -> 40322 | K16: =IF(MONTH(K14+14)=MONTH(K14), K14+14, "") -> 40323 | L16: =IF(MONTH(L14+14)=MONTH(L14), L14+14, "") -> 40324 | M16: =IF(MONTH(M14+14)=MONTH(M14), M14+14, "") -> 40325 | N16: =IF(MONTH(N14+14)=MONTH(N14), N14+14, "") -> 40326 | O16: =IF(MONTH(O14+14)=MONTH(O14), O14+14, "") -> 40327 | Q16: =IF(MONTH(Q14+14)=MONTH(Q14), Q14+14, "") -> 40356 | R16: =IF(MONTH(R14+14)=MONTH(R14), R14+14, "") -> 40357 | S16: =IF(MONTH(S14+14)=MONTH(S14), S14+14, "") -> 40358 | T16: =IF(MONTH(T14+14)=MONTH(T14), T14+14, "") -> 40359 | U16: =IF(MONTH(U14+14)=MONTH(U14), U14+14, "") | V16: =IF(MONTH(V14+14)=MONTH(V14), V14+14, "") | W16: =IF(MONTH(W14+14)=MONTH(W14), W14+14, "")
A17: =IF(MONTH(A15+14)=MONTH(A15), A15+14, "") | B17: =IF(MONTH(B15+14)=MONTH(B15), B15+14, "") | C17: =IF(MONTH(C15+14)=MONTH(C15), C15+14, "") | D17: =IF(MONTH(D15+14)=MONTH(D15), D15+14, "") | E17: =IF(MONTH(E15+14)=MONTH(E15), E15+14, "") | F17: =IF(MONTH(F15+14)=MONTH(F15), F15+14, "") | G17: =IF(MONTH(G15+14)=MONTH(G15), G15+14, "") | I17: =IF(MONTH(I15+14)=MONTH(I15), I15+14, "") -> 40328 | J17: =IF(MONTH(J15+14)=MONTH(J15), J15+14, "") -> 40329 | K17: =IF(MONTH(K15+14)=MONTH(K15), K15+14, "") | L17: =IF(MONTH(L15+14)=MONTH(L15), L15+14, "") | M17: =IF(MONTH(M15+14)=MONTH(M15), M15+14, "") | N17: =IF(MONTH(N15+14)=MONTH(N15), N15+14, "") | O17: =IF(MONTH(O15+14)=MONTH(O15), O15+14, "") | Q17: =IF(MONTH(Q15+14)=MONTH(Q15), Q15+14, "") | R17: =IF(MONTH(R15+14)=MONTH(R15), R15+14, "") | S17: =IF(MONTH(S15+14)=MONTH(S15), S15+14, "") | T17: =IF(MONTH(T15+14)=MONTH(T15), T15+14, "") | U17: =IF(MONTH(U15+14)=MONTH(U15), U15+14, "") | V17: =IF(MONTH(V15+14)=MONTH(V15), V15+14, "") | W17: =IF(MONTH(W15+14)=MONTH(W15), W15+14, "")
A18: =DATE($A$1,7,1) -> 40360 | I18: =DATE($A$1,8,1) -> 40391 | Q18: =DATE($A$1,9,1) -> 40422
A19: Sun | B19: Mon | C19: Tue | D19: Wed | E19: Thu | F19: Fri | G19: Sat | I19: Sun | J19: Mon | K19: Tue | L19: Wed | M19: Thu | N19: Fri | O19: Sat | Q19: Sun | R19: Mon | S19: Tue | T19: Wed | U19: Thu | V19: Fri | W19: Sat
A20: =IF(WEEKDAY(A18)=1,A18,"") | B20: =IF(WEEKDAY(A18)=2, A18, IF(WEEKDAY(A18)<2, A20+1,"")) | C20: =IF(WEEKDAY(A18)=3, A18, IF(WEEKDAY(A18)<3, B20+1,"")) | D20: =IF(WEEKDAY(A18)=4, A18, IF(WEEKDAY(A18)<4, C20+1,"")) | E20: =IF(WEEKDAY(A18)=5, A18, IF(WEEKDAY(A18)<5, D20+1,"")) -> 40360 | F20: =IF(WEEKDAY(A18)=6, A18, IF(WEEKDAY(A18)<6, E20+1,"")) -> 40361 | G20: =IF(WEEKDAY(A18)=7, A18, IF(WEEKDAY(A18)<7, F20+1,"")) -> 40362 | I20: =IF(WEEKDAY(I18)=1,I18,"") -> 40391 | J20: =IF(WEEKDAY(I18)=2, I18, IF(WEEKDAY(I18)<2, I20+1,"")) -> 40392 | K20: =IF(WEEKDAY(I18)=3, I18, IF(WEEKDAY(I18)<3, J20+1,"")) -> 40393 | L20: =IF(WEEKDAY(I18)=4, I18, IF(WEEKDAY(I18)<4, K20+1,"")) -> 40394 | M20: =IF(WEEKDAY(I18)=5, I18, IF(WEEKDAY(I18)<5, L20+1,"")) -> 40395 | N20: =IF(WEEKDAY(I18)=6, I18, IF(WEEKDAY(I18)<6, M20+1,"")) -> 40396 | O20: =IF(WEEKDAY(I18)=7, I18, IF(WEEKDAY(I18)<7, N20+1,"")) -> 40397 | Q20: =IF(WEEKDAY(Q18)=1,Q18,"") | R20: =IF(WEEKDAY(Q18)=2, Q18, IF(WEEKDAY(Q18)<2, Q20+1,"")) | S20: =IF(WEEKDAY(Q18)=3, Q18, IF(WEEKDAY(Q18)<3, R20+1,"")) | T20: =IF(WEEKDAY(Q18)=4, Q18, IF(WEEKDAY(Q18)<4, S20+1,"")) -> 40422 | U20: =IF(WEEKDAY(Q18)=5, Q18, IF(WEEKDAY(Q18)<5, T20+1,"")) -> 40423 | V20: =IF(WEEKDAY(Q18)=6, Q18, IF(WEEKDAY(Q18)<6, U20+1,"")) -> 40424 | W20: =IF(WEEKDAY(Q18)=7, Q18, IF(WEEKDAY(Q18)<7, V20+1,"")) -> 40425
A21: =G20+1 -> 40363 | B21: =A21+1 -> 40364 | C21: =B21+1 -> 40365 | D21: =C21+1 -> 40366 | E21: =D21+1 -> 40367 | F21: =E21+1 -> 40368 | G21: =F21+1 -> 40369 | I21: =O20+1 -> 40398 | J21: =I21+1 -> 40399 | K21: =J21+1 -> 40400 | L21: =K21+1 -> 40401 | M21: =L21+1 -> 40402 | N21: =M21+1 -> 40403 | O21: =N21+1 -> 40404 | Q21: =W20+1 -> 40426 | R21: =Q21+1 -> 40427 | S21: =R21+1 -> 40428 | T21: =S21+1 -> 40429 | U21: =T21+1 -> 40430 | V21: =U21+1 -> 40431 | W21: =V21+1 -> 40432
A22: =G21+1 -> 40370 | B22: =A22+1 -> 40371 | C22: =B22+1 -> 40372 | D22: =C22+1 -> 40373 | E22: =D22+1 -> 40374 | F22: =E22+1 -> 40375 | G22: =F22+1 -> 40376 | I22: =O21+1 -> 40405 | J22: =I22+1 -> 40406 | K22: =J22+1 -> 40407 | L22: =K22+1 -> 40408 | M22: =L22+1 -> 40409 | N22: =M22+1 -> 40410 | O22: =N22+1 -> 40411 | Q22: =W21+1 -> 40433 | R22: =Q22+1 -> 40434 | S22: =R22+1 -> 40435 | T22: =S22+1 -> 40436 | U22: =T22+1 -> 40437 | V22: =U22+1 -> 40438 | W22: =V22+1 -> 40439
A23: =G22+1 -> 40377 | B23: =A23+1 -> 40378 | C23: =B23+1 -> 40379 | D23: =C23+1 -> 40380 | E23: =D23+1 -> 40381 | F23: =E23+1 -> 40382 | G23: =F23+1 -> 40383 | I23: =O22+1 -> 40412 | J23: =I23+1 -> 40413 | K23: =J23+1 -> 40414 | L23: =K23+1 -> 40415 | M23: =L23+1 -> 40416 | N23: =M23+1 -> 40417 | O23: =N23+1 -> 40418 | Q23: =W22+1 -> 40440 | R23: =Q23+1 -> 40441 | S23: =R23+1 -> 40442 | T23: =S23+1 -> 40443 | U23: =T23+1 -> 40444 | V23: =U23+1 -> 40445 | W23: =V23+1 -> 40446
A24: =IF(MONTH(A22+14)=MONTH(A22), A22+14, "") -> 40384 | B24: =IF(MONTH(B22+14)=MONTH(B22), B22+14, "") -> 40385 | C24: =IF(MONTH(C22+14)=MONTH(C22), C22+14, "") -> 40386 | D24: =IF(MONTH(D22+14)=MONTH(D22), D22+14, "") -> 40387 | E24: =IF(MONTH(E22+14)=MONTH(E22), E22+14, "") -> 40388 | F24: =IF(MONTH(F22+14)=MONTH(F22), F22+14, "") -> 40389 | G24: =IF(MONTH(G22+14)=MONTH(G22), G22+14, "") -> 40390 | I24: =IF(MONTH(I22+14)=MONTH(I22), I22+14, "") -> 40419 | J24: =IF(MONTH(J22+14)=MONTH(J22), J22+14, "") -> 40420 | K24: =IF(MONTH(K22+14)=MONTH(K22), K22+14, "") -> 40421 | L24: =IF(MONTH(L22+14)=MONTH(L22), L22+14, "") | M24: =IF(MONTH(M22+14)=MONTH(M22), M22+14, "") | N24: =IF(MONTH(N22+14)=MONTH(N22), N22+14, "") | O24: =IF(MONTH(O22+14)=MONTH(O22), O22+14, "") | Q24: =IF(MONTH(Q22+14)=MONTH(Q22), Q22+14, "") -> 40447 | R24: =IF(MONTH(R22+14)=MONTH(R22), R22+14, "") -> 40448 | S24: =IF(MONTH(S22+14)=MONTH(S22), S22+14, "") -> 40449 | T24: =IF(MONTH(T22+14)=MONTH(T22), T22+14, "") -> 40450 | U24: =IF(MONTH(U22+14)=MONTH(U22), U22+14, "") -> 40451 | V24: =IF(MONTH(V22+14)=MONTH(V22), V22+14, "") | W24: =IF(MONTH(W22+14)=MONTH(W22), W22+14, "")
A25: =IF(MONTH(A23+14)=MONTH(A23), A23+14, "") | B25: =IF(MONTH(B23+14)=MONTH(B23), B23+14, "") | C25: =IF(MONTH(C23+14)=MONTH(C23), C23+14, "") | D25: =IF(MONTH(D23+14)=MONTH(D23), D23+14, "") | E25: =IF(MONTH(E23+14)=MONTH(E23), E23+14, "") | F25: =IF(MONTH(F23+14)=MONTH(F23), F23+14, "") | G25: =IF(MONTH(G23+14)=MONTH(G23), G23+14, "") | I25: =IF(MONTH(I23+14)=MONTH(I23), I23+14, "") | J25: =IF(MONTH(J23+14)=MONTH(J23), J23+14, "") | K25: =IF(MONTH(K23+14)=MONTH(K23), K23+14, "") | L25: =IF(MONTH(L23+14)=MONTH(L23), L23+14, "") | M25: =IF(MONTH(M23+14)=MONTH(M23), M23+14, "") | N25: =IF(MONTH(N23+14)=MONTH(N23), N23+14, "") | O25: =IF(MONTH(O23+14)=MONTH(O23), O23+14, "") | Q25: =IF(MONTH(Q23+14)=MONTH(Q23), Q23+14, "") | R25: =IF(MONTH(R23+14)=MONTH(R23), R23+14, "") | S25: =IF(MONTH(S23+14)=MONTH(S23), S23+14, "") | T25: =IF(MONTH(T23+14)=MONTH(T23), T23+14, "") | U25: =IF(MONTH(U23+14)=MONTH(U23), U23+14, "") | V25: =IF(MONTH(V23+14)=MONTH(V23), V23+14, "") | W25: =IF(MONTH(W23+14)=MONTH(W23), W23+14, "")
A26: =DATE($A$1,10,1) -> 40452 | I26: =DATE($A$1,11,1) -> 40483 | Q26: =DATE($A$1,12,1) -> 40513
A27: Sun | B27: Mon | C27: Tue | D27: Wed | E27: Thu | F27: Fri | G27: Sat | I27: Sun | J27: Mon | K27: Tue | L27: Wed | M27: Thu | N27: Fri | O27: Sat | Q27: Sun | R27: Mon | S27: Tue | T27: Wed | U27: Thu | V27: Fri | W27: Sat
A28: =IF(WEEKDAY(A26)=1,A26,"") | B28: =IF(WEEKDAY(A26)=2, A26, IF(WEEKDAY(A26)<2, A28+1,"")) | C28: =IF(WEEKDAY(A26)=3, A26, IF(WEEKDAY(A26)<3, B28+1,"")) | D28: =IF(WEEKDAY(A26)=4, A26, IF(WEEKDAY(A26)<4, C28+1,"")) | E28: =IF(WEEKDAY(A26)=5, A26, IF(WEEKDAY(A26)<5, D28+1,"")) | F28: =IF(WEEKDAY(A26)=6, A26, IF(WEEKDAY(A26)<6, E28+1,"")) -> 40452 | G28: =IF(WEEKDAY(A26)=7, A26, IF(WEEKDAY(A26)<7, F28+1,"")) -> 40453 | I28: =IF(WEEKDAY(I26)=1,I26,"") | J28: =IF(WEEKDAY(I26)=2, I26, IF(WEEKDAY(I26)<2, I28+1,"")) -> 40483 | K28: =IF(WEEKDAY(I26)=3, I26, IF(WEEKDAY(I26)<3, J28+1,"")) -> 40484 | L28: =IF(WEEKDAY(I26)=4, I26, IF(WEEKDAY(I26)<4, K28+1,"")) -> 40485 | M28: =IF(WEEKDAY(I26)=5, I26, IF(WEEKDAY(I26)<5, L28+1,"")) -> 40486 | N28: =IF(WEEKDAY(I26)=6, I26, IF(WEEKDAY(I26)<6, M28+1,"")) -> 40487 | O28: =IF(WEEKDAY(I26)=7, I26, IF(WEEKDAY(I26)<7, N28+1,"")) -> 40488 | Q28: =IF(WEEKDAY(Q26)=1,Q26,"") | R28: =IF(WEEKDAY(Q26)=2, Q26, IF(WEEKDAY(Q26)<2, Q28+1,"")) | S28: =IF(WEEKDAY(Q26)=3, Q26, IF(WEEKDAY(Q26)<3, R28+1,"")) | T28: =IF(WEEKDAY(Q26)=4, Q26, IF(WEEKDAY(Q26)<4, S28+1,"")) -> 40513 | U28: =IF(WEEKDAY(Q26)=5, Q26, IF(WEEKDAY(Q26)<5, T28+1,"")) -> 40514 | V28: =IF(WEEKDAY(Q26)=6, Q26, IF(WEEKDAY(Q26)<6, U28+1,"")) -> 40515 | W28: =IF(WEEKDAY(Q26)=7, Q26, IF(WEEKDAY(Q26)<7, V28+1,"")) -> 40516
A29: =G28+1 -> 40454 | B29: =A29+1 -> 40455 | C29: =B29+1 -> 40456 | D29: =C29+1 -> 40457 | E29: =D29+1 -> 40458 | F29: =E29+1 -> 40459 | G29: =F29+1 -> 40460 | I29: =O28+1 -> 40489 | J29: =I29+1 -> 40490 | K29: =J29+1 -> 40491 | L29: =K29+1 -> 40492 | M29: =L29+1 -> 40493 | N29: =M29+1 -> 40494 | O29: =N29+1 -> 40495 | Q29: =W28+1 -> 40517 | R29: =Q29+1 -> 40518 | S29: =R29+1 -> 40519 | T29: =S29+1 -> 40520 | U29: =T29+1 -> 40521 | V29: =U29+1 -> 40522 | W29: =V29+1 -> 40523
A30: =G29+1 -> 40461 | B30: =A30+1 -> 40462 | C30: =B30+1 -> 40463 | D30: =C30+1 -> 40464 | E30: =D30+1 -> 40465 | F30: =E30+1 -> 40466 | G30: =F30+1 -> 40467 | I30: =O29+1 -> 40496 | J30: =I30+1 -> 40497 | K30: =J30+1 -> 40498 | L30: =K30+1 -> 40499 | M30: =L30+1 -> 40500 | N30: =M30+1 -> 40501 | O30: =N30+1 -> 40502 | Q30: =W29+1 -> 40524 | R30: =Q30+1 -> 40525 | S30: =R30+1 -> 40526 | T30: =S30+1 -> 40527 | U30: =T30+1 -> 40528 | V30: =U30+1 -> 40529 | W30: =V30+1 -> 40530
A31: =G30+1 -> 40468 | B31: =A31+1 -> 40469 | C31: =B31+1 -> 40470 | D31: =C31+1 -> 40471 | E31: =D31+1 -> 40472 | F31: =E31+1 -> 40473 | G31: =F31+1 -> 40474 | I31: =O30+1 -> 40503 | J31: =I31+1 -> 40504 | K31: =J31+1 -> 40505 | L31: =K31+1 -> 40506 | M31: =L31+1 -> 40507 | N31: =M31+1 -> 40508 | O31: =N31+1 -> 40509 | Q31: =W30+1 -> 40531 | R31: =Q31+1 -> 40532 | S31: =R31+1 -> 40533 | T31: =S31+1 -> 40534 | U31: =T31+1 -> 40535 | V31: =U31+1 -> 40536 | W31: =V31+1 -> 40537
A32: =IF(MONTH(A30+14)=MONTH(A30), A30+14, "") -> 40475 | B32: =IF(MONTH(B30+14)=MONTH(B30), B30+14, "") -> 40476 | C32: =IF(MONTH(C30+14)=MONTH(C30), C30+14, "") -> 40477 | D32: =IF(MONTH(D30+14)=MONTH(D30), D30+14, "") -> 40478 | E32: =IF(MONTH(E30+14)=MONTH(E30), E30+14, "") -> 40479 | F32: =IF(MONTH(F30+14)=MONTH(F30), F30+14, "") -> 40480 | G32: =IF(MONTH(G30+14)=MONTH(G30), G30+14, "") -> 40481 | I32: =IF(MONTH(I30+14)=MONTH(I30), I30+14, "") -> 40510 | J32: =IF(MONTH(J30+14)=MONTH(J30), J30+14, "") -> 40511 | K32: =IF(MONTH(K30+14)=MONTH(K30), K30+14, "") -> 40512 | L32: =IF(MONTH(L30+14)=MONTH(L30), L30+14, "") | M32: =IF(MONTH(M30+14)=MONTH(M30), M30+14, "") | N32: =IF(MONTH(N30+14)=MONTH(N30), N30+14, "") | O32: =IF(MONTH(O30+14)=MONTH(O30), O30+14, "") | Q32: =IF(MONTH(Q30+14)=MONTH(Q30), Q30+14, "") -> 40538 | R32: =IF(MONTH(R30+14)=MONTH(R30), R30+14, "") -> 40539 | S32: =IF(MONTH(S30+14)=MONTH(S30), S30+14, "") -> 40540 | T32: =IF(MONTH(T30+14)=MONTH(T30), T30+14, "") -> 40541 | U32: =IF(MONTH(U30+14)=MONTH(U30), U30+14, "") -> 40542 | V32: =IF(MONTH(V30+14)=MONTH(V30), V30+14, "") -> 40543 | W32: =IF(MONTH(W30+14)=MONTH(W30), W30+14, "")
A33: =IF(MONTH(A31+14)=MONTH(A31), A31+14, "") -> 40482 | B33: =IF(MONTH(B31+14)=MONTH(B31), B31+14, "") | C33: =IF(MONTH(C31+14)=MONTH(C31), C31+14, "") | D33: =IF(MONTH(D31+14)=MONTH(D31), D31+14, "") | E33: =IF(MONTH(E31+14)=MONTH(E31), E31+14, "") | F33: =IF(MONTH(F31+14)=MONTH(F31), F31+14, "") | G33: =IF(MONTH(G31+14)=MONTH(G31), G31+14, "") | I33: =IF(MONTH(I31+14)=MONTH(I31), I31+14, "") | J33: =IF(MONTH(J31+14)=MONTH(J31), J31+14, "") | K33: =IF(MONTH(K31+14)=MONTH(K31), K31+14, "") | L33: =IF(MONTH(L31+14)=MONTH(L31), L31+14, "") | M33: =IF(MONTH(M31+14)=MONTH(M31), M31+14, "") | N33: =IF(MONTH(N31+14)=MONTH(N31), N31+14, "") | O33: =IF(MONTH(O31+14)=MONTH(O31), O31+14, "") | Q33: =IF(MONTH(Q31+14)=MONTH(Q31), Q31+14, "") | R33: =IF(MONTH(R31+14)=MONTH(R31), R31+14, "") | S33: =IF(MONTH(S31+14)=MONTH(S31), S31+14, "") | T33: =IF(MONTH(T31+14)=MONTH(T31), T31+14, "") | U33: =IF(MONTH(U31+14)=MONTH(U31), U31+14, "") | V33: =IF(MONTH(V31+14)=MONTH(V31), V31+14, "") | W33: =IF(MONTH(W31+14)=MONTH(W31), W31+14, "")

Sheet Jan
A1: =DATE(Year!$A$1,1,1) -> 40179
A2: Sunday | C2: Monday | E2: Tuesday | G2: Wednesday | I2: Thursday | K2: Friday | M2: Saturday
A3: =IF(WEEKDAY($A$1)=1,$A$1,C3-1) -> 40174 | C3: =IF(WEEKDAY($A$1)=2,$A$1,IF(WEEKDAY($A$1)<2,A3+1,E3-1)) -> 40175 | E3: =IF(WEEKDAY($A$1)=3,$A$1,IF(WEEKDAY($A$1)<3,C3+1,G3-1)) -> 40176 | G3: =IF(WEEKDAY($A$1)=4,$A$1,IF(WEEKDAY($A$1)<4,E3+1,I3-1)) -> 40177 | I3: =IF(WEEKDAY($A$1)=5,$A$1,IF(WEEKDAY($A$1)<5,G3+1,K3-1)) -> 40178 | K3: =IF(WEEKDAY($A$1)=6,$A$1,IF(WEEKDAY($A$1)<6,I3+1,M3-1)) -> 40179 | M3: =IF(WEEKDAY($A$1)=7,$A$1,IF(WEEKDAY($A$1)<7,K3+1,"")) -> 40180
A8: =M3+1 -> 40181 | C8: =A8+1 -> 40182 | E8: =C8+1 -> 40183 | G8: =E8+1 -> 40184 | I8: =G8+1 -> 40185 | K8: =I8+1 -> 40186 | M8: =K8+1 -> 40187
A13: =M8+1 -> 40188 | C13: =A13+1 -> 40189 | E13: =C13+1 -> 40190 | G13: =E13+1 -> 40191 | I13: =G13+1 -> 40192 | K13: =I13+1 -> 40193 | M13: =K13+1 -> 40194
A18: =M13+1 -> 40195 | C18: =A18+1 -> 40196 | E18: =C18+1 -> 40197 | G18: =E18+1 -> 40198 | I18: =G18+1 -> 40199 | K18: =I18+1 -> 40200 | M18: =K18+1 -> 40201
A23: =M18+1 -> 40202 | B23: =IF(MONTH($A$1)=MONTH(A23),"",Feb!B3) | C23: =A23+1 -> 40203 | D23: =IF(MONTH($A$1)=MONTH(C23),"",Feb!D3) | E23: =C23+1 -> 40204 | F23: =IF(MONTH($A$1)=MONTH(E23),"",Feb!F3) | G23: =E23+1 -> 40205 | H23: =IF(MONTH($A$1)=MONTH(G23),"",Feb!H3) | I23: =G23+1 -> 40206 | J23: =IF(MONTH($A$1)=MONTH(I23),"",Feb!J3) | K23: =I23+1 -> 40207 | L23: =IF(MONTH($A$1)=MONTH(K23),"",Feb!L3) | M23: =K23+1 -> 40208 | N23: =IF(MONTH($A$1)=MONTH(M23),"",Feb!N3)
A28: =M23+1 -> 40209 | B28: =IF(MONTH($A$1)=MONTH(A28),"",Feb!B8) | C28: =A28+1 -> 40210 | D28: =IF(MONTH($A$1)=MONTH(C28),"",Feb!D8) -> 0 | E28: =C28+1 -> 40211 | F28: =IF(MONTH($A$1)=MONTH(E28),"",Feb!F8) -> 0 | G28: =E28+1 -> 40212 | H28: =IF(MONTH($A$1)=MONTH(G28),"",Feb!H8) -> 0 | I28: =G28+1 -> 40213 | J28: =IF(MONTH($A$1)=MONTH(I28),"",Feb!J8) -> 0 | K28: =I28+1 -> 40214 | L28: =IF(MONTH($A$1)=MONTH(K28),"",Feb!L8) -> 0 | M28: =K28+1 -> 40215 | N28: =IF(MONTH($A$1)=MONTH(M28),"",Feb!N8) -> 0

Sheet Feb
A1: =DATE(Year!$A$1,2,1) -> 40210
A2: Sunday | C2: Monday | E2: Tuesday | G2: Wednesday | I2: Thursday | K2: Friday | M2: Saturday
A3: =IF(WEEKDAY($A$1)=1,$A$1,C3-1) -> 40209 | C3: =IF(WEEKDAY($A$1)=2,$A$1,IF(WEEKDAY($A$1)<2,A3+1,E3-1)) -> 40210 | E3: =IF(WEEKDAY($A$1)=3,$A$1,IF(WEEKDAY($A$1)<3,C3+1,G3-1)) -> 40211 | G3: =IF(WEEKDAY($A$1)=4,$A$1,IF(WEEKDAY($A$1)<4,E3+1,I3-1)) -> 40212 | I3: =IF(WEEKDAY($A$1)=5,$A$1,IF(WEEKDAY($A$1)<5,G3+1,K3-1)) -> 40213 | K3: =IF(WEEKDAY($A$1)=6,$A$1,IF(WEEKDAY($A$1)<6,I3+1,M3-1)) -> 40214 | M3: =IF(WEEKDAY($A$1)=7,$A$1,IF(WEEKDAY($A$1)<7,K3+1,"")) -> 40215
A8: =M3+1 -> 40216 | C8: =A8+1 -> 40217 | E8: =C8+1 -> 40218 | G8: =E8+1 -> 40219 | I8: =G8+1 -> 40220 | K8: =I8+1 -> 40221 | M8: =K8+1 -> 40222
A13: =M8+1 -> 40223 | C13: =A13+1 -> 40224 | E13: =C13+1 -> 40225 | G13: =E13+1 -> 40226 | I13: =G13+1 -> 40227 | K13: =I13+1 -> 40228 | M13: =K13+1 -> 40229
A18: =M13+1 -> 40230 | C18: =A18+1 -> 40231 | E18: =C18+1 -> 40232 | G18: =E18+1 -> 40233 | I18: =G18+1 -> 40234 | K18: =I18+1 -> 40235 | M18: =K18+1 -> 40236
A23: =M18+1 -> 40237 | B23: =IF(MONTH($A$1)=MONTH(A23),"",Mar!B3) | C23: =A23+1 -> 40238 | D23: =IF(MONTH($A$1)=MONTH(C23),"",Mar!D3) -> 0 | E23: =C23+1 -> 40239 | F23: =IF(MONTH($A$1)=MONTH(E23),"",Mar!F3) -> 0 | G23: =E23+1 -> 40240 | H23: =IF(MONTH($A$1)=MONTH(G23),"",Mar!H3) -> 0 | I23: =G23+1 -> 40241 | J23: =IF(MONTH($A$1)=MONTH(I23),"",Mar!J3) -> 0 | K23: =I23+1 -> 40242 | L23: =IF(MONTH($A$1)=MONTH(K23),"",Mar!L3) -> 0 | M23: =K23+1 -> 40243 | N23: =IF(MONTH($A$1)=MONTH(M23),"",Mar!N3) -> 0
A28: =M23+1 -> 40244 | B28: =IF(MONTH($A$1)=MONTH(A28),"",Mar!B8) -> 0 | C28: =A28+1 -> 40245 | D28: =IF(MONTH($A$1)=MONTH(C28),"",Mar!D8) -> 0 | E28: =C28+1 -> 40246 | F28: =IF(MONTH($A$1)=MONTH(E28),"",Mar!F8) -> 0 | G28: =E28+1 -> 40247 | H28: =IF(MONTH($A$1)=MONTH(G28),"",Mar!H8) -> 0 | I28: =G28+1 -> 40248 | J28: =IF(MONTH($A$1)=MONTH(I28),"",Mar!J8) -> 0 | K28: =I28+1 -> 40249 | L28: =IF(MONTH($A$1)=MONTH(K28),"",Mar!L8) -> 0 | M28: =K28+1 -> 40250 | N28: =IF(MONTH($A$1)=MONTH(M28),"",Mar!N8) -> 0

Sheet Mar
A1: =DATE(Year!$A$1,3,1) -> 40238
A2: Sunday | C2: Monday | E2: Tuesday | G2: Wednesday | I2: Thursday | K2: Friday | M2: Saturday
A3: =IF(WEEKDAY($A$1)=1,$A$1,C3-1) -> 40237 | C3: =IF(WEEKDAY($A$1)=2,$A$1,IF(WEEKDAY($A$1)<2,A3+1,E3-1)) -> 40238 | E3: =IF(WEEKDAY($A$1)=3,$A$1,IF(WEEKDAY($A$1)<3,C3+1,G3-1)) -> 40239 | G3: =IF(WEEKDAY($A$1)=4,$A$1,IF(WEEKDAY($A$1)<4,E3+1,I3-1)) -> 40240 | I3: =IF(WEEKDAY($A$1)=5,$A$1,IF(WEEKDAY($A$1)<5,G3+1,K3-1)) -> 40241 | K3: =IF(WEEKDAY($A$1)=6,$A$1,IF(WEEKDAY($A$1)<6,I3+1,M3-1)) -> 40242 | M3: =IF(WEEKDAY($A$1)=7,$A$1,IF(WEEKDAY($A$1)<7,K3+1,"")) -> 40243
A8: =M3+1 -> 40244 | C8: =A8+1 -> 40245 | E8: =C8+1 -> 40246 | G8: =E8+1 -> 40247 | I8: =G8+1 -> 40248 | K8: =I8+1 -> 40249 | M8: =K8+1 -> 40250
A13: =M8+1 -> 40251 | C13: =A13+1 -> 40252 | E13: =C13+1 -> 40253 | G13: =E13+1 -> 40254 | I13: =G13+1 -> 40255 | K13: =I13+1 -> 40256 | M13: =K13+1 -> 40257
A18: =M13+1 -> 40258 | C18: =A18+1 -> 40259 | E18: =C18+1 -> 40260 | G18: =E18+1 -> 40261 | I18: =G18+1 -> 40262 | K18: =I18+1 -> 40263 | M18: =K18+1 -> 40264
A23: =M18+1 -> 40265 | B23: =IF(MONTH($A$1)=MONTH(A23),"",Apr!B3) | C23: =A23+1 -> 40266 | D23: =IF(MONTH($A$1)=MONTH(C23),"",Apr!D3) | E23: =C23+1 -> 40267 | F23: =IF(MONTH($A$1)=MONTH(E23),"",Apr!F3) | G23: =E23+1 -> 40268 | H23: =IF(MONTH($A$1)=MONTH(G23),"",Apr!H3) | I23: =G23+1 -> 40269 | J23: =IF(MONTH($A$1)=MONTH(I23),"",Apr!J3) -> 0 | K23: =I23+1 -> 40270 | L23: =IF(MONTH($A$1)=MONTH(K23),"",Apr!L3) -> 0 | M23: =K23+1 -> 40271 | N23: =IF(MONTH($A$1)=MONTH(M23),"",Apr!N3) -> 0
A28: =M23+1 -> 40272 | B28: =IF(MONTH($A$1)=MONTH(A28),"",Apr!B8) -> 0 | C28: =A28+1 -> 40273 | D28: =IF(MONTH($A$1)=MONTH(C28),"",Apr!D8) -> 0 | E28: =C28+1 -> 40274 | F28: =IF(MONTH($A$1)=MONTH(E28),"",Apr!F8) -> 0 | G28: =E28+1 -> 40275 | H28: =IF(MONTH($A$1)=MONTH(G28),"",Apr!H8) -> 0 | I28: =G28+1 -> 40276 | J28: =IF(MONTH($A$1)=MONTH(I28),"",Apr!J8) -> 0 | K28: =I28+1 -> 40277 | L28: =IF(MONTH($A$1)=MONTH(K28),"",Apr!L8) -> 0 | M28: =K28+1 -> 40278 | N28: =IF(MONTH($A$1)=MONTH(M28),"",Apr!N8) -> 0

Sheet Apr
A1: =DATE(Year!$A$1,4,1) -> 40269
A2: Sunday | C2: Monday | E2: Tuesday | G2: Wednesday | I2: Thursday | K2: Friday | M2: Saturday
A3: =IF(WEEKDAY($A$1)=1,$A$1,C3-1) -> 40265 | C3: =IF(WEEKDAY($A$1)=2,$A$1,IF(WEEKDAY($A$1)<2,A3+1,E3-1)) -> 40266 | E3: =IF(WEEKDAY($A$1)=3,$A$1,IF(WEEKDAY($A$1)<3,C3+1,G3-1)) -> 40267 | G3: =IF(WEEKDAY($A$1)=4,$A$1,IF(WEEKDAY($A$1)<4,E3+1,I3-1)) -> 40268 | I3: =IF(WEEKDAY($A$1)=5,$A$1,IF(WEEKDAY($A$1)<5,G3+1,K3-1)) -> 40269 | K3: =IF(WEEKDAY($A$1)=6,$A$1,IF(WEEKDAY($A$1)<6,I3+1,M3-1)) -> 40270 | M3: =IF(WEEKDAY($A$1)=7,$A$1,IF(WEEKDAY($A$1)<7,K3+1,"")) -> 40271
A8: =M3+1 -> 40272 | C8: =A8+1 -> 40273 | E8: =C8+1 -> 40274 | G8: =E8+1 -> 40275 | I8: =G8+1 -> 40276 | K8: =I8+1 -> 40277 | M8: =K8+1 -> 40278
A13: =M8+1 -> 40279 | C13: =A13+1 -> 40280 | E13: =C13+1 -> 40281 | G13: =E13+1 -> 40282 | I13: =G13+1 -> 40283 | K13: =I13+1 -> 40284 | M13: =K13+1 -> 40285
A18: =M13+1 -> 40286 | C18: =A18+1 -> 40287 | E18: =C18+1 -> 40288 | G18: =E18+1 -> 40289 | I18: =G18+1 -> 40290 | K18: =I18+1 -> 40291 | M18: =K18+1 -> 40292
A23: =M18+1 -> 40293 | B23: =IF(MONTH($A$1)=MONTH(A23),"",May!B3) | C23: =A23+1 -> 40294 | D23: =IF(MONTH($A$1)=MONTH(C23),"",May!D3) | E23: =C23+1 -> 40295 | F23: =IF(MONTH($A$1)=MONTH(E23),"",May!F3) | G23: =E23+1 -> 40296 | H23: =IF(MONTH($A$1)=MONTH(G23),"",May!H3) | I23: =G23+1 -> 40297 | J23: =IF(MONTH($A$1)=MONTH(I23),"",May!J3) | K23: =I23+1 -> 40298 | L23: =IF(MONTH($A$1)=MONTH(K23),"",May!L3) | M23: =K23+1 -> 40299 | N23: =IF(MONTH($A$1)=MONTH(M23),"",May!N3) -> 0
A28: =M23+1 -> 40300 | B28: =IF(MONTH($A$1)=MONTH(A28),"",May!B8) -> 0 | C28: =A28+1 -> 40301 | D28: =IF(MONTH($A$1)=MONTH(C28),"",May!D8) -> 0 | E28: =C28+1 -> 40302 | F28: =IF(MONTH($A$1)=MONTH(E28),"",May!F8) -> 0 | G28: =E28+1 -> 40303 | H28: =IF(MONTH($A$1)=MONTH(G28),"",May!H8) -> 0 | I28: =G28+1 -> 40304 | J28: =IF(MONTH($A$1)=MONTH(I28),"",May!J8) -> 0 | K28: =I28+1 -> 40305 | L28: =IF(MONTH($A$1)=MONTH(K28),"",May!L8) -> 0 | M28: =K28+1 -> 40306 | N28: =IF(MONTH($A$1)=MONTH(M28),"",May!N8) -> 0

Sheet May
A1: =DATE(Year!$A$1,5,1) -> 40299
A2: Sunday | C2: Monday | E2: Tuesday | G2: Wednesday | I2: Thursday | K2: Friday | M2: Saturday
A3: =IF(WEEKDAY($A$1)=1,$A$1,C3-1) -> 40293 | C3: =IF(WEEKDAY($A$1)=2,$A$1,IF(WEEKDAY($A$1)<2,A3+1,E3-1)) -> 40294 | E3: =IF(WEEKDAY($A$1)=3,$A$1,IF(WEEKDAY($A$1)<3,C3+1,G3-1)) -> 40295 | G3: =IF(WEEKDAY($A$1)=4,$A$1,IF(WEEKDAY($A$1)<4,E3+1,I3-1)) -> 40296 | I3: =IF(WEEKDAY($A$1)=5,$A$1,IF(WEEKDAY($A$1)<5,G3+1,K3-1)) -> 40297 | K3: =IF(WEEKDAY($A$1)=6,$A$1,IF(WEEKDAY($A$1)<6,I3+1,M3-1)) -> 40298 | M3: =IF(WEEKDAY($A$1)=7,$A$1,IF(WEEKDAY($A$1)<7,K3+1,"")) -> 40299
A8: =M3+1 -> 40300 | C8: =A8+1 -> 40301 | E8: =C8+1 -> 40302 | G8: =E8+1 -> 40303 | I8: =G8+1 -> 40304 | K8: =I8+1 -> 40305 | M8: =K8+1 -> 40306
A13: =M8+1 -> 40307 | C13: =A13+1 -> 40308 | E13: =C13+1 -> 40309 | G13: =E13+1 -> 40310 | I13: =G13+1 -> 40311 | K13: =I13+1 -> 40312 | M13: =K13+1 -> 40313
A18: =M13+1 -> 40314 | C18: =A18+1 -> 40315 | E18: =C18+1 -> 40316 | G18: =E18+1 -> 40317 | I18: =G18+1 -> 40318 | K18: =I18+1 -> 40319 | M18: =K18+1 -> 40320
A23: =M18+1 -> 40321 | B23: =IF(MONTH($A$1)=MONTH(A23),"",Jun!B3) | C23: =A23+1 -> 40322 | D23: =IF(MONTH($A$1)=MONTH(C23),"",Jun!D3) | E23: =C23+1 -> 40323 | F23: =IF(MONTH($A$1)=MONTH(E23),"",Jun!F3) | G23: =E23+1 -> 40324 | H23: =IF(MONTH($A$1)=MONTH(G23),"",Jun!H3) | I23: =G23+1 -> 40325 | J23: =IF(MONTH($A$1)=MONTH(I23),"",Jun!J3) | K23: =I23+1 -> 40326 | L23: =IF(MONTH($A$1)=MONTH(K23),"",Jun!L3) | M23: =K23+1 -> 40327 | N23: =IF(MONTH($A$1)=MONTH(M23),"",Jun!N3)
A28: =M23+1 -> 40328 | B28: =IF(MONTH($A$1)=MONTH(A28),"",Jun!B8) | C28: =A28+1 -> 40329 | D28: =IF(MONTH($A$1)=MONTH(C28),"",Jun!D8) | E28: =C28+1 -> 40330 | F28: =IF(MONTH($A$1)=MONTH(E28),"",Jun!F8) -> 0 | G28: =E28+1 -> 40331 | H28: =IF(MONTH($A$1)=MONTH(G28),"",Jun!H8) -> 0 | I28: =G28+1 -> 40332 | J28: =IF(MONTH($A$1)=MONTH(I28),"",Jun!J8) -> 0 | K28: =I28+1 -> 40333 | L28: =IF(MONTH($A$1)=MONTH(K28),"",Jun!L8) -> 0 | M28: =K28+1 -> 40334 | N28: =IF(MONTH($A$1)=MONTH(M28),"",Jun!N8) -> 0

Sheet Jun
A1: =DATE(Year!$A$1,6,1) -> 40330
A2: Sunday | C2: Monday | E2: Tuesday | G2: Wednesday | I2: Thursday | K2: Friday | M2: Saturday
A3: =IF(WEEKDAY($A$1)=1,$A$1,C3-1) -> 40328 | C3: =IF(WEEKDAY($A$1)=2,$A$1,IF(WEEKDAY($A$1)<2,A3+1,E3-1)) -> 40329 | E3: =IF(WEEKDAY($A$1)=3,$A$1,IF(WEEKDAY($A$1)<3,C3+1,G3-1)) -> 40330 | G3: =IF(WEEKDAY($A$1)=4,$A$1,IF(WEEKDAY($A$1)<4,E3+1,I3-1)) -> 40331 | I3: =IF(WEEKDAY($A$1)=5,$A$1,IF(WEEKDAY($A$1)<5,G3+1,K3-1)) -> 40332 | K3: =IF(WEEKDAY($A$1)=6,$A$1,IF(WEEKDAY($A$1)<6,I3+1,M3-1)) -> 40333 | M3: =IF(WEEKDAY($A$1)=7,$A$1,IF(WEEKDAY($A$1)<7,K3+1,"")) -> 40334
A8: =M3+1 -> 40335 | C8: =A8+1 -> 40336 | E8: =C8+1 -> 40337 | G8: =E8+1 -> 40338 | I8: =G8+1 -> 40339 | K8: =I8+1 -> 40340 | M8: =K8+1 -> 40341
A13: =M8+1 -> 40342 | C13: =A13+1 -> 40343 | E13: =C13+1 -> 40344 | G13: =E13+1 -> 40345 | I13: =G13+1 -> 40346 | K13: =I13+1 -> 40347 | M13: =K13+1 -> 40348
A18: =M13+1 -> 40349 | C18: =A18+1 -> 40350 | E18: =C18+1 -> 40351 | G18: =E18+1 -> 40352 | I18: =G18+1 -> 40353 | K18: =I18+1 -> 40354 | M18: =K18+1 -> 40355
A23: =M18+1 -> 40356 | B23: =IF(MONTH($A$1)=MONTH(A23),"",Jul!B3) | C23: =A23+1 -> 40357 | D23: =IF(MONTH($A$1)=MONTH(C23),"",Jul!D3) | E23: =C23+1 -> 40358 | F23: =IF(MONTH($A$1)=MONTH(E23),"",Jul!F3) | G23: =E23+1 -> 40359 | H23: =IF(MONTH($A$1)=MONTH(G23),"",Jul!H3) | I23: =G23+1 -> 40360 | J23: =IF(MONTH($A$1)=MONTH(I23),"",Jul!J3) -> 0 | K23: =I23+1 -> 40361 | L23: =IF(MONTH($A$1)=MONTH(K23),"",Jul!L3) -> 0 | M23: =K23+1 -> 40362 | N23: =IF(MONTH($A$1)=MONTH(M23),"",Jul!N3) -> 0
A28: =M23+1 -> 40363 | B28: =IF(MONTH($A$1)=MONTH(A28),"",Jul!B8) -> 0 | C28: =A28+1 -> 40364 | D28: =IF(MONTH($A$1)=MONTH(C28),"",Jul!D8) -> 0 | E28: =C28+1 -> 40365 | F28: =IF(MONTH($A$1)=MONTH(E28),"",Jul!F8) -> 0 | G28: =E28+1 -> 40366 | H28: =IF(MONTH($A$1)=MONTH(G28),"",Jul!H8) -> 0 | I28: =G28+1 -> 40367 | J28: =IF(MONTH($A$1)=MONTH(I28),"",Jul!J8) -> 0 | K28: =I28+1 -> 40368 | L28: =IF(MONTH($A$1)=MONTH(K28),"",Jul!L8) -> 0 | M28: =K28+1 -> 40369 | N28: =IF(MONTH($A$1)=MONTH(M28),"",Jul!N8) -> 0

Sheet Jul
A1: =DATE(Year!$A$1,7,1) -> 40360
A2: Sunday | C2: Monday | E2: Tuesday | G2: Wednesday | I2: Thursday | K2: Friday | M2: Saturday
A3: =IF(WEEKDAY($A$1)=1,$A$1,C3-1) -> 40356 | C3: =IF(WEEKDAY($A$1)=2,$A$1,IF(WEEKDAY($A$1)<2,A3+1,E3-1)) -> 40357 | E3: =IF(WEEKDAY($A$1)=3,$A$1,IF(WEEKDAY($A$1)<3,C3+1,G3-1)) -> 40358 | G3: =IF(WEEKDAY($A$1)=4,$A$1,IF(WEEKDAY($A$1)<4,E3+1,I3-1)) -> 40359 | I3: =IF(WEEKDAY($A$1)=5,$A$1,IF(WEEKDAY($A$1)<5,G3+1,K3-1)) -> 40360 | K3: =IF(WEEKDAY($A$1)=6,$A$1,IF(WEEKDAY($A$1)<6,I3+1,M3-1)) -> 40361 | M3: =IF(WEEKDAY($A$1)=7,$A$1,IF(WEEKDAY($A$1)<7,K3+1,"")) -> 40362
A8: =M3+1 -> 40363 | C8: =A8+1 -> 40364 | E8: =C8+1 -> 40365 | G8: =E8+1 -> 40366 | I8: =G8+1 -> 40367 | K8: =I8+1 -> 40368 | M8: =K8+1 -> 40369
A13: =M8+1 -> 40370 | C13: =A13+1 -> 40371 | E13: =C13+1 -> 40372 | G13: =E13+1 -> 40373 | I13: =G13+1 -> 40374 | K13: =I13+1 -> 40375 | M13: =K13+1 -> 40376
A18: =M13+1 -> 40377 | C18: =A18+1 -> 40378 | E18: =C18+1 -> 40379 | G18: =E18+1 -> 40380 | I18: =G18+1 -> 40381 | K18: =I18+1 -> 40382 | M18: =K18+1 -> 40383
A23: =M18+1 -> 40384 | B23: =IF(MONTH($A$1)=MONTH(A23),"",Aug!B3) | C23: =A23+1 -> 40385 | D23: =IF(MONTH($A$1)=MONTH(C23),"",Aug!D3) | E23: =C23+1 -> 40386 | F23: =IF(MONTH($A$1)=MONTH(E23),"",Aug!F3) | G23: =E23+1 -> 40387 | H23: =IF(MONTH($A$1)=MONTH(G23),"",Aug!H3) | I23: =G23+1 -> 40388 | J23: =IF(MONTH($A$1)=MONTH(I23),"",Aug!J3) | K23: =I23+1 -> 40389 | L23: =IF(MONTH($A$1)=MONTH(K23),"",Aug!L3) | M23: =K23+1 -> 40390 | N23: =IF(MONTH($A$1)=MONTH(M23),"",Aug!N3)
A28: =M23+1 -> 40391 | B28: =IF(MONTH($A$1)=MONTH(A28),"",Aug!B8) -> 0 | C28: =A28+1 -> 40392 | D28: =IF(MONTH($A$1)=MONTH(C28),"",Aug!D8) -> 0 | E28: =C28+1 -> 40393 | F28: =IF(MONTH($A$1)=MONTH(E28),"",Aug!F8) -> 0 | G28: =E28+1 -> 40394 | H28: =IF(MONTH($A$1)=MONTH(G28),"",Aug!H8) -> 0 | I28: =G28+1 -> 40395 | J28: =IF(MONTH($A$1)=MONTH(I28),"",Aug!J8) -> 0 | K28: =I28+1 -> 40396 | L28: =IF(MONTH($A$1)=MONTH(K28),"",Aug!L8) -> 0 | M28: =K28+1 -> 40397 | N28: =IF(MONTH($A$1)=MONTH(M28),"",Aug!N8) -> 0

Sheet Aug
A1: =DATE(Year!$A$1,8,1) -> 40391
A2: Sunday | C2: Monday | E2: Tuesday | G2: Wednesday | I2: Thursday | K2: Friday | M2: Saturday
A3: =IF(WEEKDAY($A$1)=1,$A$1,C3-1) -> 40391 | C3: =IF(WEEKDAY($A$1)=2,$A$1,IF(WEEKDAY($A$1)<2,A3+1,E3-1)) -> 40392 | E3: =IF(WEEKDAY($A$1)=3,$A$1,IF(WEEKDAY($A$1)<3,C3+1,G3-1)) -> 40393 | G3: =IF(WEEKDAY($A$1)=4,$A$1,IF(WEEKDAY($A$1)<4,E3+1,I3-1)) -> 40394 | I3: =IF(WEEKDAY($A$1)=5,$A$1,IF(WEEKDAY($A$1)<5,G3+1,K3-1)) -> 40395 | K3: =IF(WEEKDAY($A$1)=6,$A$1,IF(WEEKDAY($A$1)<6,I3+1,M3-1)) -> 40396 | M3: =IF(WEEKDAY($A$1)=7,$A$1,IF(WEEKDAY($A$1)<7,K3+1,"")) -> 40397
A8: =M3+1 -> 40398 | C8: =A8+1 -> 40399 | E8: =C8+1 -> 40400 | G8: =E8+1 -> 40401 | I8: =G8+1 -> 40402 | K8: =I8+1 -> 40403 | M8: =K8+1 -> 40404
A13: =M8+1 -> 40405 | C13: =A13+1 -> 40406 | E13: =C13+1 -> 40407 | G13: =E13+1 -> 40408 | I13: =G13+1 -> 40409 | K13: =I13+1 -> 40410 | M13: =K13+1 -> 40411
A18: =M13+1 -> 40412 | C18: =A18+1 -> 40413 | E18: =C18+1 -> 40414 | G18: =E18+1 -> 40415 | I18: =G18+1 -> 40416 | K18: =I18+1 -> 40417 | M18: =K18+1 -> 40418
A23: =M18+1 -> 40419 | B23: =IF(MONTH($A$1)=MONTH(A23),"",Sep!B3) | C23: =A23+1 -> 40420 | D23: =IF(MONTH($A$1)=MONTH(C23),"",Sep!D3) | E23: =C23+1 -> 40421 | F23: =IF(MONTH($A$1)=MONTH(E23),"",Sep!F3) | G23: =E23+1 -> 40422 | H23: =IF(MONTH($A$1)=MONTH(G23),"",Sep!H3) -> 0 | I23: =G23+1 -> 40423 | J23: =IF(MONTH($A$1)=MONTH(I23),"",Sep!J3) -> 0 | K23: =I23+1 -> 40424 | L23: =IF(MONTH($A$1)=MONTH(K23),"",Sep!L3) -> 0 | M23: =K23+1 -> 40425 | N23: =IF(MONTH($A$1)=MONTH(M23),"",Sep!N3) -> 0
A28: =M23+1 -> 40426 | B28: =IF(MONTH($A$1)=MONTH(A28),"",Sep!B8) -> 0 | C28: =A28+1 -> 40427 | D28: =IF(MONTH($A$1)=MONTH(C28),"",Sep!D8) -> 0 | E28: =C28+1 -> 40428 | F28: =IF(MONTH($A$1)=MONTH(E28),"",Sep!F8) -> 0 | G28: =E28+1 -> 40429 | H28: =IF(MONTH($A$1)=MONTH(G28),"",Sep!H8) -> 0 | I28: =G28+1 -> 40430 | J28: =IF(MONTH($A$1)=MONTH(I28),"",Sep!J8) -> 0 | K28: =I28+1 -> 40431 | L28: =IF(MONTH($A$1)=MONTH(K28),"",Sep!L8) -> 0 | M28: =K28+1 -> 40432 | N28: =IF(MONTH($A$1)=MONTH(M28),"",Sep!N8) -> 0

Sheet Sep
A1: =DATE(Year!$A$1,9,1) -> 40422
A2: Sunday | C2: Monday | E2: Tuesday | G2: Wednesday | I2: Thursday | K2: Friday | M2: Saturday
A3: =IF(WEEKDAY($A$1)=1,$A$1,C3-1) -> 40419 | C3: =IF(WEEKDAY($A$1)=2,$A$1,IF(WEEKDAY($A$1)<2,A3+1,E3-1)) -> 40420 | E3: =IF(WEEKDAY($A$1)=3,$A$1,IF(WEEKDAY($A$1)<3,C3+1,G3-1)) -> 40421 | G3: =IF(WEEKDAY($A$1)=4,$A$1,IF(WEEKDAY($A$1)<4,E3+1,I3-1)) -> 40422 | I3: =IF(WEEKDAY($A$1)=5,$A$1,IF(WEEKDAY($A$1)<5,G3+1,K3-1)) -> 40423 | K3: =IF(WEEKDAY($A$1)=6,$A$1,IF(WEEKDAY($A$1)<6,I3+1,M3-1)) -> 40424 | M3: =IF(WEEKDAY($A$1)=7,$A$1,IF(WEEKDAY($A$1)<7,K3+1,"")) -> 40425
A8: =M3+1 -> 40426 | C8: =A8+1 -> 40427 | E8: =C8+1 -> 40428 | G8: =E8+1 -> 40429 | I8: =G8+1 -> 40430 | K8: =I8+1 -> 40431 | M8: =K8+1 -> 40432
A13: =M8+1 -> 40433 | C13: =A13+1 -> 40434 | E13: =C13+1 -> 40435 | G13: =E13+1 -> 40436 | I13: =G13+1 -> 40437 | K13: =I13+1 -> 40438 | M13: =K13+1 -> 40439
A18: =M13+1 -> 40440 | C18: =A18+1 -> 40441 | E18: =C18+1 -> 40442 | G18: =E18+1 -> 40443 | I18: =G18+1 -> 40444 | K18: =I18+1 -> 40445 | M18: =K18+1 -> 40446
A23: =M18+1 -> 40447 | B23: =IF(MONTH($A$1)=MONTH(A23),"",Oct!B3) | C23: =A23+1 -> 40448 | D23: =IF(MONTH($A$1)=MONTH(C23),"",Oct!D3) | E23: =C23+1 -> 40449 | F23: =IF(MONTH($A$1)=MONTH(E23),"",Oct!F3) | G23: =E23+1 -> 40450 | H23: =IF(MONTH($A$1)=MONTH(G23),"",Oct!H3) | I23: =G23+1 -> 40451 | J23: =IF(MONTH($A$1)=MONTH(I23),"",Oct!J3) | K23: =I23+1 -> 40452 | L23: =IF(MONTH($A$1)=MONTH(K23),"",Oct!L3) -> 0 | M23: =K23+1 -> 40453 | N23: =IF(MONTH($A$1)=MONTH(M23),"",Oct!N3) -> 0
A28: =M23+1 -> 40454 | B28: =IF(MONTH($A$1)=MONTH(A28),"",Oct!B8) -> 0 | C28: =A28+1 -> 40455 | D28: =IF(MONTH($A$1)=MONTH(C28),"",Oct!D8) -> 0 | E28: =C28+1 -> 40456 | F28: =IF(MONTH($A$1)=MONTH(E28),"",Oct!F8) -> 0 | G28: =E28+1 -> 40457 | H28: =IF(MONTH($A$1)=MONTH(G28),"",Oct!H8) -> 0 | I28: =G28+1 -> 40458 | J28: =IF(MONTH($A$1)=MONTH(I28),"",Oct!J8) -> 0 | K28: =I28+1 -> 40459 | L28: =IF(MONTH($A$1)=MONTH(K28),"",Oct!L8) -> 0 | M28: =K28+1 -> 40460 | N28: =IF(MONTH($A$1)=MONTH(M28),"",Oct!N8) -> 0

Sheet Oct
A1: =DATE(Year!$A$1,10,1) -> 40452
A2: Sunday | C2: Monday | E2: Tuesday | G2: Wednesday | I2: Thursday | K2: Friday | M2: Saturday
A3: =IF(WEEKDAY($A$1)=1,$A$1,C3-1) -> 40447 | C3: =IF(WEEKDAY($A$1)=2,$A$1,IF(WEEKDAY($A$1)<2,A3+1,E3-1)) -> 40448 | E3: =IF(WEEKDAY($A$1)=3,$A$1,IF(WEEKDAY($A$1)<3,C3+1,G3-1)) -> 40449 | G3: =IF(WEEKDAY($A$1)=4,$A$1,IF(WEEKDAY($A$1)<4,E3+1,I3-1)) -> 40450 | I3: =IF(WEEKDAY($A$1)=5,$A$1,IF(WEEKDAY($A$1)<5,G3+1,K3-1)) -> 40451 | K3: =IF(WEEKDAY($A$1)=6,$A$1,IF(WEEKDAY($A$1)<6,I3+1,M3-1)) -> 40452 | M3: =IF(WEEKDAY($A$1)=7,$A$1,IF(WEEKDAY($A$1)<7,K3+1,"")) -> 40453
A8: =M3+1 -> 40454 | C8: =A8+1 -> 40455 | E8: =C8+1 -> 40456 | G8: =E8+1 -> 40457 | I8: =G8+1 -> 40458 | K8: =I8+1 -> 40459 | M8: =K8+1 -> 40460
A13: =M8+1 -> 40461 | C13: =A13+1 -> 40462 | E13: =C13+1 -> 40463 | G13: =E13+1 -> 40464 | I13: =G13+1 -> 40465 | K13: =I13+1 -> 40466 | M13: =K13+1 -> 40467
A18: =M13+1 -> 40468 | C18: =A18+1 -> 40469 | E18: =C18+1 -> 40470 | G18: =E18+1 -> 40471 | I18: =G18+1 -> 40472 | K18: =I18+1 -> 40473 | M18: =K18+1 -> 40474
A23: =M18+1 -> 40475 | B23: =IF(MONTH($A$1)=MONTH(A23),"",Nov!B3) | C23: =A23+1 -> 40476 | D23: =IF(MONTH($A$1)=MONTH(C23),"",Nov!D3) | E23: =C23+1 -> 40477 | F23: =IF(MONTH($A$1)=MONTH(E23),"",Nov!F3) | G23: =E23+1 -> 40478 | H23: =IF(MONTH($A$1)=MONTH(G23),"",Nov!H3) | I23: =G23+1 -> 40479 | J23: =IF(MONTH($A$1)=MONTH(I23),"",Nov!J3) | K23: =I23+1 -> 40480 | L23: =IF(MONTH($A$1)=MONTH(K23),"",Nov!L3) | M23: =K23+1 -> 40481 | N23: =IF(MONTH($A$1)=MONTH(M23),"",Nov!N3)
A28: =M23+1 -> 40482 | B28: =IF(MONTH($A$1)=MONTH(A28),"",Nov!B8) | C28: =A28+1 -> 40483 | D28: =IF(MONTH($A$1)=MONTH(C28),"",Nov!D8) -> 0 | E28: =C28+1 -> 40484 | F28: =IF(MONTH($A$1)=MONTH(E28),"",Nov!F8) -> 0 | G28: =E28+1 -> 40485 | H28: =IF(MONTH($A$1)=MONTH(G28),"",Nov!H8) -> 0 | I28: =G28+1 -> 40486 | J28: =IF(MONTH($A$1)=MONTH(I28),"",Nov!J8) -> 0 | K28: =I28+1 -> 40487 | L28: =IF(MONTH($A$1)=MONTH(K28),"",Nov!L8) -> 0 | M28: =K28+1 -> 40488 | N28: =IF(MONTH($A$1)=MONTH(M28),"",Nov!N8) -> 0

Sheet Nov
A1: =DATE(Year!$A$1,11,1) -> 40483
A2: Sunday | C2: Monday | E2: Tuesday | G2: Wednesday | I2: Thursday | K2: Friday | M2: Saturday
A3: =IF(WEEKDAY($A$1)=1,$A$1,C3-1) -> 40482 | C3: =IF(WEEKDAY($A$1)=2,$A$1,IF(WEEKDAY($A$1)<2,A3+1,E3-1)) -> 40483 | E3: =IF(WEEKDAY($A$1)=3,$A$1,IF(WEEKDAY($A$1)<3,C3+1,G3-1)) -> 40484 | G3: =IF(WEEKDAY($A$1)=4,$A$1,IF(WEEKDAY($A$1)<4,E3+1,I3-1)) -> 40485 | I3: =IF(WEEKDAY($A$1)=5,$A$1,IF(WEEKDAY($A$1)<5,G3+1,K3-1)) -> 40486 | K3: =IF(WEEKDAY($A$1)=6,$A$1,IF(WEEKDAY($A$1)<6,I3+1,M3-1)) -> 40487 | M3: =IF(WEEKDAY($A$1)=7,$A$1,IF(WEEKDAY($A$1)<7,K3+1,"")) -> 40488
A8: =M3+1 -> 40489 | C8: =A8+1 -> 40490 | E8: =C8+1 -> 40491 | G8: =E8+1 -> 40492 | I8: =G8+1 -> 40493 | K8: =I8+1 -> 40494 | M8: =K8+1 -> 40495
A13: =M8+1 -> 40496 | C13: =A13+1 -> 40497 | E13: =C13+1 -> 40498 | G13: =E13+1 -> 40499 | I13: =G13+1 -> 40500 | K13: =I13+1 -> 40501 | M13: =K13+1 -> 40502
A18: =M13+1 -> 40503 | C18: =A18+1 -> 40504 | E18: =C18+1 -> 40505 | G18: =E18+1 -> 40506 | I18: =G18+1 -> 40507 | K18: =I18+1 -> 40508 | M18: =K18+1 -> 40509
A23: =M18+1 -> 40510 | B23: =IF(MONTH($A$1)=MONTH(A23),"",Dec!B3) | C23: =A23+1 -> 40511 | D23: =IF(MONTH($A$1)=MONTH(C23),"",Dec!D3) | E23: =C23+1 -> 40512 | F23: =IF(MONTH($A$1)=MONTH(E23),"",Dec!F3) | G23: =E23+1 -> 40513 | H23: =IF(MONTH($A$1)=MONTH(G23),"",Dec!H3) -> 0 | I23: =G23+1 -> 40514 | J23: =IF(MONTH($A$1)=MONTH(I23),"",Dec!J3) -> 0 | K23: =I23+1 -> 40515 | L23: =IF(MONTH($A$1)=MONTH(K23),"",Dec!L3) -> 0 | M23: =K23+1 -> 40516 | N23: =IF(MONTH($A$1)=MONTH(M23),"",Dec!N3) -> 0
A28: =M23+1 -> 40517 | B28: =IF(MONTH($A$1)=MONTH(A28),"",Dec!B8) -> 0 | C28: =A28+1 -> 40518 | D28: =IF(MONTH($A$1)=MONTH(C28),"",Dec!D8) -> 0 | E28: =C28+1 -> 40519 | F28: =IF(MONTH($A$1)=MONTH(E28),"",Dec!F8) -> 0 | G28: =E28+1 -> 40520 | H28: =IF(MONTH($A$1)=MONTH(G28),"",Dec!H8) -> 0 | I28: =G28+1 -> 40521 | J28: =IF(MONTH($A$1)=MONTH(I28),"",Dec!J8) -> 0 | K28: =I28+1 -> 40522 | L28: =IF(MONTH($A$1)=MONTH(K28),"",Dec!L8) -> 0 | M28: =K28+1 -> 40523 | N28: =IF(MONTH($A$1)=MONTH(M28),"",Dec!N8) -> 0

Sheet Dec
A1: =DATE(Year!$A$1,12,1) -> 40513
A2: Sunday | C2: Monday | E2: Tuesday | G2: Wednesday | I2: Thursday | K2: Friday | M2: Saturday
A3: =IF(WEEKDAY($A$1)=1,$A$1,C3-1) -> 40510 | C3: =IF(WEEKDAY($A$1)=2,$A$1,IF(WEEKDAY($A$1)<2,A3+1,E3-1)) -> 40511 | E3: =IF(WEEKDAY($A$1)=3,$A$1,IF(WEEKDAY($A$1)<3,C3+1,G3-1)) -> 40512 | G3: =IF(WEEKDAY($A$1)=4,$A$1,IF(WEEKDAY($A$1)<4,E3+1,I3-1)) -> 40513 | I3: =IF(WEEKDAY($A$1)=5,$A$1,IF(WEEKDAY($A$1)<5,G3+1,K3-1)) -> 40514 | K3: =IF(WEEKDAY($A$1)=6,$A$1,IF(WEEKDAY($A$1)<6,I3+1,M3-1)) -> 40515 | M3: =IF(WEEKDAY($A$1)=7,$A$1,IF(WEEKDAY($A$1)<7,K3+1,"")) -> 40516
A8: =M3+1 -> 40517 | C8: =A8+1 -> 40518 | E8: =C8+1 -> 40519 | G8: =E8+1 -> 40520 | I8: =G8+1 -> 40521 | K8: =I8+1 -> 40522 | M8: =K8+1 -> 40523
A13: =M8+1 -> 40524 | C13: =A13+1 -> 40525 | E13: =C13+1 -> 40526 | G13: =E13+1 -> 40527 | I13: =G13+1 -> 40528 | K13: =I13+1 -> 40529 | M13: =K13+1 -> 40530
A18: =M13+1 -> 40531 | C18: =A18+1 -> 40532 | E18: =C18+1 -> 40533 | G18: =E18+1 -> 40534 | I18: =G18+1 -> 40535 | K18: =I18+1 -> 40536 | M18: =K18+1 -> 40537
A23: =M18+1 -> 40538 | B23: =IF(MONTH($A$1)=MONTH(A23),"",Jan_2!B3) | C23: =A23+1 -> 40539 | D23: =IF(MONTH($A$1)=MONTH(C23),"",Jan_2!D3) | E23: =C23+1 -> 40540 | F23: =IF(MONTH($A$1)=MONTH(E23),"",Jan_2!F3) | G23: =E23+1 -> 40541 | H23: =IF(MONTH($A$1)=MONTH(G23),"",Jan_2!H3) | I23: =G23+1 -> 40542 | J23: =IF(MONTH($A$1)=MONTH(I23),"",Jan_2!J3) | K23: =I23+1 -> 40543 | L23: =IF(MONTH($A$1)=MONTH(K23),"",Jan_2!L3) | M23: =K23+1 -> 40544 | N23: =IF(MONTH($A$1)=MONTH(M23),"",Jan_2!N3) -> 0
A28: =M23+1 -> 40545 | B28: =IF(MONTH($A$1)=MONTH(A28),"",Jan_2!B8) -> 0 | C28: =A28+1 -> 40546 | D28: =IF(MONTH($A$1)=MONTH(C28),"",Jan_2!D8) -> 0 | E28: =C28+1 -> 40547 | F28: =IF(MONTH($A$1)=MONTH(E28),"",Jan_2!F8) -> 0 | G28: =E28+1 -> 40548 | H28: =IF(MONTH($A$1)=MONTH(G28),"",Jan_2!H8) -> 0 | I28: =G28+1 -> 40549 | J28: =IF(MONTH($A$1)=MONTH(I28),"",Jan_2!J8) -> 0 | K28: =I28+1 -> 40550 | L28: =IF(MONTH($A$1)=MONTH(K28),"",Jan_2!L8) -> 0 | M28: =K28+1 -> 40551 | N28: =IF(MONTH($A$1)=MONTH(M28),"",Jan_2!N8) -> 0

Sheet Jan_2
A1: =DATE(Year!$A$1+1,1,1) -> 40544
A2: Sunday | C2: Monday | E2: Tuesday | G2: Wednesday | I2: Thursday | K2: Friday | M2: Saturday
A3: =IF(WEEKDAY($A$1)=1,$A$1,C3-1) -> 40538 | C3: =IF(WEEKDAY($A$1)=2,$A$1,IF(WEEKDAY($A$1)<2,A3+1,E3-1)) -> 40539 | E3: =IF(WEEKDAY($A$1)=3,$A$1,IF(WEEKDAY($A$1)<3,C3+1,G3-1)) -> 40540 | G3: =IF(WEEKDAY($A$1)=4,$A$1,IF(WEEKDAY($A$1)<4,E3+1,I3-1)) -> 40541 | I3: =IF(WEEKDAY($A$1)=5,$A$1,IF(WEEKDAY($A$1)<5,G3+1,K3-1)) -> 40542 | K3: =IF(WEEKDAY($A$1)=6,$A$1,IF(WEEKDAY($A$1)<6,I3+1,M3-1)) -> 40543 | M3: =IF(WEEKDAY($A$1)=7,$A$1,IF(WEEKDAY($A$1)<7,K3+1,"")) -> 40544
A8: =M3+1 -> 40545 | C8: =A8+1 -> 40546 | E8: =C8+1 -> 40547 | G8: =E8+1 -> 40548 | I8: =G8+1 -> 40549 | K8: =I8+1 -> 40550 | M8: =K8+1 -> 40551
A13: =M8+1 -> 40552 | C13: =A13+1 -> 40553 | E13: =C13+1 -> 40554 | G13: =E13+1 -> 40555 | I13: =G13+1 -> 40556 | K13: =I13+1 -> 40557 | M13: =K13+1 -> 40558
A18: =M13+1 -> 40559 | C18: =A18+1 -> 40560 | E18: =C18+1 -> 40561 | G18: =E18+1 -> 40562 | I18: =G18+1 -> 40563 | K18: =I18+1 -> 40564 | M18: =K18+1 -> 40565
A23: =M18+1 -> 40566 | C23: =A23+1 -> 40567 | E23: =C23+1 -> 40568 | G23: =E23+1 -> 40569 | I23: =G23+1 -> 40570 | K23: =I23+1 -> 40571 | M23: =K23+1 -> 40572
A28: =M23+1 -> 40573 | C28: =A28+1 -> 40574 | E28: =C28+1 -> 40575 | G28: =E28+1 -> 40576 | I28: =G28+1 -> 40577 | K28: =I28+1 -> 40578 | M28: =K28+1 -> 40579

Sheet Sheet3
B3: x

Sheet HowTo
A1: Information
A3: Here is a Open Office calc template for 2010, 2011, 2012, etc. calendar and instructions on how to create a
A4: calendar using format and date calculations. Yearly and monthly tab sheets are included. For different year,
A5: just change the year on the sheet Year tab and the calendars are recalculated for the new year.
A7: How to create a calendar in OpenOffice.org calc using format and date calculations
A8: Yearly calendar | B8: Results should look similar
A10: Rename the sheet tab at the bottom from “Sheet1” to “Year”, “Sheet2” to “Jan”
A11: (right click on the sheet tab and select “Rename Sheet”) | B11: \ Year / Jan \ Sheet3 /
A12: Select the “Year” sheet
A13: Select column “A” through “W”, click on “Format”, select Column, Width and set to 0.40”, OK
A14: Select A1 through W1, Format, Merge Cells, Format, Cells, Font tab, Bold, 12, Alignment tab,
A15: Horizonal, Center, OK
A16: Tools, Options, OpenOffice.org Calc, View, Visual aids, Color, Blue gray, OK
A17: In A1, type in the year that you want (example: 2010) | B17: 2010
A18: Select A2 through G2, Format, Merge Cells, Format, Cells, Numbers tab, Date, December,
A19: Font tab, Bold, Alignment tab, Horizontal, Center, OK, then enter “=DATE($A$1;1;1)” | B19: =DATE(B17,1,1) -> 40179
A20: In A3 through G3 type Sun, Mon, Tue, Wed, Thu, Fri and Sat | B20: Sun | C20: Mon | D20: Tue | E20: Wed | F20: Thu | G20: Fri | H20: Sat
A21: Select A3 through G3, Format, Cells, Alignment tab, Horizontal, Center, Borders tab,
A22: Line arrangement, Set Outer Border Only, Line, 1.00 pt, Background tab, Pale green, OK | B22: Sun | C22: Mon | D22: Tue | E22: Wed | F22: Thu | G22: Fri | H22: Sat
A23: Select A4, Format, Styles and Formatting, right click on Default, select New
A24: Organizer tab, Name, BBlue, Font tab, Bold, Background tab, Light cyan, Font Effects tab, Blue,
A25: Borders tab, Set All Four Borders, Line, 1.00 pt, OK
A26: Format, Conditional Formatting, Formula is, “TODAY()=A4”, BBlue, OK
A27: Copy A4, Paste in A4 through G9
A29: Select A4 through G9, Format, Cells, Numbers tab, User-defined, Format code enter “DD”, OK
A30: Format, Cells, Numbers tab, Date, 31, Alignment tab, Horizontal, Center, OK
A31: In A4 enter: =IF(WEEKDAY(A2)=1; A2; "") | B31: =IF(WEEKDAY(B19)=1,B19,"")
A32: In B4 enter: =IF(WEEKDAY(A2)=2; A2; IF(WEEKDAY(A2)<2; A4+1;"")) | B32: =IF(WEEKDAY(B19)=1,B19,"") | C32: =IF(WEEKDAY(B19)=2,B19,IF(WEEKDAY(B19)<2,B32+1,""))
A33: In C4 enter: =IF(WEEKDAY(A2)=3; A2; IF(WEEKDAY(A2)<3; B4+1;"")) | B33: =IF(WEEKDAY(B19)=1,B19,"") | C33: =IF(WEEKDAY(B19)=2,B19,IF(WEEKDAY(B19)<2,B33+1,"")) | D33: =IF(WEEKDAY(B19)=3,B19,IF(WEEKDAY(B19)<3,C33+1,""))
A34: In D4 enter: =IF(WEEKDAY(A2)=4; A2; IF(WEEKDAY(A2)<4; C4+1;"")) | B34: =IF(WEEKDAY(B19)=1,B19,"") | C34: =IF(WEEKDAY(B19)=2,B19,IF(WEEKDAY(B19)<2,B34+1,"")) | D34: =IF(WEEKDAY(B19)=3,B19,IF(WEEKDAY(B19)<3,C34+1,"")) | E34: =IF(WEEKDAY(B19)=4,B19,IF(WEEKDAY(B19)<4,D34+1,""))
A35: In E4 enter: =IF(WEEKDAY(A2)=5; A2; IF(WEEKDAY(A2)<5; D4+1;"")) | B35: =IF(WEEKDAY(B19)=1,B19,"") | C35: =IF(WEEKDAY(B19)=2,B19,IF(WEEKDAY(B19)<2,B35+1,"")) | D35: =IF(WEEKDAY(B19)=3,B19,IF(WEEKDAY(B19)<3,C35+1,"")) | E35: =IF(WEEKDAY(B19)=4,B19,IF(WEEKDAY(B19)<4,D35+1,"")) | F35: =IF(WEEKDAY(B19)=5,B19,IF(WEEKDAY(B19)<5,E35+1,""))
A36: In F4 enter: =IF(WEEKDAY(A2)=6; A2; IF(WEEKDAY(A2)<6; E4+1;"")) | B36: =IF(WEEKDAY(B19)=1,B19,"") | C36: =IF(WEEKDAY(B19)=2,B19,IF(WEEKDAY(B19)<2,B36+1,"")) | D36: =IF(WEEKDAY(B19)=3,B19,IF(WEEKDAY(B19)<3,C36+1,"")) | E36: =IF(WEEKDAY(B19)=4,B19,IF(WEEKDAY(B19)<4,D36+1,"")) | F36: =IF(WEEKDAY(B19)=5,B19,IF(WEEKDAY(B19)<5,E36+1,"")) | G36: =IF(WEEKDAY(B19)=6,B19,IF(WEEKDAY(B19)<6,F36+1,"")) -> 40179
A37: In G4 enter: =IF(WEEKDAY(A2)=7; A2; IF(WEEKDAY(A2)<7; F4+1;"")) | B37: =IF(WEEKDAY(B19)=1,B19,"") | C37: =IF(WEEKDAY(B19)=2,B19,IF(WEEKDAY(B19)<2,B37+1,"")) | D37: =IF(WEEKDAY(B19)=3,B19,IF(WEEKDAY(B19)<3,C37+1,"")) | E37: =IF(WEEKDAY(B19)=4,B19,IF(WEEKDAY(B19)<4,D37+1,"")) | F37: =IF(WEEKDAY(B19)=5,B19,IF(WEEKDAY(B19)<5,E37+1,"")) | G37: =IF(WEEKDAY(B19)=6,B19,IF(WEEKDAY(B19)<6,F37+1,"")) -> 40179 | H37: =IF(WEEKDAY(B19)=7,B19,IF(WEEKDAY(B19)<7,G37+1,"")) -> 40180
A39: In A5 enter: =G4+1 | B39: =H37+1 -> 40181
A40: In B5 enter: =A5+1 | B40: =H37+1 -> 40181 | C40: =B40+1 -> 40182
A41: Copy B5, Paste in C5 through F5 | B41: =H37+1 -> 40181 | C41: =B41+1 -> 40182 | D41: =C41+1 -> 40183 | E41: =D41+1 -> 40184 | F41: =E41+1 -> 40185 | G41: =F41+1 -> 40186 | H41: =G41+1 -> 40187
A42: Copy A5 through G5, Paste in A6 through G7 | B42: =H41+1 -> 40188 | C42: =B42+1 -> 40189 | D42: =C42+1 -> 40190 | E42: =D42+1 -> 40191 | F42: =E42+1 -> 40192 | G42: =F42+1 -> 40193 | H42: =G42+1 -> 40194
A43: In A8 enter: =IF(MONTH(A6+14)=MONTH(A6); A6+14; "") | B43: =IF(MONTH(B42+14)=MONTH(B42),B42+14,"") -> 40202
A44: Copy A8, Paste in A8 through G9, Yes to pop-up | B44: =IF(MONTH(B42+14)=MONTH(B42),B42+14,"") -> 40202 | C44: =IF(MONTH(C42+14)=MONTH(C42),C42+14,"") -> 40203 | D44: =IF(MONTH(D42+14)=MONTH(D42),D42+14,"") -> 40204 | E44: =IF(MONTH(E42+14)=MONTH(E42),E42+14,"") -> 40205 | F44: =IF(MONTH(F42+14)=MONTH(F42),F42+14,"") -> 40206 | G44: =IF(MONTH(G42+14)=MONTH(G42),G42+14,"") -> 40207 | H44: =IF(MONTH(H42+14)=MONTH(H42),H42+14,"") -> 40208
A45: Selecy A4 through G9, Format, Cells, Borders tab, Line arrangement, Set Outer Border Only,
...
