{"text_format":"3","workbook":"xlsx","n_sheets":7,"sheets":["daily productivity","Job search sheet","Job referral ","Password Record","Weekly Productivity","Weekly Activity","Cumulative Totals"],"not_rendered":{"charts":2},"read":"whole","date_system":"1900"}

{"sheet":"daily productivity","index":0,"n_rows":26,"n_cols":161,"rows_kept":26,"merged":[[4,0,5,0],[4,1,5,1],[4,2,5,2],[4,3,5,3],[4,4,5,4],[4,5,5,5],[4,6,5,6],[4,7,5,7],[4,8,5,8],[4,9,5,9],[4,10,5,10],[4,11,5,11],[4,12,5,12],[4,13,5,13],[4,14,5,14],[4,15,5,15],[4,16,5,16],[4,17,5,17],[4,18,5,18],[4,19,5,19],[4,20,5,20],[4,21,5,21],[4,22,5,22],[4,23,5,23],[4,24,5,24],[4,25,5,25],[4,26,5,26],[4,27,5,27],[4,28,5,28],[4,29,5,29],[4,30,5,30],[4,31,5,31],[4,32,5,32],[4,33,5,33],[4,34,5,34],[4,35,5,35],[4,36,5,36],[4,37,5,37],[4,38,5,38],[4,39,5,39],[4,40,5,40],[4,41,5,41],[4,42,5,42],[4,43,5,43],[4,44,5,44],[4,45,5,45],[4,46,5,46],[4,47,5,47],[4,48,5,48],[4,49,5,49],[4,50,5,50],[4,51,5,51],[4,52,5,52],[4,53,5,53],[4,54,5,54],[4,55,5,55],[4,56,5,56],[4,57,5,57],[4,58,5,58],[4,59,5,59],[4,60,5,60],[4,61,5,61],[4,62,5,62],[4,63,5,63],[4,64,5,64],[4,65,5,65],[4,66,5,66],[4,67,5,67],[4,68,5,68],[4,69,5,69],[4,70,5,70],[4,71,5,71],[4,72,5,72],[4,73,5,73],[4,74,5,74],[4,75,5,75],[4,76,5,76],[4,77,5,77],[4,78,5,78],[4,79,5,79],[4,80,5,80],[4,81,5,81],[4,82,5,82],[4,83,5,83],[4,84,5,84],[4,85,5,85],[4,86,5,86],[4,87,5,87],[4,88,5,88],[4,89,5,89],[4,90,5,90],[4,91,5,91],[4,92,5,92],[4,93,5,93],[4,94,5,94],[4,95,5,95],[4,96,5,96],[4,97,5,97],[4,98,5,98],[4,99,5,99],[4,100,5,100],[4,101,5,101],[4,102,5,102],[4,103,5,103],[4,104,5,104],[4,105,5,105],[4,106,5,106],[4,107,5,107],[4,108,5,108],[4,109,5,109],[4,110,5,110],[4,111,5,111],[4,112,5,112],[4,113,5,113],[4,114,5,114],[4,115,5,115],[4,116,5,116],[4,117,5,117],[4,118,5,118],[4,119,5,119],[4,120,5,120],[4,121,5,121],[4,122,5,122],[4,123,5,123],[4,124,5,124],[4,125,5,125],[4,126,5,126],[4,127,5,127],[4,128,5,128],[4,129,5,129],[4,130,5,130],[4,131,5,131],[4,132,5,132],[4,133,5,133],[4,134,5,134],[4,135,5,135],[4,136,5,136],[4,137,5,137],[4,138,5,138],[4,139,5,139],[4,140,5,140],[4,141,5,141],[4,142,5,142],[4,143,5,143],[4,144,5,144],[4,145,5,145],[4,146,5,146],[4,147,5,147],[4,148,5,148],[4,149,5,149],[4,150,5,150],[4,151,5,151],[4,152,5,152],[4,153,5,153],[4,154,5,154],[4,155,5,155],[4,156,5,156],[4,157,5,157],[4,158,5,158],[4,159,5,159],[4,160,5,160]]}
["Job Search Tracking"]
[]
["Your Name Here",null,null,"Week 1",{"$nulls":7},"Week 2",{"$nulls":7},"Week 3",{"$nulls":7},"Week 4",{"$nulls":7},"Week 5",{"$nulls":7},"Week 6",{"$nulls":7},"Week 7",{"$nulls":7},"Week 8",{"$nulls":7},"Week 9",{"$nulls":7},"Week 10",{"$nulls":7},"Week 11",{"$nulls":7},"Week 12",{"$nulls":7},"Week 13",{"$nulls":7},"Week 14",{"$nulls":7},"Week 15",{"$nulls":7},"Week 16",{"$nulls":7},"Week 17",{"$nulls":7},"Week 18",{"$nulls":7},"Week 19",{"$nulls":7},"Week 20"]
[]
["Date","mm/dd/yyyy",{"$f":"B5+1","v":"00:00:00"},{"$f":"C5+1","v":"00:00:00"},{"$f":"D5+1","v":"00:00:00"},{"$f":"E5+1","v":"00:00:00"},{"$f":"F5+1","v":"00:00:00"},{"$f":"G5+1","v":"00:00:00"},"Cumulative Totals",{"$f":"H5+1","v":"00:00:00"},{"$f":"J5+1","v":"00:00:00"},{"$f":"K5+1","v":"00:00:00"},{"$f":"L5+1","v":"00:00:00"},{"$f":"M5+1","v":"00:00:00"},{"$f":"N5+1","v":"00:00:00"},{"$f":"O5+1","v":"00:00:00"},"Cumulative Totals",{"$f":"P5+1","v":"00:00:00"},{"$f":"R5+1","v":"00:00:00"},{"$f":"S5+1","v":"00:00:00"},{"$f":"T5+1","v":"00:00:00"},{"$f":"U5+1","v":"00:00:00"},{"$f":"V5+1","v":"00:00:00"},{"$f":"W5+1","v":"00:00:00"},"Cumulative Totals",{"$f":"X5+1","v":"00:00:00"},{"$f":"Z5+1","v":"00:00:00"},{"$f":"AA5+1","v":"00:00:00"},{"$f":"AB5+1","v":"00:00:00"},{"$f":"AC5+1","v":"00:00:00"},{"$f":"AD5+1","v":"00:00:00"},{"$f":"AE5+1","v":"00:00:00"},"Cumulative Totals",{"$f":"AF5+1","v":"00:00:00"},{"$f":"AH5+1","v":"00:00:00"},{"$f":"AI5+1","v":"00:00:00"},{"$f":"AJ5+1","v":"00:00:00"},{"$f":"AK5+1","v":"00:00:00"},{"$f":"AL5+1","v":"00:00:00"},{"$f":"AM5+1","v":"00:00:00"},"Cumulative Totals",{"$f":"AN5+1","v":"00:00:00"},{"$f":"AP5+1","v":"00:00:00"},{"$f":"AQ5+1","v":"00:00:00"},{"$f":"AR5+1","v":"00:00:00"},{"$f":"AS5+1","v":"00:00:00"},{"$f":"AT5+1","v":"00:00:00"},{"$f":"AU5+1","v":"00:00:00"},"Cumulative Totals",{"$f":"AV5+1","v":"00:00:00"},{"$f":"AX5+1","v":"00:00:00"},{"$f":"AY5+1","v":"00:00:00"},{"$f":"AZ5+1","v":"00:00:00"},{"$f":"BA5+1","v":"00:00:00"},{"$f":"BB5+1","v":"00:00:00"},{"$f":"BC5+1","v":"00:00:00"},"Cumulative Totals",{"$f":"BD5+1","v":"00:00:00"},{"$f":"BF5+1","v":"00:00:00"},{"$f":"BG5+1","v":"00:00:00"},{"$f":"BH5+1","v":"00:00:00"},{"$f":"BI5+1","v":"00:00:00"},{"$f":"BJ5+1","v":"00:00:00"},{"$f":"BK5+1","v":"00:00:00"},"Cumulative Totals",{"$f":"BL5+1","v":"00:00:00"},{"$f":"BN5+1","v":"00:00:00"},{"$f":"BO5+1","v":"00:00:00"},{"$f":"BP5+1","v":"00:00:00"},{"$f":"BQ5+1","v":"00:00:00"},{"$f":"BR5+1","v":"00:00:00"},{"$f":"BS5+1","v":"00:00:00"},"Cumulative Totals",{"$f":"BT5+1","v":"00:00:00"},{"$f":"BV5+1","v":"00:00:00"},{"$f":"BW5+1","v":"00:00:00"},{"$f":"BX5+1","v":"00:00:00"},{"$f":"BY5+1","v":"00:00:00"},{"$f":"BZ5+1","v":"00:00:00"},{"$f":"CA5+1","v":"00:00:00"},"Cumulative Totals",{"$f":"CB5+1","v":"00:00:00"},{"$f":"CD5+1","v":"00:00:00"},{"$f":"CE5+1","v":"00:00:00"},{"$f":"CF5+1","v":"00:00:00"},{"$f":"CG5+1","v":"00:00:00"},{"$f":"CH5+1","v":"00:00:00"},{"$f":"CI5+1","v":"00:00:00"},"Cumulative Totals",{"$f":"CJ5+1","v":"00:00:00"},{"$f":"CL5+1","v":"00:00:00"},{"$f":"CM5+1","v":"00:00:00"},{"$f":"CN5+1","v":"00:00:00"},{"$f":"CO5+1","v":"00:00:00"},{"$f":"CP5+1","v":"00:00:00"},{"$f":"CQ5+1","v":"00:00:00"},"Cumulative Totals",{"$f":"CR5+1","v":"00:00:00"},{"$f":"CT5+1","v":"00:00:00"},{"$f":"CU5+1","v":"00:00:00"},{"$f":"CV5+1","v":"00:00:00"},{"$f":"CW5+1","v":"00:00:00"},{"$f":"CX5+1","v":"00:00:00"},{"$f":"CY5+1","v":"00:00:00"},"Cumulative Totals",{"$f":"CZ5+1","v":"00:00:00"},{"$f":"DB5+1","v":"00:00:00"},{"$f":"DC5+1","v":"00:00:00"},{"$f":"DD5+1","v":"00:00:00"},{"$f":"DE5+1","v":"00:00:00"},{"$f":"DF5+1","v":"00:00:00"},{"$f":"DG5+1","v":"00:00:00"},"Cumulative Totals",{"$f":"DH5+1","v":"00:00:00"},{"$f":"DJ5+1","v":"00:00:00"},{"$f":"DK5+1","v":"00:00:00"},{"$f":"DL5+1","v":"00:00:00"},{"$f":"DM5+1","v":"00:00:00"},{"$f":"DN5+1","v":"00:00:00"},{"$f":"DO5+1","v":"00:00:00"},"Cumulative Totals",{"$f":"DP5+1","v":"00:00:00"},{"$f":"DR5+1","v":"00:00:00"},{"$f":"DS5+1","v":"00:00:00"},{"$f":"DT5+1","v":"00:00:00"},{"$f":"DU5+1","v":"00:00:00"},{"$f":"DV5+1","v":"00:00:00"},{"$f":"DW5+1","v":"00:00:00"},"Cumulative Totals",{"$f":"DX5+1","v":"00:00:00"},{"$f":"DZ5+1","v":"00:00:00"},{"$f":"EA5+1","v":"00:00:00"},{"$f":"EB5+1","v":"00:00:00"},{"$f":"EC5+1","v":"00:00:00"},{"$f":"ED5+1","v":"00:00:00"},{"$f":"EE5+1","v":"00:00:00"},"Cumulative Totals",{"$f":"EF5+1","v":"00:00:00"},{"$f":"EH5+1","v":"00:00:00"},{"$f":"EI5+1","v":"00:00:00"},{"$f":"EJ5+1","v":"00:00:00"},{"$f":"EK5+1","v":"00:00:00"},{"$f":"EL5+1","v":"00:00:00"},{"$f":"EM5+1","v":"00:00:00"},"Cumulative Totals",{"$f":"EN5+1","v":"00:00:00"},{"$f":"EP5+1","v":"00:00:00"},{"$f":"EQ5+1","v":"00:00:00"},{"$f":"ER5+1","v":"00:00:00"},{"$f":"ES5+1","v":"00:00:00"},{"$f":"ET5+1","v":"00:00:00"},{"$f":"EU5+1","v":"00:00:00"},"Cumulative Totals",{"$f":"EV5+1","v":"00:00:00"},{"$f":"EX5+1","v":"00:00:00"},{"$f":"EY5+1","v":"00:00:00"},{"$f":"EZ5+1","v":"00:00:00"},{"$f":"FA5+1","v":"00:00:00"},{"$f":"FB5+1","v":"00:00:00"},{"$f":"FC5+1","v":"00:00:00"},"Cumulative Totals"]
[]
["Job Search Education",{"v":0,"d":"0.00"},{"$nulls":6},{"$f":"SUM(B7:H7)","v":{"v":0,"d":"0.00"}},{"$nulls":7},{"$f":"SUM(J7:P7)","v":{"v":0,"d":"0.00"}},{"$nulls":7},{"$f":"SUM(R7:X7)","v":{"v":0,"d":"0.00"}},{"$nulls":7},{"$f":"SUM(Z7:AF7)","v":{"v":0,"d":"0.00"}},{"$nulls":7},{"$f":"SUM(AH7:AN7)","v":{"v":0,"d":"0.00"}},{"$nulls":7},{"$f":"SUM(AP7:AV7)","v":{"v":0,"d":"0.00"}},{"$nulls":7},{"$f":"SUM(AX7:BD7)","v":{"v":0,"d":"0.00"}},{"$nulls":7},{"$f":"SUM(BF7:BL7)","v":{"v":0,"d":"0.00"}},{"$nulls":7},{"$f":"SUM(BN7:BT7)","v":{"v":0,"d":"0.00"}},{"$nulls":7},{"$f":"SUM(BV7:CB7)","v":{"v":0,"d":"0.00"}},{"$nulls":7},{"$f":"SUM(CD7:CJ7)","v":{"v":0,"d":"0.00"}},{"$nulls":7},{"$f":"SUM(CL7:CR7)","v":{"v":0,"d":"0.00"}},{"$nulls":7},{"$f":"SUM(CT7:CZ7)","v":{"v":0,"d":"0.00"}},{"$nulls":7},{"$f":"SUM(DB7:DH7)","v":{"v":0,"d":"0.00"}},{"$nulls":7},{"$f":"SUM(DJ7:DP7)","v":{"v":0,"d":"0.00"}},{"$nulls":7},{"$f":"SUM(DR7:DX7)","v":{"v":0,"d":"0.00"}},{"$nulls":7},{"$f":"SUM(DZ7:EF7)","v":{"v":0,"d":"0.00"}},{"$nulls":7},{"$f":"SUM(EH7:EN7)","v":{"v":0,"d":"0.00"}},{"$nulls":7},{"$f":"SUM(EP7:EV7)","v":{"v":0,"d":"0.00"}},{"$nulls":7},{"$f":"SUM(EX7:FD7)","v":{"v":0,"d":"0.00"}}]
["Research Organization/ Issue",{"v":0,"d":"0.00"},{"$nulls":6},{"$f":"SUM(B8:H8)","v":{"v":0,"d":"0.00"}},{"$nulls":7},{"$f":"SUM(J8:P8)","v":{"v":0,"d":"0.00"}},{"$nulls":7},{"$f":"SUM(R8:X8)","v":{"v":0,"d":"0.00"}},{"$nulls":7},{"$f":"SUM(Z8:AF8)","v":{"v":0,"d":"0.00"}},{"$nulls":7},{"$f":"SUM(AH8:AN8)","v":{"v":0,"d":"0.00"}},{"$nulls":7},{"$f":"SUM(AP8:AV8)","v":{"v":0,"d":"0.00"}},{"$nulls":7},{"$f":"SUM(AX8:BD8)","v":{"v":0,"d":"0.00"}},{"$nulls":7},{"$f":"SUM(BF8:BL8)","v":{"v":0,"d":"0.00"}},{"$nulls":7},{"$f":"SUM(BN8:BT8)","v":{"v":0,"d":"0.00"}},{"$nulls":7},{"$f":"SUM(BV8:CB8)","v":{"v":0,"d":"0.00"}},{"$nulls":7},{"$f":"SUM(CD8:CJ8)","v":{"v":0,"d":"0.00"}},{"$nulls":7},{"$f":"SUM(CL8:CR8)","v":{"v":0,"d":"0.00"}},{"$nulls":7},{"$f":"SUM(CT8:CZ8)","v":{"v":0,"d":"0.00"}},{"$nulls":7},{"$f":"SUM(DB8:DH8)","v":{"v":0,"d":"0.00"}},{"$nulls":7},{"$f":"SUM(DJ8:DP8)","v":{"v":0,"d":"0.00"}},{"$nulls":7},{"$f":"SUM(DR8:DX8)","v":{"v":0,"d":"0.00"}},{"$nulls":7},{"$f":"SUM(DZ8:EF8)","v":{"v":0,"d":"0.00"}},{"$nulls":7},{"$f":"SUM(EH8:EN8)","v":{"v":0,"d":"0.00"}},{"$nulls":7},{"$f":"SUM(EP8:EV8)","v":{"v":0,"d":"0.00"}},{"$nulls":7},{"$f":"SUM(EX8:FD8)","v":{"v":0,"d":"0.00"}}]
["Letters and Admin.",{"v":0,"d":"0.00"},{"$nulls":6},{"$f":"SUM(B9:H9)","v":{"v":0,"d":"0.00"}},{"$nulls":7},{"$f":"SUM(J9:P9)","v":{"v":0,"d":"0.00"}},{"$nulls":7},{"$f":"SUM(R9:X9)","v":{"v":0,"d":"0.00"}},{"$nulls":7},{"$f":"SUM(Z9:AF9)","v":{"v":0,"d":"0.00"}},{"$nulls":7},{"$f":"SUM(AH9:AN9)","v":{"v":0,"d":"0.00"}},{"$nulls":7},{"$f":"SUM(AP9:AV9)","v":{"v":0,"d":"0.00"}},{"$nulls":7},{"$f":"SUM(AX9:BD9)","v":{"v":0,"d":"0.00"}},{"$nulls":7},{"$f":"SUM(BF9:BL9)","v":{"v":0,"d":"0.00"}},{"$nulls":7},{"$f":"SUM(BN9:BT9)","v":{"v":0,"d":"0.00"}},{"$nulls":7},{"$f":"SUM(BV9:CB9)","v":{"v":0,"d":"0.00"}},{"$nulls":7},{"$f":"SUM(CD9:CJ9)","v":{"v":0,"d":"0.00"}},{"$nulls":7},{"$f":"SUM(CL9:CR9)","v":{"v":0,"d":"0.00"}},{"$nulls":7},{"$f":"SUM(CT9:CZ9)","v":{"v":0,"d":"0.00"}},{"$nulls":7},{"$f":"SUM(DB9:DH9)","v":{"v":0,"d":"0.00"}},{"$nulls":7},{"$f":"SUM(DJ9:DP9)","v":{"v":0,"d":"0.00"}},{"$nulls":7},{"$f":"SUM(DR9:DX9)","v":{"v":0,"d":"0.00"}},{"$nulls":7},{"$f":"SUM(DZ9:EF9)","v":{"v":0,"d":"0.00"}},{"$nulls":7},{"$f":"SUM(EH9:EN9)","v":{"v":0,"d":"0.00"}},{"$nulls":7},{"$f":"SUM(EP9:EV9)","v":{"v":0,"d":"0.00"}},{"$nulls":7},{"$f":"SUM(EX9:FD9)","v":{"v":0,"d":"0.00"}}]
["Networking: Phone*",{"v":0,"d":"0.00"},{"$nulls":6},{"$f":"SUM(B10:H10)","v":{"v":0,"d":"0.00"}},{"$nulls":7},{"$f":"SUM(J10:P10)","v":{"v":0,"d":"0.00"}},{"$nulls":7},{"$f":"SUM(R10:X10)","v":{"v":0,"d":"0.00"}},{"$nulls":7},{"$f":"SUM(Z10:AF10)","v":{"v":0,"d":"0.00"}},{"$nulls":7},{"$f":"SUM(AH10:AN10)","v":{"v":0,"d":"0.00"}},{"$nulls":7},{"$f":"SUM(AP10:AV10)","v":{"v":0,"d":"0.00"}},{"$nulls":7},{"$f":"SUM(AX10:BD10)","v":{"v":0,"d":"0.00"}},{"$nulls":7},{"$f":"SUM(BF10:BL10)","v":{"v":0,"d":"0.00"}},{"$nulls":7},{"$f":"SUM(BN10:BT10)","v":{"v":0,"d":"0.00"}},{"$nulls":7},{"$f":"SUM(BV10:CB10)","v":{"v":0,"d":"0.00"}},{"$nulls":7},{"$f":"SUM(CD10:CJ10)","v":{"v":0,"d":"0.00"}},{"$nulls":7},{"$f":"SUM(CL10:CR10)","v":{"v":0,"d":"0.00"}},{"$nulls":7},{"$f":"SUM(CT10:CZ10)","v":{"v":0,"d":"0.00"}},{"$nulls":7},{"$f":"SUM(DB10:DH10)","v":{"v":0,"d":"0.00"}},{"$nulls":7},{"$f":"SUM(DJ10:DP10)","v":{"v":0,"d":"0.00"}},{"$nulls":7},{"$f":"SUM(DR10:DX10)","v":{"v":0,"d":"0.00"}},{"$nulls":7},{"$f":"SUM(DZ10:EF10)","v":{"v":0,"d":"0.00"}},{"$nulls":7},{"$f":"SUM(EH10:EN10)","v":{"v":0,"d":"0.00"}},{"$nulls":7},{"$f":"SUM(EP10:EV10)","v":{"v":0,"d":"0.00"}},{"$nulls":7},{"$f":"SUM(EX10:FD10)","v":{"v":0,"d":"0.00"}}]
["Networking: In person*",{"v":0,"d":"0.00"},{"$nulls":6},{"$f":"SUM(B11:H11)","v":{"v":0,"d":"0.00"}},{"$nulls":7},{"$f":"SUM(J11:P11)","v":{"v":0,"d":"0.00"}},{"$nulls":7},{"$f":"SUM(R11:X11)","v":{"v":0,"d":"0.00"}},{"$nulls":7},{"$f":"SUM(Z11:AF11)","v":{"v":0,"d":"0.00"}},{"$nulls":7},{"$f":"SUM(AH11:AN11)","v":{"v":0,"d":"0.00"}},{"$nulls":7},{"$f":"SUM(AP11:AV11)","v":{"v":0,"d":"0.00"}},{"$nulls":7},{"$f":"SUM(AX11:BD11)","v":{"v":0,"d":"0.00"}},{"$nulls":7},{"$f":"SUM(BF11:BL11)","v":{"v":0,"d":"0.00"}},{"$nulls":7},{"$f":"SUM(BN11:BT11)","v":{"v":0,"d":"0.00"}},{"$nulls":7},{"$f":"SUM(BV11:CB11)","v":{"v":0,"d":"0.00"}},{"$nulls":7},{"$f":"SUM(CD11:CJ11)","v":{"v":0,"d":"0.00"}},{"$nulls":7},{"$f":"SUM(CL11:CR11)","v":{"v":0,"d":"0.00"}},{"$nulls":7},{"$f":"SUM(CT11:CZ11)","v":{"v":0,"d":"0.00"}},{"$nulls":7},{"$f":"SUM(DB11:DH11)","v":{"v":0,"d":"0.00"}},{"$nulls":7},{"$f":"SUM(DJ11:DP11)","v":{"v":0,"d":"0.00"}},{"$nulls":7},{"$f":"SUM(DR11:DX11)","v":{"v":0,"d":"0.00"}},{"$nulls":7},{"$f":"SUM(DZ11:EF11)","v":{"v":0,"d":"0.00"}},{"$nulls":7},{"$f":"SUM(EH11:EN11)","v":{"v":0,"d":"0.00"}},{"$nulls":7},{"$f":"SUM(EP11:EV11)","v":{"v":0,"d":"0.00"}},{"$nulls":7},{"$f":"SUM(EX11:FD11)","v":{"v":0,"d":"0.00"}}]
["Total Hours",{"$f":"SUM(B7:B11)","v":0},{"$f":"SUM(C7:C11)","v":0},{"$f":"SUM(D7:D11)","v":0},{"$f":"SUM(E7:E11)","v":0},{"$f":"SUM(F7:F11)","v":0},{"$f":"SUM(G7:G11)","v":0},{"$f":"SUM(H7:H11)","v":0},{"$f":"SUM(I7:I11)","v":0},{"$f":"SUM(J7:J11)","v":0},{"$f":"SUM(K7:K11)","v":0},{"$f":"SUM(L7:L11)","v":0},{"$f":"SUM(M7:M11)","v":0},{"$f":"SUM(N7:N11)","v":0},{"$f":"SUM(O7:O11)","v":0},{"$f":"SUM(P7:P11)","v":0},{"$f":"SUM(Q7:Q11)","v":0},{"$f":"SUM(R7:R11)","v":0},{"$f":"SUM(S7:S11)","v":0},{"$f":"SUM(T7:T11)","v":0},{"$f":"SUM(U7:U11)","v":0},{"$f":"SUM(V7:V11)","v":0},{"$f":"SUM(W7:W11)","v":0},{"$f":"SUM(X7:X11)","v":0},{"$f":"SUM(Y7:Y11)","v":0},{"$f":"SUM(Z7:Z11)","v":0},{"$f":"SUM(AA7:AA11)","v":0},{"$f":"SUM(AB7:AB11)","v":0},{"$f":"SUM(AC7:AC11)","v":0},{"$f":"SUM(AD7:AD11)","v":0},{"$f":"SUM(AE7:AE11)","v":0},{"$f":"SUM(AF7:AF11)","v":0},{"$f":"SUM(AG7:AG11)","v":0},{"$f":"SUM(AH7:AH11)","v":0},{"$f":"SUM(AI7:AI11)","v":0},{"$f":"SUM(AJ7:AJ11)","v":0},{"$f":"SUM(AK7:AK11)","v":0},{"$f":"SUM(AL7:AL11)","v":0},{"$f":"SUM(AM7:AM11)","v":0},{"$f":"SUM(AN7:AN11)","v":0},{"$f":"SUM(AO7:AO11)","v":0},{"$f":"SUM(AP7:AP11)","v":0},{"$f":"SUM(AQ7:AQ11)","v":0},{"$f":"SUM(AR7:AR11)","v":0},{"$f":"SUM(AS7:AS11)","v":0},{"$f":"SUM(AT7:AT11)","v":0},{"$f":"SUM(AU7:AU11)","v":0},{"$f":"SUM(AV7:AV11)","v":0},{"$f":"SUM(AW7:AW11)","v":0},{"$f":"SUM(AX7:AX11)","v":0},{"$f":"SUM(AY7:AY11)","v":0},{"$f":"SUM(AZ7:AZ11)","v":0},{"$f":"SUM(BA7:BA11)","v":0},{"$f":"SUM(BB7:BB11)","v":0},{"$f":"SUM(BC7:BC11)","v":0},{"$f":"SUM(BD7:BD11)","v":0},{"$f":"SUM(BE7:BE11)","v":0},{"$f":"SUM(BF7:BF11)","v":0},{"$f":"SUM(BG7:BG11)","v":0},{"$f":"SUM(BH7:BH11)","v":0},{"$f":"SUM(BI7:BI11)","v":0},{"$f":"SUM(BJ7:BJ11)","v":0},{"$f":"SUM(BK7:BK11)","v":0},{"$f":"SUM(BL7:BL11)","v":0},{"$f":"SUM(BM7:BM11)","v":0},{"$f":"SUM(BN7:BN11)","v":0},{"$f":"SUM(BO7:BO11)","v":0},{"$f":"SUM(BP7:BP11)","v":0},{"$f":"SUM(BQ7:BQ11)","v":0},{"$f":"SUM(BR7:BR11)","v":0},{"$f":"SUM(BS7:BS11)","v":0},{"$f":"SUM(BT7:BT11)","v":0},{"$f":"SUM(BU7:BU11)","v":0},{"$f":"SUM(BV7:BV11)","v":0},{"$f":"SUM(BW7:BW11)","v":0},{"$f":"SUM(BX7:BX11)","v":0},{"$f":"SUM(BY7:BY11)","v":0},{"$f":"SUM(BZ7:BZ11)","v":0},{"$f":"SUM(CA7:CA11)","v":0},{"$f":"SUM(CB7:CB11)","v":0},{"$f":"SUM(CC7:CC11)","v":0},{"$f":"SUM(CD7:CD11)","v":0},{"$f":"SUM(CE7:CE11)","v":0},{"$f":"SUM(CF7:CF11)","v":0},{"$f":"SUM(CG7:CG11)","v":0},{"$f":"SUM(CH7:CH11)","v":0},{"$f":"SUM(CI7:CI11)","v":0},{"$f":"SUM(CJ7:CJ11)","v":0},{"$f":"SUM(CK7:CK11)","v":0},{"$f":"SUM(CL7:CL11)","v":0},{"$f":"SUM(CM7:CM11)","v":0},{"$f":"SUM(CN7:CN11)","v":0},{"$f":"SUM(CO7:CO11)","v":0},{"$f":"SUM(CP7:CP11)","v":0},{"$f":"SUM(CQ7:CQ11)","v":0},{"$f":"SUM(CR7:CR11)","v":0},{"$f":"SUM(CS7:CS11)","v":0},{"$f":"SUM(CT7:CT11)","v":0},{"$f":"SUM(CU7:CU11)","v":0},{"$f":"SUM(CV7:CV11)","v":0},{"$f":"SUM(CW7:CW11)","v":0},{"$f":"SUM(CX7:CX11)","v":0},{"$f":"SUM(CY7:CY11)","v":0},{"$f":"SUM(CZ7:CZ11)","v":0},{"$f":"SUM(DA7:DA11)","v":0},{"$f":"SUM(DB7:DB11)","v":0},{"$f":"SUM(DC7:DC11)","v":0},{"$f":"SUM(DD7:DD11)","v":0},{"$f":"SUM(DE7:DE11)","v":0},{"$f":"SUM(DF7:DF11)","v":0},{"$f":"SUM(DG7:DG11)","v":0},{"$f":"SUM(DH7:DH11)","v":0},{"$f":"SUM(DI7:DI11)","v":0},{"$f":"SUM(DJ7:DJ11)","v":0},{"$f":"SUM(DK7:DK11)","v":0},{"$f":"SUM(DL7:DL11)","v":0},{"$f":"SUM(DM7:DM11)","v":0},{"$f":"SUM(DN7:DN11)","v":0},{"$f":"SUM(DO7:DO11)","v":0},{"$f":"SUM(DP7:DP11)","v":0},{"$f":"SUM(DQ7:DQ11)","v":0},{"$f":"SUM(DR7:DR11)","v":0},{"$f":"SUM(DS7:DS11)","v":0},{"$f":"SUM(DT7:DT11)","v":0},{"$f":"SUM(DU7:DU11)","v":0},{"$f":"SUM(DV7:DV11)","v":0},{"$f":"SUM(DW7:DW11)","v":0},{"$f":"SUM(DX7:DX11)","v":0},{"$f":"SUM(DY7:DY11)","v":0},{"$f":"SUM(DZ7:DZ11)","v":0},{"$f":"SUM(EA7:EA11)","v":0},{"$f":"SUM(EB7:EB11)","v":0},{"$f":"SUM(EC7:EC11)","v":0},{"$f":"SUM(ED7:ED11)","v":0},{"$f":"SUM(EE7:EE11)","v":0},{"$f":"SUM(EF7:EF11)","v":0},{"$f":"SUM(EG7:EG11)","v":0},{"$f":"SUM(EH7:EH11)","v":0},{"$f":"SUM(EI7:EI11)","v":0},{"$f":"SUM(EJ7:EJ11)","v":0},{"$f":"SUM(EK7:EK11)","v":0},{"$f":"SUM(EL7:EL11)","v":0},{"$f":"SUM(EM7:EM11)","v":0},{"$f":"SUM(EN7:EN11)","v":0},{"$f":"SUM(EO7:EO11)","v":0},{"$f":"SUM(EP7:EP11)","v":0},{"$f":"SUM(EQ7:EQ11)","v":0},{"$f":"SUM(ER7:ER11)","v":0},{"$f":"SUM(ES7:ES11)","v":0},{"$f":"SUM(ET7:ET11)","v":0},{"$f":"SUM(EU7:EU11)","v":0},{"$f":"SUM(EV7:EV11)","v":0},{"$f":"SUM(EW7:EW11)","v":0},{"$f":"SUM(EX7:EX11)","v":0},{"$f":"SUM(EY7:EY11)","v":0},{"$f":"SUM(EZ7:EZ11)","v":0},{"$f":"SUM(FA7:FA11)","v":0},{"$f":"SUM(FB7:FB11)","v":0},{"$f":"SUM(FC7:FC11)","v":0},{"$f":"SUM(FD7:FD11)","v":0},{"$f":"SUM(FE7:FE11)","v":0}]
["Direct Mail / e-mail",0,{"$nulls":6},{"$f":"SUM(B13:H13)","v":0},{"$nulls":7},{"$f":"SUM(J13:P13)","v":0},{"$nulls":7},{"$f":"SUM(R13:X13)","v":0},{"$nulls":7},{"$f":"SUM(Z13:AF13)","v":0},{"$nulls":7},{"$f":"SUM(AH13:AN13)","v":0},{"$nulls":7},{"$f":"SUM(AP13:AV13)","v":0},{"$nulls":7},{"$f":"SUM(AX13:BD13)","v":0},{"$nulls":7},{"$f":"SUM(BF13:BL13)","v":0},{"$nulls":7},{"$f":"SUM(BN13:BT13)","v":0},{"$nulls":7},{"$f":"SUM(BV13:CB13)","v":0},{"$nulls":7},{"$f":"SUM(CD13:CJ13)","v":0},{"$nulls":7},{"$f":"SUM(CL13:CR13)","v":0},{"$nulls":7},{"$f":"SUM(CT13:CZ13)","v":0},{"$nulls":7},{"$f":"SUM(DB13:DH13)","v":0},{"$nulls":7},{"$f":"SUM(DJ13:DP13)","v":0},{"$nulls":7},{"$f":"SUM(DR13:DX13)","v":0},{"$nulls":7},{"$f":"SUM(DZ13:EF13)","v":0},{"$nulls":7},{"$f":"SUM(EH13:EN13)","v":0},{"$nulls":7},{"$f":"SUM(EP13:EV13)","v":0},{"$nulls":7},{"$f":"SUM(EX13:FD13)","v":0}]
["Job Postings",0,{"$nulls":6},{"$f":"SUM(B14:H14)","v":0},{"$nulls":7},{"$f":"SUM(J14:P14)","v":0},{"$nulls":7},{"$f":"SUM(R14:X14)","v":0},{"$nulls":7},{"$f":"SUM(Z14:AF14)","v":0},{"$nulls":7},{"$f":"SUM(AH14:AN14)","v":0},{"$nulls":7},{"$f":"SUM(AP14:AV14)","v":0},{"$nulls":7},{"$f":"SUM(AX14:BD14)","v":0},{"$nulls":7},{"$f":"SUM(BF14:BL14)","v":0},{"$nulls":7},{"$f":"SUM(BN14:BT14)","v":0},{"$nulls":7},{"$f":"SUM(BV14:CB14)","v":0},{"$nulls":7},{"$f":"SUM(CD14:CJ14)","v":0},{"$nulls":7},{"$f":"SUM(CL14:CR14)","v":0},{"$nulls":7},{"$f":"SUM(CT14:CZ14)","v":0},{"$nulls":7},{"$f":"SUM(DB14:DH14)","v":0},{"$nulls":7},{"$f":"SUM(DJ14:DP14)","v":0},{"$nulls":7},{"$f":"SUM(DR14:DX14)","v":0},{"$nulls":7},{"$f":"SUM(DZ14:EF14)","v":0},{"$nulls":7},{"$f":"SUM(EH14:EN14)","v":0},{"$nulls":7},{"$f":"SUM(EP14:EV14)","v":0},{"$nulls":7},{"$f":"SUM(EX14:FD14)","v":0}]
["Search Firms",0,{"$nulls":6},{"$f":"SUM(B15:H15)","v":0},{"$nulls":7},{"$f":"SUM(J15:P15)","v":0},{"$nulls":7},{"$f":"SUM(R15:X15)","v":0},{"$nulls":7},{"$f":"SUM(Z15:AF15)","v":0},{"$nulls":7},{"$f":"SUM(AH15:AN15)","v":0},{"$nulls":7},{"$f":"SUM(AP15:AV15)","v":0},{"$nulls":7},{"$f":"SUM(AX15:BD15)","v":0},{"$nulls":7},{"$f":"SUM(BF15:BL15)","v":0},{"$nulls":7},{"$f":"SUM(BN15:BT15)","v":0},{"$nulls":7},{"$f":"SUM(BV15:CB15)","v":0},{"$nulls":7},{"$f":"SUM(CD15:CJ15)","v":0},{"$nulls":7},{"$f":"SUM(CL15:CR15)","v":0},{"$nulls":7},{"$f":"SUM(CT15:CZ15)","v":0},{"$nulls":7},{"$f":"SUM(DB15:DH15)","v":0},{"$nulls":7},{"$f":"SUM(DJ15:DP15)","v":0},{"$nulls":7},{"$f":"SUM(DR15:DX15)","v":0},{"$nulls":7},{"$f":"SUM(DZ15:EF15)","v":0},{"$nulls":7},{"$f":"SUM(EH15:EN15)","v":0},{"$nulls":7},{"$f":"SUM(EP15:EV15)","v":0},{"$nulls":7},{"$f":"SUM(EX15:FD15)","v":0}]
["Other Letters",0,{"$nulls":6},{"$f":"SUM(B16:H16)","v":0},{"$nulls":7},{"$f":"SUM(J16:P16)","v":0},{"$nulls":7},{"$f":"SUM(R16:X16)","v":0},{"$nulls":7},{"$f":"SUM(Z16:AF16)","v":0},{"$nulls":7},{"$f":"SUM(AH16:AN16)","v":0},{"$nulls":7},{"$f":"SUM(AP16:AV16)","v":0},{"$nulls":7},{"$f":"SUM(AX16:BD16)","v":0},{"$nulls":7},{"$f":"SUM(BF16:BL16)","v":0},{"$nulls":7},{"$f":"SUM(BN16:BT16)","v":0},{"$nulls":7},{"$f":"SUM(BV16:CB16)","v":0},{"$nulls":7},{"$f":"SUM(CD16:CJ16)","v":0},{"$nulls":7},{"$f":"SUM(CL16:CR16)","v":0},{"$nulls":7},{"$f":"SUM(CT16:CZ16)","v":0},{"$nulls":7},{"$f":"SUM(DB16:DH16)","v":0},{"$nulls":7},{"$f":"SUM(DJ16:DP16)","v":0},{"$nulls":7},{"$f":"SUM(DR16:DX16)","v":0},{"$nulls":7},{"$f":"SUM(DZ16:EF16)","v":0},{"$nulls":7},{"$f":"SUM(EH16:EN16)","v":0},{"$nulls":7},{"$f":"SUM(EP16:EV16)","v":0},{"$nulls":7},{"$f":"SUM(EX16:FD16)","v":0}]
["Total Letters",{"$f":"SUM(B13:B16)","v":0},{"$f":"SUM(C13:C16)","v":0},{"$f":"SUM(D13:D16)","v":0},{"$f":"SUM(E13:E16)","v":0},{"$f":"SUM(F13:F16)","v":0},{"$f":"SUM(G13:G16)","v":0},{"$f":"SUM(H13:H16)","v":0},{"$f":"SUM(I13:I16)","v":0},{"$f":"SUM(J13:J16)","v":0},{"$f":"SUM(K13:K16)","v":0},{"$f":"SUM(L13:L16)","v":0},{"$f":"SUM(M13:M16)","v":0},{"$f":"SUM(N13:N16)","v":0},{"$f":"SUM(O13:O16)","v":0},{"$f":"SUM(P13:P16)","v":0},{"$f":"SUM(Q13:Q16)","v":0},{"$f":"SUM(R13:R16)","v":0},{"$f":"SUM(S13:S16)","v":0},{"$f":"SUM(T13:T16)","v":0},{"$f":"SUM(U13:U16)","v":0},{"$f":"SUM(V13:V16)","v":0},{"$f":"SUM(W13:W16)","v":0},{"$f":"SUM(X13:X16)","v":0},{"$f":"SUM(Y13:Y16)","v":0},{"$f":"SUM(Z13:Z16)","v":0},{"$f":"SUM(AA13:AA16)","v":0},{"$f":"SUM(AB13:AB16)","v":0},{"$f":"SUM(AC13:AC16)","v":0},{"$f":"SUM(AD13:AD16)","v":0},{"$f":"SUM(AE13:AE16)","v":0},{"$f":"SUM(AF13:AF16)","v":0},{"$f":"SUM(AG13:AG16)","v":0},{"$f":"SUM(AH13:AH16)","v":0},{"$f":"SUM(AI13:AI16)","v":0},{"$f":"SUM(AJ13:AJ16)","v":0},{"$f":"SUM(AK13:AK16)","v":0},{"$f":"SUM(AL13:AL16)","v":0},{"$f":"SUM(AM13:AM16)","v":0},{"$f":"SUM(AN13:AN16)","v":0},{"$f":"SUM(AO13:AO16)","v":0},{"$f":"SUM(AP13:AP16)","v":0},{"$f":"SUM(AQ13:AQ16)","v":0},{"$f":"SUM(AR13:AR16)","v":0},{"$f":"SUM(AS13:AS16)","v":0},{"$f":"SUM(AT13:AT16)","v":0},{"$f":"SUM(AU13:AU16)","v":0},{"$f":"SUM(AV13:AV16)","v":0},{"$f":"SUM(AW13:AW16)","v":0},{"$f":"SUM(AX13:AX16)","v":0},{"$f":"SUM(AY13:AY16)","v":0},{"$f":"SUM(AZ13:AZ16)","v":0},{"$f":"SUM(BA13:BA16)","v":0},{"$f":"SUM(BB13:BB16)","v":0},{"$f":"SUM(BC13:BC16)","v":0},{"$f":"SUM(BD13:BD16)","v":0},{"$f":"SUM(BE13:BE16)","v":0},{"$f":"SUM(BF13:BF16)","v":0},{"$f":"SUM(BG13:BG16)","v":0},{"$f":"SUM(BH13:BH16)","v":0},{"$f":"SUM(BI13:BI16)","v":0},{"$f":"SUM(BJ13:BJ16)","v":0},{"$f":"SUM(BK13:BK16)","v":0},{"$f":"SUM(BL13:BL16)","v":0},{"$f":"SUM(BM13:BM16)","v":0},{"$f":"SUM(BN13:BN16)","v":0},{"$f":"SUM(BO13:BO16)","v":0},{"$f":"SUM(BP13:BP16)","v":0},{"$f":"SUM(BQ13:BQ16)","v":0},{"$f":"SUM(BR13:BR16)","v":0},{"$f":"SUM(BS13:BS16)","v":0},{"$f":"SUM(BT13:BT16)","v":0},{"$f":"SUM(BU13:BU16)","v":0},{"$f":"SUM(BV13:BV16)","v":0},{"$f":"SUM(BW13:BW16)","v":0},{"$f":"SUM(BX13:BX16)","v":0},{"$f":"SUM(BY13:BY16)","v":0},{"$f":"SUM(BZ13:BZ16)","v":0},{"$f":"SUM(CA13:CA16)","v":0},{"$f":"SUM(CB13:CB16)","v":0},{"$f":"SUM(CC13:CC16)","v":0},{"$f":"SUM(CD13:CD16)","v":0},{"$f":"SUM(CE13:CE16)","v":0},{"$f":"SUM(CF13:CF16)","v":0},{"$f":"SUM(CG13:CG16)","v":0},{"$f":"SUM(CH13:CH16)","v":0},{"$f":"SUM(CI13:CI16)","v":0},{"$f":"SUM(CJ13:CJ16)","v":0},{"$f":"SUM(CK13:CK16)","v":0},{"$f":"SUM(CL13:CL16)","v":0},{"$f":"SUM(CM13:CM16)","v":0},{"$f":"SUM(CN13:CN16)","v":0},{"$f":"SUM(CO13:CO16)","v":0},{"$f":"SUM(CP13:CP16)","v":0},{"$f":"SUM(CQ13:CQ16)","v":0},{"$f":"SUM(CR13:CR16)","v":0},{"$f":"SUM(CS13:CS16)","v":0},{"$f":"SUM(CT13:CT16)","v":0},{"$f":"SUM(CU13:CU16)","v":0},{"$f":"SUM(CV13:CV16)","v":0},{"$f":"SUM(CW13:CW16)","v":0},{"$f":"SUM(CX13:CX16)","v":0},{"$f":"SUM(CY13:CY16)","v":0},{"$f":"SUM(CZ13:CZ16)","v":0},{"$f":"SUM(DA13:DA16)","v":0},{"$f":"SUM(DB13:DB16)","v":0},{"$f":"SUM(DC13:DC16)","v":0},{"$f":"SUM(DD13:DD16)","v":0},{"$f":"SUM(DE13:DE16)","v":0},{"$f":"SUM(DF13:DF16)","v":0},{"$f":"SUM(DG13:DG16)","v":0},{"$f":"SUM(DH13:DH16)","v":0},{"$f":"SUM(DI13:DI16)","v":0},{"$f":"SUM(DJ13:DJ16)","v":0},{"$f":"SUM(DK13:DK16)","v":0},{"$f":"SUM(DL13:DL16)","v":0},{"$f":"SUM(DM13:DM16)","v":0},{"$f":"SUM(DN13:DN16)","v":0},{"$f":"SUM(DO13:DO16)","v":0},{"$f":"SUM(DP13:DP16)","v":0},{"$f":"SUM(DQ13:DQ16)","v":0},{"$f":"SUM(DR13:DR16)","v":0},{"$f":"SUM(DS13:DS16)","v":0},{"$f":"SUM(DT13:DT16)","v":0},{"$f":"SUM(DU13:DU16)","v":0},{"$f":"SUM(DV13:DV16)","v":0},{"$f":"SUM(DW13:DW16)","v":0},{"$f":"SUM(DX13:DX16)","v":0},{"$f":"SUM(DY13:DY16)","v":0},{"$f":"SUM(DZ13:DZ16)","v":0},{"$f":"SUM(EA13:EA16)","v":0},{"$f":"SUM(EB13:EB16)","v":0},{"$f":"SUM(EC13:EC16)","v":0},{"$f":"SUM(ED13:ED16)","v":0},{"$f":"SUM(EE13:EE16)","v":0},{"$f":"SUM(EF13:EF16)","v":0},{"$f":"SUM(EG13:EG16)","v":0},{"$f":"SUM(EH13:EH16)","v":0},{"$f":"SUM(EI13:EI16)","v":0},{"$f":"SUM(EJ13:EJ16)","v":0},{"$f":"SUM(EK13:EK16)","v":0},{"$f":"SUM(EL13:EL16)","v":0},{"$f":"SUM(EM13:EM16)","v":0},{"$f":"SUM(EN13:EN16)","v":0},{"$f":"SUM(EO13:EO16)","v":0},{"$f":"SUM(EP13:EP16)","v":0},{"$f":"SUM(EQ13:EQ16)","v":0},{"$f":"SUM(ER13:ER16)","v":0},{"$f":"SUM(ES13:ES16)","v":0},{"$f":"SUM(ET13:ET16)","v":0},{"$f":"SUM(EU13:EU16)","v":0},{"$f":"SUM(EV13:EV16)","v":0},{"$f":"SUM(EW13:EW16)","v":0},{"$f":"SUM(EX13:EX16)","v":0},{"$f":"SUM(EY13:EY16)","v":0},{"$f":"SUM(EZ13:EZ16)","v":0},{"$f":"SUM(FA13:FA16)","v":0},{"$f":"SUM(FB13:FB16)","v":0},{"$f":"SUM(FC13:FC16)","v":0},{"$f":"SUM(FD13:FD16)","v":0},{"$f":"SUM(FE13:FE16)","v":0}]
["General Network, incl. Search Fims",0,{"$nulls":6},{"$f":"SUM(B18:H18)","v":0},{"$nulls":7},{"$f":"SUM(J18:P18)","v":0},{"$nulls":7},{"$f":"SUM(R18:X18)","v":0},{"$nulls":7},{"$f":"SUM(Z18:AF18)","v":0},{"$nulls":7},{"$f":"SUM(AH18:AN18)","v":0},{"$nulls":7},{"$f":"SUM(AP18:AV18)","v":0},{"$nulls":7},{"$f":"SUM(AX18:BD18)","v":0},{"$nulls":7},{"$f":"SUM(BF18:BL18)","v":0},{"$nulls":7},{"$f":"SUM(BN18:BT18)","v":0},{"$nulls":7},{"$f":"SUM(BV18:CB18)","v":0},{"$nulls":7},{"$f":"SUM(CD18:CJ18)","v":0},{"$nulls":7},{"$f":"SUM(CL18:CR18)","v":0},{"$nulls":7},{"$f":"SUM(CT18:CZ18)","v":0},{"$nulls":7},{"$f":"SUM(DB18:DH18)","v":0},{"$nulls":7},{"$f":"SUM(DJ18:DP18)","v":0},{"$nulls":7},{"$f":"SUM(DR18:DX18)","v":0},{"$nulls":7},{"$f":"SUM(DZ18:EF18)","v":0},{"$nulls":7},{"$f":"SUM(EH18:EN18)","v":0},{"$nulls":7},{"$f":"SUM(EP18:EV18)","v":0},{"$nulls":7},{"$f":"SUM(EX18:FD18)","v":0}]
["Misc. Contact",0,{"$nulls":6},{"$f":"SUM(B19:H19)","v":0},{"$nulls":7},{"$f":"SUM(J19:P19)","v":0},{"$nulls":7},{"$f":"SUM(R19:X19)","v":0},{"$nulls":7},{"$f":"SUM(Z19:AF19)","v":0},{"$nulls":7},{"$f":"SUM(AH19:AN19)","v":0},{"$nulls":7},{"$f":"SUM(AP19:AV19)","v":0},{"$nulls":7},{"$f":"SUM(AX19:BD19)","v":0},{"$nulls":7},{"$f":"SUM(BF19:BL19)","v":0},{"$nulls":7},{"$f":"SUM(BN19:BT19)","v":0},{"$nulls":7},{"$f":"SUM(BV19:CB19)","v":0},{"$nulls":7},{"$f":"SUM(CD19:CJ19)","v":0},{"$nulls":7},{"$f":"SUM(CL19:CR19)","v":0},{"$nulls":7},{"$f":"SUM(CT19:CZ19)","v":0},{"$nulls":7},{"$f":"SUM(DB19:DH19)","v":0},{"$nulls":7},{"$f":"SUM(DJ19:DP19)","v":0},{"$nulls":7},{"$f":"SUM(DR19:DX19)","v":0},{"$nulls":7},{"$f":"SUM(DZ19:EF19)","v":0},{"$nulls":7},{"$f":"SUM(EH19:EN19)","v":0},{"$nulls":7},{"$f":"SUM(EP19:EV19)","v":0},{"$nulls":7},{"$f":"SUM(EX19:FD19)","v":0}]
[" Peer Contact",0,{"$nulls":6},{"$f":"SUM(B20:H20)","v":0},{"$nulls":7},{"$f":"SUM(J20:P20)","v":0},{"$nulls":7},{"$f":"SUM(R20:X20)","v":0},{"$nulls":7},{"$f":"SUM(Z20:AF20)","v":0},{"$nulls":7},{"$f":"SUM(AH20:AN20)","v":0},{"$nulls":7},{"$f":"SUM(AP20:AV20)","v":0},{"$nulls":7},{"$f":"SUM(AX20:BD20)","v":0},{"$nulls":7},{"$f":"SUM(BF20:BL20)","v":0},{"$nulls":7},{"$f":"SUM(BN20:BT20)","v":0},{"$nulls":7},{"$f":"SUM(BV20:CB20)","v":0},{"$nulls":7},{"$f":"SUM(CD20:CJ20)","v":0},{"$nulls":7},{"$f":"SUM(CL20:CR20)","v":0},{"$nulls":7},{"$f":"SUM(CT20:CZ20)","v":0},{"$nulls":7},{"$f":"SUM(DB20:DH20)","v":0},{"$nulls":7},{"$f":"SUM(DJ20:DP20)","v":0},{"$nulls":7},{"$f":"SUM(DR20:DX20)","v":0},{"$nulls":7},{"$f":"SUM(DZ20:EF20)","v":0},{"$nulls":7},{"$f":"SUM(EH20:EN20)","v":0},{"$nulls":7},{"$f":"SUM(EP20:EV20)","v":0},{"$nulls":7},{"$f":"SUM(EX20:FD20)","v":0}]
[" Hiring Manager",0,{"$nulls":6},{"$f":"SUM(B21:H21)","v":0},{"$nulls":7},{"$f":"SUM(J21:P21)","v":0},{"$nulls":7},{"$f":"SUM(R21:X21)","v":0},{"$nulls":7},{"$f":"SUM(Z21:AF21)","v":0},{"$nulls":7},{"$f":"SUM(AH21:AN21)","v":0},{"$nulls":7},{"$f":"SUM(AP21:AV21)","v":0},{"$nulls":7},{"$f":"SUM(AX21:BD21)","v":0},{"$nulls":7},{"$f":"SUM(BF21:BL21)","v":0},{"$nulls":7},{"$f":"SUM(BN21:BT21)","v":0},{"$nulls":7},{"$f":"SUM(BV21:CB21)","v":0},{"$nulls":7},{"$f":"SUM(CD21:CJ21)","v":0},{"$nulls":7},{"$f":"SUM(CL21:CR21)","v":0},{"$nulls":7},{"$f":"SUM(CT21:CZ21)","v":0},{"$nulls":7},{"$f":"SUM(DB21:DH21)","v":0},{"$nulls":7},{"$f":"SUM(DJ21:DP21)","v":0},{"$nulls":7},{"$f":"SUM(DR21:DX21)","v":0},{"$nulls":7},{"$f":"SUM(DZ21:EF21)","v":0},{"$nulls":7},{"$f":"SUM(EH21:EN21)","v":0},{"$nulls":7},{"$f":"SUM(EP21:EV21)","v":0},{"$nulls":7},{"$f":"SUM(EX21:FD21)","v":0}]
[" Above Hiring Manager",0,{"$nulls":6},{"$f":"SUM(B22:H22)","v":0},{"$nulls":7},{"$f":"SUM(J22:P22)","v":0},{"$nulls":7},{"$f":"SUM(R22:X22)","v":0},{"$nulls":7},{"$f":"SUM(Z22:AF22)","v":0},{"$nulls":7},{"$f":"SUM(AH22:AN22)","v":0},{"$nulls":7},{"$f":"SUM(AP22:AV22)","v":0},{"$nulls":7},{"$f":"SUM(AX22:BD22)","v":0},{"$nulls":7},{"$f":"SUM(BF22:BL22)","v":0},{"$nulls":7},{"$f":"SUM(BN22:BT22)","v":0},{"$nulls":7},{"$f":"SUM(BV22:CB22)","v":0},{"$nulls":7},{"$f":"SUM(CD22:CJ22)","v":0},{"$nulls":7},{"$f":"SUM(CL22:CR22)","v":0},{"$nulls":7},{"$f":"SUM(CT22:CZ22)","v":0},{"$nulls":7},{"$f":"SUM(DB22:DH22)","v":0},{"$nulls":7},{"$f":"SUM(DJ22:DP22)","v":0},{"$nulls":7},{"$f":"SUM(DR22:DX22)","v":0},{"$nulls":7},{"$f":"SUM(DZ22:EF22)","v":0},{"$nulls":7},{"$f":"SUM(EH22:EN22)","v":0},{"$nulls":7},{"$f":"SUM(EP22:EV22)","v":0},{"$nulls":7},{"$f":"SUM(EX22:FD22)","v":0}]
["Follow-ups with Hiring Manager/Above",0,{"$nulls":6},{"$f":"SUM(B23:H23)","v":0},{"$nulls":7},{"$f":"SUM(J23:P23)","v":0},{"$nulls":7},{"$f":"SUM(R23:X23)","v":0},{"$nulls":7},{"$f":"SUM(Z23:AF23)","v":0},{"$nulls":7},{"$f":"SUM(AH23:AN23)","v":0},{"$nulls":7},{"$f":"SUM(AP23:AV23)","v":0},{"$nulls":7},{"$f":"SUM(AX23:BD23)","v":0},{"$nulls":7},{"$f":"SUM(BF23:BL23)","v":0},{"$nulls":7},{"$f":"SUM(BN23:BT23)","v":0},{"$nulls":7},{"$f":"SUM(BV23:CB23)","v":0},{"$nulls":7},{"$f":"SUM(CD23:CJ23)","v":0},{"$nulls":7},{"$f":"SUM(CL23:CR23)","v":0},{"$nulls":7},{"$f":"SUM(CT23:CZ23)","v":0},{"$nulls":7},{"$f":"SUM(DB23:DH23)","v":0},{"$nulls":7},{"$f":"SUM(DJ23:DP23)","v":0},{"$nulls":7},{"$f":"SUM(DR23:DX23)","v":0},{"$nulls":7},{"$f":"SUM(DZ23:EF23)","v":0},{"$nulls":7},{"$f":"SUM(EH23:EN23)","v":0},{"$nulls":7},{"$f":"SUM(EP23:EV23)","v":0},{"$nulls":7},{"$f":"SUM(EX23:FD23)","v":0}]
["Total Contacts",{"$f":"SUM(B18:B23)","v":0},{"$f":"SUM(C18:C23)","v":0},{"$f":"SUM(D18:D23)","v":0},{"$f":"SUM(E18:E23)","v":0},{"$f":"SUM(F18:F23)","v":0},{"$f":"SUM(G18:G23)","v":0},{"$f":"SUM(H18:H23)","v":0},{"$f":"SUM(I18:I23)","v":0},{"$f":"SUM(J18:J23)","v":0},{"$f":"SUM(K18:K23)","v":0},{"$f":"SUM(L18:L23)","v":0},{"$f":"SUM(M18:M23)","v":0},{"$f":"SUM(N18:N23)","v":0},{"$f":"SUM(O18:O23)","v":0},{"$f":"SUM(P18:P23)","v":0},{"$f":"SUM(Q18:Q23)","v":0},{"$f":"SUM(R18:R23)","v":0},{"$f":"SUM(S18:S23)","v":0},{"$f":"SUM(T18:T23)","v":0},{"$f":"SUM(U18:U23)","v":0},{"$f":"SUM(V18:V23)","v":0},{"$f":"SUM(W18:W23)","v":0},{"$f":"SUM(X18:X23)","v":0},{"$f":"SUM(Y18:Y23)","v":0},{"$f":"SUM(Z18:Z23)","v":0},{"$f":"SUM(AA18:AA23)","v":0},{"$f":"SUM(AB18:AB23)","v":0},{"$f":"SUM(AC18:AC23)","v":0},{"$f":"SUM(AD18:AD23)","v":0},{"$f":"SUM(AE18:AE23)","v":0},{"$f":"SUM(AF18:AF23)","v":0},{"$f":"SUM(AG18:AG23)","v":0},{"$f":"SUM(AH18:AH23)","v":0},{"$f":"SUM(AI18:AI23)","v":0},{"$f":"SUM(AJ18:AJ23)","v":0},{"$f":"SUM(AK18:AK23)","v":0},{"$f":"SUM(AL18:AL23)","v":0},{"$f":"SUM(AM18:AM23)","v":0},{"$f":"SUM(AN18:AN23)","v":0},{"$f":"SUM(AO18:AO23)","v":0},{"$f":"SUM(AP18:AP23)","v":0},{"$f":"SUM(AQ18:AQ23)","v":0},{"$f":"SUM(AR18:AR23)","v":0},{"$f":"SUM(AS18:AS23)","v":0},{"$f":"SUM(AT18:AT23)","v":0},{"$f":"SUM(AU18:AU23)","v":0},{"$f":"SUM(AV18:AV23)","v":0},{"$f":"SUM(AW18:AW23)","v":0},{"$f":"SUM(AX18:AX23)","v":0},{"$f":"SUM(AY18:AY23)","v":0},{"$f":"SUM(AZ18:AZ23)","v":0},{"$f":"SUM(BA18:BA23)","v":0},{"$f":"SUM(BB18:BB23)","v":0},{"$f":"SUM(BC18:BC23)","v":0},{"$f":"SUM(BD18:BD23)","v":0},{"$f":"SUM(BE18:BE23)","v":0},{"$f":"SUM(BF18:BF23)","v":0},{"$f":"SUM(BG18:BG23)","v":0},{"$f":"SUM(BH18:BH23)","v":0},{"$f":"SUM(BI18:BI23)","v":0},{"$f":"SUM(BJ18:BJ23)","v":0},{"$f":"SUM(BK18:BK23)","v":0},{"$f":"SUM(BL18:BL23)","v":0},{"$f":"SUM(BM18:BM23)","v":0},{"$f":"SUM(BN18:BN23)","v":0},{"$f":"SUM(BO18:BO23)","v":0},{"$f":"SUM(BP18:BP23)","v":0},{"$f":"SUM(BQ18:BQ23)","v":0},{"$f":"SUM(BR18:BR23)","v":0},{"$f":"SUM(BS18:BS23)","v":0},{"$f":"SUM(BT18:BT23)","v":0},{"$f":"SUM(BU18:BU23)","v":0},{"$f":"SUM(BV18:BV23)","v":0},{"$f":"SUM(BW18:BW23)","v":0},{"$f":"SUM(BX18:BX23)","v":0},{"$f":"SUM(BY18:BY23)","v":0},{"$f":"SUM(BZ18:BZ23)","v":0},{"$f":"SUM(CA18:CA23)","v":0},{"$f":"SUM(CB18:CB23)","v":0},{"$f":"SUM(CC18:CC23)","v":0},{"$f":"SUM(CD18:CD23)","v":0},{"$f":"SUM(CE18:CE23)","v":0},{"$f":"SUM(CF18:CF23)","v":0},{"$f":"SUM(CG18:CG23)","v":0},{"$f":"SUM(CH18:CH23)","v":0},{"$f":"SUM(CI18:CI23)","v":0},{"$f":"SUM(CJ18:CJ23)","v":0},{"$f":"SUM(CK18:CK23)","v":0},{"$f":"SUM(CL18:CL23)","v":0},{"$f":"SUM(CM18:CM23)","v":0},{"$f":"SUM(CN18:CN23)","v":0},{"$f":"SUM(CO18:CO23)","v":0},{"$f":"SUM(CP18:CP23)","v":0},{"$f":"SUM(CQ18:CQ23)","v":0},{"$f":"SUM(CR18:CR23)","v":0},{"$f":"SUM(CS18:CS23)","v":0},{"$f":"SUM(CT18:CT23)","v":0},{"$f":"SUM(CU18:CU23)","v":0},{"$f":"SUM(CV18:CV23)","v":0},{"$f":"SUM(CW18:CW23)","v":0},{"$f":"SUM(CX18:CX23)","v":0},{"$f":"SUM(CY18:CY23)","v":0},{"$f":"SUM(CZ18:CZ23)","v":0},{"$f":"SUM(DA18:DA23)","v":0},{"$f":"SUM(DB18:DB23)","v":0},{"$f":"SUM(DC18:DC23)","v":0},{"$f":"SUM(DD18:DD23)","v":0},{"$f":"SUM(DE18:DE23)","v":0},{"$f":"SUM(DF18:DF23)","v":0},{"$f":"SUM(DG18:DG23)","v":0},{"$f":"SUM(DH18:DH23)","v":0},{"$f":"SUM(DI18:DI23)","v":0},{"$f":"SUM(DJ18:DJ23)","v":0},{"$f":"SUM(DK18:DK23)","v":0},{"$f":"SUM(DL18:DL23)","v":0},{"$f":"SUM(DM18:DM23)","v":0},{"$f":"SUM(DN18:DN23)","v":0},{"$f":"SUM(DO18:DO23)","v":0},{"$f":"SUM(DP18:DP23)","v":0},{"$f":"SUM(DQ18:DQ23)","v":0},{"$f":"SUM(DR18:DR23)","v":0},{"$f":"SUM(DS18:DS23)","v":0},{"$f":"SUM(DT18:DT23)","v":0},{"$f":"SUM(DU18:DU23)","v":0},{"$f":"SUM(DV18:DV23)","v":0},{"$f":"SUM(DW18:DW23)","v":0},{"$f":"SUM(DX18:DX23)","v":0},{"$f":"SUM(DY18:DY23)","v":0},{"$f":"SUM(DZ18:DZ23)","v":0},{"$f":"SUM(EA18:EA23)","v":0},{"$f":"SUM(EB18:EB23)","v":0},{"$f":"SUM(EC18:EC23)","v":0},{"$f":"SUM(ED18:ED23)","v":0},{"$f":"SUM(EE18:EE23)","v":0},{"$f":"SUM(EF18:EF23)","v":0},{"$f":"SUM(EG18:EG23)","v":0},{"$f":"SUM(EH18:EH23)","v":0},{"$f":"SUM(EI18:EI23)","v":0},{"$f":"SUM(EJ18:EJ23)","v":0},{"$f":"SUM(EK18:EK23)","v":0},{"$f":"SUM(EL18:EL23)","v":0},{"$f":"SUM(EM18:EM23)","v":0},{"$f":"SUM(EN18:EN23)","v":0},{"$f":"SUM(EO18:EO23)","v":0},{"$f":"SUM(EP18:EP23)","v":0},{"$f":"SUM(EQ18:EQ23)","v":0},{"$f":"SUM(ER18:ER23)","v":0},{"$f":"SUM(ES18:ES23)","v":0},{"$f":"SUM(ET18:ET23)","v":0},{"$f":"SUM(EU18:EU23)","v":0},{"$f":"SUM(EV18:EV23)","v":0},{"$f":"SUM(EW18:EW23)","v":0},{"$f":"SUM(EX18:EX23)","v":0},{"$f":"SUM(EY18:EY23)","v":0},{"$f":"SUM(EZ18:EZ23)","v":0},{"$f":"SUM(FA18:FA23)","v":0},{"$f":"SUM(FB18:FB23)","v":0},{"$f":"SUM(FC18:FC23)","v":0},{"$f":"SUM(FD18:FD23)","v":0},{"$f":"SUM(FE18:FE23)","v":0}]
[]
["*Note you should be spending about 60% to 75% of your time in networking."]

{"sheet":"Job search sheet","index":1,"n_rows":5,"n_cols":19,"rows_kept":5}
[]
["Job Search Tracking Sheet"]
[]
[{"$f":"'daily productivity'!A3","v":"Your Name Here"}]
["Company Name","Position Applied For","Date of Contact","Followup Date","Referral Name","Contact Person","Title","Contact Phone","Mobile Phone","Fax Number","Email address","Interview 1","Sent Thank You letter","Interview 2","Sent Thank You letter","Interview 3","Sent Thank You letter","Additional Info","Comments"]

{"sheet":"Job referral ","index":2,"n_rows":5,"n_cols":17,"rows_kept":5}
[]
["Job Referral Tracking Sheet"]
[{"$f":"'daily productivity'!A3","v":"Your Name Here"}]
[]
["Date of Contact","Name of Person giving referral","Thank You letter/email","Contact Phone","Mobile Phone","Fax Number","Email address","Company Name","Position Avaiable","Contact Person","Title","Contact Phone","Mobile Phone","Fax Number","Email address","Additional Info","Comments"]

{"sheet":"Password Record","index":3,"n_rows":6,"n_cols":6,"rows_kept":6,"merged":[[1,0,1,5]]}
[]
["Job Search User Name and Password Record"]
[]
[{"$f":"'daily productivity'!A3","v":"Your Name Here"}]
[]
["Company Name","Date ","Login Name","Password","Web Site","Comments"]

{"sheet":"Weekly Productivity","index":4,"n_rows":26,"n_cols":44,"rows_kept":26,"merged":[[4,21,5,21]]}
["Weekly Job Search"]
[" Tracker"]
[{"$f":"'daily productivity'!A3","v":"Your Name Here"}]
["length of search counter . .",{"$f":"IF(B25=0,0,1)","v":0},null,{"$f":"IF(D25=0,0,1)","v":0},{"$f":"IF(E25=0,0,1)","v":0},{"$f":"IF(F25=0,0,1)","v":0},{"$f":"IF(G25=0,0,1)","v":0},{"$f":"IF(H25=0,0,1)","v":0},{"$f":"IF(I25=0,0,1)","v":0},{"$f":"IF(J25=0,0,1)","v":0},{"$f":"IF(K25=0,0,1)","v":0},{"$f":"IF(L25=0,0,1)","v":0},{"$f":"IF(M25=0,0,1)","v":0},{"$f":"IF(N25=0,0,1)","v":0},{"$f":"IF(O25=0,0,1)","v":0},{"$f":"IF(P25=0,0,1)","v":0},{"$f":"IF(Q25=0,0,1)","v":0},{"$f":"IF(R25=0,0,1)","v":0},{"$f":"IF(S25=0,0,1)","v":0},{"$f":"IF(T25=0,0,1)","v":0},{"$f":"IF(U25=0,0,1)","v":0},{"$f":"SUM(B4:U4)","v":0}]
["Week Number:","Week 1","Week 2","Week 3","Week 4","Week 5","Week 6","Week 7","Week 8","Week 9","Week 10","Week 11","Week 12","Week 13","Week 14","Week 15","Week 16","Week 17","Week 18","Week 19","Week 20","Cumulative Totals","Weekly"]
["Week Ending:",{"$f":"'daily productivity'!H5","v":"00:00:00"},{"$f":"'daily productivity'!P5","v":"00:00:00"},{"$f":"'daily productivity'!X5","v":"00:00:00"},{"$f":"'daily productivity'!AF5","v":"00:00:00"},{"$f":"'daily productivity'!AN5","v":"00:00:00"},{"$f":"'daily productivity'!AV5","v":"00:00:00"},{"$f":"'daily productivity'!BD5","v":"00:00:00"},{"$f":"'daily productivity'!BL5","v":"00:00:00"},{"$f":"'daily productivity'!BT5","v":"00:00:00"},{"$f":"'daily productivity'!CB5","v":"00:00:00"},{"$f":"'daily productivity'!CJ5","v":"00:00:00"},{"$f":"'daily productivity'!CR5","v":"00:00:00"},{"$f":"'daily productivity'!CZ5","v":"00:00:00"},{"$f":"'daily productivity'!DH5","v":"00:00:00"},{"$f":"'daily productivity'!DP5","v":"00:00:00"},{"$f":"'daily productivity'!DX5","v":"00:00:00"},{"$f":"'daily productivity'!EF5","v":"00:00:00"},{"$f":"'daily productivity'!EN5","v":"00:00:00"},{"$f":"'daily productivity'!EV5","v":"00:00:00"},{"$f":"'daily productivity'!FD5","v":"00:00:00"},null,"Average"]
["Job Search Education",{"$f":"'daily productivity'!I7","v":{"v":0,"d":"0.00"}},{"$f":"'daily productivity'!P7","v":{"v":0,"d":"0.00"}},{"$f":"'daily productivity'!Y7","v":{"v":0,"d":"0.00"}},{"$f":"'daily productivity'!AG7","v":{"v":0,"d":"0.00"}},{"$f":"'daily productivity'!AO25","v":{"v":0,"d":"0.00"}},{"$f":"'daily productivity'!AW25","v":{"v":0,"d":"0.00"}},{"$f":"'daily productivity'!BE25","v":{"v":0,"d":"0.00"}},{"$f":"'daily productivity'!BM25","v":{"v":0,"d":"0.00"}},{"$f":"'daily productivity'!BU25","v":{"v":0,"d":"0.00"}},{"$f":"'daily productivity'!CC25","v":{"v":0,"d":"0.00"}},{"$f":"'daily productivity'!CK25","v":{"v":0,"d":"0.00"}},{"$f":"'daily productivity'!CS25","v":{"v":0,"d":"0.00"}},{"$f":"'daily productivity'!DA25","v":{"v":0,"d":"0.00"}},{"$f":"'daily productivity'!DI25","v":{"v":0,"d":"0.00"}},{"$f":"'daily productivity'!DQ25","v":{"v":0,"d":"0.00"}},{"$f":"'daily productivity'!DY25","v":{"v":0,"d":"0.00"}},{"$f":"'daily productivity'!EG25","v":{"v":0,"d":"0.00"}},{"$f":"'daily productivity'!EO25","v":{"v":0,"d":"0.00"}},{"$f":"'daily productivity'!EW25","v":{"v":0,"d":"0.00"}},{"$f":"'daily productivity'!FE25","v":{"v":0,"d":"0.00"}},{"$f":"SUM(B7:U7)","v":{"v":0,"d":"0.00"}},{"$f":"AVERAGE(B7:U7)","v":0}]
["Research Organization/ Issue",{"$f":"'daily productivity'!I8","v":{"v":0,"d":"0.00"}},{"$f":"'daily productivity'!P8","v":{"v":0,"d":"0.00"}},{"$f":"'daily productivity'!Y8","v":{"v":0,"d":"0.00"}},{"$f":"'daily productivity'!AG8","v":{"v":0,"d":"0.00"}},{"$f":"'daily productivity'!AO26","v":{"v":0,"d":"0.00"}},{"$f":"'daily productivity'!AW26","v":{"v":0,"d":"0.00"}},{"$f":"'daily productivity'!BE26","v":{"v":0,"d":"0.00"}},{"$f":"'daily productivity'!BM26","v":{"v":0,"d":"0.00"}},{"$f":"'daily productivity'!BU26","v":{"v":0,"d":"0.00"}},{"$f":"'daily productivity'!CC26","v":{"v":0,"d":"0.00"}},{"$f":"'daily productivity'!CK26","v":{"v":0,"d":"0.00"}},{"$f":"'daily productivity'!CS26","v":{"v":0,"d":"0.00"}},{"$f":"'daily productivity'!DA26","v":{"v":0,"d":"0.00"}},{"$f":"'daily productivity'!DI26","v":{"v":0,"d":"0.00"}},{"$f":"'daily productivity'!DQ26","v":{"v":0,"d":"0.00"}},{"$f":"'daily productivity'!DY26","v":{"v":0,"d":"0.00"}},{"$f":"'daily productivity'!EG26","v":{"v":0,"d":"0.00"}},{"$f":"'daily productivity'!EO26","v":{"v":0,"d":"0.00"}},{"$f":"'daily productivity'!EW26","v":{"v":0,"d":"0.00"}},{"$f":"'daily productivity'!FE26","v":{"v":0,"d":"0.00"}},{"$f":"SUM(B8:U8)","v":{"v":0,"d":"0.00"}},{"$f":"AVERAGE(B8:U8)","v":0}]
["Letters and Admin.",{"$f":"'daily productivity'!I9","v":{"v":0,"d":"0.00"}},{"$f":"'daily productivity'!P9","v":{"v":0,"d":"0.00"}},{"$f":"'daily productivity'!Y9","v":{"v":0,"d":"0.00"}},{"$f":"'daily productivity'!AG9","v":{"v":0,"d":"0.00"}},{"$f":"'daily productivity'!AO27","v":{"v":0,"d":"0.00"}},{"$f":"'daily productivity'!AW27","v":{"v":0,"d":"0.00"}},{"$f":"'daily productivity'!BE27","v":{"v":0,"d":"0.00"}},{"$f":"'daily productivity'!BM27","v":{"v":0,"d":"0.00"}},{"$f":"'daily productivity'!BU27","v":{"v":0,"d":"0.00"}},{"$f":"'daily productivity'!CC27","v":{"v":0,"d":"0.00"}},{"$f":"'daily productivity'!CK27","v":{"v":0,"d":"0.00"}},{"$f":"'daily productivity'!CS27","v":{"v":0,"d":"0.00"}},{"$f":"'daily productivity'!DA27","v":{"v":0,"d":"0.00"}},{"$f":"'daily productivity'!DI27","v":{"v":0,"d":"0.00"}},{"$f":"'daily productivity'!DQ27","v":{"v":0,"d":"0.00"}},{"$f":"'daily productivity'!DY27","v":{"v":0,"d":"0.00"}},{"$f":"'daily productivity'!EG27","v":{"v":0,"d":"0.00"}},{"$f":"'daily productivity'!EO27","v":{"v":0,"d":"0.00"}},{"$f":"'daily productivity'!EW27","v":{"v":0,"d":"0.00"}},{"$f":"'daily productivity'!FE27","v":{"v":0,"d":"0.00"}},{"$f":"SUM(B9:U9)","v":{"v":0,"d":"0.00"}},{"$f":"AVERAGE(B9:U9)","v":0}]
["Networking: Phone*",{"$f":"'daily productivity'!I10","v":{"v":0,"d":"0.00"}},{"$f":"'daily productivity'!P10","v":{"v":0,"d":"0.00"}},{"$f":"'daily productivity'!Y10","v":{"v":0,"d":"0.00"}},{"$f":"'daily productivity'!AG10","v":{"v":0,"d":"0.00"}},{"$f":"'daily productivity'!AO28","v":{"v":0,"d":"0.00"}},{"$f":"'daily productivity'!AW28","v":{"v":0,"d":"0.00"}},{"$f":"'daily productivity'!BE28","v":{"v":0,"d":"0.00"}},{"$f":"'daily productivity'!BM28","v":{"v":0,"d":"0.00"}},{"$f":"'daily productivity'!BU28","v":{"v":0,"d":"0.00"}},{"$f":"'daily productivity'!CC28","v":{"v":0,"d":"0.00"}},{"$f":"'daily productivity'!CK28","v":{"v":0,"d":"0.00"}},{"$f":"'daily productivity'!CS28","v":{"v":0,"d":"0.00"}},{"$f":"'daily productivity'!DA28","v":{"v":0,"d":"0.00"}},{"$f":"'daily productivity'!DI28","v":{"v":0,"d":"0.00"}},{"$f":"'daily productivity'!DQ28","v":{"v":0,"d":"0.00"}},{"$f":"'daily productivity'!DY28","v":{"v":0,"d":"0.00"}},{"$f":"'daily productivity'!EG28","v":{"v":0,"d":"0.00"}},{"$f":"'daily productivity'!EO28","v":{"v":0,"d":"0.00"}},{"$f":"'daily productivity'!EW28","v":{"v":0,"d":"0.00"}},{"$f":"'daily productivity'!FE28","v":{"v":0,"d":"0.00"}},{"$f":"SUM(B10:U10)","v":{"v":0,"d":"0.00"}},{"$f":"AVERAGE(B10:U10)","v":0}]
["Networking: In person*",{"$f":"'daily productivity'!I11","v":{"v":0,"d":"0.00"}},{"$f":"'daily productivity'!P11","v":{"v":0,"d":"0.00"}},{"$f":"'daily productivity'!Y11","v":{"v":0,"d":"0.00"}},{"$f":"'daily productivity'!AG11","v":{"v":0,"d":"0.00"}},{"$f":"'daily productivity'!AO29","v":{"v":0,"d":"0.00"}},{"$f":"'daily productivity'!AW29","v":{"v":0,"d":"0.00"}},{"$f":"'daily productivity'!BE29","v":{"v":0,"d":"0.00"}},{"$f":"'daily productivity'!BM29","v":{"v":0,"d":"0.00"}},{"$f":"'daily productivity'!BU29","v":{"v":0,"d":"0.00"}},{"$f":"'daily productivity'!CC29","v":{"v":0,"d":"0.00"}},{"$f":"'daily productivity'!CK29","v":{"v":0,"d":"0.00"}},{"$f":"'daily productivity'!CS29","v":{"v":0,"d":"0.00"}},{"$f":"'daily productivity'!DA29","v":{"v":0,"d":"0.00"}},{"$f":"'daily productivity'!DI29","v":{"v":0,"d":"0.00"}},{"$f":"'daily productivity'!DQ29","v":{"v":0,"d":"0.00"}},{"$f":"'daily productivity'!DY29","v":{"v":0,"d":"0.00"}},{"$f":"'daily productivity'!EG29","v":{"v":0,"d":"0.00"}},{"$f":"'daily productivity'!EO29","v":{"v":0,"d":"0.00"}},{"$f":"'daily productivity'!EW29","v":{"v":0,"d":"0.00"}},{"$f":"'daily productivity'!FE29","v":{"v":0,"d":"0.00"}},{"$f":"SUM(B11:U11)","v":{"v":0,"d":"0.00"}},{"$f":"AVERAGE(B11:U11)","v":0}]
["Total Hours",{"$f":"'daily productivity'!I12","v":{"v":0,"d":"0.00"}},{"$f":"'daily productivity'!P12","v":{"v":0,"d":"0.00"}},{"$f":"'daily productivity'!Y12","v":{"v":0,"d":"0.00"}},{"$f":"'daily productivity'!AG12","v":{"v":0,"d":"0.00"}},{"$f":"'daily productivity'!AO30","v":{"v":0,"d":"0.00"}},{"$f":"'daily productivity'!AW30","v":{"v":0,"d":"0.00"}},{"$f":"'daily productivity'!BE30","v":{"v":0,"d":"0.00"}},{"$f":"'daily productivity'!BM30","v":{"v":0,"d":"0.00"}},{"$f":"'daily productivity'!BU30","v":{"v":0,"d":"0.00"}},{"$f":"'daily productivity'!CC30","v":{"v":0,"d":"0.00"}},{"$f":"'daily productivity'!CK30","v":{"v":0,"d":"0.00"}},{"$f":"'daily productivity'!CS30","v":{"v":0,"d":"0.00"}},{"$f":"'daily productivity'!DA30","v":{"v":0,"d":"0.00"}},{"$f":"'daily productivity'!DI30","v":{"v":0,"d":"0.00"}},{"$f":"'daily productivity'!DQ30","v":{"v":0,"d":"0.00"}},{"$f":"'daily productivity'!DY30","v":{"v":0,"d":"0.00"}},{"$f":"'daily productivity'!EG30","v":{"v":0,"d":"0.00"}},{"$f":"'daily productivity'!EO30","v":{"v":0,"d":"0.00"}},{"$f":"'daily productivity'!EW30","v":{"v":0,"d":"0.00"}},{"$f":"'daily productivity'!FE30","v":{"v":0,"d":"0.00"}},{"$f":"SUM(B12:U12)","v":0},{"$f":"AVERAGE(B12:U12)","v":0}]
["Direct Mail",{"$f":"'daily productivity'!I13","v":0},{"$f":"'daily productivity'!P13","v":0},{"$f":"'daily productivity'!Y13","v":0},{"$f":"'daily productivity'!AG13","v":0},{"$f":"'daily productivity'!AO31","v":0},{"$f":"'daily productivity'!AW31","v":0},{"$f":"'daily productivity'!BE31","v":0},{"$f":"'daily productivity'!BM31","v":0},{"$f":"'daily productivity'!BU31","v":0},{"$f":"'daily productivity'!CC31","v":0},{"$f":"'daily productivity'!CK31","v":0},{"$f":"'daily productivity'!CS31","v":0},{"$f":"'daily productivity'!DA31","v":0},{"$f":"'daily productivity'!DI31","v":0},{"$f":"'daily productivity'!DQ31","v":0},{"$f":"'daily productivity'!DY31","v":0},{"$f":"'daily productivity'!EG31","v":0},{"$f":"'daily productivity'!EO31","v":0},{"$f":"'daily productivity'!EW31","v":0},{"$f":"'daily productivity'!FE31","v":0},{"$f":"SUM(B13:U13)","v":0},{"$f":"AVERAGE(B13:U13)","v":0}]
["Advertised Positions",{"$f":"'daily productivity'!I14","v":0},{"$f":"'daily productivity'!P14","v":0},{"$f":"'daily productivity'!Y14","v":0},{"$f":"'daily productivity'!AG14","v":0},{"$f":"'daily productivity'!AO32","v":0},{"$f":"'daily productivity'!AW32","v":0},{"$f":"'daily productivity'!BE32","v":0},{"$f":"'daily productivity'!BM32","v":0},{"$f":"'daily productivity'!BU32","v":0},{"$f":"'daily productivity'!CC32","v":0},{"$f":"'daily productivity'!CK32","v":0},{"$f":"'daily productivity'!CS32","v":0},{"$f":"'daily productivity'!DA32","v":0},{"$f":"'daily productivity'!DI32","v":0},{"$f":"'daily productivity'!DQ32","v":0},{"$f":"'daily productivity'!DY32","v":0},{"$f":"'daily productivity'!EG32","v":0},{"$f":"'daily productivity'!EO32","v":0},{"$f":"'daily productivity'!EW32","v":0},{"$f":"'daily productivity'!FE32","v":0},{"$f":"SUM(B14:U14)","v":0},{"$f":"AVERAGE(B14:U14)","v":0}]
["Search Firms",{"$f":"'daily productivity'!I15","v":0},{"$f":"'daily productivity'!P15","v":0},{"$f":"'daily productivity'!Y15","v":0},{"$f":"'daily productivity'!AG15","v":0},{"$f":"'daily productivity'!AO33","v":0},{"$f":"'daily productivity'!AW33","v":0},{"$f":"'daily productivity'!BE33","v":0},{"$f":"'daily productivity'!BM33","v":0},{"$f":"'daily productivity'!BU33","v":0},{"$f":"'daily productivity'!CC33","v":0},{"$f":"'daily productivity'!CK33","v":0},{"$f":"'daily productivity'!CS33","v":0},{"$f":"'daily productivity'!DA33","v":0},{"$f":"'daily productivity'!DI33","v":0},{"$f":"'daily productivity'!DQ33","v":0},{"$f":"'daily productivity'!DY33","v":0},{"$f":"'daily productivity'!EG33","v":0},{"$f":"'daily productivity'!EO33","v":0},{"$f":"'daily productivity'!EW33","v":0},{"$f":"'daily productivity'!FE33","v":0},{"$f":"SUM(B15:U15)","v":0},{"$f":"AVERAGE(B15:U15)","v":0}]
["Other Letters",{"$f":"'daily productivity'!I16","v":0},{"$f":"'daily productivity'!P16","v":0},{"$f":"'daily productivity'!Y16","v":0},{"$f":"'daily productivity'!AG16","v":0},{"$f":"'daily productivity'!AO34","v":0},{"$f":"'daily productivity'!AW34","v":0},{"$f":"'daily productivity'!BE34","v":0},{"$f":"'daily productivity'!BM34","v":0},{"$f":"'daily productivity'!BU34","v":0},{"$f":"'daily productivity'!CC34","v":0},{"$f":"'daily productivity'!CK34","v":0},{"$f":"'daily productivity'!CS34","v":0},{"$f":"'daily productivity'!DA34","v":0},{"$f":"'daily productivity'!DI34","v":0},{"$f":"'daily productivity'!DQ34","v":0},{"$f":"'daily productivity'!DY34","v":0},{"$f":"'daily productivity'!EG34","v":0},{"$f":"'daily productivity'!EO34","v":0},{"$f":"'daily productivity'!EW34","v":0},{"$f":"'daily productivity'!FE34","v":0},{"$f":"SUM(B16:U16)","v":0},{"$f":"AVERAGE(B16:U16)","v":0}]
["Total Letters",{"$f":"'daily productivity'!I17","v":0},{"$f":"'daily productivity'!P17","v":0},{"$f":"'daily productivity'!Y17","v":0},{"$f":"'daily productivity'!AG17","v":0},{"$f":"'daily productivity'!AO35","v":0},{"$f":"'daily productivity'!AW35","v":0},{"$f":"'daily productivity'!BE35","v":0},{"$f":"'daily productivity'!BM35","v":0},{"$f":"'daily productivity'!BU35","v":0},{"$f":"'daily productivity'!CC35","v":0},{"$f":"'daily productivity'!CK35","v":0},{"$f":"'daily productivity'!CS35","v":0},{"$f":"'daily productivity'!DA35","v":0},{"$f":"'daily productivity'!DI35","v":0},{"$f":"'daily productivity'!DQ35","v":0},{"$f":"'daily productivity'!DY35","v":0},{"$f":"'daily productivity'!EG35","v":0},{"$f":"'daily productivity'!EO35","v":0},{"$f":"'daily productivity'!EW35","v":0},{"$f":"'daily productivity'!FE35","v":0},{"$f":"SUM(B17:U17)","v":0},{"$f":"AVERAGE(B17:U17)","v":0}]
["General Network, incl. Search Firms",{"$f":"'daily productivity'!I18","v":0},{"$f":"'daily productivity'!P18","v":0},{"$f":"'daily productivity'!Y18","v":0},{"$f":"'daily productivity'!AG18","v":0},{"$f":"'daily productivity'!AO36","v":0},{"$f":"'daily productivity'!AW36","v":0},{"$f":"'daily productivity'!BE36","v":0},{"$f":"'daily productivity'!BM36","v":0},{"$f":"'daily productivity'!BU36","v":0},{"$f":"'daily productivity'!CC36","v":0},{"$f":"'daily productivity'!CK36","v":0},{"$f":"'daily productivity'!CS36","v":0},{"$f":"'daily productivity'!DA36","v":0},{"$f":"'daily productivity'!DI36","v":0},{"$f":"'daily productivity'!DQ36","v":0},{"$f":"'daily productivity'!DY36","v":0},{"$f":"'daily productivity'!EG36","v":0},{"$f":"'daily productivity'!EO36","v":0},{"$f":"'daily productivity'!EW36","v":0},{"$f":"'daily productivity'!FE36","v":0},{"$f":"SUM(B18:U18)","v":0},{"$f":"AVERAGE(B18:U18)","v":0}]
[" Misc. Contact",{"$f":"'daily productivity'!I19","v":0},{"$f":"'daily productivity'!P19","v":0},{"$f":"'daily productivity'!Y19","v":0},{"$f":"'daily productivity'!AG19","v":0},{"$f":"'daily productivity'!AO37","v":0},{"$f":"'daily productivity'!AW37","v":0},{"$f":"'daily productivity'!BE37","v":0},{"$f":"'daily productivity'!BM37","v":0},{"$f":"'daily productivity'!BU37","v":0},{"$f":"'daily productivity'!CC37","v":0},{"$f":"'daily productivity'!CK37","v":0},{"$f":"'daily productivity'!CS37","v":0},{"$f":"'daily productivity'!DA37","v":0},{"$f":"'daily productivity'!DI37","v":0},{"$f":"'daily productivity'!DQ37","v":0},{"$f":"'daily productivity'!DY37","v":0},{"$f":"'daily productivity'!EG37","v":0},{"$f":"'daily productivity'!EO37","v":0},{"$f":"'daily productivity'!EW37","v":0},{"$f":"'daily productivity'!FE37","v":0},{"$f":"SUM(B19:U19)","v":0},{"$f":"AVERAGE(B19:U19)","v":0}]
[" Peer Contact",{"$f":"'daily productivity'!I20","v":0},{"$f":"'daily productivity'!P20","v":0},{"$f":"'daily productivity'!Y20","v":0},{"$f":"'daily productivity'!AG20","v":0},{"$f":"'daily productivity'!AO38","v":0},{"$f":"'daily productivity'!AW38","v":0},{"$f":"'daily productivity'!BE38","v":0},{"$f":"'daily productivity'!BM38","v":0},{"$f":"'daily productivity'!BU38","v":0},{"$f":"'daily productivity'!CC38","v":0},{"$f":"'daily productivity'!CK38","v":0},{"$f":"'daily productivity'!CS38","v":0},{"$f":"'daily productivity'!DA38","v":0},{"$f":"'daily productivity'!DI38","v":0},{"$f":"'daily productivity'!DQ38","v":0},{"$f":"'daily productivity'!DY38","v":0},{"$f":"'daily productivity'!EG38","v":0},{"$f":"'daily productivity'!EO38","v":0},{"$f":"'daily productivity'!EW38","v":0},{"$f":"'daily productivity'!FE38","v":0},{"$f":"SUM(B20:U20)","v":0},{"$f":"AVERAGE(B20:U20)","v":0},null,"Week 1","Week 2","Week 3","Week 4","Week 5","Week 6","Week 7","Week 8","Week 9","Week 10","Week 11","Week 12","Week 13","Week 14","Week 15","Week 16","Week 17","Week 18","Week 19","Week 20"]
[" Hiring Manager",{"$f":"'daily productivity'!I21","v":0},{"$f":"'daily productivity'!P21","v":0},{"$f":"'daily productivity'!Y21","v":0},{"$f":"'daily productivity'!AG21","v":0},{"$f":"'daily productivity'!AO39","v":0},{"$f":"'daily productivity'!AW39","v":0},{"$f":"'daily productivity'!BE39","v":0},{"$f":"'daily productivity'!BM39","v":0},{"$f":"'daily productivity'!BU39","v":0},{"$f":"'daily productivity'!CC39","v":0},{"$f":"'daily productivity'!CK39","v":0},{"$f":"'daily productivity'!CS39","v":0},{"$f":"'daily productivity'!DA39","v":0},{"$f":"'daily productivity'!DI39","v":0},{"$f":"'daily productivity'!DQ39","v":0},{"$f":"'daily productivity'!DY39","v":0},{"$f":"'daily productivity'!EG39","v":0},{"$f":"'daily productivity'!EO39","v":0},{"$f":"'daily productivity'!EW39","v":0},{"$f":"'daily productivity'!FE39","v":0},{"$f":"SUM(B21:U21)","v":0},{"$f":"AVERAGE(B21:U21)","v":0},"General Contacts",{"$f":"SUM(B18:B20)","v":0},{"$f":"SUM(C18:C20)","v":0},{"$f":"SUM(D18:D20)","v":0},{"$f":"SUM(E18:E20)","v":0},{"$f":"SUM(F18:F20)","v":0},{"$f":"SUM(G18:G20)","v":0},{"$f":"SUM(H18:H20)","v":0},{"$f":"SUM(I18:I20)","v":0},{"$f":"SUM(J18:J20)","v":0},{"$f":"SUM(K18:K20)","v":0},{"$f":"SUM(L18:L20)","v":0},{"$f":"SUM(M18:M20)","v":0},{"$f":"SUM(N18:N20)","v":0},{"$f":"SUM(O18:O20)","v":0},{"$f":"SUM(P18:P20)","v":0},{"$f":"SUM(Q18:Q20)","v":0},{"$f":"SUM(R18:R20)","v":0},{"$f":"SUM(S18:S20)","v":0},{"$f":"SUM(T18:T20)","v":0},{"$f":"SUM(U18:U20)","v":0}]
[" Above Hiring Manager",{"$f":"'daily productivity'!I22","v":0},{"$f":"'daily productivity'!P22","v":0},{"$f":"'daily productivity'!Y22","v":0},{"$f":"'daily productivity'!AG22","v":0},{"$f":"'daily productivity'!AO40","v":0},{"$f":"'daily productivity'!AW40","v":0},{"$f":"'daily productivity'!BE40","v":0},{"$f":"'daily productivity'!BM40","v":0},{"$f":"'daily productivity'!BU40","v":0},{"$f":"'daily productivity'!CC40","v":0},{"$f":"'daily productivity'!CK40","v":0},{"$f":"'daily productivity'!CS40","v":0},{"$f":"'daily productivity'!DA40","v":0},{"$f":"'daily productivity'!DI40","v":0},{"$f":"'daily productivity'!DQ40","v":0},{"$f":"'daily productivity'!DY40","v":0},{"$f":"'daily productivity'!EG40","v":0},{"$f":"'daily productivity'!EO40","v":0},{"$f":"'daily productivity'!EW40","v":0},{"$f":"'daily productivity'!FE40","v":0},{"$f":"SUM(B22:U22)","v":0},{"$f":"AVERAGE(B22:U22)","v":0},"Hiring Managers",{"$f":"SUM(B21:B22)","v":0},{"$f":"SUM(C21:C22)","v":0},{"$f":"SUM(D21:D22)","v":0},{"$f":"SUM(E21:E22)","v":0},{"$f":"SUM(F21:F22)","v":0},{"$f":"SUM(G21:G22)","v":0},{"$f":"SUM(H21:H22)","v":0},{"$f":"SUM(I21:I22)","v":0},{"$f":"SUM(J21:J22)","v":0},{"$f":"SUM(K21:K22)","v":0},{"$f":"SUM(L21:L22)","v":0},{"$f":"SUM(M21:M22)","v":0},{"$f":"SUM(N21:N22)","v":0},{"$f":"SUM(O21:O22)","v":0},{"$f":"SUM(P21:P22)","v":0},{"$f":"SUM(Q21:Q22)","v":0},{"$f":"SUM(R21:R22)","v":0},{"$f":"SUM(S21:S22)","v":0},{"$f":"SUM(T21:T22)","v":0},{"$f":"SUM(U21:U22)","v":0}]
["Follow-ups with Hiring Manager/Above",{"$f":"'daily productivity'!I23","v":0},{"$f":"'daily productivity'!P23","v":0},{"$f":"'daily productivity'!Y23","v":0},{"$f":"'daily productivity'!AG23","v":0},{"$f":"'daily productivity'!AO41","v":0},{"$f":"'daily productivity'!AW41","v":0},{"$f":"'daily productivity'!BE41","v":0},{"$f":"'daily productivity'!BM41","v":0},{"$f":"'daily productivity'!BU41","v":0},{"$f":"'daily productivity'!CC41","v":0},{"$f":"'daily productivity'!CK41","v":0},{"$f":"'daily productivity'!CS41","v":0},{"$f":"'daily productivity'!DA41","v":0},{"$f":"'daily productivity'!DI41","v":0},{"$f":"'daily productivity'!DQ41","v":0},{"$f":"'daily productivity'!DY41","v":0},{"$f":"'daily productivity'!EG41","v":0},{"$f":"'daily productivity'!EO41","v":0},{"$f":"'daily productivity'!EW41","v":0},{"$f":"'daily productivity'!FE41","v":0},{"$f":"SUM(B23:U23)","v":0},{"$f":"AVERAGE(B23:U23)","v":0},"Follow-Ups",{"$f":"SUM(B23)","v":0},{"$f":"SUM(C23)","v":0},{"$f":"SUM(D23)","v":0},{"$f":"SUM(E23)","v":0},{"$f":"SUM(F23)","v":0},{"$f":"SUM(G23)","v":0},{"$f":"SUM(H23)","v":0},{"$f":"SUM(I23)","v":0},{"$f":"SUM(J23)","v":0},{"$f":"SUM(K23)","v":0},{"$f":"SUM(L23)","v":0},{"$f":"SUM(M23)","v":0},{"$f":"SUM(N23)","v":0},{"$f":"SUM(O23)","v":0},{"$f":"SUM(P23)","v":0},{"$f":"SUM(Q23)","v":0},{"$f":"SUM(R23)","v":0},{"$f":"SUM(S23)","v":0},{"$f":"SUM(T23)","v":0},{"$f":"SUM(U23)","v":0}]
["Total Contacts",{"$f":"'daily productivity'!I24","v":0},{"$f":"'daily productivity'!P24","v":0},{"$f":"'daily productivity'!Y24","v":0},{"$f":"'daily productivity'!AG24","v":0},{"$f":"'daily productivity'!AO42","v":0},{"$f":"'daily productivity'!AW42","v":0},{"$f":"'daily productivity'!BE42","v":0},{"$f":"'daily productivity'!BM42","v":0},{"$f":"'daily productivity'!BU42","v":0},{"$f":"'daily productivity'!CC42","v":0},{"$f":"'daily productivity'!CK42","v":0},{"$f":"'daily productivity'!CS42","v":0},{"$f":"'daily productivity'!DA42","v":0},{"$f":"'daily productivity'!DI42","v":0},{"$f":"'daily productivity'!DQ42","v":0},{"$f":"'daily productivity'!DY42","v":0},{"$f":"'daily productivity'!EG42","v":0},{"$f":"'daily productivity'!EO42","v":0},{"$f":"'daily productivity'!EW42","v":0},{"$f":"'daily productivity'!FE42","v":0},{"$f":"SUM(B24:U24)","v":0},{"$f":"AVERAGE(B24:U24)","v":0}]
[]
["*Note you should be spending about 60% to 75% of your time in networking."]

{"sheet":"Weekly Activity","index":5,"n_rows":0,"n_cols":0,"rows_kept":0}

{"sheet":"Cumulative Totals","index":6,"n_rows":0,"n_cols":0,"rows_kept":0}