Workbook

Sheet Weekly Shift Schedule with Pay
A1: Labor Schedule Template
A2: WEEK BEGINNING: | B2: 42492
A4: EMPLOYEE ID | B4: MON | C4: TUES | D4: WED | E4: THURS | F4: FRI | G4: SAT | H4: SUN | I4: HOURS | J4: RATE | K4: PAY
B5: =B2 -> 42492 | C5: =B5+1 -> 42493 | D5: =C5+1 -> 42494 | E5: =D5+1 -> 42495 | F5: =E5+1 -> 42496 | G5: =F5+1 -> 42497 | H5: =G5+1 -> 42498
A6: 40587 - Cara C. | B6: Day | C6: Day | D6: Day | E6: Day | F6: Day | G6: OFF | H6: OFF | I6: =VLOOKUP(B6,'Shift Data'!$A$2:$D$19,4)+VLOOKUP(C6,'Shift Data'!$A$2:$D$19,4)+VLOOKUP(D6,'Shift Data'!$A$2:$D$19,4)+VLOOKUP(E6,'Shift Data'!$A$2:$D$19,4)+VLOOKUP(F6,'Shift Data'!$A$2:$D$19,4)+VLOOKUP(G6,'Shift Data'!$A$2:$D$19,4)+VLOOKUP(H6,'Shift Data'!$A$2:$D$19,4) -> 56 | J6: =VLOOKUP(A6,'Employee IDs with Pay Rate'!$A$2:$B$21,2) -> 23.14 | K6: =I6*J6 -> 1295.84
A7: 42867 - Alex D. | B7: Night | C7: Swing Shift | D7: Night | E7: Swing Shift | F7: Swing Shift | G7: OFF | H7: OFF | I7: =VLOOKUP(B7,'Shift Data'!$A$2:$D$19,4)+VLOOKUP(C7,'Shift Data'!$A$2:$D$19,4)+VLOOKUP(D7,'Shift Data'!$A$2:$D$19,4)+VLOOKUP(E7,'Shift Data'!$A$2:$D$19,4)+VLOOKUP(F7,'Shift Data'!$A$2:$D$19,4)+VLOOKUP(G7,'Shift Data'!$A$2:$D$19,4)+VLOOKUP(H7,'Shift Data'!$A$2:$D$19,4) -> 48.5 | J7: =VLOOKUP(A7,'Employee IDs with Pay Rate'!$A$2:$B$21,2) -> 17.16 | K7: =I7*J7 -> 832.26
A8: 52186 - Nathan M. | B8: Half Time | C8: Half Time | D8: Half Time | E8: Half Time | F8: Half Time | G8: OFF | H8: OFF | I8: =VLOOKUP(B8,'Shift Data'!$A$2:$D$19,4)+VLOOKUP(C8,'Shift Data'!$A$2:$D$19,4)+VLOOKUP(D8,'Shift Data'!$A$2:$D$19,4)+VLOOKUP(E8,'Shift Data'!$A$2:$D$19,4)+VLOOKUP(F8,'Shift Data'!$A$2:$D$19,4)+VLOOKUP(G8,'Shift Data'!$A$2:$D$19,4)+VLOOKUP(H8,'Shift Data'!$A$2:$D$19,4) -> 36 | J8: =VLOOKUP(A8,'Employee IDs with Pay Rate'!$A$2:$B$21,2) -> 32.42 | K8: =I8*J8 -> 1167.12
A9: 49862 - Daniel H. | B9: Night | C9: Swing Shift | D9: Afternoon | E9: Afternoon | F9: Afternoon | G9: OFF | H9: OFF | I9: =VLOOKUP(B9,'Shift Data'!$A$2:$D$19,4)+VLOOKUP(C9,'Shift Data'!$A$2:$D$19,4)+VLOOKUP(D9,'Shift Data'!$A$2:$D$19,4)+VLOOKUP(E9,'Shift Data'!$A$2:$D$19,4)+VLOOKUP(F9,'Shift Data'!$A$2:$D$19,4)+VLOOKUP(G9,'Shift Data'!$A$2:$D$19,4)+VLOOKUP(H9,'Shift Data'!$A$2:$D$19,4) -> 53.5 | J9: =VLOOKUP(A9,'Employee IDs with Pay Rate'!$A$2:$B$21,2) -> 25.33 | K9: =I9*J9 -> 1355.155
I10: =VLOOKUP(B10,'Shift Data'!$A$2:$D$19,4)+VLOOKUP(C10,'Shift Data'!$A$2:$D$19,4)+VLOOKUP(D10,'Shift Data'!$A$2:$D$19,4)+VLOOKUP(E10,'Shift Data'!$A$2:$D$19,4)+VLOOKUP(F10,'Shift Data'!$A$2:$D$19,4)+VLOOKUP(G10,'Shift Data'!$A$2:$D$19,4)+VLOOKUP(H10,'Shift Data'!$A$2:$D$19,4) -> #N/A | J10: =VLOOKUP(A10,'Employee IDs with Pay Rate'!$A$2:$B$21,2) -> #N/A | K10: =I10*J10 -> #N/A
I11: =VLOOKUP(B11,'Shift Data'!$A$2:$D$19,4)+VLOOKUP(C11,'Shift Data'!$A$2:$D$19,4)+VLOOKUP(D11,'Shift Data'!$A$2:$D$19,4)+VLOOKUP(E11,'Shift Data'!$A$2:$D$19,4)+VLOOKUP(F11,'Shift Data'!$A$2:$D$19,4)+VLOOKUP(G11,'Shift Data'!$A$2:$D$19,4)+VLOOKUP(H11,'Shift Data'!$A$2:$D$19,4) -> #N/A | J11: =VLOOKUP(A11,'Employee IDs with Pay Rate'!$A$2:$B$21,2) -> #N/A | K11: =I11*J11 -> #N/A
I12: =VLOOKUP(B12,'Shift Data'!$A$2:$D$19,4)+VLOOKUP(C12,'Shift Data'!$A$2:$D$19,4)+VLOOKUP(D12,'Shift Data'!$A$2:$D$19,4)+VLOOKUP(E12,'Shift Data'!$A$2:$D$19,4)+VLOOKUP(F12,'Shift Data'!$A$2:$D$19,4)+VLOOKUP(G12,'Shift Data'!$A$2:$D$19,4)+VLOOKUP(H12,'Shift Data'!$A$2:$D$19,4) -> #N/A | J12: =VLOOKUP(A12,'Employee IDs with Pay Rate'!$A$2:$B$21,2) -> #N/A | K12: =I12*J12 -> #N/A
I13: =VLOOKUP(B13,'Shift Data'!$A$2:$D$19,4)+VLOOKUP(C13,'Shift Data'!$A$2:$D$19,4)+VLOOKUP(D13,'Shift Data'!$A$2:$D$19,4)+VLOOKUP(E13,'Shift Data'!$A$2:$D$19,4)+VLOOKUP(F13,'Shift Data'!$A$2:$D$19,4)+VLOOKUP(G13,'Shift Data'!$A$2:$D$19,4)+VLOOKUP(H13,'Shift Data'!$A$2:$D$19,4) -> #N/A | J13: =VLOOKUP(A13,'Employee IDs with Pay Rate'!$A$2:$B$21,2) -> #N/A | K13: =I13*J13 -> #N/A
I14: =VLOOKUP(B14,'Shift Data'!$A$2:$D$19,4)+VLOOKUP(C14,'Shift Data'!$A$2:$D$19,4)+VLOOKUP(D14,'Shift Data'!$A$2:$D$19,4)+VLOOKUP(E14,'Shift Data'!$A$2:$D$19,4)+VLOOKUP(F14,'Shift Data'!$A$2:$D$19,4)+VLOOKUP(G14,'Shift Data'!$A$2:$D$19,4)+VLOOKUP(H14,'Shift Data'!$A$2:$D$19,4) -> #N/A | J14: =VLOOKUP(A14,'Employee IDs with Pay Rate'!$A$2:$B$21,2) -> #N/A | K14: =I14*J14 -> #N/A
I15: =VLOOKUP(B15,'Shift Data'!$A$2:$D$19,4)+VLOOKUP(C15,'Shift Data'!$A$2:$D$19,4)+VLOOKUP(D15,'Shift Data'!$A$2:$D$19,4)+VLOOKUP(E15,'Shift Data'!$A$2:$D$19,4)+VLOOKUP(F15,'Shift Data'!$A$2:$D$19,4)+VLOOKUP(G15,'Shift Data'!$A$2:$D$19,4)+VLOOKUP(H15,'Shift Data'!$A$2:$D$19,4) -> #N/A | J15: =VLOOKUP(A15,'Employee IDs with Pay Rate'!$A$2:$B$21,2) -> #N/A | K15: =I15*J15 -> #N/A
I16: =VLOOKUP(B16,'Shift Data'!$A$2:$D$19,4)+VLOOKUP(C16,'Shift Data'!$A$2:$D$19,4)+VLOOKUP(D16,'Shift Data'!$A$2:$D$19,4)+VLOOKUP(E16,'Shift Data'!$A$2:$D$19,4)+VLOOKUP(F16,'Shift Data'!$A$2:$D$19,4)+VLOOKUP(G16,'Shift Data'!$A$2:$D$19,4)+VLOOKUP(H16,'Shift Data'!$A$2:$D$19,4) -> #N/A | J16: =VLOOKUP(A16,'Employee IDs with Pay Rate'!$A$2:$B$21,2) -> #N/A | K16: =I16*J16 -> #N/A
I17: =VLOOKUP(B17,'Shift Data'!$A$2:$D$19,4)+VLOOKUP(C17,'Shift Data'!$A$2:$D$19,4)+VLOOKUP(D17,'Shift Data'!$A$2:$D$19,4)+VLOOKUP(E17,'Shift Data'!$A$2:$D$19,4)+VLOOKUP(F17,'Shift Data'!$A$2:$D$19,4)+VLOOKUP(G17,'Shift Data'!$A$2:$D$19,4)+VLOOKUP(H17,'Shift Data'!$A$2:$D$19,4) -> #N/A | J17: =VLOOKUP(A17,'Employee IDs with Pay Rate'!$A$2:$B$21,2) -> #N/A | K17: =I17*J17 -> #N/A
I18: =VLOOKUP(B18,'Shift Data'!$A$2:$D$19,4)+VLOOKUP(C18,'Shift Data'!$A$2:$D$19,4)+VLOOKUP(D18,'Shift Data'!$A$2:$D$19,4)+VLOOKUP(E18,'Shift Data'!$A$2:$D$19,4)+VLOOKUP(F18,'Shift Data'!$A$2:$D$19,4)+VLOOKUP(G18,'Shift Data'!$A$2:$D$19,4)+VLOOKUP(H18,'Shift Data'!$A$2:$D$19,4) -> #N/A | J18: =VLOOKUP(A18,'Employee IDs with Pay Rate'!$A$2:$B$21,2) -> #N/A | K18: =I18*J18 -> #N/A
I19: =VLOOKUP(B19,'Shift Data'!$A$2:$D$19,4)+VLOOKUP(C19,'Shift Data'!$A$2:$D$19,4)+VLOOKUP(D19,'Shift Data'!$A$2:$D$19,4)+VLOOKUP(E19,'Shift Data'!$A$2:$D$19,4)+VLOOKUP(F19,'Shift Data'!$A$2:$D$19,4)+VLOOKUP(G19,'Shift Data'!$A$2:$D$19,4)+VLOOKUP(H19,'Shift Data'!$A$2:$D$19,4) -> #N/A | J19: =VLOOKUP(A19,'Employee IDs with Pay Rate'!$A$2:$B$21,2) -> #N/A | K19: =I19*J19 -> #N/A
I20: =VLOOKUP(B20,'Shift Data'!$A$2:$D$19,4)+VLOOKUP(C20,'Shift Data'!$A$2:$D$19,4)+VLOOKUP(D20,'Shift Data'!$A$2:$D$19,4)+VLOOKUP(E20,'Shift Data'!$A$2:$D$19,4)+VLOOKUP(F20,'Shift Data'!$A$2:$D$19,4)+VLOOKUP(G20,'Shift Data'!$A$2:$D$19,4)+VLOOKUP(H20,'Shift Data'!$A$2:$D$19,4) -> #N/A | J20: =VLOOKUP(A20,'Employee IDs with Pay Rate'!$A$2:$B$21,2) -> #N/A | K20: =I20*J20 -> #N/A
I21: TOTAL COST: | K21: =SUM(K6:K9) -> 4650.375
A23: Create an Employee Work Schedule in Smartsheet

Sheet Shift Data
A1: SHIFT_TYPE | B1: BEGIN | C1: END | D1: HOURS
A2: Afternoon | B2: 0.5 | C2: 0.83333333 | D2: 8
A3: Day | B3: 0.33333333 | C3: 0.66666667 | D3: 8
A4: Evening | B4: 0.66666667 | C4: 0 | D4: 8
A5: Half Time | B5: 0.33333333 | C5: 0.5 | D5: 4
A6: Night | B6: 0 | C6: 0.33333333 | D6: 8
A7: Swing Shift | B7: 0.66666667 | C7: 0.89583333 | D7: 5.5
A8: Vacation | B8: 0.33333333 | C8: 0.66666667 | D8: 8
A9: OFF | D9: 0

Sheet Employee IDs with Pay Rate
A1: EMPLOYEE_ID | B1: PAY_RATE
A2: 40587 - Cara C. | B2: 23.14
A3: 42867 - Alex D. | B3: 17.16
A4: 49862 - Daniel H. | B4: 25.33
A5: 52186 - Nathan M. | B5: 32.42
