Workbook

Sheet Tables - View
B2: =IF(NOT('Teams - Setup'!B2=""),'Teams - Setup'!B2,"") -> MLS Season 2014 | AB2: MLS CUP PLAYOFFS
B4: =IF(NOT('Teams - Setup'!B4=""),'Teams - Setup'!B4,"") -> Eastern Conference
B5: POS | C5: CLUB | E5: PTS | G5: GP | H5: PPG | J5: W | K5: L | L5: T | N5: GF | O5: GA | P5: GD | R5: HGF | S5: HGA | T5: HGD | V5: AGF | W5: AGA | X5: AGD | AB5: DAY | AC5: DATE | AD5: TIME | AE5: HOME TEAM | AF5: H | AG5: A | AH5: AWAY TEAM | AJ5: Extra-Time | AM5: Penalties | AP5: FT | AQ5: ET | AR5: PEN | AT5: Winner | AU5: Loser
B6: 1 | C6: =IF(NOT(B6=""),VLOOKUP(B6,ECTable,2,0),"") -> New England | E6: =IF(NOT(B6=""),VLOOKUP(B6,ECTable,4,0),"") -> 23 | G6: =IF(NOT(B6=""),VLOOKUP(B6,ECTable,6,0),"") -> 13 | H6: =IF(NOT(B6=""),VLOOKUP(B6,ECTable,7,0),"") -> 1.7692308 | J6: =IF(NOT(B6=""),VLOOKUP(B6,ECTable,9,0),"") -> 7 | K6: =IF(NOT(B6=""),VLOOKUP(B6,ECTable,10,0),"") -> 4 | L6: =IF(NOT(B6=""),VLOOKUP(B6,ECTable,11,0),"") -> 2 | N6: =IF(NOT(B6=""),VLOOKUP(B6,ECTable,12,0),"") -> 21 | O6: =IF(NOT(B6=""),VLOOKUP(B6,ECTable,13,0),"") -> 16 | P6: =IF(NOT(B6=""),VLOOKUP(B6,ECTable,14,0),"") -> 5 | R6: =IF(NOT(B6=""),VLOOKUP(B6,ECTable,21,0),"") -> 11 | S6: =IF(NOT(B6=""),VLOOKUP(B6,ECTable,22,0),"") -> 1 | T6: =IF(NOT(B6=""),VLOOKUP(B6,ECTable,23,0),"") -> 10 | V6: =IF(NOT(B6=""),VLOOKUP(B6,ECTable,30,0),"") -> 10 | W6: =IF(NOT(B6=""),VLOOKUP(B6,ECTable,31,0),"") -> 15 | X6: =IF(NOT(B6=""),VLOOKUP(B6,ECTable,32,0),"") -> -5 | AB6: KNOCKOUT ROUND
B7: =IF(B6<ECNumberTeams,B6+1,"") -> 2 | C7: =IF(NOT(B7=""),VLOOKUP(B7,ECTable,2,0),"") -> D.C. United | E7: =IF(NOT(B7=""),VLOOKUP(B7,ECTable,4,0),"") -> 21 | G7: =IF(NOT(B7=""),VLOOKUP(B7,ECTable,6,0),"") -> 13 | H7: =IF(NOT(B7=""),VLOOKUP(B7,ECTable,7,0),"") -> 1.6153846 | J7: =IF(NOT(B7=""),VLOOKUP(B7,ECTable,9,0),"") -> 6 | K7: =IF(NOT(B7=""),VLOOKUP(B7,ECTable,10,0),"") -> 4 | L7: =IF(NOT(B7=""),VLOOKUP(B7,ECTable,11,0),"") -> 3 | N7: =IF(NOT(B7=""),VLOOKUP(B7,ECTable,12,0),"") -> 18 | O7: =IF(NOT(B7=""),VLOOKUP(B7,ECTable,13,0),"") -> 14 | P7: =IF(NOT(B7=""),VLOOKUP(B7,ECTable,14,0),"") -> 4 | R7: =IF(NOT(B7=""),VLOOKUP(B7,ECTable,21,0),"") -> 13 | S7: =IF(NOT(B7=""),VLOOKUP(B7,ECTable,22,0),"") -> 7 | T7: =IF(NOT(B7=""),VLOOKUP(B7,ECTable,23,0),"") -> 6 | V7: =IF(NOT(B7=""),VLOOKUP(B7,ECTable,30,0),"") -> 5 | W7: =IF(NOT(B7=""),VLOOKUP(B7,ECTable,31,0),"") -> 7 | X7: =IF(NOT(B7=""),VLOOKUP(B7,ECTable,32,0),"") -> -2 | AE7: =IF(NOT(C9=""),C9,"4th Place") -> Houston | AH7: =IF(NOT(C10=""),C10,"5th Place") -> Columbus | AP7: =IF(AND(NOT(AF7=""),NOT(AG7="")),IF(AF7=AG7,"D",IF(AF7>AG7,"HW","AW")),"") | AQ7: =IF(AP7="D",IF(AND(NOT(AJ7=""),NOT(AK7="")),IF(AJ7=AK7,"D",IF(AJ7>AK7,"HW","AW")),""),"") | AR7: =IF(AQ7="D",IF(AND(NOT(AM7=""),NOT(AN7="")),IF(AM7=AN7,"D",IF(AM7>AN7,"HW","AW")),""),"") | AT7: =IF(OR(AP7="HW",AQ7="HW",AR7="HW"),AE7,IF(OR(AP7="AW",AQ7="AW",AR7="AW"),AH7,"")) | AU7: =IF(OR(AP7="HW",AQ7="HW",AR7="HW"),AH7,IF(OR(AP7="AW",AQ7="AW",AR7="AW"),AE7,""))
B8: =IF(B7<ECNumberTeams,B7+1,"") -> 3 | C8: =IF(NOT(B8=""),VLOOKUP(B8,ECTable,2,0),"") -> Sporting KC | E8: =IF(NOT(B8=""),VLOOKUP(B8,ECTable,4,0),"") -> 19 | G8: =IF(NOT(B8=""),VLOOKUP(B8,ECTable,6,0),"") -> 14 | H8: =IF(NOT(B8=""),VLOOKUP(B8,ECTable,7,0),"") -> 1.3571429 | J8: =IF(NOT(B8=""),VLOOKUP(B8,ECTable,9,0),"") -> 5 | K8: =IF(NOT(B8=""),VLOOKUP(B8,ECTable,10,0),"") -> 5 | L8: =IF(NOT(B8=""),VLOOKUP(B8,ECTable,11,0),"") -> 4 | N8: =IF(NOT(B8=""),VLOOKUP(B8,ECTable,12,0),"") -> 19 | O8: =IF(NOT(B8=""),VLOOKUP(B8,ECTable,13,0),"") -> 14 | P8: =IF(NOT(B8=""),VLOOKUP(B8,ECTable,14,0),"") -> 5 | R8: =IF(NOT(B8=""),VLOOKUP(B8,ECTable,21,0),"") -> 12 | S8: =IF(NOT(B8=""),VLOOKUP(B8,ECTable,22,0),"") -> 6 | T8: =IF(NOT(B8=""),VLOOKUP(B8,ECTable,23,0),"") -> 6 | V8: =IF(NOT(B8=""),VLOOKUP(B8,ECTable,30,0),"") -> 7 | W8: =IF(NOT(B8=""),VLOOKUP(B8,ECTable,31,0),"") -> 8 | X8: =IF(NOT(B8=""),VLOOKUP(B8,ECTable,32,0),"") -> -1 | AB8: CONFERENCE SEMIFINALS
B9: =IF(B8<ECNumberTeams,B8+1,"") -> 4 | C9: =IF(NOT(B9=""),VLOOKUP(B9,ECTable,2,0),"") -> Houston | E9: =IF(NOT(B9=""),VLOOKUP(B9,ECTable,4,0),"") -> 17 | G9: =IF(NOT(B9=""),VLOOKUP(B9,ECTable,6,0),"") -> 15 | H9: =IF(NOT(B9=""),VLOOKUP(B9,ECTable,7,0),"") -> 1.1333333 | J9: =IF(NOT(B9=""),VLOOKUP(B9,ECTable,9,0),"") -> 5 | K9: =IF(NOT(B9=""),VLOOKUP(B9,ECTable,10,0),"") -> 8 | L9: =IF(NOT(B9=""),VLOOKUP(B9,ECTable,11,0),"") -> 2 | N9: =IF(NOT(B9=""),VLOOKUP(B9,ECTable,12,0),"") -> 16 | O9: =IF(NOT(B9=""),VLOOKUP(B9,ECTable,13,0),"") -> 27 | P9: =IF(NOT(B9=""),VLOOKUP(B9,ECTable,14,0),"") -> -11 | R9: =IF(NOT(B9=""),VLOOKUP(B9,ECTable,21,0),"") -> 11 | S9: =IF(NOT(B9=""),VLOOKUP(B9,ECTable,22,0),"") -> 10 | T9: =IF(NOT(B9=""),VLOOKUP(B9,ECTable,23,0),"") -> 1 | V9: =IF(NOT(B9=""),VLOOKUP(B9,ECTable,30,0),"") -> 5 | W9: =IF(NOT(B9=""),VLOOKUP(B9,ECTable,31,0),"") -> 17 | X9: =IF(NOT(B9=""),VLOOKUP(B9,ECTable,32,0),"") -> -12 | AE9: =IF(NOT(C8=""),C8,"3rd Place") -> Sporting KC | AH9: =IF(NOT(C7=""),C7,"2nd Place") -> D.C. United | AP9: =IF(AND(NOT(AF9=""),NOT(AG9="")),IF(AF9=AG9,"D",IF(AF9>AG9,"HW","AW")),"") | AT9: =IF(OR(AP9="HW",AQ9="HW",AR9="HW"),AE9,IF(OR(AP9="AW",AQ9="AW",AR9="AW"),AH9,"")) | AU9: =IF(OR(AP9="HW",AQ9="HW",AR9="HW"),AH9,IF(OR(AP9="AW",AQ9="AW",AR9="AW"),AE9,""))
B10: =IF(B9<ECNumberTeams,B9+1,"") -> 5 | C10: =IF(NOT(B10=""),VLOOKUP(B10,ECTable,2,0),"") -> Columbus | E10: =IF(NOT(B10=""),VLOOKUP(B10,ECTable,4,0),"") -> 17 | G10: =IF(NOT(B10=""),VLOOKUP(B10,ECTable,6,0),"") -> 14 | H10: =IF(NOT(B10=""),VLOOKUP(B10,ECTable,7,0),"") -> 1.2142857 | J10: =IF(NOT(B10=""),VLOOKUP(B10,ECTable,9,0),"") -> 4 | K10: =IF(NOT(B10=""),VLOOKUP(B10,ECTable,10,0),"") -> 5 | L10: =IF(NOT(B10=""),VLOOKUP(B10,ECTable,11,0),"") -> 5 | N10: =IF(NOT(B10=""),VLOOKUP(B10,ECTable,12,0),"") -> 18 | O10: =IF(NOT(B10=""),VLOOKUP(B10,ECTable,13,0),"") -> 18 | P10: =IF(NOT(B10=""),VLOOKUP(B10,ECTable,14,0),"") -> 0 | R10: =IF(NOT(B10=""),VLOOKUP(B10,ECTable,21,0),"") -> 7 | S10: =IF(NOT(B10=""),VLOOKUP(B10,ECTable,22,0),"") -> 7 | T10: =IF(NOT(B10=""),VLOOKUP(B10,ECTable,23,0),"") -> 0 | V10: =IF(NOT(B10=""),VLOOKUP(B10,ECTable,30,0),"") -> 11 | W10: =IF(NOT(B10=""),VLOOKUP(B10,ECTable,31,0),"") -> 11 | X10: =IF(NOT(B10=""),VLOOKUP(B10,ECTable,32,0),"") -> 0 | AE10: =IF(NOT(C7=""),C7,"2nd Place") -> D.C. United | AH10: =IF(NOT(C8=""),C8,"3rd Place") -> Sporting KC | AP10: =IF(AND(NOT(AF9=""),NOT(AG9=""),NOT(AF10=""),NOT(AG10="")),IF((AG9+AF10)=(AF9+AG10),"D",IF((AG9+AF10)>(AF9+AG10),"HW","AW")),"") | AQ10: =IF(AP10="D",IF(AND(NOT(AJ10=""),NOT(AK10="")),IF(AJ10=AK10,"D",IF(AJ10>AK10,"HW","AW")),""),"") | AR10: =IF(AQ10="D",IF(AND(NOT(AM10=""),NOT(AN10="")),IF(AM10=AN10,"D",IF(AM10>AN10,"HW","AW")),""),"") | AT10: =IF(OR(AP10="HW",AQ10="HW",AR10="HW"),AE10,IF(OR(AP10="AW",AQ10="AW",AR10="AW"),AH10,"")) | AU10: =IF(OR(AP10="HW",AQ10="HW",AR10="HW"),AH10,IF(OR(AP10="AW",AQ10="AW",AR10="AW"),AE10,""))
B11: =IF(B10<ECNumberTeams,B10+1,"") -> 6 | C11: =IF(NOT(B11=""),VLOOKUP(B11,ECTable,2,0),"") -> Toronto FC | E11: =IF(NOT(B11=""),VLOOKUP(B11,ECTable,4,0),"") -> 16 | G11: =IF(NOT(B11=""),VLOOKUP(B11,ECTable,6,0),"") -> 10 | H11: =IF(NOT(B11=""),VLOOKUP(B11,ECTable,7,0),"") -> 1.6 | J11: =IF(NOT(B11=""),VLOOKUP(B11,ECTable,9,0),"") -> 5 | K11: =IF(NOT(B11=""),VLOOKUP(B11,ECTable,10,0),"") -> 4 | L11: =IF(NOT(B11=""),VLOOKUP(B11,ECTable,11,0),"") -> 1 | N11: =IF(NOT(B11=""),VLOOKUP(B11,ECTable,12,0),"") -> 14 | O11: =IF(NOT(B11=""),VLOOKUP(B11,ECTable,13,0),"") -> 13 | P11: =IF(NOT(B11=""),VLOOKUP(B11,ECTable,14,0),"") -> 1 | R11: =IF(NOT(B11=""),VLOOKUP(B11,ECTable,21,0),"") -> 7 | S11: =IF(NOT(B11=""),VLOOKUP(B11,ECTable,22,0),"") -> 5 | T11: =IF(NOT(B11=""),VLOOKUP(B11,ECTable,23,0),"") -> 2 | V11: =IF(NOT(B11=""),VLOOKUP(B11,ECTable,30,0),"") -> 7 | W11: =IF(NOT(B11=""),VLOOKUP(B11,ECTable,31,0),"") -> 8 | X11: =IF(NOT(B11=""),VLOOKUP(B11,ECTable,32,0),"") -> -1 | AE11: =IF(NOT(AT7=""),AT7,"Winner Knockout") -> Winner Knockout | AH11: =IF(NOT(C6=""),C6,"1st Place") -> New England | AP11: =IF(AND(NOT(AF11=""),NOT(AG11="")),IF(AF11=AG11,"D",IF(AF11>AG11,"HW","AW")),"") | AT11: =IF(OR(AP11="HW",AQ11="HW",AR11="HW"),AE11,IF(OR(AP11="AW",AQ11="AW",AR11="AW"),AH11,"")) | AU11: =IF(OR(AP11="HW",AQ11="HW",AR11="HW"),AH11,IF(OR(AP11="AW",AQ11="AW",AR11="AW"),AE11,""))
B12: =IF(B11<ECNumberTeams,B11+1,"") -> 7 | C12: =IF(NOT(B12=""),VLOOKUP(B12,ECTable,2,0),"") -> New York | E12: =IF(NOT(B12=""),VLOOKUP(B12,ECTable,4,0),"") -> 15 | G12: =IF(NOT(B12=""),VLOOKUP(B12,ECTable,6,0),"") -> 14 | H12: =IF(NOT(B12=""),VLOOKUP(B12,ECTable,7,0),"") -> 1.0714286 | J12: =IF(NOT(B12=""),VLOOKUP(B12,ECTable,9,0),"") -> 3 | K12: =IF(NOT(B12=""),VLOOKUP(B12,ECTable,10,0),"") -> 5 | L12: =IF(NOT(B12=""),VLOOKUP(B12,ECTable,11,0),"") -> 6 | N12: =IF(NOT(B12=""),VLOOKUP(B12,ECTable,12,0),"") -> 20 | O12: =IF(NOT(B12=""),VLOOKUP(B12,ECTable,13,0),"") -> 22 | P12: =IF(NOT(B12=""),VLOOKUP(B12,ECTable,14,0),"") -> -2 | R12: =IF(NOT(B12=""),VLOOKUP(B12,ECTable,21,0),"") -> 13 | S12: =IF(NOT(B12=""),VLOOKUP(B12,ECTable,22,0),"") -> 10 | T12: =IF(NOT(B12=""),VLOOKUP(B12,ECTable,23,0),"") -> 3 | V12: =IF(NOT(B12=""),VLOOKUP(B12,ECTable,30,0),"") -> 7 | W12: =IF(NOT(B12=""),VLOOKUP(B12,ECTable,31,0),"") -> 12 | X12: =IF(NOT(B12=""),VLOOKUP(B12,ECTable,32,0),"") -> -5 | AE12: =IF(NOT(C6=""),C6,"1st Place") -> New England | AH12: =IF(NOT(AT7=""),AT7,"Winner Knockout") -> Winner Knockout | AP12: =IF(AND(NOT(AF11=""),NOT(AG11=""),NOT(AF12=""),NOT(AG12="")),IF((AG11+AF12)=(AF11+AG12),"D",IF((AG11+AF12)>(AF11+AG12),"HW","AW")),"") | AQ12: =IF(AP12="D",IF(AND(NOT(AJ12=""),NOT(AK12="")),IF(AJ12=AK12,"D",IF(AJ12>AK12,"HW","AW")),""),"") | AR12: =IF(AQ12="D",IF(AND(NOT(AM12=""),NOT(AN12="")),IF(AM12=AN12,"D",IF(AM12>AN12,"HW","AW")),""),"") | AT12: =IF(OR(AP12="HW",AQ12="HW",AR12="HW"),AE12,IF(OR(AP12="AW",AQ12="AW",AR12="AW"),AH12,"")) | AU12: =IF(OR(AP12="HW",AQ12="HW",AR12="HW"),AH12,IF(OR(AP12="AW",AQ12="AW",AR12="AW"),AE12,""))
B13: =IF(B12<ECNumberTeams,B12+1,"") -> 8 | C13: =IF(NOT(B13=""),VLOOKUP(B13,ECTable,2,0),"") -> Philadelphia | E13: =IF(NOT(B13=""),VLOOKUP(B13,ECTable,4,0),"") -> 14 | G13: =IF(NOT(B13=""),VLOOKUP(B13,ECTable,6,0),"") -> 15 | H13: =IF(NOT(B13=""),VLOOKUP(B13,ECTable,7,0),"") -> 0.93333333 | J13: =IF(NOT(B13=""),VLOOKUP(B13,ECTable,9,0),"") -> 3 | K13: =IF(NOT(B13=""),VLOOKUP(B13,ECTable,10,0),"") -> 7 | L13: =IF(NOT(B13=""),VLOOKUP(B13,ECTable,11,0),"") -> 5 | N13: =IF(NOT(B13=""),VLOOKUP(B13,ECTable,12,0),"") -> 19 | O13: =IF(NOT(B13=""),VLOOKUP(B13,ECTable,13,0),"") -> 24 | P13: =IF(NOT(B13=""),VLOOKUP(B13,ECTable,14,0),"") -> -5 | R13: =IF(NOT(B13=""),VLOOKUP(B13,ECTable,21,0),"") -> 7 | S13: =IF(NOT(B13=""),VLOOKUP(B13,ECTable,22,0),"") -> 9 | T13: =IF(NOT(B13=""),VLOOKUP(B13,ECTable,23,0),"") -> -2 | V13: =IF(NOT(B13=""),VLOOKUP(B13,ECTable,30,0),"") -> 12 | W13: =IF(NOT(B13=""),VLOOKUP(B13,ECTable,31,0),"") -> 15 | X13: =IF(NOT(B13=""),VLOOKUP(B13,ECTable,32,0),"") -> -3 | AB13: CONFERENCE CHAMPIONSHIPS
B14: =IF(B13<ECNumberTeams,B13+1,"") -> 9 | C14: =IF(NOT(B14=""),VLOOKUP(B14,ECTable,2,0),"") -> Chicago | E14: =IF(NOT(B14=""),VLOOKUP(B14,ECTable,4,0),"") -> 14 | G14: =IF(NOT(B14=""),VLOOKUP(B14,ECTable,6,0),"") -> 13 | H14: =IF(NOT(B14=""),VLOOKUP(B14,ECTable,7,0),"") -> 1.0769231 | J14: =IF(NOT(B14=""),VLOOKUP(B14,ECTable,9,0),"") -> 2 | K14: =IF(NOT(B14=""),VLOOKUP(B14,ECTable,10,0),"") -> 3 | L14: =IF(NOT(B14=""),VLOOKUP(B14,ECTable,11,0),"") -> 8 | N14: =IF(NOT(B14=""),VLOOKUP(B14,ECTable,12,0),"") -> 20 | O14: =IF(NOT(B14=""),VLOOKUP(B14,ECTable,13,0),"") -> 22 | P14: =IF(NOT(B14=""),VLOOKUP(B14,ECTable,14,0),"") -> -2 | R14: =IF(NOT(B14=""),VLOOKUP(B14,ECTable,21,0),"") -> 9 | S14: =IF(NOT(B14=""),VLOOKUP(B14,ECTable,22,0),"") -> 9 | T14: =IF(NOT(B14=""),VLOOKUP(B14,ECTable,23,0),"") -> 0 | V14: =IF(NOT(B14=""),VLOOKUP(B14,ECTable,30,0),"") -> 11 | W14: =IF(NOT(B14=""),VLOOKUP(B14,ECTable,31,0),"") -> 13 | X14: =IF(NOT(B14=""),VLOOKUP(B14,ECTable,32,0),"") -> -2 | AE14: =IF(NOT(AT12=""),AT12,"Winner Semi-Final 2") -> Winner Semi-Final 2 | AH14: =IF(NOT(AT10=""),AT10,"Winner Semi-Final 1") -> Winner Semi-Final 1 | AP14: =IF(AND(NOT(AF14=""),NOT(AG14="")),IF(AF14=AG14,"D",IF(AF14>AG14,"HW","AW")),"") | AT14: =IF(OR(AP14="HW",AQ14="HW",AR14="HW"),AE14,IF(OR(AP14="AW",AQ14="AW",AR14="AW"),AH14,"")) | AU14: =IF(OR(AP14="HW",AQ14="HW",AR14="HW"),AH14,IF(OR(AP14="AW",AQ14="AW",AR14="AW"),AE14,""))
B15: =IF(B14<ECNumberTeams,B14+1,"") -> 10 | C15: =IF(NOT(B15=""),VLOOKUP(B15,ECTable,2,0),"") -> Montreal | E15: =IF(NOT(B15=""),VLOOKUP(B15,ECTable,4,0),"") -> 10 | G15: =IF(NOT(B15=""),VLOOKUP(B15,ECTable,6,0),"") -> 12 | H15: =IF(NOT(B15=""),VLOOKUP(B15,ECTable,7,0),"") -> 0.83333333 | J15: =IF(NOT(B15=""),VLOOKUP(B15,ECTable,9,0),"") -> 2 | K15: =IF(NOT(B15=""),VLOOKUP(B15,ECTable,10,0),"") -> 6 | L15: =IF(NOT(B15=""),VLOOKUP(B15,ECTable,11,0),"") -> 4 | N15: =IF(NOT(B15=""),VLOOKUP(B15,ECTable,12,0),"") -> 11 | O15: =IF(NOT(B15=""),VLOOKUP(B15,ECTable,13,0),"") -> 22 | P15: =IF(NOT(B15=""),VLOOKUP(B15,ECTable,14,0),"") -> -11 | R15: =IF(NOT(B15=""),VLOOKUP(B15,ECTable,21,0),"") -> 6 | S15: =IF(NOT(B15=""),VLOOKUP(B15,ECTable,22,0),"") -> 8 | T15: =IF(NOT(B15=""),VLOOKUP(B15,ECTable,23,0),"") -> -2 | V15: =IF(NOT(B15=""),VLOOKUP(B15,ECTable,30,0),"") -> 5 | W15: =IF(NOT(B15=""),VLOOKUP(B15,ECTable,31,0),"") -> 14 | X15: =IF(NOT(B15=""),VLOOKUP(B15,ECTable,32,0),"") -> -9 | AE15: =IF(NOT(AT10=""),AT10,"Winner Semi-Final 1") -> Winner Semi-Final 1 | AH15: =IF(NOT(AT12=""),AT12,"Winner Semi-Final 2") -> Winner Semi-Final 2 | AP15: =IF(AND(NOT(AF14=""),NOT(AG14=""),NOT(AF15=""),NOT(AG15="")),IF((AG14+AF15)=(AF14+AG15),"D",IF((AG14+AF15)>(AF14+AG15),"HW","AW")),"") | AQ15: =IF(AP15="D",IF(AND(NOT(AJ15=""),NOT(AK15="")),IF(AJ15=AK15,"D",IF(AJ15>AK15,"HW","AW")),""),"") | AR15: =IF(AQ15="D",IF(AND(NOT(AM15=""),NOT(AN15="")),IF(AM15=AN15,"D",IF(AM15>AN15,"HW","AW")),""),"") | AT15: =IF(OR(AP15="HW",AQ15="HW",AR15="HW"),AE15,IF(OR(AP15="AW",AQ15="AW",AR15="AW"),AH15,"")) | AU15: =IF(OR(AP15="HW",AQ15="HW",AR15="HW"),AH15,IF(OR(AP15="AW",AQ15="AW",AR15="AW"),AE15,""))
B16: =IF(B15<ECNumberTeams,B15+1,"") | C16: =IF(NOT(B16=""),VLOOKUP(B16,ECTable,2,0),"") | E16: =IF(NOT(B16=""),VLOOKUP(B16,ECTable,4,0),"") | G16: =IF(NOT(B16=""),VLOOKUP(B16,ECTable,6,0),"") | H16: =IF(NOT(B16=""),VLOOKUP(B16,ECTable,7,0),"") | J16: =IF(NOT(B16=""),VLOOKUP(B16,ECTable,9,0),"") | K16: =IF(NOT(B16=""),VLOOKUP(B16,ECTable,10,0),"") | L16: =IF(NOT(B16=""),VLOOKUP(B16,ECTable,11,0),"") | N16: =IF(NOT(B16=""),VLOOKUP(B16,ECTable,12,0),"") | O16: =IF(NOT(B16=""),VLOOKUP(B16,ECTable,13,0),"") | P16: =IF(NOT(B16=""),VLOOKUP(B16,ECTable,14,0),"") | R16: =IF(NOT(B16=""),VLOOKUP(B16,ECTable,21,0),"") | S16: =IF(NOT(B16=""),VLOOKUP(B16,ECTable,22,0),"") | T16: =IF(NOT(B16=""),VLOOKUP(B16,ECTable,23,0),"") | V16: =IF(NOT(B16=""),VLOOKUP(B16,ECTable,30,0),"") | W16: =IF(NOT(B16=""),VLOOKUP(B16,ECTable,31,0),"") | X16: =IF(NOT(B16=""),VLOOKUP(B16,ECTable,32,0),"")
B17: =IF(B16<ECNumberTeams,B16+1,"") | C17: =IF(NOT(B17=""),VLOOKUP(B17,ECTable,2,0),"") | E17: =IF(NOT(B17=""),VLOOKUP(B17,ECTable,4,0),"") | G17: =IF(NOT(B17=""),VLOOKUP(B17,ECTable,6,0),"") | H17: =IF(NOT(B17=""),VLOOKUP(B17,ECTable,7,0),"") | J17: =IF(NOT(B17=""),VLOOKUP(B17,ECTable,9,0),"") | K17: =IF(NOT(B17=""),VLOOKUP(B17,ECTable,10,0),"") | L17: =IF(NOT(B17=""),VLOOKUP(B17,ECTable,11,0),"") | N17: =IF(NOT(B17=""),VLOOKUP(B17,ECTable,12,0),"") | O17: =IF(NOT(B17=""),VLOOKUP(B17,ECTable,13,0),"") | P17: =IF(NOT(B17=""),VLOOKUP(B17,ECTable,14,0),"") | R17: =IF(NOT(B17=""),VLOOKUP(B17,ECTable,21,0),"") | S17: =IF(NOT(B17=""),VLOOKUP(B17,ECTable,22,0),"") | T17: =IF(NOT(B17=""),VLOOKUP(B17,ECTable,23,0),"") | V17: =IF(NOT(B17=""),VLOOKUP(B17,ECTable,30,0),"") | W17: =IF(NOT(B17=""),VLOOKUP(B17,ECTable,31,0),"") | X17: =IF(NOT(B17=""),VLOOKUP(B17,ECTable,32,0),"")
B19: =IF(NOT('Teams - Setup'!B19=""),'Teams - Setup'!B19,"") -> Western Conference
B20: POS | C20: CLUB | E20: PTS | G20: GP | H20: PPG | J20: W | K20: L | L20: T | N20: GF | O20: GA | P20: GD | R20: HGF | S20: HGA | T20: HGD | V20: AGF | W20: AGA | X20: AGD | AB20: DAY | AC20: DATE | AD20: TIME | AE20: HOME TEAM | AF20: H | AG20: A | AH20: AWAY TEAM | AJ20: Extra-Time | AM20: Penalties | AP20: FT | AQ20: ET | AR20: PEN | AT20: Winner | AU20: Loser
B21: 1 | C21: =IF(NOT(B21=""),VLOOKUP(B21,WCTable,2,0),"") -> Seattle | E21: =IF(NOT(B21=""),VLOOKUP(B21,WCTable,4,0),"") -> 29 | G21: =IF(NOT(B21=""),VLOOKUP(B21,WCTable,6,0),"") -> 14 | H21: =IF(NOT(B21=""),VLOOKUP(B21,WCTable,7,0),"") -> 2.0714286 | J21: =IF(NOT(B21=""),VLOOKUP(B21,WCTable,9,0),"") -> 9 | K21: =IF(NOT(B21=""),VLOOKUP(B21,WCTable,10,0),"") -> 3 | L21: =IF(NOT(B21=""),VLOOKUP(B21,WCTable,11,0),"") -> 2 | N21: =IF(NOT(B21=""),VLOOKUP(B21,WCTable,12,0),"") -> 29 | O21: =IF(NOT(B21=""),VLOOKUP(B21,WCTable,13,0),"") -> 21 | P21: =IF(NOT(B21=""),VLOOKUP(B21,WCTable,14,0),"") -> 8 | R21: =IF(NOT(B21=""),VLOOKUP(B21,WCTable,21,0),"") -> 16 | S21: =IF(NOT(B21=""),VLOOKUP(B21,WCTable,22,0),"") -> 7 | T21: =IF(NOT(B21=""),VLOOKUP(B21,WCTable,23,0),"") -> 9 | V21: =IF(NOT(B21=""),VLOOKUP(B21,WCTable,30,0),"") -> 13 | W21: =IF(NOT(B21=""),VLOOKUP(B21,WCTable,31,0),"") -> 14 | X21: =IF(NOT(B21=""),VLOOKUP(B21,WCTable,32,0),"") -> -1 | AB21: KNOCKOUT ROUND
B22: =IF(B21<WCNumberTeams,B21+1,"") -> 2 | C22: =IF(NOT(B22=""),VLOOKUP(B22,WCTable,2,0),"") -> Real Salt Lake | E22: =IF(NOT(B22=""),VLOOKUP(B22,WCTable,4,0),"") -> 25 | G22: =IF(NOT(B22=""),VLOOKUP(B22,WCTable,6,0),"") -> 14 | H22: =IF(NOT(B22=""),VLOOKUP(B22,WCTable,7,0),"") -> 1.7857143 | J22: =IF(NOT(B22=""),VLOOKUP(B22,WCTable,9,0),"") -> 6 | K22: =IF(NOT(B22=""),VLOOKUP(B22,WCTable,10,0),"") -> 1 | L22: =IF(NOT(B22=""),VLOOKUP(B22,WCTable,11,0),"") -> 7 | N22: =IF(NOT(B22=""),VLOOKUP(B22,WCTable,12,0),"") -> 24 | O22: =IF(NOT(B22=""),VLOOKUP(B22,WCTable,13,0),"") -> 18 | P22: =IF(NOT(B22=""),VLOOKUP(B22,WCTable,14,0),"") -> 6 | R22: =IF(NOT(B22=""),VLOOKUP(B22,WCTable,21,0),"") -> 9 | S22: =IF(NOT(B22=""),VLOOKUP(B22,WCTable,22,0),"") -> 4 | T22: =IF(NOT(B22=""),VLOOKUP(B22,WCTable,23,0),"") -> 5 | V22: =IF(NOT(B22=""),VLOOKUP(B22,WCTable,30,0),"") -> 15 | W22: =IF(NOT(B22=""),VLOOKUP(B22,WCTable,31,0),"") -> 14 | X22: =IF(NOT(B22=""),VLOOKUP(B22,WCTable,32,0),"") -> 1 | AE22: =IF(NOT(C24=""),C24,"4th Place") -> Vancouver | AH22: =IF(NOT(C25=""),C25,"5th Place") -> FC Dallas | AP22: =IF(AND(NOT(AF22=""),NOT(AG22="")),IF(AF22=AG22,"D",IF(AF22>AG22,"HW","AW")),"") | AQ22: =IF(AP22="D",IF(AND(NOT(AJ22=""),NOT(AK22="")),IF(AJ22=AK22,"D",IF(AJ22>AK22,"HW","AW")),""),"") | AR22: =IF(AQ22="D",IF(AND(NOT(AM22=""),NOT(AN22="")),IF(AM22=AN22,"D",IF(AM22>AN22,"HW","AW")),""),"") | AT22: =IF(OR(AP22="HW",AQ22="HW",AR22="HW"),AE22,IF(OR(AP22="AW",AQ22="AW",AR22="AW"),AH22,"")) | AU22: =IF(OR(AP22="HW",AQ22="HW",AR22="HW"),AH22,IF(OR(AP22="AW",AQ22="AW",AR22="AW"),AE22,""))
B23: =IF(B22<WCNumberTeams,B22+1,"") -> 3 | C23: =IF(NOT(B23=""),VLOOKUP(B23,WCTable,2,0),"") -> Colorado | E23: =IF(NOT(B23=""),VLOOKUP(B23,WCTable,4,0),"") -> 22 | G23: =IF(NOT(B23=""),VLOOKUP(B23,WCTable,6,0),"") -> 14 | H23: =IF(NOT(B23=""),VLOOKUP(B23,WCTable,7,0),"") -> 1.5714286 | J23: =IF(NOT(B23=""),VLOOKUP(B23,WCTable,9,0),"") -> 6 | K23: =IF(NOT(B23=""),VLOOKUP(B23,WCTable,10,0),"") -> 4 | L23: =IF(NOT(B23=""),VLOOKUP(B23,WCTable,11,0),"") -> 4 | N23: =IF(NOT(B23=""),VLOOKUP(B23,WCTable,12,0),"") -> 19 | O23: =IF(NOT(B23=""),VLOOKUP(B23,WCTable,13,0),"") -> 15 | P23: =IF(NOT(B23=""),VLOOKUP(B23,WCTable,14,0),"") -> 4 | R23: =IF(NOT(B23=""),VLOOKUP(B23,WCTable,21,0),"") -> 13 | S23: =IF(NOT(B23=""),VLOOKUP(B23,WCTable,22,0),"") -> 7 | T23: =IF(NOT(B23=""),VLOOKUP(B23,WCTable,23,0),"") -> 6 | V23: =IF(NOT(B23=""),VLOOKUP(B23,WCTable,30,0),"") -> 6 | W23: =IF(NOT(B23=""),VLOOKUP(B23,WCTable,31,0),"") -> 8 | X23: =IF(NOT(B23=""),VLOOKUP(B23,WCTable,32,0),"") -> -2 | AB23: CONFERENCE SEMIFINALS
B24: =IF(B23<WCNumberTeams,B23+1,"") -> 4 | C24: =IF(NOT(B24=""),VLOOKUP(B24,WCTable,2,0),"") -> Vancouver | E24: =IF(NOT(B24=""),VLOOKUP(B24,WCTable,4,0),"") -> 20 | G24: =IF(NOT(B24=""),VLOOKUP(B24,WCTable,6,0),"") -> 12 | H24: =IF(NOT(B24=""),VLOOKUP(B24,WCTable,7,0),"") -> 1.6666667 | J24: =IF(NOT(B24=""),VLOOKUP(B24,WCTable,9,0),"") -> 5 | K24: =IF(NOT(B24=""),VLOOKUP(B24,WCTable,10,0),"") -> 2 | L24: =IF(NOT(B24=""),VLOOKUP(B24,WCTable,11,0),"") -> 5 | N24: =IF(NOT(B24=""),VLOOKUP(B24,WCTable,12,0),"") -> 22 | O24: =IF(NOT(B24=""),VLOOKUP(B24,WCTable,13,0),"") -> 17 | P24: =IF(NOT(B24=""),VLOOKUP(B24,WCTable,14,0),"") -> 5 | R24: =IF(NOT(B24=""),VLOOKUP(B24,WCTable,21,0),"") -> 14 | S24: =IF(NOT(B24=""),VLOOKUP(B24,WCTable,22,0),"") -> 10 | T24: =IF(NOT(B24=""),VLOOKUP(B24,WCTable,23,0),"") -> 4 | V24: =IF(NOT(B24=""),VLOOKUP(B24,WCTable,30,0),"") -> 8 | W24: =IF(NOT(B24=""),VLOOKUP(B24,WCTable,31,0),"") -> 7 | X24: =IF(NOT(B24=""),VLOOKUP(B24,WCTable,32,0),"") -> 1 | AE24: =IF(NOT(C23=""),C23,"3rd Place") -> Colorado | AH24: =IF(NOT(C22=""),C22,"2nd Place") -> Real Salt Lake | AP24: =IF(AND(NOT(AF24=""),NOT(AG24="")),IF(AF24=AG24,"D",IF(AF24>AG24,"HW","AW")),"") | AT24: =IF(OR(AP24="HW",AQ24="HW",AR24="HW"),AE24,IF(OR(AP24="AW",AQ24="AW",AR24="AW"),AH24,"")) | AU24: =IF(OR(AP24="HW",AQ24="HW",AR24="HW"),AH24,IF(OR(AP24="AW",AQ24="AW",AR24="AW"),AE24,""))
B25: =IF(B24<WCNumberTeams,B24+1,"") -> 5 | C25: =IF(NOT(B25=""),VLOOKUP(B25,WCTable,2,0),"") -> FC Dallas | E25: =IF(NOT(B25=""),VLOOKUP(B25,WCTable,4,0),"") -> 18 | G25: =IF(NOT(B25=""),VLOOKUP(B25,WCTable,6,0),"") -> 15 | H25: =IF(NOT(B25=""),VLOOKUP(B25,WCTable,7,0),"") -> 1.2 | J25: =IF(NOT(B25=""),VLOOKUP(B25,WCTable,9,0),"") -> 5 | K25: =IF(NOT(B25=""),VLOOKUP(B25,WCTable,10,0),"") -> 7 | L25: =IF(NOT(B25=""),VLOOKUP(B25,WCTable,11,0),"") -> 3 | N25: =IF(NOT(B25=""),VLOOKUP(B25,WCTable,12,0),"") -> 23 | O25: =IF(NOT(B25=""),VLOOKUP(B25,WCTable,13,0),"") -> 24 | P25: =IF(NOT(B25=""),VLOOKUP(B25,WCTable,14,0),"") -> -1 | R25: =IF(NOT(B25=""),VLOOKUP(B25,WCTable,21,0),"") -> 14 | S25: =IF(NOT(B25=""),VLOOKUP(B25,WCTable,22,0),"") -> 12 | T25: =IF(NOT(B25=""),VLOOKUP(B25,WCTable,23,0),"") -> 2 | V25: =IF(NOT(B25=""),VLOOKUP(B25,WCTable,30,0),"") -> 9 | W25: =IF(NOT(B25=""),VLOOKUP(B25,WCTable,31,0),"") -> 12 | X25: =IF(NOT(B25=""),VLOOKUP(B25,WCTable,32,0),"") -> -3 | AE25: =IF(NOT(C22=""),C22,"2nd Place") -> Real Salt Lake | AH25: =IF(NOT(C23=""),C23,"3rd Place") -> Colorado | AP25: =IF(AND(NOT(AF24=""),NOT(AG24=""),NOT(AF25=""),NOT(AG25="")),IF((AG24+AF25)=(AF24+AG25),"D",IF((AG24+AF25)>(AF24+AG25),"HW","AW")),"") | AQ25: =IF(AP25="D",IF(AND(NOT(AJ25=""),NOT(AK25="")),IF(AJ25=AK25,"D",IF(AJ25>AK25,"HW","AW")),""),"") | AR25: =IF(AQ25="D",IF(AND(NOT(AM25=""),NOT(AN25="")),IF(AM25=AN25,"D",IF(AM25>AN25,"HW","AW")),""),"") | AT25: =IF(OR(AP25="HW",AQ25="HW",AR25="HW"),AE25,IF(OR(AP25="AW",AQ25="AW",AR25="AW"),AH25,"")) | AU25: =IF(OR(AP25="HW",AQ25="HW",AR25="HW"),AH25,IF(OR(AP25="AW",AQ25="AW",AR25="AW"),AE25,""))
B26: =IF(B25<WCNumberTeams,B25+1,"") -> 6 | C26: =IF(NOT(B26=""),VLOOKUP(B26,WCTable,2,0),"") -> LA Galaxy | E26: =IF(NOT(B26=""),VLOOKUP(B26,WCTable,4,0),"") -> 16 | G26: =IF(NOT(B26=""),VLOOKUP(B26,WCTable,6,0),"") -> 11 | H26: =IF(NOT(B26=""),VLOOKUP(B26,WCTable,7,0),"") -> 1.4545455 | J26: =IF(NOT(B26=""),VLOOKUP(B26,WCTable,9,0),"") -> 4 | K26: =IF(NOT(B26=""),VLOOKUP(B26,WCTable,10,0),"") -> 3 | L26: =IF(NOT(B26=""),VLOOKUP(B26,WCTable,11,0),"") -> 4 | N26: =IF(NOT(B26=""),VLOOKUP(B26,WCTable,12,0),"") -> 15 | O26: =IF(NOT(B26=""),VLOOKUP(B26,WCTable,13,0),"") -> 10 | P26: =IF(NOT(B26=""),VLOOKUP(B26,WCTable,14,0),"") -> 5 | R26: =IF(NOT(B26=""),VLOOKUP(B26,WCTable,21,0),"") -> 7 | S26: =IF(NOT(B26=""),VLOOKUP(B26,WCTable,22,0),"") -> 3 | T26: =IF(NOT(B26=""),VLOOKUP(B26,WCTable,23,0),"") -> 4 | V26: =IF(NOT(B26=""),VLOOKUP(B26,WCTable,30,0),"") -> 8 | W26: =IF(NOT(B26=""),VLOOKUP(B26,WCTable,31,0),"") -> 7 | X26: =IF(NOT(B26=""),VLOOKUP(B26,WCTable,32,0),"") -> 1 | AE26: =IF(NOT(AT22=""),AT22,"Winner Knockout") -> Winner Knockout | AH26: =IF(NOT(C21=""),C21,"1st Place") -> Seattle | AP26: =IF(AND(NOT(AF26=""),NOT(AG26="")),IF(AF26=AG26,"D",IF(AF26>AG26,"HW","AW")),"") | AT26: =IF(OR(AP26="HW",AQ26="HW",AR26="HW"),AE26,IF(OR(AP26="AW",AQ26="AW",AR26="AW"),AH26,"")) | AU26: =IF(OR(AP26="HW",AQ26="HW",AR26="HW"),AH26,IF(OR(AP26="AW",AQ26="AW",AR26="AW"),AE26,""))
B27: =IF(B26<WCNumberTeams,B26+1,"") -> 7 | C27: =IF(NOT(B27=""),VLOOKUP(B27,WCTable,2,0),"") -> San Jose | E27: =IF(NOT(B27=""),VLOOKUP(B27,WCTable,4,0),"") -> 16 | G27: =IF(NOT(B27=""),VLOOKUP(B27,WCTable,6,0),"") -> 12 | H27: =IF(NOT(B27=""),VLOOKUP(B27,WCTable,7,0),"") -> 1.3333333 | J27: =IF(NOT(B27=""),VLOOKUP(B27,WCTable,9,0),"") -> 4 | K27: =IF(NOT(B27=""),VLOOKUP(B27,WCTable,10,0),"") -> 4 | L27: =IF(NOT(B27=""),VLOOKUP(B27,WCTable,11,0),"") -> 4 | N27: =IF(NOT(B27=""),VLOOKUP(B27,WCTable,12,0),"") -> 15 | O27: =IF(NOT(B27=""),VLOOKUP(B27,WCTable,13,0),"") -> 13 | P27: =IF(NOT(B27=""),VLOOKUP(B27,WCTable,14,0),"") -> 2 | R27: =IF(NOT(B27=""),VLOOKUP(B27,WCTable,21,0),"") -> 11 | S27: =IF(NOT(B27=""),VLOOKUP(B27,WCTable,22,0),"") -> 7 | T27: =IF(NOT(B27=""),VLOOKUP(B27,WCTable,23,0),"") -> 4 | V27: =IF(NOT(B27=""),VLOOKUP(B27,WCTable,30,0),"") -> 4 | W27: =IF(NOT(B27=""),VLOOKUP(B27,WCTable,31,0),"") -> 6 | X27: =IF(NOT(B27=""),VLOOKUP(B27,WCTable,32,0),"") -> -2 | AE27: =IF(NOT(C21=""),C21,"1st Place") -> Seattle | AH27: =IF(NOT(AT22=""),AT22,"Winner Knockout") -> Winner Knockout | AP27: =IF(AND(NOT(AF26=""),NOT(AG26=""),NOT(AF27=""),NOT(AG27="")),IF((AG26+AF27)=(AF26+AG27),"D",IF((AG26+AF27)>(AF26+AG27),"HW","AW")),"") | AQ27: =IF(AP27="D",IF(AND(NOT(AJ27=""),NOT(AK27="")),IF(AJ27=AK27,"D",IF(AJ27>AK27,"HW","AW")),""),"") | AR27: =IF(AQ27="D",IF(AND(NOT(AM27=""),NOT(AN27="")),IF(AM27=AN27,"D",IF(AM27>AN27,"HW","AW")),""),"") | AT27: =IF(OR(AP27="HW",AQ27="HW",AR27="HW"),AE27,IF(OR(AP27="AW",AQ27="AW",AR27="AW"),AH27,"")) | AU27: =IF(OR(AP27="HW",AQ27="HW",AR27="HW"),AH27,IF(OR(AP27="AW",AQ27="AW",AR27="AW"),AE27,""))
B28: =IF(B27<WCNumberTeams,B27+1,"") -> 8 | C28: =IF(NOT(B28=""),VLOOKUP(B28,WCTable,2,0),"") -> Portland | E28: =IF(NOT(B28=""),VLOOKUP(B28,WCTable,4,0),"") -> 16 | G28: =IF(NOT(B28=""),VLOOKUP(B28,WCTable,6,0),"") -> 14 | H28: =IF(NOT(B28=""),VLOOKUP(B28,WCTable,7,0),"") -> 1.1428571 | J28: =IF(NOT(B28=""),VLOOKUP(B28,WCTable,9,0),"") -> 3 | K28: =IF(NOT(B28=""),VLOOKUP(B28,WCTable,10,0),"") -> 4 | L28: =IF(NOT(B28=""),VLOOKUP(B28,WCTable,11,0),"") -> 7 | N28: =IF(NOT(B28=""),VLOOKUP(B28,WCTable,12,0),"") -> 23 | O28: =IF(NOT(B28=""),VLOOKUP(B28,WCTable,13,0),"") -> 24 | P28: =IF(NOT(B28=""),VLOOKUP(B28,WCTable,14,0),"") -> -1 | R28: =IF(NOT(B28=""),VLOOKUP(B28,WCTable,21,0),"") -> 17 | S28: =IF(NOT(B28=""),VLOOKUP(B28,WCTable,22,0),"") -> 17 | T28: =IF(NOT(B28=""),VLOOKUP(B28,WCTable,23,0),"") -> 0 | V28: =IF(NOT(B28=""),VLOOKUP(B28,WCTable,30,0),"") -> 6 | W28: =IF(NOT(B28=""),VLOOKUP(B28,WCTable,31,0),"") -> 7 | X28: =IF(NOT(B28=""),VLOOKUP(B28,WCTable,32,0),"") -> -1 | AB28: CONFERENCE CHAMPIONSHIPS
B29: =IF(B28<WCNumberTeams,B28+1,"") -> 9 | C29: =IF(NOT(B29=""),VLOOKUP(B29,WCTable,2,0),"") -> Chivas USA | E29: =IF(NOT(B29=""),VLOOKUP(B29,WCTable,4,0),"") -> 10 | G29: =IF(NOT(B29=""),VLOOKUP(B29,WCTable,6,0),"") -> 13 | H29: =IF(NOT(B29=""),VLOOKUP(B29,WCTable,7,0),"") -> 0.76923077 | J29: =IF(NOT(B29=""),VLOOKUP(B29,WCTable,9,0),"") -> 2 | K29: =IF(NOT(B29=""),VLOOKUP(B29,WCTable,10,0),"") -> 7 | L29: =IF(NOT(B29=""),VLOOKUP(B29,WCTable,11,0),"") -> 4 | N29: =IF(NOT(B29=""),VLOOKUP(B29,WCTable,12,0),"") -> 13 | O29: =IF(NOT(B29=""),VLOOKUP(B29,WCTable,13,0),"") -> 25 | P29: =IF(NOT(B29=""),VLOOKUP(B29,WCTable,14,0),"") -> -12 | R29: =IF(NOT(B29=""),VLOOKUP(B29,WCTable,21,0),"") -> 6 | S29: =IF(NOT(B29=""),VLOOKUP(B29,WCTable,22,0),"") -> 17 | T29: =IF(NOT(B29=""),VLOOKUP(B29,WCTable,23,0),"") -> -11 | V29: =IF(NOT(B29=""),VLOOKUP(B29,WCTable,30,0),"") -> 7 | W29: =IF(NOT(B29=""),VLOOKUP(B29,WCTable,31,0),"") -> 8 | X29: =IF(NOT(B29=""),VLOOKUP(B29,WCTable,32,0),"") -> -1 | AE29: =IF(NOT(AT27=""),AT27,"Winner Semi-Final 2") -> Winner Semi-Final 2 | AH29: =IF(NOT(AT25=""),AT25,"Winner Semi-Final 1") -> Winner Semi-Final 1 | AP29: =IF(AND(NOT(AF29=""),NOT(AG29="")),IF(AF29=AG29,"D",IF(AF29>AG29,"HW","AW")),"") | AT29: =IF(OR(AP29="HW",AQ29="HW",AR29="HW"),AE29,IF(OR(AP29="AW",AQ29="AW",AR29="AW"),AH29,"")) | AU29: =IF(OR(AP29="HW",AQ29="HW",AR29="HW"),AH29,IF(OR(AP29="AW",AQ29="AW",AR29="AW"),AE29,""))
B30: =IF(B29<WCNumberTeams,B29+1,"") | C30: =IF(NOT(B30=""),VLOOKUP(B30,WCTable,2,0),"") | E30: =IF(NOT(B30=""),VLOOKUP(B30,WCTable,4,0),"") | G30: =IF(NOT(B30=""),VLOOKUP(B30,WCTable,6,0),"") | H30: =IF(NOT(B30=""),VLOOKUP(B30,WCTable,7,0),"") | J30: =IF(NOT(B30=""),VLOOKUP(B30,WCTable,9,0),"") | K30: =IF(NOT(B30=""),VLOOKUP(B30,WCTable,10,0),"") | L30: =IF(NOT(B30=""),VLOOKUP(B30,WCTable,11,0),"") | N30: =IF(NOT(B30=""),VLOOKUP(B30,WCTable,12,0),"") | O30: =IF(NOT(B30=""),VLOOKUP(B30,WCTable,13,0),"") | P30: =IF(NOT(B30=""),VLOOKUP(B30,WCTable,14,0),"") | R30: =IF(NOT(B30=""),VLOOKUP(B30,WCTable,21,0),"") | S30: =IF(NOT(B30=""),VLOOKUP(B30,WCTable,22,0),"") | T30: =IF(NOT(B30=""),VLOOKUP(B30,WCTable,23,0),"") | V30: =IF(NOT(B30=""),VLOOKUP(B30,WCTable,30,0),"") | W30: =IF(NOT(B30=""),VLOOKUP(B30,WCTable,31,0),"") | X30: =IF(NOT(B30=""),VLOOKUP(B30,WCTable,32,0),"") | AE30: =IF(NOT(AT25=""),AT25,"Winner Semi-Final 1") -> Winner Semi-Final 1 | AH30: =IF(NOT(AT27=""),AT27,"Winner Semi-Final 2") -> Winner Semi-Final 2 | AP30: =IF(AND(NOT(AF29=""),NOT(AG29=""),NOT(AF30=""),NOT(AG30="")),IF((AG29+AF30)=(AF29+AG30),"D",IF((AG29+AF30)>(AF29+AG30),"HW","AW")),"") | AQ30: =IF(AP30="D",IF(AND(NOT(AJ30=""),NOT(AK30="")),IF(AJ30=AK30,"D",IF(AJ30>AK30,"HW","AW")),""),"") | AR30: =IF(AQ30="D",IF(AND(NOT(AM30=""),NOT(AN30="")),IF(AM30=AN30,"D",IF(AM30>AN30,"HW","AW")),""),"") | AT30: =IF(OR(AP30="HW",AQ30="HW",AR30="HW"),AE30,IF(OR(AP30="AW",AQ30="AW",AR30="AW"),AH30,"")) | AU30: =IF(OR(AP30="HW",AQ30="HW",AR30="HW"),AH30,IF(OR(AP30="AW",AQ30="AW",AR30="AW"),AE30,""))
B31: =IF(B30<WCNumberTeams,B30+1,"") | C31: =IF(NOT(B31=""),VLOOKUP(B31,WCTable,2,0),"") | E31: =IF(NOT(B31=""),VLOOKUP(B31,WCTable,4,0),"") | G31: =IF(NOT(B31=""),VLOOKUP(B31,WCTable,6,0),"") | H31: =IF(NOT(B31=""),VLOOKUP(B31,WCTable,7,0),"") | J31: =IF(NOT(B31=""),VLOOKUP(B31,WCTable,9,0),"") | K31: =IF(NOT(B31=""),VLOOKUP(B31,WCTable,10,0),"") | L31: =IF(NOT(B31=""),VLOOKUP(B31,WCTable,11,0),"") | N31: =IF(NOT(B31=""),VLOOKUP(B31,WCTable,12,0),"") | O31: =IF(NOT(B31=""),VLOOKUP(B31,WCTable,13,0),"") | P31: =IF(NOT(B31=""),VLOOKUP(B31,WCTable,14,0),"") | R31: =IF(NOT(B31=""),VLOOKUP(B31,WCTable,21,0),"") | S31: =IF(NOT(B31=""),VLOOKUP(B31,WCTable,22,0),"") | T31: =IF(NOT(B31=""),VLOOKUP(B31,WCTable,23,0),"") | V31: =IF(NOT(B31=""),VLOOKUP(B31,WCTable,30,0),"") | W31: =IF(NOT(B31=""),VLOOKUP(B31,WCTable,31,0),"") | X31: =IF(NOT(B31=""),VLOOKUP(B31,WCTable,32,0),"")
B32: =IF(B31<WCNumberTeams,B31+1,"") | C32: =IF(NOT(B32=""),VLOOKUP(B32,WCTable,2,0),"") | E32: =IF(NOT(B32=""),VLOOKUP(B32,WCTable,4,0),"") | G32: =IF(NOT(B32=""),VLOOKUP(B32,WCTable,6,0),"") | H32: =IF(NOT(B32=""),VLOOKUP(B32,WCTable,7,0),"") | J32: =IF(NOT(B32=""),VLOOKUP(B32,WCTable,9,0),"") | K32: =IF(NOT(B32=""),VLOOKUP(B32,WCTable,10,0),"") | L32: =IF(NOT(B32=""),VLOOKUP(B32,WCTable,11,0),"") | N32: =IF(NOT(B32=""),VLOOKUP(B32,WCTable,12,0),"") | O32: =IF(NOT(B32=""),VLOOKUP(B32,WCTable,13,0),"") | P32: =IF(NOT(B32=""),VLOOKUP(B32,WCTable,14,0),"") | R32: =IF(NOT(B32=""),VLOOKUP(B32,WCTable,21,0),"") | S32: =IF(NOT(B32=""),VLOOKUP(B32,WCTable,22,0),"") | T32: =IF(NOT(B32=""),VLOOKUP(B32,WCTable,23,0),"") | V32: =IF(NOT(B32=""),VLOOKUP(B32,WCTable,30,0),"") | W32: =IF(NOT(B32=""),VLOOKUP(B32,WCTable,31,0),"") | X32: =IF(NOT(B32=""),VLOOKUP(B32,WCTable,32,0),"")
B34: Supporters' Shield
B35: POS | C35: CLUB | E35: PTS | G35: GP | H35: PPG | J35: W | K35: L | L35: T | N35: GF | O35: GA | P35: GD | R35: HGF | S35: HGA | T35: HGD | V35: AGF | W35: AGA | X35: AGD | AB35: DAY | AC35: DATE | AD35: TIME | AE35: HOME TEAM | AF35: H | AG35: A | AH35: AWAY TEAM | AJ35: Extra-Time | AM35: Penalties | AP35: FT | AQ35: ET | AR35: PEN | AT35: Winner | AU35: Loser
B36: 1 | C36: =IF(NOT(B36=""),VLOOKUP(B36,SSTable,2,0),"") -> Seattle | E36: =IF(NOT(B36=""),VLOOKUP(B36,SSTable,4,0),"") -> 29 | G36: =IF(NOT(B36=""),VLOOKUP(B36,SSTable,6,0),"") -> 14 | H36: =IF(NOT(B36=""),VLOOKUP(B36,SSTable,7,0),"") -> 2.0714286 | J36: =IF(NOT(B36=""),VLOOKUP(B36,SSTable,9,0),"") -> 9 | K36: =IF(NOT(B36=""),VLOOKUP(B36,SSTable,10,0),"") -> 3 | L36: =IF(NOT(B36=""),VLOOKUP(B36,SSTable,11,0),"") -> 2 | N36: =IF(NOT(B36=""),VLOOKUP(B36,SSTable,12,0),"") -> 29 | O36: =IF(NOT(B36=""),VLOOKUP(B36,SSTable,13,0),"") -> 21 | P36: =IF(NOT(B36=""),VLOOKUP(B36,SSTable,14,0),"") -> 8 | R36: =IF(NOT(B36=""),VLOOKUP(B36,SSTable,21,0),"") -> 16 | S36: =IF(NOT(B36=""),VLOOKUP(B36,SSTable,22,0),"") -> 7 | T36: =IF(NOT(B36=""),VLOOKUP(B36,SSTable,23,0),"") -> 9 | V36: =IF(NOT(B36=""),VLOOKUP(B36,SSTable,30,0),"") -> 13 | W36: =IF(NOT(B36=""),VLOOKUP(B36,SSTable,31,0),"") -> 14 | X36: =IF(NOT(B36=""),VLOOKUP(B36,SSTable,32,0),"") -> -1 | AB36: MLS CUP FINAL
B37: =IF(B36<(ECNumberTeams+WCNumberTeams),B36+1,"") -> 2 | C37: =IF(NOT(B37=""),VLOOKUP(B37,SSTable,2,0),"") -> Real Salt Lake | E37: =IF(NOT(B37=""),VLOOKUP(B37,SSTable,4,0),"") -> 25 | G37: =IF(NOT(B37=""),VLOOKUP(B37,SSTable,6,0),"") -> 14 | H37: =IF(NOT(B37=""),VLOOKUP(B37,SSTable,7,0),"") -> 1.7857143 | J37: =IF(NOT(B37=""),VLOOKUP(B37,SSTable,9,0),"") -> 6 | K37: =IF(NOT(B37=""),VLOOKUP(B37,SSTable,10,0),"") -> 1 | L37: =IF(NOT(B37=""),VLOOKUP(B37,SSTable,11,0),"") -> 7 | N37: =IF(NOT(B37=""),VLOOKUP(B37,SSTable,12,0),"") -> 24 | O37: =IF(NOT(B37=""),VLOOKUP(B37,SSTable,13,0),"") -> 18 | P37: =IF(NOT(B37=""),VLOOKUP(B37,SSTable,14,0),"") -> 6 | R37: =IF(NOT(B37=""),VLOOKUP(B37,SSTable,21,0),"") -> 9 | S37: =IF(NOT(B37=""),VLOOKUP(B37,SSTable,22,0),"") -> 4 | T37: =IF(NOT(B37=""),VLOOKUP(B37,SSTable,23,0),"") -> 5 | V37: =IF(NOT(B37=""),VLOOKUP(B37,SSTable,30,0),"") -> 15 | W37: =IF(NOT(B37=""),VLOOKUP(B37,SSTable,31,0),"") -> 14 | X37: =IF(NOT(B37=""),VLOOKUP(B37,SSTable,32,0),"") -> 1 | AE37: =IF(NOT(AT30=""),AT30,"West Conf Champion") -> West Conf Champion | AH37: =IF(NOT(AT15=""),AT15,"East Conf Champion") -> East Conf Champion | AP37: =IF(AND(NOT(AF37=""),NOT(AG37="")),IF(AF37=AG37,"D",IF(AF37>AG37,"HW","AW")),"") | AQ37: =IF(AP37="D",IF(AND(NOT(AJ37=""),NOT(AK37="")),IF(AJ37=AK37,"D",IF(AJ37>AK37,"HW","AW")),""),"") | AR37: =IF(AQ37="D",IF(AND(NOT(AM37=""),NOT(AN37="")),IF(AM37=AN37,"D",IF(AM37>AN37,"HW","AW")),""),"") | AT37: =IF(OR(AP37="HW",AQ37="HW",AR37="HW"),AE37,IF(OR(AP37="AW",AQ37="AW",AR37="AW"),AH37,"")) | AU37: =IF(OR(AP37="HW",AQ37="HW",AR37="HW"),AH37,IF(OR(AP37="AW",AQ37="AW",AR37="AW"),AE37,""))
B38: =IF(B37<(ECNumberTeams+WCNumberTeams),B37+1,"") -> 3 | C38: =IF(NOT(B38=""),VLOOKUP(B38,SSTable,2,0),"") -> New England | E38: =IF(NOT(B38=""),VLOOKUP(B38,SSTable,4,0),"") -> 23 | G38: =IF(NOT(B38=""),VLOOKUP(B38,SSTable,6,0),"") -> 13 | H38: =IF(NOT(B38=""),VLOOKUP(B38,SSTable,7,0),"") -> 1.7692308 | J38: =IF(NOT(B38=""),VLOOKUP(B38,SSTable,9,0),"") -> 7 | K38: =IF(NOT(B38=""),VLOOKUP(B38,SSTable,10,0),"") -> 4 | L38: =IF(NOT(B38=""),VLOOKUP(B38,SSTable,11,0),"") -> 2 | N38: =IF(NOT(B38=""),VLOOKUP(B38,SSTable,12,0),"") -> 21 | O38: =IF(NOT(B38=""),VLOOKUP(B38,SSTable,13,0),"") -> 16 | P38: =IF(NOT(B38=""),VLOOKUP(B38,SSTable,14,0),"") -> 5 | R38: =IF(NOT(B38=""),VLOOKUP(B38,SSTable,21,0),"") -> 11 | S38: =IF(NOT(B38=""),VLOOKUP(B38,SSTable,22,0),"") -> 1 | T38: =IF(NOT(B38=""),VLOOKUP(B38,SSTable,23,0),"") -> 10 | V38: =IF(NOT(B38=""),VLOOKUP(B38,SSTable,30,0),"") -> 10 | W38: =IF(NOT(B38=""),VLOOKUP(B38,SSTable,31,0),"") -> 15 | X38: =IF(NOT(B38=""),VLOOKUP(B38,SSTable,32,0),"") -> -5
B39: =IF(B38<(ECNumberTeams+WCNumberTeams),B38+1,"") -> 4 | C39: =IF(NOT(B39=""),VLOOKUP(B39,SSTable,2,0),"") -> Colorado | E39: =IF(NOT(B39=""),VLOOKUP(B39,SSTable,4,0),"") -> 22 | G39: =IF(NOT(B39=""),VLOOKUP(B39,SSTable,6,0),"") -> 14 | H39: =IF(NOT(B39=""),VLOOKUP(B39,SSTable,7,0),"") -> 1.5714286 | J39: =IF(NOT(B39=""),VLOOKUP(B39,SSTable,9,0),"") -> 6 | K39: =IF(NOT(B39=""),VLOOKUP(B39,SSTable,10,0),"") -> 4 | L39: =IF(NOT(B39=""),VLOOKUP(B39,SSTable,11,0),"") -> 4 | N39: =IF(NOT(B39=""),VLOOKUP(B39,SSTable,12,0),"") -> 19 | O39: =IF(NOT(B39=""),VLOOKUP(B39,SSTable,13,0),"") -> 15 | P39: =IF(NOT(B39=""),VLOOKUP(B39,SSTable,14,0),"") -> 4 | R39: =IF(NOT(B39=""),VLOOKUP(B39,SSTable,21,0),"") -> 13 | S39: =IF(NOT(B39=""),VLOOKUP(B39,SSTable,22,0),"") -> 7 | T39: =IF(NOT(B39=""),VLOOKUP(B39,SSTable,23,0),"") -> 6 | V39: =IF(NOT(B39=""),VLOOKUP(B39,SSTable,30,0),"") -> 6 | W39: =IF(NOT(B39=""),VLOOKUP(B39,SSTable,31,0),"") -> 8 | X39: =IF(NOT(B39=""),VLOOKUP(B39,SSTable,32,0),"") -> -2
B40: =IF(B39<(ECNumberTeams+WCNumberTeams),B39+1,"") -> 5 | C40: =IF(NOT(B40=""),VLOOKUP(B40,SSTable,2,0),"") -> D.C. United | E40: =IF(NOT(B40=""),VLOOKUP(B40,SSTable,4,0),"") -> 21 | G40: =IF(NOT(B40=""),VLOOKUP(B40,SSTable,6,0),"") -> 13 | H40: =IF(NOT(B40=""),VLOOKUP(B40,SSTable,7,0),"") -> 1.6153846 | J40: =IF(NOT(B40=""),VLOOKUP(B40,SSTable,9,0),"") -> 6 | K40: =IF(NOT(B40=""),VLOOKUP(B40,SSTable,10,0),"") -> 4 | L40: =IF(NOT(B40=""),VLOOKUP(B40,SSTable,11,0),"") -> 3 | N40: =IF(NOT(B40=""),VLOOKUP(B40,SSTable,12,0),"") -> 18 | O40: =IF(NOT(B40=""),VLOOKUP(B40,SSTable,13,0),"") -> 14 | P40: =IF(NOT(B40=""),VLOOKUP(B40,SSTable,14,0),"") -> 4 | R40: =IF(NOT(B40=""),VLOOKUP(B40,SSTable,21,0),"") -> 13 | S40: =IF(NOT(B40=""),VLOOKUP(B40,SSTable,22,0),"") -> 7 | T40: =IF(NOT(B40=""),VLOOKUP(B40,SSTable,23,0),"") -> 6 | V40: =IF(NOT(B40=""),VLOOKUP(B40,SSTable,30,0),"") -> 5 | W40: =IF(NOT(B40=""),VLOOKUP(B40,SSTable,31,0),"") -> 7 | X40: =IF(NOT(B40=""),VLOOKUP(B40,SSTable,32,0),"") -> -2
B41: =IF(B40<(ECNumberTeams+WCNumberTeams),B40+1,"") -> 6 | C41: =IF(NOT(B41=""),VLOOKUP(B41,SSTable,2,0),"") -> Vancouver | E41: =IF(NOT(B41=""),VLOOKUP(B41,SSTable,4,0),"") -> 20 | G41: =IF(NOT(B41=""),VLOOKUP(B41,SSTable,6,0),"") -> 12 | H41: =IF(NOT(B41=""),VLOOKUP(B41,SSTable,7,0),"") -> 1.6666667 | J41: =IF(NOT(B41=""),VLOOKUP(B41,SSTable,9,0),"") -> 5 | K41: =IF(NOT(B41=""),VLOOKUP(B41,SSTable,10,0),"") -> 2 | L41: =IF(NOT(B41=""),VLOOKUP(B41,SSTable,11,0),"") -> 5 | N41: =IF(NOT(B41=""),VLOOKUP(B41,SSTable,12,0),"") -> 22 | O41: =IF(NOT(B41=""),VLOOKUP(B41,SSTable,13,0),"") -> 17 | P41: =IF(NOT(B41=""),VLOOKUP(B41,SSTable,14,0),"") -> 5 | R41: =IF(NOT(B41=""),VLOOKUP(B41,SSTable,21,0),"") -> 14 | S41: =IF(NOT(B41=""),VLOOKUP(B41,SSTable,22,0),"") -> 10 | T41: =IF(NOT(B41=""),VLOOKUP(B41,SSTable,23,0),"") -> 4 | V41: =IF(NOT(B41=""),VLOOKUP(B41,SSTable,30,0),"") -> 8 | W41: =IF(NOT(B41=""),VLOOKUP(B41,SSTable,31,0),"") -> 7 | X41: =IF(NOT(B41=""),VLOOKUP(B41,SSTable,32,0),"") -> 1
B42: =IF(B41<(ECNumberTeams+WCNumberTeams),B41+1,"") -> 7 | C42: =IF(NOT(B42=""),VLOOKUP(B42,SSTable,2,0),"") -> Sporting KC | E42: =IF(NOT(B42=""),VLOOKUP(B42,SSTable,4,0),"") -> 19 | G42: =IF(NOT(B42=""),VLOOKUP(B42,SSTable,6,0),"") -> 14 | H42: =IF(NOT(B42=""),VLOOKUP(B42,SSTable,7,0),"") -> 1.3571429 | J42: =IF(NOT(B42=""),VLOOKUP(B42,SSTable,9,0),"") -> 5 | K42: =IF(NOT(B42=""),VLOOKUP(B42,SSTable,10,0),"") -> 5 | L42: =IF(NOT(B42=""),VLOOKUP(B42,SSTable,11,0),"") -> 4 | N42: =IF(NOT(B42=""),VLOOKUP(B42,SSTable,12,0),"") -> 19 | O42: =IF(NOT(B42=""),VLOOKUP(B42,SSTable,13,0),"") -> 14 | P42: =IF(NOT(B42=""),VLOOKUP(B42,SSTable,14,0),"") -> 5 | R42: =IF(NOT(B42=""),VLOOKUP(B42,SSTable,21,0),"") -> 12 | S42: =IF(NOT(B42=""),VLOOKUP(B42,SSTable,22,0),"") -> 6 | T42: =IF(NOT(B42=""),VLOOKUP(B42,SSTable,23,0),"") -> 6 | V42: =IF(NOT(B42=""),VLOOKUP(B42,SSTable,30,0),"") -> 7 | W42: =IF(NOT(B42=""),VLOOKUP(B42,SSTable,31,0),"") -> 8 | X42: =IF(NOT(B42=""),VLOOKUP(B42,SSTable,32,0),"") -> -1 | AD42: MLS CUP WINNER: | AE42: =IF(NOT(AT37=""),AT37,"MLS CUP WINNER") -> MLS CUP WINNER
B43: =IF(B42<(ECNumberTeams+WCNumberTeams),B42+1,"") -> 8 | C43: =IF(NOT(B43=""),VLOOKUP(B43,SSTable,2,0),"") -> FC Dallas | E43: =IF(NOT(B43=""),VLOOKUP(B43,SSTable,4,0),"") -> 18 | G43: =IF(NOT(B43=""),VLOOKUP(B43,SSTable,6,0),"") -> 15 | H43: =IF(NOT(B43=""),VLOOKUP(B43,SSTable,7,0),"") -> 1.2 | J43: =IF(NOT(B43=""),VLOOKUP(B43,SSTable,9,0),"") -> 5 | K43: =IF(NOT(B43=""),VLOOKUP(B43,SSTable,10,0),"") -> 7 | L43: =IF(NOT(B43=""),VLOOKUP(B43,SSTable,11,0),"") -> 3 | N43: =IF(NOT(B43=""),VLOOKUP(B43,SSTable,12,0),"") -> 23 | O43: =IF(NOT(B43=""),VLOOKUP(B43,SSTable,13,0),"") -> 24 | P43: =IF(NOT(B43=""),VLOOKUP(B43,SSTable,14,0),"") -> -1 | R43: =IF(NOT(B43=""),VLOOKUP(B43,SSTable,21,0),"") -> 14 | S43: =IF(NOT(B43=""),VLOOKUP(B43,SSTable,22,0),"") -> 12 | T43: =IF(NOT(B43=""),VLOOKUP(B43,SSTable,23,0),"") -> 2 | V43: =IF(NOT(B43=""),VLOOKUP(B43,SSTable,30,0),"") -> 9 | W43: =IF(NOT(B43=""),VLOOKUP(B43,SSTable,31,0),"") -> 12 | X43: =IF(NOT(B43=""),VLOOKUP(B43,SSTable,32,0),"") -> -3
B44: =IF(B43<(ECNumberTeams+WCNumberTeams),B43+1,"") -> 9 | C44: =IF(NOT(B44=""),VLOOKUP(B44,SSTable,2,0),"") -> Houston | E44: =IF(NOT(B44=""),VLOOKUP(B44,SSTable,4,0),"") -> 17 | G44: =IF(NOT(B44=""),VLOOKUP(B44,SSTable,6,0),"") -> 15 | H44: =IF(NOT(B44=""),VLOOKUP(B44,SSTable,7,0),"") -> 1.1333333 | J44: =IF(NOT(B44=""),VLOOKUP(B44,SSTable,9,0),"") -> 5 | K44: =IF(NOT(B44=""),VLOOKUP(B44,SSTable,10,0),"") -> 8 | L44: =IF(NOT(B44=""),VLOOKUP(B44,SSTable,11,0),"") -> 2 | N44: =IF(NOT(B44=""),VLOOKUP(B44,SSTable,12,0),"") -> 16 | O44: =IF(NOT(B44=""),VLOOKUP(B44,SSTable,13,0),"") -> 27 | P44: =IF(NOT(B44=""),VLOOKUP(B44,SSTable,14,0),"") -> -11 | R44: =IF(NOT(B44=""),VLOOKUP(B44,SSTable,21,0),"") -> 11 | S44: =IF(NOT(B44=""),VLOOKUP(B44,SSTable,22,0),"") -> 10 | T44: =IF(NOT(B44=""),VLOOKUP(B44,SSTable,23,0),"") -> 1 | V44: =IF(NOT(B44=""),VLOOKUP(B44,SSTable,30,0),"") -> 5 | W44: =IF(NOT(B44=""),VLOOKUP(B44,SSTable,31,0),"") -> 17 | X44: =IF(NOT(B44=""),VLOOKUP(B44,SSTable,32,0),"") -> -12
...

Sheet Games - Update
B2: =IF(NOT('Teams - Setup'!B2=""),'Teams - Setup'!B2,"") -> MLS Season 2014 | K2: Calculations >>> | AV2: Standings Calculations >>>
B3: DAY | C3: DATE | D3: TIME | E3: HOME TEAM | F3: H | G3: A | H3: AWAY TEAM | I3: VENUE | K3: PL | M3: =IF(NOT('Teams - Setup'!B4=""),'Teams - Setup'!B4,"") -> Eastern Conference
B4: Sat | C4: 03/08/2014 | D4: 3:00PM EST | E4: Seattle | F4: 1 | G4: 0 | H4: Sporting KC | I4: CenturyLink Field | K4: =IF(AND(NOT(E4=""),NOT(H4="")),IF(AND(NOT(F4=""),NOT(G4="")),1,0),0) -> 1 | M4: POS | N4: TEAM | P4: PTS | R4: GP | S4: PPG | U4: W | V4: L | W4: T | X4: GF | Y4: GA | Z4: GD | AB4: HPT | AC4: HGP | AD4: HW | AE4: HL | AF4: HT | AG4: HGF | AH4: HGA | AI4: HGD | AK4: APT | AL4: AGP | AM4: AW | AN4: AL | AO4: AT | AP4: AGF | AQ4: AGA | AR4: AGD | AT4: DP | AV4: PTS | AW4: W | AX4: GD | AY4: GF | AZ4: DP | BA4: AGD | BB4: AGF | BC4: HGD | BD4: HGF | BE4: SORT | BF4: LOTS | BH4: ROW
B5: Sat | C5: 03/08/2014 | D5: 7:00PM EST | E5: D.C. United | F5: 0 | G5: 3 | H5: Columbus | I5: RFK Stadium | K5: =IF(AND(NOT(E5=""),NOT(H5="")),IF(AND(NOT(F5=""),NOT(G5="")),1,0),0) -> 1 | M5: =IF(NOT(N5=""),SUM(AV5:BE5),"") -> 9 | N5: =IF(NOT('Teams - Setup'!B6=""),'Teams - Setup'!B6,"") -> Chicago | P5: =IF(NOT(N5=""),AB5+AK5,"") -> 14 | R5: =IF(NOT(N5=""),AC5+AL5,"") -> 13 | S5: =IF(NOT(N5=""),IF(R5>0,P5/R5,0),"") -> 1.0769231 | U5: =IF(NOT(N5=""),AD5+AM5,"") -> 2 | V5: =IF(NOT(N5=""),AE5+AN5,"") -> 3 | W5: =IF(NOT(N5=""),AF5+AO5,"") -> 8 | X5: =IF(NOT(N5=""),AG5+AP5,"") -> 20 | Y5: =IF(NOT(N5=""),AH5+AQ5,"") -> 22 | Z5: =IF(NOT(N5=""),X5-Y5,"") -> -2 | AB5: =IF(NOT(N5=""),(AD5*PtsHomeWin)+(AF5*PtsHomeDraw)+(AE5*PtsHomeLoss),"") -> 7 | AC5: =IF(NOT(N5=""),SUMPRODUCT((HomeTeam=N5)*GamePlayed),"") -> 6 | AD5: =IF(NOT(N5=""),SUMPRODUCT((HomeTeam=N5)*(HomeScore>AwayScore)*GamePlayed),"") -> 1 | AE5: =IF(NOT(N5=""),SUMPRODUCT((HomeTeam=N5)*(HomeScore<AwayScore)*GamePlayed),"") -> 1 | AF5: =IF(NOT(N5=""),SUMPRODUCT((HomeTeam=N5)*(HomeScore=AwayScore)*GamePlayed),"") -> 4 | AG5: =IF(NOT(N5=""),SUMPRODUCT((HomeTeam=N5)*HomeScore*GamePlayed),"") -> 9 | AH5: =IF(NOT(N5=""),SUMPRODUCT((HomeTeam=N5)*AwayScore*GamePlayed),"") -> 9 | AI5: =IF(NOT(N5=""),AG5-AH5,"") -> 0 | AK5: =IF(NOT(N5=""),(AM5*PtsAwayWin)+(AO5*PtsAwayDraw)+(AN5*PtsAwayLoss),"") -> 7 | AL5: =IF(NOT(N5=""),SUMPRODUCT((AwayTeam=N5)*GamePlayed),"") -> 7 | AM5: =IF(NOT(N5=""),SUMPRODUCT((AwayTeam=N5)*(AwayScore>HomeScore)*GamePlayed),"") -> 1 | AN5: =IF(NOT(N5=""),SUMPRODUCT((AwayTeam=N5)*(AwayScore<HomeScore)*GamePlayed),"") -> 2 | AO5: =IF(NOT(N5=""),SUMPRODUCT((AwayTeam=N5)*(AwayScore=HomeScore)*GamePlayed),"") -> 4 | AP5: =IF(NOT(N5=""),SUMPRODUCT((AwayTeam=N5)*AwayScore*GamePlayed),"") -> 11 | AQ5: =IF(NOT(N5=""),SUMPRODUCT((AwayTeam=N5)*HomeScore*GamePlayed),"") -> 13 | AR5: =IF(NOT(N5=""),AP5-AQ5,"") -> -2 | AT5: =IF(NOT(N5=""),IF(NOT('Teams - Setup'!F6=""),'Teams - Setup'!F6,0),"") -> 0 | AV5: =IF(NOT(N5=""),RANK(P5,P$5:P$16,0),"") -> 8 | AW5: =IF(NOT(N5=""),SUMPRODUCT((P$5:P$16=P5)*(U$5:U$16>U5)),"") -> 1 | AX5: =IF(NOT(N5=""),SUMPRODUCT((P$5:P$16=P5)*(U$5:U$16=U5)*(Z$5:Z$16>Z5)),"") -> 0 | AY5: =IF(NOT(N5=""),SUMPRODUCT((P$5:P$16=P5)*(U$5:U$16=U5)*(Z$5:Z$16=Z5)*(X$5:X$16>X5)),"") -> 0 | AZ5: =IF(NOT(N5=""),SUMPRODUCT((P$5:P$16=P5)*(U$5:U$16=U5)*(Z$5:Z$16=Z5)*(X$5:X$16=X5)*(AT$5:AT$16<AT5)),"") -> 0 | BA5: =IF(NOT(N5=""),SUMPRODUCT((P$5:P$16=P5)*(U$5:U$16=U5)*(Z$5:Z$16=Z5)*(X$5:X$16=X5)*(AT$5:AT$16=AT5)*(AR$5:AR$16>AR5)),"") -> 0 | BB5: =IF(NOT(N5=""),SUMPRODUCT((P$5:P$16=P5)*(U$5:U$16=U5)*(Z$5:Z$16=Z5)*(X$5:X$16=X5)*(AT$5:AT$16=AT5)*(AR$5:AR$16=AR5)*(AP$5:AP$16>AP5)),"") -> 0 | BC5: =IF(NOT(N5=""),SUMPRODUCT((P$5:P$16=P5)*(U$5:U$16=U5)*(Z$5:Z$16=Z5)*(X$5:X$16=X5)*(AT$5:AT$16=AT5)*(AR$5:AR$16=AR5)*(AP$5:AP$16=AP5)*(AI$5:AI$16>AI5)),"") -> 0 | BD5: =IF(NOT(N5=""),SUMPRODUCT((P$5:P$16=P5)*(U$5:U$16=U5)*(Z$5:Z$16=Z5)*(X$5:X$16=X5)*(AT$5:AT$16=AT5)*(AR$5:AR$16=AR5)*(AP$5:AP$16=AP5)*(AI$5:AI$16=AI5)*(AG$5:AG$16>AG5)),"") -> 0 | BE5: =IF(NOT(N5=""),SUMPRODUCT((P$5:P$16=P5)*(U$5:U$16=U5)*(X$5:X$16=X5)*(Z$5:Z$16=Z5)*(AT$5:AT$16=AT5)*(AP$5:AP$16=AP5)*(AR$5:AR$16=AR5)*(AI$5:AI$16=AI5)*(AG$5:AG$16=AG5)*(BF$5:BF$16>BF5)),"") -> 0 | BF5: =IF(NOT(N5=""),IF(NOT('Teams - Setup'!G6=""),'Teams - Setup'!G6,0),"") -> 0 | BH5: =IF(NOT(N5=""),ROW(N5),"") -> 5
B6: Sat | C6: 03/08/2014 | D6: 7:30PM EST | E6: Vancouver | F6: 4 | G6: 1 | H6: New York | I6: BC Place | K6: =IF(AND(NOT(E6=""),NOT(H6="")),IF(AND(NOT(F6=""),NOT(G6="")),1,0),0) -> 1 | M6: =IF(NOT(N6=""),SUM(AV6:BE6),"") -> 5 | N6: =IF(NOT('Teams - Setup'!B7=""),'Teams - Setup'!B7,"") -> Columbus | P6: =IF(NOT(N6=""),AB6+AK6,"") -> 17 | R6: =IF(NOT(N6=""),AC6+AL6,"") -> 14 | S6: =IF(NOT(N6=""),IF(R6>0,P6/R6,0),"") -> 1.2142857 | U6: =IF(NOT(N6=""),AD6+AM6,"") -> 4 | V6: =IF(NOT(N6=""),AE6+AN6,"") -> 5 | W6: =IF(NOT(N6=""),AF6+AO6,"") -> 5 | X6: =IF(NOT(N6=""),AG6+AP6,"") -> 18 | Y6: =IF(NOT(N6=""),AH6+AQ6,"") -> 18 | Z6: =IF(NOT(N6=""),X6-Y6,"") -> 0 | AB6: =IF(NOT(N6=""),(AD6*PtsHomeWin)+(AF6*PtsHomeDraw)+(AE6*PtsHomeLoss),"") -> 9 | AC6: =IF(NOT(N6=""),SUMPRODUCT((HomeTeam=N6)*GamePlayed),"") -> 7 | AD6: =IF(NOT(N6=""),SUMPRODUCT((HomeTeam=N6)*(HomeScore>AwayScore)*GamePlayed),"") -> 2 | AE6: =IF(NOT(N6=""),SUMPRODUCT((HomeTeam=N6)*(HomeScore<AwayScore)*GamePlayed),"") -> 2 | AF6: =IF(NOT(N6=""),SUMPRODUCT((HomeTeam=N6)*(HomeScore=AwayScore)*GamePlayed),"") -> 3 | AG6: =IF(NOT(N6=""),SUMPRODUCT((HomeTeam=N6)*HomeScore*GamePlayed),"") -> 7 | AH6: =IF(NOT(N6=""),SUMPRODUCT((HomeTeam=N6)*AwayScore*GamePlayed),"") -> 7 | AI6: =IF(NOT(N6=""),AG6-AH6,"") -> 0 | AK6: =IF(NOT(N6=""),(AM6*PtsAwayWin)+(AO6*PtsAwayDraw)+(AN6*PtsAwayLoss),"") -> 8 | AL6: =IF(NOT(N6=""),SUMPRODUCT((AwayTeam=N6)*GamePlayed),"") -> 7 | AM6: =IF(NOT(N6=""),SUMPRODUCT((AwayTeam=N6)*(AwayScore>HomeScore)*GamePlayed),"") -> 2 | AN6: =IF(NOT(N6=""),SUMPRODUCT((AwayTeam=N6)*(AwayScore<HomeScore)*GamePlayed),"") -> 3 | AO6: =IF(NOT(N6=""),SUMPRODUCT((AwayTeam=N6)*(AwayScore=HomeScore)*GamePlayed),"") -> 2 | AP6: =IF(NOT(N6=""),SUMPRODUCT((AwayTeam=N6)*AwayScore*GamePlayed),"") -> 11 | AQ6: =IF(NOT(N6=""),SUMPRODUCT((AwayTeam=N6)*HomeScore*GamePlayed),"") -> 11 | AR6: =IF(NOT(N6=""),AP6-AQ6,"") -> 0 | AT6: =IF(NOT(N6=""),IF(NOT('Teams - Setup'!F7=""),'Teams - Setup'!F7,0),"") -> 0 | AV6: =IF(NOT(N6=""),RANK(P6,P$5:P$16,0),"") -> 4 | AW6: =IF(NOT(N6=""),SUMPRODUCT((P$5:P$16=P6)*(U$5:U$16>U6)),"") -> 1 | AX6: =IF(NOT(N6=""),SUMPRODUCT((P$5:P$16=P6)*(U$5:U$16=U6)*(Z$5:Z$16>Z6)),"") -> 0 | AY6: =IF(NOT(N6=""),SUMPRODUCT((P$5:P$16=P6)*(U$5:U$16=U6)*(Z$5:Z$16=Z6)*(X$5:X$16>X6)),"") -> 0 | AZ6: =IF(NOT(N6=""),SUMPRODUCT((P$5:P$16=P6)*(U$5:U$16=U6)*(Z$5:Z$16=Z6)*(X$5:X$16=X6)*(AT$5:AT$16<AT6)),"") -> 0 | BA6: =IF(NOT(N6=""),SUMPRODUCT((P$5:P$16=P6)*(U$5:U$16=U6)*(Z$5:Z$16=Z6)*(X$5:X$16=X6)*(AT$5:AT$16=AT6)*(AR$5:AR$16>AR6)),"") -> 0 | BB6: =IF(NOT(N6=""),SUMPRODUCT((P$5:P$16=P6)*(U$5:U$16=U6)*(Z$5:Z$16=Z6)*(X$5:X$16=X6)*(AT$5:AT$16=AT6)*(AR$5:AR$16=AR6)*(AP$5:AP$16>AP6)),"") -> 0 | BC6: =IF(NOT(N6=""),SUMPRODUCT((P$5:P$16=P6)*(U$5:U$16=U6)*(Z$5:Z$16=Z6)*(X$5:X$16=X6)*(AT$5:AT$16=AT6)*(AR$5:AR$16=AR6)*(AP$5:AP$16=AP6)*(AI$5:AI$16>AI6)),"") -> 0 | BD6: =IF(NOT(N6=""),SUMPRODUCT((P$5:P$16=P6)*(U$5:U$16=U6)*(Z$5:Z$16=Z6)*(X$5:X$16=X6)*(AT$5:AT$16=AT6)*(AR$5:AR$16=AR6)*(AP$5:AP$16=AP6)*(AI$5:AI$16=AI6)*(AG$5:AG$16>AG6)),"") -> 0 | BE6: =IF(NOT(N6=""),SUMPRODUCT((P$5:P$16=P6)*(U$5:U$16=U6)*(X$5:X$16=X6)*(Z$5:Z$16=Z6)*(AT$5:AT$16=AT6)*(AP$5:AP$16=AP6)*(AR$5:AR$16=AR6)*(AI$5:AI$16=AI6)*(AG$5:AG$16=AG6)*(BF$5:BF$16>BF6)),"") -> 0 | BF6: =IF(NOT(N6=""),IF(NOT('Teams - Setup'!G7=""),'Teams - Setup'!G7,0),"") -> 0 | BH6: =IF(NOT(N6=""),ROW(N6),"") -> 6
B7: Sat | C7: 03/08/2014 | D7: 8:30PM EST | E7: FC Dallas | F7: 3 | G7: 2 | H7: Montreal | I7: Toyota Stadium | K7: =IF(AND(NOT(E7=""),NOT(H7="")),IF(AND(NOT(F7=""),NOT(G7="")),1,0),0) -> 1 | M7: =IF(NOT(N7=""),SUM(AV7:BE7),"") -> 2 | N7: =IF(NOT('Teams - Setup'!B8=""),'Teams - Setup'!B8,"") -> D.C. United | P7: =IF(NOT(N7=""),AB7+AK7,"") -> 21 | R7: =IF(NOT(N7=""),AC7+AL7,"") -> 13 | S7: =IF(NOT(N7=""),IF(R7>0,P7/R7,0),"") -> 1.6153846 | U7: =IF(NOT(N7=""),AD7+AM7,"") -> 6 | V7: =IF(NOT(N7=""),AE7+AN7,"") -> 4 | W7: =IF(NOT(N7=""),AF7+AO7,"") -> 3 | X7: =IF(NOT(N7=""),AG7+AP7,"") -> 18 | Y7: =IF(NOT(N7=""),AH7+AQ7,"") -> 14 | Z7: =IF(NOT(N7=""),X7-Y7,"") -> 4 | AB7: =IF(NOT(N7=""),(AD7*PtsHomeWin)+(AF7*PtsHomeDraw)+(AE7*PtsHomeLoss),"") -> 17 | AC7: =IF(NOT(N7=""),SUMPRODUCT((HomeTeam=N7)*GamePlayed),"") -> 8 | AD7: =IF(NOT(N7=""),SUMPRODUCT((HomeTeam=N7)*(HomeScore>AwayScore)*GamePlayed),"") -> 5 | AE7: =IF(NOT(N7=""),SUMPRODUCT((HomeTeam=N7)*(HomeScore<AwayScore)*GamePlayed),"") -> 1 | AF7: =IF(NOT(N7=""),SUMPRODUCT((HomeTeam=N7)*(HomeScore=AwayScore)*GamePlayed),"") -> 2 | AG7: =IF(NOT(N7=""),SUMPRODUCT((HomeTeam=N7)*HomeScore*GamePlayed),"") -> 13 | AH7: =IF(NOT(N7=""),SUMPRODUCT((HomeTeam=N7)*AwayScore*GamePlayed),"") -> 7 | AI7: =IF(NOT(N7=""),AG7-AH7,"") -> 6 | AK7: =IF(NOT(N7=""),(AM7*PtsAwayWin)+(AO7*PtsAwayDraw)+(AN7*PtsAwayLoss),"") -> 4 | AL7: =IF(NOT(N7=""),SUMPRODUCT((AwayTeam=N7)*GamePlayed),"") -> 5 | AM7: =IF(NOT(N7=""),SUMPRODUCT((AwayTeam=N7)*(AwayScore>HomeScore)*GamePlayed),"") -> 1 | AN7: =IF(NOT(N7=""),SUMPRODUCT((AwayTeam=N7)*(AwayScore<HomeScore)*GamePlayed),"") -> 3 | AO7: =IF(NOT(N7=""),SUMPRODUCT((AwayTeam=N7)*(AwayScore=HomeScore)*GamePlayed),"") -> 1 | AP7: =IF(NOT(N7=""),SUMPRODUCT((AwayTeam=N7)*AwayScore*GamePlayed),"") -> 5 | AQ7: =IF(NOT(N7=""),SUMPRODUCT((AwayTeam=N7)*HomeScore*GamePlayed),"") -> 7 | AR7: =IF(NOT(N7=""),AP7-AQ7,"") -> -2 | AT7: =IF(NOT(N7=""),IF(NOT('Teams - Setup'!F8=""),'Teams - Setup'!F8,0),"") -> 0 | AV7: =IF(NOT(N7=""),RANK(P7,P$5:P$16,0),"") -> 2 | AW7: =IF(NOT(N7=""),SUMPRODUCT((P$5:P$16=P7)*(U$5:U$16>U7)),"") -> 0 | AX7: =IF(NOT(N7=""),SUMPRODUCT((P$5:P$16=P7)*(U$5:U$16=U7)*(Z$5:Z$16>Z7)),"") -> 0 | AY7: =IF(NOT(N7=""),SUMPRODUCT((P$5:P$16=P7)*(U$5:U$16=U7)*(Z$5:Z$16=Z7)*(X$5:X$16>X7)),"") -> 0 | AZ7: =IF(NOT(N7=""),SUMPRODUCT((P$5:P$16=P7)*(U$5:U$16=U7)*(Z$5:Z$16=Z7)*(X$5:X$16=X7)*(AT$5:AT$16<AT7)),"") -> 0 | BA7: =IF(NOT(N7=""),SUMPRODUCT((P$5:P$16=P7)*(U$5:U$16=U7)*(Z$5:Z$16=Z7)*(X$5:X$16=X7)*(AT$5:AT$16=AT7)*(AR$5:AR$16>AR7)),"") -> 0 | BB7: =IF(NOT(N7=""),SUMPRODUCT((P$5:P$16=P7)*(U$5:U$16=U7)*(Z$5:Z$16=Z7)*(X$5:X$16=X7)*(AT$5:AT$16=AT7)*(AR$5:AR$16=AR7)*(AP$5:AP$16>AP7)),"") -> 0 | BC7: =IF(NOT(N7=""),SUMPRODUCT((P$5:P$16=P7)*(U$5:U$16=U7)*(Z$5:Z$16=Z7)*(X$5:X$16=X7)*(AT$5:AT$16=AT7)*(AR$5:AR$16=AR7)*(AP$5:AP$16=AP7)*(AI$5:AI$16>AI7)),"") -> 0 | BD7: =IF(NOT(N7=""),SUMPRODUCT((P$5:P$16=P7)*(U$5:U$16=U7)*(Z$5:Z$16=Z7)*(X$5:X$16=X7)*(AT$5:AT$16=AT7)*(AR$5:AR$16=AR7)*(AP$5:AP$16=AP7)*(AI$5:AI$16=AI7)*(AG$5:AG$16>AG7)),"") -> 0 | BE7: =IF(NOT(N7=""),SUMPRODUCT((P$5:P$16=P7)*(U$5:U$16=U7)*(X$5:X$16=X7)*(Z$5:Z$16=Z7)*(AT$5:AT$16=AT7)*(AP$5:AP$16=AP7)*(AR$5:AR$16=AR7)*(AI$5:AI$16=AI7)*(AG$5:AG$16=AG7)*(BF$5:BF$16>BF7)),"") -> 0 | BF7: =IF(NOT(N7=""),IF(NOT('Teams - Setup'!G8=""),'Teams - Setup'!G8,0),"") -> 0 | BH7: =IF(NOT(N7=""),ROW(N7),"") -> 7
B8: Sat | C8: 03/08/2014 | D8: 8:30PM EST | E8: Houston | F8: 4 | G8: 0 | H8: New England | I8: BBVA Compass Stadium | K8: =IF(AND(NOT(E8=""),NOT(H8="")),IF(AND(NOT(F8=""),NOT(G8="")),1,0),0) -> 1 | M8: =IF(NOT(N8=""),SUM(AV8:BE8),"") -> 4 | N8: =IF(NOT('Teams - Setup'!B9=""),'Teams - Setup'!B9,"") -> Houston | P8: =IF(NOT(N8=""),AB8+AK8,"") -> 17 | R8: =IF(NOT(N8=""),AC8+AL8,"") -> 15 | S8: =IF(NOT(N8=""),IF(R8>0,P8/R8,0),"") -> 1.1333333 | U8: =IF(NOT(N8=""),AD8+AM8,"") -> 5 | V8: =IF(NOT(N8=""),AE8+AN8,"") -> 8 | W8: =IF(NOT(N8=""),AF8+AO8,"") -> 2 | X8: =IF(NOT(N8=""),AG8+AP8,"") -> 16 | Y8: =IF(NOT(N8=""),AH8+AQ8,"") -> 27 | Z8: =IF(NOT(N8=""),X8-Y8,"") -> -11 | AB8: =IF(NOT(N8=""),(AD8*PtsHomeWin)+(AF8*PtsHomeDraw)+(AE8*PtsHomeLoss),"") -> 13 | AC8: =IF(NOT(N8=""),SUMPRODUCT((HomeTeam=N8)*GamePlayed),"") -> 7 | AD8: =IF(NOT(N8=""),SUMPRODUCT((HomeTeam=N8)*(HomeScore>AwayScore)*GamePlayed),"") -> 4 | AE8: =IF(NOT(N8=""),SUMPRODUCT((HomeTeam=N8)*(HomeScore<AwayScore)*GamePlayed),"") -> 2 | AF8: =IF(NOT(N8=""),SUMPRODUCT((HomeTeam=N8)*(HomeScore=AwayScore)*GamePlayed),"") -> 1 | AG8: =IF(NOT(N8=""),SUMPRODUCT((HomeTeam=N8)*HomeScore*GamePlayed),"") -> 11 | AH8: =IF(NOT(N8=""),SUMPRODUCT((HomeTeam=N8)*AwayScore*GamePlayed),"") -> 10 | AI8: =IF(NOT(N8=""),AG8-AH8,"") -> 1 | AK8: =IF(NOT(N8=""),(AM8*PtsAwayWin)+(AO8*PtsAwayDraw)+(AN8*PtsAwayLoss),"") -> 4 | AL8: =IF(NOT(N8=""),SUMPRODUCT((AwayTeam=N8)*GamePlayed),"") -> 8 | AM8: =IF(NOT(N8=""),SUMPRODUCT((AwayTeam=N8)*(AwayScore>HomeScore)*GamePlayed),"") -> 1 | AN8: =IF(NOT(N8=""),SUMPRODUCT((AwayTeam=N8)*(AwayScore<HomeScore)*GamePlayed),"") -> 6 | AO8: =IF(NOT(N8=""),SUMPRODUCT((AwayTeam=N8)*(AwayScore=HomeScore)*GamePlayed),"") -> 1 | AP8: =IF(NOT(N8=""),SUMPRODUCT((AwayTeam=N8)*AwayScore*GamePlayed),"") -> 5 | AQ8: =IF(NOT(N8=""),SUMPRODUCT((AwayTeam=N8)*HomeScore*GamePlayed),"") -> 17 | AR8: =IF(NOT(N8=""),AP8-AQ8,"") -> -12 | AT8: =IF(NOT(N8=""),IF(NOT('Teams - Setup'!F9=""),'Teams - Setup'!F9,0),"") -> 0 | AV8: =IF(NOT(N8=""),RANK(P8,P$5:P$16,0),"") -> 4 | AW8: =IF(NOT(N8=""),SUMPRODUCT((P$5:P$16=P8)*(U$5:U$16>U8)),"") -> 0 | AX8: =IF(NOT(N8=""),SUMPRODUCT((P$5:P$16=P8)*(U$5:U$16=U8)*(Z$5:Z$16>Z8)),"") -> 0 | AY8: =IF(NOT(N8=""),SUMPRODUCT((P$5:P$16=P8)*(U$5:U$16=U8)*(Z$5:Z$16=Z8)*(X$5:X$16>X8)),"") -> 0 | AZ8: =IF(NOT(N8=""),SUMPRODUCT((P$5:P$16=P8)*(U$5:U$16=U8)*(Z$5:Z$16=Z8)*(X$5:X$16=X8)*(AT$5:AT$16<AT8)),"") -> 0 | BA8: =IF(NOT(N8=""),SUMPRODUCT((P$5:P$16=P8)*(U$5:U$16=U8)*(Z$5:Z$16=Z8)*(X$5:X$16=X8)*(AT$5:AT$16=AT8)*(AR$5:AR$16>AR8)),"") -> 0 | BB8: =IF(NOT(N8=""),SUMPRODUCT((P$5:P$16=P8)*(U$5:U$16=U8)*(Z$5:Z$16=Z8)*(X$5:X$16=X8)*(AT$5:AT$16=AT8)*(AR$5:AR$16=AR8)*(AP$5:AP$16>AP8)),"") -> 0 | BC8: =IF(NOT(N8=""),SUMPRODUCT((P$5:P$16=P8)*(U$5:U$16=U8)*(Z$5:Z$16=Z8)*(X$5:X$16=X8)*(AT$5:AT$16=AT8)*(AR$5:AR$16=AR8)*(AP$5:AP$16=AP8)*(AI$5:AI$16>AI8)),"") -> 0 | BD8: =IF(NOT(N8=""),SUMPRODUCT((P$5:P$16=P8)*(U$5:U$16=U8)*(Z$5:Z$16=Z8)*(X$5:X$16=X8)*(AT$5:AT$16=AT8)*(AR$5:AR$16=AR8)*(AP$5:AP$16=AP8)*(AI$5:AI$16=AI8)*(AG$5:AG$16>AG8)),"") -> 0 | BE8: =IF(NOT(N8=""),SUMPRODUCT((P$5:P$16=P8)*(U$5:U$16=U8)*(X$5:X$16=X8)*(Z$5:Z$16=Z8)*(AT$5:AT$16=AT8)*(AP$5:AP$16=AP8)*(AR$5:AR$16=AR8)*(AI$5:AI$16=AI8)*(AG$5:AG$16=AG8)*(BF$5:BF$16>BF8)),"") -> 0 | BF8: =IF(NOT(N8=""),IF(NOT('Teams - Setup'!G9=""),'Teams - Setup'!G9,0),"") -> 0 | BH8: =IF(NOT(N8=""),ROW(N8),"") -> 8
B9: Sat | C9: 03/08/2014 | D9: 10:30PM EST | E9: LA Galaxy | F9: 0 | G9: 1 | H9: Real Salt Lake | I9: StubHub Center | K9: =IF(AND(NOT(E9=""),NOT(H9="")),IF(AND(NOT(F9=""),NOT(G9="")),1,0),0) -> 1 | M9: =IF(NOT(N9=""),SUM(AV9:BE9),"") -> 10 | N9: =IF(NOT('Teams - Setup'!B10=""),'Teams - Setup'!B10,"") -> Montreal | P9: =IF(NOT(N9=""),AB9+AK9,"") -> 10 | R9: =IF(NOT(N9=""),AC9+AL9,"") -> 12 | S9: =IF(NOT(N9=""),IF(R9>0,P9/R9,0),"") -> 0.83333333 | U9: =IF(NOT(N9=""),AD9+AM9,"") -> 2 | V9: =IF(NOT(N9=""),AE9+AN9,"") -> 6 | W9: =IF(NOT(N9=""),AF9+AO9,"") -> 4 | X9: =IF(NOT(N9=""),AG9+AP9,"") -> 11 | Y9: =IF(NOT(N9=""),AH9+AQ9,"") -> 22 | Z9: =IF(NOT(N9=""),X9-Y9,"") -> -11 | AB9: =IF(NOT(N9=""),(AD9*PtsHomeWin)+(AF9*PtsHomeDraw)+(AE9*PtsHomeLoss),"") -> 8 | AC9: =IF(NOT(N9=""),SUMPRODUCT((HomeTeam=N9)*GamePlayed),"") -> 6 | AD9: =IF(NOT(N9=""),SUMPRODUCT((HomeTeam=N9)*(HomeScore>AwayScore)*GamePlayed),"") -> 2 | AE9: =IF(NOT(N9=""),SUMPRODUCT((HomeTeam=N9)*(HomeScore<AwayScore)*GamePlayed),"") -> 2 | AF9: =IF(NOT(N9=""),SUMPRODUCT((HomeTeam=N9)*(HomeScore=AwayScore)*GamePlayed),"") -> 2 | AG9: =IF(NOT(N9=""),SUMPRODUCT((HomeTeam=N9)*HomeScore*GamePlayed),"") -> 6 | AH9: =IF(NOT(N9=""),SUMPRODUCT((HomeTeam=N9)*AwayScore*GamePlayed),"") -> 8 | AI9: =IF(NOT(N9=""),AG9-AH9,"") -> -2 | AK9: =IF(NOT(N9=""),(AM9*PtsAwayWin)+(AO9*PtsAwayDraw)+(AN9*PtsAwayLoss),"") -> 2 | AL9: =IF(NOT(N9=""),SUMPRODUCT((AwayTeam=N9)*GamePlayed),"") -> 6 | AM9: =IF(NOT(N9=""),SUMPRODUCT((AwayTeam=N9)*(AwayScore>HomeScore)*GamePlayed),"") -> 0 | AN9: =IF(NOT(N9=""),SUMPRODUCT((AwayTeam=N9)*(AwayScore<HomeScore)*GamePlayed),"") -> 4 | AO9: =IF(NOT(N9=""),SUMPRODUCT((AwayTeam=N9)*(AwayScore=HomeScore)*GamePlayed),"") -> 2 | AP9: =IF(NOT(N9=""),SUMPRODUCT((AwayTeam=N9)*AwayScore*GamePlayed),"") -> 5 | AQ9: =IF(NOT(N9=""),SUMPRODUCT((AwayTeam=N9)*HomeScore*GamePlayed),"") -> 14 | AR9: =IF(NOT(N9=""),AP9-AQ9,"") -> -9 | AT9: =IF(NOT(N9=""),IF(NOT('Teams - Setup'!F10=""),'Teams - Setup'!F10,0),"") -> 0 | AV9: =IF(NOT(N9=""),RANK(P9,P$5:P$16,0),"") -> 10 | AW9: =IF(NOT(N9=""),SUMPRODUCT((P$5:P$16=P9)*(U$5:U$16>U9)),"") -> 0 | AX9: =IF(NOT(N9=""),SUMPRODUCT((P$5:P$16=P9)*(U$5:U$16=U9)*(Z$5:Z$16>Z9)),"") -> 0 | AY9: =IF(NOT(N9=""),SUMPRODUCT((P$5:P$16=P9)*(U$5:U$16=U9)*(Z$5:Z$16=Z9)*(X$5:X$16>X9)),"") -> 0 | AZ9: =IF(NOT(N9=""),SUMPRODUCT((P$5:P$16=P9)*(U$5:U$16=U9)*(Z$5:Z$16=Z9)*(X$5:X$16=X9)*(AT$5:AT$16<AT9)),"") -> 0 | BA9: =IF(NOT(N9=""),SUMPRODUCT((P$5:P$16=P9)*(U$5:U$16=U9)*(Z$5:Z$16=Z9)*(X$5:X$16=X9)*(AT$5:AT$16=AT9)*(AR$5:AR$16>AR9)),"") -> 0 | BB9: =IF(NOT(N9=""),SUMPRODUCT((P$5:P$16=P9)*(U$5:U$16=U9)*(Z$5:Z$16=Z9)*(X$5:X$16=X9)*(AT$5:AT$16=AT9)*(AR$5:AR$16=AR9)*(AP$5:AP$16>AP9)),"") -> 0 | BC9: =IF(NOT(N9=""),SUMPRODUCT((P$5:P$16=P9)*(U$5:U$16=U9)*(Z$5:Z$16=Z9)*(X$5:X$16=X9)*(AT$5:AT$16=AT9)*(AR$5:AR$16=AR9)*(AP$5:AP$16=AP9)*(AI$5:AI$16>AI9)),"") -> 0 | BD9: =IF(NOT(N9=""),SUMPRODUCT((P$5:P$16=P9)*(U$5:U$16=U9)*(Z$5:Z$16=Z9)*(X$5:X$16=X9)*(AT$5:AT$16=AT9)*(AR$5:AR$16=AR9)*(AP$5:AP$16=AP9)*(AI$5:AI$16=AI9)*(AG$5:AG$16>AG9)),"") -> 0 | BE9: =IF(NOT(N9=""),SUMPRODUCT((P$5:P$16=P9)*(U$5:U$16=U9)*(X$5:X$16=X9)*(Z$5:Z$16=Z9)*(AT$5:AT$16=AT9)*(AP$5:AP$16=AP9)*(AR$5:AR$16=AR9)*(AI$5:AI$16=AI9)*(AG$5:AG$16=AG9)*(BF$5:BF$16>BF9)),"") -> 0 | BF9: =IF(NOT(N9=""),IF(NOT('Teams - Setup'!G10=""),'Teams - Setup'!G10,0),"") -> 0 | BH9: =IF(NOT(N9=""),ROW(N9),"") -> 9
