Workbook

Sheet Tables - View
B2: =IF(NOT('Teams - Setup'!B2=""),'Teams - Setup'!B2,"") -> MLS Season 2014 | AB2: MLS CUP PLAYOFFS
B4: =IF(NOT('Teams - Setup'!B4=""),'Teams - Setup'!B4,"") -> Eastern Conference
B5: POS | C5: CLUB | E5: PTS | G5: GP | H5: PPG | J5: W | K5: L | L5: T | N5: GF | O5: GA | P5: GD | R5: HGF | S5: HGA | T5: HGD | V5: AGF | W5: AGA | X5: AGD | AB5: DAY | AC5: DATE | AD5: TIME | AE5: HOME TEAM | AF5: H | AG5: A | AH5: AWAY TEAM | AJ5: Extra-Time | AM5: Penalties | AP5: FT | AQ5: ET | AR5: PEN | AT5: Winner | AU5: Loser
B6: 1 | C6: =IF(NOT(B6=""),VLOOKUP(B6,ECTable,2,0),"") -> New England | E6: =IF(NOT(B6=""),VLOOKUP(B6,ECTable,4,0),"") -> 23 | G6: =IF(NOT(B6=""),VLOOKUP(B6,ECTable,6,0),"") -> 13 | H6: =IF(NOT(B6=""),VLOOKUP(B6,ECTable,7,0),"") -> 1.7692308 | J6: =IF(NOT(B6=""),VLOOKUP(B6,ECTable,9,0),"") -> 7 | K6: =IF(NOT(B6=""),VLOOKUP(B6,ECTable,10,0),"") -> 4 | L6: =IF(NOT(B6=""),VLOOKUP(B6,ECTable,11,0),"") -> 2 | N6: =IF(NOT(B6=""),VLOOKUP(B6,ECTable,12,0),"") -> 21 | O6: =IF(NOT(B6=""),VLOOKUP(B6,ECTable,13,0),"") -> 16 | P6: =IF(NOT(B6=""),VLOOKUP(B6,ECTable,14,0),"") -> 5 | R6: =IF(NOT(B6=""),VLOOKUP(B6,ECTable,21,0),"") -> 11 | S6: =IF(NOT(B6=""),VLOOKUP(B6,ECTable,22,0),"") -> 1 | T6: =IF(NOT(B6=""),VLOOKUP(B6,ECTable,23,0),"") -> 10 | V6: =IF(NOT(B6=""),VLOOKUP(B6,ECTable,30,0),"") -> 10 | W6: =IF(NOT(B6=""),VLOOKUP(B6,ECTable,31,0),"") -> 15 | X6: =IF(NOT(B6=""),VLOOKUP(B6,ECTable,32,0),"") -> -5 | AB6: KNOCKOUT ROUND
B7: =IF(B6<ECNumberTeams,B6+1,"") -> 2 | C7: =IF(NOT(B7=""),VLOOKUP(B7,ECTable,2,0),"") -> D.C. United | E7: =IF(NOT(B7=""),VLOOKUP(B7,ECTable,4,0),"") -> 21 | G7: =IF(NOT(B7=""),VLOOKUP(B7,ECTable,6,0),"") -> 13 | H7: =IF(NOT(B7=""),VLOOKUP(B7,ECTable,7,0),"") -> 1.6153846 | J7: =IF(NOT(B7=""),VLOOKUP(B7,ECTable,9,0),"") -> 6 | K7: =IF(NOT(B7=""),VLOOKUP(B7,ECTable,10,0),"") -> 4 | L7: =IF(NOT(B7=""),VLOOKUP(B7,ECTable,11,0),"") -> 3 | N7: =IF(NOT(B7=""),VLOOKUP(B7,ECTable,12,0),"") -> 18 | O7: =IF(NOT(B7=""),VLOOKUP(B7,ECTable,13,0),"") -> 14 | P7: =IF(NOT(B7=""),VLOOKUP(B7,ECTable,14,0),"") -> 4 | R7: =IF(NOT(B7=""),VLOOKUP(B7,ECTable,21,0),"") -> 13 | S7: =IF(NOT(B7=""),VLOOKUP(B7,ECTable,22,0),"") -> 7 | T7: =IF(NOT(B7=""),VLOOKUP(B7,ECTable,23,0),"") -> 6 | V7: =IF(NOT(B7=""),VLOOKUP(B7,ECTable,30,0),"") -> 5 | W7: =IF(NOT(B7=""),VLOOKUP(B7,ECTable,31,0),"") -> 7 | X7: =IF(NOT(B7=""),VLOOKUP(B7,ECTable,32,0),"") -> -2 | AE7: =IF(NOT(C9=""),C9,"4th Place") -> Houston | AH7: =IF(NOT(C10=""),C10,"5th Place") -> Columbus | AP7: =IF(AND(NOT(AF7=""),NOT(AG7="")),IF(AF7=AG7,"D",IF(AF7>AG7,"HW","AW")),"") | AQ7: =IF(AP7="D",IF(AND(NOT(AJ7=""),NOT(AK7="")),IF(AJ7=AK7,"D",IF(AJ7>AK7,"HW","AW")),""),"") | AR7: =IF(AQ7="D",IF(AND(NOT(AM7=""),NOT(AN7="")),IF(AM7=AN7,"D",IF(AM7>AN7,"HW","AW")),""),"") | AT7: =IF(OR(AP7="HW",AQ7="HW",AR7="HW"),AE7,IF(OR(AP7="AW",AQ7="AW",AR7="AW"),AH7,"")) | AU7: =IF(OR(AP7="HW",AQ7="HW",AR7="HW"),AH7,IF(OR(AP7="AW",AQ7="AW",AR7="AW"),AE7,""))
B8: =IF(B7<ECNumberTeams,B7+1,"") -> 3 | C8: =IF(NOT(B8=""),VLOOKUP(B8,ECTable,2,0),"") -> Sporting KC | E8: =IF(NOT(B8=""),VLOOKUP(B8,ECTable,4,0),"") -> 19 | G8: =IF(NOT(B8=""),VLOOKUP(B8,ECTable,6,0),"") -> 14 | H8: =IF(NOT(B8=""),VLOOKUP(B8,ECTable,7,0),"") -> 1.3571429 | J8: =IF(NOT(B8=""),VLOOKUP(B8,ECTable,9,0),"") -> 5 | K8: =IF(NOT(B8=""),VLOOKUP(B8,ECTable,10,0),"") -> 5 | L8: =IF(NOT(B8=""),VLOOKUP(B8,ECTable,11,0),"") -> 4 | N8: =IF(NOT(B8=""),VLOOKUP(B8,ECTable,12,0),"") -> 19 | O8: =IF(NOT(B8=""),VLOOKUP(B8,ECTable,13,0),"") -> 14 | P8: =IF(NOT(B8=""),VLOOKUP(B8,ECTable,14,0),"") -> 5 | R8: =IF(NOT(B8=""),VLOOKUP(B8,ECTable,21,0),"") -> 12 | S8: =IF(NOT(B8=""),VLOOKUP(B8,ECTable,22,0),"") -> 6 | T8: =IF(NOT(B8=""),VLOOKUP(B8,ECTable,23,0),"") -> 6 | V8: =IF(NOT(B8=""),VLOOKUP(B8,ECTable,30,0),"") -> 7 | W8: =IF(NOT(B8=""),VLOOKUP(B8,ECTable,31,0),"") -> 8 | X8: =IF(NOT(B8=""),VLOOKUP(B8,ECTable,32,0),"") -> -1 | AB8: CONFERENCE SEMIFINALS
B9: =IF(B8<ECNumberTeams,B8+1,"") -> 4 | C9: =IF(NOT(B9=""),VLOOKUP(B9,ECTable,2,0),"") -> Houston | E9: =IF(NOT(B9=""),VLOOKUP(B9,ECTable,4,0),"") -> 17 | G9: =IF(NOT(B9=""),VLOOKUP(B9,ECTable,6,0),"") -> 15 | H9: =IF(NOT(B9=""),VLOOKUP(B9,ECTable,7,0),"") -> 1.1333333 | J9: =IF(NOT(B9=""),VLOOKUP(B9,ECTable,9,0),"") -> 5 | K9: =IF(NOT(B9=""),VLOOKUP(B9,ECTable,10,0),"") -> 8 | L9: =IF(NOT(B9=""),VLOOKUP(B9,ECTable,11,0),"") -> 2 | N9: =IF(NOT(B9=""),VLOOKUP(B9,ECTable,12,0),"") -> 16 | O9: =IF(NOT(B9=""),VLOOKUP(B9,ECTable,13,0),"") -> 27 | P9: =IF(NOT(B9=""),VLOOKUP(B9,ECTable,14,0),"") -> -11 | R9: =IF(NOT(B9=""),VLOOKUP(B9,ECTable,21,0),"") -> 11 | S9: =IF(NOT(B9=""),VLOOKUP(B9,ECTable,22,0),"") -> 10 | T9: =IF(NOT(B9=""),VLOOKUP(B9,ECTable,23,0),"") -> 1 | V9: =IF(NOT(B9=""),VLOOKUP(B9,ECTable,30,0),"") -> 5 | W9: =IF(NOT(B9=""),VLOOKUP(B9,ECTable,31,0),"") -> 17 | X9: =IF(NOT(B9=""),VLOOKUP(B9,ECTable,32,0),"") -> -12 | AE9: =IF(NOT(C8=""),C8,"3rd Place") -> Sporting KC | AH9: =IF(NOT(C7=""),C7,"2nd Place") -> D.C. United | AP9: =IF(AND(NOT(AF9=""),NOT(AG9="")),IF(AF9=AG9,"D",IF(AF9>AG9,"HW","AW")),"") | AT9: =IF(OR(AP9="HW",AQ9="HW",AR9="HW"),AE9,IF(OR(AP9="AW",AQ9="AW",AR9="AW"),AH9,"")) | AU9: =IF(OR(AP9="HW",AQ9="HW",AR9="HW"),AH9,IF(OR(AP9="AW",AQ9="AW",AR9="AW"),AE9,""))
B10: =IF(B9<ECNumberTeams,B9+1,"") -> 5 | C10: =IF(NOT(B10=""),VLOOKUP(B10,ECTable,2,0),"") -> Columbus | E10: =IF(NOT(B10=""),VLOOKUP(B10,ECTable,4,0),"") -> 17 | G10: =IF(NOT(B10=""),VLOOKUP(B10,ECTable,6,0),"") -> 14 | H10: =IF(NOT(B10=""),VLOOKUP(B10,ECTable,7,0),"") -> 1.2142857 | J10: =IF(NOT(B10=""),VLOOKUP(B10,ECTable,9,0),"") -> 4 | K10: =IF(NOT(B10=""),VLOOKUP(B10,ECTable,10,0),"") -> 5 | L10: =IF(NOT(B10=""),VLOOKUP(B10,ECTable,11,0),"") -> 5 | N10: =IF(NOT(B10=""),VLOOKUP(B10,ECTable,12,0),"") -> 18 | O10: =IF(NOT(B10=""),VLOOKUP(B10,ECTable,13,0),"") -> 18 | P10: =IF(NOT(B10=""),VLOOKUP(B10,ECTable,14,0),"") -> 0 | R10: =IF(NOT(B10=""),VLOOKUP(B10,ECTable,21,0),"") -> 7 | S10: =IF(NOT(B10=""),VLOOKUP(B10,ECTable,22,0),"") -> 7 | T10: =IF(NOT(B10=""),VLOOKUP(B10,ECTable,23,0),"") -> 0 | V10: =IF(NOT(B10=""),VLOOKUP(B10,ECTable,30,0),"") -> 11 | W10: =IF(NOT(B10=""),VLOOKUP(B10,ECTable,31,0),"") -> 11 | X10: =IF(NOT(B10=""),VLOOKUP(B10,ECTable,32,0),"") -> 0 | AE10: =IF(NOT(C7=""),C7,"2nd Place") -> D.C. United | AH10: =IF(NOT(C8=""),C8,"3rd Place") -> Sporting KC | AP10: =IF(AND(NOT(AF9=""),NOT(AG9=""),NOT(AF10=""),NOT(AG10="")),IF((AG9+AF10)=(AF9+AG10),"D",IF((AG9+AF10)>(AF9+AG10),"HW","AW")),"") | AQ10: =IF(AP10="D",IF(AND(NOT(AJ10=""),NOT(AK10="")),IF(AJ10=AK10,"D",IF(AJ10>AK10,"HW","AW")),""),"") | AR10: =IF(AQ10="D",IF(AND(NOT(AM10=""),NOT(AN10="")),IF(AM10=AN10,"D",IF(AM10>AN10,"HW","AW")),""),"") | AT10: =IF(OR(AP10="HW",AQ10="HW",AR10="HW"),AE10,IF(OR(AP10="AW",AQ10="AW",AR10="AW"),AH10,"")) | AU10: =IF(OR(AP10="HW",AQ10="HW",AR10="HW"),AH10,IF(OR(AP10="AW",AQ10="AW",AR10="AW"),AE10,""))
B11: =IF(B10<ECNumberTeams,B10+1,"") -> 6 | C11: =IF(NOT(B11=""),VLOOKUP(B11,ECTable,2,0),"") -> Toronto FC | E11: =IF(NOT(B11=""),VLOOKUP(B11,ECTable,4,0),"") -> 16 | G11: =IF(NOT(B11=""),VLOOKUP(B11,ECTable,6,0),"") -> 10 | H11: =IF(NOT(B11=""),VLOOKUP(B11,ECTable,7,0),"") -> 1.6 | J11: =IF(NOT(B11=""),VLOOKUP(B11,ECTable,9,0),"") -> 5 | K11: =IF(NOT(B11=""),VLOOKUP(B11,ECTable,10,0),"") -> 4 | L11: =IF(NOT(B11=""),VLOOKUP(B11,ECTable,11,0),"") -> 1 | N11: =IF(NOT(B11=""),VLOOKUP(B11,ECTable,12,0),"") -> 14 | O11: =IF(NOT(B11=""),VLOOKUP(B11,ECTable,13,0),"") -> 13 | P11: =IF(NOT(B11=""),VLOOKUP(B11,ECTable,14,0),"") -> 1 | R11: =IF(NOT(B11=""),VLOOKUP(B11,ECTable,21,0),"") -> 7 | S11: =IF(NOT(B11=""),VLOOKUP(B11,ECTable,22,0),"") -> 5 | T11: =IF(NOT(B11=""),VLOOKUP(B11,ECTable,23,0),"") -> 2 | V11: =IF(NOT(B11=""),VLOOKUP(B11,ECTable,30,0),"") -> 7 | W11: =IF(NOT(B11=""),VLOOKUP(B11,ECTable,31,0),"") -> 8 | X11: =IF(NOT(B11=""),VLOOKUP(B11,ECTable,32,0),"") -> -1 | AE11: =IF(NOT(AT7=""),AT7,"Winner Knockout") -> Winner Knockout | AH11: =IF(NOT(C6=""),C6,"1st Place") -> New England | AP11: =IF(AND(NOT(AF11=""),NOT(AG11="")),IF(AF11=AG11,"D",IF(AF11>AG11,"HW","AW")),"") | AT11: =IF(OR(AP11="HW",AQ11="HW",AR11="HW"),AE11,IF(OR(AP11="AW",AQ11="AW",AR11="AW"),AH11,"")) | AU11: =IF(OR(AP11="HW",AQ11="HW",AR11="HW"),AH11,IF(OR(AP11="AW",AQ11="AW",AR11="AW"),AE11,""))
B12: =IF(B11<ECNumberTeams,B11+1,"") -> 7 | C12: =IF(NOT(B12=""),VLOOKUP(B12,ECTable,2,0),"") -> New York | E12: =IF(NOT(B12=""),VLOOKUP(B12,ECTable,4,0),"") -> 15 | G12: =IF(NOT(B12=""),VLOOKUP(B12,ECTable,6,0),"") -> 14 | H12: =IF(NOT(B12=""),VLOOKUP(B12,ECTable,7,0),"") -> 1.0714286 | J12: =IF(NOT(B12=""),VLOOKUP(B12,ECTable,9,0),"") -> 3 | K12: =IF(NOT(B12=""),VLOOKUP(B12,ECTable,10,0),"") -> 5 | L12: =IF(NOT(B12=""),VLOOKUP(B12,ECTable,11,0),"") -> 6 | N12: =IF(NOT(B12=""),VLOOKUP(B12,ECTable,12,0),"") -> 20 | O12: =IF(NOT(B12=""),VLOOKUP(B12,ECTable,13,0),"") -> 22 | P12: =IF(NOT(B12=""),VLOOKUP(B12,ECTable,14,0),"") -> -2 | R12: =IF(NOT(B12=""),VLOOKUP(B12,ECTable,21,0),"") -> 13 | S12: =IF(NOT(B12=""),VLOOKUP(B12,ECTable,22,0),"") -> 10 | T12: =IF(NOT(B12=""),VLOOKUP(B12,ECTable,23,0),"") -> 3 | V12: =IF(NOT(B12=""),VLOOKUP(B12,ECTable,30,0),"") -> 7 | W12: =IF(NOT(B12=""),VLOOKUP(B12,ECTable,31,0),"") -> 12 | X12: =IF(NOT(B12=""),VLOOKUP(B12,ECTable,32,0),"") -> -5 | AE12: =IF(NOT(C6=""),C6,"1st Place") -> New England | AH12: =IF(NOT(AT7=""),AT7,"Winner Knockout") -> Winner Knockout | AP12: =IF(AND(NOT(AF11=""),NOT(AG11=""),NOT(AF12=""),NOT(AG12="")),IF((AG11+AF12)=(AF11+AG12),"D",IF((AG11+AF12)>(AF11+AG12),"HW","AW")),"") | AQ12: =IF(AP12="D",IF(AND(NOT(AJ12=""),NOT(AK12="")),IF(AJ12=AK12,"D",IF(AJ12>AK12,"HW","AW")),""),"") | AR12: =IF(AQ12="D",IF(AND(NOT(AM12=""),NOT(AN12="")),IF(AM12=AN12,"D",IF(AM12>AN12,"HW","AW")),""),"") | AT12: =IF(OR(AP12="HW",AQ12="HW",AR12="HW"),AE12,IF(OR(AP12="AW",AQ12="AW",AR12="AW"),AH12,"")) | AU12: =IF(OR(AP12="HW",AQ12="HW",AR12="HW"),AH12,IF(OR(AP12="AW",AQ12="AW",AR12="AW"),AE12,""))
B13: =IF(B12<ECNumberTeams,B12+1,"") -> 8 | C13: =IF(NOT(B13=""),VLOOKUP(B13,ECTable,2,0),"") -> Philadelphia | E13: =IF(NOT(B13=""),VLOOKUP(B13,ECTable,4,0),"") -> 14 | G13: =IF(NOT(B13=""),VLOOKUP(B13,ECTable,6,0),"") -> 15 | H13: =IF(NOT(B13=""),VLOOKUP(B13,ECTable,7,0),"") -> 0.93333333 | J13: =IF(NOT(B13=""),VLOOKUP(B13,ECTable,9,0),"") -> 3 | K13: =IF(NOT(B13=""),VLOOKUP(B13,ECTable,10,0),"") -> 7 | L13: =IF(NOT(B13=""),VLOOKUP(B13,ECTable,11,0),"") -> 5 | N13: =IF(NOT(B13=""),VLOOKUP(B13,ECTable,12,0),"") -> 19 | O13: =IF(NOT(B13=""),VLOOKUP(B13,ECTable,13,0),"") -> 24 | P13: =IF(NOT(B13=""),VLOOKUP(B13,ECTable,14,0),"") -> -5 | R13: =IF(NOT(B13=""),VLOOKUP(B13,ECTable,21,0),"") -> 7 | S13: =IF(NOT(B13=""),VLOOKUP(B13,ECTable,22,0),"") -> 9 | T13: =IF(NOT(B13=""),VLOOKUP(B13,ECTable,23,0),"") -> -2 | V13: =IF(NOT(B13=""),VLOOKUP(B13,ECTable,30,0),"") -> 12 | W13: =IF(NOT(B13=""),VLOOKUP(B13,ECTable,31,0),"") -> 15 | X13: =IF(NOT(B13=""),VLOOKUP(B13,ECTable,32,0),"") -> -3 | AB13: CONFERENCE CHAMPIONSHIPS
B14: =IF(B13<ECNumberTeams,B13+1,"") -> 9 | C14: =IF(NOT(B14=""),VLOOKUP(B14,ECTable,2,0),"") -> Chicago | E14: =IF(NOT(B14=""),VLOOKUP(B14,ECTable,4,0),"") -> 14 | G14: =IF(NOT(B14=""),VLOOKUP(B14,ECTable,6,0),"") -> 13 | H14: =IF(NOT(B14=""),VLOOKUP(B14,ECTable,7,0),"") -> 1.0769231 | J14: =IF(NOT(B14=""),VLOOKUP(B14,ECTable,9,0),"") -> 2 | K14: =IF(NOT(B14=""),VLOOKUP(B14,ECTable,10,0),"") -> 3 | L14: =IF(NOT(B14=""),VLOOKUP(B14,ECTable,11,0),"") -> 8 | N14: =IF(NOT(B14=""),VLOOKUP(B14,ECTable,12,0),"") -> 20 | O14: =IF(NOT(B14=""),VLOOKUP(B14,ECTable,13,0),"") -> 22 | P14: =IF(NOT(B14=""),VLOOKUP(B14,ECTable,14,0),"") -> -2 | R14: =IF(NOT(B14=""),VLOOKUP(B14,ECTable,21,0),"") -> 9 | S14: =IF(NOT(B14=""),VLOOKUP(B14,ECTable,22,0),"") -> 9 | T14: =IF(NOT(B14=""),VLOOKUP(B14,ECTable,23,0),"") -> 0 | V14: =IF(NOT(B14=""),VLOOKUP(B14,ECTable,30,0),"") -> 11 | W14: =IF(NOT(B14=""),VLOOKUP(B14,ECTable,31,0),"") -> 13 | X14: =IF(NOT(B14=""),VLOOKUP(B14,ECTable,32,0),"") -> -2 | AE14: =IF(NOT(AT12=""),AT12,"Winner Semi-Final 2") -> Winner Semi-Final 2 | AH14: =IF(NOT(AT10=""),AT10,"Winner Semi-Final 1") -> Winner Semi-Final 1 | AP14: =IF(AND(NOT(AF14=""),NOT(AG14="")),IF(AF14=AG14,"D",IF(AF14>AG14,"HW","AW")),"") | AT14: =IF(OR(AP14="HW",AQ14="HW",AR14="HW"),AE14,IF(OR(AP14="AW",AQ14="AW",AR14="AW"),AH14,"")) | AU14: =IF(OR(AP14="HW",AQ14="HW",AR14="HW"),AH14,IF(OR(AP14="AW",AQ14="AW",AR14="AW"),AE14,""))
B15: =IF(B14<ECNumberTeams,B14+1,"") -> 10 | C15: =IF(NOT(B15=""),VLOOKUP(B15,ECTable,2,0),"") -> Montreal | E15: =IF(NOT(B15=""),VLOOKUP(B15,ECTable,4,0),"") -> 10 | G15: =IF(NOT(B15=""),VLOOKUP(B15,ECTable,6,0),"") -> 12 | H15: =IF(NOT(B15=""),VLOOKUP(B15,ECTable,7,0),"") -> 0.83333333 | J15: =IF(NOT(B15=""),VLOOKUP(B15,ECTable,9,0),"") -> 2 | K15: =IF(NOT(B15=""),VLOOKUP(B15,ECTable,10,0),"") -> 6 | L15: =IF(NOT(B15=""),VLOOKUP(B15,ECTable,11,0),"") -> 4 | N15: =IF(NOT(B15=""),VLOOKUP(B15,ECTable,12,0),"") -> 11 | O15: =IF(NOT(B15=""),VLOOKUP(B15,ECTable,13,0),"") -> 22 | P15: =IF(NOT(B15=""),VLOOKUP(B15,ECTable,14,0),"") -> -11 | R15: =IF(NOT(B15=""),VLOOKUP(B15,ECTable,21,0),"") -> 6 | S15: =IF(NOT(B15=""),VLOOKUP(B15,ECTable,22,0),"") -> 8 | T15: =IF(NOT(B15=""),VLOOKUP(B15,ECTable,23,0),"") -> -2 | V15: =IF(NOT(B15=""),VLOOKUP(B15,ECTable,30,0),"") -> 5 | W15: =IF(NOT(B15=""),VLOOKUP(B15,ECTable,31,0),"") -> 14 | X15: =IF(NOT(B15=""),VLOOKUP(B15,ECTable,32,0),"") -> -9 | AE15: =IF(NOT(AT10=""),AT10,"Winner Semi-Final 1") -> Winner Semi-Final 1 | AH15: =IF(NOT(AT12=""),AT12,"Winner Semi-Final 2") -> Winner Semi-Final 2 | AP15: =IF(AND(NOT(AF14=""),NOT(AG14=""),NOT(AF15=""),NOT(AG15="")),IF((AG14+AF15)=(AF14+AG15),"D",IF((AG14+AF15)>(AF14+AG15),"HW","AW")),"") | AQ15: =IF(AP15="D",IF(AND(NOT(AJ15=""),NOT(AK15="")),IF(AJ15=AK15,"D",IF(AJ15>AK15,"HW","AW")),""),"") | AR15: =IF(AQ15="D",IF(AND(NOT(AM15=""),NOT(AN15="")),IF(AM15=AN15,"D",IF(AM15>AN15,"HW","AW")),""),"") | AT15: =IF(OR(AP15="HW",AQ15="HW",AR15="HW"),AE15,IF(OR(AP15="AW",AQ15="AW",AR15="AW"),AH15,"")) | AU15: =IF(OR(AP15="HW",AQ15="HW",AR15="HW"),AH15,IF(OR(AP15="AW",AQ15="AW",AR15="AW"),AE15,""))
B16: =IF(B15<ECNumberTeams,B15+1,"") | C16: =IF(NOT(B16=""),VLOOKUP(B16,ECTable,2,0),"") | E16: =IF(NOT(B16=""),VLOOKUP(B16,ECTable,4,0),"") | G16: =IF(NOT(B16=""),VLOOKUP(B16,ECTable,6,0),"") | H16: =IF(NOT(B16=""),VLOOKUP(B16,ECTable,7,0),"") | J16: =IF(NOT(B16=""),VLOOKUP(B16,ECTable,9,0),"") | K16: =IF(NOT(B16=""),VLOOKUP(B16,ECTable,10,0),"") | L16: =IF(NOT(B16=""),VLOOKUP(B16,ECTable,11,0),"") | N16: =IF(NOT(B16=""),VLOOKUP(B16,ECTable,12,0),"") | O16: =IF(NOT(B16=""),VLOOKUP(B16,ECTable,13,0),"") | P16: =IF(NOT(B16=""),VLOOKUP(B16,ECTable,14,0),"") | R16: =IF(NOT(B16=""),VLOOKUP(B16,ECTable,21,0),"") | S16: =IF(NOT(B16=""),VLOOKUP(B16,ECTable,22,0),"") | T16: =IF(NOT(B16=""),VLOOKUP(B16,ECTable,23,0),"") | V16: =IF(NOT(B16=""),VLOOKUP(B16,ECTable,30,0),"") | W16: =IF(NOT(B16=""),VLOOKUP(B16,ECTable,31,0),"") | X16: =IF(NOT(B16=""),VLOOKUP(B16,ECTable,32,0),"")
B17: =IF(B16<ECNumberTeams,B16+1,"") | C17: =IF(NOT(B17=""),VLOOKUP(B17,ECTable,2,0),"") | E17: =IF(NOT(B17=""),VLOOKUP(B17,ECTable,4,0),"") | G17: =IF(NOT(B17=""),VLOOKUP(B17,ECTable,6,0),"") | H17: =IF(NOT(B17=""),VLOOKUP(B17,ECTable,7,0),"") | J17: =IF(NOT(B17=""),VLOOKUP(B17,ECTable,9,0),"") | K17: =IF(NOT(B17=""),VLOOKUP(B17,ECTable,10,0),"") | L17: =IF(NOT(B17=""),VLOOKUP(B17,ECTable,11,0),"") | N17: =IF(NOT(B17=""),VLOOKUP(B17,ECTable,12,0),"") | O17: =IF(NOT(B17=""),VLOOKUP(B17,ECTable,13,0),"") | P17: =IF(NOT(B17=""),VLOOKUP(B17,ECTable,14,0),"") | R17: =IF(NOT(B17=""),VLOOKUP(B17,ECTable,21,0),"") | S17: =IF(NOT(B17=""),VLOOKUP(B17,ECTable,22,0),"") | T17: =IF(NOT(B17=""),VLOOKUP(B17,ECTable,23,0),"") | V17: =IF(NOT(B17=""),VLOOKUP(B17,ECTable,30,0),"") | W17: =IF(NOT(B17=""),VLOOKUP(B17,ECTable,31,0),"") | X17: =IF(NOT(B17=""),VLOOKUP(B17,ECTable,32,0),"")
B19: =IF(NOT('Teams - Setup'!B19=""),'Teams - Setup'!B19,"") -> Western Conference
B20: POS | C20: CLUB | E20: PTS | G20: GP | H20: PPG | J20: W | K20: L | L20: T | N20: GF | O20: GA | P20: GD | R20: HGF | S20: HGA | T20: HGD | V20: AGF | W20: AGA | X20: AGD | AB20: DAY | AC20: DATE | AD20: TIME | AE20: HOME TEAM | AF20: H | AG20: A | AH20: AWAY TEAM | AJ20: Extra-Time | AM20: Penalties | AP20: FT | AQ20: ET | AR20: PEN | AT20: Winner | AU20: Loser
B21: 1 | C21: =IF(NOT(B21=""),VLOOKUP(B21,WCTable,2,0),"") -> Seattle | E21: =IF(NOT(B21=""),VLOOKUP(B21,WCTable,4,0),"") -> 29 | G21: =IF(NOT(B21=""),VLOOKUP(B21,WCTable,6,0),"") -> 14 | H21: =IF(NOT(B21=""),VLOOKUP(B21,WCTable,7,0),"") -> 2.0714286 | J21: =IF(NOT(B21=""),VLOOKUP(B21,WCTable,9,0),"") -> 9 | K21: =IF(NOT(B21=""),VLOOKUP(B21,WCTable,10,0),"") -> 3 | L21: =IF(NOT(B21=""),VLOOKUP(B21,WCTable,11,0),"") -> 2 | N21: =IF(NOT(B21=""),VLOOKUP(B21,WCTable,12,0),"") -> 29 | O21: =IF(NOT(B21=""),VLOOKUP(B21,WCTable,13,0),"") -> 21 | P21: =IF(NOT(B21=""),VLOOKUP(B21,WCTable,14,0),"") -> 8 | R21: =IF(NOT(B21=""),VLOOKUP(B21,WCTable,21,0),"") -> 16 | S21: =IF(NOT(B21=""),VLOOKUP(B21,WCTable,22,0),"") -> 7 | T21: =IF(NOT(B21=""),VLOOKUP(B21,WCTable,23,0),"") -> 9 | V21: =IF(NOT(B21=""),VLOOKUP(B21,WCTable,30,0),"") -> 13 | W21: =IF(NOT(B21=""),VLOOKUP(B21,WCTable,31,0),"") -> 14 | X21: =IF(NOT(B21=""),VLOOKUP(B21,WCTable,32,0),"") -> -1 | AB21: KNOCKOUT ROUND
B22: =IF(B21<WCNumberTeams,B21+1,"") -> 2 | C22: =IF(NOT(B22=""),VLOOKUP(B22,WCTable,2,0),"") -> Real Salt Lake | E22: =IF(NOT(B22=""),VLOOKUP(B22,WCTable,4,0),"") -> 25 | G22: =IF(NOT(B22=""),VLOOKUP(B22,WCTable,6,0),"") -> 14 | H22: =IF(NOT(B22=""),VLOOKUP(B22,WCTable,7,0),"") -> 1.7857143 | J22: =IF(NOT(B22=""),VLOOKUP(B22,WCTable,9,0),"") -> 6 | K22: =IF(NOT(B22=""),VLOOKUP(B22,WCTable,10,0),"") -> 1 | L22: =IF(NOT(B22=""),VLOOKUP(B22,WCTable,11,0),"") -> 7 | N22: =IF(NOT(B22=""),VLOOKUP(B22,WCTable,12,0),"") -> 24 | O22: =IF(NOT(B22=""),VLOOKUP(B22,WCTable,13,0),"") -> 18 | P22: =IF(NOT(B22=""),VLOOKUP(B22,WCTable,14,0),"") -> 6 | R22: =IF(NOT(B22=""),VLOOKUP(B22,WCTable,21,0),"") -> 9 | S22: =IF(NOT(B22=""),VLOOKUP(B22,WCTable,22,0),"") -> 4 | T22: =IF(NOT(B22=""),VLOOKUP(B22,WCTable,23,0),"") -> 5 | V22: =IF(NOT(B22=""),VLOOKUP(B22,WCTable,30,0),"") -> 15 | W22: =IF(NOT(B22=""),VLOOKUP(B22,WCTable,31,0),"") -> 14 | X22: =IF(NOT(B22=""),VLOOKUP(B22,WCTable,32,0),"") -> 1 | AE22: =IF(NOT(C24=""),C24,"4th Place") -> Vancouver | AH22: =IF(NOT(C25=""),C25,"5th Place") -> FC Dallas | AP22: =IF(AND(NOT(AF22=""),NOT(AG22="")),IF(AF22=AG22,"D",IF(AF22>AG22,"HW","AW")),"") | AQ22: =IF(AP22="D",IF(AND(NOT(AJ22=""),NOT(AK22="")),IF(AJ22=AK22,"D",IF(AJ22>AK22,"HW","AW")),""),"") | AR22: =IF(AQ22="D",IF(AND(NOT(AM22=""),NOT(AN22="")),IF(AM22=AN22,"D",IF(AM22>AN22,"HW","AW")),""),"") | AT22: =IF(OR(AP22="HW",AQ22="HW",AR22="HW"),AE22,IF(OR(AP22="AW",AQ22="AW",AR22="AW"),AH22,"")) | AU22: =IF(OR(AP22="HW",AQ22="HW",AR22="HW"),AH22,IF(OR(AP22="AW",AQ22="AW",AR22="AW"),AE22,""))
B23: =IF(B22<WCNumberTeams,B22+1,"") -> 3 | C23: =IF(NOT(B23=""),VLOOKUP(B23,WCTable,2,0),"") -> Colorado | E23: =IF(NOT(B23=""),VLOOKUP(B23,WCTable,4,0),"") -> 22 | G23: =IF(NOT(B23=""),VLOOKUP(B23,WCTable,6,0),"") -> 14 | H23: =IF(NOT(B23=""),VLOOKUP(B23,WCTable,7,0),"") -> 1.5714286 | J23: =IF(NOT(B23=""),VLOOKUP(B23,WCTable,9,0),"") -> 6 | K23: =IF(NOT(B23=""),VLOOKUP(B23,WCTable,10,0),"") -> 4 | L23: =IF(NOT(B23=""),VLOOKUP(B23,WCTable,11,0),"") -> 4 | N23: =IF(NOT(B23=""),VLOOKUP(B23,WCTable,12,0),"") -> 19 | O23: =IF(NOT(B23=""),VLOOKUP(B23,WCTable,13,0),"") -> 15 | P23: =IF(NOT(B23=""),VLOOKUP(B23,WCTable,14,0),"") -> 4 | R23: =IF(NOT(B23=""),VLOOKUP(B23,WCTable,21,0),"") -> 13 | S23: =IF(NOT(B23=""),VLOOKUP(B23,WCTable,22,0),"") -> 7 | T23: =IF(NOT(B23=""),VLOOKUP(B23,WCTable,23,0),"") -> 6 | V23: =IF(NOT(B23=""),VLOOKUP(B23,WCTable,30,0),"") -> 6 | W23: =IF(NOT(B23=""),VLOOKUP(B23,WCTable,31,0),"") -> 8 | X23: =IF(NOT(B23=""),VLOOKUP(B23,WCTable,32,0),"") -> -2 | AB23: CONFERENCE SEMIFINALS
B24: =IF(B23<WCNumberTeams,B23+1,"") -> 4 | C24: =IF(NOT(B24=""),VLOOKUP(B24,WCTable,2,0),"") -> Vancouver | E24: =IF(NOT(B24=""),VLOOKUP(B24,WCTable,4,0),"") -> 20 | G24: =IF(NOT(B24=""),VLOOKUP(B24,WCTable,6,0),"") -> 12 | H24: =IF(NOT(B24=""),VLOOKUP(B24,WCTable,7,0),"") -> 1.6666667 | J24: =IF(NOT(B24=""),VLOOKUP(B24,WCTable,9,0),"") -> 5 | K24: =IF(NOT(B24=""),VLOOKUP(B24,WCTable,10,0),"") -> 2 | L24: =IF(NOT(B24=""),VLOOKUP(B24,WCTable,11,0),"") -> 5 | N24: =IF(NOT(B24=""),VLOOKUP(B24,WCTable,12,0),"") -> 22 | O24: =IF(NOT(B24=""),VLOOKUP(B24,WCTable,13,0),"") -> 17 | P24: =IF(NOT(B24=""),VLOOKUP(B24,WCTable,14,0),"") -> 5 | R24: =IF(NOT(B24=""),VLOOKUP(B24,WCTable,21,0),"") -> 14 | S24: =IF(NOT(B24=""),VLOOKUP(B24,WCTable,22,0),"") -> 10 | T24: =IF(NOT(B24=""),VLOOKUP(B24,WCTable,23,0),"") -> 4 | V24: =IF(NOT(B24=""),VLOOKUP(B24,WCTable,30,0),"") -> 8 | W24: =IF(NOT(B24=""),VLOOKUP(B24,WCTable,31,0),"") -> 7 | X24: =IF(NOT(B24=""),VLOOKUP(B24,WCTable,32,0),"") -> 1 | AE24: =IF(NOT(C23=""),C23,"3rd Place") -> Colorado | AH24: =IF(NOT(C22=""),C22,"2nd Place") -> Real Salt Lake | AP24: =IF(AND(NOT(AF24=""),NOT(AG24="")),IF(AF24=AG24,"D",IF(AF24>AG24,"HW","AW")),"") | AT24: =IF(OR(AP24="HW",AQ24="HW",AR24="HW"),AE24,IF(OR(AP24="AW",AQ24="AW",AR24="AW"),AH24,"")) | AU24: =IF(OR(AP24="HW",AQ24="HW",AR24="HW"),AH24,IF(OR(AP24="AW",AQ24="AW",AR24="AW"),AE24,""))
B25: =IF(B24<WCNumberTeams,B24+1,"") -> 5 | C25: =IF(NOT(B25=""),VLOOKUP(B25,WCTable,2,0),"") -> FC Dallas | E25: =IF(NOT(B25=""),VLOOKUP(B25,WCTable,4,0),"") -> 18 | G25: =IF(NOT(B25=""),VLOOKUP(B25,WCTable,6,0),"") -> 15 | H25: =IF(NOT(B25=""),VLOOKUP(B25,WCTable,7,0),"") -> 1.2 | J25: =IF(NOT(B25=""),VLOOKUP(B25,WCTable,9,0),"") -> 5 | K25: =IF(NOT(B25=""),VLOOKUP(B25,WCTable,10,0),"") -> 7 | L25: =IF(NOT(B25=""),VLOOKUP(B25,WCTable,11,0),"") -> 3 | N25: =IF(NOT(B25=""),VLOOKUP(B25,WCTable,12,0),"") -> 23 | O25: =IF(NOT(B25=""),VLOOKUP(B25,WCTable,13,0),"") -> 24 | P25: =IF(NOT(B25=""),VLOOKUP(B25,WCTable,14,0),"") -> -1 | R25: =IF(NOT(B25=""),VLOOKUP(B25,WCTable,21,0),"") -> 14 | S25: =IF(NOT(B25=""),VLOOKUP(B25,WCTable,22,0),"") -> 12 | T25: =IF(NOT(B25=""),VLOOKUP(B25,WCTable,23,0),"") -> 2 | V25: =IF(NOT(B25=""),VLOOKUP(B25,WCTable,30,0),"") -> 9 | W25: =IF(NOT(B25=""),VLOOKUP(B25,WCTable,31,0),"") -> 12 | X25: =IF(NOT(B25=""),VLOOKUP(B25,WCTable,32,0),"") -> -3 | AE25: =IF(NOT(C22=""),C22,"2nd Place") -> Real Salt Lake | AH25: =IF(NOT(C23=""),C23,"3rd Place") -> Colorado | AP25: =IF(AND(NOT(AF24=""),NOT(AG24=""),NOT(AF25=""),NOT(AG25="")),IF((AG24+AF25)=(AF24+AG25),"D",IF((AG24+AF25)>(AF24+AG25),"HW","AW")),"") | AQ25: =IF(AP25="D",IF(AND(NOT(AJ25=""),NOT(AK25="")),IF(AJ25=AK25,"D",IF(AJ25>AK25,"HW","AW")),""),"") | AR25: =IF(AQ25="D",IF(AND(NOT(AM25=""),NOT(AN25="")),IF(AM25=AN25,"D",IF(AM25>AN25,"HW","AW")),""),"") | AT25: =IF(OR(AP25="HW",AQ25="HW",AR25="HW"),AE25,IF(OR(AP25="AW",AQ25="AW",AR25="AW"),AH25,"")) | AU25: =IF(OR(AP25="HW",AQ25="HW",AR25="HW"),AH25,IF(OR(AP25="AW",AQ25="AW",AR25="AW"),AE25,""))
B26: =IF(B25<WCNumberTeams,B25+1,"") -> 6 | C26: =IF(NOT(B26=""),VLOOKUP(B26,WCTable,2,0),"") -> LA Galaxy | E26: =IF(NOT(B26=""),VLOOKUP(B26,WCTable,4,0),"") -> 16 | G26: =IF(NOT(B26=""),VLOOKUP(B26,WCTable,6,0),"") -> 11 | H26: =IF(NOT(B26=""),VLOOKUP(B26,WCTable,7,0),"") -> 1.4545455 | J26: =IF(NOT(B26=""),VLOOKUP(B26,WCTable,9,0),"") -> 4 | K26: =IF(NOT(B26=""),VLOOKUP(B26,WCTable,10,0),"") -> 3 | L26: =IF(NOT(B26=""),VLOOKUP(B26,WCTable,11,0),"") -> 4 | N26: =IF(NOT(B26=""),VLOOKUP(B26,WCTable,12,0),"") -> 15 | O26: =IF(NOT(B26=""),VLOOKUP(B26,WCTable,13,0),"") -> 10 | P26: =IF(NOT(B26=""),VLOOKUP(B26,WCTable,14,0),"") -> 5 | R26: =IF(NOT(B26=""),VLOOKUP(B26,WCTable,21,0),"") -> 7 | S26: =IF(NOT(B26=""),VLOOKUP(B26,WCTable,22,0),"") -> 3 | T26: =IF(NOT(B26=""),VLOOKUP(B26,WCTable,23,0),"") -> 4 | V26: =IF(NOT(B26=""),VLOOKUP(B26,WCTable,30,0),"") -> 8 | W26: =IF(NOT(B26=""),VLOOKUP(B26,WCTable,31,0),"") -> 7 | X26: =IF(NOT(B26=""),VLOOKUP(B26,WCTable,32,0),"") -> 1 | AE26: =IF(NOT(AT22=""),AT22,"Winner Knockout") -> Winner Knockout | AH26: =IF(NOT(C21=""),C21,"1st Place") -> Seattle | AP26: =IF(AND(NOT(AF26=""),NOT(AG26="")),IF(AF26=AG26,"D",IF(AF26>AG26,"HW","AW")),"") | AT26: =IF(OR(AP26="HW",AQ26="HW",AR26="HW"),AE26,IF(OR(AP26="AW",AQ26="AW",AR26="AW"),AH26,"")) | AU26: =IF(OR(AP26="HW",AQ26="HW",AR26="HW"),AH26,IF(OR(AP26="AW",AQ26="AW",AR26="AW"),AE26,""))
B27: =IF(B26<WCNumberTeams,B26+1,"") -> 7 | C27: =IF(NOT(B27=""),VLOOKUP(B27,WCTable,2,0),"") -> San Jose | E27: =IF(NOT(B27=""),VLOOKUP(B27,WCTable,4,0),"") -> 16 | G27: =IF(NOT(B27=""),VLOOKUP(B27,WCTable,6,0),"") -> 12 | H27: =IF(NOT(B27=""),VLOOKUP(B27,WCTable,7,0),"") -> 1.3333333 | J27: =IF(NOT(B27=""),VLOOKUP(B27,WCTable,9,0),"") -> 4 | K27: =IF(NOT(B27=""),VLOOKUP(B27,WCTable,10,0),"") -> 4 | L27: =IF(NOT(B27=""),VLOOKUP(B27,WCTable,11,0),"") -> 4 | N27: =IF(NOT(B27=""),VLOOKUP(B27,WCTable,12,0),"") -> 15 | O27: =IF(NOT(B27=""),VLOOKUP(B27,WCTable,13,0),"") -> 13 | P27: =IF(NOT(B27=""),VLOOKUP(B27,WCTable,14,0),"") -> 2 | R27: =IF(NOT(B27=""),VLOOKUP(B27,WCTable,21,0),"") -> 11 | S27: =IF(NOT(B27=""),VLOOKUP(B27,WCTable,22,0),"") -> 7 | T27: =IF(NOT(B27=""),VLOOKUP(B27,WCTable,23,0),"") -> 4 | V27: =IF(NOT(B27=""),VLOOKUP(B27,WCTable,30,0),"") -> 4 | W27: =IF(NOT(B27=""),VLOOKUP(B27,WCTable,31,0),"") -> 6 | X27: =IF(NOT(B27=""),VLOOKUP(B27,WCTable,32,0),"") -> -2 | AE27: =IF(NOT(C21=""),C21,"1st Place") -> Seattle | AH27: =IF(NOT(AT22=""),AT22,"Winner Knockout") -> Winner Knockout | AP27: =IF(AND(NOT(AF26=""),NOT(AG26=""),NOT(AF27=""),NOT(AG27="")),IF((AG26+AF27)=(AF26+AG27),"D",IF((AG26+AF27)>(AF26+AG27),"HW","AW")),"") | AQ27: =IF(AP27="D",IF(AND(NOT(AJ27=""),NOT(AK27="")),IF(AJ27=AK27,"D",IF(AJ27>AK27,"HW","AW")),""),"") | AR27: =IF(AQ27="D",IF(AND(NOT(AM27=""),NOT(AN27="")),IF(AM27=AN27,"D",IF(AM27>AN27,"HW","AW")),""),"") | AT27: =IF(OR(AP27="HW",AQ27="HW",AR27="HW"),AE27,IF(OR(AP27="AW",AQ27="AW",AR27="AW"),AH27,"")) | AU27: =IF(OR(AP27="HW",AQ27="HW",AR27="HW"),AH27,IF(OR(AP27="AW",AQ27="AW",AR27="AW"),AE27,""))
B28: =IF(B27<WCNumberTeams,B27+1,"") -> 8 | C28: =IF(NOT(B28=""),VLOOKUP(B28,WCTable,2,0),"") -> Portland | E28: =IF(NOT(B28=""),VLOOKUP(B28,WCTable,4,0),"") -> 16 | G28: =IF(NOT(B28=""),VLOOKUP(B28,WCTable,6,0),"") -> 14 | H28: =IF(NOT(B28=""),VLOOKUP(B28,WCTable,7,0),"") -> 1.1428571 | J28: =IF(NOT(B28=""),VLOOKUP(B28,WCTable,9,0),"") -> 3 | K28: =IF(NOT(B28=""),VLOOKUP(B28,WCTable,10,0),"") -> 4 | L28: =IF(NOT(B28=""),VLOOKUP(B28,WCTable,11,0),"") -> 7 | N28: =IF(NOT(B28=""),VLOOKUP(B28,WCTable,12,0),"") -> 23 | O28: =IF(NOT(B28=""),VLOOKUP(B28,WCTable,13,0),"") -> 24 | P28: =IF(NOT(B28=""),VLOOKUP(B28,WCTable,14,0),"") -> -1 | R28: =IF(NOT(B28=""),VLOOKUP(B28,WCTable,21,0),"") -> 17 | S28: =IF(NOT(B28=""),VLOOKUP(B28,WCTable,22,0),"") -> 17 | T28: =IF(NOT(B28=""),VLOOKUP(B28,WCTable,23,0),"") -> 0 | V28: =IF(NOT(B28=""),VLOOKUP(B28,WCTable,30,0),"") -> 6 | W28: =IF(NOT(B28=""),VLOOKUP(B28,WCTable,31,0),"") -> 7 | X28: =IF(NOT(B28=""),VLOOKUP(B28,WCTable,32,0),"") -> -1 | AB28: CONFERENCE CHAMPIONSHIPS
B29: =IF(B28<WCNumberTeams,B28+1,"") -> 9 | C29: =IF(NOT(B29=""),VLOOKUP(B29,WCTable,2,0),"") -> Chivas USA | E29: =IF(NOT(B29=""),VLOOKUP(B29,WCTable,4,0),"") -> 10 | G29: =IF(NOT(B29=""),VLOOKUP(B29,WCTable,6,0),"") -> 13 | H29: =IF(NOT(B29=""),VLOOKUP(B29,WCTable,7,0),"") -> 0.76923077 | J29: =IF(NOT(B29=""),VLOOKUP(B29,WCTable,9,0),"") -> 2 | K29: =IF(NOT(B29=""),VLOOKUP(B29,WCTable,10,0),"") -> 7 | L29: =IF(NOT(B29=""),VLOOKUP(B29,WCTable,11,0),"") -> 4 | N29: =IF(NOT(B29=""),VLOOKUP(B29,WCTable,12,0),"") -> 13 | O29: =IF(NOT(B29=""),VLOOKUP(B29,WCTable,13,0),"") -> 25 | P29: =IF(NOT(B29=""),VLOOKUP(B29,WCTable,14,0),"") -> -12 | R29: =IF(NOT(B29=""),VLOOKUP(B29,WCTable,21,0),"") -> 6 | S29: =IF(NOT(B29=""),VLOOKUP(B29,WCTable,22,0),"") -> 17 | T29: =IF(NOT(B29=""),VLOOKUP(B29,WCTable,23,0),"") -> -11 | V29: =IF(NOT(B29=""),VLOOKUP(B29,WCTable,30,0),"") -> 7 | W29: =IF(NOT(B29=""),VLOOKUP(B29,WCTable,31,0),"") -> 8 | X29: =IF(NOT(B29=""),VLOOKUP(B29,WCTable,32,0),"") -> -1 | AE29: =IF(NOT(AT27=""),AT27,"Winner Semi-Final 2") -> Winner Semi-Final 2 | AH29: =IF(NOT(AT25=""),AT25,"Winner Semi-Final 1") -> Winner Semi-Final 1 | AP29: =IF(AND(NOT(AF29=""),NOT(AG29="")),IF(AF29=AG29,"D",IF(AF29>AG29,"HW","AW")),"") | AT29: =IF(OR(AP29="HW",AQ29="HW",AR29="HW"),AE29,IF(OR(AP29="AW",AQ29="AW",AR29="AW"),AH29,"")) | AU29: =IF(OR(AP29="HW",AQ29="HW",AR29="HW"),AH29,IF(OR(AP29="AW",AQ29="AW",AR29="AW"),AE29,""))
B30: =IF(B29<WCNumberTeams,B29+1,"") | C30: =IF(NOT(B30=""),VLOOKUP(B30,WCTable,2,0),"") | E30: =IF(NOT(B30=""),VLOOKUP(B30,WCTable,4,0),"") | G30: =IF(NOT(B30=""),VLOOKUP(B30,WCTable,6,0),"") | H30: =IF(NOT(B30=""),VLOOKUP(B30,WCTable,7,0),"") | J30: =IF(NOT(B30=""),VLOOKUP(B30,WCTable,9,0),"") | K30: =IF(NOT(B30=""),VLOOKUP(B30,WCTable,10,0),"") | L30: =IF(NOT(B30=""),VLOOKUP(B30,WCTable,11,0),"") | N30: =IF(NOT(B30=""),VLOOKUP(B30,WCTable,12,0),"") | O30: =IF(NOT(B30=""),VLOOKUP(B30,WCTable,13,0),"") | P30: =IF(NOT(B30=""),VLOOKUP(B30,WCTable,14,0),"") | R30: =IF(NOT(B30=""),VLOOKUP(B30,WCTable,21,0),"") | S30: =IF(NOT(B30=""),VLOOKUP(B30,WCTable,22,0),"") | T30: =IF(NOT(B30=""),VLOOKUP(B30,WCTable,23,0),"") | V30: =IF(NOT(B30=""),VLOOKUP(B30,WCTable,30,0),"") | W30: =IF(NOT(B30=""),VLOOKUP(B30,WCTable,31,0),"") | X30: =IF(NOT(B30=""),VLOOKUP(B30,WCTable,32,0),"") | AE30: =IF(NOT(AT25=""),AT25,"Winner Semi-Final 1") -> Winner Semi-Final 1 | AH30: =IF(NOT(AT27=""),AT27,"Winner Semi-Final 2") -> Winner Semi-Final 2 | AP30: =IF(AND(NOT(AF29=""),NOT(AG29=""),NOT(AF30=""),NOT(AG30="")),IF((AG29+AF30)=(AF29+AG30),"D",IF((AG29+AF30)>(AF29+AG30),"HW","AW")),"") | AQ30: =IF(AP30="D",IF(AND(NOT(AJ30=""),NOT(AK30="")),IF(AJ30=AK30,"D",IF(AJ30>AK30,"HW","AW")),""),"") | AR30: =IF(AQ30="D",IF(AND(NOT(AM30=""),NOT(AN30="")),IF(AM30=AN30,"D",IF(AM30>AN30,"HW","AW")),""),"") | AT30: =IF(OR(AP30="HW",AQ30="HW",AR30="HW"),AE30,IF(OR(AP30="AW",AQ30="AW",AR30="AW"),AH30,"")) | AU30: =IF(OR(AP30="HW",AQ30="HW",AR30="HW"),AH30,IF(OR(AP30="AW",AQ30="AW",AR30="AW"),AE30,""))
B31: =IF(B30<WCNumberTeams,B30+1,"") | C31: =IF(NOT(B31=""),VLOOKUP(B31,WCTable,2,0),"") | E31: =IF(NOT(B31=""),VLOOKUP(B31,WCTable,4,0),"") | G31: =IF(NOT(B31=""),VLOOKUP(B31,WCTable,6,0),"") | H31: =IF(NOT(B31=""),VLOOKUP(B31,WCTable,7,0),"") | J31: =IF(NOT(B31=""),VLOOKUP(B31,WCTable,9,0),"") | K31: =IF(NOT(B31=""),VLOOKUP(B31,WCTable,10,0),"") | L31: =IF(NOT(B31=""),VLOOKUP(B31,WCTable,11,0),"") | N31: =IF(NOT(B31=""),VLOOKUP(B31,WCTable,12,0),"") | O31: =IF(NOT(B31=""),VLOOKUP(B31,WCTable,13,0),"") | P31: =IF(NOT(B31=""),VLOOKUP(B31,WCTable,14,0),"") | R31: =IF(NOT(B31=""),VLOOKUP(B31,WCTable,21,0),"") | S31: =IF(NOT(B31=""),VLOOKUP(B31,WCTable,22,0),"") | T31: =IF(NOT(B31=""),VLOOKUP(B31,WCTable,23,0),"") | V31: =IF(NOT(B31=""),VLOOKUP(B31,WCTable,30,0),"") | W31: =IF(NOT(B31=""),VLOOKUP(B31,WCTable,31,0),"") | X31: =IF(NOT(B31=""),VLOOKUP(B31,WCTable,32,0),"")
B32: =IF(B31<WCNumberTeams,B31+1,"") | C32: =IF(NOT(B32=""),VLOOKUP(B32,WCTable,2,0),"") | E32: =IF(NOT(B32=""),VLOOKUP(B32,WCTable,4,0),"") | G32: =IF(NOT(B32=""),VLOOKUP(B32,WCTable,6,0),"") | H32: =IF(NOT(B32=""),VLOOKUP(B32,WCTable,7,0),"") | J32: =IF(NOT(B32=""),VLOOKUP(B32,WCTable,9,0),"") | K32: =IF(NOT(B32=""),VLOOKUP(B32,WCTable,10,0),"") | L32: =IF(NOT(B32=""),VLOOKUP(B32,WCTable,11,0),"") | N32: =IF(NOT(B32=""),VLOOKUP(B32,WCTable,12,0),"") | O32: =IF(NOT(B32=""),VLOOKUP(B32,WCTable,13,0),"") | P32: =IF(NOT(B32=""),VLOOKUP(B32,WCTable,14,0),"") | R32: =IF(NOT(B32=""),VLOOKUP(B32,WCTable,21,0),"") | S32: =IF(NOT(B32=""),VLOOKUP(B32,WCTable,22,0),"") | T32: =IF(NOT(B32=""),VLOOKUP(B32,WCTable,23,0),"") | V32: =IF(NOT(B32=""),VLOOKUP(B32,WCTable,30,0),"") | W32: =IF(NOT(B32=""),VLOOKUP(B32,WCTable,31,0),"") | X32: =IF(NOT(B32=""),VLOOKUP(B32,WCTable,32,0),"")
B34: Supporters' Shield
B35: POS | C35: CLUB | E35: PTS | G35: GP | H35: PPG | J35: W | K35: L | L35: T | N35: GF | O35: GA | P35: GD | R35: HGF | S35: HGA | T35: HGD | V35: AGF | W35: AGA | X35: AGD | AB35: DAY | AC35: DATE | AD35: TIME | AE35: HOME TEAM | AF35: H | AG35: A | AH35: AWAY TEAM | AJ35: Extra-Time | AM35: Penalties | AP35: FT | AQ35: ET | AR35: PEN | AT35: Winner | AU35: Loser
B36: 1 | C36: =IF(NOT(B36=""),VLOOKUP(B36,SSTable,2,0),"") -> Seattle | E36: =IF(NOT(B36=""),VLOOKUP(B36,SSTable,4,0),"") -> 29 | G36: =IF(NOT(B36=""),VLOOKUP(B36,SSTable,6,0),"") -> 14 | H36: =IF(NOT(B36=""),VLOOKUP(B36,SSTable,7,0),"") -> 2.0714286 | J36: =IF(NOT(B36=""),VLOOKUP(B36,SSTable,9,0),"") -> 9 | K36: =IF(NOT(B36=""),VLOOKUP(B36,SSTable,10,0),"") -> 3 | L36: =IF(NOT(B36=""),VLOOKUP(B36,SSTable,11,0),"") -> 2 | N36: =IF(NOT(B36=""),VLOOKUP(B36,SSTable,12,0),"") -> 29 | O36: =IF(NOT(B36=""),VLOOKUP(B36,SSTable,13,0),"") -> 21 | P36: =IF(NOT(B36=""),VLOOKUP(B36,SSTable,14,0),"") -> 8 | R36: =IF(NOT(B36=""),VLOOKUP(B36,SSTable,21,0),"") -> 16 | S36: =IF(NOT(B36=""),VLOOKUP(B36,SSTable,22,0),"") -> 7 | T36: =IF(NOT(B36=""),VLOOKUP(B36,SSTable,23,0),"") -> 9 | V36: =IF(NOT(B36=""),VLOOKUP(B36,SSTable,30,0),"") -> 13 | W36: =IF(NOT(B36=""),VLOOKUP(B36,SSTable,31,0),"") -> 14 | X36: =IF(NOT(B36=""),VLOOKUP(B36,SSTable,32,0),"") -> -1 | AB36: MLS CUP FINAL
B37: =IF(B36<(ECNumberTeams+WCNumberTeams),B36+1,"") -> 2 | C37: =IF(NOT(B37=""),VLOOKUP(B37,SSTable,2,0),"") -> Real Salt Lake | E37: =IF(NOT(B37=""),VLOOKUP(B37,SSTable,4,0),"") -> 25 | G37: =IF(NOT(B37=""),VLOOKUP(B37,SSTable,6,0),"") -> 14 | H37: =IF(NOT(B37=""),VLOOKUP(B37,SSTable,7,0),"") -> 1.7857143 | J37: =IF(NOT(B37=""),VLOOKUP(B37,SSTable,9,0),"") -> 6 | K37: =IF(NOT(B37=""),VLOOKUP(B37,SSTable,10,0),"") -> 1 | L37: =IF(NOT(B37=""),VLOOKUP(B37,SSTable,11,0),"") -> 7 | N37: =IF(NOT(B37=""),VLOOKUP(B37,SSTable,12,0),"") -> 24 | O37: =IF(NOT(B37=""),VLOOKUP(B37,SSTable,13,0),"") -> 18 | P37: =IF(NOT(B37=""),VLOOKUP(B37,SSTable,14,0),"") -> 6 | R37: =IF(NOT(B37=""),VLOOKUP(B37,SSTable,21,0),"") -> 9 | S37: =IF(NOT(B37=""),VLOOKUP(B37,SSTable,22,0),"") -> 4 | T37: =IF(NOT(B37=""),VLOOKUP(B37,SSTable,23,0),"") -> 5 | V37: =IF(NOT(B37=""),VLOOKUP(B37,SSTable,30,0),"") -> 15 | W37: =IF(NOT(B37=""),VLOOKUP(B37,SSTable,31,0),"") -> 14 | X37: =IF(NOT(B37=""),VLOOKUP(B37,SSTable,32,0),"") -> 1 | AE37: =IF(NOT(AT30=""),AT30,"West Conf Champion") -> West Conf Champion | AH37: =IF(NOT(AT15=""),AT15,"East Conf Champion") -> East Conf Champion | AP37: =IF(AND(NOT(AF37=""),NOT(AG37="")),IF(AF37=AG37,"D",IF(AF37>AG37,"HW","AW")),"") | AQ37: =IF(AP37="D",IF(AND(NOT(AJ37=""),NOT(AK37="")),IF(AJ37=AK37,"D",IF(AJ37>AK37,"HW","AW")),""),"") | AR37: =IF(AQ37="D",IF(AND(NOT(AM37=""),NOT(AN37="")),IF(AM37=AN37,"D",IF(AM37>AN37,"HW","AW")),""),"") | AT37: =IF(OR(AP37="HW",AQ37="HW",AR37="HW"),AE37,IF(OR(AP37="AW",AQ37="AW",AR37="AW"),AH37,"")) | AU37: =IF(OR(AP37="HW",AQ37="HW",AR37="HW"),AH37,IF(OR(AP37="AW",AQ37="AW",AR37="AW"),AE37,""))
B38: =IF(B37<(ECNumberTeams+WCNumberTeams),B37+1,"") -> 3 | C38: =IF(NOT(B38=""),VLOOKUP(B38,SSTable,2,0),"") -> New England | E38: =IF(NOT(B38=""),VLOOKUP(B38,SSTable,4,0),"") -> 23 | G38: =IF(NOT(B38=""),VLOOKUP(B38,SSTable,6,0),"") -> 13 | H38: =IF(NOT(B38=""),VLOOKUP(B38,SSTable,7,0),"") -> 1.7692308 | J38: =IF(NOT(B38=""),VLOOKUP(B38,SSTable,9,0),"") -> 7 | K38: =IF(NOT(B38=""),VLOOKUP(B38,SSTable,10,0),"") -> 4 | L38: =IF(NOT(B38=""),VLOOKUP(B38,SSTable,11,0),"") -> 2 | N38: =IF(NOT(B38=""),VLOOKUP(B38,SSTable,12,0),"") -> 21 | O38: =IF(NOT(B38=""),VLOOKUP(B38,SSTable,13,0),"") -> 16 | P38: =IF(NOT(B38=""),VLOOKUP(B38,SSTable,14,0),"") -> 5 | R38: =IF(NOT(B38=""),VLOOKUP(B38,SSTable,21,0),"") -> 11 | S38: =IF(NOT(B38=""),VLOOKUP(B38,SSTable,22,0),"") -> 1 | T38: =IF(NOT(B38=""),VLOOKUP(B38,SSTable,23,0),"") -> 10 | V38: =IF(NOT(B38=""),VLOOKUP(B38,SSTable,30,0),"") -> 10 | W38: =IF(NOT(B38=""),VLOOKUP(B38,SSTable,31,0),"") -> 15 | X38: =IF(NOT(B38=""),VLOOKUP(B38,SSTable,32,0),"") -> -5
B39: =IF(B38<(ECNumberTeams+WCNumberTeams),B38+1,"") -> 4 | C39: =IF(NOT(B39=""),VLOOKUP(B39,SSTable,2,0),"") -> Colorado | E39: =IF(NOT(B39=""),VLOOKUP(B39,SSTable,4,0),"") -> 22 | G39: =IF(NOT(B39=""),VLOOKUP(B39,SSTable,6,0),"") -> 14 | H39: =IF(NOT(B39=""),VLOOKUP(B39,SSTable,7,0),"") -> 1.5714286 | J39: =IF(NOT(B39=""),VLOOKUP(B39,SSTable,9,0),"") -> 6 | K39: =IF(NOT(B39=""),VLOOKUP(B39,SSTable,10,0),"") -> 4 | L39: =IF(NOT(B39=""),VLOOKUP(B39,SSTable,11,0),"") -> 4 | N39: =IF(NOT(B39=""),VLOOKUP(B39,SSTable,12,0),"") -> 19 | O39: =IF(NOT(B39=""),VLOOKUP(B39,SSTable,13,0),"") -> 15 | P39: =IF(NOT(B39=""),VLOOKUP(B39,SSTable,14,0),"") -> 4 | R39: =IF(NOT(B39=""),VLOOKUP(B39,SSTable,21,0),"") -> 13 | S39: =IF(NOT(B39=""),VLOOKUP(B39,SSTable,22,0),"") -> 7 | T39: =IF(NOT(B39=""),VLOOKUP(B39,SSTable,23,0),"") -> 6 | V39: =IF(NOT(B39=""),VLOOKUP(B39,SSTable,30,0),"") -> 6 | W39: =IF(NOT(B39=""),VLOOKUP(B39,SSTable,31,0),"") -> 8 | X39: =IF(NOT(B39=""),VLOOKUP(B39,SSTable,32,0),"") -> -2
B40: =IF(B39<(ECNumberTeams+WCNumberTeams),B39+1,"") -> 5 | C40: =IF(NOT(B40=""),VLOOKUP(B40,SSTable,2,0),"") -> D.C. United | E40: =IF(NOT(B40=""),VLOOKUP(B40,SSTable,4,0),"") -> 21 | G40: =IF(NOT(B40=""),VLOOKUP(B40,SSTable,6,0),"") -> 13 | H40: =IF(NOT(B40=""),VLOOKUP(B40,SSTable,7,0),"") -> 1.6153846 | J40: =IF(NOT(B40=""),VLOOKUP(B40,SSTable,9,0),"") -> 6 | K40: =IF(NOT(B40=""),VLOOKUP(B40,SSTable,10,0),"") -> 4 | L40: =IF(NOT(B40=""),VLOOKUP(B40,SSTable,11,0),"") -> 3 | N40: =IF(NOT(B40=""),VLOOKUP(B40,SSTable,12,0),"") -> 18 | O40: =IF(NOT(B40=""),VLOOKUP(B40,SSTable,13,0),"") -> 14 | P40: =IF(NOT(B40=""),VLOOKUP(B40,SSTable,14,0),"") -> 4 | R40: =IF(NOT(B40=""),VLOOKUP(B40,SSTable,21,0),"") -> 13 | S40: =IF(NOT(B40=""),VLOOKUP(B40,SSTable,22,0),"") -> 7 | T40: =IF(NOT(B40=""),VLOOKUP(B40,SSTable,23,0),"") -> 6 | V40: =IF(NOT(B40=""),VLOOKUP(B40,SSTable,30,0),"") -> 5 | W40: =IF(NOT(B40=""),VLOOKUP(B40,SSTable,31,0),"") -> 7 | X40: =IF(NOT(B40=""),VLOOKUP(B40,SSTable,32,0),"") -> -2
B41: =IF(B40<(ECNumberTeams+WCNumberTeams),B40+1,"") -> 6 | C41: =IF(NOT(B41=""),VLOOKUP(B41,SSTable,2,0),"") -> Vancouver | E41: =IF(NOT(B41=""),VLOOKUP(B41,SSTable,4,0),"") -> 20 | G41: =IF(NOT(B41=""),VLOOKUP(B41,SSTable,6,0),"") -> 12 | H41: =IF(NOT(B41=""),VLOOKUP(B41,SSTable,7,0),"") -> 1.6666667 | J41: =IF(NOT(B41=""),VLOOKUP(B41,SSTable,9,0),"") -> 5 | K41: =IF(NOT(B41=""),VLOOKUP(B41,SSTable,10,0),"") -> 2 | L41: =IF(NOT(B41=""),VLOOKUP(B41,SSTable,11,0),"") -> 5 | N41: =IF(NOT(B41=""),VLOOKUP(B41,SSTable,12,0),"") -> 22 | O41: =IF(NOT(B41=""),VLOOKUP(B41,SSTable,13,0),"") -> 17 | P41: =IF(NOT(B41=""),VLOOKUP(B41,SSTable,14,0),"") -> 5 | R41: =IF(NOT(B41=""),VLOOKUP(B41,SSTable,21,0),"") -> 14 | S41: =IF(NOT(B41=""),VLOOKUP(B41,SSTable,22,0),"") -> 10 | T41: =IF(NOT(B41=""),VLOOKUP(B41,SSTable,23,0),"") -> 4 | V41: =IF(NOT(B41=""),VLOOKUP(B41,SSTable,30,0),"") -> 8 | W41: =IF(NOT(B41=""),VLOOKUP(B41,SSTable,31,0),"") -> 7 | X41: =IF(NOT(B41=""),VLOOKUP(B41,SSTable,32,0),"") -> 1
B42: =IF(B41<(ECNumberTeams+WCNumberTeams),B41+1,"") -> 7 | C42: =IF(NOT(B42=""),VLOOKUP(B42,SSTable,2,0),"") -> Sporting KC | E42: =IF(NOT(B42=""),VLOOKUP(B42,SSTable,4,0),"") -> 19 | G42: =IF(NOT(B42=""),VLOOKUP(B42,SSTable,6,0),"") -> 14 | H42: =IF(NOT(B42=""),VLOOKUP(B42,SSTable,7,0),"") -> 1.3571429 | J42: =IF(NOT(B42=""),VLOOKUP(B42,SSTable,9,0),"") -> 5 | K42: =IF(NOT(B42=""),VLOOKUP(B42,SSTable,10,0),"") -> 5 | L42: =IF(NOT(B42=""),VLOOKUP(B42,SSTable,11,0),"") -> 4 | N42: =IF(NOT(B42=""),VLOOKUP(B42,SSTable,12,0),"") -> 19 | O42: =IF(NOT(B42=""),VLOOKUP(B42,SSTable,13,0),"") -> 14 | P42: =IF(NOT(B42=""),VLOOKUP(B42,SSTable,14,0),"") -> 5 | R42: =IF(NOT(B42=""),VLOOKUP(B42,SSTable,21,0),"") -> 12 | S42: =IF(NOT(B42=""),VLOOKUP(B42,SSTable,22,0),"") -> 6 | T42: =IF(NOT(B42=""),VLOOKUP(B42,SSTable,23,0),"") -> 6 | V42: =IF(NOT(B42=""),VLOOKUP(B42,SSTable,30,0),"") -> 7 | W42: =IF(NOT(B42=""),VLOOKUP(B42,SSTable,31,0),"") -> 8 | X42: =IF(NOT(B42=""),VLOOKUP(B42,SSTable,32,0),"") -> -1 | AD42: MLS CUP WINNER: | AE42: =IF(NOT(AT37=""),AT37,"MLS CUP WINNER") -> MLS CUP WINNER
B43: =IF(B42<(ECNumberTeams+WCNumberTeams),B42+1,"") -> 8 | C43: =IF(NOT(B43=""),VLOOKUP(B43,SSTable,2,0),"") -> FC Dallas | E43: =IF(NOT(B43=""),VLOOKUP(B43,SSTable,4,0),"") -> 18 | G43: =IF(NOT(B43=""),VLOOKUP(B43,SSTable,6,0),"") -> 15 | H43: =IF(NOT(B43=""),VLOOKUP(B43,SSTable,7,0),"") -> 1.2 | J43: =IF(NOT(B43=""),VLOOKUP(B43,SSTable,9,0),"") -> 5 | K43: =IF(NOT(B43=""),VLOOKUP(B43,SSTable,10,0),"") -> 7 | L43: =IF(NOT(B43=""),VLOOKUP(B43,SSTable,11,0),"") -> 3 | N43: =IF(NOT(B43=""),VLOOKUP(B43,SSTable,12,0),"") -> 23 | O43: =IF(NOT(B43=""),VLOOKUP(B43,SSTable,13,0),"") -> 24 | P43: =IF(NOT(B43=""),VLOOKUP(B43,SSTable,14,0),"") -> -1 | R43: =IF(NOT(B43=""),VLOOKUP(B43,SSTable,21,0),"") -> 14 | S43: =IF(NOT(B43=""),VLOOKUP(B43,SSTable,22,0),"") -> 12 | T43: =IF(NOT(B43=""),VLOOKUP(B43,SSTable,23,0),"") -> 2 | V43: =IF(NOT(B43=""),VLOOKUP(B43,SSTable,30,0),"") -> 9 | W43: =IF(NOT(B43=""),VLOOKUP(B43,SSTable,31,0),"") -> 12 | X43: =IF(NOT(B43=""),VLOOKUP(B43,SSTable,32,0),"") -> -3
B44: =IF(B43<(ECNumberTeams+WCNumberTeams),B43+1,"") -> 9 | C44: =IF(NOT(B44=""),VLOOKUP(B44,SSTable,2,0),"") -> Houston | E44: =IF(NOT(B44=""),VLOOKUP(B44,SSTable,4,0),"") -> 17 | G44: =IF(NOT(B44=""),VLOOKUP(B44,SSTable,6,0),"") -> 15 | H44: =IF(NOT(B44=""),VLOOKUP(B44,SSTable,7,0),"") -> 1.1333333 | J44: =IF(NOT(B44=""),VLOOKUP(B44,SSTable,9,0),"") -> 5 | K44: =IF(NOT(B44=""),VLOOKUP(B44,SSTable,10,0),"") -> 8 | L44: =IF(NOT(B44=""),VLOOKUP(B44,SSTable,11,0),"") -> 2 | N44: =IF(NOT(B44=""),VLOOKUP(B44,SSTable,12,0),"") -> 16 | O44: =IF(NOT(B44=""),VLOOKUP(B44,SSTable,13,0),"") -> 27 | P44: =IF(NOT(B44=""),VLOOKUP(B44,SSTable,14,0),"") -> -11 | R44: =IF(NOT(B44=""),VLOOKUP(B44,SSTable,21,0),"") -> 11 | S44: =IF(NOT(B44=""),VLOOKUP(B44,SSTable,22,0),"") -> 10 | T44: =IF(NOT(B44=""),VLOOKUP(B44,SSTable,23,0),"") -> 1 | V44: =IF(NOT(B44=""),VLOOKUP(B44,SSTable,30,0),"") -> 5 | W44: =IF(NOT(B44=""),VLOOKUP(B44,SSTable,31,0),"") -> 17 | X44: =IF(NOT(B44=""),VLOOKUP(B44,SSTable,32,0),"") -> -12
B45: =IF(B44<(ECNumberTeams+WCNumberTeams),B44+1,"") -> 10 | C45: =IF(NOT(B45=""),VLOOKUP(B45,SSTable,2,0),"") -> Columbus | E45: =IF(NOT(B45=""),VLOOKUP(B45,SSTable,4,0),"") -> 17 | G45: =IF(NOT(B45=""),VLOOKUP(B45,SSTable,6,0),"") -> 14 | H45: =IF(NOT(B45=""),VLOOKUP(B45,SSTable,7,0),"") -> 1.2142857 | J45: =IF(NOT(B45=""),VLOOKUP(B45,SSTable,9,0),"") -> 4 | K45: =IF(NOT(B45=""),VLOOKUP(B45,SSTable,10,0),"") -> 5 | L45: =IF(NOT(B45=""),VLOOKUP(B45,SSTable,11,0),"") -> 5 | N45: =IF(NOT(B45=""),VLOOKUP(B45,SSTable,12,0),"") -> 18 | O45: =IF(NOT(B45=""),VLOOKUP(B45,SSTable,13,0),"") -> 18 | P45: =IF(NOT(B45=""),VLOOKUP(B45,SSTable,14,0),"") -> 0 | R45: =IF(NOT(B45=""),VLOOKUP(B45,SSTable,21,0),"") -> 7 | S45: =IF(NOT(B45=""),VLOOKUP(B45,SSTable,22,0),"") -> 7 | T45: =IF(NOT(B45=""),VLOOKUP(B45,SSTable,23,0),"") -> 0 | V45: =IF(NOT(B45=""),VLOOKUP(B45,SSTable,30,0),"") -> 11 | W45: =IF(NOT(B45=""),VLOOKUP(B45,SSTable,31,0),"") -> 11 | X45: =IF(NOT(B45=""),VLOOKUP(B45,SSTable,32,0),"") -> 0
B46: =IF(B45<(ECNumberTeams+WCNumberTeams),B45+1,"") -> 11 | C46: =IF(NOT(B46=""),VLOOKUP(B46,SSTable,2,0),"") -> Toronto FC | E46: =IF(NOT(B46=""),VLOOKUP(B46,SSTable,4,0),"") -> 16 | G46: =IF(NOT(B46=""),VLOOKUP(B46,SSTable,6,0),"") -> 10 | H46: =IF(NOT(B46=""),VLOOKUP(B46,SSTable,7,0),"") -> 1.6 | J46: =IF(NOT(B46=""),VLOOKUP(B46,SSTable,9,0),"") -> 5 | K46: =IF(NOT(B46=""),VLOOKUP(B46,SSTable,10,0),"") -> 4 | L46: =IF(NOT(B46=""),VLOOKUP(B46,SSTable,11,0),"") -> 1 | N46: =IF(NOT(B46=""),VLOOKUP(B46,SSTable,12,0),"") -> 14 | O46: =IF(NOT(B46=""),VLOOKUP(B46,SSTable,13,0),"") -> 13 | P46: =IF(NOT(B46=""),VLOOKUP(B46,SSTable,14,0),"") -> 1 | R46: =IF(NOT(B46=""),VLOOKUP(B46,SSTable,21,0),"") -> 7 | S46: =IF(NOT(B46=""),VLOOKUP(B46,SSTable,22,0),"") -> 5 | T46: =IF(NOT(B46=""),VLOOKUP(B46,SSTable,23,0),"") -> 2 | V46: =IF(NOT(B46=""),VLOOKUP(B46,SSTable,30,0),"") -> 7 | W46: =IF(NOT(B46=""),VLOOKUP(B46,SSTable,31,0),"") -> 8 | X46: =IF(NOT(B46=""),VLOOKUP(B46,SSTable,32,0),"") -> -1
B47: =IF(B46<(ECNumberTeams+WCNumberTeams),B46+1,"") -> 12 | C47: =IF(NOT(B47=""),VLOOKUP(B47,SSTable,2,0),"") -> LA Galaxy | E47: =IF(NOT(B47=""),VLOOKUP(B47,SSTable,4,0),"") -> 16 | G47: =IF(NOT(B47=""),VLOOKUP(B47,SSTable,6,0),"") -> 11 | H47: =IF(NOT(B47=""),VLOOKUP(B47,SSTable,7,0),"") -> 1.4545455 | J47: =IF(NOT(B47=""),VLOOKUP(B47,SSTable,9,0),"") -> 4 | K47: =IF(NOT(B47=""),VLOOKUP(B47,SSTable,10,0),"") -> 3 | L47: =IF(NOT(B47=""),VLOOKUP(B47,SSTable,11,0),"") -> 4 | N47: =IF(NOT(B47=""),VLOOKUP(B47,SSTable,12,0),"") -> 15 | O47: =IF(NOT(B47=""),VLOOKUP(B47,SSTable,13,0),"") -> 10 | P47: =IF(NOT(B47=""),VLOOKUP(B47,SSTable,14,0),"") -> 5 | R47: =IF(NOT(B47=""),VLOOKUP(B47,SSTable,21,0),"") -> 7 | S47: =IF(NOT(B47=""),VLOOKUP(B47,SSTable,22,0),"") -> 3 | T47: =IF(NOT(B47=""),VLOOKUP(B47,SSTable,23,0),"") -> 4 | V47: =IF(NOT(B47=""),VLOOKUP(B47,SSTable,30,0),"") -> 8 | W47: =IF(NOT(B47=""),VLOOKUP(B47,SSTable,31,0),"") -> 7 | X47: =IF(NOT(B47=""),VLOOKUP(B47,SSTable,32,0),"") -> 1
B48: =IF(B47<(ECNumberTeams+WCNumberTeams),B47+1,"") -> 13 | C48: =IF(NOT(B48=""),VLOOKUP(B48,SSTable,2,0),"") -> San Jose | E48: =IF(NOT(B48=""),VLOOKUP(B48,SSTable,4,0),"") -> 16 | G48: =IF(NOT(B48=""),VLOOKUP(B48,SSTable,6,0),"") -> 12 | H48: =IF(NOT(B48=""),VLOOKUP(B48,SSTable,7,0),"") -> 1.3333333 | J48: =IF(NOT(B48=""),VLOOKUP(B48,SSTable,9,0),"") -> 4 | K48: =IF(NOT(B48=""),VLOOKUP(B48,SSTable,10,0),"") -> 4 | L48: =IF(NOT(B48=""),VLOOKUP(B48,SSTable,11,0),"") -> 4 | N48: =IF(NOT(B48=""),VLOOKUP(B48,SSTable,12,0),"") -> 15 | O48: =IF(NOT(B48=""),VLOOKUP(B48,SSTable,13,0),"") -> 13 | P48: =IF(NOT(B48=""),VLOOKUP(B48,SSTable,14,0),"") -> 2 | R48: =IF(NOT(B48=""),VLOOKUP(B48,SSTable,21,0),"") -> 11 | S48: =IF(NOT(B48=""),VLOOKUP(B48,SSTable,22,0),"") -> 7 | T48: =IF(NOT(B48=""),VLOOKUP(B48,SSTable,23,0),"") -> 4 | V48: =IF(NOT(B48=""),VLOOKUP(B48,SSTable,30,0),"") -> 4 | W48: =IF(NOT(B48=""),VLOOKUP(B48,SSTable,31,0),"") -> 6 | X48: =IF(NOT(B48=""),VLOOKUP(B48,SSTable,32,0),"") -> -2
B49: =IF(B48<(ECNumberTeams+WCNumberTeams),B48+1,"") -> 14 | C49: =IF(NOT(B49=""),VLOOKUP(B49,SSTable,2,0),"") -> Portland | E49: =IF(NOT(B49=""),VLOOKUP(B49,SSTable,4,0),"") -> 16 | G49: =IF(NOT(B49=""),VLOOKUP(B49,SSTable,6,0),"") -> 14 | H49: =IF(NOT(B49=""),VLOOKUP(B49,SSTable,7,0),"") -> 1.1428571 | J49: =IF(NOT(B49=""),VLOOKUP(B49,SSTable,9,0),"") -> 3 | K49: =IF(NOT(B49=""),VLOOKUP(B49,SSTable,10,0),"") -> 4 | L49: =IF(NOT(B49=""),VLOOKUP(B49,SSTable,11,0),"") -> 7 | N49: =IF(NOT(B49=""),VLOOKUP(B49,SSTable,12,0),"") -> 23 | O49: =IF(NOT(B49=""),VLOOKUP(B49,SSTable,13,0),"") -> 24 | P49: =IF(NOT(B49=""),VLOOKUP(B49,SSTable,14,0),"") -> -1 | R49: =IF(NOT(B49=""),VLOOKUP(B49,SSTable,21,0),"") -> 17 | S49: =IF(NOT(B49=""),VLOOKUP(B49,SSTable,22,0),"") -> 17 | T49: =IF(NOT(B49=""),VLOOKUP(B49,SSTable,23,0),"") -> 0 | V49: =IF(NOT(B49=""),VLOOKUP(B49,SSTable,30,0),"") -> 6 | W49: =IF(NOT(B49=""),VLOOKUP(B49,SSTable,31,0),"") -> 7 | X49: =IF(NOT(B49=""),VLOOKUP(B49,SSTable,32,0),"") -> -1
B50: =IF(B49<(ECNumberTeams+WCNumberTeams),B49+1,"") -> 15 | C50: =IF(NOT(B50=""),VLOOKUP(B50,SSTable,2,0),"") -> New York | E50: =IF(NOT(B50=""),VLOOKUP(B50,SSTable,4,0),"") -> 15 | G50: =IF(NOT(B50=""),VLOOKUP(B50,SSTable,6,0),"") -> 14 | H50: =IF(NOT(B50=""),VLOOKUP(B50,SSTable,7,0),"") -> 1.0714286 | J50: =IF(NOT(B50=""),VLOOKUP(B50,SSTable,9,0),"") -> 3 | K50: =IF(NOT(B50=""),VLOOKUP(B50,SSTable,10,0),"") -> 5 | L50: =IF(NOT(B50=""),VLOOKUP(B50,SSTable,11,0),"") -> 6 | N50: =IF(NOT(B50=""),VLOOKUP(B50,SSTable,12,0),"") -> 20 | O50: =IF(NOT(B50=""),VLOOKUP(B50,SSTable,13,0),"") -> 22 | P50: =IF(NOT(B50=""),VLOOKUP(B50,SSTable,14,0),"") -> -2 | R50: =IF(NOT(B50=""),VLOOKUP(B50,SSTable,21,0),"") -> 13 | S50: =IF(NOT(B50=""),VLOOKUP(B50,SSTable,22,0),"") -> 10 | T50: =IF(NOT(B50=""),VLOOKUP(B50,SSTable,23,0),"") -> 3 | V50: =IF(NOT(B50=""),VLOOKUP(B50,SSTable,30,0),"") -> 7 | W50: =IF(NOT(B50=""),VLOOKUP(B50,SSTable,31,0),"") -> 12 | X50: =IF(NOT(B50=""),VLOOKUP(B50,SSTable,32,0),"") -> -5
B51: =IF(B50<(ECNumberTeams+WCNumberTeams),B50+1,"") -> 16 | C51: =IF(NOT(B51=""),VLOOKUP(B51,SSTable,2,0),"") -> Philadelphia | E51: =IF(NOT(B51=""),VLOOKUP(B51,SSTable,4,0),"") -> 14 | G51: =IF(NOT(B51=""),VLOOKUP(B51,SSTable,6,0),"") -> 15 | H51: =IF(NOT(B51=""),VLOOKUP(B51,SSTable,7,0),"") -> 0.93333333 | J51: =IF(NOT(B51=""),VLOOKUP(B51,SSTable,9,0),"") -> 3 | K51: =IF(NOT(B51=""),VLOOKUP(B51,SSTable,10,0),"") -> 7 | L51: =IF(NOT(B51=""),VLOOKUP(B51,SSTable,11,0),"") -> 5 | N51: =IF(NOT(B51=""),VLOOKUP(B51,SSTable,12,0),"") -> 19 | O51: =IF(NOT(B51=""),VLOOKUP(B51,SSTable,13,0),"") -> 24 | P51: =IF(NOT(B51=""),VLOOKUP(B51,SSTable,14,0),"") -> -5 | R51: =IF(NOT(B51=""),VLOOKUP(B51,SSTable,21,0),"") -> 7 | S51: =IF(NOT(B51=""),VLOOKUP(B51,SSTable,22,0),"") -> 9 | T51: =IF(NOT(B51=""),VLOOKUP(B51,SSTable,23,0),"") -> -2 | V51: =IF(NOT(B51=""),VLOOKUP(B51,SSTable,30,0),"") -> 12 | W51: =IF(NOT(B51=""),VLOOKUP(B51,SSTable,31,0),"") -> 15 | X51: =IF(NOT(B51=""),VLOOKUP(B51,SSTable,32,0),"") -> -3
B52: =IF(B51<(ECNumberTeams+WCNumberTeams),B51+1,"") -> 17 | C52: =IF(NOT(B52=""),VLOOKUP(B52,SSTable,2,0),"") -> Chicago | E52: =IF(NOT(B52=""),VLOOKUP(B52,SSTable,4,0),"") -> 14 | G52: =IF(NOT(B52=""),VLOOKUP(B52,SSTable,6,0),"") -> 13 | H52: =IF(NOT(B52=""),VLOOKUP(B52,SSTable,7,0),"") -> 1.0769231 | J52: =IF(NOT(B52=""),VLOOKUP(B52,SSTable,9,0),"") -> 2 | K52: =IF(NOT(B52=""),VLOOKUP(B52,SSTable,10,0),"") -> 3 | L52: =IF(NOT(B52=""),VLOOKUP(B52,SSTable,11,0),"") -> 8 | N52: =IF(NOT(B52=""),VLOOKUP(B52,SSTable,12,0),"") -> 20 | O52: =IF(NOT(B52=""),VLOOKUP(B52,SSTable,13,0),"") -> 22 | P52: =IF(NOT(B52=""),VLOOKUP(B52,SSTable,14,0),"") -> -2 | R52: =IF(NOT(B52=""),VLOOKUP(B52,SSTable,21,0),"") -> 9 | S52: =IF(NOT(B52=""),VLOOKUP(B52,SSTable,22,0),"") -> 9 | T52: =IF(NOT(B52=""),VLOOKUP(B52,SSTable,23,0),"") -> 0 | V52: =IF(NOT(B52=""),VLOOKUP(B52,SSTable,30,0),"") -> 11 | W52: =IF(NOT(B52=""),VLOOKUP(B52,SSTable,31,0),"") -> 13 | X52: =IF(NOT(B52=""),VLOOKUP(B52,SSTable,32,0),"") -> -2
B53: =IF(B52<(ECNumberTeams+WCNumberTeams),B52+1,"") -> 18 | C53: =IF(NOT(B53=""),VLOOKUP(B53,SSTable,2,0),"") -> Montreal | E53: =IF(NOT(B53=""),VLOOKUP(B53,SSTable,4,0),"") -> 10 | G53: =IF(NOT(B53=""),VLOOKUP(B53,SSTable,6,0),"") -> 12 | H53: =IF(NOT(B53=""),VLOOKUP(B53,SSTable,7,0),"") -> 0.83333333 | J53: =IF(NOT(B53=""),VLOOKUP(B53,SSTable,9,0),"") -> 2 | K53: =IF(NOT(B53=""),VLOOKUP(B53,SSTable,10,0),"") -> 6 | L53: =IF(NOT(B53=""),VLOOKUP(B53,SSTable,11,0),"") -> 4 | N53: =IF(NOT(B53=""),VLOOKUP(B53,SSTable,12,0),"") -> 11 | O53: =IF(NOT(B53=""),VLOOKUP(B53,SSTable,13,0),"") -> 22 | P53: =IF(NOT(B53=""),VLOOKUP(B53,SSTable,14,0),"") -> -11 | R53: =IF(NOT(B53=""),VLOOKUP(B53,SSTable,21,0),"") -> 6 | S53: =IF(NOT(B53=""),VLOOKUP(B53,SSTable,22,0),"") -> 8 | T53: =IF(NOT(B53=""),VLOOKUP(B53,SSTable,23,0),"") -> -2 | V53: =IF(NOT(B53=""),VLOOKUP(B53,SSTable,30,0),"") -> 5 | W53: =IF(NOT(B53=""),VLOOKUP(B53,SSTable,31,0),"") -> 14 | X53: =IF(NOT(B53=""),VLOOKUP(B53,SSTable,32,0),"") -> -9
B54: =IF(B53<(ECNumberTeams+WCNumberTeams),B53+1,"") -> 19 | C54: =IF(NOT(B54=""),VLOOKUP(B54,SSTable,2,0),"") -> Chivas USA | E54: =IF(NOT(B54=""),VLOOKUP(B54,SSTable,4,0),"") -> 10 | G54: =IF(NOT(B54=""),VLOOKUP(B54,SSTable,6,0),"") -> 13 | H54: =IF(NOT(B54=""),VLOOKUP(B54,SSTable,7,0),"") -> 0.76923077 | J54: =IF(NOT(B54=""),VLOOKUP(B54,SSTable,9,0),"") -> 2 | K54: =IF(NOT(B54=""),VLOOKUP(B54,SSTable,10,0),"") -> 7 | L54: =IF(NOT(B54=""),VLOOKUP(B54,SSTable,11,0),"") -> 4 | N54: =IF(NOT(B54=""),VLOOKUP(B54,SSTable,12,0),"") -> 13 | O54: =IF(NOT(B54=""),VLOOKUP(B54,SSTable,13,0),"") -> 25 | P54: =IF(NOT(B54=""),VLOOKUP(B54,SSTable,14,0),"") -> -12 | R54: =IF(NOT(B54=""),VLOOKUP(B54,SSTable,21,0),"") -> 6 | S54: =IF(NOT(B54=""),VLOOKUP(B54,SSTable,22,0),"") -> 17 | T54: =IF(NOT(B54=""),VLOOKUP(B54,SSTable,23,0),"") -> -11 | V54: =IF(NOT(B54=""),VLOOKUP(B54,SSTable,30,0),"") -> 7 | W54: =IF(NOT(B54=""),VLOOKUP(B54,SSTable,31,0),"") -> 8 | X54: =IF(NOT(B54=""),VLOOKUP(B54,SSTable,32,0),"") -> -1
... B59: =IF(B58<(ECNumberTeams+WCNumberTeams),B58+1,"") | C59: =IF(NOT(B59=""),VLOOKUP(B59,SSTable,2,0),"") | E59: =IF(NOT(B59=""),VLOOKUP(B59,SSTable,4,0),"") | G59: =IF(NOT(B59=""),VLOOKUP(B59,SSTable,6,0),"") | H59: =IF(NOT(B59=""),VLOOKUP(B59,SSTable,7,0),"") | J59: =IF(NOT(B59=""),VLOOKUP(B59,SSTable,9,0),"") | K59: =IF(NOT(B59=""),VLOOKUP(B59,SSTable,10,0),"") | L59: =IF(NOT(B59=""),VLOOKUP(B59,SSTable,11,0),"") | N59: =IF(NOT(B59=""),VLOOKUP(B59,SSTable,12,0),"") | O59: =IF(NOT(B59=""),VLOOKUP(B59,SSTable,13,0),"") | P59: =IF(NOT(B59=""),VLOOKUP(B59,SSTable,14,0),"") | R59: =IF(NOT(B59=""),VLOOKUP(B59,SSTable,21,0),"") | S59: =IF(NOT(B59=""),VLOOKUP(B59,SSTable,22,0),"") | T59: =IF(NOT(B59=""),VLOOKUP(B59,SSTable,23,0),"") | V59: =IF(NOT(B59=""),VLOOKUP(B59,SSTable,30,0),"") | W59: =IF(NOT(B59=""),VLOOKUP(B59,SSTable,31,0),"") | X59: =IF(NOT(B59=""),VLOOKUP(B59,SSTable,32,0),"")

Sheet Games - Update
B2: =IF(NOT('Teams - Setup'!B2=""),'Teams - Setup'!B2,"") -> MLS Season 2014 | K2: Calculations >>> | AV2: Standings Calculations >>>
B3: DAY | C3: DATE | D3: TIME | E3: HOME TEAM | F3: H | G3: A | H3: AWAY TEAM | I3: VENUE | K3: PL | M3: =IF(NOT('Teams - Setup'!B4=""),'Teams - Setup'!B4,"") -> Eastern Conference
B4: Sat | C4: 03/08/2014 | D4: 3:00PM EST | E4: Seattle | F4: 1 | G4: 0 | H4: Sporting KC | I4: CenturyLink Field | K4: =IF(AND(NOT(E4=""),NOT(H4="")),IF(AND(NOT(F4=""),NOT(G4="")),1,0),0) -> 1 | M4: POS | N4: TEAM | P4: PTS | R4: GP | S4: PPG | U4: W | V4: L | W4: T | X4: GF | Y4: GA | Z4: GD | AB4: HPT | AC4: HGP | AD4: HW | AE4: HL | AF4: HT | AG4: HGF | AH4: HGA | AI4: HGD | AK4: APT | AL4: AGP | AM4: AW | AN4: AL | AO4: AT | AP4: AGF | AQ4: AGA | AR4: AGD | AT4: DP | AV4: PTS | AW4: W | AX4: GD | AY4: GF | AZ4: DP | BA4: AGD | BB4: AGF | BC4: HGD | BD4: HGF | BE4: SORT | BF4: LOTS | BH4: ROW
B5: Sat | C5: 03/08/2014 | D5: 7:00PM EST | E5: D.C. United | F5: 0 | G5: 3 | H5: Columbus | I5: RFK Stadium | K5: =IF(AND(NOT(E5=""),NOT(H5="")),IF(AND(NOT(F5=""),NOT(G5="")),1,0),0) -> 1 | M5: =IF(NOT(N5=""),SUM(AV5:BE5),"") -> 9 | N5: =IF(NOT('Teams - Setup'!B6=""),'Teams - Setup'!B6,"") -> Chicago | P5: =IF(NOT(N5=""),AB5+AK5,"") -> 14 | R5: =IF(NOT(N5=""),AC5+AL5,"") -> 13 | S5: =IF(NOT(N5=""),IF(R5>0,P5/R5,0),"") -> 1.0769231 | U5: =IF(NOT(N5=""),AD5+AM5,"") -> 2 | V5: =IF(NOT(N5=""),AE5+AN5,"") -> 3 | W5: =IF(NOT(N5=""),AF5+AO5,"") -> 8 | X5: =IF(NOT(N5=""),AG5+AP5,"") -> 20 | Y5: =IF(NOT(N5=""),AH5+AQ5,"") -> 22 | Z5: =IF(NOT(N5=""),X5-Y5,"") -> -2 | AB5: =IF(NOT(N5=""),(AD5*PtsHomeWin)+(AF5*PtsHomeDraw)+(AE5*PtsHomeLoss),"") -> 7 | AC5: =IF(NOT(N5=""),SUMPRODUCT((HomeTeam=N5)*GamePlayed),"") -> 6 | AD5: =IF(NOT(N5=""),SUMPRODUCT((HomeTeam=N5)*(HomeScore>AwayScore)*GamePlayed),"") -> 1 | AE5: =IF(NOT(N5=""),SUMPRODUCT((HomeTeam=N5)*(HomeScore<AwayScore)*GamePlayed),"") -> 1 | AF5: =IF(NOT(N5=""),SUMPRODUCT((HomeTeam=N5)*(HomeScore=AwayScore)*GamePlayed),"") -> 4 | AG5: =IF(NOT(N5=""),SUMPRODUCT((HomeTeam=N5)*HomeScore*GamePlayed),"") -> 9 | AH5: =IF(NOT(N5=""),SUMPRODUCT((HomeTeam=N5)*AwayScore*GamePlayed),"") -> 9 | AI5: =IF(NOT(N5=""),AG5-AH5,"") -> 0 | AK5: =IF(NOT(N5=""),(AM5*PtsAwayWin)+(AO5*PtsAwayDraw)+(AN5*PtsAwayLoss),"") -> 7 | AL5: =IF(NOT(N5=""),SUMPRODUCT((AwayTeam=N5)*GamePlayed),"") -> 7 | AM5: =IF(NOT(N5=""),SUMPRODUCT((AwayTeam=N5)*(AwayScore>HomeScore)*GamePlayed),"") -> 1 | AN5: =IF(NOT(N5=""),SUMPRODUCT((AwayTeam=N5)*(AwayScore<HomeScore)*GamePlayed),"") -> 2 | AO5: =IF(NOT(N5=""),SUMPRODUCT((AwayTeam=N5)*(AwayScore=HomeScore)*GamePlayed),"") -> 4 | AP5: =IF(NOT(N5=""),SUMPRODUCT((AwayTeam=N5)*AwayScore*GamePlayed),"") -> 11 | AQ5: =IF(NOT(N5=""),SUMPRODUCT((AwayTeam=N5)*HomeScore*GamePlayed),"") -> 13 | AR5: =IF(NOT(N5=""),AP5-AQ5,"") -> -2 | AT5: =IF(NOT(N5=""),IF(NOT('Teams - Setup'!F6=""),'Teams - Setup'!F6,0),"") -> 0 | AV5: =IF(NOT(N5=""),RANK(P5,P$5:P$16,0),"") -> 8 | AW5: =IF(NOT(N5=""),SUMPRODUCT((P$5:P$16=P5)*(U$5:U$16>U5)),"") -> 1 | AX5: =IF(NOT(N5=""),SUMPRODUCT((P$5:P$16=P5)*(U$5:U$16=U5)*(Z$5:Z$16>Z5)),"") -> 0 | AY5: =IF(NOT(N5=""),SUMPRODUCT((P$5:P$16=P5)*(U$5:U$16=U5)*(Z$5:Z$16=Z5)*(X$5:X$16>X5)),"") -> 0 | AZ5: =IF(NOT(N5=""),SUMPRODUCT((P$5:P$16=P5)*(U$5:U$16=U5)*(Z$5:Z$16=Z5)*(X$5:X$16=X5)*(AT$5:AT$16<AT5)),"") -> 0 | BA5: =IF(NOT(N5=""),SUMPRODUCT((P$5:P$16=P5)*(U$5:U$16=U5)*(Z$5:Z$16=Z5)*(X$5:X$16=X5)*(AT$5:AT$16=AT5)*(AR$5:AR$16>AR5)),"") -> 0 | BB5: =IF(NOT(N5=""),SUMPRODUCT((P$5:P$16=P5)*(U$5:U$16=U5)*(Z$5:Z$16=Z5)*(X$5:X$16=X5)*(AT$5:AT$16=AT5)*(AR$5:AR$16=AR5)*(AP$5:AP$16>AP5)),"") -> 0 | BC5: =IF(NOT(N5=""),SUMPRODUCT((P$5:P$16=P5)*(U$5:U$16=U5)*(Z$5:Z$16=Z5)*(X$5:X$16=X5)*(AT$5:AT$16=AT5)*(AR$5:AR$16=AR5)*(AP$5:AP$16=AP5)*(AI$5:AI$16>AI5)),"") -> 0 | BD5: =IF(NOT(N5=""),SUMPRODUCT((P$5:P$16=P5)*(U$5:U$16=U5)*(Z$5:Z$16=Z5)*(X$5:X$16=X5)*(AT$5:AT$16=AT5)*(AR$5:AR$16=AR5)*(AP$5:AP$16=AP5)*(AI$5:AI$16=AI5)*(AG$5:AG$16>AG5)),"") -> 0 | BE5: =IF(NOT(N5=""),SUMPRODUCT((P$5:P$16=P5)*(U$5:U$16=U5)*(X$5:X$16=X5)*(Z$5:Z$16=Z5)*(AT$5:AT$16=AT5)*(AP$5:AP$16=AP5)*(AR$5:AR$16=AR5)*(AI$5:AI$16=AI5)*(AG$5:AG$16=AG5)*(BF$5:BF$16>BF5)),"") -> 0 | BF5: =IF(NOT(N5=""),IF(NOT('Teams - Setup'!G6=""),'Teams - Setup'!G6,0),"") -> 0 | BH5: =IF(NOT(N5=""),ROW(N5),"") -> 5
B6: Sat | C6: 03/08/2014 | D6: 7:30PM EST | E6: Vancouver | F6: 4 | G6: 1 | H6: New York | I6: BC Place | K6: =IF(AND(NOT(E6=""),NOT(H6="")),IF(AND(NOT(F6=""),NOT(G6="")),1,0),0) -> 1 | M6: =IF(NOT(N6=""),SUM(AV6:BE6),"") -> 5 | N6: =IF(NOT('Teams - Setup'!B7=""),'Teams - Setup'!B7,"") -> Columbus | P6: =IF(NOT(N6=""),AB6+AK6,"") -> 17 | R6: =IF(NOT(N6=""),AC6+AL6,"") -> 14 | S6: =IF(NOT(N6=""),IF(R6>0,P6/R6,0),"") -> 1.2142857 | U6: =IF(NOT(N6=""),AD6+AM6,"") -> 4 | V6: =IF(NOT(N6=""),AE6+AN6,"") -> 5 | W6: =IF(NOT(N6=""),AF6+AO6,"") -> 5 | X6: =IF(NOT(N6=""),AG6+AP6,"") -> 18 | Y6: =IF(NOT(N6=""),AH6+AQ6,"") -> 18 | Z6: =IF(NOT(N6=""),X6-Y6,"") -> 0 | AB6: =IF(NOT(N6=""),(AD6*PtsHomeWin)+(AF6*PtsHomeDraw)+(AE6*PtsHomeLoss),"") -> 9 | AC6: =IF(NOT(N6=""),SUMPRODUCT((HomeTeam=N6)*GamePlayed),"") -> 7 | AD6: =IF(NOT(N6=""),SUMPRODUCT((HomeTeam=N6)*(HomeScore>AwayScore)*GamePlayed),"") -> 2 | AE6: =IF(NOT(N6=""),SUMPRODUCT((HomeTeam=N6)*(HomeScore<AwayScore)*GamePlayed),"") -> 2 | AF6: =IF(NOT(N6=""),SUMPRODUCT((HomeTeam=N6)*(HomeScore=AwayScore)*GamePlayed),"") -> 3 | AG6: =IF(NOT(N6=""),SUMPRODUCT((HomeTeam=N6)*HomeScore*GamePlayed),"") -> 7 | AH6: =IF(NOT(N6=""),SUMPRODUCT((HomeTeam=N6)*AwayScore*GamePlayed),"") -> 7 | AI6: =IF(NOT(N6=""),AG6-AH6,"") -> 0 | AK6: =IF(NOT(N6=""),(AM6*PtsAwayWin)+(AO6*PtsAwayDraw)+(AN6*PtsAwayLoss),"") -> 8 | AL6: =IF(NOT(N6=""),SUMPRODUCT((AwayTeam=N6)*GamePlayed),"") -> 7 | AM6: =IF(NOT(N6=""),SUMPRODUCT((AwayTeam=N6)*(AwayScore>HomeScore)*GamePlayed),"") -> 2 | AN6: =IF(NOT(N6=""),SUMPRODUCT((AwayTeam=N6)*(AwayScore<HomeScore)*GamePlayed),"") -> 3 | AO6: =IF(NOT(N6=""),SUMPRODUCT((AwayTeam=N6)*(AwayScore=HomeScore)*GamePlayed),"") -> 2 | AP6: =IF(NOT(N6=""),SUMPRODUCT((AwayTeam=N6)*AwayScore*GamePlayed),"") -> 11 | AQ6: =IF(NOT(N6=""),SUMPRODUCT((AwayTeam=N6)*HomeScore*GamePlayed),"") -> 11 | AR6: =IF(NOT(N6=""),AP6-AQ6,"") -> 0 | AT6: =IF(NOT(N6=""),IF(NOT('Teams - Setup'!F7=""),'Teams - Setup'!F7,0),"") -> 0 | AV6: =IF(NOT(N6=""),RANK(P6,P$5:P$16,0),"") -> 4 | AW6: =IF(NOT(N6=""),SUMPRODUCT((P$5:P$16=P6)*(U$5:U$16>U6)),"") -> 1 | AX6: =IF(NOT(N6=""),SUMPRODUCT((P$5:P$16=P6)*(U$5:U$16=U6)*(Z$5:Z$16>Z6)),"") -> 0 | AY6: =IF(NOT(N6=""),SUMPRODUCT((P$5:P$16=P6)*(U$5:U$16=U6)*(Z$5:Z$16=Z6)*(X$5:X$16>X6)),"") -> 0 | AZ6: =IF(NOT(N6=""),SUMPRODUCT((P$5:P$16=P6)*(U$5:U$16=U6)*(Z$5:Z$16=Z6)*(X$5:X$16=X6)*(AT$5:AT$16<AT6)),"") -> 0 | BA6: =IF(NOT(N6=""),SUMPRODUCT((P$5:P$16=P6)*(U$5:U$16=U6)*(Z$5:Z$16=Z6)*(X$5:X$16=X6)*(AT$5:AT$16=AT6)*(AR$5:AR$16>AR6)),"") -> 0 | BB6: =IF(NOT(N6=""),SUMPRODUCT((P$5:P$16=P6)*(U$5:U$16=U6)*(Z$5:Z$16=Z6)*(X$5:X$16=X6)*(AT$5:AT$16=AT6)*(AR$5:AR$16=AR6)*(AP$5:AP$16>AP6)),"") -> 0 | BC6: =IF(NOT(N6=""),SUMPRODUCT((P$5:P$16=P6)*(U$5:U$16=U6)*(Z$5:Z$16=Z6)*(X$5:X$16=X6)*(AT$5:AT$16=AT6)*(AR$5:AR$16=AR6)*(AP$5:AP$16=AP6)*(AI$5:AI$16>AI6)),"") -> 0 | BD6: =IF(NOT(N6=""),SUMPRODUCT((P$5:P$16=P6)*(U$5:U$16=U6)*(Z$5:Z$16=Z6)*(X$5:X$16=X6)*(AT$5:AT$16=AT6)*(AR$5:AR$16=AR6)*(AP$5:AP$16=AP6)*(AI$5:AI$16=AI6)*(AG$5:AG$16>AG6)),"") -> 0 | BE6: =IF(NOT(N6=""),SUMPRODUCT((P$5:P$16=P6)*(U$5:U$16=U6)*(X$5:X$16=X6)*(Z$5:Z$16=Z6)*(AT$5:AT$16=AT6)*(AP$5:AP$16=AP6)*(AR$5:AR$16=AR6)*(AI$5:AI$16=AI6)*(AG$5:AG$16=AG6)*(BF$5:BF$16>BF6)),"") -> 0 | BF6: =IF(NOT(N6=""),IF(NOT('Teams - Setup'!G7=""),'Teams - Setup'!G7,0),"") -> 0 | BH6: =IF(NOT(N6=""),ROW(N6),"") -> 6
B7: Sat | C7: 03/08/2014 | D7: 8:30PM EST | E7: FC Dallas | F7: 3 | G7: 2 | H7: Montreal | I7: Toyota Stadium | K7: =IF(AND(NOT(E7=""),NOT(H7="")),IF(AND(NOT(F7=""),NOT(G7="")),1,0),0) -> 1 | M7: =IF(NOT(N7=""),SUM(AV7:BE7),"") -> 2 | N7: =IF(NOT('Teams - Setup'!B8=""),'Teams - Setup'!B8,"") -> D.C. United | P7: =IF(NOT(N7=""),AB7+AK7,"") -> 21 | R7: =IF(NOT(N7=""),AC7+AL7,"") -> 13 | S7: =IF(NOT(N7=""),IF(R7>0,P7/R7,0),"") -> 1.6153846 | U7: =IF(NOT(N7=""),AD7+AM7,"") -> 6 | V7: =IF(NOT(N7=""),AE7+AN7,"") -> 4 | W7: =IF(NOT(N7=""),AF7+AO7,"") -> 3 | X7: =IF(NOT(N7=""),AG7+AP7,"") -> 18 | Y7: =IF(NOT(N7=""),AH7+AQ7,"") -> 14 | Z7: =IF(NOT(N7=""),X7-Y7,"") -> 4 | AB7: =IF(NOT(N7=""),(AD7*PtsHomeWin)+(AF7*PtsHomeDraw)+(AE7*PtsHomeLoss),"") -> 17 | AC7: =IF(NOT(N7=""),SUMPRODUCT((HomeTeam=N7)*GamePlayed),"") -> 8 | AD7: =IF(NOT(N7=""),SUMPRODUCT((HomeTeam=N7)*(HomeScore>AwayScore)*GamePlayed),"") -> 5 | AE7: =IF(NOT(N7=""),SUMPRODUCT((HomeTeam=N7)*(HomeScore<AwayScore)*GamePlayed),"") -> 1 | AF7: =IF(NOT(N7=""),SUMPRODUCT((HomeTeam=N7)*(HomeScore=AwayScore)*GamePlayed),"") -> 2 | AG7: =IF(NOT(N7=""),SUMPRODUCT((HomeTeam=N7)*HomeScore*GamePlayed),"") -> 13 | AH7: =IF(NOT(N7=""),SUMPRODUCT((HomeTeam=N7)*AwayScore*GamePlayed),"") -> 7 | AI7: =IF(NOT(N7=""),AG7-AH7,"") -> 6 | AK7: =IF(NOT(N7=""),(AM7*PtsAwayWin)+(AO7*PtsAwayDraw)+(AN7*PtsAwayLoss),"") -> 4 | AL7: =IF(NOT(N7=""),SUMPRODUCT((AwayTeam=N7)*GamePlayed),"") -> 5 | AM7: =IF(NOT(N7=""),SUMPRODUCT((AwayTeam=N7)*(AwayScore>HomeScore)*GamePlayed),"") -> 1 | AN7: =IF(NOT(N7=""),SUMPRODUCT((AwayTeam=N7)*(AwayScore<HomeScore)*GamePlayed),"") -> 3 | AO7: =IF(NOT(N7=""),SUMPRODUCT((AwayTeam=N7)*(AwayScore=HomeScore)*GamePlayed),"") -> 1 | AP7: =IF(NOT(N7=""),SUMPRODUCT((AwayTeam=N7)*AwayScore*GamePlayed),"") -> 5 | AQ7: =IF(NOT(N7=""),SUMPRODUCT((AwayTeam=N7)*HomeScore*GamePlayed),"") -> 7 | AR7: =IF(NOT(N7=""),AP7-AQ7,"") -> -2 | AT7: =IF(NOT(N7=""),IF(NOT('Teams - Setup'!F8=""),'Teams - Setup'!F8,0),"") -> 0 | AV7: =IF(NOT(N7=""),RANK(P7,P$5:P$16,0),"") -> 2 | AW7: =IF(NOT(N7=""),SUMPRODUCT((P$5:P$16=P7)*(U$5:U$16>U7)),"") -> 0 | AX7: =IF(NOT(N7=""),SUMPRODUCT((P$5:P$16=P7)*(U$5:U$16=U7)*(Z$5:Z$16>Z7)),"") -> 0 | AY7: =IF(NOT(N7=""),SUMPRODUCT((P$5:P$16=P7)*(U$5:U$16=U7)*(Z$5:Z$16=Z7)*(X$5:X$16>X7)),"") -> 0 | AZ7: =IF(NOT(N7=""),SUMPRODUCT((P$5:P$16=P7)*(U$5:U$16=U7)*(Z$5:Z$16=Z7)*(X$5:X$16=X7)*(AT$5:AT$16<AT7)),"") -> 0 | BA7: =IF(NOT(N7=""),SUMPRODUCT((P$5:P$16=P7)*(U$5:U$16=U7)*(Z$5:Z$16=Z7)*(X$5:X$16=X7)*(AT$5:AT$16=AT7)*(AR$5:AR$16>AR7)),"") -> 0 | BB7: =IF(NOT(N7=""),SUMPRODUCT((P$5:P$16=P7)*(U$5:U$16=U7)*(Z$5:Z$16=Z7)*(X$5:X$16=X7)*(AT$5:AT$16=AT7)*(AR$5:AR$16=AR7)*(AP$5:AP$16>AP7)),"") -> 0 | BC7: =IF(NOT(N7=""),SUMPRODUCT((P$5:P$16=P7)*(U$5:U$16=U7)*(Z$5:Z$16=Z7)*(X$5:X$16=X7)*(AT$5:AT$16=AT7)*(AR$5:AR$16=AR7)*(AP$5:AP$16=AP7)*(AI$5:AI$16>AI7)),"") -> 0 | BD7: =IF(NOT(N7=""),SUMPRODUCT((P$5:P$16=P7)*(U$5:U$16=U7)*(Z$5:Z$16=Z7)*(X$5:X$16=X7)*(AT$5:AT$16=AT7)*(AR$5:AR$16=AR7)*(AP$5:AP$16=AP7)*(AI$5:AI$16=AI7)*(AG$5:AG$16>AG7)),"") -> 0 | BE7: =IF(NOT(N7=""),SUMPRODUCT((P$5:P$16=P7)*(U$5:U$16=U7)*(X$5:X$16=X7)*(Z$5:Z$16=Z7)*(AT$5:AT$16=AT7)*(AP$5:AP$16=AP7)*(AR$5:AR$16=AR7)*(AI$5:AI$16=AI7)*(AG$5:AG$16=AG7)*(BF$5:BF$16>BF7)),"") -> 0 | BF7: =IF(NOT(N7=""),IF(NOT('Teams - Setup'!G8=""),'Teams - Setup'!G8,0),"") -> 0 | BH7: =IF(NOT(N7=""),ROW(N7),"") -> 7
B8: Sat | C8: 03/08/2014 | D8: 8:30PM EST | E8: Houston | F8: 4 | G8: 0 | H8: New England | I8: BBVA Compass Stadium | K8: =IF(AND(NOT(E8=""),NOT(H8="")),IF(AND(NOT(F8=""),NOT(G8="")),1,0),0) -> 1 | M8: =IF(NOT(N8=""),SUM(AV8:BE8),"") -> 4 | N8: =IF(NOT('Teams - Setup'!B9=""),'Teams - Setup'!B9,"") -> Houston | P8: =IF(NOT(N8=""),AB8+AK8,"") -> 17 | R8: =IF(NOT(N8=""),AC8+AL8,"") -> 15 | S8: =IF(NOT(N8=""),IF(R8>0,P8/R8,0),"") -> 1.1333333 | U8: =IF(NOT(N8=""),AD8+AM8,"") -> 5 | V8: =IF(NOT(N8=""),AE8+AN8,"") -> 8 | W8: =IF(NOT(N8=""),AF8+AO8,"") -> 2 | X8: =IF(NOT(N8=""),AG8+AP8,"") -> 16 | Y8: =IF(NOT(N8=""),AH8+AQ8,"") -> 27 | Z8: =IF(NOT(N8=""),X8-Y8,"") -> -11 | AB8: =IF(NOT(N8=""),(AD8*PtsHomeWin)+(AF8*PtsHomeDraw)+(AE8*PtsHomeLoss),"") -> 13 | AC8: =IF(NOT(N8=""),SUMPRODUCT((HomeTeam=N8)*GamePlayed),"") -> 7 | AD8: =IF(NOT(N8=""),SUMPRODUCT((HomeTeam=N8)*(HomeScore>AwayScore)*GamePlayed),"") -> 4 | AE8: =IF(NOT(N8=""),SUMPRODUCT((HomeTeam=N8)*(HomeScore<AwayScore)*GamePlayed),"") -> 2 | AF8: =IF(NOT(N8=""),SUMPRODUCT((HomeTeam=N8)*(HomeScore=AwayScore)*GamePlayed),"") -> 1 | AG8: =IF(NOT(N8=""),SUMPRODUCT((HomeTeam=N8)*HomeScore*GamePlayed),"") -> 11 | AH8: =IF(NOT(N8=""),SUMPRODUCT((HomeTeam=N8)*AwayScore*GamePlayed),"") -> 10 | AI8: =IF(NOT(N8=""),AG8-AH8,"") -> 1 | AK8: =IF(NOT(N8=""),(AM8*PtsAwayWin)+(AO8*PtsAwayDraw)+(AN8*PtsAwayLoss),"") -> 4 | AL8: =IF(NOT(N8=""),SUMPRODUCT((AwayTeam=N8)*GamePlayed),"") -> 8 | AM8: =IF(NOT(N8=""),SUMPRODUCT((AwayTeam=N8)*(AwayScore>HomeScore)*GamePlayed),"") -> 1 | AN8: =IF(NOT(N8=""),SUMPRODUCT((AwayTeam=N8)*(AwayScore<HomeScore)*GamePlayed),"") -> 6 | AO8: =IF(NOT(N8=""),SUMPRODUCT((AwayTeam=N8)*(AwayScore=HomeScore)*GamePlayed),"") -> 1 | AP8: =IF(NOT(N8=""),SUMPRODUCT((AwayTeam=N8)*AwayScore*GamePlayed),"") -> 5 | AQ8: =IF(NOT(N8=""),SUMPRODUCT((AwayTeam=N8)*HomeScore*GamePlayed),"") -> 17 | AR8: =IF(NOT(N8=""),AP8-AQ8,"") -> -12 | AT8: =IF(NOT(N8=""),IF(NOT('Teams - Setup'!F9=""),'Teams - Setup'!F9,0),"") -> 0 | AV8: =IF(NOT(N8=""),RANK(P8,P$5:P$16,0),"") -> 4 | AW8: =IF(NOT(N8=""),SUMPRODUCT((P$5:P$16=P8)*(U$5:U$16>U8)),"") -> 0 | AX8: =IF(NOT(N8=""),SUMPRODUCT((P$5:P$16=P8)*(U$5:U$16=U8)*(Z$5:Z$16>Z8)),"") -> 0 | AY8: =IF(NOT(N8=""),SUMPRODUCT((P$5:P$16=P8)*(U$5:U$16=U8)*(Z$5:Z$16=Z8)*(X$5:X$16>X8)),"") -> 0 | AZ8: =IF(NOT(N8=""),SUMPRODUCT((P$5:P$16=P8)*(U$5:U$16=U8)*(Z$5:Z$16=Z8)*(X$5:X$16=X8)*(AT$5:AT$16<AT8)),"") -> 0 | BA8: =IF(NOT(N8=""),SUMPRODUCT((P$5:P$16=P8)*(U$5:U$16=U8)*(Z$5:Z$16=Z8)*(X$5:X$16=X8)*(AT$5:AT$16=AT8)*(AR$5:AR$16>AR8)),"") -> 0 | BB8: =IF(NOT(N8=""),SUMPRODUCT((P$5:P$16=P8)*(U$5:U$16=U8)*(Z$5:Z$16=Z8)*(X$5:X$16=X8)*(AT$5:AT$16=AT8)*(AR$5:AR$16=AR8)*(AP$5:AP$16>AP8)),"") -> 0 | BC8: =IF(NOT(N8=""),SUMPRODUCT((P$5:P$16=P8)*(U$5:U$16=U8)*(Z$5:Z$16=Z8)*(X$5:X$16=X8)*(AT$5:AT$16=AT8)*(AR$5:AR$16=AR8)*(AP$5:AP$16=AP8)*(AI$5:AI$16>AI8)),"") -> 0 | BD8: =IF(NOT(N8=""),SUMPRODUCT((P$5:P$16=P8)*(U$5:U$16=U8)*(Z$5:Z$16=Z8)*(X$5:X$16=X8)*(AT$5:AT$16=AT8)*(AR$5:AR$16=AR8)*(AP$5:AP$16=AP8)*(AI$5:AI$16=AI8)*(AG$5:AG$16>AG8)),"") -> 0 | BE8: =IF(NOT(N8=""),SUMPRODUCT((P$5:P$16=P8)*(U$5:U$16=U8)*(X$5:X$16=X8)*(Z$5:Z$16=Z8)*(AT$5:AT$16=AT8)*(AP$5:AP$16=AP8)*(AR$5:AR$16=AR8)*(AI$5:AI$16=AI8)*(AG$5:AG$16=AG8)*(BF$5:BF$16>BF8)),"") -> 0 | BF8: =IF(NOT(N8=""),IF(NOT('Teams - Setup'!G9=""),'Teams - Setup'!G9,0),"") -> 0 | BH8: =IF(NOT(N8=""),ROW(N8),"") -> 8
B9: Sat | C9: 03/08/2014 | D9: 10:30PM EST | E9: LA Galaxy | F9: 0 | G9: 1 | H9: Real Salt Lake | I9: StubHub Center | K9: =IF(AND(NOT(E9=""),NOT(H9="")),IF(AND(NOT(F9=""),NOT(G9="")),1,0),0) -> 1 | M9: =IF(NOT(N9=""),SUM(AV9:BE9),"") -> 10 | N9: =IF(NOT('Teams - Setup'!B10=""),'Teams - Setup'!B10,"") -> Montreal | P9: =IF(NOT(N9=""),AB9+AK9,"") -> 10 | R9: =IF(NOT(N9=""),AC9+AL9,"") -> 12 | S9: =IF(NOT(N9=""),IF(R9>0,P9/R9,0),"") -> 0.83333333 | U9: =IF(NOT(N9=""),AD9+AM9,"") -> 2 | V9: =IF(NOT(N9=""),AE9+AN9,"") -> 6 | W9: =IF(NOT(N9=""),AF9+AO9,"") -> 4 | X9: =IF(NOT(N9=""),AG9+AP9,"") -> 11 | Y9: =IF(NOT(N9=""),AH9+AQ9,"") -> 22 | Z9: =IF(NOT(N9=""),X9-Y9,"") -> -11 | AB9: =IF(NOT(N9=""),(AD9*PtsHomeWin)+(AF9*PtsHomeDraw)+(AE9*PtsHomeLoss),"") -> 8 | AC9: =IF(NOT(N9=""),SUMPRODUCT((HomeTeam=N9)*GamePlayed),"") -> 6 | AD9: =IF(NOT(N9=""),SUMPRODUCT((HomeTeam=N9)*(HomeScore>AwayScore)*GamePlayed),"") -> 2 | AE9: =IF(NOT(N9=""),SUMPRODUCT((HomeTeam=N9)*(HomeScore<AwayScore)*GamePlayed),"") -> 2 | AF9: =IF(NOT(N9=""),SUMPRODUCT((HomeTeam=N9)*(HomeScore=AwayScore)*GamePlayed),"") -> 2 | AG9: =IF(NOT(N9=""),SUMPRODUCT((HomeTeam=N9)*HomeScore*GamePlayed),"") -> 6 | AH9: =IF(NOT(N9=""),SUMPRODUCT((HomeTeam=N9)*AwayScore*GamePlayed),"") -> 8 | AI9: =IF(NOT(N9=""),AG9-AH9,"") -> -2 | AK9: =IF(NOT(N9=""),(AM9*PtsAwayWin)+(AO9*PtsAwayDraw)+(AN9*PtsAwayLoss),"") -> 2 | AL9: =IF(NOT(N9=""),SUMPRODUCT((AwayTeam=N9)*GamePlayed),"") -> 6 | AM9: =IF(NOT(N9=""),SUMPRODUCT((AwayTeam=N9)*(AwayScore>HomeScore)*GamePlayed),"") -> 0 | AN9: =IF(NOT(N9=""),SUMPRODUCT((AwayTeam=N9)*(AwayScore<HomeScore)*GamePlayed),"") -> 4 | AO9: =IF(NOT(N9=""),SUMPRODUCT((AwayTeam=N9)*(AwayScore=HomeScore)*GamePlayed),"") -> 2 | AP9: =IF(NOT(N9=""),SUMPRODUCT((AwayTeam=N9)*AwayScore*GamePlayed),"") -> 5 | AQ9: =IF(NOT(N9=""),SUMPRODUCT((AwayTeam=N9)*HomeScore*GamePlayed),"") -> 14 | AR9: =IF(NOT(N9=""),AP9-AQ9,"") -> -9 | AT9: =IF(NOT(N9=""),IF(NOT('Teams - Setup'!F10=""),'Teams - Setup'!F10,0),"") -> 0 | AV9: =IF(NOT(N9=""),RANK(P9,P$5:P$16,0),"") -> 10 | AW9: =IF(NOT(N9=""),SUMPRODUCT((P$5:P$16=P9)*(U$5:U$16>U9)),"") -> 0 | AX9: =IF(NOT(N9=""),SUMPRODUCT((P$5:P$16=P9)*(U$5:U$16=U9)*(Z$5:Z$16>Z9)),"") -> 0 | AY9: =IF(NOT(N9=""),SUMPRODUCT((P$5:P$16=P9)*(U$5:U$16=U9)*(Z$5:Z$16=Z9)*(X$5:X$16>X9)),"") -> 0 | AZ9: =IF(NOT(N9=""),SUMPRODUCT((P$5:P$16=P9)*(U$5:U$16=U9)*(Z$5:Z$16=Z9)*(X$5:X$16=X9)*(AT$5:AT$16<AT9)),"") -> 0 | BA9: =IF(NOT(N9=""),SUMPRODUCT((P$5:P$16=P9)*(U$5:U$16=U9)*(Z$5:Z$16=Z9)*(X$5:X$16=X9)*(AT$5:AT$16=AT9)*(AR$5:AR$16>AR9)),"") -> 0 | BB9: =IF(NOT(N9=""),SUMPRODUCT((P$5:P$16=P9)*(U$5:U$16=U9)*(Z$5:Z$16=Z9)*(X$5:X$16=X9)*(AT$5:AT$16=AT9)*(AR$5:AR$16=AR9)*(AP$5:AP$16>AP9)),"") -> 0 | BC9: =IF(NOT(N9=""),SUMPRODUCT((P$5:P$16=P9)*(U$5:U$16=U9)*(Z$5:Z$16=Z9)*(X$5:X$16=X9)*(AT$5:AT$16=AT9)*(AR$5:AR$16=AR9)*(AP$5:AP$16=AP9)*(AI$5:AI$16>AI9)),"") -> 0 | BD9: =IF(NOT(N9=""),SUMPRODUCT((P$5:P$16=P9)*(U$5:U$16=U9)*(Z$5:Z$16=Z9)*(X$5:X$16=X9)*(AT$5:AT$16=AT9)*(AR$5:AR$16=AR9)*(AP$5:AP$16=AP9)*(AI$5:AI$16=AI9)*(AG$5:AG$16>AG9)),"") -> 0 | BE9: =IF(NOT(N9=""),SUMPRODUCT((P$5:P$16=P9)*(U$5:U$16=U9)*(X$5:X$16=X9)*(Z$5:Z$16=Z9)*(AT$5:AT$16=AT9)*(AP$5:AP$16=AP9)*(AR$5:AR$16=AR9)*(AI$5:AI$16=AI9)*(AG$5:AG$16=AG9)*(BF$5:BF$16>BF9)),"") -> 0 | BF9: =IF(NOT(N9=""),IF(NOT('Teams - Setup'!G10=""),'Teams - Setup'!G10,0),"") -> 0 | BH9: =IF(NOT(N9=""),ROW(N9),"") -> 9
B10: Sat | C10: 03/08/2014 | D10: 10:30PM EST | E10: Portland | F10: 1 | G10: 1 | H10: Philadelphia | I10: Providence Park | K10: =IF(AND(NOT(E10=""),NOT(H10="")),IF(AND(NOT(F10=""),NOT(G10="")),1,0),0) -> 1 | M10: =IF(NOT(N10=""),SUM(AV10:BE10),"") -> 1 | N10: =IF(NOT('Teams - Setup'!B11=""),'Teams - Setup'!B11,"") -> New England | P10: =IF(NOT(N10=""),AB10+AK10,"") -> 23 | R10: =IF(NOT(N10=""),AC10+AL10,"") -> 13 | S10: =IF(NOT(N10=""),IF(R10>0,P10/R10,0),"") -> 1.7692308 | U10: =IF(NOT(N10=""),AD10+AM10,"") -> 7 | V10: =IF(NOT(N10=""),AE10+AN10,"") -> 4 | W10: =IF(NOT(N10=""),AF10+AO10,"") -> 2 | X10: =IF(NOT(N10=""),AG10+AP10,"") -> 21 | Y10: =IF(NOT(N10=""),AH10+AQ10,"") -> 16 | Z10: =IF(NOT(N10=""),X10-Y10,"") -> 5 | AB10: =IF(NOT(N10=""),(AD10*PtsHomeWin)+(AF10*PtsHomeDraw)+(AE10*PtsHomeLoss),"") -> 13 | AC10: =IF(NOT(N10=""),SUMPRODUCT((HomeTeam=N10)*GamePlayed),"") -> 5 | AD10: =IF(NOT(N10=""),SUMPRODUCT((HomeTeam=N10)*(HomeScore>AwayScore)*GamePlayed),"") -> 4 | AE10: =IF(NOT(N10=""),SUMPRODUCT((HomeTeam=N10)*(HomeScore<AwayScore)*GamePlayed),"") -> 0 | AF10: =IF(NOT(N10=""),SUMPRODUCT((HomeTeam=N10)*(HomeScore=AwayScore)*GamePlayed),"") -> 1 | AG10: =IF(NOT(N10=""),SUMPRODUCT((HomeTeam=N10)*HomeScore*GamePlayed),"") -> 11 | AH10: =IF(NOT(N10=""),SUMPRODUCT((HomeTeam=N10)*AwayScore*GamePlayed),"") -> 1 | AI10: =IF(NOT(N10=""),AG10-AH10,"") -> 10 | AK10: =IF(NOT(N10=""),(AM10*PtsAwayWin)+(AO10*PtsAwayDraw)+(AN10*PtsAwayLoss),"") -> 10 | AL10: =IF(NOT(N10=""),SUMPRODUCT((AwayTeam=N10)*GamePlayed),"") -> 8 | AM10: =IF(NOT(N10=""),SUMPRODUCT((AwayTeam=N10)*(AwayScore>HomeScore)*GamePlayed),"") -> 3 | AN10: =IF(NOT(N10=""),SUMPRODUCT((AwayTeam=N10)*(AwayScore<HomeScore)*GamePlayed),"") -> 4 | AO10: =IF(NOT(N10=""),SUMPRODUCT((AwayTeam=N10)*(AwayScore=HomeScore)*GamePlayed),"") -> 1 | AP10: =IF(NOT(N10=""),SUMPRODUCT((AwayTeam=N10)*AwayScore*GamePlayed),"") -> 10 | AQ10: =IF(NOT(N10=""),SUMPRODUCT((AwayTeam=N10)*HomeScore*GamePlayed),"") -> 15 | AR10: =IF(NOT(N10=""),AP10-AQ10,"") -> -5 | AT10: =IF(NOT(N10=""),IF(NOT('Teams - Setup'!F11=""),'Teams - Setup'!F11,0),"") -> 0 | AV10: =IF(NOT(N10=""),RANK(P10,P$5:P$16,0),"") -> 1 | AW10: =IF(NOT(N10=""),SUMPRODUCT((P$5:P$16=P10)*(U$5:U$16>U10)),"") -> 0 | AX10: =IF(NOT(N10=""),SUMPRODUCT((P$5:P$16=P10)*(U$5:U$16=U10)*(Z$5:Z$16>Z10)),"") -> 0 | AY10: =IF(NOT(N10=""),SUMPRODUCT((P$5:P$16=P10)*(U$5:U$16=U10)*(Z$5:Z$16=Z10)*(X$5:X$16>X10)),"") -> 0 | AZ10: =IF(NOT(N10=""),SUMPRODUCT((P$5:P$16=P10)*(U$5:U$16=U10)*(Z$5:Z$16=Z10)*(X$5:X$16=X10)*(AT$5:AT$16<AT10)),"") -> 0 | BA10: =IF(NOT(N10=""),SUMPRODUCT((P$5:P$16=P10)*(U$5:U$16=U10)*(Z$5:Z$16=Z10)*(X$5:X$16=X10)*(AT$5:AT$16=AT10)*(AR$5:AR$16>AR10)),"") -> 0 | BB10: =IF(NOT(N10=""),SUMPRODUCT((P$5:P$16=P10)*(U$5:U$16=U10)*(Z$5:Z$16=Z10)*(X$5:X$16=X10)*(AT$5:AT$16=AT10)*(AR$5:AR$16=AR10)*(AP$5:AP$16>AP10)),"") -> 0 | BC10: =IF(NOT(N10=""),SUMPRODUCT((P$5:P$16=P10)*(U$5:U$16=U10)*(Z$5:Z$16=Z10)*(X$5:X$16=X10)*(AT$5:AT$16=AT10)*(AR$5:AR$16=AR10)*(AP$5:AP$16=AP10)*(AI$5:AI$16>AI10)),"") -> 0 | BD10: =IF(NOT(N10=""),SUMPRODUCT((P$5:P$16=P10)*(U$5:U$16=U10)*(Z$5:Z$16=Z10)*(X$5:X$16=X10)*(AT$5:AT$16=AT10)*(AR$5:AR$16=AR10)*(AP$5:AP$16=AP10)*(AI$5:AI$16=AI10)*(AG$5:AG$16>AG10)),"") -> 0 | BE10: =IF(NOT(N10=""),SUMPRODUCT((P$5:P$16=P10)*(U$5:U$16=U10)*(X$5:X$16=X10)*(Z$5:Z$16=Z10)*(AT$5:AT$16=AT10)*(AP$5:AP$16=AP10)*(AR$5:AR$16=AR10)*(AI$5:AI$16=AI10)*(AG$5:AG$16=AG10)*(BF$5:BF$16>BF10)),"") -> 0 | BF10: =IF(NOT(N10=""),IF(NOT('Teams - Setup'!G11=""),'Teams - Setup'!G11,0),"") -> 0 | BH10: =IF(NOT(N10=""),ROW(N10),"") -> 10
B11: Sun | C11: 03/09/2014 | D11: 3:00PM EDT | E11: Chivas USA | F11: 3 | G11: 2 | H11: Chicago | I11: StubHub Center | K11: =IF(AND(NOT(E11=""),NOT(H11="")),IF(AND(NOT(F11=""),NOT(G11="")),1,0),0) -> 1 | M11: =IF(NOT(N11=""),SUM(AV11:BE11),"") -> 7 | N11: =IF(NOT('Teams - Setup'!B12=""),'Teams - Setup'!B12,"") -> New York | P11: =IF(NOT(N11=""),AB11+AK11,"") -> 15 | R11: =IF(NOT(N11=""),AC11+AL11,"") -> 14 | S11: =IF(NOT(N11=""),IF(R11>0,P11/R11,0),"") -> 1.0714286 | U11: =IF(NOT(N11=""),AD11+AM11,"") -> 3 | V11: =IF(NOT(N11=""),AE11+AN11,"") -> 5 | W11: =IF(NOT(N11=""),AF11+AO11,"") -> 6 | X11: =IF(NOT(N11=""),AG11+AP11,"") -> 20 | Y11: =IF(NOT(N11=""),AH11+AQ11,"") -> 22 | Z11: =IF(NOT(N11=""),X11-Y11,"") -> -2 | AB11: =IF(NOT(N11=""),(AD11*PtsHomeWin)+(AF11*PtsHomeDraw)+(AE11*PtsHomeLoss),"") -> 8 | AC11: =IF(NOT(N11=""),SUMPRODUCT((HomeTeam=N11)*GamePlayed),"") -> 6 | AD11: =IF(NOT(N11=""),SUMPRODUCT((HomeTeam=N11)*(HomeScore>AwayScore)*GamePlayed),"") -> 2 | AE11: =IF(NOT(N11=""),SUMPRODUCT((HomeTeam=N11)*(HomeScore<AwayScore)*GamePlayed),"") -> 2 | AF11: =IF(NOT(N11=""),SUMPRODUCT((HomeTeam=N11)*(HomeScore=AwayScore)*GamePlayed),"") -> 2 | AG11: =IF(NOT(N11=""),SUMPRODUCT((HomeTeam=N11)*HomeScore*GamePlayed),"") -> 13 | AH11: =IF(NOT(N11=""),SUMPRODUCT((HomeTeam=N11)*AwayScore*GamePlayed),"") -> 10 | AI11: =IF(NOT(N11=""),AG11-AH11,"") -> 3 | AK11: =IF(NOT(N11=""),(AM11*PtsAwayWin)+(AO11*PtsAwayDraw)+(AN11*PtsAwayLoss),"") -> 7 | AL11: =IF(NOT(N11=""),SUMPRODUCT((AwayTeam=N11)*GamePlayed),"") -> 8 | AM11: =IF(NOT(N11=""),SUMPRODUCT((AwayTeam=N11)*(AwayScore>HomeScore)*GamePlayed),"") -> 1 | AN11: =IF(NOT(N11=""),SUMPRODUCT((AwayTeam=N11)*(AwayScore<HomeScore)*GamePlayed),"") -> 3 | AO11: =IF(NOT(N11=""),SUMPRODUCT((AwayTeam=N11)*(AwayScore=HomeScore)*GamePlayed),"") -> 4 | AP11: =IF(NOT(N11=""),SUMPRODUCT((AwayTeam=N11)*AwayScore*GamePlayed),"") -> 7 | AQ11: =IF(NOT(N11=""),SUMPRODUCT((AwayTeam=N11)*HomeScore*GamePlayed),"") -> 12 | AR11: =IF(NOT(N11=""),AP11-AQ11,"") -> -5 | AT11: =IF(NOT(N11=""),IF(NOT('Teams - Setup'!F12=""),'Teams - Setup'!F12,0),"") -> 0 | AV11: =IF(NOT(N11=""),RANK(P11,P$5:P$16,0),"") -> 7 | AW11: =IF(NOT(N11=""),SUMPRODUCT((P$5:P$16=P11)*(U$5:U$16>U11)),"") -> 0 | AX11: =IF(NOT(N11=""),SUMPRODUCT((P$5:P$16=P11)*(U$5:U$16=U11)*(Z$5:Z$16>Z11)),"") -> 0 | AY11: =IF(NOT(N11=""),SUMPRODUCT((P$5:P$16=P11)*(U$5:U$16=U11)*(Z$5:Z$16=Z11)*(X$5:X$16>X11)),"") -> 0 | AZ11: =IF(NOT(N11=""),SUMPRODUCT((P$5:P$16=P11)*(U$5:U$16=U11)*(Z$5:Z$16=Z11)*(X$5:X$16=X11)*(AT$5:AT$16<AT11)),"") -> 0 | BA11: =IF(NOT(N11=""),SUMPRODUCT((P$5:P$16=P11)*(U$5:U$16=U11)*(Z$5:Z$16=Z11)*(X$5:X$16=X11)*(AT$5:AT$16=AT11)*(AR$5:AR$16>AR11)),"") -> 0 | BB11: =IF(NOT(N11=""),SUMPRODUCT((P$5:P$16=P11)*(U$5:U$16=U11)*(Z$5:Z$16=Z11)*(X$5:X$16=X11)*(AT$5:AT$16=AT11)*(AR$5:AR$16=AR11)*(AP$5:AP$16>AP11)),"") -> 0 | BC11: =IF(NOT(N11=""),SUMPRODUCT((P$5:P$16=P11)*(U$5:U$16=U11)*(Z$5:Z$16=Z11)*(X$5:X$16=X11)*(AT$5:AT$16=AT11)*(AR$5:AR$16=AR11)*(AP$5:AP$16=AP11)*(AI$5:AI$16>AI11)),"") -> 0 | BD11: =IF(NOT(N11=""),SUMPRODUCT((P$5:P$16=P11)*(U$5:U$16=U11)*(Z$5:Z$16=Z11)*(X$5:X$16=X11)*(AT$5:AT$16=AT11)*(AR$5:AR$16=AR11)*(AP$5:AP$16=AP11)*(AI$5:AI$16=AI11)*(AG$5:AG$16>AG11)),"") -> 0 | BE11: =IF(NOT(N11=""),SUMPRODUCT((P$5:P$16=P11)*(U$5:U$16=U11)*(X$5:X$16=X11)*(Z$5:Z$16=Z11)*(AT$5:AT$16=AT11)*(AP$5:AP$16=AP11)*(AR$5:AR$16=AR11)*(AI$5:AI$16=AI11)*(AG$5:AG$16=AG11)*(BF$5:BF$16>BF11)),"") -> 0 | BF11: =IF(NOT(N11=""),IF(NOT('Teams - Setup'!G12=""),'Teams - Setup'!G12,0),"") -> 0 | BH11: =IF(NOT(N11=""),ROW(N11),"") -> 11
B12: Sat | C12: 03/15/2014 | D12: 4:00PM EDT | E12: Philadelphia | F12: 1 | G12: 0 | H12: New England | I12: PPL Park | K12: =IF(AND(NOT(E12=""),NOT(H12="")),IF(AND(NOT(F12=""),NOT(G12="")),1,0),0) -> 1 | M12: =IF(NOT(N12=""),SUM(AV12:BE12),"") -> 8 | N12: =IF(NOT('Teams - Setup'!B13=""),'Teams - Setup'!B13,"") -> Philadelphia | P12: =IF(NOT(N12=""),AB12+AK12,"") -> 14 | R12: =IF(NOT(N12=""),AC12+AL12,"") -> 15 | S12: =IF(NOT(N12=""),IF(R12>0,P12/R12,0),"") -> 0.93333333 | U12: =IF(NOT(N12=""),AD12+AM12,"") -> 3 | V12: =IF(NOT(N12=""),AE12+AN12,"") -> 7 | W12: =IF(NOT(N12=""),AF12+AO12,"") -> 5 | X12: =IF(NOT(N12=""),AG12+AP12,"") -> 19 | Y12: =IF(NOT(N12=""),AH12+AQ12,"") -> 24 | Z12: =IF(NOT(N12=""),X12-Y12,"") -> -5 | AB12: =IF(NOT(N12=""),(AD12*PtsHomeWin)+(AF12*PtsHomeDraw)+(AE12*PtsHomeLoss),"") -> 6 | AC12: =IF(NOT(N12=""),SUMPRODUCT((HomeTeam=N12)*GamePlayed),"") -> 6 | AD12: =IF(NOT(N12=""),SUMPRODUCT((HomeTeam=N12)*(HomeScore>AwayScore)*GamePlayed),"") -> 1 | AE12: =IF(NOT(N12=""),SUMPRODUCT((HomeTeam=N12)*(HomeScore<AwayScore)*GamePlayed),"") -> 2 | AF12: =IF(NOT(N12=""),SUMPRODUCT((HomeTeam=N12)*(HomeScore=AwayScore)*GamePlayed),"") -> 3 | AG12: =IF(NOT(N12=""),SUMPRODUCT((HomeTeam=N12)*HomeScore*GamePlayed),"") -> 7 | AH12: =IF(NOT(N12=""),SUMPRODUCT((HomeTeam=N12)*AwayScore*GamePlayed),"") -> 9 | AI12: =IF(NOT(N12=""),AG12-AH12,"") -> -2 | AK12: =IF(NOT(N12=""),(AM12*PtsAwayWin)+(AO12*PtsAwayDraw)+(AN12*PtsAwayLoss),"") -> 8 | AL12: =IF(NOT(N12=""),SUMPRODUCT((AwayTeam=N12)*GamePlayed),"") -> 9 | AM12: =IF(NOT(N12=""),SUMPRODUCT((AwayTeam=N12)*(AwayScore>HomeScore)*GamePlayed),"") -> 2 | AN12: =IF(NOT(N12=""),SUMPRODUCT((AwayTeam=N12)*(AwayScore<HomeScore)*GamePlayed),"") -> 5 | AO12: =IF(NOT(N12=""),SUMPRODUCT((AwayTeam=N12)*(AwayScore=HomeScore)*GamePlayed),"") -> 2 | AP12: =IF(NOT(N12=""),SUMPRODUCT((AwayTeam=N12)*AwayScore*GamePlayed),"") -> 12 | AQ12: =IF(NOT(N12=""),SUMPRODUCT((AwayTeam=N12)*HomeScore*GamePlayed),"") -> 15 | AR12: =IF(NOT(N12=""),AP12-AQ12,"") -> -3 | AT12: =IF(NOT(N12=""),IF(NOT('Teams - Setup'!F13=""),'Teams - Setup'!F13,0),"") -> 0 | AV12: =IF(NOT(N12=""),RANK(P12,P$5:P$16,0),"") -> 8 | AW12: =IF(NOT(N12=""),SUMPRODUCT((P$5:P$16=P12)*(U$5:U$16>U12)),"") -> 0 | AX12: =IF(NOT(N12=""),SUMPRODUCT((P$5:P$16=P12)*(U$5:U$16=U12)*(Z$5:Z$16>Z12)),"") -> 0 | AY12: =IF(NOT(N12=""),SUMPRODUCT((P$5:P$16=P12)*(U$5:U$16=U12)*(Z$5:Z$16=Z12)*(X$5:X$16>X12)),"") -> 0 | AZ12: =IF(NOT(N12=""),SUMPRODUCT((P$5:P$16=P12)*(U$5:U$16=U12)*(Z$5:Z$16=Z12)*(X$5:X$16=X12)*(AT$5:AT$16<AT12)),"") -> 0 | BA12: =IF(NOT(N12=""),SUMPRODUCT((P$5:P$16=P12)*(U$5:U$16=U12)*(Z$5:Z$16=Z12)*(X$5:X$16=X12)*(AT$5:AT$16=AT12)*(AR$5:AR$16>AR12)),"") -> 0 | BB12: =IF(NOT(N12=""),SUMPRODUCT((P$5:P$16=P12)*(U$5:U$16=U12)*(Z$5:Z$16=Z12)*(X$5:X$16=X12)*(AT$5:AT$16=AT12)*(AR$5:AR$16=AR12)*(AP$5:AP$16>AP12)),"") -> 0 | BC12: =IF(NOT(N12=""),SUMPRODUCT((P$5:P$16=P12)*(U$5:U$16=U12)*(Z$5:Z$16=Z12)*(X$5:X$16=X12)*(AT$5:AT$16=AT12)*(AR$5:AR$16=AR12)*(AP$5:AP$16=AP12)*(AI$5:AI$16>AI12)),"") -> 0 | BD12: =IF(NOT(N12=""),SUMPRODUCT((P$5:P$16=P12)*(U$5:U$16=U12)*(Z$5:Z$16=Z12)*(X$5:X$16=X12)*(AT$5:AT$16=AT12)*(AR$5:AR$16=AR12)*(AP$5:AP$16=AP12)*(AI$5:AI$16=AI12)*(AG$5:AG$16>AG12)),"") -> 0 | BE12: =IF(NOT(N12=""),SUMPRODUCT((P$5:P$16=P12)*(U$5:U$16=U12)*(X$5:X$16=X12)*(Z$5:Z$16=Z12)*(AT$5:AT$16=AT12)*(AP$5:AP$16=AP12)*(AR$5:AR$16=AR12)*(AI$5:AI$16=AI12)*(AG$5:AG$16=AG12)*(BF$5:BF$16>BF12)),"") -> 0 | BF12: =IF(NOT(N12=""),IF(NOT('Teams - Setup'!G13=""),'Teams - Setup'!G13,0),"") -> 0 | BH12: =IF(NOT(N12=""),ROW(N12),"") -> 12
B13: Sat | C13: 03/15/2014 | D13: 4:00PM EDT | E13: New York | F13: 1 | G13: 1 | H13: Colorado | I13: Red Bull Arena | K13: =IF(AND(NOT(E13=""),NOT(H13="")),IF(AND(NOT(F13=""),NOT(G13="")),1,0),0) -> 1 | M13: =IF(NOT(N13=""),SUM(AV13:BE13),"") -> 3 | N13: =IF(NOT('Teams - Setup'!B14=""),'Teams - Setup'!B14,"") -> Sporting KC | P13: =IF(NOT(N13=""),AB13+AK13,"") -> 19 | R13: =IF(NOT(N13=""),AC13+AL13,"") -> 14 | S13: =IF(NOT(N13=""),IF(R13>0,P13/R13,0),"") -> 1.3571429 | U13: =IF(NOT(N13=""),AD13+AM13,"") -> 5 | V13: =IF(NOT(N13=""),AE13+AN13,"") -> 5 | W13: =IF(NOT(N13=""),AF13+AO13,"") -> 4 | X13: =IF(NOT(N13=""),AG13+AP13,"") -> 19 | Y13: =IF(NOT(N13=""),AH13+AQ13,"") -> 14 | Z13: =IF(NOT(N13=""),X13-Y13,"") -> 5 | AB13: =IF(NOT(N13=""),(AD13*PtsHomeWin)+(AF13*PtsHomeDraw)+(AE13*PtsHomeLoss),"") -> 13 | AC13: =IF(NOT(N13=""),SUMPRODUCT((HomeTeam=N13)*GamePlayed),"") -> 8 | AD13: =IF(NOT(N13=""),SUMPRODUCT((HomeTeam=N13)*(HomeScore>AwayScore)*GamePlayed),"") -> 3 | AE13: =IF(NOT(N13=""),SUMPRODUCT((HomeTeam=N13)*(HomeScore<AwayScore)*GamePlayed),"") -> 1 | AF13: =IF(NOT(N13=""),SUMPRODUCT((HomeTeam=N13)*(HomeScore=AwayScore)*GamePlayed),"") -> 4 | AG13: =IF(NOT(N13=""),SUMPRODUCT((HomeTeam=N13)*HomeScore*GamePlayed),"") -> 12 | AH13: =IF(NOT(N13=""),SUMPRODUCT((HomeTeam=N13)*AwayScore*GamePlayed),"") -> 6 | AI13: =IF(NOT(N13=""),AG13-AH13,"") -> 6 | AK13: =IF(NOT(N13=""),(AM13*PtsAwayWin)+(AO13*PtsAwayDraw)+(AN13*PtsAwayLoss),"") -> 6 | AL13: =IF(NOT(N13=""),SUMPRODUCT((AwayTeam=N13)*GamePlayed),"") -> 6 | AM13: =IF(NOT(N13=""),SUMPRODUCT((AwayTeam=N13)*(AwayScore>HomeScore)*GamePlayed),"") -> 2 | AN13: =IF(NOT(N13=""),SUMPRODUCT((AwayTeam=N13)*(AwayScore<HomeScore)*GamePlayed),"") -> 4 | AO13: =IF(NOT(N13=""),SUMPRODUCT((AwayTeam=N13)*(AwayScore=HomeScore)*GamePlayed),"") -> 0 | AP13: =IF(NOT(N13=""),SUMPRODUCT((AwayTeam=N13)*AwayScore*GamePlayed),"") -> 7 | AQ13: =IF(NOT(N13=""),SUMPRODUCT((AwayTeam=N13)*HomeScore*GamePlayed),"") -> 8 | AR13: =IF(NOT(N13=""),AP13-AQ13,"") -> -1 | AT13: =IF(NOT(N13=""),IF(NOT('Teams - Setup'!F14=""),'Teams - Setup'!F14,0),"") -> 0 | AV13: =IF(NOT(N13=""),RANK(P13,P$5:P$16,0),"") -> 3 | AW13: =IF(NOT(N13=""),SUMPRODUCT((P$5:P$16=P13)*(U$5:U$16>U13)),"") -> 0 | AX13: =IF(NOT(N13=""),SUMPRODUCT((P$5:P$16=P13)*(U$5:U$16=U13)*(Z$5:Z$16>Z13)),"") -> 0 | AY13: =IF(NOT(N13=""),SUMPRODUCT((P$5:P$16=P13)*(U$5:U$16=U13)*(Z$5:Z$16=Z13)*(X$5:X$16>X13)),"") -> 0 | AZ13: =IF(NOT(N13=""),SUMPRODUCT((P$5:P$16=P13)*(U$5:U$16=U13)*(Z$5:Z$16=Z13)*(X$5:X$16=X13)*(AT$5:AT$16<AT13)),"") -> 0 | BA13: =IF(NOT(N13=""),SUMPRODUCT((P$5:P$16=P13)*(U$5:U$16=U13)*(Z$5:Z$16=Z13)*(X$5:X$16=X13)*(AT$5:AT$16=AT13)*(AR$5:AR$16>AR13)),"") -> 0 | BB13: =IF(NOT(N13=""),SUMPRODUCT((P$5:P$16=P13)*(U$5:U$16=U13)*(Z$5:Z$16=Z13)*(X$5:X$16=X13)*(AT$5:AT$16=AT13)*(AR$5:AR$16=AR13)*(AP$5:AP$16>AP13)),"") -> 0 | BC13: =IF(NOT(N13=""),SUMPRODUCT((P$5:P$16=P13)*(U$5:U$16=U13)*(Z$5:Z$16=Z13)*(X$5:X$16=X13)*(AT$5:AT$16=AT13)*(AR$5:AR$16=AR13)*(AP$5:AP$16=AP13)*(AI$5:AI$16>AI13)),"") -> 0 | BD13: =IF(NOT(N13=""),SUMPRODUCT((P$5:P$16=P13)*(U$5:U$16=U13)*(Z$5:Z$16=Z13)*(X$5:X$16=X13)*(AT$5:AT$16=AT13)*(AR$5:AR$16=AR13)*(AP$5:AP$16=AP13)*(AI$5:AI$16=AI13)*(AG$5:AG$16>AG13)),"") -> 0 | BE13: =IF(NOT(N13=""),SUMPRODUCT((P$5:P$16=P13)*(U$5:U$16=U13)*(X$5:X$16=X13)*(Z$5:Z$16=Z13)*(AT$5:AT$16=AT13)*(AP$5:AP$16=AP13)*(AR$5:AR$16=AR13)*(AI$5:AI$16=AI13)*(AG$5:AG$16=AG13)*(BF$5:BF$16>BF13)),"") -> 0 | BF13: =IF(NOT(N13=""),IF(NOT('Teams - Setup'!G14=""),'Teams - Setup'!G14,0),"") -> 0 | BH13: =IF(NOT(N13=""),ROW(N13),"") -> 13
B14: Sat | C14: 03/15/2014 | D14: 4:30PM EDT | E14: Seattle | F14: 1 | G14: 2 | H14: Toronto FC | I14: CenturyLink Field | K14: =IF(AND(NOT(E14=""),NOT(H14="")),IF(AND(NOT(F14=""),NOT(G14="")),1,0),0) -> 1 | M14: =IF(NOT(N14=""),SUM(AV14:BE14),"") -> 6 | N14: =IF(NOT('Teams - Setup'!B15=""),'Teams - Setup'!B15,"") -> Toronto FC | P14: =IF(NOT(N14=""),AB14+AK14,"") -> 16 | R14: =IF(NOT(N14=""),AC14+AL14,"") -> 10 | S14: =IF(NOT(N14=""),IF(R14>0,P14/R14,0),"") -> 1.6 | U14: =IF(NOT(N14=""),AD14+AM14,"") -> 5 | V14: =IF(NOT(N14=""),AE14+AN14,"") -> 4 | W14: =IF(NOT(N14=""),AF14+AO14,"") -> 1 | X14: =IF(NOT(N14=""),AG14+AP14,"") -> 14 | Y14: =IF(NOT(N14=""),AH14+AQ14,"") -> 13 | Z14: =IF(NOT(N14=""),X14-Y14,"") -> 1 | AB14: =IF(NOT(N14=""),(AD14*PtsHomeWin)+(AF14*PtsHomeDraw)+(AE14*PtsHomeLoss),"") -> 9 | AC14: =IF(NOT(N14=""),SUMPRODUCT((HomeTeam=N14)*GamePlayed),"") -> 5 | AD14: =IF(NOT(N14=""),SUMPRODUCT((HomeTeam=N14)*(HomeScore>AwayScore)*GamePlayed),"") -> 3 | AE14: =IF(NOT(N14=""),SUMPRODUCT((HomeTeam=N14)*(HomeScore<AwayScore)*GamePlayed),"") -> 2 | AF14: =IF(NOT(N14=""),SUMPRODUCT((HomeTeam=N14)*(HomeScore=AwayScore)*GamePlayed),"") -> 0 | AG14: =IF(NOT(N14=""),SUMPRODUCT((HomeTeam=N14)*HomeScore*GamePlayed),"") -> 7 | AH14: =IF(NOT(N14=""),SUMPRODUCT((HomeTeam=N14)*AwayScore*GamePlayed),"") -> 5 | AI14: =IF(NOT(N14=""),AG14-AH14,"") -> 2 | AK14: =IF(NOT(N14=""),(AM14*PtsAwayWin)+(AO14*PtsAwayDraw)+(AN14*PtsAwayLoss),"") -> 7 | AL14: =IF(NOT(N14=""),SUMPRODUCT((AwayTeam=N14)*GamePlayed),"") -> 5 | AM14: =IF(NOT(N14=""),SUMPRODUCT((AwayTeam=N14)*(AwayScore>HomeScore)*GamePlayed),"") -> 2 | AN14: =IF(NOT(N14=""),SUMPRODUCT((AwayTeam=N14)*(AwayScore<HomeScore)*GamePlayed),"") -> 2 | AO14: =IF(NOT(N14=""),SUMPRODUCT((AwayTeam=N14)*(AwayScore=HomeScore)*GamePlayed),"") -> 1 | AP14: =IF(NOT(N14=""),SUMPRODUCT((AwayTeam=N14)*AwayScore*GamePlayed),"") -> 7 | AQ14: =IF(NOT(N14=""),SUMPRODUCT((AwayTeam=N14)*HomeScore*GamePlayed),"") -> 8 | AR14: =IF(NOT(N14=""),AP14-AQ14,"") -> -1 | AT14: =IF(NOT(N14=""),IF(NOT('Teams - Setup'!F15=""),'Teams - Setup'!F15,0),"") -> 0 | AV14: =IF(NOT(N14=""),RANK(P14,P$5:P$16,0),"") -> 6 | AW14: =IF(NOT(N14=""),SUMPRODUCT((P$5:P$16=P14)*(U$5:U$16>U14)),"") -> 0 | AX14: =IF(NOT(N14=""),SUMPRODUCT((P$5:P$16=P14)*(U$5:U$16=U14)*(Z$5:Z$16>Z14)),"") -> 0 | AY14: =IF(NOT(N14=""),SUMPRODUCT((P$5:P$16=P14)*(U$5:U$16=U14)*(Z$5:Z$16=Z14)*(X$5:X$16>X14)),"") -> 0 | AZ14: =IF(NOT(N14=""),SUMPRODUCT((P$5:P$16=P14)*(U$5:U$16=U14)*(Z$5:Z$16=Z14)*(X$5:X$16=X14)*(AT$5:AT$16<AT14)),"") -> 0 | BA14: =IF(NOT(N14=""),SUMPRODUCT((P$5:P$16=P14)*(U$5:U$16=U14)*(Z$5:Z$16=Z14)*(X$5:X$16=X14)*(AT$5:AT$16=AT14)*(AR$5:AR$16>AR14)),"") -> 0 | BB14: =IF(NOT(N14=""),SUMPRODUCT((P$5:P$16=P14)*(U$5:U$16=U14)*(Z$5:Z$16=Z14)*(X$5:X$16=X14)*(AT$5:AT$16=AT14)*(AR$5:AR$16=AR14)*(AP$5:AP$16>AP14)),"") -> 0 | BC14: =IF(NOT(N14=""),SUMPRODUCT((P$5:P$16=P14)*(U$5:U$16=U14)*(Z$5:Z$16=Z14)*(X$5:X$16=X14)*(AT$5:AT$16=AT14)*(AR$5:AR$16=AR14)*(AP$5:AP$16=AP14)*(AI$5:AI$16>AI14)),"") -> 0 | BD14: =IF(NOT(N14=""),SUMPRODUCT((P$5:P$16=P14)*(U$5:U$16=U14)*(Z$5:Z$16=Z14)*(X$5:X$16=X14)*(AT$5:AT$16=AT14)*(AR$5:AR$16=AR14)*(AP$5:AP$16=AP14)*(AI$5:AI$16=AI14)*(AG$5:AG$16>AG14)),"") -> 0 | BE14: =IF(NOT(N14=""),SUMPRODUCT((P$5:P$16=P14)*(U$5:U$16=U14)*(X$5:X$16=X14)*(Z$5:Z$16=Z14)*(AT$5:AT$16=AT14)*(AP$5:AP$16=AP14)*(AR$5:AR$16=AR14)*(AI$5:AI$16=AI14)*(AG$5:AG$16=AG14)*(BF$5:BF$16>BF14)),"") -> 0 | BF14: =IF(NOT(N14=""),IF(NOT('Teams - Setup'!G15=""),'Teams - Setup'!G15,0),"") -> 0 | BH14: =IF(NOT(N14=""),ROW(N14),"") -> 14
B15: Sat | C15: 03/15/2014 | D15: 8:30PM EDT | E15: Houston | F15: 1 | G15: 0 | H15: Montreal | I15: BBVA Compass Stadium | K15: =IF(AND(NOT(E15=""),NOT(H15="")),IF(AND(NOT(F15=""),NOT(G15="")),1,0),0) -> 1 | M15: =IF(NOT(N15=""),SUM(AV15:BE15),"") | N15: =IF(NOT('Teams - Setup'!B16=""),'Teams - Setup'!B16,"") | P15: =IF(NOT(N15=""),AB15+AK15,"") | R15: =IF(NOT(N15=""),AC15+AL15,"") | S15: =IF(NOT(N15=""),IF(R15>0,P15/R15,0),"") | U15: =IF(NOT(N15=""),AD15+AM15,"") | V15: =IF(NOT(N15=""),AE15+AN15,"") | W15: =IF(NOT(N15=""),AF15+AO15,"") | X15: =IF(NOT(N15=""),AG15+AP15,"") | Y15: =IF(NOT(N15=""),AH15+AQ15,"") | Z15: =IF(NOT(N15=""),X15-Y15,"") | AB15: =IF(NOT(N15=""),(AD15*PtsHomeWin)+(AF15*PtsHomeDraw)+(AE15*PtsHomeLoss),"") | AC15: =IF(NOT(N15=""),SUMPRODUCT((HomeTeam=N15)*GamePlayed),"") | AD15: =IF(NOT(N15=""),SUMPRODUCT((HomeTeam=N15)*(HomeScore>AwayScore)*GamePlayed),"") | AE15: =IF(NOT(N15=""),SUMPRODUCT((HomeTeam=N15)*(HomeScore<AwayScore)*GamePlayed),"") | AF15: =IF(NOT(N15=""),SUMPRODUCT((HomeTeam=N15)*(HomeScore=AwayScore)*GamePlayed),"") | AG15: =IF(NOT(N15=""),SUMPRODUCT((HomeTeam=N15)*HomeScore*GamePlayed),"") | AH15: =IF(NOT(N15=""),SUMPRODUCT((HomeTeam=N15)*AwayScore*GamePlayed),"") | AI15: =IF(NOT(N15=""),AG15-AH15,"") | AK15: =IF(NOT(N15=""),(AM15*PtsAwayWin)+(AO15*PtsAwayDraw)+(AN15*PtsAwayLoss),"") | AL15: =IF(NOT(N15=""),SUMPRODUCT((AwayTeam=N15)*GamePlayed),"") | AM15: =IF(NOT(N15=""),SUMPRODUCT((AwayTeam=N15)*(AwayScore>HomeScore)*GamePlayed),"") | AN15: =IF(NOT(N15=""),SUMPRODUCT((AwayTeam=N15)*(AwayScore<HomeScore)*GamePlayed),"") | AO15: =IF(NOT(N15=""),SUMPRODUCT((AwayTeam=N15)*(AwayScore=HomeScore)*GamePlayed),"") | AP15: =IF(NOT(N15=""),SUMPRODUCT((AwayTeam=N15)*AwayScore*GamePlayed),"") | AQ15: =IF(NOT(N15=""),SUMPRODUCT((AwayTeam=N15)*HomeScore*GamePlayed),"") | AR15: =IF(NOT(N15=""),AP15-AQ15,"") | AT15: =IF(NOT(N15=""),IF(NOT('Teams - Setup'!F16=""),'Teams - Setup'!F16,0),"") | AV15: =IF(NOT(N15=""),RANK(P15,P$5:P$16,0),"") | AW15: =IF(NOT(N15=""),SUMPRODUCT((P$5:P$16=P15)*(U$5:U$16>U15)),"") | AX15: =IF(NOT(N15=""),SUMPRODUCT((P$5:P$16=P15)*(U$5:U$16=U15)*(Z$5:Z$16>Z15)),"") | AY15: =IF(NOT(N15=""),SUMPRODUCT((P$5:P$16=P15)*(U$5:U$16=U15)*(Z$5:Z$16=Z15)*(X$5:X$16>X15)),"") | AZ15: =IF(NOT(N15=""),SUMPRODUCT((P$5:P$16=P15)*(U$5:U$16=U15)*(Z$5:Z$16=Z15)*(X$5:X$16=X15)*(AT$5:AT$16<AT15)),"") | BA15: =IF(NOT(N15=""),SUMPRODUCT((P$5:P$16=P15)*(U$5:U$16=U15)*(Z$5:Z$16=Z15)*(X$5:X$16=X15)*(AT$5:AT$16=AT15)*(AR$5:AR$16>AR15)),"") | BB15: =IF(NOT(N15=""),SUMPRODUCT((P$5:P$16=P15)*(U$5:U$16=U15)*(Z$5:Z$16=Z15)*(X$5:X$16=X15)*(AT$5:AT$16=AT15)*(AR$5:AR$16=AR15)*(AP$5:AP$16>AP15)),"") | BC15: =IF(NOT(N15=""),SUMPRODUCT((P$5:P$16=P15)*(U$5:U$16=U15)*(Z$5:Z$16=Z15)*(X$5:X$16=X15)*(AT$5:AT$16=AT15)*(AR$5:AR$16=AR15)*(AP$5:AP$16=AP15)*(AI$5:AI$16>AI15)),"") | BD15: =IF(NOT(N15=""),SUMPRODUCT((P$5:P$16=P15)*(U$5:U$16=U15)*(Z$5:Z$16=Z15)*(X$5:X$16=X15)*(AT$5:AT$16=AT15)*(AR$5:AR$16=AR15)*(AP$5:AP$16=AP15)*(AI$5:AI$16=AI15)*(AG$5:AG$16>AG15)),"") | BE15: =IF(NOT(N15=""),SUMPRODUCT((P$5:P$16=P15)*(U$5:U$16=U15)*(X$5:X$16=X15)*(Z$5:Z$16=Z15)*(AT$5:AT$16=AT15)*(AP$5:AP$16=AP15)*(AR$5:AR$16=AR15)*(AI$5:AI$16=AI15)*(AG$5:AG$16=AG15)*(BF$5:BF$16>BF15)),"") | BF15: =IF(NOT(N15=""),IF(NOT('Teams - Setup'!G16=""),'Teams - Setup'!G16,0),"") | BH15: =IF(NOT(N15=""),ROW(N15),"")
B16: Sat | C16: 03/15/2014 | D16: 8:30PM EDT | E16: Sporting KC | F16: 1 | G16: 1 | H16: FC Dallas | I16: Sporting Park | K16: =IF(AND(NOT(E16=""),NOT(H16="")),IF(AND(NOT(F16=""),NOT(G16="")),1,0),0) -> 1 | M16: =IF(NOT(N16=""),SUM(AV16:BE16),"") | N16: =IF(NOT('Teams - Setup'!B17=""),'Teams - Setup'!B17,"") | P16: =IF(NOT(N16=""),AB16+AK16,"") | R16: =IF(NOT(N16=""),AC16+AL16,"") | S16: =IF(NOT(N16=""),IF(R16>0,P16/R16,0),"") | U16: =IF(NOT(N16=""),AD16+AM16,"") | V16: =IF(NOT(N16=""),AE16+AN16,"") | W16: =IF(NOT(N16=""),AF16+AO16,"") | X16: =IF(NOT(N16=""),AG16+AP16,"") | Y16: =IF(NOT(N16=""),AH16+AQ16,"") | Z16: =IF(NOT(N16=""),X16-Y16,"") | AB16: =IF(NOT(N16=""),(AD16*PtsHomeWin)+(AF16*PtsHomeDraw)+(AE16*PtsHomeLoss),"") | AC16: =IF(NOT(N16=""),SUMPRODUCT((HomeTeam=N16)*GamePlayed),"") | AD16: =IF(NOT(N16=""),SUMPRODUCT((HomeTeam=N16)*(HomeScore>AwayScore)*GamePlayed),"") | AE16: =IF(NOT(N16=""),SUMPRODUCT((HomeTeam=N16)*(HomeScore<AwayScore)*GamePlayed),"") | AF16: =IF(NOT(N16=""),SUMPRODUCT((HomeTeam=N16)*(HomeScore=AwayScore)*GamePlayed),"") | AG16: =IF(NOT(N16=""),SUMPRODUCT((HomeTeam=N16)*HomeScore*GamePlayed),"") | AH16: =IF(NOT(N16=""),SUMPRODUCT((HomeTeam=N16)*AwayScore*GamePlayed),"") | AI16: =IF(NOT(N16=""),AG16-AH16,"") | AK16: =IF(NOT(N16=""),(AM16*PtsAwayWin)+(AO16*PtsAwayDraw)+(AN16*PtsAwayLoss),"") | AL16: =IF(NOT(N16=""),SUMPRODUCT((AwayTeam=N16)*GamePlayed),"") | AM16: =IF(NOT(N16=""),SUMPRODUCT((AwayTeam=N16)*(AwayScore>HomeScore)*GamePlayed),"") | AN16: =IF(NOT(N16=""),SUMPRODUCT((AwayTeam=N16)*(AwayScore<HomeScore)*GamePlayed),"") | AO16: =IF(NOT(N16=""),SUMPRODUCT((AwayTeam=N16)*(AwayScore=HomeScore)*GamePlayed),"") | AP16: =IF(NOT(N16=""),SUMPRODUCT((AwayTeam=N16)*AwayScore*GamePlayed),"") | AQ16: =IF(NOT(N16=""),SUMPRODUCT((AwayTeam=N16)*HomeScore*GamePlayed),"") | AR16: =IF(NOT(N16=""),AP16-AQ16,"") | AT16: =IF(NOT(N16=""),IF(NOT('Teams - Setup'!F17=""),'Teams - Setup'!F17,0),"") | AV16: =IF(NOT(N16=""),RANK(P16,P$5:P$16,0),"") | AW16: =IF(NOT(N16=""),SUMPRODUCT((P$5:P$16=P16)*(U$5:U$16>U16)),"") | AX16: =IF(NOT(N16=""),SUMPRODUCT((P$5:P$16=P16)*(U$5:U$16=U16)*(Z$5:Z$16>Z16)),"") | AY16: =IF(NOT(N16=""),SUMPRODUCT((P$5:P$16=P16)*(U$5:U$16=U16)*(Z$5:Z$16=Z16)*(X$5:X$16>X16)),"") | AZ16: =IF(NOT(N16=""),SUMPRODUCT((P$5:P$16=P16)*(U$5:U$16=U16)*(Z$5:Z$16=Z16)*(X$5:X$16=X16)*(AT$5:AT$16<AT16)),"") | BA16: =IF(NOT(N16=""),SUMPRODUCT((P$5:P$16=P16)*(U$5:U$16=U16)*(Z$5:Z$16=Z16)*(X$5:X$16=X16)*(AT$5:AT$16=AT16)*(AR$5:AR$16>AR16)),"") | BB16: =IF(NOT(N16=""),SUMPRODUCT((P$5:P$16=P16)*(U$5:U$16=U16)*(Z$5:Z$16=Z16)*(X$5:X$16=X16)*(AT$5:AT$16=AT16)*(AR$5:AR$16=AR16)*(AP$5:AP$16>AP16)),"") | BC16: =IF(NOT(N16=""),SUMPRODUCT((P$5:P$16=P16)*(U$5:U$16=U16)*(Z$5:Z$16=Z16)*(X$5:X$16=X16)*(AT$5:AT$16=AT16)*(AR$5:AR$16=AR16)*(AP$5:AP$16=AP16)*(AI$5:AI$16>AI16)),"") | BD16: =IF(NOT(N16=""),SUMPRODUCT((P$5:P$16=P16)*(U$5:U$16=U16)*(Z$5:Z$16=Z16)*(X$5:X$16=X16)*(AT$5:AT$16=AT16)*(AR$5:AR$16=AR16)*(AP$5:AP$16=AP16)*(AI$5:AI$16=AI16)*(AG$5:AG$16>AG16)),"") | BE16: =IF(NOT(N16=""),SUMPRODUCT((P$5:P$16=P16)*(U$5:U$16=U16)*(X$5:X$16=X16)*(Z$5:Z$16=Z16)*(AT$5:AT$16=AT16)*(AP$5:AP$16=AP16)*(AR$5:AR$16=AR16)*(AI$5:AI$16=AI16)*(AG$5:AG$16=AG16)*(BF$5:BF$16>BF16)),"") | BF16: =IF(NOT(N16=""),IF(NOT('Teams - Setup'!G17=""),'Teams - Setup'!G17,0),"") | BH16: =IF(NOT(N16=""),ROW(N16),"")
B17: Sat | C17: 03/15/2014 | D17: 10:30PM EDT | E17: San Jose | F17: 3 | G17: 3 | H17: Real Salt Lake | I17: Buck Shaw Stadium | K17: =IF(AND(NOT(E17=""),NOT(H17="")),IF(AND(NOT(F17=""),NOT(G17="")),1,0),0) -> 1
B18: Sun | C18: 03/16/2014 | D18: 3:00PM EDT | E18: Portland | F18: 1 | G18: 1 | H18: Chicago | I18: Providence Park | K18: =IF(AND(NOT(E18=""),NOT(H18="")),IF(AND(NOT(F18=""),NOT(G18="")),1,0),0) -> 1 | M18: =IF(NOT('Teams - Setup'!B19=""),'Teams - Setup'!B19,"") -> Western Conference
B19: Sun | C19: 03/16/2014 | D19: 7:00PM EDT | E19: Chivas USA | F19: 1 | G19: 1 | H19: Vancouver | I19: StubHub Center | K19: =IF(AND(NOT(E19=""),NOT(H19="")),IF(AND(NOT(F19=""),NOT(G19="")),1,0),0) -> 1 | M19: POS | N19: TEAM | P19: PTS | R19: GP | S19: PPG | U19: W | V19: L | W19: T | X19: GF | Y19: GA | Z19: GD | AC19: HGP | AD19: HW | AE19: HL | AF19: HT | AG19: HGF | AH19: HGA | AI19: HGD | AL19: AGP | AM19: AW | AN19: AL | AO19: AT | AP19: AGF | AQ19: AGA | AR19: AGD | AT19: DP | AV19: PTS | AW19: W | AX19: GF | AY19: GD | AZ19: DP | BA19: AGF | BB19: AGD | BC19: HGF | BD19: HGD | BE19: SORT | BF19: LOTS | BH19: ROW
B20: Sat | C20: 03/22/2014 | D20: 2:00PM EDT | E20: New England | F20: 0 | G20: 0 | H20: Vancouver | I20: Gillette Stadium | K20: =IF(AND(NOT(E20=""),NOT(H20="")),IF(AND(NOT(F20=""),NOT(G20="")),1,0),0) -> 1 | M20: =IF(NOT(N20=""),SUM(AV20:BE20),"") -> 9 | N20: =IF(NOT('Teams - Setup'!B21=""),'Teams - Setup'!B21,"") -> Chivas USA | P20: =IF(NOT(N20=""),AB20+AK20,"") -> 10 | R20: =IF(NOT(N20=""),AC20+AL20,"") -> 13 | S20: =IF(NOT(N20=""),IF(R20>0,P20/R20,0),"") -> 0.76923077 | U20: =IF(NOT(N20=""),AD20+AM20,"") -> 2 | V20: =IF(NOT(N20=""),AE20+AN20,"") -> 7 | W20: =IF(NOT(N20=""),AF20+AO20,"") -> 4 | X20: =IF(NOT(N20=""),AG20+AP20,"") -> 13 | Y20: =IF(NOT(N20=""),AH20+AQ20,"") -> 25 | Z20: =IF(NOT(N20=""),X20-Y20,"") -> -12 | AB20: =IF(NOT(N20=""),(AD20*PtsHomeWin)+(AF20*PtsHomeDraw)+(AE20*PtsHomeLoss),"") -> 4 | AC20: =IF(NOT(N20=""),SUMPRODUCT((HomeTeam=N20)*GamePlayed),"") -> 7 | AD20: =IF(NOT(N20=""),SUMPRODUCT((HomeTeam=N20)*(HomeScore>AwayScore)*GamePlayed),"") -> 1 | AE20: =IF(NOT(N20=""),SUMPRODUCT((HomeTeam=N20)*(HomeScore<AwayScore)*GamePlayed),"") -> 5 | AF20: =IF(NOT(N20=""),SUMPRODUCT((HomeTeam=N20)*(HomeScore=AwayScore)*GamePlayed),"") -> 1 | AG20: =IF(NOT(N20=""),SUMPRODUCT((HomeTeam=N20)*HomeScore*GamePlayed),"") -> 6 | AH20: =IF(NOT(N20=""),SUMPRODUCT((HomeTeam=N20)*AwayScore*GamePlayed),"") -> 17 | AI20: =IF(NOT(N20=""),AG20-AH20,"") -> -11 | AK20: =IF(NOT(N20=""),(AM20*PtsAwayWin)+(AO20*PtsAwayDraw)+(AN20*PtsAwayLoss),"") -> 6 | AL20: =IF(NOT(N20=""),SUMPRODUCT((AwayTeam=N20)*GamePlayed),"") -> 6 | AM20: =IF(NOT(N20=""),SUMPRODUCT((AwayTeam=N20)*(AwayScore>HomeScore)*GamePlayed),"") -> 1 | AN20: =IF(NOT(N20=""),SUMPRODUCT((AwayTeam=N20)*(AwayScore<HomeScore)*GamePlayed),"") -> 2 | AO20: =IF(NOT(N20=""),SUMPRODUCT((AwayTeam=N20)*(AwayScore=HomeScore)*GamePlayed),"") -> 3 | AP20: =IF(NOT(N20=""),SUMPRODUCT((AwayTeam=N20)*AwayScore*GamePlayed),"") -> 7 | AQ20: =IF(NOT(N20=""),SUMPRODUCT((AwayTeam=N20)*HomeScore*GamePlayed),"") -> 8 | AR20: =IF(NOT(N20=""),AP20-AQ20,"") -> -1 | AT20: =IF(NOT(N20=""),IF(NOT('Teams - Setup'!F21=""),'Teams - Setup'!F21,0),"") -> 0 | AV20: =IF(NOT(N20=""),RANK(P20,P$20:P$31,0),"") -> 9 | AW20: =IF(NOT(N20=""),SUMPRODUCT((P$20:P$31=P20)*(U$20:U$31>U20)),"") -> 0 | AX20: =IF(NOT(N20=""),SUMPRODUCT((P$20:P$31=P20)*(U$20:U$31=U20)*(Z$20:Z$31>Z20)),"") -> 0 | AY20: =IF(NOT(N20=""),SUMPRODUCT((P$20:P$31=P20)*(U$20:U$31=U20)*(Z$20:Z$31=Z20)*(X$20:X$31>X20)),"") -> 0 | AZ20: =IF(NOT(N20=""),SUMPRODUCT((P$20:P$31=P20)*(U$20:U$31=U20)*(Z$20:Z$31=Z20)*(X$20:X$31=X20)*(AT$20:AT$31<AT20)),"") -> 0 | BA20: =IF(NOT(N20=""),SUMPRODUCT((P$20:P$31=P20)*(U$20:U$31=U20)*(Z$20:Z$31=Z20)*(X$20:X$31=X20)*(AT$20:AT$31=AT20)*(AR$20:AR$31>AR20)),"") -> 0 | BB20: =IF(NOT(N20=""),SUMPRODUCT((P$20:P$31=P20)*(U$20:U$31=U20)*(Z$20:Z$31=Z20)*(X$20:X$31=X20)*(AT$20:AT$31=AT20)*(AR$20:AR$31=AR20)*(AP$20:AP$31>AP20)),"") -> 0 | BC20: =IF(NOT(N20=""),SUMPRODUCT((P$20:P$31=P20)*(U$20:U$31=U20)*(Z$20:Z$31=Z20)*(X$20:X$31=X20)*(AT$20:AT$31=AT20)*(AR$20:AR$31=AR20)*(AP$20:AP$31=AP20)*(AI$20:AI$31>AI20)),"") -> 0 | BD20: =IF(NOT(N20=""),SUMPRODUCT((P$20:P$31=P20)*(U$20:U$31=U20)*(Z$20:Z$31=Z20)*(X$20:X$31=X20)*(AT$20:AT$31=AT20)*(AR$20:AR$31=AR20)*(AP$20:AP$31=AP20)*(AI$20:AI$31=AI20)*(AG$20:AG$31>AG20)),"") -> 0 | BE20: =IF(NOT(N20=""),SUMPRODUCT((P$20:P$31=P20)*(U$20:U$31=U20)*(X$20:X$31=X20)*(Z$20:Z$31=Z20)*(AT$20:AT$31=AT20)*(AP$20:AP$31=AP20)*(AR$20:AR$31=AR20)*(AI$20:AI$31=AI20)*(AG$20:AG$31=AG20)*(BF$20:BF$31>BF20)),"") -> 0 | BF20: =IF(NOT(N20=""),IF(NOT('Teams - Setup'!G21=""),'Teams - Setup'!G21,0),"") -> 0 | BH20: =IF(NOT(N20=""),ROW(N20),"") -> 20
B21: Sat | C21: 03/22/2014 | D21: 4:00PM EDT | E21: Real Salt Lake | F21: 1 | G21: 1 | H21: LA Galaxy | I21: Rio Tinto Stadium | K21: =IF(AND(NOT(E21=""),NOT(H21="")),IF(AND(NOT(F21=""),NOT(G21="")),1,0),0) -> 1 | M21: =IF(NOT(N21=""),SUM(AV21:BE21),"") -> 3 | N21: =IF(NOT('Teams - Setup'!B22=""),'Teams - Setup'!B22,"") -> Colorado | P21: =IF(NOT(N21=""),AB21+AK21,"") -> 22 | R21: =IF(NOT(N21=""),AC21+AL21,"") -> 14 | S21: =IF(NOT(N21=""),IF(R21>0,P21/R21,0),"") -> 1.5714286 | U21: =IF(NOT(N21=""),AD21+AM21,"") -> 6 | V21: =IF(NOT(N21=""),AE21+AN21,"") -> 4 | W21: =IF(NOT(N21=""),AF21+AO21,"") -> 4 | X21: =IF(NOT(N21=""),AG21+AP21,"") -> 19 | Y21: =IF(NOT(N21=""),AH21+AQ21,"") -> 15 | Z21: =IF(NOT(N21=""),X21-Y21,"") -> 4 | AB21: =IF(NOT(N21=""),(AD21*PtsHomeWin)+(AF21*PtsHomeDraw)+(AE21*PtsHomeLoss),"") -> 14 | AC21: =IF(NOT(N21=""),SUMPRODUCT((HomeTeam=N21)*GamePlayed),"") -> 8 | AD21: =IF(NOT(N21=""),SUMPRODUCT((HomeTeam=N21)*(HomeScore>AwayScore)*GamePlayed),"") -> 4 | AE21: =IF(NOT(N21=""),SUMPRODUCT((HomeTeam=N21)*(HomeScore<AwayScore)*GamePlayed),"") -> 2 | AF21: =IF(NOT(N21=""),SUMPRODUCT((HomeTeam=N21)*(HomeScore=AwayScore)*GamePlayed),"") -> 2 | AG21: =IF(NOT(N21=""),SUMPRODUCT((HomeTeam=N21)*HomeScore*GamePlayed),"") -> 13 | AH21: =IF(NOT(N21=""),SUMPRODUCT((HomeTeam=N21)*AwayScore*GamePlayed),"") -> 7 | AI21: =IF(NOT(N21=""),AG21-AH21,"") -> 6 | AK21: =IF(NOT(N21=""),(AM21*PtsAwayWin)+(AO21*PtsAwayDraw)+(AN21*PtsAwayLoss),"") -> 8 | AL21: =IF(NOT(N21=""),SUMPRODUCT((AwayTeam=N21)*GamePlayed),"") -> 6 | AM21: =IF(NOT(N21=""),SUMPRODUCT((AwayTeam=N21)*(AwayScore>HomeScore)*GamePlayed),"") -> 2 | AN21: =IF(NOT(N21=""),SUMPRODUCT((AwayTeam=N21)*(AwayScore<HomeScore)*GamePlayed),"") -> 2 | AO21: =IF(NOT(N21=""),SUMPRODUCT((AwayTeam=N21)*(AwayScore=HomeScore)*GamePlayed),"") -> 2 | AP21: =IF(NOT(N21=""),SUMPRODUCT((AwayTeam=N21)*AwayScore*GamePlayed),"") -> 6 | AQ21: =IF(NOT(N21=""),SUMPRODUCT((AwayTeam=N21)*HomeScore*GamePlayed),"") -> 8 | AR21: =IF(NOT(N21=""),AP21-AQ21,"") -> -2 | AT21: =IF(NOT(N21=""),IF(NOT('Teams - Setup'!F22=""),'Teams - Setup'!F22,0),"") -> 0 | AV21: =IF(NOT(N21=""),RANK(P21,P$20:P$31,0),"") -> 3 | AW21: =IF(NOT(N21=""),SUMPRODUCT((P$20:P$31=P21)*(U$20:U$31>U21)),"") -> 0 | AX21: =IF(NOT(N21=""),SUMPRODUCT((P$20:P$31=P21)*(U$20:U$31=U21)*(Z$20:Z$31>Z21)),"") -> 0 | AY21: =IF(NOT(N21=""),SUMPRODUCT((P$20:P$31=P21)*(U$20:U$31=U21)*(Z$20:Z$31=Z21)*(X$20:X$31>X21)),"") -> 0 | AZ21: =IF(NOT(N21=""),SUMPRODUCT((P$20:P$31=P21)*(U$20:U$31=U21)*(Z$20:Z$31=Z21)*(X$20:X$31=X21)*(AT$20:AT$31<AT21)),"") -> 0 | BA21: =IF(NOT(N21=""),SUMPRODUCT((P$20:P$31=P21)*(U$20:U$31=U21)*(Z$20:Z$31=Z21)*(X$20:X$31=X21)*(AT$20:AT$31=AT21)*(AR$20:AR$31>AR21)),"") -> 0 | BB21: =IF(NOT(N21=""),SUMPRODUCT((P$20:P$31=P21)*(U$20:U$31=U21)*(Z$20:Z$31=Z21)*(X$20:X$31=X21)*(AT$20:AT$31=AT21)*(AR$20:AR$31=AR21)*(AP$20:AP$31>AP21)),"") -> 0 | BC21: =IF(NOT(N21=""),SUMPRODUCT((P$20:P$31=P21)*(U$20:U$31=U21)*(Z$20:Z$31=Z21)*(X$20:X$31=X21)*(AT$20:AT$31=AT21)*(AR$20:AR$31=AR21)*(AP$20:AP$31=AP21)*(AI$20:AI$31>AI21)),"") -> 0 | BD21: =IF(NOT(N21=""),SUMPRODUCT((P$20:P$31=P21)*(U$20:U$31=U21)*(Z$20:Z$31=Z21)*(X$20:X$31=X21)*(AT$20:AT$31=AT21)*(AR$20:AR$31=AR21)*(AP$20:AP$31=AP21)*(AI$20:AI$31=AI21)*(AG$20:AG$31>AG21)),"") -> 0 | BE21: =IF(NOT(N21=""),SUMPRODUCT((P$20:P$31=P21)*(U$20:U$31=U21)*(X$20:X$31=X21)*(Z$20:Z$31=Z21)*(AT$20:AT$31=AT21)*(AP$20:AP$31=AP21)*(AR$20:AR$31=AR21)*(AI$20:AI$31=AI21)*(AG$20:AG$31=AG21)*(BF$20:BF$31>BF21)),"") -> 0 | BF21: =IF(NOT(N21=""),IF(NOT('Teams - Setup'!G22=""),'Teams - Setup'!G22,0),"") -> 0 | BH21: =IF(NOT(N21=""),ROW(N21),"") -> 21
B22: Sat | C22: 03/22/2014 | D22: 4:30PM EDT | E22: Toronto FC | F22: 1 | G22: 0 | H22: D.C. United | I22: BMO Field | K22: =IF(AND(NOT(E22=""),NOT(H22="")),IF(AND(NOT(F22=""),NOT(G22="")),1,0),0) -> 1 | M22: =IF(NOT(N22=""),SUM(AV22:BE22),"") -> 5 | N22: =IF(NOT('Teams - Setup'!B23=""),'Teams - Setup'!B23,"") -> FC Dallas | P22: =IF(NOT(N22=""),AB22+AK22,"") -> 18 | R22: =IF(NOT(N22=""),AC22+AL22,"") -> 15 | S22: =IF(NOT(N22=""),IF(R22>0,P22/R22,0),"") -> 1.2 | U22: =IF(NOT(N22=""),AD22+AM22,"") -> 5 | V22: =IF(NOT(N22=""),AE22+AN22,"") -> 7 | W22: =IF(NOT(N22=""),AF22+AO22,"") -> 3 | X22: =IF(NOT(N22=""),AG22+AP22,"") -> 23 | Y22: =IF(NOT(N22=""),AH22+AQ22,"") -> 24 | Z22: =IF(NOT(N22=""),X22-Y22,"") -> -1 | AB22: =IF(NOT(N22=""),(AD22*PtsHomeWin)+(AF22*PtsHomeDraw)+(AE22*PtsHomeLoss),"") -> 13 | AC22: =IF(NOT(N22=""),SUMPRODUCT((HomeTeam=N22)*GamePlayed),"") -> 8 | AD22: =IF(NOT(N22=""),SUMPRODUCT((HomeTeam=N22)*(HomeScore>AwayScore)*GamePlayed),"") -> 4 | AE22: =IF(NOT(N22=""),SUMPRODUCT((HomeTeam=N22)*(HomeScore<AwayScore)*GamePlayed),"") -> 3 | AF22: =IF(NOT(N22=""),SUMPRODUCT((HomeTeam=N22)*(HomeScore=AwayScore)*GamePlayed),"") -> 1 | AG22: =IF(NOT(N22=""),SUMPRODUCT((HomeTeam=N22)*HomeScore*GamePlayed),"") -> 14 | AH22: =IF(NOT(N22=""),SUMPRODUCT((HomeTeam=N22)*AwayScore*GamePlayed),"") -> 12 | AI22: =IF(NOT(N22=""),AG22-AH22,"") -> 2 | AK22: =IF(NOT(N22=""),(AM22*PtsAwayWin)+(AO22*PtsAwayDraw)+(AN22*PtsAwayLoss),"") -> 5 | AL22: =IF(NOT(N22=""),SUMPRODUCT((AwayTeam=N22)*GamePlayed),"") -> 7 | AM22: =IF(NOT(N22=""),SUMPRODUCT((AwayTeam=N22)*(AwayScore>HomeScore)*GamePlayed),"") -> 1 | AN22: =IF(NOT(N22=""),SUMPRODUCT((AwayTeam=N22)*(AwayScore<HomeScore)*GamePlayed),"") -> 4 | AO22: =IF(NOT(N22=""),SUMPRODUCT((AwayTeam=N22)*(AwayScore=HomeScore)*GamePlayed),"") -> 2 | AP22: =IF(NOT(N22=""),SUMPRODUCT((AwayTeam=N22)*AwayScore*GamePlayed),"") -> 9 | AQ22: =IF(NOT(N22=""),SUMPRODUCT((AwayTeam=N22)*HomeScore*GamePlayed),"") -> 12 | AR22: =IF(NOT(N22=""),AP22-AQ22,"") -> -3 | AT22: =IF(NOT(N22=""),IF(NOT('Teams - Setup'!F23=""),'Teams - Setup'!F23,0),"") -> 0 | AV22: =IF(NOT(N22=""),RANK(P22,P$20:P$31,0),"") -> 5 | AW22: =IF(NOT(N22=""),SUMPRODUCT((P$20:P$31=P22)*(U$20:U$31>U22)),"") -> 0 | AX22: =IF(NOT(N22=""),SUMPRODUCT((P$20:P$31=P22)*(U$20:U$31=U22)*(Z$20:Z$31>Z22)),"") -> 0 | AY22: =IF(NOT(N22=""),SUMPRODUCT((P$20:P$31=P22)*(U$20:U$31=U22)*(Z$20:Z$31=Z22)*(X$20:X$31>X22)),"") -> 0 | AZ22: =IF(NOT(N22=""),SUMPRODUCT((P$20:P$31=P22)*(U$20:U$31=U22)*(Z$20:Z$31=Z22)*(X$20:X$31=X22)*(AT$20:AT$31<AT22)),"") -> 0 | BA22: =IF(NOT(N22=""),SUMPRODUCT((P$20:P$31=P22)*(U$20:U$31=U22)*(Z$20:Z$31=Z22)*(X$20:X$31=X22)*(AT$20:AT$31=AT22)*(AR$20:AR$31>AR22)),"") -> 0 | BB22: =IF(NOT(N22=""),SUMPRODUCT((P$20:P$31=P22)*(U$20:U$31=U22)*(Z$20:Z$31=Z22)*(X$20:X$31=X22)*(AT$20:AT$31=AT22)*(AR$20:AR$31=AR22)*(AP$20:AP$31>AP22)),"") -> 0 | BC22: =IF(NOT(N22=""),SUMPRODUCT((P$20:P$31=P22)*(U$20:U$31=U22)*(Z$20:Z$31=Z22)*(X$20:X$31=X22)*(AT$20:AT$31=AT22)*(AR$20:AR$31=AR22)*(AP$20:AP$31=AP22)*(AI$20:AI$31>AI22)),"") -> 0 | BD22: =IF(NOT(N22=""),SUMPRODUCT((P$20:P$31=P22)*(U$20:U$31=U22)*(Z$20:Z$31=Z22)*(X$20:X$31=X22)*(AT$20:AT$31=AT22)*(AR$20:AR$31=AR22)*(AP$20:AP$31=AP22)*(AI$20:AI$31=AI22)*(AG$20:AG$31>AG22)),"") -> 0 | BE22: =IF(NOT(N22=""),SUMPRODUCT((P$20:P$31=P22)*(U$20:U$31=U22)*(X$20:X$31=X22)*(Z$20:Z$31=Z22)*(AT$20:AT$31=AT22)*(AP$20:AP$31=AP22)*(AR$20:AR$31=AR22)*(AI$20:AI$31=AI22)*(AG$20:AG$31=AG22)*(BF$20:BF$31>BF22)),"") -> 0 | BF22: =IF(NOT(N22=""),IF(NOT('Teams - Setup'!G23=""),'Teams - Setup'!G23,0),"") -> 0 | BH22: =IF(NOT(N22=""),ROW(N22),"") -> 22
B23: Sat | C23: 03/22/2014 | D23: 6:00PM EDT | E23: Colorado | F23: 2 | G23: 0 | H23: Portland | I23: Dick's Sporting Goods Park | K23: =IF(AND(NOT(E23=""),NOT(H23="")),IF(AND(NOT(F23=""),NOT(G23="")),1,0),0) -> 1 | M23: =IF(NOT(N23=""),SUM(AV23:BE23),"") -> 6 | N23: =IF(NOT('Teams - Setup'!B24=""),'Teams - Setup'!B24,"") -> LA Galaxy | P23: =IF(NOT(N23=""),AB23+AK23,"") -> 16 | R23: =IF(NOT(N23=""),AC23+AL23,"") -> 11 | S23: =IF(NOT(N23=""),IF(R23>0,P23/R23,0),"") -> 1.4545455 | U23: =IF(NOT(N23=""),AD23+AM23,"") -> 4 | V23: =IF(NOT(N23=""),AE23+AN23,"") -> 3 | W23: =IF(NOT(N23=""),AF23+AO23,"") -> 4 | X23: =IF(NOT(N23=""),AG23+AP23,"") -> 15 | Y23: =IF(NOT(N23=""),AH23+AQ23,"") -> 10 | Z23: =IF(NOT(N23=""),X23-Y23,"") -> 5 | AB23: =IF(NOT(N23=""),(AD23*PtsHomeWin)+(AF23*PtsHomeDraw)+(AE23*PtsHomeLoss),"") -> 9 | AC23: =IF(NOT(N23=""),SUMPRODUCT((HomeTeam=N23)*GamePlayed),"") -> 4 | AD23: =IF(NOT(N23=""),SUMPRODUCT((HomeTeam=N23)*(HomeScore>AwayScore)*GamePlayed),"") -> 3 | AE23: =IF(NOT(N23=""),SUMPRODUCT((HomeTeam=N23)*(HomeScore<AwayScore)*GamePlayed),"") -> 1 | AF23: =IF(NOT(N23=""),SUMPRODUCT((HomeTeam=N23)*(HomeScore=AwayScore)*GamePlayed),"") -> 0 | AG23: =IF(NOT(N23=""),SUMPRODUCT((HomeTeam=N23)*HomeScore*GamePlayed),"") -> 7 | AH23: =IF(NOT(N23=""),SUMPRODUCT((HomeTeam=N23)*AwayScore*GamePlayed),"") -> 3 | AI23: =IF(NOT(N23=""),AG23-AH23,"") -> 4 | AK23: =IF(NOT(N23=""),(AM23*PtsAwayWin)+(AO23*PtsAwayDraw)+(AN23*PtsAwayLoss),"") -> 7 | AL23: =IF(NOT(N23=""),SUMPRODUCT((AwayTeam=N23)*GamePlayed),"") -> 7 | AM23: =IF(NOT(N23=""),SUMPRODUCT((AwayTeam=N23)*(AwayScore>HomeScore)*GamePlayed),"") -> 1 | AN23: =IF(NOT(N23=""),SUMPRODUCT((AwayTeam=N23)*(AwayScore<HomeScore)*GamePlayed),"") -> 2 | AO23: =IF(NOT(N23=""),SUMPRODUCT((AwayTeam=N23)*(AwayScore=HomeScore)*GamePlayed),"") -> 4 | AP23: =IF(NOT(N23=""),SUMPRODUCT((AwayTeam=N23)*AwayScore*GamePlayed),"") -> 8 | AQ23: =IF(NOT(N23=""),SUMPRODUCT((AwayTeam=N23)*HomeScore*GamePlayed),"") -> 7 | AR23: =IF(NOT(N23=""),AP23-AQ23,"") -> 1 | AT23: =IF(NOT(N23=""),IF(NOT('Teams - Setup'!F24=""),'Teams - Setup'!F24,0),"") -> 0 | AV23: =IF(NOT(N23=""),RANK(P23,P$20:P$31,0),"") -> 6 | AW23: =IF(NOT(N23=""),SUMPRODUCT((P$20:P$31=P23)*(U$20:U$31>U23)),"") -> 0 | AX23: =IF(NOT(N23=""),SUMPRODUCT((P$20:P$31=P23)*(U$20:U$31=U23)*(Z$20:Z$31>Z23)),"") -> 0 | AY23: =IF(NOT(N23=""),SUMPRODUCT((P$20:P$31=P23)*(U$20:U$31=U23)*(Z$20:Z$31=Z23)*(X$20:X$31>X23)),"") -> 0 | AZ23: =IF(NOT(N23=""),SUMPRODUCT((P$20:P$31=P23)*(U$20:U$31=U23)*(Z$20:Z$31=Z23)*(X$20:X$31=X23)*(AT$20:AT$31<AT23)),"") -> 0 | BA23: =IF(NOT(N23=""),SUMPRODUCT((P$20:P$31=P23)*(U$20:U$31=U23)*(Z$20:Z$31=Z23)*(X$20:X$31=X23)*(AT$20:AT$31=AT23)*(AR$20:AR$31>AR23)),"") -> 0 | BB23: =IF(NOT(N23=""),SUMPRODUCT((P$20:P$31=P23)*(U$20:U$31=U23)*(Z$20:Z$31=Z23)*(X$20:X$31=X23)*(AT$20:AT$31=AT23)*(AR$20:AR$31=AR23)*(AP$20:AP$31>AP23)),"") -> 0 | BC23: =IF(NOT(N23=""),SUMPRODUCT((P$20:P$31=P23)*(U$20:U$31=U23)*(Z$20:Z$31=Z23)*(X$20:X$31=X23)*(AT$20:AT$31=AT23)*(AR$20:AR$31=AR23)*(AP$20:AP$31=AP23)*(AI$20:AI$31>AI23)),"") -> 0 | BD23: =IF(NOT(N23=""),SUMPRODUCT((P$20:P$31=P23)*(U$20:U$31=U23)*(Z$20:Z$31=Z23)*(X$20:X$31=X23)*(AT$20:AT$31=AT23)*(AR$20:AR$31=AR23)*(AP$20:AP$31=AP23)*(AI$20:AI$31=AI23)*(AG$20:AG$31>AG23)),"") -> 0 | BE23: =IF(NOT(N23=""),SUMPRODUCT((P$20:P$31=P23)*(U$20:U$31=U23)*(X$20:X$31=X23)*(Z$20:Z$31=Z23)*(AT$20:AT$31=AT23)*(AP$20:AP$31=AP23)*(AR$20:AR$31=AR23)*(AI$20:AI$31=AI23)*(AG$20:AG$31=AG23)*(BF$20:BF$31>BF23)),"") -> 0 | BF23: =IF(NOT(N23=""),IF(NOT('Teams - Setup'!G24=""),'Teams - Setup'!G24,0),"") -> 0 | BH23: =IF(NOT(N23=""),ROW(N23),"") -> 23
B24: Sat | C24: 03/22/2014 | D24: 6:00PM EDT | E24: Columbus | F24: 2 | G24: 1 | H24: Philadelphia | I24: Columbus Crew Stadium | K24: =IF(AND(NOT(E24=""),NOT(H24="")),IF(AND(NOT(F24=""),NOT(G24="")),1,0),0) -> 1 | M24: =IF(NOT(N24=""),SUM(AV24:BE24),"") -> 8 | N24: =IF(NOT('Teams - Setup'!B25=""),'Teams - Setup'!B25,"") -> Portland | P24: =IF(NOT(N24=""),AB24+AK24,"") -> 16 | R24: =IF(NOT(N24=""),AC24+AL24,"") -> 14 | S24: =IF(NOT(N24=""),IF(R24>0,P24/R24,0),"") -> 1.1428571 | U24: =IF(NOT(N24=""),AD24+AM24,"") -> 3 | V24: =IF(NOT(N24=""),AE24+AN24,"") -> 4 | W24: =IF(NOT(N24=""),AF24+AO24,"") -> 7 | X24: =IF(NOT(N24=""),AG24+AP24,"") -> 23 | Y24: =IF(NOT(N24=""),AH24+AQ24,"") -> 24 | Z24: =IF(NOT(N24=""),X24-Y24,"") -> -1 | AB24: =IF(NOT(N24=""),(AD24*PtsHomeWin)+(AF24*PtsHomeDraw)+(AE24*PtsHomeLoss),"") -> 9 | AC24: =IF(NOT(N24=""),SUMPRODUCT((HomeTeam=N24)*GamePlayed),"") -> 8 | AD24: =IF(NOT(N24=""),SUMPRODUCT((HomeTeam=N24)*(HomeScore>AwayScore)*GamePlayed),"") -> 1 | AE24: =IF(NOT(N24=""),SUMPRODUCT((HomeTeam=N24)*(HomeScore<AwayScore)*GamePlayed),"") -> 1 | AF24: =IF(NOT(N24=""),SUMPRODUCT((HomeTeam=N24)*(HomeScore=AwayScore)*GamePlayed),"") -> 6 | AG24: =IF(NOT(N24=""),SUMPRODUCT((HomeTeam=N24)*HomeScore*GamePlayed),"") -> 17 | AH24: =IF(NOT(N24=""),SUMPRODUCT((HomeTeam=N24)*AwayScore*GamePlayed),"") -> 17 | AI24: =IF(NOT(N24=""),AG24-AH24,"") -> 0 | AK24: =IF(NOT(N24=""),(AM24*PtsAwayWin)+(AO24*PtsAwayDraw)+(AN24*PtsAwayLoss),"") -> 7 | AL24: =IF(NOT(N24=""),SUMPRODUCT((AwayTeam=N24)*GamePlayed),"") -> 6 | AM24: =IF(NOT(N24=""),SUMPRODUCT((AwayTeam=N24)*(AwayScore>HomeScore)*GamePlayed),"") -> 2 | AN24: =IF(NOT(N24=""),SUMPRODUCT((AwayTeam=N24)*(AwayScore<HomeScore)*GamePlayed),"") -> 3 | AO24: =IF(NOT(N24=""),SUMPRODUCT((AwayTeam=N24)*(AwayScore=HomeScore)*GamePlayed),"") -> 1 | AP24: =IF(NOT(N24=""),SUMPRODUCT((AwayTeam=N24)*AwayScore*GamePlayed),"") -> 6 | AQ24: =IF(NOT(N24=""),SUMPRODUCT((AwayTeam=N24)*HomeScore*GamePlayed),"") -> 7 | AR24: =IF(NOT(N24=""),AP24-AQ24,"") -> -1 | AT24: =IF(NOT(N24=""),IF(NOT('Teams - Setup'!F25=""),'Teams - Setup'!F25,0),"") -> 0 | AV24: =IF(NOT(N24=""),RANK(P24,P$20:P$31,0),"") -> 6 | AW24: =IF(NOT(N24=""),SUMPRODUCT((P$20:P$31=P24)*(U$20:U$31>U24)),"") -> 2 | AX24: =IF(NOT(N24=""),SUMPRODUCT((P$20:P$31=P24)*(U$20:U$31=U24)*(Z$20:Z$31>Z24)),"") -> 0 | AY24: =IF(NOT(N24=""),SUMPRODUCT((P$20:P$31=P24)*(U$20:U$31=U24)*(Z$20:Z$31=Z24)*(X$20:X$31>X24)),"") -> 0 | AZ24: =IF(NOT(N24=""),SUMPRODUCT((P$20:P$31=P24)*(U$20:U$31=U24)*(Z$20:Z$31=Z24)*(X$20:X$31=X24)*(AT$20:AT$31<AT24)),"") -> 0 | BA24: =IF(NOT(N24=""),SUMPRODUCT((P$20:P$31=P24)*(U$20:U$31=U24)*(Z$20:Z$31=Z24)*(X$20:X$31=X24)*(AT$20:AT$31=AT24)*(AR$20:AR$31>AR24)),"") -> 0 | BB24: =IF(NOT(N24=""),SUMPRODUCT((P$20:P$31=P24)*(U$20:U$31=U24)*(Z$20:Z$31=Z24)*(X$20:X$31=X24)*(AT$20:AT$31=AT24)*(AR$20:AR$31=AR24)*(AP$20:AP$31>AP24)),"") -> 0 | BC24: =IF(NOT(N24=""),SUMPRODUCT((P$20:P$31=P24)*(U$20:U$31=U24)*(Z$20:Z$31=Z24)*(X$20:X$31=X24)*(AT$20:AT$31=AT24)*(AR$20:AR$31=AR24)*(AP$20:AP$31=AP24)*(AI$20:AI$31>AI24)),"") -> 0 | BD24: =IF(NOT(N24=""),SUMPRODUCT((P$20:P$31=P24)*(U$20:U$31=U24)*(Z$20:Z$31=Z24)*(X$20:X$31=X24)*(AT$20:AT$31=AT24)*(AR$20:AR$31=AR24)*(AP$20:AP$31=AP24)*(AI$20:AI$31=AI24)*(AG$20:AG$31>AG24)),"") -> 0 | BE24: =IF(NOT(N24=""),SUMPRODUCT((P$20:P$31=P24)*(U$20:U$31=U24)*(X$20:X$31=X24)*(Z$20:Z$31=Z24)*(AT$20:AT$31=AT24)*(AP$20:AP$31=AP24)*(AR$20:AR$31=AR24)*(AI$20:AI$31=AI24)*(AG$20:AG$31=AG24)*(BF$20:BF$31>BF24)),"") -> 0 | BF24: =IF(NOT(N24=""),IF(NOT('Teams - Setup'!G25=""),'Teams - Setup'!G25,0),"") -> 0 | BH24: =IF(NOT(N24=""),ROW(N24),"") -> 24
B25: Sat | C25: 03/22/2014 | D25: 8:30PM EDT | E25: FC Dallas | F25: 3 | G25: 1 | H25: Chivas USA | I25: Toyota Stadium | K25: =IF(AND(NOT(E25=""),NOT(H25="")),IF(AND(NOT(F25=""),NOT(G25="")),1,0),0) -> 1 | M25: =IF(NOT(N25=""),SUM(AV25:BE25),"") -> 2 | N25: =IF(NOT('Teams - Setup'!B26=""),'Teams - Setup'!B26,"") -> Real Salt Lake | P25: =IF(NOT(N25=""),AB25+AK25,"") -> 25 | R25: =IF(NOT(N25=""),AC25+AL25,"") -> 14 | S25: =IF(NOT(N25=""),IF(R25>0,P25/R25,0),"") -> 1.7857143 | U25: =IF(NOT(N25=""),AD25+AM25,"") -> 6 | V25: =IF(NOT(N25=""),AE25+AN25,"") -> 1 | W25: =IF(NOT(N25=""),AF25+AO25,"") -> 7 | X25: =IF(NOT(N25=""),AG25+AP25,"") -> 24 | Y25: =IF(NOT(N25=""),AH25+AQ25,"") -> 18 | Z25: =IF(NOT(N25=""),X25-Y25,"") -> 6 | AB25: =IF(NOT(N25=""),(AD25*PtsHomeWin)+(AF25*PtsHomeDraw)+(AE25*PtsHomeLoss),"") -> 12 | AC25: =IF(NOT(N25=""),SUMPRODUCT((HomeTeam=N25)*GamePlayed),"") -> 6 | AD25: =IF(NOT(N25=""),SUMPRODUCT((HomeTeam=N25)*(HomeScore>AwayScore)*GamePlayed),"") -> 3 | AE25: =IF(NOT(N25=""),SUMPRODUCT((HomeTeam=N25)*(HomeScore<AwayScore)*GamePlayed),"") -> 0 | AF25: =IF(NOT(N25=""),SUMPRODUCT((HomeTeam=N25)*(HomeScore=AwayScore)*GamePlayed),"") -> 3 | AG25: =IF(NOT(N25=""),SUMPRODUCT((HomeTeam=N25)*HomeScore*GamePlayed),"") -> 9 | AH25: =IF(NOT(N25=""),SUMPRODUCT((HomeTeam=N25)*AwayScore*GamePlayed),"") -> 4 | AI25: =IF(NOT(N25=""),AG25-AH25,"") -> 5 | AK25: =IF(NOT(N25=""),(AM25*PtsAwayWin)+(AO25*PtsAwayDraw)+(AN25*PtsAwayLoss),"") -> 13 | AL25: =IF(NOT(N25=""),SUMPRODUCT((AwayTeam=N25)*GamePlayed),"") -> 8 | AM25: =IF(NOT(N25=""),SUMPRODUCT((AwayTeam=N25)*(AwayScore>HomeScore)*GamePlayed),"") -> 3 | AN25: =IF(NOT(N25=""),SUMPRODUCT((AwayTeam=N25)*(AwayScore<HomeScore)*GamePlayed),"") -> 1 | AO25: =IF(NOT(N25=""),SUMPRODUCT((AwayTeam=N25)*(AwayScore=HomeScore)*GamePlayed),"") -> 4 | AP25: =IF(NOT(N25=""),SUMPRODUCT((AwayTeam=N25)*AwayScore*GamePlayed),"") -> 15 | AQ25: =IF(NOT(N25=""),SUMPRODUCT((AwayTeam=N25)*HomeScore*GamePlayed),"") -> 14 | AR25: =IF(NOT(N25=""),AP25-AQ25,"") -> 1 | AT25: =IF(NOT(N25=""),IF(NOT('Teams - Setup'!F26=""),'Teams - Setup'!F26,0),"") -> 0 | AV25: =IF(NOT(N25=""),RANK(P25,P$20:P$31,0),"") -> 2 | AW25: =IF(NOT(N25=""),SUMPRODUCT((P$20:P$31=P25)*(U$20:U$31>U25)),"") -> 0 | AX25: =IF(NOT(N25=""),SUMPRODUCT((P$20:P$31=P25)*(U$20:U$31=U25)*(Z$20:Z$31>Z25)),"") -> 0 | AY25: =IF(NOT(N25=""),SUMPRODUCT((P$20:P$31=P25)*(U$20:U$31=U25)*(Z$20:Z$31=Z25)*(X$20:X$31>X25)),"") -> 0 | AZ25: =IF(NOT(N25=""),SUMPRODUCT((P$20:P$31=P25)*(U$20:U$31=U25)*(Z$20:Z$31=Z25)*(X$20:X$31=X25)*(AT$20:AT$31<AT25)),"") -> 0 | BA25: =IF(NOT(N25=""),SUMPRODUCT((P$20:P$31=P25)*(U$20:U$31=U25)*(Z$20:Z$31=Z25)*(X$20:X$31=X25)*(AT$20:AT$31=AT25)*(AR$20:AR$31>AR25)),"") -> 0 | BB25: =IF(NOT(N25=""),SUMPRODUCT((P$20:P$31=P25)*(U$20:U$31=U25)*(Z$20:Z$31=Z25)*(X$20:X$31=X25)*(AT$20:AT$31=AT25)*(AR$20:AR$31=AR25)*(AP$20:AP$31>AP25)),"") -> 0 | BC25: =IF(NOT(N25=""),SUMPRODUCT((P$20:P$31=P25)*(U$20:U$31=U25)*(Z$20:Z$31=Z25)*(X$20:X$31=X25)*(AT$20:AT$31=AT25)*(AR$20:AR$31=AR25)*(AP$20:AP$31=AP25)*(AI$20:AI$31>AI25)),"") -> 0 | BD25: =IF(NOT(N25=""),SUMPRODUCT((P$20:P$31=P25)*(U$20:U$31=U25)*(Z$20:Z$31=Z25)*(X$20:X$31=X25)*(AT$20:AT$31=AT25)*(AR$20:AR$31=AR25)*(AP$20:AP$31=AP25)*(AI$20:AI$31=AI25)*(AG$20:AG$31>AG25)),"") -> 0 | BE25: =IF(NOT(N25=""),SUMPRODUCT((P$20:P$31=P25)*(U$20:U$31=U25)*(X$20:X$31=X25)*(Z$20:Z$31=Z25)*(AT$20:AT$31=AT25)*(AP$20:AP$31=AP25)*(AR$20:AR$31=AR25)*(AI$20:AI$31=AI25)*(AG$20:AG$31=AG25)*(BF$20:BF$31>BF25)),"") -> 0 | BF25: =IF(NOT(N25=""),IF(NOT('Teams - Setup'!G26=""),'Teams - Setup'!G26,0),"") -> 0 | BH25: =IF(NOT(N25=""),ROW(N25),"") -> 25
B26: Sat | C26: 03/22/2014 | D26: 8:30PM EDT | E26: Sporting KC | F26: 1 | G26: 0 | H26: San Jose | I26: Sporting Park | K26: =IF(AND(NOT(E26=""),NOT(H26="")),IF(AND(NOT(F26=""),NOT(G26="")),1,0),0) -> 1 | M26: =IF(NOT(N26=""),SUM(AV26:BE26),"") -> 7 | N26: =IF(NOT('Teams - Setup'!B27=""),'Teams - Setup'!B27,"") -> San Jose | P26: =IF(NOT(N26=""),AB26+AK26,"") -> 16 | R26: =IF(NOT(N26=""),AC26+AL26,"") -> 12 | S26: =IF(NOT(N26=""),IF(R26>0,P26/R26,0),"") -> 1.3333333 | U26: =IF(NOT(N26=""),AD26+AM26,"") -> 4 | V26: =IF(NOT(N26=""),AE26+AN26,"") -> 4 | W26: =IF(NOT(N26=""),AF26+AO26,"") -> 4 | X26: =IF(NOT(N26=""),AG26+AP26,"") -> 15 | Y26: =IF(NOT(N26=""),AH26+AQ26,"") -> 13 | Z26: =IF(NOT(N26=""),X26-Y26,"") -> 2 | AB26: =IF(NOT(N26=""),(AD26*PtsHomeWin)+(AF26*PtsHomeDraw)+(AE26*PtsHomeLoss),"") -> 12 | AC26: =IF(NOT(N26=""),SUMPRODUCT((HomeTeam=N26)*GamePlayed),"") -> 7 | AD26: =IF(NOT(N26=""),SUMPRODUCT((HomeTeam=N26)*(HomeScore>AwayScore)*GamePlayed),"") -> 3 | AE26: =IF(NOT(N26=""),SUMPRODUCT((HomeTeam=N26)*(HomeScore<AwayScore)*GamePlayed),"") -> 1 | AF26: =IF(NOT(N26=""),SUMPRODUCT((HomeTeam=N26)*(HomeScore=AwayScore)*GamePlayed),"") -> 3 | AG26: =IF(NOT(N26=""),SUMPRODUCT((HomeTeam=N26)*HomeScore*GamePlayed),"") -> 11 | AH26: =IF(NOT(N26=""),SUMPRODUCT((HomeTeam=N26)*AwayScore*GamePlayed),"") -> 7 | AI26: =IF(NOT(N26=""),AG26-AH26,"") -> 4 | AK26: =IF(NOT(N26=""),(AM26*PtsAwayWin)+(AO26*PtsAwayDraw)+(AN26*PtsAwayLoss),"") -> 4 | AL26: =IF(NOT(N26=""),SUMPRODUCT((AwayTeam=N26)*GamePlayed),"") -> 5 | AM26: =IF(NOT(N26=""),SUMPRODUCT((AwayTeam=N26)*(AwayScore>HomeScore)*GamePlayed),"") -> 1 | AN26: =IF(NOT(N26=""),SUMPRODUCT((AwayTeam=N26)*(AwayScore<HomeScore)*GamePlayed),"") -> 3 | AO26: =IF(NOT(N26=""),SUMPRODUCT((AwayTeam=N26)*(AwayScore=HomeScore)*GamePlayed),"") -> 1 | AP26: =IF(NOT(N26=""),SUMPRODUCT((AwayTeam=N26)*AwayScore*GamePlayed),"") -> 4 | AQ26: =IF(NOT(N26=""),SUMPRODUCT((AwayTeam=N26)*HomeScore*GamePlayed),"") -> 6 | AR26: =IF(NOT(N26=""),AP26-AQ26,"") -> -2 | AT26: =IF(NOT(N26=""),IF(NOT('Teams - Setup'!F27=""),'Teams - Setup'!F27,0),"") -> 0 | AV26: =IF(NOT(N26=""),RANK(P26,P$20:P$31,0),"") -> 6 | AW26: =IF(NOT(N26=""),SUMPRODUCT((P$20:P$31=P26)*(U$20:U$31>U26)),"") -> 0 | AX26: =IF(NOT(N26=""),SUMPRODUCT((P$20:P$31=P26)*(U$20:U$31=U26)*(Z$20:Z$31>Z26)),"") -> 1 | AY26: =IF(NOT(N26=""),SUMPRODUCT((P$20:P$31=P26)*(U$20:U$31=U26)*(Z$20:Z$31=Z26)*(X$20:X$31>X26)),"") -> 0 | AZ26: =IF(NOT(N26=""),SUMPRODUCT((P$20:P$31=P26)*(U$20:U$31=U26)*(Z$20:Z$31=Z26)*(X$20:X$31=X26)*(AT$20:AT$31<AT26)),"") -> 0 | BA26: =IF(NOT(N26=""),SUMPRODUCT((P$20:P$31=P26)*(U$20:U$31=U26)*(Z$20:Z$31=Z26)*(X$20:X$31=X26)*(AT$20:AT$31=AT26)*(AR$20:AR$31>AR26)),"") -> 0 | BB26: =IF(NOT(N26=""),SUMPRODUCT((P$20:P$31=P26)*(U$20:U$31=U26)*(Z$20:Z$31=Z26)*(X$20:X$31=X26)*(AT$20:AT$31=AT26)*(AR$20:AR$31=AR26)*(AP$20:AP$31>AP26)),"") -> 0 | BC26: =IF(NOT(N26=""),SUMPRODUCT((P$20:P$31=P26)*(U$20:U$31=U26)*(Z$20:Z$31=Z26)*(X$20:X$31=X26)*(AT$20:AT$31=AT26)*(AR$20:AR$31=AR26)*(AP$20:AP$31=AP26)*(AI$20:AI$31>AI26)),"") -> 0 | BD26: =IF(NOT(N26=""),SUMPRODUCT((P$20:P$31=P26)*(U$20:U$31=U26)*(Z$20:Z$31=Z26)*(X$20:X$31=X26)*(AT$20:AT$31=AT26)*(AR$20:AR$31=AR26)*(AP$20:AP$31=AP26)*(AI$20:AI$31=AI26)*(AG$20:AG$31>AG26)),"") -> 0 | BE26: =IF(NOT(N26=""),SUMPRODUCT((P$20:P$31=P26)*(U$20:U$31=U26)*(X$20:X$31=X26)*(Z$20:Z$31=Z26)*(AT$20:AT$31=AT26)*(AP$20:AP$31=AP26)*(AR$20:AR$31=AR26)*(AI$20:AI$31=AI26)*(AG$20:AG$31=AG26)*(BF$20:BF$31>BF26)),"") -> 0 | BF26: =IF(NOT(N26=""),IF(NOT('Teams - Setup'!G27=""),'Teams - Setup'!G27,0),"") -> 0 | BH26: =IF(NOT(N26=""),ROW(N26),"") -> 26
B27: Sun | C27: 03/23/2014 | D27: 3:00PM EDT | E27: Chicago | F27: 1 | G27: 1 | H27: New York | I27: Toyota Park | K27: =IF(AND(NOT(E27=""),NOT(H27="")),IF(AND(NOT(F27=""),NOT(G27="")),1,0),0) -> 1 | M27: =IF(NOT(N27=""),SUM(AV27:BE27),"") -> 1 | N27: =IF(NOT('Teams - Setup'!B28=""),'Teams - Setup'!B28,"") -> Seattle | P27: =IF(NOT(N27=""),AB27+AK27,"") -> 29 | R27: =IF(NOT(N27=""),AC27+AL27,"") -> 14 | S27: =IF(NOT(N27=""),IF(R27>0,P27/R27,0),"") -> 2.0714286 | U27: =IF(NOT(N27=""),AD27+AM27,"") -> 9 | V27: =IF(NOT(N27=""),AE27+AN27,"") -> 3 | W27: =IF(NOT(N27=""),AF27+AO27,"") -> 2 | X27: =IF(NOT(N27=""),AG27+AP27,"") -> 29 | Y27: =IF(NOT(N27=""),AH27+AQ27,"") -> 21 | Z27: =IF(NOT(N27=""),X27-Y27,"") -> 8 | AB27: =IF(NOT(N27=""),(AD27*PtsHomeWin)+(AF27*PtsHomeDraw)+(AE27*PtsHomeLoss),"") -> 18 | AC27: =IF(NOT(N27=""),SUMPRODUCT((HomeTeam=N27)*GamePlayed),"") -> 8 | AD27: =IF(NOT(N27=""),SUMPRODUCT((HomeTeam=N27)*(HomeScore>AwayScore)*GamePlayed),"") -> 6 | AE27: =IF(NOT(N27=""),SUMPRODUCT((HomeTeam=N27)*(HomeScore<AwayScore)*GamePlayed),"") -> 2 | AF27: =IF(NOT(N27=""),SUMPRODUCT((HomeTeam=N27)*(HomeScore=AwayScore)*GamePlayed),"") -> 0 | AG27: =IF(NOT(N27=""),SUMPRODUCT((HomeTeam=N27)*HomeScore*GamePlayed),"") -> 16 | AH27: =IF(NOT(N27=""),SUMPRODUCT((HomeTeam=N27)*AwayScore*GamePlayed),"") -> 7 | AI27: =IF(NOT(N27=""),AG27-AH27,"") -> 9 | AK27: =IF(NOT(N27=""),(AM27*PtsAwayWin)+(AO27*PtsAwayDraw)+(AN27*PtsAwayLoss),"") -> 11 | AL27: =IF(NOT(N27=""),SUMPRODUCT((AwayTeam=N27)*GamePlayed),"") -> 6 | AM27: =IF(NOT(N27=""),SUMPRODUCT((AwayTeam=N27)*(AwayScore>HomeScore)*GamePlayed),"") -> 3 | AN27: =IF(NOT(N27=""),SUMPRODUCT((AwayTeam=N27)*(AwayScore<HomeScore)*GamePlayed),"") -> 1 | AO27: =IF(NOT(N27=""),SUMPRODUCT((AwayTeam=N27)*(AwayScore=HomeScore)*GamePlayed),"") -> 2 | AP27: =IF(NOT(N27=""),SUMPRODUCT((AwayTeam=N27)*AwayScore*GamePlayed),"") -> 13 | AQ27: =IF(NOT(N27=""),SUMPRODUCT((AwayTeam=N27)*HomeScore*GamePlayed),"") -> 14 | AR27: =IF(NOT(N27=""),AP27-AQ27,"") -> -1 | AT27: =IF(NOT(N27=""),IF(NOT('Teams - Setup'!F28=""),'Teams - Setup'!F28,0),"") -> 0 | AV27: =IF(NOT(N27=""),RANK(P27,P$20:P$31,0),"") -> 1 | AW27: =IF(NOT(N27=""),SUMPRODUCT((P$20:P$31=P27)*(U$20:U$31>U27)),"") -> 0 | AX27: =IF(NOT(N27=""),SUMPRODUCT((P$20:P$31=P27)*(U$20:U$31=U27)*(Z$20:Z$31>Z27)),"") -> 0 | AY27: =IF(NOT(N27=""),SUMPRODUCT((P$20:P$31=P27)*(U$20:U$31=U27)*(Z$20:Z$31=Z27)*(X$20:X$31>X27)),"") -> 0 | AZ27: =IF(NOT(N27=""),SUMPRODUCT((P$20:P$31=P27)*(U$20:U$31=U27)*(Z$20:Z$31=Z27)*(X$20:X$31=X27)*(AT$20:AT$31<AT27)),"") -> 0 | BA27: =IF(NOT(N27=""),SUMPRODUCT((P$20:P$31=P27)*(U$20:U$31=U27)*(Z$20:Z$31=Z27)*(X$20:X$31=X27)*(AT$20:AT$31=AT27)*(AR$20:AR$31>AR27)),"") -> 0 | BB27: =IF(NOT(N27=""),SUMPRODUCT((P$20:P$31=P27)*(U$20:U$31=U27)*(Z$20:Z$31=Z27)*(X$20:X$31=X27)*(AT$20:AT$31=AT27)*(AR$20:AR$31=AR27)*(AP$20:AP$31>AP27)),"") -> 0 | BC27: =IF(NOT(N27=""),SUMPRODUCT((P$20:P$31=P27)*(U$20:U$31=U27)*(Z$20:Z$31=Z27)*(X$20:X$31=X27)*(AT$20:AT$31=AT27)*(AR$20:AR$31=AR27)*(AP$20:AP$31=AP27)*(AI$20:AI$31>AI27)),"") -> 0 | BD27: =IF(NOT(N27=""),SUMPRODUCT((P$20:P$31=P27)*(U$20:U$31=U27)*(Z$20:Z$31=Z27)*(X$20:X$31=X27)*(AT$20:AT$31=AT27)*(AR$20:AR$31=AR27)*(AP$20:AP$31=AP27)*(AI$20:AI$31=AI27)*(AG$20:AG$31>AG27)),"") -> 0 | BE27: =IF(NOT(N27=""),SUMPRODUCT((P$20:P$31=P27)*(U$20:U$31=U27)*(X$20:X$31=X27)*(Z$20:Z$31=Z27)*(AT$20:AT$31=AT27)*(AP$20:AP$31=AP27)*(AR$20:AR$31=AR27)*(AI$20:AI$31=AI27)*(AG$20:AG$31=AG27)*(BF$20:BF$31>BF27)),"") -> 0 | BF27: =IF(NOT(N27=""),IF(NOT('Teams - Setup'!G28=""),'Teams - Setup'!G28,0),"") -> 0 | BH27: =IF(NOT(N27=""),ROW(N27),"") -> 27
B28: Sun | C28: 03/23/2014 | D28: 4:00PM EDT | E28: Montreal | F28: 0 | G28: 2 | H28: Seattle | I28: Olympic Stadium | K28: =IF(AND(NOT(E28=""),NOT(H28="")),IF(AND(NOT(F28=""),NOT(G28="")),1,0),0) -> 1 | M28: =IF(NOT(N28=""),SUM(AV28:BE28),"") -> 4 | N28: =IF(NOT('Teams - Setup'!B29=""),'Teams - Setup'!B29,"") -> Vancouver | P28: =IF(NOT(N28=""),AB28+AK28,"") -> 20 | R28: =IF(NOT(N28=""),AC28+AL28,"") -> 12 | S28: =IF(NOT(N28=""),IF(R28>0,P28/R28,0),"") -> 1.6666667 | U28: =IF(NOT(N28=""),AD28+AM28,"") -> 5 | V28: =IF(NOT(N28=""),AE28+AN28,"") -> 2 | W28: =IF(NOT(N28=""),AF28+AO28,"") -> 5 | X28: =IF(NOT(N28=""),AG28+AP28,"") -> 22 | Y28: =IF(NOT(N28=""),AH28+AQ28,"") -> 17 | Z28: =IF(NOT(N28=""),X28-Y28,"") -> 5 | AB28: =IF(NOT(N28=""),(AD28*PtsHomeWin)+(AF28*PtsHomeDraw)+(AE28*PtsHomeLoss),"") -> 11 | AC28: =IF(NOT(N28=""),SUMPRODUCT((HomeTeam=N28)*GamePlayed),"") -> 6 | AD28: =IF(NOT(N28=""),SUMPRODUCT((HomeTeam=N28)*(HomeScore>AwayScore)*GamePlayed),"") -> 3 | AE28: =IF(NOT(N28=""),SUMPRODUCT((HomeTeam=N28)*(HomeScore<AwayScore)*GamePlayed),"") -> 1 | AF28: =IF(NOT(N28=""),SUMPRODUCT((HomeTeam=N28)*(HomeScore=AwayScore)*GamePlayed),"") -> 2 | AG28: =IF(NOT(N28=""),SUMPRODUCT((HomeTeam=N28)*HomeScore*GamePlayed),"") -> 14 | AH28: =IF(NOT(N28=""),SUMPRODUCT((HomeTeam=N28)*AwayScore*GamePlayed),"") -> 10 | AI28: =IF(NOT(N28=""),AG28-AH28,"") -> 4 | AK28: =IF(NOT(N28=""),(AM28*PtsAwayWin)+(AO28*PtsAwayDraw)+(AN28*PtsAwayLoss),"") -> 9 | AL28: =IF(NOT(N28=""),SUMPRODUCT((AwayTeam=N28)*GamePlayed),"") -> 6 | AM28: =IF(NOT(N28=""),SUMPRODUCT((AwayTeam=N28)*(AwayScore>HomeScore)*GamePlayed),"") -> 2 | AN28: =IF(NOT(N28=""),SUMPRODUCT((AwayTeam=N28)*(AwayScore<HomeScore)*GamePlayed),"") -> 1 | AO28: =IF(NOT(N28=""),SUMPRODUCT((AwayTeam=N28)*(AwayScore=HomeScore)*GamePlayed),"") -> 3 | AP28: =IF(NOT(N28=""),SUMPRODUCT((AwayTeam=N28)*AwayScore*GamePlayed),"") -> 8 | AQ28: =IF(NOT(N28=""),SUMPRODUCT((AwayTeam=N28)*HomeScore*GamePlayed),"") -> 7 | AR28: =IF(NOT(N28=""),AP28-AQ28,"") -> 1 | AT28: =IF(NOT(N28=""),IF(NOT('Teams - Setup'!F29=""),'Teams - Setup'!F29,0),"") -> 0 | AV28: =IF(NOT(N28=""),RANK(P28,P$20:P$31,0),"") -> 4 | AW28: =IF(NOT(N28=""),SUMPRODUCT((P$20:P$31=P28)*(U$20:U$31>U28)),"") -> 0 | AX28: =IF(NOT(N28=""),SUMPRODUCT((P$20:P$31=P28)*(U$20:U$31=U28)*(Z$20:Z$31>Z28)),"") -> 0 | AY28: =IF(NOT(N28=""),SUMPRODUCT((P$20:P$31=P28)*(U$20:U$31=U28)*(Z$20:Z$31=Z28)*(X$20:X$31>X28)),"") -> 0 | AZ28: =IF(NOT(N28=""),SUMPRODUCT((P$20:P$31=P28)*(U$20:U$31=U28)*(Z$20:Z$31=Z28)*(X$20:X$31=X28)*(AT$20:AT$31<AT28)),"") -> 0 | BA28: =IF(NOT(N28=""),SUMPRODUCT((P$20:P$31=P28)*(U$20:U$31=U28)*(Z$20:Z$31=Z28)*(X$20:X$31=X28)*(AT$20:AT$31=AT28)*(AR$20:AR$31>AR28)),"") -> 0 | BB28: =IF(NOT(N28=""),SUMPRODUCT((P$20:P$31=P28)*(U$20:U$31=U28)*(Z$20:Z$31=Z28)*(X$20:X$31=X28)*(AT$20:AT$31=AT28)*(AR$20:AR$31=AR28)*(AP$20:AP$31>AP28)),"") -> 0 | BC28: =IF(NOT(N28=""),SUMPRODUCT((P$20:P$31=P28)*(U$20:U$31=U28)*(Z$20:Z$31=Z28)*(X$20:X$31=X28)*(AT$20:AT$31=AT28)*(AR$20:AR$31=AR28)*(AP$20:AP$31=AP28)*(AI$20:AI$31>AI28)),"") -> 0 | BD28: =IF(NOT(N28=""),SUMPRODUCT((P$20:P$31=P28)*(U$20:U$31=U28)*(Z$20:Z$31=Z28)*(X$20:X$31=X28)*(AT$20:AT$31=AT28)*(AR$20:AR$31=AR28)*(AP$20:AP$31=AP28)*(AI$20:AI$31=AI28)*(AG$20:AG$31>AG28)),"") -> 0 | BE28: =IF(NOT(N28=""),SUMPRODUCT((P$20:P$31=P28)*(U$20:U$31=U28)*(X$20:X$31=X28)*(Z$20:Z$31=Z28)*(AT$20:AT$31=AT28)*(AP$20:AP$31=AP28)*(AR$20:AR$31=AR28)*(AI$20:AI$31=AI28)*(AG$20:AG$31=AG28)*(BF$20:BF$31>BF28)),"") -> 0 | BF28: =IF(NOT(N28=""),IF(NOT('Teams - Setup'!G29=""),'Teams - Setup'!G29,0),"") -> 0 | BH28: =IF(NOT(N28=""),ROW(N28),"") -> 28
B29: Sat | C29: 03/29/2014 | D29: 4:00PM EDT | E29: Philadelphia | F29: 1 | G29: 1 | H29: Montreal | I29: PPL Park | K29: =IF(AND(NOT(E29=""),NOT(H29="")),IF(AND(NOT(F29=""),NOT(G29="")),1,0),0) -> 1 | M29: =IF(NOT(N29=""),SUM(AV29:BE29),"") | N29: =IF(NOT('Teams - Setup'!B30=""),'Teams - Setup'!B30,"") | P29: =IF(NOT(N29=""),AB29+AK29,"") | R29: =IF(NOT(N29=""),AC29+AL29,"") | S29: =IF(NOT(N29=""),IF(R29>0,P29/R29,0),"") | U29: =IF(NOT(N29=""),AD29+AM29,"") | V29: =IF(NOT(N29=""),AE29+AN29,"") | W29: =IF(NOT(N29=""),AF29+AO29,"") | X29: =IF(NOT(N29=""),AG29+AP29,"") | Y29: =IF(NOT(N29=""),AH29+AQ29,"") | Z29: =IF(NOT(N29=""),X29-Y29,"") | AB29: =IF(NOT(N29=""),(AD29*PtsHomeWin)+(AF29*PtsHomeDraw)+(AE29*PtsHomeLoss),"") | AC29: =IF(NOT(N29=""),SUMPRODUCT((HomeTeam=N29)*GamePlayed),"") | AD29: =IF(NOT(N29=""),SUMPRODUCT((HomeTeam=N29)*(HomeScore>AwayScore)*GamePlayed),"") | AE29: =IF(NOT(N29=""),SUMPRODUCT((HomeTeam=N29)*(HomeScore<AwayScore)*GamePlayed),"") | AF29: =IF(NOT(N29=""),SUMPRODUCT((HomeTeam=N29)*(HomeScore=AwayScore)*GamePlayed),"") | AG29: =IF(NOT(N29=""),SUMPRODUCT((HomeTeam=N29)*HomeScore*GamePlayed),"") | AH29: =IF(NOT(N29=""),SUMPRODUCT((HomeTeam=N29)*AwayScore*GamePlayed),"") | AI29: =IF(NOT(N29=""),AG29-AH29,"") | AK29: =IF(NOT(N29=""),(AM29*PtsAwayWin)+(AO29*PtsAwayDraw)+(AN29*PtsAwayLoss),"") | AL29: =IF(NOT(N29=""),SUMPRODUCT((AwayTeam=N29)*GamePlayed),"") | AM29: =IF(NOT(N29=""),SUMPRODUCT((AwayTeam=N29)*(AwayScore>HomeScore)*GamePlayed),"") | AN29: =IF(NOT(N29=""),SUMPRODUCT((AwayTeam=N29)*(AwayScore<HomeScore)*GamePlayed),"") | AO29: =IF(NOT(N29=""),SUMPRODUCT((AwayTeam=N29)*(AwayScore=HomeScore)*GamePlayed),"") | AP29: =IF(NOT(N29=""),SUMPRODUCT((AwayTeam=N29)*AwayScore*GamePlayed),"") | AQ29: =IF(NOT(N29=""),SUMPRODUCT((AwayTeam=N29)*HomeScore*GamePlayed),"") | AR29: =IF(NOT(N29=""),AP29-AQ29,"") | AT29: =IF(NOT(N29=""),IF(NOT('Teams - Setup'!F30=""),'Teams - Setup'!F30,0),"") | AV29: =IF(NOT(N29=""),RANK(P29,P$20:P$31,0),"") | AW29: =IF(NOT(N29=""),SUMPRODUCT((P$20:P$31=P29)*(U$20:U$31>U29)),"") | AX29: =IF(NOT(N29=""),SUMPRODUCT((P$20:P$31=P29)*(U$20:U$31=U29)*(Z$20:Z$31>Z29)),"") | AY29: =IF(NOT(N29=""),SUMPRODUCT((P$20:P$31=P29)*(U$20:U$31=U29)*(Z$20:Z$31=Z29)*(X$20:X$31>X29)),"") | AZ29: =IF(NOT(N29=""),SUMPRODUCT((P$20:P$31=P29)*(U$20:U$31=U29)*(Z$20:Z$31=Z29)*(X$20:X$31=X29)*(AT$20:AT$31<AT29)),"") | BA29: =IF(NOT(N29=""),SUMPRODUCT((P$20:P$31=P29)*(U$20:U$31=U29)*(Z$20:Z$31=Z29)*(X$20:X$31=X29)*(AT$20:AT$31=AT29)*(AR$20:AR$31>AR29)),"") | BB29: =IF(NOT(N29=""),SUMPRODUCT((P$20:P$31=P29)*(U$20:U$31=U29)*(Z$20:Z$31=Z29)*(X$20:X$31=X29)*(AT$20:AT$31=AT29)*(AR$20:AR$31=AR29)*(AP$20:AP$31>AP29)),"") | BC29: =IF(NOT(N29=""),SUMPRODUCT((P$20:P$31=P29)*(U$20:U$31=U29)*(Z$20:Z$31=Z29)*(X$20:X$31=X29)*(AT$20:AT$31=AT29)*(AR$20:AR$31=AR29)*(AP$20:AP$31=AP29)*(AI$20:AI$31>AI29)),"") | BD29: =IF(NOT(N29=""),SUMPRODUCT((P$20:P$31=P29)*(U$20:U$31=U29)*(Z$20:Z$31=Z29)*(X$20:X$31=X29)*(AT$20:AT$31=AT29)*(AR$20:AR$31=AR29)*(AP$20:AP$31=AP29)*(AI$20:AI$31=AI29)*(AG$20:AG$31>AG29)),"") | BE29: =IF(NOT(N29=""),SUMPRODUCT((P$20:P$31=P29)*(U$20:U$31=U29)*(X$20:X$31=X29)*(Z$20:Z$31=Z29)*(AT$20:AT$31=AT29)*(AP$20:AP$31=AP29)*(AR$20:AR$31=AR29)*(AI$20:AI$31=AI29)*(AG$20:AG$31=AG29)*(BF$20:BF$31>BF29)),"") | BF29: =IF(NOT(N29=""),IF(NOT('Teams - Setup'!G30=""),'Teams - Setup'!G30,0),"") | BH29: =IF(NOT(N29=""),ROW(N29),"")
B30: Sat | C30: 03/29/2014 | D30: 4:00PM EDT | E30: D.C. United | F30: 2 | G30: 2 | H30: Chicago | I30: RFK Stadium | K30: =IF(AND(NOT(E30=""),NOT(H30="")),IF(AND(NOT(F30=""),NOT(G30="")),1,0),0) -> 1 | M30: =IF(NOT(N30=""),SUM(AV30:BE30),"") | N30: =IF(NOT('Teams - Setup'!B31=""),'Teams - Setup'!B31,"") | P30: =IF(NOT(N30=""),AB30+AK30,"") | R30: =IF(NOT(N30=""),AC30+AL30,"") | S30: =IF(NOT(N30=""),IF(R30>0,P30/R30,0),"") | U30: =IF(NOT(N30=""),AD30+AM30,"") | V30: =IF(NOT(N30=""),AE30+AN30,"") | W30: =IF(NOT(N30=""),AF30+AO30,"") | X30: =IF(NOT(N30=""),AG30+AP30,"") | Y30: =IF(NOT(N30=""),AH30+AQ30,"") | Z30: =IF(NOT(N30=""),X30-Y30,"") | AB30: =IF(NOT(N30=""),(AD30*PtsHomeWin)+(AF30*PtsHomeDraw)+(AE30*PtsHomeLoss),"") | AC30: =IF(NOT(N30=""),SUMPRODUCT((HomeTeam=N30)*GamePlayed),"") | AD30: =IF(NOT(N30=""),SUMPRODUCT((HomeTeam=N30)*(HomeScore>AwayScore)*GamePlayed),"") | AE30: =IF(NOT(N30=""),SUMPRODUCT((HomeTeam=N30)*(HomeScore<AwayScore)*GamePlayed),"") | AF30: =IF(NOT(N30=""),SUMPRODUCT((HomeTeam=N30)*(HomeScore=AwayScore)*GamePlayed),"") | AG30: =IF(NOT(N30=""),SUMPRODUCT((HomeTeam=N30)*HomeScore*GamePlayed),"") | AH30: =IF(NOT(N30=""),SUMPRODUCT((HomeTeam=N30)*AwayScore*GamePlayed),"") | AI30: =IF(NOT(N30=""),AG30-AH30,"") | AK30: =IF(NOT(N30=""),(AM30*PtsAwayWin)+(AO30*PtsAwayDraw)+(AN30*PtsAwayLoss),"") | AL30: =IF(NOT(N30=""),SUMPRODUCT((AwayTeam=N30)*GamePlayed),"") | AM30: =IF(NOT(N30=""),SUMPRODUCT((AwayTeam=N30)*(AwayScore>HomeScore)*GamePlayed),"") | AN30: =IF(NOT(N30=""),SUMPRODUCT((AwayTeam=N30)*(AwayScore<HomeScore)*GamePlayed),"") | AO30: =IF(NOT(N30=""),SUMPRODUCT((AwayTeam=N30)*(AwayScore=HomeScore)*GamePlayed),"") | AP30: =IF(NOT(N30=""),SUMPRODUCT((AwayTeam=N30)*AwayScore*GamePlayed),"") | AQ30: =IF(NOT(N30=""),SUMPRODUCT((AwayTeam=N30)*HomeScore*GamePlayed),"") | AR30: =IF(NOT(N30=""),AP30-AQ30,"") | AT30: =IF(NOT(N30=""),IF(NOT('Teams - Setup'!F31=""),'Teams - Setup'!F31,0),"") | AV30: =IF(NOT(N30=""),RANK(P30,P$20:P$31,0),"") | AW30: =IF(NOT(N30=""),SUMPRODUCT((P$20:P$31=P30)*(U$20:U$31>U30)),"") | AX30: =IF(NOT(N30=""),SUMPRODUCT((P$20:P$31=P30)*(U$20:U$31=U30)*(Z$20:Z$31>Z30)),"") | AY30: =IF(NOT(N30=""),SUMPRODUCT((P$20:P$31=P30)*(U$20:U$31=U30)*(Z$20:Z$31=Z30)*(X$20:X$31>X30)),"") | AZ30: =IF(NOT(N30=""),SUMPRODUCT((P$20:P$31=P30)*(U$20:U$31=U30)*(Z$20:Z$31=Z30)*(X$20:X$31=X30)*(AT$20:AT$31<AT30)),"") | BA30: =IF(NOT(N30=""),SUMPRODUCT((P$20:P$31=P30)*(U$20:U$31=U30)*(Z$20:Z$31=Z30)*(X$20:X$31=X30)*(AT$20:AT$31=AT30)*(AR$20:AR$31>AR30)),"") | BB30: =IF(NOT(N30=""),SUMPRODUCT((P$20:P$31=P30)*(U$20:U$31=U30)*(Z$20:Z$31=Z30)*(X$20:X$31=X30)*(AT$20:AT$31=AT30)*(AR$20:AR$31=AR30)*(AP$20:AP$31>AP30)),"") | BC30: =IF(NOT(N30=""),SUMPRODUCT((P$20:P$31=P30)*(U$20:U$31=U30)*(Z$20:Z$31=Z30)*(X$20:X$31=X30)*(AT$20:AT$31=AT30)*(AR$20:AR$31=AR30)*(AP$20:AP$31=AP30)*(AI$20:AI$31>AI30)),"") | BD30: =IF(NOT(N30=""),SUMPRODUCT((P$20:P$31=P30)*(U$20:U$31=U30)*(Z$20:Z$31=Z30)*(X$20:X$31=X30)*(AT$20:AT$31=AT30)*(AR$20:AR$31=AR30)*(AP$20:AP$31=AP30)*(AI$20:AI$31=AI30)*(AG$20:AG$31>AG30)),"") | BE30: =IF(NOT(N30=""),SUMPRODUCT((P$20:P$31=P30)*(U$20:U$31=U30)*(X$20:X$31=X30)*(Z$20:Z$31=Z30)*(AT$20:AT$31=AT30)*(AP$20:AP$31=AP30)*(AR$20:AR$31=AR30)*(AI$20:AI$31=AI30)*(AG$20:AG$31=AG30)*(BF$20:BF$31>BF30)),"") | BF30: =IF(NOT(N30=""),IF(NOT('Teams - Setup'!G31=""),'Teams - Setup'!G31,0),"") | BH30: =IF(NOT(N30=""),ROW(N30),"")
B31: Sat | C31: 03/29/2014 | D31: 6:00PM EDT | E31: Colorado | F31: 2 | G31: 3 | H31: Sporting KC | I31: Dick's Sporting Goods Park | K31: =IF(AND(NOT(E31=""),NOT(H31="")),IF(AND(NOT(F31=""),NOT(G31="")),1,0),0) -> 1 | M31: =IF(NOT(N31=""),SUM(AV31:BE31),"") | N31: =IF(NOT('Teams - Setup'!B32=""),'Teams - Setup'!B32,"") | P31: =IF(NOT(N31=""),AB31+AK31,"") | R31: =IF(NOT(N31=""),AC31+AL31,"") | S31: =IF(NOT(N31=""),IF(R31>0,P31/R31,0),"") | U31: =IF(NOT(N31=""),AD31+AM31,"") | V31: =IF(NOT(N31=""),AE31+AN31,"") | W31: =IF(NOT(N31=""),AF31+AO31,"") | X31: =IF(NOT(N31=""),AG31+AP31,"") | Y31: =IF(NOT(N31=""),AH31+AQ31,"") | Z31: =IF(NOT(N31=""),X31-Y31,"") | AB31: =IF(NOT(N31=""),(AD31*PtsHomeWin)+(AF31*PtsHomeDraw)+(AE31*PtsHomeLoss),"") | AC31: =IF(NOT(N31=""),SUMPRODUCT((HomeTeam=N31)*GamePlayed),"") | AD31: =IF(NOT(N31=""),SUMPRODUCT((HomeTeam=N31)*(HomeScore>AwayScore)*GamePlayed),"") | AE31: =IF(NOT(N31=""),SUMPRODUCT((HomeTeam=N31)*(HomeScore<AwayScore)*GamePlayed),"") | AF31: =IF(NOT(N31=""),SUMPRODUCT((HomeTeam=N31)*(HomeScore=AwayScore)*GamePlayed),"") | AG31: =IF(NOT(N31=""),SUMPRODUCT((HomeTeam=N31)*HomeScore*GamePlayed),"") | AH31: =IF(NOT(N31=""),SUMPRODUCT((HomeTeam=N31)*AwayScore*GamePlayed),"") | AI31: =IF(NOT(N31=""),AG31-AH31,"") | AK31: =IF(NOT(N31=""),(AM31*PtsAwayWin)+(AO31*PtsAwayDraw)+(AN31*PtsAwayLoss),"") | AL31: =IF(NOT(N31=""),SUMPRODUCT((AwayTeam=N31)*GamePlayed),"") | AM31: =IF(NOT(N31=""),SUMPRODUCT((AwayTeam=N31)*(AwayScore>HomeScore)*GamePlayed),"") | AN31: =IF(NOT(N31=""),SUMPRODUCT((AwayTeam=N31)*(AwayScore<HomeScore)*GamePlayed),"") | AO31: =IF(NOT(N31=""),SUMPRODUCT((AwayTeam=N31)*(AwayScore=HomeScore)*GamePlayed),"") | AP31: =IF(NOT(N31=""),SUMPRODUCT((AwayTeam=N31)*AwayScore*GamePlayed),"") | AQ31: =IF(NOT(N31=""),SUMPRODUCT((AwayTeam=N31)*HomeScore*GamePlayed),"") | AR31: =IF(NOT(N31=""),AP31-AQ31,"") | AT31: =IF(NOT(N31=""),IF(NOT('Teams - Setup'!F32=""),'Teams - Setup'!F32,0),"") | AV31: =IF(NOT(N31=""),RANK(P31,P$20:P$31,0),"") | AW31: =IF(NOT(N31=""),SUMPRODUCT((P$20:P$31=P31)*(U$20:U$31>U31)),"") | AX31: =IF(NOT(N31=""),SUMPRODUCT((P$20:P$31=P31)*(U$20:U$31=U31)*(Z$20:Z$31>Z31)),"") | AY31: =IF(NOT(N31=""),SUMPRODUCT((P$20:P$31=P31)*(U$20:U$31=U31)*(Z$20:Z$31=Z31)*(X$20:X$31>X31)),"") | AZ31: =IF(NOT(N31=""),SUMPRODUCT((P$20:P$31=P31)*(U$20:U$31=U31)*(Z$20:Z$31=Z31)*(X$20:X$31=X31)*(AT$20:AT$31<AT31)),"") | BA31: =IF(NOT(N31=""),SUMPRODUCT((P$20:P$31=P31)*(U$20:U$31=U31)*(Z$20:Z$31=Z31)*(X$20:X$31=X31)*(AT$20:AT$31=AT31)*(AR$20:AR$31>AR31)),"") | BB31: =IF(NOT(N31=""),SUMPRODUCT((P$20:P$31=P31)*(U$20:U$31=U31)*(Z$20:Z$31=Z31)*(X$20:X$31=X31)*(AT$20:AT$31=AT31)*(AR$20:AR$31=AR31)*(AP$20:AP$31>AP31)),"") | BC31: =IF(NOT(N31=""),SUMPRODUCT((P$20:P$31=P31)*(U$20:U$31=U31)*(Z$20:Z$31=Z31)*(X$20:X$31=X31)*(AT$20:AT$31=AT31)*(AR$20:AR$31=AR31)*(AP$20:AP$31=AP31)*(AI$20:AI$31>AI31)),"") | BD31: =IF(NOT(N31=""),SUMPRODUCT((P$20:P$31=P31)*(U$20:U$31=U31)*(Z$20:Z$31=Z31)*(X$20:X$31=X31)*(AT$20:AT$31=AT31)*(AR$20:AR$31=AR31)*(AP$20:AP$31=AP31)*(AI$20:AI$31=AI31)*(AG$20:AG$31>AG31)),"") | BE31: =IF(NOT(N31=""),SUMPRODUCT((P$20:P$31=P31)*(U$20:U$31=U31)*(X$20:X$31=X31)*(Z$20:Z$31=Z31)*(AT$20:AT$31=AT31)*(AP$20:AP$31=AP31)*(AR$20:AR$31=AR31)*(AI$20:AI$31=AI31)*(AG$20:AG$31=AG31)*(BF$20:BF$31>BF31)),"") | BF31: =IF(NOT(N31=""),IF(NOT('Teams - Setup'!G32=""),'Teams - Setup'!G32,0),"") | BH31: =IF(NOT(N31=""),ROW(N31),"")
B32: Sat | C32: 03/29/2014 | D32: 7:00PM EDT | E32: Vancouver | F32: 2 | G32: 1 | H32: Houston | I32: BC Place | K32: =IF(AND(NOT(E32=""),NOT(H32="")),IF(AND(NOT(F32=""),NOT(G32="")),1,0),0) -> 1
B33: Sat | C33: 03/29/2014 | D33: 8:30PM EDT | E33: FC Dallas | F33: 2 | G33: 1 | H33: Portland | I33: Toyota Stadium | K33: =IF(AND(NOT(E33=""),NOT(H33="")),IF(AND(NOT(F33=""),NOT(G33="")),1,0),0) -> 1 | M33: Supporters' Shield
B34: Sat | C34: 03/29/2014 | D34: 9:30PM EDT | E34: Real Salt Lake | F34: 3 | G34: 0 | H34: Toronto FC | I34: Rio Tinto Stadium | K34: =IF(AND(NOT(E34=""),NOT(H34="")),IF(AND(NOT(F34=""),NOT(G34="")),1,0),0) -> 1 | M34: POS | N34: TEAM | P34: PTS | R34: GP | S34: PPG | U34: W | V34: L | W34: T | X34: GF | Y34: GA | Z34: GD | AC34: HGP | AD34: HW | AE34: HL | AF34: HT | AG34: HGF | AH34: HGA | AI34: HGD | AL34: AGP | AM34: AW | AN34: AL | AO34: AT | AP34: AGF | AQ34: AGA | AR34: AGD | AT34: DP | AV34: PTS | AW34: W | AX34: GF | AY34: GD | AZ34: DP | BA34: AGF | BB34: AGD | BC34: HGF | BD34: HGD | BE34: SORT | BF34: LOTS | BH34: ROW
B35: Sat | C35: 03/29/2014 | D35: 10:00PM EDT | E35: Seattle | F35: 1 | G35: 2 | H35: Columbus | I35: CenturyLink Field | K35: =IF(AND(NOT(E35=""),NOT(H35="")),IF(AND(NOT(F35=""),NOT(G35="")),1,0),0) -> 1 | M35: =IF(NOT(N35=""),SUM(AV35:BE35),"") -> 17 | N35: =IF(NOT('Teams - Setup'!B6=""),'Teams - Setup'!B6,"") -> Chicago | P35: =IF(NOT(N35=""),AB35+AK35,"") -> 14 | R35: =IF(NOT(N35=""),AC35+AL35,"") -> 13 | S35: =IF(NOT(N35=""),IF(R35>0,P35/R35,0),"") -> 1.0769231 | U35: =IF(NOT(N35=""),AD35+AM35,"") -> 2 | V35: =IF(NOT(N35=""),AE35+AN35,"") -> 3 | W35: =IF(NOT(N35=""),AF35+AO35,"") -> 8 | X35: =IF(NOT(N35=""),AG35+AP35,"") -> 20 | Y35: =IF(NOT(N35=""),AH35+AQ35,"") -> 22 | Z35: =IF(NOT(N35=""),X35-Y35,"") -> -2 | AB35: =IF(NOT(N35=""),(AD35*PtsHomeWin)+(AF35*PtsHomeDraw)+(AE35*PtsHomeLoss),"") -> 7 | AC35: =IF(NOT(N35=""),SUMPRODUCT((HomeTeam=N35)*GamePlayed),"") -> 6 | AD35: =IF(NOT(N35=""),SUMPRODUCT((HomeTeam=N35)*(HomeScore>AwayScore)*GamePlayed),"") -> 1 | AE35: =IF(NOT(N35=""),SUMPRODUCT((HomeTeam=N35)*(HomeScore<AwayScore)*GamePlayed),"") -> 1 | AF35: =IF(NOT(N35=""),SUMPRODUCT((HomeTeam=N35)*(HomeScore=AwayScore)*GamePlayed),"") -> 4 | AG35: =IF(NOT(N35=""),SUMPRODUCT((HomeTeam=N35)*HomeScore*GamePlayed),"") -> 9 | AH35: =IF(NOT(N35=""),SUMPRODUCT((HomeTeam=N35)*AwayScore*GamePlayed),"") -> 9 | AI35: =IF(NOT(N35=""),AG35-AH35,"") -> 0 | AK35: =IF(NOT(N35=""),(AM35*PtsAwayWin)+(AO35*PtsAwayDraw)+(AN35*PtsAwayLoss),"") -> 7 | AL35: =IF(NOT(N35=""),SUMPRODUCT((AwayTeam=N35)*GamePlayed),"") -> 7 | AM35: =IF(NOT(N35=""),SUMPRODUCT((AwayTeam=N35)*(AwayScore>HomeScore)*GamePlayed),"") -> 1 | AN35: =IF(NOT(N35=""),SUMPRODUCT((AwayTeam=N35)*(AwayScore<HomeScore)*GamePlayed),"") -> 2 | AO35: =IF(NOT(N35=""),SUMPRODUCT((AwayTeam=N35)*(AwayScore=HomeScore)*GamePlayed),"") -> 4 | AP35: =IF(NOT(N35=""),SUMPRODUCT((AwayTeam=N35)*AwayScore*GamePlayed),"") -> 11 | AQ35: =IF(NOT(N35=""),SUMPRODUCT((AwayTeam=N35)*HomeScore*GamePlayed),"") -> 13 | AR35: =IF(NOT(N35=""),AP35-AQ35,"") -> -2 | AT35: =IF(NOT(N35=""),IF(NOT('Teams - Setup'!F6=""),'Teams - Setup'!F6,0),"") -> 0 | AV35: =IF(NOT(N35=""),RANK(P35,P$35:P$58,0),"") -> 16 | AW35: =IF(NOT(N35=""),SUMPRODUCT((P$35:P$58=P35)*(U$35:U$58>U35)),"") -> 1 | AX35: =IF(NOT(N35=""),SUMPRODUCT((P$35:P$58=P35)*(U$35:U$58=U35)*(Z$35:Z$58>Z35)),"") -> 0 | AY35: =IF(NOT(N35=""),SUMPRODUCT((P$35:P$58=P35)*(U$35:U$58=U35)*(Z$35:Z$58=Z35)*(X$35:X$58>X35)),"") -> 0 | AZ35: =IF(NOT(N35=""),SUMPRODUCT((P$35:P$58=P35)*(U$35:U$58=U35)*(Z$35:Z$58=Z35)*(X$35:X$58=X35)*(AT$35:AT$58<AT35)),"") -> 0 | BA35: =IF(NOT(N35=""),SUMPRODUCT((P$35:P$58=P35)*(U$35:U$58=U35)*(Z$35:Z$58=Z35)*(X$35:X$58=X35)*(AT$35:AT$58=AT35)*(AR$35:AR$58>AR35)),"") -> 0 | BB35: =IF(NOT(N35=""),SUMPRODUCT((P$35:P$58=P35)*(U$35:U$58=U35)*(Z$35:Z$58=Z35)*(X$35:X$58=X35)*(AT$35:AT$58=AT35)*(AR$35:AR$58=AR35)*(AP$35:AP$58>AP35)),"") -> 0 | BC35: =IF(NOT(N35=""),SUMPRODUCT((P$35:P$58=P35)*(U$35:U$58=U35)*(Z$35:Z$58=Z35)*(X$35:X$58=X35)*(AT$35:AT$58=AT35)*(AR$35:AR$58=AR35)*(AP$35:AP$58=AP35)*(AI$35:AI$58>AI35)),"") -> 0 | BD35: =IF(NOT(N35=""),SUMPRODUCT((P$35:P$58=P35)*(U$35:U$58=U35)*(Z$35:Z$58=Z35)*(X$35:X$58=X35)*(AT$35:AT$58=AT35)*(AR$35:AR$58=AR35)*(AP$35:AP$58=AP35)*(AI$35:AI$58=AI35)*(AG$35:AG$58>AG35)),"") -> 0 | BE35: =IF(NOT(N35=""),SUMPRODUCT((P$35:P$58=P35)*(U$35:U$58=U35)*(X$35:X$58=X35)*(Z$35:Z$58=Z35)*(AT$35:AT$58=AT35)*(AP$35:AP$58=AP35)*(AR$35:AR$58=AR35)*(AI$35:AI$58=AI35)*(AG$35:AG$58=AG35)*(BF$35:BF$58>BF35)),"") -> 0 | BF35: =IF(NOT(N35=""),IF(NOT('Teams - Setup'!G6=""),'Teams - Setup'!G6,0),"") -> 0 | BH35: =IF(NOT(N35=""),ROW(N35),"") -> 35
B36: Sat | C36: 03/29/2014 | D36: 10:30PM EDT | E36: San Jose | F36: 1 | G36: 2 | H36: New England | I36: Buck Shaw Stadium | K36: =IF(AND(NOT(E36=""),NOT(H36="")),IF(AND(NOT(F36=""),NOT(G36="")),1,0),0) -> 1 | M36: =IF(NOT(N36=""),SUM(AV36:BE36),"") -> 10 | N36: =IF(NOT('Teams - Setup'!B7=""),'Teams - Setup'!B7,"") -> Columbus | P36: =IF(NOT(N36=""),AB36+AK36,"") -> 17 | R36: =IF(NOT(N36=""),AC36+AL36,"") -> 14 | S36: =IF(NOT(N36=""),IF(R36>0,P36/R36,0),"") -> 1.2142857 | U36: =IF(NOT(N36=""),AD36+AM36,"") -> 4 | V36: =IF(NOT(N36=""),AE36+AN36,"") -> 5 | W36: =IF(NOT(N36=""),AF36+AO36,"") -> 5 | X36: =IF(NOT(N36=""),AG36+AP36,"") -> 18 | Y36: =IF(NOT(N36=""),AH36+AQ36,"") -> 18 | Z36: =IF(NOT(N36=""),X36-Y36,"") -> 0 | AB36: =IF(NOT(N36=""),(AD36*PtsHomeWin)+(AF36*PtsHomeDraw)+(AE36*PtsHomeLoss),"") -> 9 | AC36: =IF(NOT(N36=""),SUMPRODUCT((HomeTeam=N36)*GamePlayed),"") -> 7 | AD36: =IF(NOT(N36=""),SUMPRODUCT((HomeTeam=N36)*(HomeScore>AwayScore)*GamePlayed),"") -> 2 | AE36: =IF(NOT(N36=""),SUMPRODUCT((HomeTeam=N36)*(HomeScore<AwayScore)*GamePlayed),"") -> 2 | AF36: =IF(NOT(N36=""),SUMPRODUCT((HomeTeam=N36)*(HomeScore=AwayScore)*GamePlayed),"") -> 3 | AG36: =IF(NOT(N36=""),SUMPRODUCT((HomeTeam=N36)*HomeScore*GamePlayed),"") -> 7 | AH36: =IF(NOT(N36=""),SUMPRODUCT((HomeTeam=N36)*AwayScore*GamePlayed),"") -> 7 | AI36: =IF(NOT(N36=""),AG36-AH36,"") -> 0 | AK36: =IF(NOT(N36=""),(AM36*PtsAwayWin)+(AO36*PtsAwayDraw)+(AN36*PtsAwayLoss),"") -> 8 | AL36: =IF(NOT(N36=""),SUMPRODUCT((AwayTeam=N36)*GamePlayed),"") -> 7 | AM36: =IF(NOT(N36=""),SUMPRODUCT((AwayTeam=N36)*(AwayScore>HomeScore)*GamePlayed),"") -> 2 | AN36: =IF(NOT(N36=""),SUMPRODUCT((AwayTeam=N36)*(AwayScore<HomeScore)*GamePlayed),"") -> 3 | AO36: =IF(NOT(N36=""),SUMPRODUCT((AwayTeam=N36)*(AwayScore=HomeScore)*GamePlayed),"") -> 2 | AP36: =IF(NOT(N36=""),SUMPRODUCT((AwayTeam=N36)*AwayScore*GamePlayed),"") -> 11 | AQ36: =IF(NOT(N36=""),SUMPRODUCT((AwayTeam=N36)*HomeScore*GamePlayed),"") -> 11 | AR36: =IF(NOT(N36=""),AP36-AQ36,"") -> 0 | AT36: =IF(NOT(N36=""),IF(NOT('Teams - Setup'!F7=""),'Teams - Setup'!F7,0),"") -> 0 | AV36: =IF(NOT(N36=""),RANK(P36,P$35:P$58,0),"") -> 9 | AW36: =IF(NOT(N36=""),SUMPRODUCT((P$35:P$58=P36)*(U$35:U$58>U36)),"") -> 1 | AX36: =IF(NOT(N36=""),SUMPRODUCT((P$35:P$58=P36)*(U$35:U$58=U36)*(Z$35:Z$58>Z36)),"") -> 0 | AY36: =IF(NOT(N36=""),SUMPRODUCT((P$35:P$58=P36)*(U$35:U$58=U36)*(Z$35:Z$58=Z36)*(X$35:X$58>X36)),"") -> 0 | AZ36: =IF(NOT(N36=""),SUMPRODUCT((P$35:P$58=P36)*(U$35:U$58=U36)*(Z$35:Z$58=Z36)*(X$35:X$58=X36)*(AT$35:AT$58<AT36)),"") -> 0 | BA36: =IF(NOT(N36=""),SUMPRODUCT((P$35:P$58=P36)*(U$35:U$58=U36)*(Z$35:Z$58=Z36)*(X$35:X$58=X36)*(AT$35:AT$58=AT36)*(AR$35:AR$58>AR36)),"") -> 0 | BB36: =IF(NOT(N36=""),SUMPRODUCT((P$35:P$58=P36)*(U$35:U$58=U36)*(Z$35:Z$58=Z36)*(X$35:X$58=X36)*(AT$35:AT$58=AT36)*(AR$35:AR$58=AR36)*(AP$35:AP$58>AP36)),"") -> 0 | BC36: =IF(NOT(N36=""),SUMPRODUCT((P$35:P$58=P36)*(U$35:U$58=U36)*(Z$35:Z$58=Z36)*(X$35:X$58=X36)*(AT$35:AT$58=AT36)*(AR$35:AR$58=AR36)*(AP$35:AP$58=AP36)*(AI$35:AI$58>AI36)),"") -> 0 | BD36: =IF(NOT(N36=""),SUMPRODUCT((P$35:P$58=P36)*(U$35:U$58=U36)*(Z$35:Z$58=Z36)*(X$35:X$58=X36)*(AT$35:AT$58=AT36)*(AR$35:AR$58=AR36)*(AP$35:AP$58=AP36)*(AI$35:AI$58=AI36)*(AG$35:AG$58>AG36)),"") -> 0 | BE36: =IF(NOT(N36=""),SUMPRODUCT((P$35:P$58=P36)*(U$35:U$58=U36)*(X$35:X$58=X36)*(Z$35:Z$58=Z36)*(AT$35:AT$58=AT36)*(AP$35:AP$58=AP36)*(AR$35:AR$58=AR36)*(AI$35:AI$58=AI36)*(AG$35:AG$58=AG36)*(BF$35:BF$58>BF36)),"") -> 0 | BF36: =IF(NOT(N36=""),IF(NOT('Teams - Setup'!G7=""),'Teams - Setup'!G7,0),"") -> 0 | BH36: =IF(NOT(N36=""),ROW(N36),"") -> 36
B37: Sun | C37: 03/30/2014 | D37: 3:00PM EDT | E37: New York | F37: 1 | G37: 1 | H37: Chivas USA | I37: Red Bull Arena | K37: =IF(AND(NOT(E37=""),NOT(H37="")),IF(AND(NOT(F37=""),NOT(G37="")),1,0),0) -> 1 | M37: =IF(NOT(N37=""),SUM(AV37:BE37),"") -> 5 | N37: =IF(NOT('Teams - Setup'!B8=""),'Teams - Setup'!B8,"") -> D.C. United | P37: =IF(NOT(N37=""),AB37+AK37,"") -> 21 | R37: =IF(NOT(N37=""),AC37+AL37,"") -> 13 | S37: =IF(NOT(N37=""),IF(R37>0,P37/R37,0),"") -> 1.6153846 | U37: =IF(NOT(N37=""),AD37+AM37,"") -> 6 | V37: =IF(NOT(N37=""),AE37+AN37,"") -> 4 | W37: =IF(NOT(N37=""),AF37+AO37,"") -> 3 | X37: =IF(NOT(N37=""),AG37+AP37,"") -> 18 | Y37: =IF(NOT(N37=""),AH37+AQ37,"") -> 14 | Z37: =IF(NOT(N37=""),X37-Y37,"") -> 4 | AB37: =IF(NOT(N37=""),(AD37*PtsHomeWin)+(AF37*PtsHomeDraw)+(AE37*PtsHomeLoss),"") -> 17 | AC37: =IF(NOT(N37=""),SUMPRODUCT((HomeTeam=N37)*GamePlayed),"") -> 8 | AD37: =IF(NOT(N37=""),SUMPRODUCT((HomeTeam=N37)*(HomeScore>AwayScore)*GamePlayed),"") -> 5 | AE37: =IF(NOT(N37=""),SUMPRODUCT((HomeTeam=N37)*(HomeScore<AwayScore)*GamePlayed),"") -> 1 | AF37: =IF(NOT(N37=""),SUMPRODUCT((HomeTeam=N37)*(HomeScore=AwayScore)*GamePlayed),"") -> 2 | AG37: =IF(NOT(N37=""),SUMPRODUCT((HomeTeam=N37)*HomeScore*GamePlayed),"") -> 13 | AH37: =IF(NOT(N37=""),SUMPRODUCT((HomeTeam=N37)*AwayScore*GamePlayed),"") -> 7 | AI37: =IF(NOT(N37=""),AG37-AH37,"") -> 6 | AK37: =IF(NOT(N37=""),(AM37*PtsAwayWin)+(AO37*PtsAwayDraw)+(AN37*PtsAwayLoss),"") -> 4 | AL37: =IF(NOT(N37=""),SUMPRODUCT((AwayTeam=N37)*GamePlayed),"") -> 5 | AM37: =IF(NOT(N37=""),SUMPRODUCT((AwayTeam=N37)*(AwayScore>HomeScore)*GamePlayed),"") -> 1 | AN37: =IF(NOT(N37=""),SUMPRODUCT((AwayTeam=N37)*(AwayScore<HomeScore)*GamePlayed),"") -> 3 | AO37: =IF(NOT(N37=""),SUMPRODUCT((AwayTeam=N37)*(AwayScore=HomeScore)*GamePlayed),"") -> 1 | AP37: =IF(NOT(N37=""),SUMPRODUCT((AwayTeam=N37)*AwayScore*GamePlayed),"") -> 5 | AQ37: =IF(NOT(N37=""),SUMPRODUCT((AwayTeam=N37)*HomeScore*GamePlayed),"") -> 7 | AR37: =IF(NOT(N37=""),AP37-AQ37,"") -> -2 | AT37: =IF(NOT(N37=""),IF(NOT('Teams - Setup'!F8=""),'Teams - Setup'!F8,0),"") -> 0 | AV37: =IF(NOT(N37=""),RANK(P37,P$35:P$58,0),"") -> 5 | AW37: =IF(NOT(N37=""),SUMPRODUCT((P$35:P$58=P37)*(U$35:U$58>U37)),"") -> 0 | AX37: =IF(NOT(N37=""),SUMPRODUCT((P$35:P$58=P37)*(U$35:U$58=U37)*(Z$35:Z$58>Z37)),"") -> 0 | AY37: =IF(NOT(N37=""),SUMPRODUCT((P$35:P$58=P37)*(U$35:U$58=U37)*(Z$35:Z$58=Z37)*(X$35:X$58>X37)),"") -> 0 | AZ37: =IF(NOT(N37=""),SUMPRODUCT((P$35:P$58=P37)*(U$35:U$58=U37)*(Z$35:Z$58=Z37)*(X$35:X$58=X37)*(AT$35:AT$58<AT37)),"") -> 0 | BA37: =IF(NOT(N37=""),SUMPRODUCT((P$35:P$58=P37)*(U$35:U$58=U37)*(Z$35:Z$58=Z37)*(X$35:X$58=X37)*(AT$35:AT$58=AT37)*(AR$35:AR$58>AR37)),"") -> 0 | BB37: =IF(NOT(N37=""),SUMPRODUCT((P$35:P$58=P37)*(U$35:U$58=U37)*(Z$35:Z$58=Z37)*(X$35:X$58=X37)*(AT$35:AT$58=AT37)*(AR$35:AR$58=AR37)*(AP$35:AP$58>AP37)),"") -> 0 | BC37: =IF(NOT(N37=""),SUMPRODUCT((P$35:P$58=P37)*(U$35:U$58=U37)*(Z$35:Z$58=Z37)*(X$35:X$58=X37)*(AT$35:AT$58=AT37)*(AR$35:AR$58=AR37)*(AP$35:AP$58=AP37)*(AI$35:AI$58>AI37)),"") -> 0 | BD37: =IF(NOT(N37=""),SUMPRODUCT((P$35:P$58=P37)*(U$35:U$58=U37)*(Z$35:Z$58=Z37)*(X$35:X$58=X37)*(AT$35:AT$58=AT37)*(AR$35:AR$58=AR37)*(AP$35:AP$58=AP37)*(AI$35:AI$58=AI37)*(AG$35:AG$58>AG37)),"") -> 0 | BE37: =IF(NOT(N37=""),SUMPRODUCT((P$35:P$58=P37)*(U$35:U$58=U37)*(X$35:X$58=X37)*(Z$35:Z$58=Z37)*(AT$35:AT$58=AT37)*(AP$35:AP$58=AP37)*(AR$35:AR$58=AR37)*(AI$35:AI$58=AI37)*(AG$35:AG$58=AG37)*(BF$35:BF$58>BF37)),"") -> 0 | BF37: =IF(NOT(N37=""),IF(NOT('Teams - Setup'!G8=""),'Teams - Setup'!G8,0),"") -> 0 | BH37: =IF(NOT(N37=""),ROW(N37),"") -> 37
B38: Sat | C38: 04/05/2014 | D38: 3:00PM EDT | E38: Portland | F38: 4 | G38: 4 | H38: Seattle | I38: Providence Park | K38: =IF(AND(NOT(E38=""),NOT(H38="")),IF(AND(NOT(F38=""),NOT(G38="")),1,0),0) -> 1 | M38: =IF(NOT(N38=""),SUM(AV38:BE38),"") -> 9 | N38: =IF(NOT('Teams - Setup'!B9=""),'Teams - Setup'!B9,"") -> Houston | P38: =IF(NOT(N38=""),AB38+AK38,"") -> 17 | R38: =IF(NOT(N38=""),AC38+AL38,"") -> 15 | S38: =IF(NOT(N38=""),IF(R38>0,P38/R38,0),"") -> 1.1333333 | U38: =IF(NOT(N38=""),AD38+AM38,"") -> 5 | V38: =IF(NOT(N38=""),AE38+AN38,"") -> 8 | W38: =IF(NOT(N38=""),AF38+AO38,"") -> 2 | X38: =IF(NOT(N38=""),AG38+AP38,"") -> 16 | Y38: =IF(NOT(N38=""),AH38+AQ38,"") -> 27 | Z38: =IF(NOT(N38=""),X38-Y38,"") -> -11 | AB38: =IF(NOT(N38=""),(AD38*PtsHomeWin)+(AF38*PtsHomeDraw)+(AE38*PtsHomeLoss),"") -> 13 | AC38: =IF(NOT(N38=""),SUMPRODUCT((HomeTeam=N38)*GamePlayed),"") -> 7 | AD38: =IF(NOT(N38=""),SUMPRODUCT((HomeTeam=N38)*(HomeScore>AwayScore)*GamePlayed),"") -> 4 | AE38: =IF(NOT(N38=""),SUMPRODUCT((HomeTeam=N38)*(HomeScore<AwayScore)*GamePlayed),"") -> 2 | AF38: =IF(NOT(N38=""),SUMPRODUCT((HomeTeam=N38)*(HomeScore=AwayScore)*GamePlayed),"") -> 1 | AG38: =IF(NOT(N38=""),SUMPRODUCT((HomeTeam=N38)*HomeScore*GamePlayed),"") -> 11 | AH38: =IF(NOT(N38=""),SUMPRODUCT((HomeTeam=N38)*AwayScore*GamePlayed),"") -> 10 | AI38: =IF(NOT(N38=""),AG38-AH38,"") -> 1 | AK38: =IF(NOT(N38=""),(AM38*PtsAwayWin)+(AO38*PtsAwayDraw)+(AN38*PtsAwayLoss),"") -> 4 | AL38: =IF(NOT(N38=""),SUMPRODUCT((AwayTeam=N38)*GamePlayed),"") -> 8 | AM38: =IF(NOT(N38=""),SUMPRODUCT((AwayTeam=N38)*(AwayScore>HomeScore)*GamePlayed),"") -> 1 | AN38: =IF(NOT(N38=""),SUMPRODUCT((AwayTeam=N38)*(AwayScore<HomeScore)*GamePlayed),"") -> 6 | AO38: =IF(NOT(N38=""),SUMPRODUCT((AwayTeam=N38)*(AwayScore=HomeScore)*GamePlayed),"") -> 1 | AP38: =IF(NOT(N38=""),SUMPRODUCT((AwayTeam=N38)*AwayScore*GamePlayed),"") -> 5 | AQ38: =IF(NOT(N38=""),SUMPRODUCT((AwayTeam=N38)*HomeScore*GamePlayed),"") -> 17 | AR38: =IF(NOT(N38=""),AP38-AQ38,"") -> -12 | AT38: =IF(NOT(N38=""),IF(NOT('Teams - Setup'!F9=""),'Teams - Setup'!F9,0),"") -> 0 | AV38: =IF(NOT(N38=""),RANK(P38,P$35:P$58,0),"") -> 9 | AW38: =IF(NOT(N38=""),SUMPRODUCT((P$35:P$58=P38)*(U$35:U$58>U38)),"") -> 0 | AX38: =IF(NOT(N38=""),SUMPRODUCT((P$35:P$58=P38)*(U$35:U$58=U38)*(Z$35:Z$58>Z38)),"") -> 0 | AY38: =IF(NOT(N38=""),SUMPRODUCT((P$35:P$58=P38)*(U$35:U$58=U38)*(Z$35:Z$58=Z38)*(X$35:X$58>X38)),"") -> 0 | AZ38: =IF(NOT(N38=""),SUMPRODUCT((P$35:P$58=P38)*(U$35:U$58=U38)*(Z$35:Z$58=Z38)*(X$35:X$58=X38)*(AT$35:AT$58<AT38)),"") -> 0 | BA38: =IF(NOT(N38=""),SUMPRODUCT((P$35:P$58=P38)*(U$35:U$58=U38)*(Z$35:Z$58=Z38)*(X$35:X$58=X38)*(AT$35:AT$58=AT38)*(AR$35:AR$58>AR38)),"") -> 0 | BB38: =IF(NOT(N38=""),SUMPRODUCT((P$35:P$58=P38)*(U$35:U$58=U38)*(Z$35:Z$58=Z38)*(X$35:X$58=X38)*(AT$35:AT$58=AT38)*(AR$35:AR$58=AR38)*(AP$35:AP$58>AP38)),"") -> 0 | BC38: =IF(NOT(N38=""),SUMPRODUCT((P$35:P$58=P38)*(U$35:U$58=U38)*(Z$35:Z$58=Z38)*(X$35:X$58=X38)*(AT$35:AT$58=AT38)*(AR$35:AR$58=AR38)*(AP$35:AP$58=AP38)*(AI$35:AI$58>AI38)),"") -> 0 | BD38: =IF(NOT(N38=""),SUMPRODUCT((P$35:P$58=P38)*(U$35:U$58=U38)*(Z$35:Z$58=Z38)*(X$35:X$58=X38)*(AT$35:AT$58=AT38)*(AR$35:AR$58=AR38)*(AP$35:AP$58=AP38)*(AI$35:AI$58=AI38)*(AG$35:AG$58>AG38)),"") -> 0 | BE38: =IF(NOT(N38=""),SUMPRODUCT((P$35:P$58=P38)*(U$35:U$58=U38)*(X$35:X$58=X38)*(Z$35:Z$58=Z38)*(AT$35:AT$58=AT38)*(AP$35:AP$58=AP38)*(AR$35:AR$58=AR38)*(AI$35:AI$58=AI38)*(AG$35:AG$58=AG38)*(BF$35:BF$58>BF38)),"") -> 0 | BF38: =IF(NOT(N38=""),IF(NOT('Teams - Setup'!G9=""),'Teams - Setup'!G9,0),"") -> 0 | BH38: =IF(NOT(N38=""),ROW(N38),"") -> 38
B39: Sat | C39: 04/05/2014 | D39: 4:00PM EDT | E39: Montreal | F39: 2 | G39: 2 | H39: New York | I39: Olympic Stadium | K39: =IF(AND(NOT(E39=""),NOT(H39="")),IF(AND(NOT(F39=""),NOT(G39="")),1,0),0) -> 1 | M39: =IF(NOT(N39=""),SUM(AV39:BE39),"") -> 18 | N39: =IF(NOT('Teams - Setup'!B10=""),'Teams - Setup'!B10,"") -> Montreal | P39: =IF(NOT(N39=""),AB39+AK39,"") -> 10 | R39: =IF(NOT(N39=""),AC39+AL39,"") -> 12 | S39: =IF(NOT(N39=""),IF(R39>0,P39/R39,0),"") -> 0.83333333 | U39: =IF(NOT(N39=""),AD39+AM39,"") -> 2 | V39: =IF(NOT(N39=""),AE39+AN39,"") -> 6 | W39: =IF(NOT(N39=""),AF39+AO39,"") -> 4 | X39: =IF(NOT(N39=""),AG39+AP39,"") -> 11 | Y39: =IF(NOT(N39=""),AH39+AQ39,"") -> 22 | Z39: =IF(NOT(N39=""),X39-Y39,"") -> -11 | AB39: =IF(NOT(N39=""),(AD39*PtsHomeWin)+(AF39*PtsHomeDraw)+(AE39*PtsHomeLoss),"") -> 8 | AC39: =IF(NOT(N39=""),SUMPRODUCT((HomeTeam=N39)*GamePlayed),"") -> 6 | AD39: =IF(NOT(N39=""),SUMPRODUCT((HomeTeam=N39)*(HomeScore>AwayScore)*GamePlayed),"") -> 2 | AE39: =IF(NOT(N39=""),SUMPRODUCT((HomeTeam=N39)*(HomeScore<AwayScore)*GamePlayed),"") -> 2 | AF39: =IF(NOT(N39=""),SUMPRODUCT((HomeTeam=N39)*(HomeScore=AwayScore)*GamePlayed),"") -> 2 | AG39: =IF(NOT(N39=""),SUMPRODUCT((HomeTeam=N39)*HomeScore*GamePlayed),"") -> 6 | AH39: =IF(NOT(N39=""),SUMPRODUCT((HomeTeam=N39)*AwayScore*GamePlayed),"") -> 8 | AI39: =IF(NOT(N39=""),AG39-AH39,"") -> -2 | AK39: =IF(NOT(N39=""),(AM39*PtsAwayWin)+(AO39*PtsAwayDraw)+(AN39*PtsAwayLoss),"") -> 2 | AL39: =IF(NOT(N39=""),SUMPRODUCT((AwayTeam=N39)*GamePlayed),"") -> 6 | AM39: =IF(NOT(N39=""),SUMPRODUCT((AwayTeam=N39)*(AwayScore>HomeScore)*GamePlayed),"") -> 0 | AN39: =IF(NOT(N39=""),SUMPRODUCT((AwayTeam=N39)*(AwayScore<HomeScore)*GamePlayed),"") -> 4 | AO39: =IF(NOT(N39=""),SUMPRODUCT((AwayTeam=N39)*(AwayScore=HomeScore)*GamePlayed),"") -> 2 | AP39: =IF(NOT(N39=""),SUMPRODUCT((AwayTeam=N39)*AwayScore*GamePlayed),"") -> 5 | AQ39: =IF(NOT(N39=""),SUMPRODUCT((AwayTeam=N39)*HomeScore*GamePlayed),"") -> 14 | AR39: =IF(NOT(N39=""),AP39-AQ39,"") -> -9 | AT39: =IF(NOT(N39=""),IF(NOT('Teams - Setup'!F10=""),'Teams - Setup'!F10,0),"") -> 0 | AV39: =IF(NOT(N39=""),RANK(P39,P$35:P$58,0),"") -> 18 | AW39: =IF(NOT(N39=""),SUMPRODUCT((P$35:P$58=P39)*(U$35:U$58>U39)),"") -> 0 | AX39: =IF(NOT(N39=""),SUMPRODUCT((P$35:P$58=P39)*(U$35:U$58=U39)*(Z$35:Z$58>Z39)),"") -> 0 | AY39: =IF(NOT(N39=""),SUMPRODUCT((P$35:P$58=P39)*(U$35:U$58=U39)*(Z$35:Z$58=Z39)*(X$35:X$58>X39)),"") -> 0 | AZ39: =IF(NOT(N39=""),SUMPRODUCT((P$35:P$58=P39)*(U$35:U$58=U39)*(Z$35:Z$58=Z39)*(X$35:X$58=X39)*(AT$35:AT$58<AT39)),"") -> 0 | BA39: =IF(NOT(N39=""),SUMPRODUCT((P$35:P$58=P39)*(U$35:U$58=U39)*(Z$35:Z$58=Z39)*(X$35:X$58=X39)*(AT$35:AT$58=AT39)*(AR$35:AR$58>AR39)),"") -> 0 | BB39: =IF(NOT(N39=""),SUMPRODUCT((P$35:P$58=P39)*(U$35:U$58=U39)*(Z$35:Z$58=Z39)*(X$35:X$58=X39)*(AT$35:AT$58=AT39)*(AR$35:AR$58=AR39)*(AP$35:AP$58>AP39)),"") -> 0 | BC39: =IF(NOT(N39=""),SUMPRODUCT((P$35:P$58=P39)*(U$35:U$58=U39)*(Z$35:Z$58=Z39)*(X$35:X$58=X39)*(AT$35:AT$58=AT39)*(AR$35:AR$58=AR39)*(AP$35:AP$58=AP39)*(AI$35:AI$58>AI39)),"") -> 0 | BD39: =IF(NOT(N39=""),SUMPRODUCT((P$35:P$58=P39)*(U$35:U$58=U39)*(Z$35:Z$58=Z39)*(X$35:X$58=X39)*(AT$35:AT$58=AT39)*(AR$35:AR$58=AR39)*(AP$35:AP$58=AP39)*(AI$35:AI$58=AI39)*(AG$35:AG$58>AG39)),"") -> 0 | BE39: =IF(NOT(N39=""),SUMPRODUCT((P$35:P$58=P39)*(U$35:U$58=U39)*(X$35:X$58=X39)*(Z$35:Z$58=Z39)*(AT$35:AT$58=AT39)*(AP$35:AP$58=AP39)*(AR$35:AR$58=AR39)*(AI$35:AI$58=AI39)*(AG$35:AG$58=AG39)*(BF$35:BF$58>BF39)),"") -> 0 | BF39: =IF(NOT(N39=""),IF(NOT('Teams - Setup'!G10=""),'Teams - Setup'!G10,0),"") -> 0 | BH39: =IF(NOT(N39=""),ROW(N39),"") -> 39
B40: Sat | C40: 04/05/2014 | D40: 5:00PM EDT | E40: Chicago | F40: 2 | G40: 2 | H40: Philadelphia | I40: Toyota Park | K40: =IF(AND(NOT(E40=""),NOT(H40="")),IF(AND(NOT(F40=""),NOT(G40="")),1,0),0) -> 1 | M40: =IF(NOT(N40=""),SUM(AV40:BE40),"") -> 3 | N40: =IF(NOT('Teams - Setup'!B11=""),'Teams - Setup'!B11,"") -> New England | P40: =IF(NOT(N40=""),AB40+AK40,"") -> 23 | R40: =IF(NOT(N40=""),AC40+AL40,"") -> 13 | S40: =IF(NOT(N40=""),IF(R40>0,P40/R40,0),"") -> 1.7692308 | U40: =IF(NOT(N40=""),AD40+AM40,"") -> 7 | V40: =IF(NOT(N40=""),AE40+AN40,"") -> 4 | W40: =IF(NOT(N40=""),AF40+AO40,"") -> 2 | X40: =IF(NOT(N40=""),AG40+AP40,"") -> 21 | Y40: =IF(NOT(N40=""),AH40+AQ40,"") -> 16 | Z40: =IF(NOT(N40=""),X40-Y40,"") -> 5 | AB40: =IF(NOT(N40=""),(AD40*PtsHomeWin)+(AF40*PtsHomeDraw)+(AE40*PtsHomeLoss),"") -> 13 | AC40: =IF(NOT(N40=""),SUMPRODUCT((HomeTeam=N40)*GamePlayed),"") -> 5 | AD40: =IF(NOT(N40=""),SUMPRODUCT((HomeTeam=N40)*(HomeScore>AwayScore)*GamePlayed),"") -> 4 | AE40: =IF(NOT(N40=""),SUMPRODUCT((HomeTeam=N40)*(HomeScore<AwayScore)*GamePlayed),"") -> 0 | AF40: =IF(NOT(N40=""),SUMPRODUCT((HomeTeam=N40)*(HomeScore=AwayScore)*GamePlayed),"") -> 1 | AG40: =IF(NOT(N40=""),SUMPRODUCT((HomeTeam=N40)*HomeScore*GamePlayed),"") -> 11 | AH40: =IF(NOT(N40=""),SUMPRODUCT((HomeTeam=N40)*AwayScore*GamePlayed),"") -> 1 | AI40: =IF(NOT(N40=""),AG40-AH40,"") -> 10 | AK40: =IF(NOT(N40=""),(AM40*PtsAwayWin)+(AO40*PtsAwayDraw)+(AN40*PtsAwayLoss),"") -> 10 | AL40: =IF(NOT(N40=""),SUMPRODUCT((AwayTeam=N40)*GamePlayed),"") -> 8 | AM40: =IF(NOT(N40=""),SUMPRODUCT((AwayTeam=N40)*(AwayScore>HomeScore)*GamePlayed),"") -> 3 | AN40: =IF(NOT(N40=""),SUMPRODUCT((AwayTeam=N40)*(AwayScore<HomeScore)*GamePlayed),"") -> 4 | AO40: =IF(NOT(N40=""),SUMPRODUCT((AwayTeam=N40)*(AwayScore=HomeScore)*GamePlayed),"") -> 1 | AP40: =IF(NOT(N40=""),SUMPRODUCT((AwayTeam=N40)*AwayScore*GamePlayed),"") -> 10 | AQ40: =IF(NOT(N40=""),SUMPRODUCT((AwayTeam=N40)*HomeScore*GamePlayed),"") -> 15 | AR40: =IF(NOT(N40=""),AP40-AQ40,"") -> -5 | AT40: =IF(NOT(N40=""),IF(NOT('Teams - Setup'!F11=""),'Teams - Setup'!F11,0),"") -> 0 | AV40: =IF(NOT(N40=""),RANK(P40,P$35:P$58,0),"") -> 3 | AW40: =IF(NOT(N40=""),SUMPRODUCT((P$35:P$58=P40)*(U$35:U$58>U40)),"") -> 0 | AX40: =IF(NOT(N40=""),SUMPRODUCT((P$35:P$58=P40)*(U$35:U$58=U40)*(Z$35:Z$58>Z40)),"") -> 0 | AY40: =IF(NOT(N40=""),SUMPRODUCT((P$35:P$58=P40)*(U$35:U$58=U40)*(Z$35:Z$58=Z40)*(X$35:X$58>X40)),"") -> 0 | AZ40: =IF(NOT(N40=""),SUMPRODUCT((P$35:P$58=P40)*(U$35:U$58=U40)*(Z$35:Z$58=Z40)*(X$35:X$58=X40)*(AT$35:AT$58<AT40)),"") -> 0 | BA40: =IF(NOT(N40=""),SUMPRODUCT((P$35:P$58=P40)*(U$35:U$58=U40)*(Z$35:Z$58=Z40)*(X$35:X$58=X40)*(AT$35:AT$58=AT40)*(AR$35:AR$58>AR40)),"") -> 0 | BB40: =IF(NOT(N40=""),SUMPRODUCT((P$35:P$58=P40)*(U$35:U$58=U40)*(Z$35:Z$58=Z40)*(X$35:X$58=X40)*(AT$35:AT$58=AT40)*(AR$35:AR$58=AR40)*(AP$35:AP$58>AP40)),"") -> 0 | BC40: =IF(NOT(N40=""),SUMPRODUCT((P$35:P$58=P40)*(U$35:U$58=U40)*(Z$35:Z$58=Z40)*(X$35:X$58=X40)*(AT$35:AT$58=AT40)*(AR$35:AR$58=AR40)*(AP$35:AP$58=AP40)*(AI$35:AI$58>AI40)),"") -> 0 | BD40: =IF(NOT(N40=""),SUMPRODUCT((P$35:P$58=P40)*(U$35:U$58=U40)*(Z$35:Z$58=Z40)*(X$35:X$58=X40)*(AT$35:AT$58=AT40)*(AR$35:AR$58=AR40)*(AP$35:AP$58=AP40)*(AI$35:AI$58=AI40)*(AG$35:AG$58>AG40)),"") -> 0 | BE40: =IF(NOT(N40=""),SUMPRODUCT((P$35:P$58=P40)*(U$35:U$58=U40)*(X$35:X$58=X40)*(Z$35:Z$58=Z40)*(AT$35:AT$58=AT40)*(AP$35:AP$58=AP40)*(AR$35:AR$58=AR40)*(AI$35:AI$58=AI40)*(AG$35:AG$58=AG40)*(BF$35:BF$58>BF40)),"") -> 0 | BF40: =IF(NOT(N40=""),IF(NOT('Teams - Setup'!G11=""),'Teams - Setup'!G11,0),"") -> 0 | BH40: =IF(NOT(N40=""),ROW(N40),"") -> 40
B41: Sat | C41: 04/05/2014 | D41: 6:00PM EDT | E41: Columbus | F41: 0 | G41: 2 | H41: Toronto FC | I41: Columbus Crew Stadium | K41: =IF(AND(NOT(E41=""),NOT(H41="")),IF(AND(NOT(F41=""),NOT(G41="")),1,0),0) -> 1 | M41: =IF(NOT(N41=""),SUM(AV41:BE41),"") -> 15 | N41: =IF(NOT('Teams - Setup'!B12=""),'Teams - Setup'!B12,"") -> New York | P41: =IF(NOT(N41=""),AB41+AK41,"") -> 15 | R41: =IF(NOT(N41=""),AC41+AL41,"") -> 14 | S41: =IF(NOT(N41=""),IF(R41>0,P41/R41,0),"") -> 1.0714286 | U41: =IF(NOT(N41=""),AD41+AM41,"") -> 3 | V41: =IF(NOT(N41=""),AE41+AN41,"") -> 5 | W41: =IF(NOT(N41=""),AF41+AO41,"") -> 6 | X41: =IF(NOT(N41=""),AG41+AP41,"") -> 20 | Y41: =IF(NOT(N41=""),AH41+AQ41,"") -> 22 | Z41: =IF(NOT(N41=""),X41-Y41,"") -> -2 | AB41: =IF(NOT(N41=""),(AD41*PtsHomeWin)+(AF41*PtsHomeDraw)+(AE41*PtsHomeLoss),"") -> 8 | AC41: =IF(NOT(N41=""),SUMPRODUCT((HomeTeam=N41)*GamePlayed),"") -> 6 | AD41: =IF(NOT(N41=""),SUMPRODUCT((HomeTeam=N41)*(HomeScore>AwayScore)*GamePlayed),"") -> 2 | AE41: =IF(NOT(N41=""),SUMPRODUCT((HomeTeam=N41)*(HomeScore<AwayScore)*GamePlayed),"") -> 2 | AF41: =IF(NOT(N41=""),SUMPRODUCT((HomeTeam=N41)*(HomeScore=AwayScore)*GamePlayed),"") -> 2 | AG41: =IF(NOT(N41=""),SUMPRODUCT((HomeTeam=N41)*HomeScore*GamePlayed),"") -> 13 | AH41: =IF(NOT(N41=""),SUMPRODUCT((HomeTeam=N41)*AwayScore*GamePlayed),"") -> 10 | AI41: =IF(NOT(N41=""),AG41-AH41,"") -> 3 | AK41: =IF(NOT(N41=""),(AM41*PtsAwayWin)+(AO41*PtsAwayDraw)+(AN41*PtsAwayLoss),"") -> 7 | AL41: =IF(NOT(N41=""),SUMPRODUCT((AwayTeam=N41)*GamePlayed),"") -> 8 | AM41: =IF(NOT(N41=""),SUMPRODUCT((AwayTeam=N41)*(AwayScore>HomeScore)*GamePlayed),"") -> 1 | AN41: =IF(NOT(N41=""),SUMPRODUCT((AwayTeam=N41)*(AwayScore<HomeScore)*GamePlayed),"") -> 3 | AO41: =IF(NOT(N41=""),SUMPRODUCT((AwayTeam=N41)*(AwayScore=HomeScore)*GamePlayed),"") -> 4 | AP41: =IF(NOT(N41=""),SUMPRODUCT((AwayTeam=N41)*AwayScore*GamePlayed),"") -> 7 | AQ41: =IF(NOT(N41=""),SUMPRODUCT((AwayTeam=N41)*HomeScore*GamePlayed),"") -> 12 | AR41: =IF(NOT(N41=""),AP41-AQ41,"") -> -5 | AT41: =IF(NOT(N41=""),IF(NOT('Teams - Setup'!F12=""),'Teams - Setup'!F12,0),"") -> 0 | AV41: =IF(NOT(N41=""),RANK(P41,P$35:P$58,0),"") -> 15 | AW41: =IF(NOT(N41=""),SUMPRODUCT((P$35:P$58=P41)*(U$35:U$58>U41)),"") -> 0 | AX41: =IF(NOT(N41=""),SUMPRODUCT((P$35:P$58=P41)*(U$35:U$58=U41)*(Z$35:Z$58>Z41)),"") -> 0 | AY41: =IF(NOT(N41=""),SUMPRODUCT((P$35:P$58=P41)*(U$35:U$58=U41)*(Z$35:Z$58=Z41)*(X$35:X$58>X41)),"") -> 0 | AZ41: =IF(NOT(N41=""),SUMPRODUCT((P$35:P$58=P41)*(U$35:U$58=U41)*(Z$35:Z$58=Z41)*(X$35:X$58=X41)*(AT$35:AT$58<AT41)),"") -> 0 | BA41: =IF(NOT(N41=""),SUMPRODUCT((P$35:P$58=P41)*(U$35:U$58=U41)*(Z$35:Z$58=Z41)*(X$35:X$58=X41)*(AT$35:AT$58=AT41)*(AR$35:AR$58>AR41)),"") -> 0 | BB41: =IF(NOT(N41=""),SUMPRODUCT((P$35:P$58=P41)*(U$35:U$58=U41)*(Z$35:Z$58=Z41)*(X$35:X$58=X41)*(AT$35:AT$58=AT41)*(AR$35:AR$58=AR41)*(AP$35:AP$58>AP41)),"") -> 0 | BC41: =IF(NOT(N41=""),SUMPRODUCT((P$35:P$58=P41)*(U$35:U$58=U41)*(Z$35:Z$58=Z41)*(X$35:X$58=X41)*(AT$35:AT$58=AT41)*(AR$35:AR$58=AR41)*(AP$35:AP$58=AP41)*(AI$35:AI$58>AI41)),"") -> 0 | BD41: =IF(NOT(N41=""),SUMPRODUCT((P$35:P$58=P41)*(U$35:U$58=U41)*(Z$35:Z$58=Z41)*(X$35:X$58=X41)*(AT$35:AT$58=AT41)*(AR$35:AR$58=AR41)*(AP$35:AP$58=AP41)*(AI$35:AI$58=AI41)*(AG$35:AG$58>AG41)),"") -> 0 | BE41: =IF(NOT(N41=""),SUMPRODUCT((P$35:P$58=P41)*(U$35:U$58=U41)*(X$35:X$58=X41)*(Z$35:Z$58=Z41)*(AT$35:AT$58=AT41)*(AP$35:AP$58=AP41)*(AR$35:AR$58=AR41)*(AI$35:AI$58=AI41)*(AG$35:AG$58=AG41)*(BF$35:BF$58>BF41)),"") -> 0 | BF41: =IF(NOT(N41=""),IF(NOT('Teams - Setup'!G12=""),'Teams - Setup'!G12,0),"") -> 0 | BH41: =IF(NOT(N41=""),ROW(N41),"") -> 41
B42: Sat | C42: 04/05/2014 | D42: 6:30PM EDT | E42: Vancouver | F42: 1 | G42: 2 | H42: Colorado | I42: BC Place | K42: =IF(AND(NOT(E42=""),NOT(H42="")),IF(AND(NOT(F42=""),NOT(G42="")),1,0),0) -> 1 | M42: =IF(NOT(N42=""),SUM(AV42:BE42),"") -> 16 | N42: =IF(NOT('Teams - Setup'!B13=""),'Teams - Setup'!B13,"") -> Philadelphia | P42: =IF(NOT(N42=""),AB42+AK42,"") -> 14 | R42: =IF(NOT(N42=""),AC42+AL42,"") -> 15 | S42: =IF(NOT(N42=""),IF(R42>0,P42/R42,0),"") -> 0.93333333 | U42: =IF(NOT(N42=""),AD42+AM42,"") -> 3 | V42: =IF(NOT(N42=""),AE42+AN42,"") -> 7 | W42: =IF(NOT(N42=""),AF42+AO42,"") -> 5 | X42: =IF(NOT(N42=""),AG42+AP42,"") -> 19 | Y42: =IF(NOT(N42=""),AH42+AQ42,"") -> 24 | Z42: =IF(NOT(N42=""),X42-Y42,"") -> -5 | AB42: =IF(NOT(N42=""),(AD42*PtsHomeWin)+(AF42*PtsHomeDraw)+(AE42*PtsHomeLoss),"") -> 6 | AC42: =IF(NOT(N42=""),SUMPRODUCT((HomeTeam=N42)*GamePlayed),"") -> 6 | AD42: =IF(NOT(N42=""),SUMPRODUCT((HomeTeam=N42)*(HomeScore>AwayScore)*GamePlayed),"") -> 1 | AE42: =IF(NOT(N42=""),SUMPRODUCT((HomeTeam=N42)*(HomeScore<AwayScore)*GamePlayed),"") -> 2 | AF42: =IF(NOT(N42=""),SUMPRODUCT((HomeTeam=N42)*(HomeScore=AwayScore)*GamePlayed),"") -> 3 | AG42: =IF(NOT(N42=""),SUMPRODUCT((HomeTeam=N42)*HomeScore*GamePlayed),"") -> 7 | AH42: =IF(NOT(N42=""),SUMPRODUCT((HomeTeam=N42)*AwayScore*GamePlayed),"") -> 9 | AI42: =IF(NOT(N42=""),AG42-AH42,"") -> -2 | AK42: =IF(NOT(N42=""),(AM42*PtsAwayWin)+(AO42*PtsAwayDraw)+(AN42*PtsAwayLoss),"") -> 8 | AL42: =IF(NOT(N42=""),SUMPRODUCT((AwayTeam=N42)*GamePlayed),"") -> 9 | AM42: =IF(NOT(N42=""),SUMPRODUCT((AwayTeam=N42)*(AwayScore>HomeScore)*GamePlayed),"") -> 2 | AN42: =IF(NOT(N42=""),SUMPRODUCT((AwayTeam=N42)*(AwayScore<HomeScore)*GamePlayed),"") -> 5 | AO42: =IF(NOT(N42=""),SUMPRODUCT((AwayTeam=N42)*(AwayScore=HomeScore)*GamePlayed),"") -> 2 | AP42: =IF(NOT(N42=""),SUMPRODUCT((AwayTeam=N42)*AwayScore*GamePlayed),"") -> 12 | AQ42: =IF(NOT(N42=""),SUMPRODUCT((AwayTeam=N42)*HomeScore*GamePlayed),"") -> 15 | AR42: =IF(NOT(N42=""),AP42-AQ42,"") -> -3 | AT42: =IF(NOT(N42=""),IF(NOT('Teams - Setup'!F13=""),'Teams - Setup'!F13,0),"") -> 0 | AV42: =IF(NOT(N42=""),RANK(P42,P$35:P$58,0),"") -> 16 | AW42: =IF(NOT(N42=""),SUMPRODUCT((P$35:P$58=P42)*(U$35:U$58>U42)),"") -> 0 | AX42: =IF(NOT(N42=""),SUMPRODUCT((P$35:P$58=P42)*(U$35:U$58=U42)*(Z$35:Z$58>Z42)),"") -> 0 | AY42: =IF(NOT(N42=""),SUMPRODUCT((P$35:P$58=P42)*(U$35:U$58=U42)*(Z$35:Z$58=Z42)*(X$35:X$58>X42)),"") -> 0 | AZ42: =IF(NOT(N42=""),SUMPRODUCT((P$35:P$58=P42)*(U$35:U$58=U42)*(Z$35:Z$58=Z42)*(X$35:X$58=X42)*(AT$35:AT$58<AT42)),"") -> 0 | BA42: =IF(NOT(N42=""),SUMPRODUCT((P$35:P$58=P42)*(U$35:U$58=U42)*(Z$35:Z$58=Z42)*(X$35:X$58=X42)*(AT$35:AT$58=AT42)*(AR$35:AR$58>AR42)),"") -> 0 | BB42: =IF(NOT(N42=""),SUMPRODUCT((P$35:P$58=P42)*(U$35:U$58=U42)*(Z$35:Z$58=Z42)*(X$35:X$58=X42)*(AT$35:AT$58=AT42)*(AR$35:AR$58=AR42)*(AP$35:AP$58>AP42)),"") -> 0 | BC42: =IF(NOT(N42=""),SUMPRODUCT((P$35:P$58=P42)*(U$35:U$58=U42)*(Z$35:Z$58=Z42)*(X$35:X$58=X42)*(AT$35:AT$58=AT42)*(AR$35:AR$58=AR42)*(AP$35:AP$58=AP42)*(AI$35:AI$58>AI42)),"") -> 0 | BD42: =IF(NOT(N42=""),SUMPRODUCT((P$35:P$58=P42)*(U$35:U$58=U42)*(Z$35:Z$58=Z42)*(X$35:X$58=X42)*(AT$35:AT$58=AT42)*(AR$35:AR$58=AR42)*(AP$35:AP$58=AP42)*(AI$35:AI$58=AI42)*(AG$35:AG$58>AG42)),"") -> 0 | BE42: =IF(NOT(N42=""),SUMPRODUCT((P$35:P$58=P42)*(U$35:U$58=U42)*(X$35:X$58=X42)*(Z$35:Z$58=Z42)*(AT$35:AT$58=AT42)*(AP$35:AP$58=AP42)*(AR$35:AR$58=AR42)*(AI$35:AI$58=AI42)*(AG$35:AG$58=AG42)*(BF$35:BF$58>BF42)),"") -> 0 | BF42: =IF(NOT(N42=""),IF(NOT('Teams - Setup'!G13=""),'Teams - Setup'!G13,0),"") -> 0 | BH42: =IF(NOT(N42=""),ROW(N42),"") -> 42
B43: Sat | C43: 04/05/2014 | D43: 7:00PM EDT | E43: D.C. United | F43: 2 | G43: 0 | H43: New England | I43: RFK Stadium | K43: =IF(AND(NOT(E43=""),NOT(H43="")),IF(AND(NOT(F43=""),NOT(G43="")),1,0),0) -> 1 | M43: =IF(NOT(N43=""),SUM(AV43:BE43),"") -> 7 | N43: =IF(NOT('Teams - Setup'!B14=""),'Teams - Setup'!B14,"") -> Sporting KC | P43: =IF(NOT(N43=""),AB43+AK43,"") -> 19 | R43: =IF(NOT(N43=""),AC43+AL43,"") -> 14 | S43: =IF(NOT(N43=""),IF(R43>0,P43/R43,0),"") -> 1.3571429 | U43: =IF(NOT(N43=""),AD43+AM43,"") -> 5 | V43: =IF(NOT(N43=""),AE43+AN43,"") -> 5 | W43: =IF(NOT(N43=""),AF43+AO43,"") -> 4 | X43: =IF(NOT(N43=""),AG43+AP43,"") -> 19 | Y43: =IF(NOT(N43=""),AH43+AQ43,"") -> 14 | Z43: =IF(NOT(N43=""),X43-Y43,"") -> 5 | AB43: =IF(NOT(N43=""),(AD43*PtsHomeWin)+(AF43*PtsHomeDraw)+(AE43*PtsHomeLoss),"") -> 13 | AC43: =IF(NOT(N43=""),SUMPRODUCT((HomeTeam=N43)*GamePlayed),"") -> 8 | AD43: =IF(NOT(N43=""),SUMPRODUCT((HomeTeam=N43)*(HomeScore>AwayScore)*GamePlayed),"") -> 3 | AE43: =IF(NOT(N43=""),SUMPRODUCT((HomeTeam=N43)*(HomeScore<AwayScore)*GamePlayed),"") -> 1 | AF43: =IF(NOT(N43=""),SUMPRODUCT((HomeTeam=N43)*(HomeScore=AwayScore)*GamePlayed),"") -> 4 | AG43: =IF(NOT(N43=""),SUMPRODUCT((HomeTeam=N43)*HomeScore*GamePlayed),"") -> 12 | AH43: =IF(NOT(N43=""),SUMPRODUCT((HomeTeam=N43)*AwayScore*GamePlayed),"") -> 6 | AI43: =IF(NOT(N43=""),AG43-AH43,"") -> 6 | AK43: =IF(NOT(N43=""),(AM43*PtsAwayWin)+(AO43*PtsAwayDraw)+(AN43*PtsAwayLoss),"") -> 6 | AL43: =IF(NOT(N43=""),SUMPRODUCT((AwayTeam=N43)*GamePlayed),"") -> 6 | AM43: =IF(NOT(N43=""),SUMPRODUCT((AwayTeam=N43)*(AwayScore>HomeScore)*GamePlayed),"") -> 2 | AN43: =IF(NOT(N43=""),SUMPRODUCT((AwayTeam=N43)*(AwayScore<HomeScore)*GamePlayed),"") -> 4 | AO43: =IF(NOT(N43=""),SUMPRODUCT((AwayTeam=N43)*(AwayScore=HomeScore)*GamePlayed),"") -> 0 | AP43: =IF(NOT(N43=""),SUMPRODUCT((AwayTeam=N43)*AwayScore*GamePlayed),"") -> 7 | AQ43: =IF(NOT(N43=""),SUMPRODUCT((AwayTeam=N43)*HomeScore*GamePlayed),"") -> 8 | AR43: =IF(NOT(N43=""),AP43-AQ43,"") -> -1 | AT43: =IF(NOT(N43=""),IF(NOT('Teams - Setup'!F14=""),'Teams - Setup'!F14,0),"") -> 0 | AV43: =IF(NOT(N43=""),RANK(P43,P$35:P$58,0),"") -> 7 | AW43: =IF(NOT(N43=""),SUMPRODUCT((P$35:P$58=P43)*(U$35:U$58>U43)),"") -> 0 | AX43: =IF(NOT(N43=""),SUMPRODUCT((P$35:P$58=P43)*(U$35:U$58=U43)*(Z$35:Z$58>Z43)),"") -> 0 | AY43: =IF(NOT(N43=""),SUMPRODUCT((P$35:P$58=P43)*(U$35:U$58=U43)*(Z$35:Z$58=Z43)*(X$35:X$58>X43)),"") -> 0 | AZ43: =IF(NOT(N43=""),SUMPRODUCT((P$35:P$58=P43)*(U$35:U$58=U43)*(Z$35:Z$58=Z43)*(X$35:X$58=X43)*(AT$35:AT$58<AT43)),"") -> 0 | BA43: =IF(NOT(N43=""),SUMPRODUCT((P$35:P$58=P43)*(U$35:U$58=U43)*(Z$35:Z$58=Z43)*(X$35:X$58=X43)*(AT$35:AT$58=AT43)*(AR$35:AR$58>AR43)),"") -> 0 | BB43: =IF(NOT(N43=""),SUMPRODUCT((P$35:P$58=P43)*(U$35:U$58=U43)*(Z$35:Z$58=Z43)*(X$35:X$58=X43)*(AT$35:AT$58=AT43)*(AR$35:AR$58=AR43)*(AP$35:AP$58>AP43)),"") -> 0 | BC43: =IF(NOT(N43=""),SUMPRODUCT((P$35:P$58=P43)*(U$35:U$58=U43)*(Z$35:Z$58=Z43)*(X$35:X$58=X43)*(AT$35:AT$58=AT43)*(AR$35:AR$58=AR43)*(AP$35:AP$58=AP43)*(AI$35:AI$58>AI43)),"") -> 0 | BD43: =IF(NOT(N43=""),SUMPRODUCT((P$35:P$58=P43)*(U$35:U$58=U43)*(Z$35:Z$58=Z43)*(X$35:X$58=X43)*(AT$35:AT$58=AT43)*(AR$35:AR$58=AR43)*(AP$35:AP$58=AP43)*(AI$35:AI$58=AI43)*(AG$35:AG$58>AG43)),"") -> 0 | BE43: =IF(NOT(N43=""),SUMPRODUCT((P$35:P$58=P43)*(U$35:U$58=U43)*(X$35:X$58=X43)*(Z$35:Z$58=Z43)*(AT$35:AT$58=AT43)*(AP$35:AP$58=AP43)*(AR$35:AR$58=AR43)*(AI$35:AI$58=AI43)*(AG$35:AG$58=AG43)*(BF$35:BF$58>BF43)),"") -> 0 | BF43: =IF(NOT(N43=""),IF(NOT('Teams - Setup'!G14=""),'Teams - Setup'!G14,0),"") -> 0 | BH43: =IF(NOT(N43=""),ROW(N43),"") -> 43
B44: Sat | C44: 04/05/2014 | D44: 8:00PM EDT | E44: Houston | F44: 1 | G44: 4 | H44: FC Dallas | I44: BBVA Compass Stadium | K44: =IF(AND(NOT(E44=""),NOT(H44="")),IF(AND(NOT(F44=""),NOT(G44="")),1,0),0) -> 1 | M44: =IF(NOT(N44=""),SUM(AV44:BE44),"") -> 11 | N44: =IF(NOT('Teams - Setup'!B15=""),'Teams - Setup'!B15,"") -> Toronto FC | P44: =IF(NOT(N44=""),AB44+AK44,"") -> 16 | R44: =IF(NOT(N44=""),AC44+AL44,"") -> 10 | S44: =IF(NOT(N44=""),IF(R44>0,P44/R44,0),"") -> 1.6 | U44: =IF(NOT(N44=""),AD44+AM44,"") -> 5 | V44: =IF(NOT(N44=""),AE44+AN44,"") -> 4 | W44: =IF(NOT(N44=""),AF44+AO44,"") -> 1 | X44: =IF(NOT(N44=""),AG44+AP44,"") -> 14 | Y44: =IF(NOT(N44=""),AH44+AQ44,"") -> 13 | Z44: =IF(NOT(N44=""),X44-Y44,"") -> 1 | AB44: =IF(NOT(N44=""),(AD44*PtsHomeWin)+(AF44*PtsHomeDraw)+(AE44*PtsHomeLoss),"") -> 9 | AC44: =IF(NOT(N44=""),SUMPRODUCT((HomeTeam=N44)*GamePlayed),"") -> 5 | AD44: =IF(NOT(N44=""),SUMPRODUCT((HomeTeam=N44)*(HomeScore>AwayScore)*GamePlayed),"") -> 3 | AE44: =IF(NOT(N44=""),SUMPRODUCT((HomeTeam=N44)*(HomeScore<AwayScore)*GamePlayed),"") -> 2 | AF44: =IF(NOT(N44=""),SUMPRODUCT((HomeTeam=N44)*(HomeScore=AwayScore)*GamePlayed),"") -> 0 | AG44: =IF(NOT(N44=""),SUMPRODUCT((HomeTeam=N44)*HomeScore*GamePlayed),"") -> 7 | AH44: =IF(NOT(N44=""),SUMPRODUCT((HomeTeam=N44)*AwayScore*GamePlayed),"") -> 5 | AI44: =IF(NOT(N44=""),AG44-AH44,"") -> 2 | AK44: =IF(NOT(N44=""),(AM44*PtsAwayWin)+(AO44*PtsAwayDraw)+(AN44*PtsAwayLoss),"") -> 7 | AL44: =IF(NOT(N44=""),SUMPRODUCT((AwayTeam=N44)*GamePlayed),"") -> 5 | AM44: =IF(NOT(N44=""),SUMPRODUCT((AwayTeam=N44)*(AwayScore>HomeScore)*GamePlayed),"") -> 2 | AN44: =IF(NOT(N44=""),SUMPRODUCT((AwayTeam=N44)*(AwayScore<HomeScore)*GamePlayed),"") -> 2 | AO44: =IF(NOT(N44=""),SUMPRODUCT((AwayTeam=N44)*(AwayScore=HomeScore)*GamePlayed),"") -> 1 | AP44: =IF(NOT(N44=""),SUMPRODUCT((AwayTeam=N44)*AwayScore*GamePlayed),"") -> 7 | AQ44: =IF(NOT(N44=""),SUMPRODUCT((AwayTeam=N44)*HomeScore*GamePlayed),"") -> 8 | AR44: =IF(NOT(N44=""),AP44-AQ44,"") -> -1 | AT44: =IF(NOT(N44=""),IF(NOT('Teams - Setup'!F15=""),'Teams - Setup'!F15,0),"") -> 0 | AV44: =IF(NOT(N44=""),RANK(P44,P$35:P$58,0),"") -> 11 | AW44: =IF(NOT(N44=""),SUMPRODUCT((P$35:P$58=P44)*(U$35:U$58>U44)),"") -> 0 | AX44: =IF(NOT(N44=""),SUMPRODUCT((P$35:P$58=P44)*(U$35:U$58=U44)*(Z$35:Z$58>Z44)),"") -> 0 | AY44: =IF(NOT(N44=""),SUMPRODUCT((P$35:P$58=P44)*(U$35:U$58=U44)*(Z$35:Z$58=Z44)*(X$35:X$58>X44)),"") -> 0 | AZ44: =IF(NOT(N44=""),SUMPRODUCT((P$35:P$58=P44)*(U$35:U$58=U44)*(Z$35:Z$58=Z44)*(X$35:X$58=X44)*(AT$35:AT$58<AT44)),"") -> 0 | BA44: =IF(NOT(N44=""),SUMPRODUCT((P$35:P$58=P44)*(U$35:U$58=U44)*(Z$35:Z$58=Z44)*(X$35:X$58=X44)*(AT$35:AT$58=AT44)*(AR$35:AR$58>AR44)),"") -> 0 | BB44: =IF(NOT(N44=""),SUMPRODUCT((P$35:P$58=P44)*(U$35:U$58=U44)*(Z$35:Z$58=Z44)*(X$35:X$58=X44)*(AT$35:AT$58=AT44)*(AR$35:AR$58=AR44)*(AP$35:AP$58>AP44)),"") -> 0 | BC44: =IF(NOT(N44=""),SUMPRODUCT((P$35:P$58=P44)*(U$35:U$58=U44)*(Z$35:Z$58=Z44)*(X$35:X$58=X44)*(AT$35:AT$58=AT44)*(AR$35:AR$58=AR44)*(AP$35:AP$58=AP44)*(AI$35:AI$58>AI44)),"") -> 0 | BD44: =IF(NOT(N44=""),SUMPRODUCT((P$35:P$58=P44)*(U$35:U$58=U44)*(Z$35:Z$58=Z44)*(X$35:X$58=X44)*(AT$35:AT$58=AT44)*(AR$35:AR$58=AR44)*(AP$35:AP$58=AP44)*(AI$35:AI$58=AI44)*(AG$35:AG$58>AG44)),"") -> 0 | BE44: =IF(NOT(N44=""),SUMPRODUCT((P$35:P$58=P44)*(U$35:U$58=U44)*(X$35:X$58=X44)*(Z$35:Z$58=Z44)*(AT$35:AT$58=AT44)*(AP$35:AP$58=AP44)*(AR$35:AR$58=AR44)*(AI$35:AI$58=AI44)*(AG$35:AG$58=AG44)*(BF$35:BF$58>BF44)),"") -> 0 | BF44: =IF(NOT(N44=""),IF(NOT('Teams - Setup'!G15=""),'Teams - Setup'!G15,0),"") -> 0 | BH44: =IF(NOT(N44=""),ROW(N44),"") -> 44
B45: Sat | C45: 04/05/2014 | D45: 8:30PM EDT | E45: Sporting KC | F45: 0 | G45: 0 | H45: Real Salt Lake | I45: Sporting Park | K45: =IF(AND(NOT(E45=""),NOT(H45="")),IF(AND(NOT(F45=""),NOT(G45="")),1,0),0) -> 1 | M45: =IF(NOT(N45=""),SUM(AV45:BE45),"") | N45: =IF(NOT('Teams - Setup'!B16=""),'Teams - Setup'!B16,"") | P45: =IF(NOT(N45=""),AB45+AK45,"") | R45: =IF(NOT(N45=""),AC45+AL45,"") | S45: =IF(NOT(N45=""),IF(R45>0,P45/R45,0),"") | U45: =IF(NOT(N45=""),AD45+AM45,"") | V45: =IF(NOT(N45=""),AE45+AN45,"") | W45: =IF(NOT(N45=""),AF45+AO45,"") | X45: =IF(NOT(N45=""),AG45+AP45,"") | Y45: =IF(NOT(N45=""),AH45+AQ45,"") | Z45: =IF(NOT(N45=""),X45-Y45,"") | AB45: =IF(NOT(N45=""),(AD45*PtsHomeWin)+(AF45*PtsHomeDraw)+(AE45*PtsHomeLoss),"") | AC45: =IF(NOT(N45=""),SUMPRODUCT((HomeTeam=N45)*GamePlayed),"") | AD45: =IF(NOT(N45=""),SUMPRODUCT((HomeTeam=N45)*(HomeScore>AwayScore)*GamePlayed),"") | AE45: =IF(NOT(N45=""),SUMPRODUCT((HomeTeam=N45)*(HomeScore<AwayScore)*GamePlayed),"") | AF45: =IF(NOT(N45=""),SUMPRODUCT((HomeTeam=N45)*(HomeScore=AwayScore)*GamePlayed),"") | AG45: =IF(NOT(N45=""),SUMPRODUCT((HomeTeam=N45)*HomeScore*GamePlayed),"") | AH45: =IF(NOT(N45=""),SUMPRODUCT((HomeTeam=N45)*AwayScore*GamePlayed),"") | AI45: =IF(NOT(N45=""),AG45-AH45,"") | AK45: =IF(NOT(N45=""),(AM45*PtsAwayWin)+(AO45*PtsAwayDraw)+(AN45*PtsAwayLoss),"") | AL45: =IF(NOT(N45=""),SUMPRODUCT((AwayTeam=N45)*GamePlayed),"") | AM45: =IF(NOT(N45=""),SUMPRODUCT((AwayTeam=N45)*(AwayScore>HomeScore)*GamePlayed),"") | AN45: =IF(NOT(N45=""),SUMPRODUCT((AwayTeam=N45)*(AwayScore<HomeScore)*GamePlayed),"") | AO45: =IF(NOT(N45=""),SUMPRODUCT((AwayTeam=N45)*(AwayScore=HomeScore)*GamePlayed),"") | AP45: =IF(NOT(N45=""),SUMPRODUCT((AwayTeam=N45)*AwayScore*GamePlayed),"") | AQ45: =IF(NOT(N45=""),SUMPRODUCT((AwayTeam=N45)*HomeScore*GamePlayed),"") | AR45: =IF(NOT(N45=""),AP45-AQ45,"") | AT45: =IF(NOT(N45=""),IF(NOT('Teams - Setup'!F16=""),'Teams - Setup'!F16,0),"") | AV45: =IF(NOT(N45=""),RANK(P45,P$35:P$58,0),"") | AW45: =IF(NOT(N45=""),SUMPRODUCT((P$35:P$58=P45)*(U$35:U$58>U45)),"") | AX45: =IF(NOT(N45=""),SUMPRODUCT((P$35:P$58=P45)*(U$35:U$58=U45)*(Z$35:Z$58>Z45)),"") | AY45: =IF(NOT(N45=""),SUMPRODUCT((P$35:P$58=P45)*(U$35:U$58=U45)*(Z$35:Z$58=Z45)*(X$35:X$58>X45)),"") | AZ45: =IF(NOT(N45=""),SUMPRODUCT((P$35:P$58=P45)*(U$35:U$58=U45)*(Z$35:Z$58=Z45)*(X$35:X$58=X45)*(AT$35:AT$58<AT45)),"") | BA45: =IF(NOT(N45=""),SUMPRODUCT((P$35:P$58=P45)*(U$35:U$58=U45)*(Z$35:Z$58=Z45)*(X$35:X$58=X45)*(AT$35:AT$58=AT45)*(AR$35:AR$58>AR45)),"") | BB45: =IF(NOT(N45=""),SUMPRODUCT((P$35:P$58=P45)*(U$35:U$58=U45)*(Z$35:Z$58=Z45)*(X$35:X$58=X45)*(AT$35:AT$58=AT45)*(AR$35:AR$58=AR45)*(AP$35:AP$58>AP45)),"") | BC45: =IF(NOT(N45=""),SUMPRODUCT((P$35:P$58=P45)*(U$35:U$58=U45)*(Z$35:Z$58=Z45)*(X$35:X$58=X45)*(AT$35:AT$58=AT45)*(AR$35:AR$58=AR45)*(AP$35:AP$58=AP45)*(AI$35:AI$58>AI45)),"") | BD45: =IF(NOT(N45=""),SUMPRODUCT((P$35:P$58=P45)*(U$35:U$58=U45)*(Z$35:Z$58=Z45)*(X$35:X$58=X45)*(AT$35:AT$58=AT45)*(AR$35:AR$58=AR45)*(AP$35:AP$58=AP45)*(AI$35:AI$58=AI45)*(AG$35:AG$58>AG45)),"") | BE45: =IF(NOT(N45=""),SUMPRODUCT((P$35:P$58=P45)*(U$35:U$58=U45)*(X$35:X$58=X45)*(Z$35:Z$58=Z45)*(AT$35:AT$58=AT45)*(AP$35:AP$58=AP45)*(AR$35:AR$58=AR45)*(AI$35:AI$58=AI45)*(AG$35:AG$58=AG45)*(BF$35:BF$58>BF45)),"") | BF45: =IF(NOT(N45=""),IF(NOT('Teams - Setup'!G16=""),'Teams - Setup'!G16,0),"") | BH45: =IF(NOT(N45=""),ROW(N45),"")
B46: Sun | C46: 04/06/2014 | D46: 3:00PM EDT | E46: Chivas USA | F46: 0 | G46: 3 | H46: LA Galaxy | I46: StubHub Center | K46: =IF(AND(NOT(E46=""),NOT(H46="")),IF(AND(NOT(F46=""),NOT(G46="")),1,0),0) -> 1 | M46: =IF(NOT(N46=""),SUM(AV46:BE46),"") | N46: =IF(NOT('Teams - Setup'!B17=""),'Teams - Setup'!B17,"") | P46: =IF(NOT(N46=""),AB46+AK46,"") | R46: =IF(NOT(N46=""),AC46+AL46,"") | S46: =IF(NOT(N46=""),IF(R46>0,P46/R46,0),"") | U46: =IF(NOT(N46=""),AD46+AM46,"") | V46: =IF(NOT(N46=""),AE46+AN46,"") | W46: =IF(NOT(N46=""),AF46+AO46,"") | X46: =IF(NOT(N46=""),AG46+AP46,"") | Y46: =IF(NOT(N46=""),AH46+AQ46,"") | Z46: =IF(NOT(N46=""),X46-Y46,"") | AB46: =IF(NOT(N46=""),(AD46*PtsHomeWin)+(AF46*PtsHomeDraw)+(AE46*PtsHomeLoss),"") | AC46: =IF(NOT(N46=""),SUMPRODUCT((HomeTeam=N46)*GamePlayed),"") | AD46: =IF(NOT(N46=""),SUMPRODUCT((HomeTeam=N46)*(HomeScore>AwayScore)*GamePlayed),"") | AE46: =IF(NOT(N46=""),SUMPRODUCT((HomeTeam=N46)*(HomeScore<AwayScore)*GamePlayed),"") | AF46: =IF(NOT(N46=""),SUMPRODUCT((HomeTeam=N46)*(HomeScore=AwayScore)*GamePlayed),"") | AG46: =IF(NOT(N46=""),SUMPRODUCT((HomeTeam=N46)*HomeScore*GamePlayed),"") | AH46: =IF(NOT(N46=""),SUMPRODUCT((HomeTeam=N46)*AwayScore*GamePlayed),"") | AI46: =IF(NOT(N46=""),AG46-AH46,"") | AK46: =IF(NOT(N46=""),(AM46*PtsAwayWin)+(AO46*PtsAwayDraw)+(AN46*PtsAwayLoss),"") | AL46: =IF(NOT(N46=""),SUMPRODUCT((AwayTeam=N46)*GamePlayed),"") | AM46: =IF(NOT(N46=""),SUMPRODUCT((AwayTeam=N46)*(AwayScore>HomeScore)*GamePlayed),"") | AN46: =IF(NOT(N46=""),SUMPRODUCT((AwayTeam=N46)*(AwayScore<HomeScore)*GamePlayed),"") | AO46: =IF(NOT(N46=""),SUMPRODUCT((AwayTeam=N46)*(AwayScore=HomeScore)*GamePlayed),"") | AP46: =IF(NOT(N46=""),SUMPRODUCT((AwayTeam=N46)*AwayScore*GamePlayed),"") | AQ46: =IF(NOT(N46=""),SUMPRODUCT((AwayTeam=N46)*HomeScore*GamePlayed),"") | AR46: =IF(NOT(N46=""),AP46-AQ46,"") | AT46: =IF(NOT(N46=""),IF(NOT('Teams - Setup'!F17=""),'Teams - Setup'!F17,0),"") | AV46: =IF(NOT(N46=""),RANK(P46,P$35:P$58,0),"") | AW46: =IF(NOT(N46=""),SUMPRODUCT((P$35:P$58=P46)*(U$35:U$58>U46)),"") | AX46: =IF(NOT(N46=""),SUMPRODUCT((P$35:P$58=P46)*(U$35:U$58=U46)*(Z$35:Z$58>Z46)),"") | AY46: =IF(NOT(N46=""),SUMPRODUCT((P$35:P$58=P46)*(U$35:U$58=U46)*(Z$35:Z$58=Z46)*(X$35:X$58>X46)),"") | AZ46: =IF(NOT(N46=""),SUMPRODUCT((P$35:P$58=P46)*(U$35:U$58=U46)*(Z$35:Z$58=Z46)*(X$35:X$58=X46)*(AT$35:AT$58<AT46)),"") | BA46: =IF(NOT(N46=""),SUMPRODUCT((P$35:P$58=P46)*(U$35:U$58=U46)*(Z$35:Z$58=Z46)*(X$35:X$58=X46)*(AT$35:AT$58=AT46)*(AR$35:AR$58>AR46)),"") | BB46: =IF(NOT(N46=""),SUMPRODUCT((P$35:P$58=P46)*(U$35:U$58=U46)*(Z$35:Z$58=Z46)*(X$35:X$58=X46)*(AT$35:AT$58=AT46)*(AR$35:AR$58=AR46)*(AP$35:AP$58>AP46)),"") | BC46: =IF(NOT(N46=""),SUMPRODUCT((P$35:P$58=P46)*(U$35:U$58=U46)*(Z$35:Z$58=Z46)*(X$35:X$58=X46)*(AT$35:AT$58=AT46)*(AR$35:AR$58=AR46)*(AP$35:AP$58=AP46)*(AI$35:AI$58>AI46)),"") | BD46: =IF(NOT(N46=""),SUMPRODUCT((P$35:P$58=P46)*(U$35:U$58=U46)*(Z$35:Z$58=Z46)*(X$35:X$58=X46)*(AT$35:AT$58=AT46)*(AR$35:AR$58=AR46)*(AP$35:AP$58=AP46)*(AI$35:AI$58=AI46)*(AG$35:AG$58>AG46)),"") | BE46: =IF(NOT(N46=""),SUMPRODUCT((P$35:P$58=P46)*(U$35:U$58=U46)*(X$35:X$58=X46)*(Z$35:Z$58=Z46)*(AT$35:AT$58=AT46)*(AP$35:AP$58=AP46)*(AR$35:AR$58=AR46)*(AI$35:AI$58=AI46)*(AG$35:AG$58=AG46)*(BF$35:BF$58>BF46)),"") | BF46: =IF(NOT(N46=""),IF(NOT('Teams - Setup'!G17=""),'Teams - Setup'!G17,0),"") | BH46: =IF(NOT(N46=""),ROW(N46),"")
B47: Sat | C47: 04/12/2014 | D47: 4:00PM EDT | E47: Toronto FC | F47: 0 | G47: 1 | H47: Colorado | I47: BMO Field | K47: =IF(AND(NOT(E47=""),NOT(H47="")),IF(AND(NOT(F47=""),NOT(G47="")),1,0),0) -> 1 | M47: =IF(NOT(N47=""),SUM(AV47:BE47),"") -> 19 | N47: =IF(NOT('Teams - Setup'!B21=""),'Teams - Setup'!B21,"") -> Chivas USA | P47: =IF(NOT(N47=""),AB47+AK47,"") -> 10 | R47: =IF(NOT(N47=""),AC47+AL47,"") -> 13 | S47: =IF(NOT(N47=""),IF(R47>0,P47/R47,0),"") -> 0.76923077 | U47: =IF(NOT(N47=""),AD47+AM47,"") -> 2 | V47: =IF(NOT(N47=""),AE47+AN47,"") -> 7 | W47: =IF(NOT(N47=""),AF47+AO47,"") -> 4 | X47: =IF(NOT(N47=""),AG47+AP47,"") -> 13 | Y47: =IF(NOT(N47=""),AH47+AQ47,"") -> 25 | Z47: =IF(NOT(N47=""),X47-Y47,"") -> -12 | AB47: =IF(NOT(N47=""),(AD47*PtsHomeWin)+(AF47*PtsHomeDraw)+(AE47*PtsHomeLoss),"") -> 4 | AC47: =IF(NOT(N47=""),SUMPRODUCT((HomeTeam=N47)*GamePlayed),"") -> 7 | AD47: =IF(NOT(N47=""),SUMPRODUCT((HomeTeam=N47)*(HomeScore>AwayScore)*GamePlayed),"") -> 1 | AE47: =IF(NOT(N47=""),SUMPRODUCT((HomeTeam=N47)*(HomeScore<AwayScore)*GamePlayed),"") -> 5 | AF47: =IF(NOT(N47=""),SUMPRODUCT((HomeTeam=N47)*(HomeScore=AwayScore)*GamePlayed),"") -> 1 | AG47: =IF(NOT(N47=""),SUMPRODUCT((HomeTeam=N47)*HomeScore*GamePlayed),"") -> 6 | AH47: =IF(NOT(N47=""),SUMPRODUCT((HomeTeam=N47)*AwayScore*GamePlayed),"") -> 17 | AI47: =IF(NOT(N47=""),AG47-AH47,"") -> -11 | AK47: =IF(NOT(N47=""),(AM47*PtsAwayWin)+(AO47*PtsAwayDraw)+(AN47*PtsAwayLoss),"") -> 6 | AL47: =IF(NOT(N47=""),SUMPRODUCT((AwayTeam=N47)*GamePlayed),"") -> 6 | AM47: =IF(NOT(N47=""),SUMPRODUCT((AwayTeam=N47)*(AwayScore>HomeScore)*GamePlayed),"") -> 1 | AN47: =IF(NOT(N47=""),SUMPRODUCT((AwayTeam=N47)*(AwayScore<HomeScore)*GamePlayed),"") -> 2 | AO47: =IF(NOT(N47=""),SUMPRODUCT((AwayTeam=N47)*(AwayScore=HomeScore)*GamePlayed),"") -> 3 | AP47: =IF(NOT(N47=""),SUMPRODUCT((AwayTeam=N47)*AwayScore*GamePlayed),"") -> 7 | AQ47: =IF(NOT(N47=""),SUMPRODUCT((AwayTeam=N47)*HomeScore*GamePlayed),"") -> 8 | AR47: =IF(NOT(N47=""),AP47-AQ47,"") -> -1 | AT47: =IF(NOT(N47=""),IF(NOT('Teams - Setup'!F21=""),'Teams - Setup'!F21,0),"") -> 0 | AV47: =IF(NOT(N47=""),RANK(P47,P$35:P$58,0),"") -> 18 | AW47: =IF(NOT(N47=""),SUMPRODUCT((P$35:P$58=P47)*(U$35:U$58>U47)),"") -> 0 | AX47: =IF(NOT(N47=""),SUMPRODUCT((P$35:P$58=P47)*(U$35:U$58=U47)*(Z$35:Z$58>Z47)),"") -> 1 | AY47: =IF(NOT(N47=""),SUMPRODUCT((P$35:P$58=P47)*(U$35:U$58=U47)*(Z$35:Z$58=Z47)*(X$35:X$58>X47)),"") -> 0 | AZ47: =IF(NOT(N47=""),SUMPRODUCT((P$35:P$58=P47)*(U$35:U$58=U47)*(Z$35:Z$58=Z47)*(X$35:X$58=X47)*(AT$35:AT$58<AT47)),"") -> 0 | BA47: =IF(NOT(N47=""),SUMPRODUCT((P$35:P$58=P47)*(U$35:U$58=U47)*(Z$35:Z$58=Z47)*(X$35:X$58=X47)*(AT$35:AT$58=AT47)*(AR$35:AR$58>AR47)),"") -> 0 | BB47: =IF(NOT(N47=""),SUMPRODUCT((P$35:P$58=P47)*(U$35:U$58=U47)*(Z$35:Z$58=Z47)*(X$35:X$58=X47)*(AT$35:AT$58=AT47)*(AR$35:AR$58=AR47)*(AP$35:AP$58>AP47)),"") -> 0 | BC47: =IF(NOT(N47=""),SUMPRODUCT((P$35:P$58=P47)*(U$35:U$58=U47)*(Z$35:Z$58=Z47)*(X$35:X$58=X47)*(AT$35:AT$58=AT47)*(AR$35:AR$58=AR47)*(AP$35:AP$58=AP47)*(AI$35:AI$58>AI47)),"") -> 0 | BD47: =IF(NOT(N47=""),SUMPRODUCT((P$35:P$58=P47)*(U$35:U$58=U47)*(Z$35:Z$58=Z47)*(X$35:X$58=X47)*(AT$35:AT$58=AT47)*(AR$35:AR$58=AR47)*(AP$35:AP$58=AP47)*(AI$35:AI$58=AI47)*(AG$35:AG$58>AG47)),"") -> 0 | BE47: =IF(NOT(N47=""),SUMPRODUCT((P$35:P$58=P47)*(U$35:U$58=U47)*(X$35:X$58=X47)*(Z$35:Z$58=Z47)*(AT$35:AT$58=AT47)*(AP$35:AP$58=AP47)*(AR$35:AR$58=AR47)*(AI$35:AI$58=AI47)*(AG$35:AG$58=AG47)*(BF$35:BF$58>BF47)),"") -> 0 | BF47: =IF(NOT(N47=""),IF(NOT('Teams - Setup'!G21=""),'Teams - Setup'!G21,0),"") -> 0 | BH47: =IF(NOT(N47=""),ROW(N47),"") -> 47
B48: Sat | C48: 04/12/2014 | D48: 4:00PM EDT | E48: Montreal | F48: 1 | G48: 1 | H48: Chicago | I48: Olympic Stadium | K48: =IF(AND(NOT(E48=""),NOT(H48="")),IF(AND(NOT(F48=""),NOT(G48="")),1,0),0) -> 1 | M48: =IF(NOT(N48=""),SUM(AV48:BE48),"") -> 4 | N48: =IF(NOT('Teams - Setup'!B22=""),'Teams - Setup'!B22,"") -> Colorado | P48: =IF(NOT(N48=""),AB48+AK48,"") -> 22 | R48: =IF(NOT(N48=""),AC48+AL48,"") -> 14 | S48: =IF(NOT(N48=""),IF(R48>0,P48/R48,0),"") -> 1.5714286 | U48: =IF(NOT(N48=""),AD48+AM48,"") -> 6 | V48: =IF(NOT(N48=""),AE48+AN48,"") -> 4 | W48: =IF(NOT(N48=""),AF48+AO48,"") -> 4 | X48: =IF(NOT(N48=""),AG48+AP48,"") -> 19 | Y48: =IF(NOT(N48=""),AH48+AQ48,"") -> 15 | Z48: =IF(NOT(N48=""),X48-Y48,"") -> 4 | AB48: =IF(NOT(N48=""),(AD48*PtsHomeWin)+(AF48*PtsHomeDraw)+(AE48*PtsHomeLoss),"") -> 14 | AC48: =IF(NOT(N48=""),SUMPRODUCT((HomeTeam=N48)*GamePlayed),"") -> 8 | AD48: =IF(NOT(N48=""),SUMPRODUCT((HomeTeam=N48)*(HomeScore>AwayScore)*GamePlayed),"") -> 4 | AE48: =IF(NOT(N48=""),SUMPRODUCT((HomeTeam=N48)*(HomeScore<AwayScore)*GamePlayed),"") -> 2 | AF48: =IF(NOT(N48=""),SUMPRODUCT((HomeTeam=N48)*(HomeScore=AwayScore)*GamePlayed),"") -> 2 | AG48: =IF(NOT(N48=""),SUMPRODUCT((HomeTeam=N48)*HomeScore*GamePlayed),"") -> 13 | AH48: =IF(NOT(N48=""),SUMPRODUCT((HomeTeam=N48)*AwayScore*GamePlayed),"") -> 7 | AI48: =IF(NOT(N48=""),AG48-AH48,"") -> 6 | AK48: =IF(NOT(N48=""),(AM48*PtsAwayWin)+(AO48*PtsAwayDraw)+(AN48*PtsAwayLoss),"") -> 8 | AL48: =IF(NOT(N48=""),SUMPRODUCT((AwayTeam=N48)*GamePlayed),"") -> 6 | AM48: =IF(NOT(N48=""),SUMPRODUCT((AwayTeam=N48)*(AwayScore>HomeScore)*GamePlayed),"") -> 2 | AN48: =IF(NOT(N48=""),SUMPRODUCT((AwayTeam=N48)*(AwayScore<HomeScore)*GamePlayed),"") -> 2 | AO48: =IF(NOT(N48=""),SUMPRODUCT((AwayTeam=N48)*(AwayScore=HomeScore)*GamePlayed),"") -> 2 | AP48: =IF(NOT(N48=""),SUMPRODUCT((AwayTeam=N48)*AwayScore*GamePlayed),"") -> 6 | AQ48: =IF(NOT(N48=""),SUMPRODUCT((AwayTeam=N48)*HomeScore*GamePlayed),"") -> 8 | AR48: =IF(NOT(N48=""),AP48-AQ48,"") -> -2 | AT48: =IF(NOT(N48=""),IF(NOT('Teams - Setup'!F22=""),'Teams - Setup'!F22,0),"") -> 0 | AV48: =IF(NOT(N48=""),RANK(P48,P$35:P$58,0),"") -> 4 | AW48: =IF(NOT(N48=""),SUMPRODUCT((P$35:P$58=P48)*(U$35:U$58>U48)),"") -> 0 | AX48: =IF(NOT(N48=""),SUMPRODUCT((P$35:P$58=P48)*(U$35:U$58=U48)*(Z$35:Z$58>Z48)),"") -> 0 | AY48: =IF(NOT(N48=""),SUMPRODUCT((P$35:P$58=P48)*(U$35:U$58=U48)*(Z$35:Z$58=Z48)*(X$35:X$58>X48)),"") -> 0 | AZ48: =IF(NOT(N48=""),SUMPRODUCT((P$35:P$58=P48)*(U$35:U$58=U48)*(Z$35:Z$58=Z48)*(X$35:X$58=X48)*(AT$35:AT$58<AT48)),"") -> 0 | BA48: =IF(NOT(N48=""),SUMPRODUCT((P$35:P$58=P48)*(U$35:U$58=U48)*(Z$35:Z$58=Z48)*(X$35:X$58=X48)*(AT$35:AT$58=AT48)*(AR$35:AR$58>AR48)),"") -> 0 | BB48: =IF(NOT(N48=""),SUMPRODUCT((P$35:P$58=P48)*(U$35:U$58=U48)*(Z$35:Z$58=Z48)*(X$35:X$58=X48)*(AT$35:AT$58=AT48)*(AR$35:AR$58=AR48)*(AP$35:AP$58>AP48)),"") -> 0 | BC48: =IF(NOT(N48=""),SUMPRODUCT((P$35:P$58=P48)*(U$35:U$58=U48)*(Z$35:Z$58=Z48)*(X$35:X$58=X48)*(AT$35:AT$58=AT48)*(AR$35:AR$58=AR48)*(AP$35:AP$58=AP48)*(AI$35:AI$58>AI48)),"") -> 0 | BD48: =IF(NOT(N48=""),SUMPRODUCT((P$35:P$58=P48)*(U$35:U$58=U48)*(Z$35:Z$58=Z48)*(X$35:X$58=X48)*(AT$35:AT$58=AT48)*(AR$35:AR$58=AR48)*(AP$35:AP$58=AP48)*(AI$35:AI$58=AI48)*(AG$35:AG$58>AG48)),"") -> 0 | BE48: =IF(NOT(N48=""),SUMPRODUCT((P$35:P$58=P48)*(U$35:U$58=U48)*(X$35:X$58=X48)*(Z$35:Z$58=Z48)*(AT$35:AT$58=AT48)*(AP$35:AP$58=AP48)*(AR$35:AR$58=AR48)*(AI$35:AI$58=AI48)*(AG$35:AG$58=AG48)*(BF$35:BF$58>BF48)),"") -> 0 | BF48: =IF(NOT(N48=""),IF(NOT('Teams - Setup'!G22=""),'Teams - Setup'!G22,0),"") -> 0 | BH48: =IF(NOT(N48=""),ROW(N48),"") -> 48
B49: Sat | C49: 04/12/2014 | D49: 4:00PM EDT | E49: Philadelphia | F49: 2 | G49: 2 | H49: Real Salt Lake | I49: PPL Park | K49: =IF(AND(NOT(E49=""),NOT(H49="")),IF(AND(NOT(F49=""),NOT(G49="")),1,0),0) -> 1 | M49: =IF(NOT(N49=""),SUM(AV49:BE49),"") -> 8 | N49: =IF(NOT('Teams - Setup'!B23=""),'Teams - Setup'!B23,"") -> FC Dallas | P49: =IF(NOT(N49=""),AB49+AK49,"") -> 18 | R49: =IF(NOT(N49=""),AC49+AL49,"") -> 15 | S49: =IF(NOT(N49=""),IF(R49>0,P49/R49,0),"") -> 1.2 | U49: =IF(NOT(N49=""),AD49+AM49,"") -> 5 | V49: =IF(NOT(N49=""),AE49+AN49,"") -> 7 | W49: =IF(NOT(N49=""),AF49+AO49,"") -> 3 | X49: =IF(NOT(N49=""),AG49+AP49,"") -> 23 | Y49: =IF(NOT(N49=""),AH49+AQ49,"") -> 24 | Z49: =IF(NOT(N49=""),X49-Y49,"") -> -1 | AB49: =IF(NOT(N49=""),(AD49*PtsHomeWin)+(AF49*PtsHomeDraw)+(AE49*PtsHomeLoss),"") -> 13 | AC49: =IF(NOT(N49=""),SUMPRODUCT((HomeTeam=N49)*GamePlayed),"") -> 8 | AD49: =IF(NOT(N49=""),SUMPRODUCT((HomeTeam=N49)*(HomeScore>AwayScore)*GamePlayed),"") -> 4 | AE49: =IF(NOT(N49=""),SUMPRODUCT((HomeTeam=N49)*(HomeScore<AwayScore)*GamePlayed),"") -> 3 | AF49: =IF(NOT(N49=""),SUMPRODUCT((HomeTeam=N49)*(HomeScore=AwayScore)*GamePlayed),"") -> 1 | AG49: =IF(NOT(N49=""),SUMPRODUCT((HomeTeam=N49)*HomeScore*GamePlayed),"") -> 14 | AH49: =IF(NOT(N49=""),SUMPRODUCT((HomeTeam=N49)*AwayScore*GamePlayed),"") -> 12 | AI49: =IF(NOT(N49=""),AG49-AH49,"") -> 2 | AK49: =IF(NOT(N49=""),(AM49*PtsAwayWin)+(AO49*PtsAwayDraw)+(AN49*PtsAwayLoss),"") -> 5 | AL49: =IF(NOT(N49=""),SUMPRODUCT((AwayTeam=N49)*GamePlayed),"") -> 7 | AM49: =IF(NOT(N49=""),SUMPRODUCT((AwayTeam=N49)*(AwayScore>HomeScore)*GamePlayed),"") -> 1 | AN49: =IF(NOT(N49=""),SUMPRODUCT((AwayTeam=N49)*(AwayScore<HomeScore)*GamePlayed),"") -> 4 | AO49: =IF(NOT(N49=""),SUMPRODUCT((AwayTeam=N49)*(AwayScore=HomeScore)*GamePlayed),"") -> 2 | AP49: =IF(NOT(N49=""),SUMPRODUCT((AwayTeam=N49)*AwayScore*GamePlayed),"") -> 9 | AQ49: =IF(NOT(N49=""),SUMPRODUCT((AwayTeam=N49)*HomeScore*GamePlayed),"") -> 12 | AR49: =IF(NOT(N49=""),AP49-AQ49,"") -> -3 | AT49: =IF(NOT(N49=""),IF(NOT('Teams - Setup'!F23=""),'Teams - Setup'!F23,0),"") -> 0 | AV49: =IF(NOT(N49=""),RANK(P49,P$35:P$58,0),"") -> 8 | AW49: =IF(NOT(N49=""),SUMPRODUCT((P$35:P$58=P49)*(U$35:U$58>U49)),"") -> 0 | AX49: =IF(NOT(N49=""),SUMPRODUCT((P$35:P$58=P49)*(U$35:U$58=U49)*(Z$35:Z$58>Z49)),"") -> 0 | AY49: =IF(NOT(N49=""),SUMPRODUCT((P$35:P$58=P49)*(U$35:U$58=U49)*(Z$35:Z$58=Z49)*(X$35:X$58>X49)),"") -> 0 | AZ49: =IF(NOT(N49=""),SUMPRODUCT((P$35:P$58=P49)*(U$35:U$58=U49)*(Z$35:Z$58=Z49)*(X$35:X$58=X49)*(AT$35:AT$58<AT49)),"") -> 0 | BA49: =IF(NOT(N49=""),SUMPRODUCT((P$35:P$58=P49)*(U$35:U$58=U49)*(Z$35:Z$58=Z49)*(X$35:X$58=X49)*(AT$35:AT$58=AT49)*(AR$35:AR$58>AR49)),"") -> 0 | BB49: =IF(NOT(N49=""),SUMPRODUCT((P$35:P$58=P49)*(U$35:U$58=U49)*(Z$35:Z$58=Z49)*(X$35:X$58=X49)*(AT$35:AT$58=AT49)*(AR$35:AR$58=AR49)*(AP$35:AP$58>AP49)),"") -> 0 | BC49: =IF(NOT(N49=""),SUMPRODUCT((P$35:P$58=P49)*(U$35:U$58=U49)*(Z$35:Z$58=Z49)*(X$35:X$58=X49)*(AT$35:AT$58=AT49)*(AR$35:AR$58=AR49)*(AP$35:AP$58=AP49)*(AI$35:AI$58>AI49)),"") -> 0 | BD49: =IF(NOT(N49=""),SUMPRODUCT((P$35:P$58=P49)*(U$35:U$58=U49)*(Z$35:Z$58=Z49)*(X$35:X$58=X49)*(AT$35:AT$58=AT49)*(AR$35:AR$58=AR49)*(AP$35:AP$58=AP49)*(AI$35:AI$58=AI49)*(AG$35:AG$58>AG49)),"") -> 0 | BE49: =IF(NOT(N49=""),SUMPRODUCT((P$35:P$58=P49)*(U$35:U$58=U49)*(X$35:X$58=X49)*(Z$35:Z$58=Z49)*(AT$35:AT$58=AT49)*(AP$35:AP$58=AP49)*(AR$35:AR$58=AR49)*(AI$35:AI$58=AI49)*(AG$35:AG$58=AG49)*(BF$35:BF$58>BF49)),"") -> 0 | BF49: =IF(NOT(N49=""),IF(NOT('Teams - Setup'!G23=""),'Teams - Setup'!G23,0),"") -> 0 | BH49: =IF(NOT(N49=""),ROW(N49),"") -> 49
B50: Sat | C50: 04/12/2014 | D50: 5:00PM EDT | E50: New England | F50: 2 | G50: 0 | H50: Houston | I50: Gillette Stadium | K50: =IF(AND(NOT(E50=""),NOT(H50="")),IF(AND(NOT(F50=""),NOT(G50="")),1,0),0) -> 1 | M50: =IF(NOT(N50=""),SUM(AV50:BE50),"") -> 12 | N50: =IF(NOT('Teams - Setup'!B24=""),'Teams - Setup'!B24,"") -> LA Galaxy | P50: =IF(NOT(N50=""),AB50+AK50,"") -> 16 | R50: =IF(NOT(N50=""),AC50+AL50,"") -> 11 | S50: =IF(NOT(N50=""),IF(R50>0,P50/R50,0),"") -> 1.4545455 | U50: =IF(NOT(N50=""),AD50+AM50,"") -> 4 | V50: =IF(NOT(N50=""),AE50+AN50,"") -> 3 | W50: =IF(NOT(N50=""),AF50+AO50,"") -> 4 | X50: =IF(NOT(N50=""),AG50+AP50,"") -> 15 | Y50: =IF(NOT(N50=""),AH50+AQ50,"") -> 10 | Z50: =IF(NOT(N50=""),X50-Y50,"") -> 5 | AB50: =IF(NOT(N50=""),(AD50*PtsHomeWin)+(AF50*PtsHomeDraw)+(AE50*PtsHomeLoss),"") -> 9 | AC50: =IF(NOT(N50=""),SUMPRODUCT((HomeTeam=N50)*GamePlayed),"") -> 4 | AD50: =IF(NOT(N50=""),SUMPRODUCT((HomeTeam=N50)*(HomeScore>AwayScore)*GamePlayed),"") -> 3 | AE50: =IF(NOT(N50=""),SUMPRODUCT((HomeTeam=N50)*(HomeScore<AwayScore)*GamePlayed),"") -> 1 | AF50: =IF(NOT(N50=""),SUMPRODUCT((HomeTeam=N50)*(HomeScore=AwayScore)*GamePlayed),"") -> 0 | AG50: =IF(NOT(N50=""),SUMPRODUCT((HomeTeam=N50)*HomeScore*GamePlayed),"") -> 7 | AH50: =IF(NOT(N50=""),SUMPRODUCT((HomeTeam=N50)*AwayScore*GamePlayed),"") -> 3 | AI50: =IF(NOT(N50=""),AG50-AH50,"") -> 4 | AK50: =IF(NOT(N50=""),(AM50*PtsAwayWin)+(AO50*PtsAwayDraw)+(AN50*PtsAwayLoss),"") -> 7 | AL50: =IF(NOT(N50=""),SUMPRODUCT((AwayTeam=N50)*GamePlayed),"") -> 7 | AM50: =IF(NOT(N50=""),SUMPRODUCT((AwayTeam=N50)*(AwayScore>HomeScore)*GamePlayed),"") -> 1 | AN50: =IF(NOT(N50=""),SUMPRODUCT((AwayTeam=N50)*(AwayScore<HomeScore)*GamePlayed),"") -> 2 | AO50: =IF(NOT(N50=""),SUMPRODUCT((AwayTeam=N50)*(AwayScore=HomeScore)*GamePlayed),"") -> 4 | AP50: =IF(NOT(N50=""),SUMPRODUCT((AwayTeam=N50)*AwayScore*GamePlayed),"") -> 8 | AQ50: =IF(NOT(N50=""),SUMPRODUCT((AwayTeam=N50)*HomeScore*GamePlayed),"") -> 7 | AR50: =IF(NOT(N50=""),AP50-AQ50,"") -> 1 | AT50: =IF(NOT(N50=""),IF(NOT('Teams - Setup'!F24=""),'Teams - Setup'!F24,0),"") -> 0 | AV50: =IF(NOT(N50=""),RANK(P50,P$35:P$58,0),"") -> 11 | AW50: =IF(NOT(N50=""),SUMPRODUCT((P$35:P$58=P50)*(U$35:U$58>U50)),"") -> 1 | AX50: =IF(NOT(N50=""),SUMPRODUCT((P$35:P$58=P50)*(U$35:U$58=U50)*(Z$35:Z$58>Z50)),"") -> 0 | AY50: =IF(NOT(N50=""),SUMPRODUCT((P$35:P$58=P50)*(U$35:U$58=U50)*(Z$35:Z$58=Z50)*(X$35:X$58>X50)),"") -> 0 | AZ50: =IF(NOT(N50=""),SUMPRODUCT((P$35:P$58=P50)*(U$35:U$58=U50)*(Z$35:Z$58=Z50)*(X$35:X$58=X50)*(AT$35:AT$58<AT50)),"") -> 0 | BA50: =IF(NOT(N50=""),SUMPRODUCT((P$35:P$58=P50)*(U$35:U$58=U50)*(Z$35:Z$58=Z50)*(X$35:X$58=X50)*(AT$35:AT$58=AT50)*(AR$35:AR$58>AR50)),"") -> 0 | BB50: =IF(NOT(N50=""),SUMPRODUCT((P$35:P$58=P50)*(U$35:U$58=U50)*(Z$35:Z$58=Z50)*(X$35:X$58=X50)*(AT$35:AT$58=AT50)*(AR$35:AR$58=AR50)*(AP$35:AP$58>AP50)),"") -> 0 | BC50: =IF(NOT(N50=""),SUMPRODUCT((P$35:P$58=P50)*(U$35:U$58=U50)*(Z$35:Z$58=Z50)*(X$35:X$58=X50)*(AT$35:AT$58=AT50)*(AR$35:AR$58=AR50)*(AP$35:AP$58=AP50)*(AI$35:AI$58>AI50)),"") -> 0 | BD50: =IF(NOT(N50=""),SUMPRODUCT((P$35:P$58=P50)*(U$35:U$58=U50)*(Z$35:Z$58=Z50)*(X$35:X$58=X50)*(AT$35:AT$58=AT50)*(AR$35:AR$58=AR50)*(AP$35:AP$58=AP50)*(AI$35:AI$58=AI50)*(AG$35:AG$58>AG50)),"") -> 0 | BE50: =IF(NOT(N50=""),SUMPRODUCT((P$35:P$58=P50)*(U$35:U$58=U50)*(X$35:X$58=X50)*(Z$35:Z$58=Z50)*(AT$35:AT$58=AT50)*(AP$35:AP$58=AP50)*(AR$35:AR$58=AR50)*(AI$35:AI$58=AI50)*(AG$35:AG$58=AG50)*(BF$35:BF$58>BF50)),"") -> 0 | BF50: =IF(NOT(N50=""),IF(NOT('Teams - Setup'!G24=""),'Teams - Setup'!G24,0),"") -> 0 | BH50: =IF(NOT(N50=""),ROW(N50),"") -> 50
