Workbook

Sheet OPL
A1: Open Points List (OPL) | H1: http://www.excelmadeeasy.com/
A2: Title: | C2: My OPL, My Project | H2: Download also our Gantt Chart | T2: Task Count
B3: Owner: | C3: Your Name | E3: Date: | F3: =TODAY() -> 45173 | N3: Data for statistics - automatically updated | T3: =COUNTA(B:B)-3 -> 14
A4: No. | B4: Task Creation Date | C4: Subject | D4: Subject | E4: Action Item | F4: Resp | G4: Planned finish date | H4: Status | I4: Actual finish date | J4: Estimated Completion Time (days) | K4: Result | L4: Information, Escalation, Feedback | M4: Priority | N4: Completion month | O4: Completed on time | P4: Completed overdue | Q4: Days overdue | R4: Telecon
A5: 1 | B5: 41671 | C5: no1 | D5: create OPL | E5: Use this OPL every day of my life. Yes you should use it everyday of your life | F5: myself | G5: 41730 | H5: =IF(A5<>"",IF(I5<>"","completed",IF(G5<TODAY(),"_overdue",IF(G5<TODAY()+J5*1.4, "_LATE",IF(G5<TODAY()+7+J5*1.4,"warning",IF(B5<TODAY()-7,"reminder","new"))))),"") -> completed | I5: 41729 | J5: 5 | K5: none yet, but we are waiting for more news from the customer | N5: =IF(I5<>"",DATE(YEAR(I5),MONTH(I5),1),"") -> 41699 | O5: =IF(Q5=0,1,0) -> 1 | P5: =IF(AND(Q5<>"",Q5>0),1,0) -> 0 | Q5: =IF(H5="completed",IF(I5<=G5,0,DAYS360(G5,I5)),"") -> 0
A6: 2 | B6: 41742 | C6: no2 | D6: create OPL | E6: Use this OPL every day of my life | F6: myself | G6: 1/102014 | H6: =IF(A6<>"",IF(I6<>"","completed",IF(G6<TODAY(),"_overdue",IF(G6<TODAY()+J6*1.4, "_LATE",IF(G6<TODAY()+7+J6*1.4,"warning",IF(B6<TODAY()-7,"reminder","new"))))),"") -> reminder | M6: 1 | N6: =IF(I6<>"",DATE(YEAR(I6),MONTH(I6),1),"") | O6: =IF(Q6=0,1,0) -> 0 | P6: =IF(AND(Q6<>"",Q6>0),1,0) -> 0 | Q6: =IF(H6="completed",IF(I6<=G6,0,DAYS360(G6,I6)),"")
A7: 3 | B7: 39551 | C7: no3 | D7: create OPL | E7: Use this OPL every day of my life | F7: myself | G7: 41748 | H7: =IF(A7<>"",IF(I7<>"","completed",IF(G7<TODAY(),"_overdue",IF(G7<TODAY()+J7*1.4, "_LATE",IF(G7<TODAY()+7+J7*1.4,"warning",IF(B7<TODAY()-7,"reminder","new"))))),"") -> _overdue | M7: 2 | N7: =IF(I7<>"",DATE(YEAR(I7),MONTH(I7),1),"") | O7: =IF(Q7=0,1,0) -> 0 | P7: =IF(AND(Q7<>"",Q7>0),1,0) -> 0 | Q7: =IF(H7="completed",IF(I7<=G7,0,DAYS360(G7,I7)),"")
A8: 4 | B8: 41640 | C8: no4 | D8: create OPL | E8: Use this OPL every day of my life | F8: myself | G8: 41671 | H8: =IF(A8<>"",IF(I8<>"","completed",IF(G8<TODAY(),"_overdue",IF(G8<TODAY()+J8*1.4, "_LATE",IF(G8<TODAY()+7+J8*1.4,"warning",IF(B8<TODAY()-7,"reminder","new"))))),"") -> completed | I8: 41713 | M8: 1 | N8: =IF(I8<>"",DATE(YEAR(I8),MONTH(I8),1),"") -> 41699 | O8: =IF(Q8=0,1,0) -> 0 | P8: =IF(AND(Q8<>"",Q8>0),1,0) -> 1 | Q8: =IF(H8="completed",IF(I8<=G8,0,DAYS360(G8,I8)),"") -> 44
A9: 5 | B9: 41641 | C9: no5 | D9: create OPL | E9: Use this OPL every day of my life | F9: Laura | G9: 41974 | H9: =IF(A9<>"",IF(I9<>"","completed",IF(G9<TODAY(),"_overdue",IF(G9<TODAY()+J9*1.4, "_LATE",IF(G9<TODAY()+7+J9*1.4,"warning",IF(B9<TODAY()-7,"reminder","new"))))),"") -> _overdue | J9: 40 | M9: 2 | N9: =IF(I9<>"",DATE(YEAR(I9),MONTH(I9),1),"") | O9: =IF(Q9=0,1,0) -> 0 | P9: =IF(AND(Q9<>"",Q9>0),1,0) -> 0 | Q9: =IF(H9="completed",IF(I9<=G9,0,DAYS360(G9,I9)),"")
A10: 6 | B10: 41742 | C10: no6 | D10: create OPL | E10: Use this OPL every day of my life | F10: you | G10: 41774 | H10: =IF(A10<>"",IF(I10<>"","completed",IF(G10<TODAY(),"_overdue",IF(G10<TODAY()+J10*1.4, "_LATE",IF(G10<TODAY()+7+J10*1.4,"warning",IF(B10<TODAY()-7,"reminder","new"))))),"") -> completed | I10: 41644 | M10: 1 | N10: =IF(I10<>"",DATE(YEAR(I10),MONTH(I10),1),"") -> 41640 | O10: =IF(Q10=0,1,0) -> 1 | P10: =IF(AND(Q10<>"",Q10>0),1,0) -> 0 | Q10: =IF(H10="completed",IF(I10<=G10,0,DAYS360(G10,I10)),"") -> 0
A11: 7 | B11: 41944 | C11: test | D11: test | E11: test | F11: john | G11: 41946 | H11: =IF(A11<>"",IF(I11<>"","completed",IF(G11<TODAY(),"_overdue",IF(G11<TODAY()+J11*1.4, "_LATE",IF(G11<TODAY()+7+J11*1.4,"warning",IF(B11<TODAY()-7,"reminder","new"))))),"") -> _overdue | M11: 1 | N11: =IF(I11<>"",DATE(YEAR(I11),MONTH(I11),1),"") | O11: =IF(Q11=0,1,0) -> 0 | P11: =IF(AND(Q11<>"",Q11>0),1,0) -> 0 | Q11: =IF(H11="completed",IF(I11<=G11,0,DAYS360(G11,I11)),"")
A12: 8 | B12: 41944 | C12: test2 | D12: test2 | E12: test2 | F12: Laura | G12: 41887 | H12: =IF(A12<>"",IF(I12<>"","completed",IF(G12<TODAY(),"_overdue",IF(G12<TODAY()+J12*1.4, "_LATE",IF(G12<TODAY()+7+J12*1.4,"warning",IF(B12<TODAY()-7,"reminder","new"))))),"") -> _overdue | M12: 2 | N12: =IF(I12<>"",DATE(YEAR(I12),MONTH(I12),1),"") | O12: =IF(Q12=0,1,0) -> 0 | P12: =IF(AND(Q12<>"",Q12>0),1,0) -> 0 | Q12: =IF(H12="completed",IF(I12<=G12,0,DAYS360(G12,I12)),"")
A13: 9 | B13: 41944 | C13: test3 | D13: test3 | E13: test3 | F13: Lana | G13: 41958 | H13: =IF(A13<>"",IF(I13<>"","completed",IF(G13<TODAY(),"_overdue",IF(G13<TODAY()+J13*1.4, "_LATE",IF(G13<TODAY()+7+J13*1.4,"warning",IF(B13<TODAY()-7,"reminder","new"))))),"") -> _overdue | N13: =IF(I13<>"",DATE(YEAR(I13),MONTH(I13),1),"") | O13: =IF(Q13=0,1,0) -> 0 | P13: =IF(AND(Q13<>"",Q13>0),1,0) -> 0 | Q13: =IF(H13="completed",IF(I13<=G13,0,DAYS360(G13,I13)),"")
A14: 10 | B14: 41944 | G14: 41944 | H14: =IF(A14<>"",IF(I14<>"","completed",IF(G14<TODAY(),"_overdue",IF(G14<TODAY()+J14*1.4, "_LATE",IF(G14<TODAY()+7+J14*1.4,"warning",IF(B14<TODAY()-7,"reminder","new"))))),"") -> _overdue | N14: =IF(I14<>"",DATE(YEAR(I14),MONTH(I14),1),"") | O14: =IF(Q14=0,1,0) -> 0 | P14: =IF(AND(Q14<>"",Q14>0),1,0) -> 0 | Q14: =IF(H14="completed",IF(I14<=G14,0,DAYS360(G14,I14)),"")
A15: 11 | B15: 41944 | G15: 41991 | H15: =IF(A15<>"",IF(I15<>"","completed",IF(G15<TODAY(),"_overdue",IF(G15<TODAY()+J15*1.4, "_LATE",IF(G15<TODAY()+7+J15*1.4,"warning",IF(B15<TODAY()-7,"reminder","new"))))),"") -> _overdue | N15: =IF(I15<>"",DATE(YEAR(I15),MONTH(I15),1),"") | O15: =IF(Q15=0,1,0) -> 0 | P15: =IF(AND(Q15<>"",Q15>0),1,0) -> 0 | Q15: =IF(H15="completed",IF(I15<=G15,0,DAYS360(G15,I15)),"")
A16: 12 | B16: 41944 | N16: =IF(I16<>"",DATE(YEAR(I16),MONTH(I16),1),"") | O16: =IF(Q16=0,1,0) -> 0 | P16: =IF(AND(Q16<>"",Q16>0),1,0) -> 0 | Q16: =IF(H16="completed",IF(I16<=G16,0,DAYS360(G16,I16)),"")
A17: 13 | B17: 41945
A18: 14 | B18: 41944 | N18: =IF(I18<>"",DATE(YEAR(I18),MONTH(I18),1),"") | O18: =IF(Q18=0,1,0) -> 0 | P18: =IF(AND(Q18<>"",Q18>0),1,0) -> 0 | Q18: =IF(H18="completed",IF(I18<=G18,0,DAYS360(G18,I18)),"")
N19: =IF(I19<>"",DATE(YEAR(I19),MONTH(I19),1),"") | O19: =IF(Q19=0,1,0) -> 0 | P19: =IF(AND(Q19<>"",Q19>0),1,0) -> 0 | Q19: =IF(H19="completed",IF(I19<=G19,0,DAYS360(G19,I19)),"")
H21: =IF(A21<>"",IF(I21<>"","completed",IF(G21<TODAY(),"_overdue",IF(G21<TODAY()+J21*1.4, "_LATE",IF(G21<TODAY()+7+J21*1.4,"warning",IF(B21<TODAY()-7,"reminder","new"))))),"") | N21: =IF(I21<>"",DATE(YEAR(I21),MONTH(I21),1),"") | O21: =IF(Q21=0,1,0) -> 0 | P21: =IF(AND(Q21<>"",Q21>0),1,0) -> 0 | Q21: =IF(H21="completed",IF(I21<=G21,0,DAYS360(G21,I21)),"")
B22: Do not add any thing under this line. Use the insert row function before reaching this line. | M22: last

Sheet meeting participants
C1: http://www.excelmadeeasy.com/
D2: Enter the date of the meeting so you can track who came
B3: shortname | C3: PRESENCE | D3: 41944 | E3: 41951 | F3: 41958 | G3: 41965 | H3: 41972 | I3: 41979 | J3: 41986 | K3: 41993 | L3: 42000 | M3: 42007 | N3: 42014
B4: for tasks
C5: Name 1 | D5: x | F5: x
C6: Name 2 | D6: x | E6: x | F6: x
C7: Name 3 | D7: x | F7: x
C8: Name 4 | D8: x | F8: x
C9: Name 5 | D9: x | F9: x
C10: Name 6 | D10: x | F10: x
C11: Name 7 | D11: x | F11: x
C12: Name 8 | F12: x
C13: Name 9 | E13: x | F13: x
C14: Name 10 | E14: x | F14: x
C15: Name 11 | F15: x
C16: Name 12 | E16: x | F16: x
C17: Name 13 | E17: x | F17: x
C18: Name 14 | E18: x | F18: x
C19: insert before this line (select this cell, press right click and select insert entire row)
C22: attendancy | D22: =COUNTIF(D5:D18,"x")/(COUNTBLANK(D5:D18)+COUNTIF(D5:D18,"x")) -> 0.5 | E22: =COUNTIF(E5:E18,"x")/(COUNTBLANK(E5:E18)+COUNTIF(E5:E18,"x")) -> 0.42857143 | F22: =COUNTIF(F5:F18,"x")/(COUNTBLANK(F5:F18)+COUNTIF(F5:F18,"x")) -> 1 | G22: =COUNTIF(G5:G18,"x")/(COUNTBLANK(G5:G18)+COUNTIF(G5:G18,"x")) -> 0 | H22: =COUNTIF(H5:H18,"x")/(COUNTBLANK(H5:H18)+COUNTIF(H5:H18,"x")) -> 0 | I22: =COUNTIF(I5:I18,"x")/(COUNTBLANK(I5:I18)+COUNTIF(I5:I18,"x")) -> 0 | J22: =COUNTIF(J5:J18,"x")/(COUNTBLANK(J5:J18)+COUNTIF(J5:J18,"x")) -> 0 | K22: =COUNTIF(K5:K18,"x")/(COUNTBLANK(K5:K18)+COUNTIF(K5:K18,"x")) -> 0 | ... V22: =COUNTIF(V5:V18,"x")/(COUNTBLANK(V5:V18)+COUNTIF(V5:V18,"x")) -> 0

Sheet Compl - by overdue
F1: Closed tasks, by overdue status
F2: Title: | G2: =OPL!B2 -> 0
E3: http://www.excelmadeeasy.com/
B4: =F1 -> Closed tasks, by overdue status
A6: Status | E6: Number of tasks | H6: Month | I6: Tasks completed
A7: on time | E7: =COUNTIF(OPL!Q:Q,"=0") -> 2 | I7: On-time | J7: Overdue
A8: 0 | B8: to | C8: =A9 -> 1 | D8: weeks | E8: =COUNTIF(OPL!Q:Q,"<"& TEXT('Compl - by overdue'!C8*5,"0"))-SUM(E$7:E7) -> 0 | H8: 41640 | I8: =SUMIF(OPL!N:$N,"=" & 'Compl - by overdue'!$H8,OPL!O:O) -> 1 | J8: =SUMIF(OPL!$N:O,"=" & 'Compl - by overdue'!$H8,OPL!P:P) -> 0
A9: 1 | B9: to | C9: =A10 -> 2 | D9: weeks | E9: =COUNTIF(OPL!Q:Q,"<"& TEXT('Compl - by overdue'!C9*5,"0"))-SUM(E$7:E8) -> 0 | H9: 41671 | I9: =SUMIF(OPL!N:N,"=" & 'Compl - by overdue'!H9,OPL!O:O) -> 0 | J9: =SUMIF(OPL!$N:O,"=" & 'Compl - by overdue'!$H9,OPL!P:P) -> 0
A10: 2 | B10: to | C10: =A11 -> 3 | D10: weeks | E10: =COUNTIF(OPL!Q:Q,"<"& TEXT('Compl - by overdue'!C10*5,"0"))-SUM(E$7:E9) -> 0 | H10: 41699 | I10: =SUMIF(OPL!N:N,"=" & 'Compl - by overdue'!H10,OPL!O:O) -> 1 | J10: =SUMIF(OPL!$N:O,"=" & 'Compl - by overdue'!$H10,OPL!P:P) -> 1
A11: 3 | B11: to | C11: =A12 -> 4 | D11: weeks | E11: =COUNTIF(OPL!Q:Q,"<"& TEXT('Compl - by overdue'!C11*5,"0"))-SUM(E$7:E10) -> 0 | H11: 41730 | I11: =SUMIF(OPL!N:N,"=" & 'Compl - by overdue'!H11,OPL!O:O) -> 0 | J11: =SUMIF(OPL!$N:O,"=" & 'Compl - by overdue'!$H11,OPL!P:P) -> 0
A12: 4 | B12: to | C12: =A13 -> 5 | D12: weeks | E12: =COUNTIF(OPL!Q:Q,"<"& TEXT('Compl - by overdue'!C12*5,"0"))-SUM(E$7:E11) -> 0 | H12: 41760 | I12: =SUMIF(OPL!N:N,"=" & 'Compl - by overdue'!H12,OPL!O:O) -> 0 | J12: =SUMIF(OPL!$N:O,"=" & 'Compl - by overdue'!$H12,OPL!P:P) -> 0
A13: 5 | B13: to | C13: =A14 -> 6 | D13: weeks | E13: =COUNTIF(OPL!Q:Q,"<"& TEXT('Compl - by overdue'!C13*5,"0"))-SUM(E$7:E12) -> 0 | H13: 41791 | I13: =SUMIF(OPL!N:N,"=" & 'Compl - by overdue'!H13,OPL!O:O) -> 0 | J13: =SUMIF(OPL!$N:O,"=" & 'Compl - by overdue'!$H13,OPL!P:P) -> 0
A14: 6 | B14: to | C14: =A15 -> 7 | D14: weeks | E14: =COUNTIF(OPL!Q:Q,"<"& TEXT('Compl - by overdue'!C14*5,"0"))-SUM(E$7:E13) -> 0 | H14: 41821 | I14: =SUMIF(OPL!N:N,"=" & 'Compl - by overdue'!H14,OPL!O:O) -> 0 | J14: =SUMIF(OPL!$N:O,"=" & 'Compl - by overdue'!$H14,OPL!P:P) -> 0
A15: 7 | B15: to | C15: =A16 -> 8 | D15: weeks | E15: =COUNTIF(OPL!Q:Q,"<"& TEXT('Compl - by overdue'!C15*5,"0"))-SUM(E$7:E14) -> 0 | H15: 41852 | I15: =SUMIF(OPL!N:N,"=" & 'Compl - by overdue'!H15,OPL!O:O) -> 0 | J15: =SUMIF(OPL!$N:O,"=" & 'Compl - by overdue'!$H15,OPL!P:P) -> 0
A16: 8 | B16: to | C16: =A17 -> 9 | D16: weeks | E16: =COUNTIF(OPL!Q:Q,"<"& TEXT('Compl - by overdue'!C16*5,"0"))-SUM(E$7:E15) -> 1 | H16: 41883 | I16: =SUMIF(OPL!N:N,"=" & 'Compl - by overdue'!H16,OPL!O:O) -> 0 | J16: =SUMIF(OPL!$N:O,"=" & 'Compl - by overdue'!$H16,OPL!P:P) -> 0
A17: 9 | B17: or more | D17: weeks | E17: =COUNTIF(OPL!Q:Q,">="& TEXT('Compl - by overdue'!A17*5,"0")) -> 0 | H17: 41913 | I17: =SUMIF(OPL!N:N,"=" & 'Compl - by overdue'!H17,OPL!O:O) -> 0 | J17: =SUMIF(OPL!$N:O,"=" & 'Compl - by overdue'!$H17,OPL!P:P) -> 0
H18: 41944 | I18: =SUMIF(OPL!N:N,"=" & 'Compl - by overdue'!H18,OPL!O:O) -> 0 | J18: =SUMIF(OPL!O:O,"=" & 'Compl - by overdue'!I18,OPL!P:P) -> 1
H19: 41974 | I19: =SUMIF(OPL!N:N,"=" & 'Compl - by overdue'!H19,OPL!O:O) -> 0 | J19: =SUMIF(OPL!$N:O,"=" & 'Compl - by overdue'!$H19,OPL!P:P) -> 0

Sheet By Resp - Status
F1: [Insert project/purpose name here] | P1: http://www.excelmadeeasy.com/
F2: Task Status by Responsibility
B4: Overview of task status by responsibility
B6: Count - Planned finish date | C6: Status
B7: Resp | C7: completed | D7: _overdue | E7: reminder | F7: Total Result
B8: you | C8: 1 | F8: 1
B9: myself | C9: 2 | D9: 1 | E9: 1 | F9: 4
B10: john | D10: 1 | F10: 1
B11: Laura | D11: 2 | F11: 2
B12: Lana | D12: 1 | F12: 1
B13: Total Result | C13: 3 | D13: 5 | E13: 1 | F13: 9

Sheet Category - Tasks
A1: List of tasks categories/working departments and their unique ID number
A2: =MAX(A4:A72) -> 50
B3: Ref No | C3: Abbreviations | D3: Designation/ Description
A4: 1
A5: 2
A6: 3
A7: 4
A8: 5
A9: 6
A10: 7
A11: 8
A12: 9
A13: 10
A14: 11
A15: 12
... A53: 50
A54: Achtung! Für weitere Arbeitspakete muss Makro geändert werden:
A55: => Formulare > "Auswahl_HAP"
A56: => Private Sub UserForm_Initialize => Range ändern (Default D53, 1. Zeile in Subrutine)

Sheet By Category - Status
F1: Closed tasks, by overdue status
F2: Title: | G2: =OPL!B2 -> 0
A6: Status
A7: completed | B7: (empty) | C7: _overdue | D7: reminder | E7: Total Result
A8: 3 | C8: 7 | D8: 1 | E8: 11

Sheet How to Use
B2: How to use the Open Points List | I2: http://www.excelmadeeasy.com/
B4: Purpose: It is envisaged that an open points list can be used to track tasks common to a Department, Section, Project, Topic.
B6: Usage:
B7: 1. Fill out the fields on the sheet "OPL" according to the comments on each column heading. To do this hold the mouse over the coloumn heading.
B9: 2. To use Pivot Tables and Graphs right click on field and select refresh data. The graphs will be empty until your open points list contains data.
B25: 3. Task Categories
B26: If you define task catergories in the worksheet "Category - Tasks" you can refer to them by their Ref. No. in the main OPL list. This data is used to create the graph of tasks by category too in the worksheet "By Category - Status"
B28: How Status field works.
B29: If you wish to know what criteria are used for the status field, the following flowchart details the decisions the spreadsheet makes.
