{"text_format":"3","workbook":"xlsx","n_sheets":7,"sheets":["Invoice","Week 1","Week 2","Week 3","Week 4","Week 5","Week 6"],"not_rendered":{"defined_names":105},"read":"whole","date_system":"1900"}

{"sheet":"Invoice","index":0,"n_rows":37,"n_cols":7,"rows_kept":37,"merged":[[14,0,14,2],[15,0,15,2],[16,0,16,2]]}
[]
[{"$f":"1+IF('Week 2'!$G42>0,1,0)+IF('Week 3'!$G42>0,1,0)+IF('Week 4'!$G42>0,1,0)+IF('Week 5'!$G42>0,1,0)+IF('Week 6'!$G42>0,1,0)","v":1},{"$f":"IF(WeekCount=1,'Week 1'!$C41,IF(WeekCount=2,'Week 2'!$C41,IF(WeekCount=3,'Week 3'!$C41,IF(WeekCount=4,'Week 4'!$C41,IF(WeekCount=5,'Week 5'!$C41,IF(WeekCount=6,'Week 6'!$C41,0))))))+2","v":39848},{"$f":"'Week 1'!$A5","v":39846}]
["From:","My Name",null,"TAX INVOICE"]
[null,"00 Xyz Road,",null,{"v":123,"d":"No 123"}]
[null,"SomeTown WA 6999",null,"2009-03-01"]
[null,"Phone: 9555 5555",null,"ABN 99 999 999 999"]
[null,"Mob: 0455555555"]
[null,"email: me@some_domain"]
[]
["To:","My client ABN 99 999 999 999"]
[null,"00 Abc Road,"]
[null,"SomeOtherTown WA 6999"]
[]
[{"$f":"B14+C14+D14+E14+F14+G14","v":7},{"$f":"'Week 1'!$G42","v":7},{"$f":"'Week 2'!$G42","v":0},{"$f":"'Week 3'!$G42","v":0},{"$f":"'Week 4'!$G42","v":0},{"$f":"'Week 5'!$G42","v":0},{"$f":"'Week 6'!$G42","v":0}]
["DESCRIPTION",null,null,"     RATE"," AMOUNT"]
[{"$f":"CONCATENATE(\"For \",A14,\" hours professional services for period \",TEXT(DAY(StartDate),\"00\"),\"/\",TEXT(MONTH(StartDate),\"00\"),\"/\",TEXT(YEAR(StartDate)-2000,\"00\"),IF(WeekCount>1,CONCATENATE(\" to \",TEXT(DAY(B2),\"00\"),\"/\",TEXT(MONTH(B2),\"00\"),\"/\",TEXT(YEAR(B2)-2000,\"00\")),\"\"))","v":"For 7 hours professional services for period 02/02/09"},null,null,{"v":50,"d":"$50.00"},{"$f":"A14*D16","v":350}]
["Goods and Services Tax",null,null,{"v":0.1,"d":"10.00%"},{"$f":"E16*D17","v":35}]
[{"$nulls":3},"Total Due",{"$f":"E16+E17","v":385}]
[]
[]
["PLEASE PAY WITHIN 7 DAYS"]
["Direct payment details:"]
["Bank: Some Bank"]
["BSB: 000-000"]
["Account: My Name"]
["Account No: 1111 1111"]
[]
[]
[]
[{"v":0.1,"d":"10.00%"},{"$f":"E16*0.1","v":35},"  GST"]
[{"v":0.15,"d":"15.00%"},{"$f":"E16*0.21","v":73.5},"  TAX"]
[null,null,{"$f":"B30+B31","v":108.5}]
[{"v":0.1,"d":"10.00%"},{"$f":"E16*0.1","v":35},"  Other expense"]
[{"v":0.1,"d":"10.00%"},{"$f":"E16*0.1","v":35},"  Other expense"]
[null,{"v":0,"d":"$0.00"},"  Fixed expense"]
["Total",{"$f":"SUM(B30:B35)","v":{"v":178.5,"d":"$178.50"}}]
["Remain",{"$f":"E18-B36","v":{"v":206.5,"d":"$206.50"}},"  What's left over"]

{"sheet":"Week 1","index":1,"n_rows":55,"n_cols":95,"rows_kept":55}
["'Name in cell A1'",2,3,4,5,6,null,{"$f":"CONCATENATE(\"Timesheet for \",Name,\" for period \",TEXT(DAY(A5),\"00\"),\"/\",TEXT(MONTH(A5),\"00\"),\"/\",TEXT(YEAR(A5)-2000,\"00\"),\" to \",TEXT(DAY(A5+6),\"00\"),\"/\",TEXT(MONTH(A5+6),\"00\"),\"/\",TEXT(YEAR(A5+6)-2000,\"00\"))","v":"Timesheet for 'Name in cell A1' for period 02/02/09 to 08/02/09"}]
[]
[{"$nulls":6},"                                           Tasks"]
["Date",null,null,"From","To",null,"Hrs",{"$f":"A44","v":"T1"},{"$nulls":7},{"$f":"A45","v":2},{"$nulls":7},{"$f":"A46","v":3},{"$nulls":7},{"$f":"A47","v":4},{"$nulls":7},{"$f":"A48","v":5},{"$nulls":7},{"$f":"A49","v":6},{"$nulls":7},{"$f":"A50","v":7},{"$nulls":7},{"$f":"A51","v":8},{"$nulls":7},{"$f":"A52","v":9},{"$nulls":7},{"$f":"A53","v":10},{"$nulls":7},{"$f":"A54","v":11}]
["2009-02-02",1,{"$f":"A5","v":"2009-02-02"},"09:00:00","12:00:00",{"$f":"E5-D5","v":"03:00:00"},{"$f":"IF(E5>0,HOUR(F5)+(MINUTE(F5)/60),0)","v":{"v":3,"d":"3.00"}},1,{"$f":"G5*H5","v":{"v":3,"d":"3.00"}},{"$f":"IF($B5=1,$I5,0)","v":{"v":3,"d":"3.00"}},{"$f":"IF($B5=2,$I5,0)","v":{"v":0,"d":"0.00"}},{"$f":"IF($B5=3,$I5,0)","v":{"v":0,"d":"0.00"}},{"$f":"IF($B5=4,$I5,0)","v":{"v":0,"d":"0.00"}},{"$f":"IF($B5=5,$I5,0)","v":{"v":0,"d":"0.00"}},{"$f":"IF($B5=6,$I5,0)","v":{"v":0,"d":"0.00"}},0,{"$f":"G5*P5","v":{"v":0,"d":"0.00"}},{"$f":"IF(B5=1,Q5,0)","v":{"v":0,"d":"0.00"}},{"$f":"IF(B5=2,Q5,0)","v":{"v":0,"d":"0.00"}},{"$f":"IF(B5=3,Q5,0)","v":{"v":0,"d":"0.00"}},{"$f":"IF(B5=4,Q5,0)","v":{"v":0,"d":"0.00"}},{"$f":"IF(B5=5,Q5,0)","v":{"v":0,"d":"0.00"}},{"$f":"IF(B5=6,Q5,0)","v":{"v":0,"d":"0.00"}},0,{"$f":"G5*X5","v":{"v":0,"d":"0.00"}},{"$f":"IF($B5=1,$Y5,0)","v":{"v":0,"d":"0.00"}},{"$f":"IF($B5=2,$Y5,0)","v":{"v":0,"d":"0.00"}},{"$f":"IF($B5=3,$Y5,0)","v":{"v":0,"d":"0.00"}},{"$f":"IF($B5=4,$Y5,0)","v":{"v":0,"d":"0.00"}},{"$f":"IF($B5=5,$Y5,0)","v":{"v":0,"d":"0.00"}},{"$f":"IF($B5=6,$Y5,0)","v":{"v":0,"d":"0.00"}},0,{"$f":"G5*AF5","v":{"v":0,"d":"0.00"}},{"$f":"IF($B5=1,$AG5,0)","v":{"v":0,"d":"0.00"}},{"$f":"IF($B5=2,$AG5,0)","v":{"v":0,"d":"0.00"}},{"$f":"IF($B5=3,$AG5,0)","v":{"v":0,"d":"0.00"}},{"$f":"IF($B5=4,$AG5,0)","v":{"v":0,"d":"0.00"}},{"$f":"IF($B5=5,$AG5,0)","v":{"v":0,"d":"0.00"}},{"$f":"IF($B5=6,$AG5,0)","v":{"v":0,"d":"0.00"}},0,{"$f":"G5*AN5","v":{"v":0,"d":"0.00"}},{"$f":"IF($B5=1,$AO5,0)","v":{"v":0,"d":"0.00"}},{"$f":"IF($B5=2,$AO5,0)","v":{"v":0,"d":"0.00"}},{"$f":"IF($B5=3,$AO5,0)","v":{"v":0,"d":"0.00"}},{"$f":"IF($B5=4,$AO5,0)","v":{"v":0,"d":"0.00"}},{"$f":"IF($B5=5,$AO5,0)","v":{"v":0,"d":"0.00"}},{"$f":"IF($B5=6,$AO5,0)","v":{"v":0,"d":"0.00"}},0,{"$f":"G5*AV5","v":{"v":0,"d":"0.00"}},{"$f":"IF($B5=1,$AW5,0)","v":{"v":0,"d":"0.00"}},{"$f":"IF($B5=2,$AW5,0)","v":{"v":0,"d":"0.00"}},{"$f":"IF($B5=3,$AW5,0)","v":{"v":0,"d":"0.00"}},{"$f":"IF($B5=4,$AW5,0)","v":{"v":0,"d":"0.00"}},{"$f":"IF($B5=5,$AW5,0)","v":{"v":0,"d":"0.00"}},{"$f":"IF($B5=6,$AW5,0)","v":{"v":0,"d":"0.00"}},0,{"$f":"G5*BD5","v":{"v":0,"d":"0.00"}},{"$f":"IF($B5=1,$BE5,0)","v":{"v":0,"d":"0.00"}},{"$f":"IF($B5=2,$BE5,0)","v":{"v":0,"d":"0.00"}},{"$f":"IF($B5=3,$BE5,0)","v":{"v":0,"d":"0.00"}},{"$f":"IF($B5=4,$BE5,0)","v":{"v":0,"d":"0.00"}},{"$f":"IF($B5=5,$BE5,0)","v":{"v":0,"d":"0.00"}},{"$f":"IF($B5=6,$BE5,0)","v":{"v":0,"d":"0.00"}},0,{"$f":"G5*BL5","v":{"v":0,"d":"0.00"}},{"$f":"IF($B5=1,$BM5,0)","v":{"v":0,"d":"0.00"}},{"$f":"IF($B5=2,$BM5,0)","v":{"v":0,"d":"0.00"}},{"$f":"IF($B5=3,$BM5,0)","v":{"v":0,"d":"0.00"}},{"$f":"IF($B5=4,$BM5,0)","v":{"v":0,"d":"0.00"}},{"$f":"IF($B5=5,$BM5,0)","v":{"v":0,"d":"0.00"}},{"$f":"IF($B5=6,$BM5,0)","v":{"v":0,"d":"0.00"}},0,{"$f":"G5*BT5","v":{"v":0,"d":"0.00"}},{"$f":"IF($B5=1,$BU5,0)","v":{"v":0,"d":"0.00"}},{"$f":"IF($B5=2,$BU5,0)","v":{"v":0,"d":"0.00"}},{"$f":"IF($B5=3,$BU5,0)","v":{"v":0,"d":"0.00"}},{"$f":"IF($B5=4,$BU5,0)","v":{"v":0,"d":"0.00"}},{"$f":"IF($B5=5,$BU5,0)","v":{"v":0,"d":"0.00"}},{"$f":"IF($B5=6,$BU5,0)","v":{"v":0,"d":"0.00"}},0,{"$f":"G5*CB5","v":{"v":0,"d":"0.00"}},{"$f":"IF($B5=1,$CC5,0)","v":{"v":0,"d":"0.00"}},{"$f":"IF($B5=2,$CC5,0)","v":{"v":0,"d":"0.00"}},{"$f":"IF($B5=3,$CC5,0)","v":{"v":0,"d":"0.00"}},{"$f":"IF($B5=4,$CC5,0)","v":{"v":0,"d":"0.00"}},{"$f":"IF($B5=5,$CC5,0)","v":{"v":0,"d":"0.00"}},{"$f":"IF($B5=6,$CC5,0)","v":{"v":0,"d":"0.00"}},0,{"$f":"G5*CJ5","v":{"v":0,"d":"0.00"}},{"$f":"IF($B5=1,$CK5,0)","v":{"v":0,"d":"0.00"}},{"$f":"IF($B5=2,$CK5,0)","v":{"v":0,"d":"0.00"}},{"$f":"IF($B5=3,$CK5,0)","v":{"v":0,"d":"0.00"}},{"$f":"IF($B5=4,$CK5,0)","v":{"v":0,"d":"0.00"}},{"$f":"IF($B5=5,$CK5,0)","v":{"v":0,"d":"0.00"}},{"$f":"IF($B5=6,$CK5,0)","v":{"v":0,"d":"0.00"}}]
[{"$f":"IF(C5<>C6,C6,\"\")","v":""},{"$f":"IF(C5<>C6,_xlfn.DAYS(C6,C5)+B5,B5)","v":1},{"$f":"IF(D6>0,IF(D6<E5,C5+1,C5),C5)","v":"2009-02-02"},"13:00:00","17:00:00",{"$f":"E6-D6","v":"04:00:00"},{"$f":"IF(E6>0,HOUR(F6)+(MINUTE(F6)/60),0)","v":{"v":4,"d":"4.00"}},{"$f":"IF(H5>0,IF(P6+X6+AF6+AN6+AV6+BD6+BL6+BT6+CB6+CJ6=0,IF(E6>0,H5,0),0),0)","v":1},{"$f":"G6*H6","v":{"v":4,"d":"4.00"}},{"$f":"IF($B6=1,$I6,0)","v":{"v":4,"d":"4.00"}},{"$f":"IF($B6=2,$I6,0)","v":{"v":0,"d":"0.00"}},{"$f":"IF($B6=3,$I6,0)","v":{"v":0,"d":"0.00"}},{"$f":"IF($B6=4,$I6,0)","v":{"v":0,"d":"0.00"}},{"$f":"IF($B6=5,$I6,0)","v":{"v":0,"d":"0.00"}},{"$f":"IF($B6=6,$I6,0)","v":{"v":0,"d":"0.00"}},{"$f":"IF(P5>0,IF(H6+X6+AF6+AN6+AV6+BD6+BL6+BT6+CB6+CJ6=0,IF(E6>0,P5,0),0),0)","v":0},{"$f":"G6*P6","v":{"v":0,"d":"0.00"}},{"$f":"IF(B6=1,Q6,0)","v":{"v":0,"d":"0.00"}},{"$f":"IF(B6=2,Q6,0)","v":{"v":0,"d":"0.00"}},{"$f":"IF(B6=3,Q6,0)","v":{"v":0,"d":"0.00"}},{"$f":"IF(B6=4,Q6,0)","v":{"v":0,"d":"0.00"}},{"$f":"IF(B6=5,Q6,0)","v":{"v":0,"d":"0.00"}},{"$f":"IF(B6=6,Q6,0)","v":{"v":0,"d":"0.00"}},{"$f":"IF(X5>0,IF(H6+P6+AF6+AN6+AV6+BD6+BL6+BT6+CB6+CJ6=0,IF(E6>0,X5,0),0),0)","v":0},{"$f":"G6*X6","v":{"v":0,"d":"0.00"}},{"$f":"IF($B6=1,$Y6,0)","v":{"v":0,"d":"0.00"}},{"$f":"IF($B6=2,$Y6,0)","v":{"v":0,"d":"0.00"}},{"$f":"IF($B6=3,$Y6,0)","v":{"v":0,"d":"0.00"}},{"$f":"IF($B6=4,$Y6,0)","v":{"v":0,"d":"0.00"}},{"$f":"IF($B6=5,$Y6,0)","v":{"v":0,"d":"0.00"}},{"$f":"IF($B6=6,$Y6,0)","v":{"v":0,"d":"0.00"}},{"$f":"IF(AF5>0,IF(H6+P6+X6+AN6+AV6+BD6+BL6+BT6+CB6+CJ6=0,IF(E6>0,AF5,0),0),0)","v":0},{"$f":"G6*AF6","v":{"v":0,"d":"0.00"}},{"$f":"IF($B6=1,$AG6,0)","v":{"v":0,"d":"0.00"}},{"$f":"IF($B6=2,$AG6,0)","v":{"v":0,"d":"0.00"}},{"$f":"IF($B6=3,$AG6,0)","v":{"v":0,"d":"0.00"}},{"$f":"IF($B6=4,$AG6,0)","v":{"v":0,"d":"0.00"}},{"$f":"IF($B6=5,$AG6,0)","v":{"v":0,"d":"0.00"}},{"$f":"IF($B6=6,$AG6,0)","v":{"v":0,"d":"0.00"}},{"$f":"IF(AN5>0,IF(H6+P6+X6+AF6+AV6+BD6+BL6+BT6+CB6+CJ6=0,IF(E6>0,AN5,0),0),0)","v":0},{"$f":"G6*AN6","v":{"v":0,"d":"0.00"}},{"$f":"IF($B6=1,$AO6,0)","v":{"v":0,"d":"0.00"}},{"$f":"IF($B6=2,$AO6,0)","v":{"v":0,"d":"0.00"}},{"$f":"IF($B6=3,$AO6,0)","v":{"v":0,"d":"0.00"}},{"$f":"IF($B6=4,$AO6,0)","v":{"v":0,"d":"0.00"}},{"$f":"IF($B6=5,$AO6,0)","v":{"v":0,"d":"0.00"}},{"$f":"IF($B6=6,$AO6,0)","v":{"v":0,"d":"0.00"}},{"$f":"IF(AV5>0,IF(H6+P6+X6+AF6+AN6+BD6+BL6+BT6+CB6+CJ6=0,IF(E6>0,AV5,0),0),0)","v":0},{"$f":"G6*AV6","v":{"v":0,"d":"0.00"}},{"$f":"IF($B6=1,$AW6,0)","v":{"v":0,"d":"0.00"}},{"$f":"IF($B6=2,$AW6,0)","v":{"v":0,"d":"0.00"}},{"$f":"IF($B6=3,$AW6,0)","v":{"v":0,"d":"0.00"}},{"$f":"IF($B6=4,$AW6,0)","v":{"v":0,"d":"0.00"}},{"$f":"IF($B6=5,$AW6,0)","v":{"v":0,"d":"0.00"}},{"$f":"IF($B6=6,$AW6,0)","v":{"v":0,"d":"0.00"}},{"$f":"IF(BD5>0,IF(H6+P6+X6+AF6+AN6+AV6+BL6+BT6+CB6+CJ6=0,IF(E6>0,BD5,0),0),0)","v":0},{"$f":"G6*BD6","v":{"v":0,"d":"0.00"}},{"$f":"IF($B6=1,$BE6,0)","v":{"v":0,"d":"0.00"}},{"$f":"IF($B6=2,$BE6,0)","v":{"v":0,"d":"0.00"}},{"$f":"IF($B6=3,$BE6,0)","v":{"v":0,"d":"0.00"}},{"$f":"IF($B6=4,$BE6,0)","v":{"v":0,"d":"0.00"}},{"$f":"IF($B6=5,$BE6,0)","v":{"v":0,"d":"0.00"}},{"$f":"IF($B6=6,$BE6,0)","v":{"v":0,"d":"0.00"}},{"$f":"IF(BL5>0,IF(H6+P6+X6+AF6+AN6+AV6+BD6+BT6+CB6+CJ6=0,IF(E6>0,BL5,0),0),0)","v":0},{"$f":"G6*BL6","v":{"v":0,"d":"0.00"}},{"$f":"IF($B6=1,$BM6,0)","v":{"v":0,"d":"0.00"}},{"$f":"IF($B6=2,$BM6,0)","v":{"v":0,"d":"0.00"}},{"$f":"IF($B6=3,$BM6,0)","v":{"v":0,"d":"0.00"}},{"$f":"IF($B6=4,$BM6,0)","v":{"v":0,"d":"0.00"}},{"$f":"IF($B6=5,$BM6,0)","v":{"v":0,"d":"0.00"}},{"$f":"IF($B6=6,$BM6,0)","v":{"v":0,"d":"0.00"}},{"$f":"IF(BT5>0,IF(H6+P6+X6+AF6+AN6+AV6+BD6+BL6+CB6+CJ6=0,IF(E6>0,BT5,0),0),0)","v":0},{"$f":"G6*BT6","v":{"v":0,"d":"0.00"}},{"$f":"IF($B6=1,$BU6,0)","v":{"v":0,"d":"0.00"}},{"$f":"IF($B6=2,$BU6,0)","v":{"v":0,"d":"0.00"}},{"$f":"IF($B6=3,$BU6,0)","v":{"v":0,"d":"0.00"}},{"$f":"IF($B6=4,$BU6,0)","v":{"v":0,"d":"0.00"}},{"$f":"IF($B6=5,$BU6,0)","v":{"v":0,"d":"0.00"}},{"$f":"IF($B6=6,$BU6,0)","v":{"v":0,"d":"0.00"}},{"$f":"IF(CB5>0,IF(H6+P6+X6+AF6+AN6+AV6+BD6+BL6+BT6+CJ6=0,IF(E6>0,CB5,0),0),0)","v":0},{"$f":"G6*CB6","v":{"v":0,"d":"0.00"}},{"$f":"IF($B6=1,$CC6,0)","v":{"v":0,"d":"0.00"}},{"$f":"IF($B6=2,$CC6,0)","v":{"v":0,"d":"0.00"}},{"$f":"IF($B6=3,$CC6,0)","v":{"v":0,"d":"0.00"}},{"$f":"IF($B6=4,$CC6,0)","v":{"v":0,"d":"0.00"}},{"$f":"IF($B6=5,$CC6,0)","v":{"v":0,"d":"0.00"}},{"$f":"IF($B6=6,$CC6,0)","v":{"v":0,"d":"0.00"}},{"$f":"IF(CJ5>0,IF(H6+P6+X6+AF6+AN6+AV6+BD6+BL6+BT6+CB6=0,IF(E6>0,CJ5,0),0),0)","v":0},{"$f":"G6*CJ6","v":{"v":0,"d":"0.00"}},{"$f":"IF($B6=1,$CK6,0)","v":{"v":0,"d":"0.00"}},{"$f":"IF($B6=2,$CK6,0)","v":{"v":0,"d":"0.00"}},{"$f":"IF($B6=3,$CK6,0)","v":{"v":0,"d":"0.00"}},{"$f":"IF($B6=4,$CK6,0)","v":{"v":0,"d":"0.00"}},{"$f":"IF($B6=5,$CK6,0)","v":{"v":0,"d":"0.00"}},{"$f":"IF($B6=6,$CK6,0)","v":{"v":0,"d":"0.00"}}]
[{"$f":"IF(C6<>C7,C7,\"\")","v":""},{"$f":"IF(C6<>C7,_xlfn.DAYS(C7,C6)+B6,B6)","v":1},{"$f":"IF(D7>0,IF(D7<E6,C6+1,C6),C6)","v":"2009-02-02"},{"$f":"IF((E7+H7+P7+X7+AF7+AN7+AV7+BD7+BL7+BT7+CB7+CJ7)>0,E6,0)","v":"00:00:00"},null,{"$f":"E7-D7","v":"00:00:00"},{"$f":"IF(E7>0,HOUR(F7)+(MINUTE(F7)/60),0)","v":0},{"$f":"IF(H6>0,IF(P7+X7+AF7+AN7+AV7+BD7+BL7+BT7+CB7+CJ7=0,IF(E7>0,H6,0),0),0)","v":0},{"$f":"G7*H7","v":{"v":0,"d":"0.00"}},{"$f":"IF($B7=1,$I7,0)","v":{"v":0,"d":"0.00"}},{"$f":"IF($B7=2,$I7,0)","v":{"v":0,"d":"0.00"}},{"$f":"IF($B7=3,$I7,0)","v":{"v":0,"d":"0.00"}},{"$f":"IF($B7=4,$I7,0)","v":{"v":0,"d":"0.00"}},{"$f":"IF($B7=5,$I7,0)","v":{"v":0,"d":"0.00"}},{"$f":"IF($B7=6,$I7,0)","v":{"v":0,"d":"0.00"}},{"$f":"IF(P6>0,IF(H7+X7+AF7+AN7+AV7+BD7+BL7+BT7+CB7+CJ7=0,IF(E7>0,P6,0),0),0)","v":0},{"$f":"G7*P7","v":{"v":0,"d":"0.00"}},{"$f":"IF(B7=1,Q7,0)","v":{"v":0,"d":"0.00"}},{"$f":"IF(B7=2,Q7,0)","v":{"v":0,"d":"0.00"}},{"$f":"IF(B7=3,Q7,0)","v":{"v":0,"d":"0.00"}},{"$f":"IF(B7=4,Q7,0)","v":{"v":0,"d":"0.00"}},{"$f":"IF(B7=5,Q7,0)","v":{"v":0,"d":"0.00"}},{"$f":"IF(B7=6,Q7,0)","v":{"v":0,"d":"0.00"}},{"$f":"IF(X6>0,IF(H7+P7+AF7+AN7+AV7+BD7+BL7+BT7+CB7+CJ7=0,IF(E7>0,X6,0),0),0)","v":0},{"$f":"G7*X7","v":{"v":0,"d":"0.00"}},{"$f":"IF($B7=1,$Y7,0)","v":{"v":0,"d":"0.00"}},{"$f":"IF($B7=2,$Y7,0)","v":{"v":0,"d":"0.00"}},{"$f":"IF($B7=3,$Y7,0)","v":{"v":0,"d":"0.00"}},{"$f":"IF($B7=4,$Y7,0)","v":{"v":0,"d":"0.00"}},{"$f":"IF($B7=5,$Y7,0)","v":{"v":0,"d":"0.00"}},{"$f":"IF($B7=6,$Y7,0)","v":{"v":0,"d":"0.00"}},{"$f":"IF(AF6>0,IF(H7+P7+X7+AN7+AV7+BD7+BL7+BT7+CB7+CJ7=0,IF(E7>0,AF6,0),0),0)","v":0},{"$f":"G7*AF7","v":{"v":0,"d":"0.00"}},{"$f":"IF($B7=1,$AG7,0)","v":{"v":0,"d":"0.00"}},{"$f":"IF($B7=2,$AG7,0)","v":{"v":0,"d":"0.00"}},{"$f":"IF($B7=3,$AG7,0)","v":{"v":0,"d":"0.00"}},{"$f":"IF($B7=4,$AG7,0)","v":{"v":0,"d":"0.00"}},{"$f":"IF($B7=5,$AG7,0)","v":{"v":0,"d":"0.00"}},{"$f":"IF($B7=6,$AG7,0)","v":{"v":0,"d":"0.00"}},{"$f":"IF(AN6>0,IF(H7+P7+X7+AF7+AV7+BD7+BL7+BT7+CB7+CJ7=0,IF(E7>0,AN6,0),0),0)","v":0},{"$f":"G7*AN7","v":{"v":0,"d":"0.00"}},{"$f":"IF($B7=1,$AO7,0)","v":{"v":0,"d":"0.00"}},{"$f":"IF($B7=2,$AO7,0)","v":{"v":0,"d":"0.00"}},{"$f":"IF($B7=3,$AO7,0)","v":{"v":0,"d":"0.00"}},{"$f":"IF($B7=4,$AO7,0)","v":{"v":0,"d":"0.00"}},{"$f":"IF($B7=5,$AO7,0)","v":{"v":0,"d":"0.00"}},{"$f":"IF($B7=6,$AO7,0)","v":{"v":0,"d":"0.00"}},{"$f":"IF(AV6>0,IF(H7+P7+X7+AF7+AN7+BD7+BL7+BT7+CB7+CJ7=0,IF(E7>0,AV6,0),0),0)","v":0},{"$f":"G7*AV7","v":{"v":0,"d":"0.00"}},{"$f":"IF($B7=1,$AW7,0)","v":{"v":0,"d":"0.00"}},{"$f":"IF($B7=2,$AW7,0)","v":{"v":0,"d":"0.00"}},{"$f":"IF($B7=3,$AW7,0)","v":{"v":0,"d":"0.00"}},{"$f":"IF($B7=4,$AW7,0)","v":{"v":0,"d":"0.00"}},{"$f":"IF($B7=5,$AW7,0)","v":{"v":0,"d":"0.00"}},{"$f":"IF($B7=6,$AW7,0)","v":{"v":0,"d":"0.00"}},{"$f":"IF(BD6>0,IF(H7+P7+X7+AF7+AN7+AV7+BL7+BT7+CB7+CJ7=0,IF(E7>0,BD6,0),0),0)","v":0},{"$f":"G7*BD7","v":{"v":0,"d":"0.00"}},{"$f":"IF($B7=1,$BE7,0)","v":{"v":0,"d":"0.00"}},{"$f":"IF($B7=2,$BE7,0)","v":{"v":0,"d":"0.00"}},{"$f":"IF($B7=3,$BE7,0)","v":{"v":0,"d":"0.00"}},{"$f":"IF($B7=4,$BE7,0)","v":{"v":0,"d":"0.00"}},{"$f":"IF($B7=5,$BE7,0)","v":{"v":0,"d":"0.00"}},{"$f":"IF($B7=6,$BE7,0)","v":{"v":0,"d":"0.00"}},{"$f":"IF(BL6>0,IF(H7+P7+X7+AF7+AN7+AV7+BD7+BT7+CB7+CJ7=0,IF(E7>0,BL6,0),0),0)","v":0},{"$f":"G7*BL7","v":{"v":0,"d":"0.00"}},{"$f":"IF($B7=1,$BM7,0)","v":{"v":0,"d":"0.00"}},{"$f":"IF($B7=2,$BM7,0)","v":{"v":0,"d":"0.00"}},{"$f":"IF($B7=3,$BM7,0)","v":{"v":0,"d":"0.00"}},{"$f":"IF($B7=4,$BM7,0)","v":{"v":0,"d":"0.00"}},{"$f":"IF($B7=5,$BM7,0)","v":{"v":0,"d":"0.00"}},{"$f":"IF($B7=6,$BM7,0)","v":{"v":0,"d":"0.00"}},{"$f":"IF(BT6>0,IF(H7+P7+X7+AF7+AN7+AV7+BD7+BL7+CB7+CJ7=0,IF(E7>0,BT6,0),0),0)","v":0},{"$f":"G7*BT7","v":{"v":0,"d":"0.00"}},{"$f":"IF($B7=1,$BU7,0)","v":{"v":0,"d":"0.00"}},{"$f":"IF($B7=2,$BU7,0)","v":{"v":0,"d":"0.00"}},{"$f":"IF($B7=3,$BU7,0)","v":{"v":0,"d":"0.00"}},{"$f":"IF($B7=4,$BU7,0)","v":{"v":0,"d":"0.00"}},{"$f":"IF($B7=5,$BU7,0)","v":{"v":0,"d":"0.00"}},{"$f":"IF($B7=6,$BU7,0)","v":{"v":0,"d":"0.00"}},{"$f":"IF(CB6>0,IF(H7+P7+X7+AF7+AN7+AV7+BD7+BL7+BT7+CJ7=0,IF(E7>0,CB6,0),0),0)","v":0},{"$f":"G7*CB7","v":{"v":0,"d":"0.00"}},{"$f":"IF($B7=1,$CC7,0)","v":{"v":0,"d":"0.00"}},{"$f":"IF($B7=2,$CC7,0)","v":{"v":0,"d":"0.00"}},{"$f":"IF($B7=3,$CC7,0)","v":{"v":0,"d":"0.00"}},{"$f":"IF($B7=4,$CC7,0)","v":{"v":0,"d":"0.00"}},{"$f":"IF($B7=5,$CC7,0)","v":{"v":0,"d":"0.00"}},{"$f":"IF($B7=6,$CC7,0)","v":{"v":0,"d":"0.00"}},{"$f":"IF(CJ6>0,IF(H7+P7+X7+AF7+AN7+AV7+BD7+BL7+BT7+CB7=0,IF(E7>0,CJ6,0),0),0)","v":0},{"$f":"G7*CJ7","v":{"v":0,"d":"0.00"}},{"$f":"IF($B7=1,$CK7,0)","v":{"v":0,"d":"0.00"}},{"$f":"IF($B7=2,$CK7,0)","v":{"v":0,"d":"0.00"}},{"$f":"IF($B7=3,$CK7,0)","v":{"v":0,"d":"0.00"}},{"$f":"IF($B7=4,$CK7,0)","v":{"v":0,"d":"0.00"}},{"$f":"IF($B7=5,$CK7,0)","v":{"v":0,"d":"0.00"}},{"$f":"IF($B7=6,$CK7,0)","v":{"v":0,"d":"0.00"}}]
[{"$f":"IF(C7<>C8,C8,\"\")","v":""},{"$f":"IF(C7<>C8,_xlfn.DAYS(C8,C7)+B7,B7)","v":1},{"$f":"IF(D8>0,IF(D8<E7,C7+1,C7),C7)","v":"2009-02-02"},{"$f":"IF((E8+H8+P8+X8+AF8+AN8+AV8+BD8+BL8+BT8+CB8+CJ8)>0,E7,0)","v":"00:00:00"},null,{"$f":"E8-D8","v":"00:00:00"},{"$f":"IF(E8>0,HOUR(F8)+(MINUTE(F8)/60),0)","v":0},{"$f":"IF(H7>0,IF(P8+X8+AF8+AN8+AV8+BD8+BL8+BT8+CB8+CJ8=0,IF(E8>0,H7,0),0),0)","v":0},{"$f":"G8*H8","v":{"v":0,"d":"0.00"}},{"$f":"IF($B8=1,$I8,0)","v":{"v":0,"d":"0.00"}},{"$f":"IF($B8=2,$I8,0)","v":{"v":0,"d":"0.00"}},{"$f":"IF($B8=3,$I8,0)","v":{"v":0,"d":"0.00"}},{"$f":"IF($B8=4,$I8,0)","v":{"v":0,"d":"0.00"}},{"$f":"IF($B8=5,$I8,0)","v":{"v":0,"d":"0.00"}},{"$f":"IF($B8=6,$I8,0)","v":{"v":0,"d":"0.00"}},{"$f":"IF(P7>0,IF(H8+X8+AF8+AN8+AV8+BD8+BL8+BT8+CB8+CJ8=0,IF(E8>0,P7,0),0),0)","v":0},{"$f":"G8*P8","v":{"v":0,"d":"0.00"}},{"$f":"IF(B8=1,Q8,0)","v":{"v":0,"d":"0.00"}},{"$f":"IF(B8=2,Q8,0)","v":{"v":0,"d":"0.00"}},{"$f":"IF(B8=3,Q8,0)","v":{"v":0,"d":"0.00"}},{"$f":"IF(B8=4,Q8,0)","v":{"v":0,"d":"0.00"}},{"$f":"IF(B8=5,Q8,0)","v":{"v":0,"d":"0.00"}},{"$f":"IF(B8=6,Q8,0)","v":{"v":0,"d":"0.00"}},{"$f":"IF(X7>0,IF(H8+P8+AF8+AN8+AV8+BD8+BL8+BT8+CB8+CJ8=0,IF(E8>0,X7,0),0),0)","v":0},{"$f":"G8*X8","v":{"v":0,"d":"0.00"}},{"$f":"IF($B8=1,$Y8,0)","v":{"v":0,"d":"0.00"}},{"$f":"IF($B8=2,$Y8,0)","v":{"v":0,"d":"0.00"}},{"$f":"IF($B8=3,$Y8,0)","v":{"v":0,"d":"0.00"}},{"$f":"IF($B8=4,$Y8,0)","v":{"v":0,"d":"0.00"}},{"$f":"IF($B8=5,$Y8,0)","v":{"v":0,"d":"0.00"}},{"$f":"IF($B8=6,$Y8,0)","v":{"v":0,"d":"0.00"}},{"$f":"IF(AF7>0,IF(H8+P8+X8+AN8+AV8+BD8+BL8+BT8+CB8+CJ8=0,IF(E8>0,AF7,0),0),0)","v":0},{"$f":"G8*AF8","v":{"v":0,"d":"0.00"}},{"$f":"IF($B8=1,$AG8,0)","v":{"v":0,"d":"0.00"}},{"$f":"IF($B8=2,$AG8,0)","v":{"v":0,"d":"0.00"}},{"$f":"IF($B8=3,$AG8,0)","v":{"v":0,"d":"0.00"}},{"$f":"IF($B8=4,$AG8,0)","v":{"v":0,"d":"0.00"}},{"$f":"IF($B8=5,$AG8,0)","v":{"v":0,"d":"0.00"}},{"$f":"IF($B8=6,$AG8,0)","v":{"v":0,"d":"0.00"}},{"$f":"IF(AN7>0,IF(H8+P8+X8+AF8+AV8+BD8+BL8+BT8+CB8+CJ8=0,IF(E8>0,AN7,0),0),0)","v":0},{"$f":"G8*AN8","v":{"v":0,"d":"0.00"}},{"$f":"IF($B8=1,$AO8,0)","v":{"v":0,"d":"0.00"}},{"$f":"IF($B8=2,$AO8,0)","v":{"v":0,"d":"0.00"}},{"$f":"IF($B8=3,$AO8,0)","v":{"v":0,"d":"0.00"}},{"$f":"IF($B8=4,$AO8,0)","v":{"v":0,"d":"0.00"}},{"$f":"IF($B8=5,$AO8,0)","v":{"v":0,"d":"0.00"}},{"$f":"IF($B8=6,$AO8,0)","v":{"v":0,"d":"0.00"}},{"$f":"IF(AV7>0,IF(H8+P8+X8+AF8+AN8+BD8+BL8+BT8+CB8+CJ8=0,IF(E8>0,AV7,0),0),0)","v":0},{"$f":"G8*AV8","v":{"v":0,"d":"0.00"}},{"$f":"IF($B8=1,$AW8,0)","v":{"v":0,"d":"0.00"}},{"$f":"IF($B8=2,$AW8,0)","v":{"v":0,"d":"0.00"}},{"$f":"IF($B8=3,$AW8,0)","v":{"v":0,"d":"0.00"}},{"$f":"IF($B8=4,$AW8,0)","v":{"v":0,"d":"0.00"}},{"$f":"IF($B8=5,$AW8,0)","v":{"v":0,"d":"0.00"}},{"$f":"IF($B8=6,$AW8,0)","v":{"v":0,"d":"0.00"}},{"$f":"IF(BD7>0,IF(H8+P8+X8+AF8+AN8+AV8+BL8+BT8+CB8+CJ8=0,IF(E8>0,BD7,0),0),0)","v":0},{"$f":"G8*BD8","v":{"v":0,"d":"0.00"}},{"$f":"IF($B8=1,$BE8,0)","v":{"v":0,"d":"0.00"}},{"$f":"IF($B8=2,$BE8,0)","v":{"v":0,"d":"0.00"}},{"$f":"IF($B8=3,$BE8,0)","v":{"v":0,"d":"0.00"}},{"$f":"IF($B8=4,$BE8,0)","v":{"v":0,"d":"0.00"}},{"$f":"IF($B8=5,$BE8,0)","v":{"v":0,"d":"0.00"}},{"$f":"IF($B8=6,$BE8,0)","v":{"v":0,"d":"0.00"}},{"$f":"IF(BL7>0,IF(H8+P8+X8+AF8+AN8+AV8+BD8+BT8+CB8+CJ8=0,IF(E8>0,BL7,0),0),0)","v":0},{"$f":"G8*BL8","v":{"v":0,"d":"0.00"}},{"$f":"IF($B8=1,$BM8,0)","v":{"v":0,"d":"0.00"}},{"$f":"IF($B8=2,$BM8,0)","v":{"v":0,"d":"0.00"}},{"$f":"IF($B8=3,$BM8,0)","v":{"v":0,"d":"0.00"}},{"$f":"IF($B8=4,$BM8,0)","v":{"v":0,"d":"0.00"}},{"$f":"IF($B8=5,$BM8,0)","v":{"v":0,"d":"0.00"}},{"$f":"IF($B8=6,$BM8,0)","v":{"v":0,"d":"0.00"}},{"$f":"IF(BT7>0,IF(H8+P8+X8+AF8+AN8+AV8+BD8+BL8+CB8+CJ8=0,IF(E8>0,BT7,0),0),0)","v":0},{"$f":"G8*BT8","v":{"v":0,"d":"0.00"}},{"$f":"IF($B8=1,$BU8,0)","v":{"v":0,"d":"0.00"}},{"$f":"IF($B8=2,$BU8,0)","v":{"v":0,"d":"0.00"}},{"$f":"IF($B8=3,$BU8,0)","v":{"v":0,"d":"0.00"}},{"$f":"IF($B8=4,$BU8,0)","v":{"v":0,"d":"0.00"}},{"$f":"IF($B8=5,$BU8,0)","v":{"v":0,"d":"0.00"}},{"$f":"IF($B8=6,$BU8,0)","v":{"v":0,"d":"0.00"}},{"$f":"IF(CB7>0,IF(H8+P8+X8+AF8+AN8+AV8+BD8+BL8+BT8+CJ8=0,IF(E8>0,CB7,0),0),0)","v":0},{"$f":"G8*CB8","v":{"v":0,"d":"0.00"}},{"$f":"IF($B8=1,$CC8,0)","v":{"v":0,"d":"0.00"}},{"$f":"IF($B8=2,$CC8,0)","v":{"v":0,"d":"0.00"}},{"$f":"IF($B8=3,$CC8,0)","v":{"v":0,"d":"0.00"}},{"$f":"IF($B8=4,$CC8,0)","v":{"v":0,"d":"0.00"}},{"$f":"IF($B8=5,$CC8,0)","v":{"v":0,"d":"0.00"}},{"$f":"IF($B8=6,$CC8,0)","v":{"v":0,"d":"0.00"}},{"$f":"IF(CJ7>0,IF(H8+P8+X8+AF8+AN8+AV8+BD8+BL8+BT8+CB8=0,IF(E8>0,CJ7,0),0),0)","v":0},{"$f":"G8*CJ8","v":{"v":0,"d":"0.00"}},{"$f":"IF($B8=1,$CK8,0)","v":{"v":0,"d":"0.00"}},{"$f":"IF($B8=2,$CK8,0)","v":{"v":0,"d":"0.00"}},{"$f":"IF($B8=3,$CK8,0)","v":{"v":0,"d":"0.00"}},{"$f":"IF($B8=4,$CK8,0)","v":{"v":0,"d":"0.00"}},{"$f":"IF($B8=5,$CK8,0)","v":{"v":0,"d":"0.00"}},{"$f":"IF($B8=6,$CK8,0)","v":{"v":0,"d":"0.00"}}]
[{"$f":"IF(C8<>C9,C9,\"\")","v":""},{"$f":"IF(C8<>C9,_xlfn.DAYS(C9,C8)+B8,B8)","v":1},{"$f":"IF(D9>0,IF(D9<E8,C8+1,C8),C8)","v":"2009-02-02"},{"$f":"IF((E9+H9+P9+X9+AF9+AN9+AV9+BD9+BL9+BT9+CB9+CJ9)>0,E8,0)","v":"00:00:00"},null,{"$f":"E9-D9","v":"00:00:00"},{"$f":"IF(E9>0,HOUR(F9)+(MINUTE(F9)/60),0)","v":0},{"$f":"IF(H8>0,IF(P9+X9+AF9+AN9+AV9+BD9+BL9+BT9+CB9+CJ9=0,IF(E9>0,H8,0),0),0)","v":0},{"$f":"G9*H9","v":{"v":0,"d":"0.00"}},{"$f":"IF($B9=1,$I9,0)","v":{"v":0,"d":"0.00"}},{"$f":"IF($B9=2,$I9,0)","v":{"v":0,"d":"0.00"}},{"$f":"IF($B9=3,$I9,0)","v":{"v":0,"d":"0.00"}},{"$f":"IF($B9=4,$I9,0)","v":{"v":0,"d":"0.00"}},{"$f":"IF($B9=5,$I9,0)","v":{"v":0,"d":"0.00"}},{"$f":"IF($B9=6,$I9,0)","v":{"v":0,"d":"0.00"}},{"$f":"IF(P8>0,IF(H9+X9+AF9+AN9+AV9+BD9+BL9+BT9+CB9+CJ9=0,IF(E9>0,P8,0),0),0)","v":0},{"$f":"G9*P9","v":{"v":0,"d":"0.00"}},{"$f":"IF(B9=1,Q9,0)","v":{"v":0,"d":"0.00"}},{"$f":"IF(B9=2,Q9,0)","v":{"v":0,"d":"0.00"}},{"$f":"IF(B9=3,Q9,0)","v":{"v":0,"d":"0.00"}},{"$f":"IF(B9=4,Q9,0)","v":{"v":0,"d":"0.00"}},{"$f":"IF(B9=5,Q9,0)","v":{"v":0,"d":"0.00"}},{"$f":"IF(B9=6,Q9,0)","v":{"v":0,"d":"0.00"}},{"$f":"IF(X8>0,IF(H9+P9+AF9+AN9+AV9+BD9+BL9+BT9+CB9+CJ9=0,IF(E9>0,X8,0),0),0)","v":0},{"$f":"G9*X9","v":{"v":0,"d":"0.00"}},{"$f":"IF($B9=1,$Y9,0)","v":{"v":0,"d":"0.00"}},{"$f":"IF($B9=2,$Y9,0)","v":{"v":0,"d":"0.00"}},{"$f":"IF($B9=3,$Y9,0)","v":{"v":0,"d":"0.00"}},{"$f":"IF($B9=4,$Y9,0)","v":{"v":0,"d":"0.00"}},{"$f":"IF($B9=5,$Y9,0)","v":{"v":0,"d":"0.00"}},{"$f":"IF($B9=6,$Y9,0)","v":{"v":0,"d":"0.00"}},{"$f":"IF(AF8>0,IF(H9+P9+X9+AN9+AV9+BD9+BL9+BT9+CB9+CJ9=0,IF(E9>0,AF8,0),0),0)","v":0},{"$f":"G9*AF9","v":{"v":0,"d":"0.00"}},{"$f":"IF($B9=1,$AG9,0)","v":{"v":0,"d":"0.00"}},{"$f":"IF($B9=2,$AG9,0)","v":{"v":0,"d":"0.00"}},{"$f":"IF($B9=3,$AG9,0)","v":{"v":0,"d":"0.00"}},{"$f":"IF($B9=4,$AG9,0)","v":{"v":0,"d":"0.00"}},{"$f":"IF($B9=5,$AG9,0)","v":{"v":0,"d":"0.00"}},{"$f":"IF($B9=6,$AG9,0)","v":{"v":0,"d":"0.00"}},{"$f":"IF(AN8>0,IF(H9+P9+X9+AF9+AV9+BD9+BL9+BT9+CB9+CJ9=0,IF(E9>0,AN8,0),0),0)","v":0},{"$f":"G9*AN9","v":{"v":0,"d":"0.00"}},{"$f":"IF($B9=1,$AO9,0)","v":{"v":0,"d":"0.00"}},{"$f":"IF($B9=2,$AO9,0)","v":{"v":0,"d":"0.00"}},{"$f":"IF($B9=3,$AO9,0)","v":{"v":0,"d":"0.00"}},{"$f":"IF($B9=4,$AO9,0)","v":{"v":0,"d":"0.00"}},{"$f":"IF($B9=5,$AO9,0)","v":{"v":0,"d":"0.00"}},{"$f":"IF($B9=6,$AO9,0)","v":{"v":0,"d":"0.00"}},{"$f":"IF(AV8>0,IF(H9+P9+X9+AF9+AN9+BD9+BL9+BT9+CB9+CJ9=0,IF(E9>0,AV8,0),0),0)","v":0},{"$f":"G9*AV9","v":{"v":0,"d":"0.00"}},{"$f":"IF($B9=1,$AW9,0)","v":{"v":0,"d":"0.00"}},{"$f":"IF($B9=2,$AW9,0)","v":{"v":0,"d":"0.00"}},{"$f":"IF($B9=3,$AW9,0)","v":{"v":0,"d":"0.00"}},{"$f":"IF($B9=4,$AW9,0)","v":{"v":0,"d":"0.00"}},{"$f":"IF($B9=5,$AW9,0)","v":{"v":0,"d":"0.00"}},{"$f":"IF($B9=6,$AW9,0)","v":{"v":0,"d":"0.00"}},{"$f":"IF(BD8>0,IF(H9+P9+X9+AF9+AN9+AV9+BL9+BT9+CB9+CJ9=0,IF(E9>0,BD8,0),0),0)","v":0},{"$f":"G9*BD9","v":{"v":0,"d":"0.00"}},{"$f":"IF($B9=1,$BE9,0)","v":{"v":0,"d":"0.00"}},{"$f":"IF($B9=2,$BE9,0)","v":{"v":0,"d":"0.00"}},{"$f":"IF($B9=3,$BE9,0)","v":{"v":0,"d":"0.00"}},{"$f":"IF($B9=4,$BE9,0)","v":{"v":0,"d":"0.00"}},{"$f":"IF($B9=5,$BE9,0)","v":{"v":0,"d":"0.00"}},{"$f":"IF($B9=6,$BE9,0)","v":{"v":0,"d":"0.00"}},{"$f":"IF(BL8>0,IF(H9+P9+X9+AF9+AN9+AV9+BD9+BT9+CB9+CJ9=0,IF(E9>0,BL8,0),0),0)","v":0},{"$f":"G9*BL9","v":{"v":0,"d":"0.00"}},{"$f":"IF($B9=1,$BM9,0)","v":{"v":0,"d":"0.00"}},{"$f":"IF($B9=2,$BM9,0)","v":{"v":0,"d":"0.00"}},{"$f":"IF($B9=3,$BM9,0)","v":{"v":0,"d":"0.00"}},{"$f":"IF($B9=4,$BM9,0)","v":{"v":0,"d":"0.00"}},{"$f":"IF($B9=5,$BM9,0)","v":{"v":0,"d":"0.00"}},{"$f":"IF($B9=6,$BM9,0)","v":{"v":0,"d":"0.00"}},{"$f":"IF(BT8>0,IF(H9+P9+X9+AF9+AN9+AV9+BD9+BL9+CB9+CJ9=0,IF(E9>0,BT8,0),0),0)","v":0},{"$f":"G9*BT9","v":{"v":0,"d":"0.00"}},{"$f":"IF($B9=1,$BU9,0)","v":{"v":0,"d":"0.00"}},{"$f":"IF($B9=2,$BU9,0)","v":{"v":0,"d":"0.00"}},{"$f":"IF($B9=3,$BU9,0)","v":{"v":0,"d":"0.00"}},{"$f":"IF($B9=4,$BU9,0)","v":{"v":0,"d":"0.00"}},{"$f":"IF($B9=5,$BU9,0)","v":{"v":0,"d":"0.00"}},{"$f":"IF($B9=6,$BU9,0)","v":{"v":0,"d":"0.00"}},{"$f":"IF(CB8>0,IF(H9+P9+X9+AF9+AN9+AV9+BD9+BL9+BT9+CJ9=0,IF(E9>0,CB8,0),0),0)","v":0},{"$f":"G9*CB9","v":{"v":0,"d":"0.00"}},{"$f":"IF($B9=1,$CC9,0)","v":{"v":0,"d":"0.00"}},{"$f":"IF($B9=2,$CC9,0)","v":{"v":0,"d":"0.00"}},{"$f":"IF($B9=3,$CC9,0)","v":{"v":0,"d":"0.00"}},{"$f":"IF($B9=4,$CC9,0)","v":{"v":0,"d":"0.00"}},{"$f":"IF($B9=5,$CC9,0)","v":{"v":0,"d":"0.00"}},{"$f":"IF($B9=6,$CC9,0)","v":{"v":0,"d":"0.00"}},{"$f":"IF(CJ8>0,IF(H9+P9+X9+AF9+AN9+AV9+BD9+BL9+BT9+CB9=0,IF(E9>0,CJ8,0),0),0)","v":0},{"$f":"G9*CJ9","v":{"v":0,"d":"0.00"}},{"$f":"IF($B9=1,$CK9,0)","v":{"v":0,"d":"0.00"}},{"$f":"IF($B9=2,$CK9,0)","v":{"v":0,"d":"0.00"}},{"$f":"IF($B9=3,$CK9,0)","v":{"v":0,"d":"0.00"}},{"$f":"IF($B9=4,$CK9,0)","v":{"v":0,"d":"0.00"}},{"$f":"IF($B9=5,$CK9,0)","v":{"v":0,"d":"0.00"}},{"$f":"IF($B9=6,$CK9,0)","v":{"v":0,"d":"0.00"}}]
[{"$f":"IF(C9<>C10,C10,\"\")","v":""},{"$f":"IF(C9<>C10,_xlfn.DAYS(C10,C9)+B9,B9)","v":1},{"$f":"IF(D10>0,IF(D10<E9,C9+1,C9),C9)","v":"2009-02-02"},{"$f":"IF((E10+H10+P10+X10+AF10+AN10+AV10+BD10+BL10+BT10+CB10+CJ10)>0,E9,0)","v":"00:00:00"},null,{"$f":"E10-D10","v":"00:00:00"},{"$f":"IF(E10>0,HOUR(F10)+(MINUTE(F10)/60),0)","v":0},{"$f":"IF(H9>0,IF(P10+X10+AF10+AN10+AV10+BD10+BL10+BT10+CB10+CJ10=0,IF(E10>0,H9,0),0),0)","v":0},{"$f":"G10*H10","v":{"v":0,"d":"0.00"}},{"$f":"IF($B10=1,$I10,0)","v":{"v":0,"d":"0.00"}},{"$f":"IF($B10=2,$I10,0)","v":{"v":0,"d":"0.00"}},{"$f":"IF($B10=3,$I10,0)","v":{"v":0,"d":"0.00"}},{"$f":"IF($B10=4,$I10,0)","v":{"v":0,"d":"0.00"}},{"$f":"IF($B10=5,$I10,0)","v":{"v":0,"d":"0.00"}},{"$f":"IF($B10=6,$I10,0)","v":{"v":0,"d":"0.00"}},{"$f":"IF(P9>0,IF(H10+X10+AF10+AN10+AV10+BD10+BL10+BT10+CB10+CJ10=0,IF(E10>0,P9,0),0),0)","v":0},{"$f":"G10*P10","v":{"v":0,"d":"0.00"}},{"$f":"IF(B10=1,Q10,0)","v":{"v":0,"d":"0.00"}},{"$f":"IF(B10=2,Q10,0)","v":{"v":0,"d":"0.00"}},{"$f":"IF(B10=3,Q10,0)","v":{"v":0,"d":"0.00"}},{"$f":"IF(B10=4,Q10,0)","v":{"v":0,"d":"0.00"}},{"$f":"IF(B10=5,Q10,0)","v":{"v":0,"d":"0.00"}},{"$f":"IF(B10=6,Q10,0)","v":{"v":0,"d":"0.00"}},{"$f":"IF(X9>0,IF(H10+P10+AF10+AN10+AV10+BD10+BL10+BT10+CB10+CJ10=0,IF(E10>0,X9,0),0),0)","v":0},{"$f":"G10*X10","v":{"v":0,"d":"0.00"}},{"$f":"IF($B10=1,$Y10,0)","v":{"v":0,"d":"0.00"}},{"$f":"IF($B10=2,$Y10,0)","v":{"v":0,"d":"0.00"}},{"$f":"IF($B10=3,$Y10,0)","v":{"v":0,"d":"0.00"}},{"$f":"IF($B10=4,$Y10,0)","v":{"v":0,"d":"0.00"}},{"$f":"IF($B10=5,$Y10,0)","v":{"v":0,"d":"0.00"}},{"$f":"IF($B10=6,$Y10,0)","v":{"v":0,"d":"0.00"}},{"$f":"IF(AF9>0,IF(H10+P10+X10+AN10+AV10+BD10+BL10+BT10+CB10+CJ10=0,IF(E10>0,AF9,0),0),0)","v":0},{"$f":"G10*AF10","v":{"v":0,"d":"0.00"}},{"$f":"IF($B10=1,$AG10,0)","v":{"v":0,"d":"0.00"}},{"$f":"IF($B10=2,$AG10,0)","v":{"v":0,"d":"0.00"}},{"$f":"IF($B10=3,$AG10,0)","v":{"v":0,"d":"0.00"}},{"$f":"IF($B10=4,$AG10,0)","v":{"v":0,"d":"0.00"}},{"$f":"IF($B10=5,$AG10,0)","v":{"v":0,"d":"0.00"}},{"$f":"IF($B10=6,$AG10,0)","v":{"v":0,"d":"0.00"}},{"$f":"IF(AN9>0,IF(H10+P10+X10+AF10+AV10+BD10+BL10+BT10+CB10+CJ10=0,IF(E10>0,AN9,0),0),0)","v":0},{"$f":"G10*AN10","v":{"v":0,"d":"0.00"}},{"$f":"IF($B10=1,$AO10,0)","v":{"v":0,"d":"0.00"}},{"$f":"IF($B10=2,$AO10,0)","v":{"v":0,"d":"0.00"}},{"$f":"IF($B10=3,$AO10,0)","v":{"v":0,"d":"0.00"}},{"$f":"IF($B10=4,$AO10,0)","v":{"v":0,"d":"0.00"}},{"$f":"IF($B10=5,$AO10,0)","v":{"v":0,"d":"0.00"}},{"$f":"IF($B10=6,$AO10,0)","v":{"v":0,"d":"0.00"}},{"$f":"IF(AV9>0,IF(H10+P10+X10+AF10+AN10+BD10+BL10+BT10+CB10+CJ10=0,IF(E10>0,AV9,0),0),0)","v":0},{"$f":"G10*AV10","v":{"v":0,"d":"0.00"}},{"$f":"IF($B10=1,$AW10,0)","v":{"v":0,"d":"0.00"}},{"$f":"IF($B10=2,$AW10,0)","v":{"v":0,"d":"0.00"}},{"$f":"IF($B10=3,$AW10,0)","v":{"v":0,"d":"0.00"}},{"$f":"IF($B10=4,$AW10,0)","v":{"v":0,"d":"0.00"}},{"$f":"IF($B10=5,$AW10,0)","v":{"v":0,"d":"0.00"}},{"$f":"IF($B10=6,$AW10,0)","v":{"v":0,"d":"0.00"}},{"$f":"IF(BD9>0,IF(H10+P10+X10+AF10+AN10+AV10+BL10+BT10+CB10+CJ10=0,IF(E10>0,BD9,0),0),0)","v":0},{"$f":"G10*BD10","v":{"v":0,"d":"0.00"}},{"$f":"IF($B10=1,$BE10,0)","v":{"v":0,"d":"0.00"}},{"$f":"IF($B10=2,$BE10,0)","v":{"v":0,"d":"0.00"}},{"$f":"IF($B10=3,$BE10,0)","v":{"v":0,"d":"0.00"}},{"$f":"IF($B10=4,$BE10,0)","v":{"v":0,"d":"0.00"}},{"$f":"IF($B10=5,$BE10,0)","v":{"v":0,"d":"0.00"}},{"$f":"IF($B10=6,$BE10,0)","v":{"v":0,"d":"0.00"}},{"$f":"IF(BL9>0,IF(H10+P10+X10+AF10+AN10+AV10+BD10+BT10+CB10+CJ10=0,IF(E10>0,BL9,0),0),0)","v":0},{"$f":"G10*BL10","v":{"v":0,"d":"0.00"}},{"$f":"IF($B10=1,$BM10,0)","v":{"v":0,"d":"0.00"}},{"$f":"IF($B10=2,$BM10,0)","v":{"v":0,"d":"0.00"}},{"$f":"IF($B10=3,$BM10,0)","v":{"v":0,"d":"0.00"}},{"$f":"IF($B10=4,$BM10,0)","v":{"v":0,"d":"0.00"}},{"$f":"IF($B10=5,$BM10,0)","v":{"v":0,"d":"0.00"}},{"$f":"IF($B10=6,$BM10,0)","v":{"v":0,"d":"0.00"}},{"$f":"IF(BT9>0,IF(H10+P10+X10+AF10+AN10+AV10+BD10+BL10+CB10+CJ10=0,IF(E10>0,BT9,0),0),0)","v":0},{"$f":"G10*BT10","v":{"v":0,"d":"0.00"}},{"$f":"IF($B10=1,$BU10,0)","v":{"v":0,"d":"0.00"}},{"$f":"IF($B10=2,$BU10,0)","v":{"v":0,"d":"0.00"}},{"$f":"IF($B10=3,$BU10,0)","v":{"v":0,"d":"0.00"}},{"$f":"IF($B10=4,$BU10,0)","v":{"v":0,"d":"0.00"}},{"$f":"IF($B10=5,$BU10,0)","v":{"v":0,"d":"0.00"}},{"$f":"IF($B10=6,$BU10,0)","v":{"v":0,"d":"0.00"}},{"$f":"IF(CB9>0,IF(H10+P10+X10+AF10+AN10+AV10+BD10+BL10+BT10+CJ10=0,IF(E10>0,CB9,0),0),0)","v":0},{"$f":"G10*CB10","v":{"v":0,"d":"0.00"}},{"$f":"IF($B10=1,$CC10,0)","v":{"v":0,"d":"0.00"}},{"$f":"IF($B10=2,$CC10,0)","v":{"v":0,"d":"0.00"}},{"$f":"IF($B10=3,$CC10,0)","v":{"v":0,"d":"0.00"}},{"$f":"IF($B10=4,$CC10,0)","v":{"v":0,"d":"0.00"}},{"$f":"IF($B10=5,$CC10,0)","v":{"v":0,"d":"0.00"}},{"$f":"IF($B10=6,$CC10,0)","v":{"v":0,"d":"0.00"}},{"$f":"IF(CJ9>0,IF(H10+P10+X10+AF10+AN10+AV10+BD10+BL10+BT10+CB10=0,IF(E10>0,CJ9,0),0),0)","v":0},{"$f":"G10*CJ10","v":{"v":0,"d":"0.00"}},{"$f":"IF($B10=1,$CK10,0)","v":{"v":0,"d":"0.00"}},{"$f":"IF($B10=2,$CK10,0)","v":{"v":0,"d":"0.00"}},{"$f":"IF($B10=3,$CK10,0)","v":{"v":0,"d":"0.00"}},{"$f":"IF($B10=4,$CK10,0)","v":{"v":0,"d":"0.00"}},{"$f":"IF($B10=5,$CK10,0)","v":{"v":0,"d":"0.00"}},{"$f":"IF($B10=6,$CK10,0)","v":{"v":0,"d":"0.00"}}]
[{"$f":"IF(C10<>C11,C11,\"\")","v":""},{"$f":"IF(C10<>C11,_xlfn.DAYS(C11,C10)+B10,B10)","v":1},{"$f":"IF(D11>0,IF(D11<E10,C10+1,C10),C10)","v":"2009-02-02"},{"$f":"IF((E11+H11+P11+X11+AF11+AN11+AV11+BD11+BL11+BT11+CB11+CJ11)>0,E10,0)","v":"00:00:00"},null,{"$f":"E11-D11","v":"00:00:00"},{"$f":"IF(E11>0,HOUR(F11)+(MINUTE(F11)/60),0)","v":0},{"$f":"IF(H10>0,IF(P11+X11+AF11+AN11+AV11+BD11+BL11+BT11+CB11+CJ11=0,IF(E11>0,H10,0),0),0)","v":0},{"$f":"G11*H11","v":{"v":0,"d":"0.00"}},{"$f":"IF($B11=1,$I11,0)","v":{"v":0,"d":"0.00"}},{"$f":"IF($B11=2,$I11,0)","v":{"v":0,"d":"0.00"}},{"$f":"IF($B11=3,$I11,0)","v":{"v":0,"d":"0.00"}},{"$f":"IF($B11=4,$I11,0)","v":{"v":0,"d":"0.00"}},{"$f":"IF($B11=5,$I11,0)","v":{"v":0,"d":"0.00"}},{"$f":"IF($B11=6,$I11,0)","v":{"v":0,"d":"0.00"}},{"$f":"IF(P10>0,IF(H11+X11+AF11+AN11+AV11+BD11+BL11+BT11+CB11+CJ11=0,IF(E11>0,P10,0),0),0)","v":0},{"$f":"G11*P11","v":{"v":0,"d":"0.00"}},{"$f":"IF(B11=1,Q11,0)","v":{"v":0,"d":"0.00"}},{"$f":"IF(B11=2,Q11,0)","v":{"v":0,"d":"0.00"}},{"$f":"IF(B11=3,Q11,0)","v":{"v":0,"d":"0.00"}},{"$f":"IF(B11=4,Q11,0)","v":{"v":0,"d":"0.00"}},{"$f":"IF(B11=5,Q11,0)","v":{"v":0,"d":"0.00"}},{"$f":"IF(B11=6,Q11,0)","v":{"v":0,"d":"0.00"}},{"$f":"IF(X10>0,IF(H11+P11+AF11+AN11+AV11+BD11+BL11+BT11+CB11+CJ11=0,IF(E11>0,X10,0),0),0)","v":0},{"$f":"G11*X11","v":{"v":0,"d":"0.00"}},{"$f":"IF($B11=1,$Y11,0)","v":{"v":0,"d":"0.00"}},{"$f":"IF($B11=2,$Y11,0)","v":{"v":0,"d":"0.00"}},{"$f":"IF($B11=3,$Y11,0)","v":{"v":0,"d":"0.00"}},{"$f":"IF($B11=4,$Y11,0)","v":{"v":0,"d":"0.00"}},{"$f":"IF($B11=5,$Y11,0)","v":{"v":0,"d":"0.00"}},{"$f":"IF($B11=6,$Y11,0)","v":{"v":0,"d":"0.00"}},{"$f":"IF(AF10>0,IF(H11+P11+X11+AN11+AV11+BD11+BL11+BT11+CB11+CJ11=0,IF(E11>0,AF10,0),0),0)","v":0},{"$f":"G11*AF11","v":{"v":0,"d":"0.00"}},{"$f":"IF($B11=1,$AG11,0)","v":{"v":0,"d":"0.00"}},{"$f":"IF($B11=2,$AG11,0)","v":{"v":0,"d":"0.00"}},{"$f":"IF($B11=3,$AG11,0)","v":{"v":0,"d":"0.00"}},{"$f":"IF($B11=4,$AG11,0)","v":{"v":0,"d":"0.00"}},{"$f":"IF($B11=5,$AG11,0)","v":{"v":0,"d":"0.00"}},{"$f":"IF($B11=6,$AG11,0)","v":{"v":0,"d":"0.00"}},{"$f":"IF(AN10>0,IF(H11+P11+X11+AF11+AV11+BD11+BL11+BT11+CB11+CJ11=0,IF(E11>0,AN10,0),0),0)","v":0},{"$f":"G11*AN11","v":{"v":0,"d":"0.00"}},{"$f":"IF($B11=1,$AO11,0)","v":{"v":0,"d":"0.00"}},{"$f":"IF($B11=2,$AO11,0)","v":{"v":0,"d":"0.00"}},{"$f":"IF($B11=3,$AO11,0)","v":{"v":0,"d":"0.00"}},{"$f":"IF($B11=4,$AO11,0)","v":{"v":0,"d":"0.00"}},{"$f":"IF($B11=5,$AO11,0)","v":{"v":0,"d":"0.00"}},{"$f":"IF($B11=6,$AO11,0)","v":{"v":0,"d":"0.00"}},{"$f":"IF(AV10>0,IF(H11+P11+X11+AF11+AN11+BD11+BL11+BT11+CB11+CJ11=0,IF(E11>0,AV10,0),0),0)","v":0},{"$f":"G11*AV11","v":{"v":0,"d":"0.00"}},{"$f":"IF($B11=1,$AW11,0)","v":{"v":0,"d":"0.00"}},{"$f":"IF($B11=2,$AW11,0)","v":{"v":0,"d":"0.00"}},{"$f":"IF($B11=3,$AW11,0)","v":{"v":0,"d":"0.00"}},{"$f":"IF($B11=4,$AW11,0)","v":{"v":0,"d":"0.00"}},{"$f":"IF($B11=5,$AW11,0)","v":{"v":0,"d":"0.00"}},{"$f":"IF($B11=6,$AW11,0)","v":{"v":0,"d":"0.00"}},{"$f":"IF(BD10>0,IF(H11+P11+X11+AF11+AN11+AV11+BL11+BT11+CB11+CJ11=0,IF(E11>0,BD10,0),0),0)","v":0},{"$f":"G11*BD11","v":{"v":0,"d":"0.00"}},{"$f":"IF($B11=1,$BE11,0)","v":{"v":0,"d":"0.00"}},{"$f":"IF($B11=2,$BE11,0)","v":{"v":0,"d":"0.00"}},{"$f":"IF($B11=3,$BE11,0)","v":{"v":0,"d":"0.00"}},{"$f":"IF($B11=4,$BE11,0)","v":{"v":0,"d":"0.00"}},{"$f":"IF($B11=5,$BE11,0)","v":{"v":0,"d":"0.00"}},{"$f":"IF($B11=6,$BE11,0)","v":{"v":0,"d":"0.00"}},{"$f":"IF(BL10>0,IF(H11+P11+X11+AF11+AN11+AV11+BD11+BT11+CB11+CJ11=0,IF(E11>0,BL10,0),0),0)","v":0},{"$f":"G11*BL11","v":{"v":0,"d":"0.00"}},{"$f":"IF($B11=1,$BM11,0)","v":{"v":0,"d":"0.00"}},{"$f":"IF($B11=2,$BM11,0)","v":{"v":0,"d":"0.00"}},{"$f":"IF($B11=3,$BM11,0)","v":{"v":0,"d":"0.00"}},{"$f":"IF($B11=4,$BM11,0)","v":{"v":0,"d":"0.00"}},{"$f":"IF($B11=5,$BM11,0)","v":{"v":0,"d":"0.00"}},{"$f":"IF($B11=6,$BM11,0)","v":{"v":0,"d":"0.00"}},{"$f":"IF(BT10>0,IF(H11+P11+X11+AF11+AN11+AV11+BD11+BL11+CB11+CJ11=0,IF(E11>0,BT10,0),0),0)","v":0},{"$f":"G11*BT11","v":{"v":0,"d":"0.00"}},{"$f":"IF($B11=1,$BU11,0)","v":{"v":0,"d":"0.00"}},{"$f":"IF($B11=2,$BU11,0)","v":{"v":0,"d":"0.00"}},{"$f":"IF($B11=3,$BU11,0)","v":{"v":0,"d":"0.00"}},{"$f":"IF($B11=4,$BU11,0)","v":{"v":0,"d":"0.00"}},{"$f":"IF($B11=5,$BU11,0)","v":{"v":0,"d":"0.00"}},{"$f":"IF($B11=6,$BU11,0)","v":{"v":0,"d":"0.00"}},{"$f":"IF(CB10>0,IF(H11+P11+X11+AF11+AN11+AV11+BD11+BL11+BT11+CJ11=0,IF(E11>0,CB10,0),0),0)","v":0},{"$f":"G11*CB11","v":{"v":0,"d":"0.00"}},{"$f":"IF($B11=1,$CC11,0)","v":{"v":0,"d":"0.00"}},{"$f":"IF($B11=2,$CC11,0)","v":{"v":0,"d":"0.00"}},{"$f":"IF($B11=3,$CC11,0)","v":{"v":0,"d":"0.00"}},{"$f":"IF($B11=4,$CC11,0)","v":{"v":0,"d":"0.00"}},{"$f":"IF($B11=5,$CC11,0)","v":{"v":0,"d":"0.00"}},{"$f":"IF($B11=6,$CC11,0)","v":{"v":0,"d":"0.00"}},{"$f":"IF(CJ10>0,IF(H11+P11+X11+AF11+AN11+AV11+BD11+BL11+BT11+CB11=0,IF(E11>0,CJ10,0),0),0)","v":0},{"$f":"G11*CJ11","v":{"v":0,"d":"0.00"}},{"$f":"IF($B11=1,$CK11,0)","v":{"v":0,"d":"0.00"}},{"$f":"IF($B11=2,$CK11,0)","v":{"v":0,"d":"0.00"}},{"$f":"IF($B11=3,$CK11,0)","v":{"v":0,"d":"0.00"}},{"$f":"IF($B11=4,$CK11,0)","v":{"v":0,"d":"0.00"}},{"$f":"IF($B11=5,$CK11,0)","v":{"v":0,"d":"0.00"}},{"$f":"IF($B11=6,$CK11,0)","v":{"v":0,"d":"0.00"}}]
[{"$f":"IF(C11<>C12,C12,\"\")","v":""},{"$f":"IF(C11<>C12,_xlfn.DAYS(C12,C11)+B11,B11)","v":1},{"$f":"IF(D12>0,IF(D12<E11,C11+1,C11),C11)","v":"2009-02-02"},{"$f":"IF((E12+H12+P12+X12+AF12+AN12+AV12+BD12+BL12+BT12+CB12+CJ12)>0,E11,0)","v":"00:00:00"},null,{"$f":"E12-D12","v":"00:00:00"},{"$f":"IF(E12>0,HOUR(F12)+(MINUTE(F12)/60),0)","v":0},{"$f":"IF(H11>0,IF(P12+X12+AF12+AN12+AV12+BD12+BL12+BT12+CB12+CJ12=0,IF(E12>0,H11,0),0),0)","v":0},{"$f":"G12*H12","v":{"v":0,"d":"0.00"}},{"$f":"IF($B12=1,$I12,0)","v":{"v":0,"d":"0.00"}},{"$f":"IF($B12=2,$I12,0)","v":{"v":0,"d":"0.00"}},{"$f":"IF($B12=3,$I12,0)","v":{"v":0,"d":"0.00"}},{"$f":"IF($B12=4,$I12,0)","v":{"v":0,"d":"0.00"}},{"$f":"IF($B12=5,$I12,0)","v":{"v":0,"d":"0.00"}},{"$f":"IF($B12=6,$I12,0)","v":{"v":0,"d":"0.00"}},{"$f":"IF(P11>0,IF(H12+X12+AF12+AN12+AV12+BD12+BL12+BT12+CB12+CJ12=0,IF(E12>0,P11,0),0),0)","v":0},{"$f":"G12*P12","v":{"v":0,"d":"0.00"}},{"$f":"IF(B12=1,Q12,0)","v":{"v":0,"d":"0.00"}},{"$f":"IF(B12=2,Q12,0)","v":{"v":0,"d":"0.00"}},{"$f":"IF(B12=3,Q12,0)","v":{"v":0,"d":"0.00"}},{"$f":"IF(B12=4,Q12,0)","v":{"v":0,"d":"0.00"}},{"$f":"IF(B12=5,Q12,0)","v":{"v":0,"d":"0.00"}},{"$f":"IF(B12=6,Q12,0)","v":{"v":0,"d":"0.00"}},{"$f":"IF(X11>0,IF(H12+P12+AF12+AN12+AV12+BD12+BL12+BT12+CB12+CJ12=0,IF(E12>0,X11,0),0),0)","v":0},{"$f":"G12*X12","v":{"v":0,"d":"0.00"}},{"$f":"IF($B12=1,$Y12,0)","v":{"v":0,"d":"0.00"}},{"$f":"IF($B12=2,$Y12,0)","v":{"v":0,"d":"0.00"}},{"$f":"IF($B12=3,$Y12,0)","v":{"v":0,"d":"0.00"}},{"$f":"IF($B12=4,$Y12,0)","v":{"v":0,"d":"0.00"}},{"$f":"IF($B12=5,$Y12,0)","v":{"v":0,"d":"0.00"}},{"$f":"IF($B12=6,$Y12,0)","v":{"v":0,"d":"0.00"}},{"$f":"IF(AF11>0,IF(H12+P12+X12+AN12+AV12+BD12+BL12+BT12+CB12+CJ12=0,IF(E12>0,AF11,0),0),0)","v":0},{"$f":"G12*AF12","v":{"v":0,"d":"0.00"}},{"$f":"IF($B12=1,$AG12,0)","v":{"v":0,"d":"0.00"}},{"$f":"IF($B12=2,$AG12,0)","v":{"v":0,"d":"0.00"}},{"$f":"IF($B12=3,$AG12,0)","v":{"v":0,"d":"0.00"}},{"$f":"IF($B12=4,$AG12,0)","v":{"v":0,"d":"0.00"}},{"$f":"IF($B12=5,$AG12,0)","v":{"v":0,"d":"0.00"}},{"$f":"IF($B12=6,$AG12,0)","v":{"v":0,"d":"0.00"}},{"$f":"IF(AN11>0,IF(H12+P12+X12+AF12+AV12+BD12+BL12+BT12+CB12+CJ12=0,IF(E12>0,AN11,0),0),0)","v":0},{"$f":"G12*AN12","v":{"v":0,"d":"0.00"}},{"$f":"IF($B12=1,$AO12,0)","v":{"v":0,"d":"0.00"}},{"$f":"IF($B12=2,$AO12,0)","v":{"v":0,"d":"0.00"}},{"$f":"IF($B12=3,$AO12,0)","v":{"v":0,"d":"0.00"}},{"$f":"IF($B12=4,$AO12,0)","v":{"v":0,"d":"0.00"}},{"$f":"IF($B12=5,$AO12,0)","v":{"v":0,"d":"0.00"}},{"$f":"IF($B12=6,$AO12,0)","v":{"v":0,"d":"0.00"}},{"$f":"IF(AV11>0,IF(H12+P12+X12+AF12+AN12+BD12+BL12+BT12+CB12+CJ12=0,IF(E12>0,AV11,0),0),0)","v":0},{"$f":"G12*AV12","v":{"v":0,"d":"0.00"}},{"$f":"IF($B12=1,$AW12,0)","v":{"v":0,"d":"0.00"}},{"$f":"IF($B12=2,$AW12,0)","v":{"v":0,"d":"0.00"}},{"$f":"IF($B12=3,$AW12,0)","v":{"v":0,"d":"0.00"}},{"$f":"IF($B12=4,$AW12,0)","v":{"v":0,"d":"0.00"}},{"$f":"IF($B12=5,$AW12,0)","v":{"v":0,"d":"0.00"}},{"$f":"IF($B12=6,$AW12,0)","v":{"v":0,"d":"0.00"}},{"$f":"IF(BD11>0,IF(H12+P12+X12+AF12+AN12+AV12+BL12+BT12+CB12+CJ12=0,IF(E12>0,BD11,0),0),0)","v":0},{"$f":"G12*BD12","v":{"v":0,"d":"0.00"}},{"$f":"IF($B12=1,$BE12,0)","v":{"v":0,"d":"0.00"}},{"$f":"IF($B12=2,$BE12,0)","v":{"v":0,"d":"0.00"}},{"$f":"IF($B12=3,$BE12,0)","v":{"v":0,"d":"0.00"}},{"$f":"IF($B12=4,$BE12,0)","v":{"v":0,"d":"0.00"}},{"$f":"IF($B12=5,$BE12,0)","v":{"v":0,"d":"0.00"}},{"$f":"IF($B12=6,$BE12,0)","v":{"v":0,"d":"0.00"}},{"$f":"IF(BL11>0,IF(H12+P12+X12+AF12+AN12+AV12+BD12+BT12+CB12+CJ12=0,IF(E12>0,BL11,0),0),0)","v":0},{"$f":"G12*BL12","v":{"v":0,"d":"0.00"}},{"$f":"IF($B12=1,$BM12,0)","v":{"v":0,"d":"0.00"}},{"$f":"IF($B12=2,$BM12,0)","v":{"v":0,"d":"0.00"}},{"$f":"IF($B12=3,$BM12,0)","v":{"v":0,"d":"0.00"}},{"$f":"IF($B12=4,$BM12,0)","v":{"v":0,"d":"0.00"}},{"$f":"IF($B12=5,$BM12,0)","v":{"v":0,"d":"0.00"}},{"$f":"IF($B12=6,$BM12,0)","v":{"v":0,"d":"0.00"}},{"$f":"IF(BT11>0,IF(H12+P12+X12+AF12+AN12+AV12+BD12+BL12+CB12+CJ12=0,IF(E12>0,BT11,0),0),0)","v":0},{"$f":"G12*BT12","v":{"v":0,"d":"0.00"}},{"$f":"IF($B12=1,$BU12,0)","v":{"v":0,"d":"0.00"}},{"$f":"IF($B12=2,$BU12,0)","v":{"v":0,"d":"0.00"}},{"$f":"IF($B12=3,$BU12,0)","v":{"v":0,"d":"0.00"}},{"$f":"IF($B12=4,$BU12,0)","v":{"v":0,"d":"0.00"}},{"$f":"IF($B12=5,$BU12,0)","v":{"v":0,"d":"0.00"}},{"$f":"IF($B12=6,$BU12,0)","v":{"v":0,"d":"0.00"}},{"$f":"IF(CB11>0,IF(H12+P12+X12+AF12+AN12+AV12+BD12+BL12+BT12+CJ12=0,IF(E12>0,CB11,0),0),0)","v":0},{"$f":"G12*CB12","v":{"v":0,"d":"0.00"}},{"$f":"IF($B12=1,$CC12,0)","v":{"v":0,"d":"0.00"}},{"$f":"IF($B12=2,$CC12,0)","v":{"v":0,"d":"0.00"}},{"$f":"IF($B12=3,$CC12,0)","v":{"v":0,"d":"0.00"}},{"$f":"IF($B12=4,$CC12,0)","v":{"v":0,"d":"0.00"}},{"$f":"IF($B12=5,$CC12,0)","v":{"v":0,"d":"0.00"}},{"$f":"IF($B12=6,$CC12,0)","v":{"v":0,"d":"0.00"}},{"$f":"IF(CJ11>0,IF(H12+P12+X12+AF12+AN12+AV12+BD12+BL12+BT12+CB12=0,IF(E12>0,CJ11,0),0),0)","v":0},{"$f":"G12*CJ12","v":{"v":0,"d":"0.00"}},{"$f":"IF($B12=1,$CK12,0)","v":{"v":0,"d":"0.00"}},{"$f":"IF($B12=2,$CK12,0)","v":{"v":0,"d":"0.00"}},{"$f":"IF($B12=3,$CK12,0)","v":{"v":0,"d":"0.00"}},{"$f":"IF($B12=4,$CK12,0)","v":{"v":0,"d":"0.00"}},{"$f":"IF($B12=5,$CK12,0)","v":{"v":0,"d":"0.00"}},{"$f":"IF($B12=6,$CK12,0)","v":{"v":0,"d":"0.00"}}]
[{"$f":"IF(C12<>C13,C13,\"\")","v":""},{"$f":"IF(C12<>C13,_xlfn.DAYS(C13,C12)+B12,B12)","v":1},{"$f":"IF(D13>0,IF(D13<E12,C12+1,C12),C12)","v":"2009-02-02"},{"$f":"IF((E13+H13+P13+X13+AF13+AN13+AV13+BD13+BL13+BT13+CB13+CJ13)>0,E12,0)","v":"00:00:00"},null,{"$f":"E13-D13","v":"00:00:00"},{"$f":"IF(E13>0,HOUR(F13)+(MINUTE(F13)/60),0)","v":0},{"$f":"IF(H12>0,IF(P13+X13+AF13+AN13+AV13+BD13+BL13+BT13+CB13+CJ13=0,IF(E13>0,H12,0),0),0)","v":0},{"$f":"G13*H13","v":{"v":0,"d":"0.00"}},{"$f":"IF($B13=1,$I13,0)","v":{"v":0,"d":"0.00"}},{"$f":"IF($B13=2,$I13,0)","v":{"v":0,"d":"0.00"}},{"$f":"IF($B13=3,$I13,0)","v":{"v":0,"d":"0.00"}},{"$f":"IF($B13=4,$I13,0)","v":{"v":0,"d":"0.00"}},{"$f":"IF($B13=5,$I13,0)","v":{"v":0,"d":"0.00"}},{"$f":"IF($B13=6,$I13,0)","v":{"v":0,"d":"0.00"}},{"$f":"IF(P12>0,IF(H13+X13+AF13+AN13+AV13+BD13+BL13+BT13+CB13+CJ13=0,IF(E13>0,P12,0),0),0)","v":0},{"$f":"G13*P13","v":{"v":0,"d":"0.00"}},{"$f":"IF(B13=1,Q13,0)","v":{"v":0,"d":"0.00"}},{"$f":"IF(B13=2,Q13,0)","v":{"v":0,"d":"0.00"}},{"$f":"IF(B13=3,Q13,0)","v":{"v":0,"d":"0.00"}},{"$f":"IF(B13=4,Q13,0)","v":{"v":0,"d":"0.00"}},{"$f":"IF(B13=5,Q13,0)","v":{"v":0,"d":"0.00"}},{"$f":"IF(B13=6,Q13,0)","v":{"v":0,"d":"0.00"}},{"$f":"IF(X12>0,IF(H13+P13+AF13+AN13+AV13+BD13+BL13+BT13+CB13+CJ13=0,IF(E13>0,X12,0),0),0)","v":0},{"$f":"G13*X13","v":{"v":0,"d":"0.00"}},{"$f":"IF($B13=1,$Y13,0)","v":{"v":0,"d":"0.00"}},{"$f":"IF($B13=2,$Y13,0)","v":{"v":0,"d":"0.00"}},{"$f":"IF($B13=3,$Y13,0)","v":{"v":0,"d":"0.00"}},{"$f":"IF($B13=4,$Y13,0)","v":{"v":0,"d":"0.00"}},{"$f":"IF($B13=5,$Y13,0)","v":{"v":0,"d":"0.00"}},{"$f":"IF($B13=6,$Y13,0)","v":{"v":0,"d":"0.00"}},{"$f":"IF(AF12>0,IF(H13+P13+X13+AN13+AV13+BD13+BL13+BT13+CB13+CJ13=0,IF(E13>0,AF12,0),0),0)","v":0},{"$f":"G13*AF13","v":{"v":0,"d":"0.00"}},{"$f":"IF($B13=1,$AG13,0)","v":{"v":0,"d":"0.00"}},{"$f":"IF($B13=2,$AG13,0)","v":{"v":0,"d":"0.00"}},{"$f":"IF($B13=3,$AG13,0)","v":{"v":0,"d":"0.00"}},{"$f":"IF($B13=4,$AG13,0)","v":{"v":0,"d":"0.00"}},{"$f":"IF($B13=5,$AG13,0)","v":{"v":0,"d":"0.00"}},{"$f":"IF($B13=6,$AG13,0)","v":{"v":0,"d":"0.00"}},{"$f":"IF(AN12>0,IF(H13+P13+X13+AF13+AV13+BD13+BL13+BT13+CB13+CJ13=0,IF(E13>0,AN12,0),0),0)","v":0},{"$f":"G13*AN13","v":{"v":0,"d":"0.00"}},{"$f":"IF($B13=1,$AO13,0)","v":{"v":0,"d":"0.00"}},{"$f":"IF($B13=2,$AO13,0)","v":{"v":0,"d":"0.00"}},{"$f":"IF($B13=3,$AO13,0)","v":{"v":0,"d":"0.00"}},{"$f":"IF($B13=4,$AO13,0)","v":{"v":0,"d":"0.00"}},{"$f":"IF($B13=5,$AO13,0)","v":{"v":0,"d":"0.00"}},{"$f":"IF($B13=6,$AO13,0)","v":{"v":0,"d":"0.00"}},{"$f":"IF(AV12>0,IF(H13+P13+X13+AF13+AN13+BD13+BL13+BT13+CB13+CJ13=0,IF(E13>0,AV12,0),0),0)","v":0},{"$f":"G13*AV13","v":{"v":0,"d":"0.00"}},{"$f":"IF($B13=1,$AW13,0)","v":{"v":0,"d":"0.00"}},{"$f":"IF($B13=2,$AW13,0)","v":{"v":0,"d":"0.00"}},{"$f":"IF($B13=3,$AW13,0)","v":{"v":0,"d":"0.00"}},{"$f":"IF($B13=4,$AW13,0)","v":{"v":0,"d":"0.00"}},{"$f":"IF($B13=5,$AW13,0)","v":{"v":0,"d":"0.00"}},{"$f":"IF($B13=6,$AW13,0)","v":{"v":0,"d":"0.00"}},{"$f":"IF(BD12>0,IF(H13+P13+X13+AF13+AN13+AV13+BL13+BT13+CB13+CJ13=0,IF(E13>0,BD12,0),0),0)","v":0},{"$f":"G13*BD13","v":{"v":0,"d":"0.00"}},{"$f":"IF($B13=1,$BE13,0)","v":{"v":0,"d":"0.00"}},{"$f":"IF($B13=2,$BE13,0)","v":{"v":0,"d":"0.00"}},{"$f":"IF($B13=3,$BE13,0)","v":{"v":0,"d":"0.00"}},{"$f":"IF($B13=4,$BE13,0)","v":{"v":0,"d":"0.00"}},{"$f":"IF($B13=5,$BE13,0)","v":{"v":0,"d":"0.00"}},{"$f":"IF($B13=6,$BE13,0)","v":{"v":0,"d":"0.00"}},{"$f":"IF(BL12>0,IF(H13+P13+X13+AF13+AN13+AV13+BD13+BT13+CB13+CJ13=0,IF(E13>0,BL12,0),0),0)","v":0},{"$f":"G13*BL13","v":{"v":0,"d":"0.00"}},{"$f":"IF($B13=1,$BM13,0)","v":{"v":0,"d":"0.00"}},{"$f":"IF($B13=2,$BM13,0)","v":{"v":0,"d":"0.00"}},{"$f":"IF($B13=3,$BM13,0)","v":{"v":0,"d":"0.00"}},{"$f":"IF($B13=4,$BM13,0)","v":{"v":0,"d":"0.00"}},{"$f":"IF($B13=5,$BM13,0)","v":{"v":0,"d":"0.00"}},{"$f":"IF($B13=6,$BM13,0)","v":{"v":0,"d":"0.00"}},{"$f":"IF(BT12>0,IF(H13+P13+X13+AF13+AN13+AV13+BD13+BL13+CB13+CJ13=0,IF(E13>0,BT12,0),0),0)","v":0},{"$f":"G13*BT13","v":{"v":0,"d":"0.00"}},{"$f":"IF($B13=1,$BU13,0)","v":{"v":0,"d":"0.00"}},{"$f":"IF($B13=2,$BU13,0)","v":{"v":0,"d":"0.00"}},{"$f":"IF($B13=3,$BU13,0)","v":{"v":0,"d":"0.00"}},{"$f":"IF($B13=4,$BU13,0)","v":{"v":0,"d":"0.00"}},{"$f":"IF($B13=5,$BU13,0)","v":{"v":0,"d":"0.00"}},{"$f":"IF($B13=6,$BU13,0)","v":{"v":0,"d":"0.00"}},{"$f":"IF(CB12>0,IF(H13+P13+X13+AF13+AN13+AV13+BD13+BL13+BT13+CJ13=0,IF(E13>0,CB12,0),0),0)","v":0},{"$f":"G13*CB13","v":{"v":0,"d":"0.00"}},{"$f":"IF($B13=1,$CC13,0)","v":{"v":0,"d":"0.00"}},{"$f":"IF($B13=2,$CC13,0)","v":{"v":0,"d":"0.00"}},{"$f":"IF($B13=3,$CC13,0)","v":{"v":0,"d":"0.00"}},{"$f":"IF($B13=4,$CC13,0)","v":{"v":0,"d":"0.00"}},{"$f":"IF($B13=5,$CC13,0)","v":{"v":0,"d":"0.00"}},{"$f":"IF($B13=6,$CC13,0)","v":{"v":0,"d":"0.00"}},{"$f":"IF(CJ12>0,IF(H13+P13+X13+AF13+AN13+AV13+BD13+BL13+BT13+CB13=0,IF(E13>0,CJ12,0),0),0)","v":0},{"$f":"G13*CJ13","v":{"v":0,"d":"0.00"}},{"$f":"IF($B13=1,$CK13,0)","v":{"v":0,"d":"0.00"}},{"$f":"IF($B13=2,$CK13,0)","v":{"v":0,"d":"0.00"}},{"$f":"IF($B13=3,$CK13,0)","v":{"v":0,"d":"0.00"}},{"$f":"IF($B13=4,$CK13,0)","v":{"v":0,"d":"0.00"}},{"$f":"IF($B13=5,$CK13,0)","v":{"v":0,"d":"0.00"}},{"$f":"IF($B13=6,$CK13,0)","v":{"v":0,"d":"0.00"}}]
[{"$f":"IF(C13<>C14,C14,\"\")","v":""},{"$f":"IF(C13<>C14,_xlfn.DAYS(C14,C13)+B13,B13)","v":1},{"$f":"IF(D14>0,IF(D14<E13,C13+1,C13),C13)","v":"2009-02-02"},{"$f":"IF((E14+H14+P14+X14+AF14+AN14+AV14+BD14+BL14+BT14+CB14+CJ14)>0,E13,0)","v":"00:00:00"},null,{"$f":"E14-D14","v":"00:00:00"},{"$f":"IF(E14>0,HOUR(F14)+(MINUTE(F14)/60),0)","v":0},{"$f":"IF(H13>0,IF(P14+X14+AF14+AN14+AV14+BD14+BL14+BT14+CB14+CJ14=0,IF(E14>0,H13,0),0),0)","v":0},{"$f":"G14*H14","v":{"v":0,"d":"0.00"}},{"$f":"IF($B14=1,$I14,0)","v":{"v":0,"d":"0.00"}},{"$f":"IF($B14=2,$I14,0)","v":{"v":0,"d":"0.00"}},{"$f":"IF($B14=3,$I14,0)","v":{"v":0,"d":"0.00"}},{"$f":"IF($B14=4,$I14,0)","v":{"v":0,"d":"0.00"}},{"$f":"IF($B14=5,$I14,0)","v":{"v":0,"d":"0.00"}},{"$f":"IF($B14=6,$I14,0)","v":{"v":0,"d":"0.00"}},{"$f":"IF(P13>0,IF(H14+X14+AF14+AN14+AV14+BD14+BL14+BT14+CB14+CJ14=0,IF(E14>0,P13,0),0),0)","v":0},{"$f":"G14*P14","v":{"v":0,"d":"0.00"}},{"$f":"IF(B14=1,Q14,0)","v":{"v":0,"d":"0.00"}},{"$f":"IF(B14=2,Q14,0)","v":{"v":0,"d":"0.00"}},{"$f":"IF(B14=3,Q14,0)","v":{"v":0,"d":"0.00"}},{"$f":"IF(B14=4,Q14,0)","v":{"v":0,"d":"0.00"}},{"$f":"IF(B14=5,Q14,0)","v":{"v":0,"d":"0.00"}},{"$f":"IF(B14=6,Q14,0)","v":{"v":0,"d":"0.00"}},{"$f":"IF(X13>0,IF(H14+P14+AF14+AN14+AV14+BD14+BL14+BT14+CB14+CJ14=0,IF(E14>0,X13,0),0),0)","v":0},{"$f":"G14*X14","v":{"v":0,"d":"0.00"}},{"$f":"IF($B14=1,$Y14,0)","v":{"v":0,"d":"0.00"}},{"$f":"IF($B14=2,$Y14,0)","v":{"v":0,"d":"0.00"}},{"$f":"IF($B14=3,$Y14,0)","v":{"v":0,"d":"0.00"}},{"$f":"IF($B14=4,$Y14,0)","v":{"v":0,"d":"0.00"}},{"$f":"IF($B14=5,$Y14,0)","v":{"v":0,"d":"0.00"}},{"$f":"IF($B14=6,$Y14,0)","v":{"v":0,"d":"0.00"}},{"$f":"IF(AF13>0,IF(H14+P14+X14+AN14+AV14+BD14+BL14+BT14+CB14+CJ14=0,IF(E14>0,AF13,0),0),0)","v":0},{"$f":"G14*AF14","v":{"v":0,"d":"0.00"}},{"$f":"IF($B14=1,$AG14,0)","v":{"v":0,"d":"0.00"}},{"$f":"IF($B14=2,$AG14,0)","v":{"v":0,"d":"0.00"}},{"$f":"IF($B14=3,$AG14,0)","v":{"v":0,"d":"0.00"}},{"$f":"IF($B14=4,$AG14,0)","v":{"v":0,"d":"0.00"}},{"$f":"IF($B14=5,$AG14,0)","v":{"v":0,"d":"0.00"}},{"$f":"IF($B14=6,$AG14,0)","v":{"v":0,"d":"0.00"}},{"$f":"IF(AN13>0,IF(H14+P14+X14+AF14+AV14+BD14+BL14+BT14+CB14+CJ14=0,IF(E14>0,AN13,0),0),0)","v":0},{"$f":"G14*AN14","v":{"v":0,"d":"0.00"}},{"$f":"IF($B14=1,$AO14,0)","v":{"v":0,"d":"0.00"}},{"$f":"IF($B14=2,$AO14,0)","v":{"v":0,"d":"0.00"}},{"$f":"IF($B14=3,$AO14,0)","v":{"v":0,"d":"0.00"}},{"$f":"IF($B14=4,$AO14,0)","v":{"v":0,"d":"0.00"}},{"$f":"IF($B14=5,$AO14,0)","v":{"v":0,"d":"0.00"}},{"$f":"IF($B14=6,$AO14,0)","v":{"v":0,"d":"0.00"}},{"$f":"IF(AV13>0,IF(H14+P14+X14+AF14+AN14+BD14+BL14+BT14+CB14+CJ14=0,IF(E14>0,AV13,0),0),0)","v":0},{"$f":"G14*AV14","v":{"v":0,"d":"0.00"}},{"$f":"IF($B14=1,$AW14,0)","v":{"v":0,"d":"0.00"}},{"$f":"IF($B14=2,$AW14,0)","v":{"v":0,"d":"0.00"}},{"$f":"IF($B14=3,$AW14,0)","v":{"v":0,"d":"0.00"}},{"$f":"IF($B14=4,$AW14,0)","v":{"v":0,"d":"0.00"}},{"$f":"IF($B14=5,$AW14,0)","v":{"v":0,"d":"0.00"}},{"$f":"IF($B14=6,$AW14,0)","v":{"v":0,"d":"0.00"}},{"$f":"IF(BD13>0,IF(H14+P14+X14+AF14+AN14+AV14+BL14+BT14+CB14+CJ14=0,IF(E14>0,BD13,0),0),0)","v":0},{"$f":"G14*BD14","v":{"v":0,"d":"0.00"}},{"$f":"IF($B14=1,$BE14,0)","v":{"v":0,"d":"0.00"}},{"$f":"IF($B14=2,$BE14,0)","v":{"v":0,"d":"0.00"}},{"$f":"IF($B14=3,$BE14,0)","v":{"v":0,"d":"0.00"}},{"$f":"IF($B14=4,$BE14,0)","v":{"v":0,"d":"0.00"}},{"$f":"IF($B14=5,$BE14,0)","v":{"v":0,"d":"0.00"}},{"$f":"IF($B14=6,$BE14,0)","v":{"v":0,"d":"0.00"}},{"$f":"IF(BL13>0,IF(H14+P14+X14+AF14+AN14+AV14+BD14+BT14+CB14+CJ14=0,IF(E14>0,BL13,0),0),0)","v":0},{"$f":"G14*BL14","v":{"v":0,"d":"0.00"}},{"$f":"IF($B14=1,$BM14,0)","v":{"v":0,"d":"0.00"}},{"$f":"IF($B14=2,$BM14,0)","v":{"v":0,"d":"0.00"}},{"$f":"IF($B14=3,$BM14,0)","v":{"v":0,"d":"0.00"}},{"$f":"IF($B14=4,$BM14,0)","v":{"v":0,"d":"0.00"}},{"$f":"IF($B14=5,$BM14,0)","v":{"v":0,"d":"0.00"}},{"$f":"IF($B14=6,$BM14,0)","v":{"v":0,"d":"0.00"}},{"$f":"IF(BT13>0,IF(H14+P14+X14+AF14+AN14+AV14+BD14+BL14+CB14+CJ14=0,IF(E14>0,BT13,0),0),0)","v":0},{"$f":"G14*BT14","v":{"v":0,"d":"0.00"}},{"$f":"IF($B14=1,$BU14,0)","v":{"v":0,"d":"0.00"}},{"$f":"IF($B14=2,$BU14,0)","v":{"v":0,"d":"0.00"}},{"$f":"IF($B14=3,$BU14,0)","v":{"v":0,"d":"0.00"}},{"$f":"IF($B14=4,$BU14,0)","v":{"v":0,"d":"0.00"}},{"$f":"IF($B14=5,$BU14,0)","v":{"v":0,"d":"0.00"}},{"$f":"IF($B14=6,$BU14,0)","v":{"v":0,"d":"0.00"}},{"$f":"IF(CB13>0,IF(H14+P14+X14+AF14+AN14+AV14+BD14+BL14+BT14+CJ14=0,IF(E14>0,CB13,0),0),0)","v":0},{"$f":"G14*CB14","v":{"v":0,"d":"0.00"}},{"$f":"IF($B14=1,$CC14,0)","v":{"v":0,"d":"0.00"}},{"$f":"IF($B14=2,$CC14,0)","v":{"v":0,"d":"0.00"}},{"$f":"IF($B14=3,$CC14,0)","v":{"v":0,"d":"0.00"}},{"$f":"IF($B14=4,$CC14,0)","v":{"v":0,"d":"0.00"}},{"$f":"IF($B14=5,$CC14,0)","v":{"v":0,"d":"0.00"}},{"$f":"IF($B14=6,$CC14,0)","v":{"v":0,"d":"0.00"}},{"$f":"IF(CJ13>0,IF(H14+P14+X14+AF14+AN14+AV14+BD14+BL14+BT14+CB14=0,IF(E14>0,CJ13,0),0),0)","v":0},{"$f":"G14*CJ14","v":{"v":0,"d":"0.00"}},{"$f":"IF($B14=1,$CK14,0)","v":{"v":0,"d":"0.00"}},{"$f":"IF($B14=2,$CK14,0)","v":{"v":0,"d":"0.00"}},{"$f":"IF($B14=3,$CK14,0)","v":{"v":0,"d":"0.00"}},{"$f":"IF($B14=4,$CK14,0)","v":{"v":0,"d":"0.00"}},{"$f":"IF($B14=5,$CK14,0)","v":{"v":0,"d":"0.00"}},{"$f":"IF($B14=6,$CK14,0)","v":{"v":0,"d":"0.00"}}]
[{"$f":"IF(C14<>C15,C15,\"\")","v":""},{"$f":"IF(C14<>C15,_xlfn.DAYS(C15,C14)+B14,B14)","v":1},{"$f":"IF(D15>0,IF(D15<E14,C14+1,C14),C14)","v":"2009-02-02"},{"$f":"IF((E15+H15+P15+X15+AF15+AN15+AV15+BD15+BL15+BT15+CB15+CJ15)>0,E14,0)","v":"00:00:00"},null,{"$f":"E15-D15","v":"00:00:00"},{"$f":"IF(E15>0,HOUR(F15)+(MINUTE(F15)/60),0)","v":0},{"$f":"IF(H14>0,IF(P15+X15+AF15+AN15+AV15+BD15+BL15+BT15+CB15+CJ15=0,IF(E15>0,H14,0),0),0)","v":0},{"$f":"G15*H15","v":{"v":0,"d":"0.00"}},{"$f":"IF($B15=1,$I15,0)","v":{"v":0,"d":"0.00"}},{"$f":"IF($B15=2,$I15,0)","v":{"v":0,"d":"0.00"}},{"$f":"IF($B15=3,$I15,0)","v":{"v":0,"d":"0.00"}},{"$f":"IF($B15=4,$I15,0)","v":{"v":0,"d":"0.00"}},{"$f":"IF($B15=5,$I15,0)","v":{"v":0,"d":"0.00"}},{"$f":"IF($B15=6,$I15,0)","v":{"v":0,"d":"0.00"}},{"$f":"IF(P14>0,IF(H15+X15+AF15+AN15+AV15+BD15+BL15+BT15+CB15+CJ15=0,IF(E15>0,P14,0),0),0)","v":0},{"$f":"G15*P15","v":{"v":0,"d":"0.00"}},{"$f":"IF(B15=1,Q15,0)","v":{"v":0,"d":"0.00"}},{"$f":"IF(B15=2,Q15,0)","v":{"v":0,"d":"0.00"}},{"$f":"IF(B15=3,Q15,0)","v":{"v":0,"d":"0.00"}},{"$f":"IF(B15=4,Q15,0)","v":{"v":0,"d":"0.00"}},{"$f":"IF(B15=5,Q15,0)","v":{"v":0,"d":"0.00"}},{"$f":"IF(B15=6,Q15,0)","v":{"v":0,"d":"0.00"}},{"$f":"IF(X14>0,IF(H15+P15+AF15+AN15+AV15+BD15+BL15+BT15+CB15+CJ15=0,IF(E15>0,X14,0),0),0)","v":0},{"$f":"G15*X15","v":{"v":0,"d":"0.00"}},{"$f":"IF($B15=1,$Y15,0)","v":{"v":0,"d":"0.00"}},{"$f":"IF($B15=2,$Y15,0)","v":{"v":0,"d":"0.00"}},{"$f":"IF($B15=3,$Y15,0)","v":{"v":0,"d":"0.00"}},{"$f":"IF($B15=4,$Y15,0)","v":{"v":0,"d":"0.00"}},{"$f":"IF($B15=5,$Y15,0)","v":{"v":0,"d":"0.00"}},{"$f":"IF($B15=6,$Y15,0)","v":{"v":0,"d":"0.00"}},{"$f":"IF(AF14>0,IF(H15+P15+X15+AN15+AV15+BD15+BL15+BT15+CB15+CJ15=0,IF(E15>0,AF14,0),0),0)","v":0},{"$f":"G15*AF15","v":{"v":0,"d":"0.00"}},{"$f":"IF($B15=1,$AG15,0)","v":{"v":0,"d":"0.00"}},{"$f":"IF($B15=2,$AG15,0)","v":{"v":0,"d":"0.00"}},{"$f":"IF($B15=3,$AG15,0)","v":{"v":0,"d":"0.00"}},{"$f":"IF($B15=4,$AG15,0)","v":{"v":0,"d":"0.00"}},{"$f":"IF($B15=5,$AG15,0)","v":{"v":0,"d":"0.00"}},{"$f":"IF($B15=6,$AG15,0)","v":{"v":0,"d":"0.00"}},{"$f":"IF(AN14>0,IF(H15+P15+X15+AF15+AV15+BD15+BL15+BT15+CB15+CJ15=0,IF(E15>0,AN14,0),0),0)","v":0},{"$f":"G15*AN15","v":{"v":0,"d":"0.00"}},{"$f":"IF($B15=1,$AO15,0)","v":{"v":0,"d":"0.00"}},{"$f":"IF($B15=2,$AO15,0)","v":{"v":0,"d":"0.00"}},{"$f":"IF($B15=3,$AO15,0)","v":{"v":0,"d":"0.00"}},{"$f":"IF($B15=4,$AO15,0)","v":{"v":0,"d":"0.00"}},{"$f":"IF($B15=5,$AO15,0)","v":{"v":0,"d":"0.00"}},{"$f":"IF($B15=6,$AO15,0)","v":{"v":0,"d":"0.00"}},{"$f":"IF(AV14>0,IF(H15+P15+X15+AF15+AN15+BD15+BL15+BT15+CB15+CJ15=0,IF(E15>0,AV14,0),0),0)","v":0},{"$f":"G15*AV15","v":{"v":0,"d":"0.00"}},{"$f":"IF($B15=1,$AW15,0)","v":{"v":0,"d":"0.00"}},{"$f":"IF($B15=2,$AW15,0)","v":{"v":0,"d":"0.00"}},{"$f":"IF($B15=3,$AW15,0)","v":{"v":0,"d":"0.00"}},{"$f":"IF($B15=4,$AW15,0)","v":{"v":0,"d":"0.00"}},{"$f":"IF($B15=5,$AW15,0)","v":{"v":0,"d":"0.00"}},{"$f":"IF($B15=6,$AW15,0)","v":{"v":0,"d":"0.00"}},{"$f":"IF(BD14>0,IF(H15+P15+X15+AF15+AN15+AV15+BL15+BT15+CB15+CJ15=0,IF(E15>0,BD14,0),0),0)","v":0},{"$f":"G15*BD15","v":{"v":0,"d":"0.00"}},{"$f":"IF($B15=1,$BE15,0)","v":{"v":0,"d":"0.00"}},{"$f":"IF($B15=2,$BE15,0)","v":{"v":0,"d":"0.00"}},{"$f":"IF($B15=3,$BE15,0)","v":{"v":0,"d":"0.00"}},{"$f":"IF($B15=4,$BE15,0)","v":{"v":0,"d":"0.00"}},{"$f":"IF($B15=5,$BE15,0)","v":{"v":0,"d":"0.00"}},{"$f":"IF($B15=6,$BE15,0)","v":{"v":0,"d":"0.00"}},{"$f":"IF(BL14>0,IF(H15+P15+X15+AF15+AN15+AV15+BD15+BT15+CB15+CJ15=0,IF(E15>0,BL14,0),0),0)","v":0},{"$f":"G15*BL15","v":{"v":0,"d":"0.00"}},{"$f":"IF($B15=1,$BM15,0)","v":{"v":0,"d":"0.00"}},{"$f":"IF($B15=2,$BM15,0)","v":{"v":0,"d":"0.00"}},{"$f":"IF($B15=3,$BM15,0)","v":{"v":0,"d":"0.00"}},{"$f":"IF($B15=4,$BM15,0)","v":{"v":0,"d":"0.00"}},{"$f":"IF($B15=5,$BM15,0)","v":{"v":0,"d":"0.00"}},{"$f":"IF($B15=6,$BM15,0)","v":{"v":0,"d":"0.00"}},{"$f":"IF(BT14>0,IF(H15+P15+X15+AF15+AN15+AV15+BD15+BL15+CB15+CJ15=0,IF(E15>0,BT14,0),0),0)","v":0},{"$f":"G15*BT15","v":{"v":0,"d":"0.00"}},{"$f":"IF($B15=1,$BU15,0)","v":{"v":0,"d":"0.00"}},{"$f":"IF($B15=2,$BU15,0)","v":{"v":0,"d":"0.00"}},{"$f":"IF($B15=3,$BU15,0)","v":{"v":0,"d":"0.00"}},{"$f":"IF($B15=4,$BU15,0)","v":{"v":0,"d":"0.00"}},{"$f":"IF($B15=5,$BU15,0)","v":{"v":0,"d":"0.00"}},{"$f":"IF($B15=6,$BU15,0)","v":{"v":0,"d":"0.00"}},{"$f":"IF(CB14>0,IF(H15+P15+X15+AF15+AN15+AV15+BD15+BL15+BT15+CJ15=0,IF(E15>0,CB14,0),0),0)","v":0},{"$f":"G15*CB15","v":{"v":0,"d":"0.00"}},{"$f":"IF($B15=1,$CC15,0)","v":{"v":0,"d":"0.00"}},{"$f":"IF($B15=2,$CC15,0)","v":{"v":0,"d":"0.00"}},{"$f":"IF($B15=3,$CC15,0)","v":{"v":0,"d":"0.00"}},{"$f":"IF($B15=4,$CC15,0)","v":{"v":0,"d":"0.00"}},{"$f":"IF($B15=5,$CC15,0)","v":{"v":0,"d":"0.00"}},{"$f":"IF($B15=6,$CC15,0)","v":{"v":0,"d":"0.00"}},{"$f":"IF(CJ14>0,IF(H15+P15+X15+AF15+AN15+AV15+BD15+BL15+BT15+CB15=0,IF(E15>0,CJ14,0),0),0)","v":0},{"$f":"G15*CJ15","v":{"v":0,"d":"0.00"}},{"$f":"IF($B15=1,$CK15,0)","v":{"v":0,"d":"0.00"}},{"$f":"IF($B15=2,$CK15,0)","v":{"v":0,"d":"0.00"}},{"$f":"IF($B15=3,$CK15,0)","v":{"v":0,"d":"0.00"}},{"$f":"IF($B15=4,$CK15,0)","v":{"v":0,"d":"0.00"}},{"$f":"IF($B15=5,$CK15,0)","v":{"v":0,"d":"0.00"}},{"$f":"IF($B15=6,$CK15,0)","v":{"v":0,"d":"0.00"}}]
[{"$f":"IF(C15<>C16,C16,\"\")","v":""},{"$f":"IF(C15<>C16,_xlfn.DAYS(C16,C15)+B15,B15)","v":1},{"$f":"IF(D16>0,IF(D16<E15,C15+1,C15),C15)","v":"2009-02-02"},{"$f":"IF((E16+H16+P16+X16+AF16+AN16+AV16+BD16+BL16+BT16+CB16+CJ16)>0,E15,0)","v":"00:00:00"},null,{"$f":"E16-D16","v":"00:00:00"},{"$f":"IF(E16>0,HOUR(F16)+(MINUTE(F16)/60),0)","v":0},{"$f":"IF(H15>0,IF(P16+X16+AF16+AN16+AV16+BD16+BL16+BT16+CB16+CJ16=0,IF(E16>0,H15,0),0),0)","v":0},{"$f":"G16*H16","v":{"v":0,"d":"0.00"}},{"$f":"IF($B16=1,$I16,0)","v":{"v":0,"d":"0.00"}},{"$f":"IF($B16=2,$I16,0)","v":{"v":0,"d":"0.00"}},{"$f":"IF($B16=3,$I16,0)","v":{"v":0,"d":"0.00"}},{"$f":"IF($B16=4,$I16,0)","v":{"v":0,"d":"0.00"}},{"$f":"IF($B16=5,$I16,0)","v":{"v":0,"d":"0.00"}},{"$f":"IF($B16=6,$I16,0)","v":{"v":0,"d":"0.00"}},{"$f":"IF(P15>0,IF(H16+X16+AF16+AN16+AV16+BD16+BL16+BT16+CB16+CJ16=0,IF(E16>0,P15,0),0),0)","v":0},{"$f":"G16*P16","v":{"v":0,"d":"0.00"}},{"$f":"IF(B16=1,Q16,0)","v":{"v":0,"d":"0.00"}},{"$f":"IF(B16=2,Q16,0)","v":{"v":0,"d":"0.00"}},{"$f":"IF(B16=3,Q16,0)","v":{"v":0,"d":"0.00"}},{"$f":"IF(B16=4,Q16,0)","v":{"v":0,"d":"0.00"}},{"$f":"IF(B16=5,Q16,0)","v":{"v":0,"d":"0.00"}},{"$f":"IF(B16=6,Q16,0)","v":{"v":0,"d":"0.00"}},{"$f":"IF(X15>0,IF(H16+P16+AF16+AN16+AV16+BD16+BL16+BT16+CB16+CJ16=0,IF(E16>0,X15,0),0),0)","v":0},{"$f":"G16*X16","v":{"v":0,"d":"0.00"}},{"$f":"IF($B16=1,$Y16,0)","v":{"v":0,"d":"0.00"}},{"$f":"IF($B16=2,$Y16,0)","v":{"v":0,"d":"0.00"}},{"$f":"IF($B16=3,$Y16,0)","v":{"v":0,"d":"0.00"}},{"$f":"IF($B16=4,$Y16,0)","v":{"v":0,"d":"0.00"}},{"$f":"IF($B16=5,$Y16,0)","v":{"v":0,"d":"0.00"}},{"$f":"IF($B16=6,$Y16,0)","v":{"v":0,"d":"0.00"}},{"$f":"IF(AF15>0,IF(H16+P16+X16+AN16+AV16+BD16+BL16+BT16+CB16+CJ16=0,IF(E16>0,AF15,0),0),0)","v":0},{"$f":"G16*AF16","v":{"v":0,"d":"0.00"}},{"$f":"IF($B16=1,$AG16,0)","v":{"v":0,"d":"0.00"}},{"$f":"IF($B16=2,$AG16,0)","v":{"v":0,"d":"0.00"}},{"$f":"IF($B16=3,$AG16,0)","v":{"v":0,"d":"0.00"}},{"$f":"IF($B16=4,$AG16,0)","v":{"v":0,"d":"0.00"}},{"$f":"IF($B16=5,$AG16,0)","v":{"v":0,"d":"0.00"}},{"$f":"IF($B16=6,$AG16,0)","v":{"v":0,"d":"0.00"}},{"$f":"IF(AN15>0,IF(H16+P16+X16+AF16+AV16+BD16+BL16+BT16+CB16+CJ16=0,IF(E16>0,AN15,0),0),0)","v":0},{"$f":"G16*AN16","v":{"v":0,"d":"0.00"}},{"$f":"IF($B16=1,$AO16,0)","v":{"v":0,"d":"0.00"}},{"$f":"IF($B16=2,$AO16,0)","v":{"v":0,"d":"0.00"}},{"$f":"IF($B16=3,$AO16,0)","v":{"v":0,"d":"0.00"}},{"$f":"IF($B16=4,$AO16,0)","v":{"v":0,"d":"0.00"}},{"$f":"IF($B16=5,$AO16,0)","v":{"v":0,"d":"0.00"}},{"$f":"IF($B16=6,$AO16,0)","v":{"v":0,"d":"0.00"}},{"$f":"IF(AV15>0,IF(H16+P16+X16+AF16+AN16+BD16+BL16+BT16+CB16+CJ16=0,IF(E16>0,AV15,0),0),0)","v":0},{"$f":"G16*AV16","v":{"v":0,"d":"0.00"}},{"$f":"IF($B16=1,$AW16,0)","v":{"v":0,"d":"0.00"}},{"$f":"IF($B16=2,$AW16,0)","v":{"v":0,"d":"0.00"}},{"$f":"IF($B16=3,$AW16,0)","v":{"v":0,"d":"0.00"}},{"$f":"IF($B16=4,$AW16,0)","v":{"v":0,"d":"0.00"}},{"$f":"IF($B16=5,$AW16,0)","v":{"v":0,"d":"0.00"}},{"$f":"IF($B16=6,$AW16,0)","v":{"v":0,"d":"0.00"}},{"$f":"IF(BD15>0,IF(H16+P16+X16+AF16+AN16+AV16+BL16+BT16+CB16+CJ16=0,IF(E16>0,BD15,0),0),0)","v":0},{"$f":"G16*BD16","v":{"v":0,"d":"0.00"}},{"$f":"IF($B16=1,$BE16,0)","v":{"v":0,"d":"0.00"}},{"$f":"IF($B16=2,$BE16,0)","v":{"v":0,"d":"0.00"}},{"$f":"IF($B16=3,$BE16,0)","v":{"v":0,"d":"0.00"}},{"$f":"IF($B16=4,$BE16,0)","v":{"v":0,"d":"0.00"}},{"$f":"IF($B16=5,$BE16,0)","v":{"v":0,"d":"0.00"}},{"$f":"IF($B16=6,$BE16,0)","v":{"v":0,"d":"0.00"}},{"$f":"IF(BL15>0,IF(H16+P16+X16+AF16+AN16+AV16+BD16+BT16+CB16+CJ16=0,IF(E16>0,BL15,0),0),0)","v":0},{"$f":"G16*BL16","v":{"v":0,"d":"0.00"}},{"$f":"IF($B16=1,$BM16,0)","v":{"v":0,"d":"0.00"}},{"$f":"IF($B16=2,$BM16,0)","v":{"v":0,"d":"0.00"}},{"$f":"IF($B16=3,$BM16,0)","v":{"v":0,"d":"0.00"}},{"$f":"IF($B16=4,$BM16,0)","v":{"v":0,"d":"0.00"}},{"$f":"IF($B16=5,$BM16,0)","v":{"v":0,"d":"0.00"}},{"$f":"IF($B16=6,$BM16,0)","v":{"v":0,"d":"0.00"}},{"$f":"IF(BT15>0,IF(H16+P16+X16+AF16+AN16+AV16+BD16+BL16+CB16+CJ16=0,IF(E16>0,BT15,0),0),0)","v":0},{"$f":"G16*BT16","v":{"v":0,"d":"0.00"}},{"$f":"IF($B16=1,$BU16,0)","v":{"v":0,"d":"0.00"}},{"$f":"IF($B16=2,$BU16,0)","v":{"v":0,"d":"0.00"}},{"$f":"IF($B16=3,$BU16,0)","v":{"v":0,"d":"0.00"}},{"$f":"IF($B16=4,$BU16,0)","v":{"v":0,"d":"0.00"}},{"$f":"IF($B16=5,$BU16,0)","v":{"v":0,"d":"0.00"}},{"$f":"IF($B16=6,$BU16,0)","v":{"v":0,"d":"0.00"}},{"$f":"IF(CB15>0,IF(H16+P16+X16+AF16+AN16+AV16+BD16+BL16+BT16+CJ16=0,IF(E16>0,CB15,0),0),0)","v":0},{"$f":"G16*CB16","v":{"v":0,"d":"0.00"}},{"$f":"IF($B16=1,$CC16,0)","v":{"v":0,"d":"0.00"}},{"$f":"IF($B16=2,$CC16,0)","v":{"v":0,"d":"0.00"}},{"$f":"IF($B16=3,$CC16,0)","v":{"v":0,"d":"0.00"}},{"$f":"IF($B16=4,$CC16,0)","v":{"v":0,"d":"0.00"}},{"$f":"IF($B16=5,$CC16,0)","v":{"v":0,"d":"0.00"}},{"$f":"IF($B16=6,$CC16,0)","v":{"v":0,"d":"0.00"}},{"$f":"IF(CJ15>0,IF(H16+P16+X16+AF16+AN16+AV16+BD16+BL16+BT16+CB16=0,IF(E16>0,CJ15,0),0),0)","v":0},{"$f":"G16*CJ16","v":{"v":0,"d":"0.00"}},{"$f":"IF($B16=1,$CK16,0)","v":{"v":0,"d":"0.00"}},{"$f":"IF($B16=2,$CK16,0)","v":{"v":0,"d":"0.00"}},{"$f":"IF($B16=3,$CK16,0)","v":{"v":0,"d":"0.00"}},{"$f":"IF($B16=4,$CK16,0)","v":{"v":0,"d":"0.00"}},{"$f":"IF($B16=5,$CK16,0)","v":{"v":0,"d":"0.00"}},{"$f":"IF($B16=6,$CK16,0)","v":{"v":0,"d":"0.00"}}]
[{"$f":"IF(C16<>C17,C17,\"\")","v":""},{"$f":"IF(C16<>C17,_xlfn.DAYS(C17,C16)+B16,B16)","v":1},{"$f":"IF(D17>0,IF(D17<E16,C16+1,C16),C16)","v":"2009-02-02"},{"$f":"IF((E17+H17+P17+X17+AF17+AN17+AV17+BD17+BL17+BT17+CB17+CJ17)>0,E16,0)","v":"00:00:00"},null,{"$f":"E17-D17","v":"00:00:00"},{"$f":"IF(E17>0,HOUR(F17)+(MINUTE(F17)/60),0)","v":0},{"$f":"IF(H16>0,IF(P17+X17+AF17+AN17+AV17+BD17+BL17+BT17+CB17+CJ17=0,IF(E17>0,H16,0),0),0)","v":0},{"$f":"G17*H17","v":{"v":0,"d":"0.00"}},{"$f":"IF($B17=1,$I17,0)","v":{"v":0,"d":"0.00"}},{"$f":"IF($B17=2,$I17,0)","v":{"v":0,"d":"0.00"}},{"$f":"IF($B17=3,$I17,0)","v":{"v":0,"d":"0.00"}},{"$f":"IF($B17=4,$I17,0)","v":{"v":0,"d":"0.00"}},{"$f":"IF($B17=5,$I17,0)","v":{"v":0,"d":"0.00"}},{"$f":"IF($B17=6,$I17,0)","v":{"v":0,"d":"0.00"}},{"$f":"IF(P16>0,IF(H17+X17+AF17+AN17+AV17+BD17+BL17+BT17+CB17+CJ17=0,IF(E17>0,P16,0),0),0)","v":0},{"$f":"G17*P17","v":{"v":0,"d":"0.00"}},{"$f":"IF(B17=1,Q17,0)","v":{"v":0,"d":"0.00"}},{"$f":"IF(B17=2,Q17,0)","v":{"v":0,"d":"0.00"}},{"$f":"IF(B17=3,Q17,0)","v":{"v":0,"d":"0.00"}},{"$f":"IF(B17=4,Q17,0)","v":{"v":0,"d":"0.00"}},{"$f":"IF(B17=5,Q17,0)","v":{"v":0,"d":"0.00"}},{"$f":"IF(B17=6,Q17,0)","v":{"v":0,"d":"0.00"}},{"$f":"IF(X16>0,IF(H17+P17+AF17+AN17+AV17+BD17+BL17+BT17+CB17+CJ17=0,IF(E17>0,X16,0),0),0)","v":0},{"$f":"G17*X17","v":{"v":0,"d":"0.00"}},{"$f":"IF($B17=1,$Y17,0)","v":{"v":0,"d":"0.00"}},{"$f":"IF($B17=2,$Y17,0)","v":{"v":0,"d":"0.00"}},{"$f":"IF($B17=3,$Y17,0)","v":{"v":0,"d":"0.00"}},{"$f":"IF($B17=4,$Y17,0)","v":{"v":0,"d":"0.00"}},{"$f":"IF($B17=5,$Y17,0)","v":{"v":0,"d":"0.00"}},{"$f":"IF($B17=6,$Y17,0)","v":{"v":0,"d":"0.00"}},{"$f":"IF(AF16>0,IF(H17+P17+X17+AN17+AV17+BD17+BL17+BT17+CB17+CJ17=0,IF(E17>0,AF16,0),0),0)","v":0},{"$f":"G17*AF17","v":{"v":0,"d":"0.00"}},{"$f":"IF($B17=1,$AG17,0)","v":{"v":0,"d":"0.00"}},{"$f":"IF($B17=2,$AG17,0)","v":{"v":0,"d":"0.00"}},{"$f":"IF($B17=3,$AG17,0)","v":{"v":0,"d":"0.00"}},{"$f":"IF($B17=4,$AG17,0)","v":{"v":0,"d":"0.00"}},{"$f":"IF($B17=5,$AG17,0)","v":{"v":0,"d":"0.00"}},{"$f":"IF($B17=6,$AG17,0)","v":{"v":0,"d":"0.00"}},{"$f":"IF(AN16>0,IF(H17+P17+X17+AF17+AV17+BD17+BL17+BT17+CB17+CJ17=0,IF(E17>0,AN16,0),0),0)","v":0},{"$f":"G17*AN17","v":{"v":0,"d":"0.00"}},{"$f":"IF($B17=1,$AO17,0)","v":{"v":0,"d":"0.00"}},{"$f":"IF($B17=2,$AO17,0)","v":{"v":0,"d":"0.00"}},{"$f":"IF($B17=3,$AO17,0)","v":{"v":0,"d":"0.00"}},{"$f":"IF($B17=4,$AO17,0)","v":{"v":0,"d":"0.00"}},{"$f":"IF($B17=5,$AO17,0)","v":{"v":0,"d":"0.00"}},{"$f":"IF($B17=6,$AO17,0)","v":{"v":0,"d":"0.00"}},{"$f":"IF(AV16>0,IF(H17+P17+X17+AF17+AN17+BD17+BL17+BT17+CB17+CJ17=0,IF(E17>0,AV16,0),0),0)","v":0},{"$f":"G17*AV17","v":{"v":0,"d":"0.00"}},{"$f":"IF($B17=1,$AW17,0)","v":{"v":0,"d":"0.00"}},{"$f":"IF($B17=2,$AW17,0)","v":{"v":0,"d":"0.00"}},{"$f":"IF($B17=3,$AW17,0)","v":{"v":0,"d":"0.00"}},{"$f":"IF($B17=4,$AW17,0)","v":{"v":0,"d":"0.00"}},{"$f":"IF($B17=5,$AW17,0)","v":{"v":0,"d":"0.00"}},{"$f":"IF($B17=6,$AW17,0)","v":{"v":0,"d":"0.00"}},{"$f":"IF(BD16>0,IF(H17+P17+X17+AF17+AN17+AV17+BL17+BT17+CB17+CJ17=0,IF(E17>0,BD16,0),0),0)","v":0},{"$f":"G17*BD17","v":{"v":0,"d":"0.00"}},{"$f":"IF($B17=1,$BE17,0)","v":{"v":0,"d":"0.00"}},{"$f":"IF($B17=2,$BE17,0)","v":{"v":0,"d":"0.00"}},{"$f":"IF($B17=3,$BE17,0)","v":{"v":0,"d":"0.00"}},{"$f":"IF($B17=4,$BE17,0)","v":{"v":0,"d":"0.00"}},{"$f":"IF($B17=5,$BE17,0)","v":{"v":0,"d":"0.00"}},{"$f":"IF($B17=6,$BE17,0)","v":{"v":0,"d":"0.00"}},{"$f":"IF(BL16>0,IF(H17+P17+X17+AF17+AN17+AV17+BD17+BT17+CB17+CJ17=0,IF(E17>0,BL16,0),0),0)","v":0},{"$f":"G17*BL17","v":{"v":0,"d":"0.00"}},{"$f":"IF($B17=1,$BM17,0)","v":{"v":0,"d":"0.00"}},{"$f":"IF($B17=2,$BM17,0)","v":{"v":0,"d":"0.00"}},{"$f":"IF($B17=3,$BM17,0)","v":{"v":0,"d":"0.00"}},{"$f":"IF($B17=4,$BM17,0)","v":{"v":0,"d":"0.00"}},{"$f":"IF($B17=5,$BM17,0)","v":{"v":0,"d":"0.00"}},{"$f":"IF($B17=6,$BM17,0)","v":{"v":0,"d":"0.00"}},{"$f":"IF(BT16>0,IF(H17+P17+X17+AF17+AN17+AV17+BD17+BL17+CB17+CJ17=0,IF(E17>0,BT16,0),0),0)","v":0},{"$f":"G17*BT17","v":{"v":0,"d":"0.00"}},{"$f":"IF($B17=1,$BU17,0)","v":{"v":0,"d":"0.00"}},{"$f":"IF($B17=2,$BU17,0)","v":{"v":0,"d":"0.00"}},{"$f":"IF($B17=3,$BU17,0)","v":{"v":0,"d":"0.00"}},{"$f":"IF($B17=4,$BU17,0)","v":{"v":0,"d":"0.00"}},{"$f":"IF($B17=5,$BU17,0)","v":{"v":0,"d":"0.00"}},{"$f":"IF($B17=6,$BU17,0)","v":{"v":0,"d":"0.00"}},{"$f":"IF(CB16>0,IF(H17+P17+X17+AF17+AN17+AV17+BD17+BL17+BT17+CJ17=0,IF(E17>0,CB16,0),0),0)","v":0},{"$f":"G17*CB17","v":{"v":0,"d":"0.00"}},{"$f":"IF($B17=1,$CC17,0)","v":{"v":0,"d":"0.00"}},{"$f":"IF($B17=2,$CC17,0)","v":{"v":0,"d":"0.00"}},{"$f":"IF($B17=3,$CC17,0)","v":{"v":0,"d":"0.00"}},{"$f":"IF($B17=4,$CC17,0)","v":{"v":0,"d":"0.00"}},{"$f":"IF($B17=5,$CC17,0)","v":{"v":0,"d":"0.00"}},{"$f":"IF($B17=6,$CC17,0)","v":{"v":0,"d":"0.00"}},{"$f":"IF(CJ16>0,IF(H17+P17+X17+AF17+AN17+AV17+BD17+BL17+BT17+CB17=0,IF(E17>0,CJ16,0),0),0)","v":0},{"$f":"G17*CJ17","v":{"v":0,"d":"0.00"}},{"$f":"IF($B17=1,$CK17,0)","v":{"v":0,"d":"0.00"}},{"$f":"IF($B17=2,$CK17,0)","v":{"v":0,"d":"0.00"}},{"$f":"IF($B17=3,$CK17,0)","v":{"v":0,"d":"0.00"}},{"$f":"IF($B17=4,$CK17,0)","v":{"v":0,"d":"0.00"}},{"$f":"IF($B17=5,$CK17,0)","v":{"v":0,"d":"0.00"}},{"$f":"IF($B17=6,$CK17,0)","v":{"v":0,"d":"0.00"}}]
[{"$f":"IF(C17<>C18,C18,\"\")","v":""},{"$f":"IF(C17<>C18,_xlfn.DAYS(C18,C17)+B17,B17)","v":1},{"$f":"IF(D18>0,IF(D18<E17,C17+1,C17),C17)","v":"2009-02-02"},{"$f":"IF((E18+H18+P18+X18+AF18+AN18+AV18+BD18+BL18+BT18+CB18+CJ18)>0,E17,0)","v":"00:00:00"},null,{"$f":"E18-D18","v":"00:00:00"},{"$f":"IF(E18>0,HOUR(F18)+(MINUTE(F18)/60),0)","v":0},{"$f":"IF(H17>0,IF(P18+X18+AF18+AN18+AV18+BD18+BL18+BT18+CB18+CJ18=0,IF(E18>0,H17,0),0),0)","v":0},{"$f":"G18*H18","v":{"v":0,"d":"0.00"}},{"$f":"IF($B18=1,$I18,0)","v":{"v":0,"d":"0.00"}},{"$f":"IF($B18=2,$I18,0)","v":{"v":0,"d":"0.00"}},{"$f":"IF($B18=3,$I18,0)","v":{"v":0,"d":"0.00"}},{"$f":"IF($B18=4,$I18,0)","v":{"v":0,"d":"0.00"}},{"$f":"IF($B18=5,$I18,0)","v":{"v":0,"d":"0.00"}},{"$f":"IF($B18=6,$I18,0)","v":{"v":0,"d":"0.00"}},{"$f":"IF(P17>0,IF(H18+X18+AF18+AN18+AV18+BD18+BL18+BT18+CB18+CJ18=0,IF(E18>0,P17,0),0),0)","v":0},{"$f":"G18*P18","v":{"v":0,"d":"0.00"}},{"$f":"IF(B18=1,Q18,0)","v":{"v":0,"d":"0.00"}},{"$f":"IF(B18=2,Q18,0)","v":{"v":0,"d":"0.00"}},{"$f":"IF(B18=3,Q18,0)","v":{"v":0,"d":"0.00"}},{"$f":"IF(B18=4,Q18,0)","v":{"v":0,"d":"0.00"}},{"$f":"IF(B18=5,Q18,0)","v":{"v":0,"d":"0.00"}},{"$f":"IF(B18=6,Q18,0)","v":{"v":0,"d":"0.00"}},{"$f":"IF(X17>0,IF(H18+P18+AF18+AN18+AV18+BD18+BL18+BT18+CB18+CJ18=0,IF(E18>0,X17,0),0),0)","v":0},{"$f":"G18*X18","v":{"v":0,"d":"0.00"}},{"$f":"IF($B18=1,$Y18,0)","v":{"v":0,"d":"0.00"}},{"$f":"IF($B18=2,$Y18,0)","v":{"v":0,"d":"0.00"}},{"$f":"IF($B18=3,$Y18,0)","v":{"v":0,"d":"0.00"}},{"$f":"IF($B18=4,$Y18,0)","v":{"v":0,"d":"0.00"}},{"$f":"IF($B18=5,$Y18,0)","v":{"v":0,"d":"0.00"}},{"$f":"IF($B18=6,$Y18,0)","v":{"v":0,"d":"0.00"}},{"$f":"IF(AF17>0,IF(H18+P18+X18+AN18+AV18+BD18+BL18+BT18+CB18+CJ18=0,IF(E18>0,AF17,0),0),0)","v":0},{"$f":"G18*AF18","v":{"v":0,"d":"0.00"}},{"$f":"IF($B18=1,$AG18,0)","v":{"v":0,"d":"0.00"}},{"$f":"IF($B18=2,$AG18,0)","v":{"v":0,"d":"0.00"}},{"$f":"IF($B18=3,$AG18,0)","v":{"v":0,"d":"0.00"}},{"$f":"IF($B18=4,$AG18,0)","v":{"v":0,"d":"0.00"}},{"$f":"IF($B18=5,$AG18,0)","v":{"v":0,"d":"0.00"}},{"$f":"IF($B18=6,$AG18,0)","v":{"v":0,"d":"0.00"}},{"$f":"IF(AN17>0,IF(H18+P18+X18+AF18+AV18+BD18+BL18+BT18+CB18+CJ18=0,IF(E18>0,AN17,0),0),0)","v":0},{"$f":"G18*AN18","v":{"v":0,"d":"0.00"}},{"$f":"IF($B18=1,$AO18,0)","v":{"v":0,"d":"0.00"}},{"$f":"IF($B18=2,$AO18,0)","v":{"v":0,"d":"0.00"}},{"$f":"IF($B18=3,$AO18,0)","v":{"v":0,"d":"0.00"}},{"$f":"IF($B18=4,$AO18,0)","v":{"v":0,"d":"0.00"}},{"$f":"IF($B18=5,$AO18,0)","v":{"v":0,"d":"0.00"}},{"$f":"IF($B18=6,$AO18,0)","v":{"v":0,"d":"0.00"}},{"$f":"IF(AV17>0,IF(H18+P18+X18+AF18+AN18+BD18+BL18+BT18+CB18+CJ18=0,IF(E18>0,AV17,0),0),0)","v":0},{"$f":"G18*AV18","v":{"v":0,"d":"0.00"}},{"$f":"IF($B18=1,$AW18,0)","v":{"v":0,"d":"0.00"}},{"$f":"IF($B18=2,$AW18,0)","v":{"v":0,"d":"0.00"}},{"$f":"IF($B18=3,$AW18,0)","v":{"v":0,"d":"0.00"}},{"$f":"IF($B18=4,$AW18,0)","v":{"v":0,"d":"0.00"}},{"$f":"IF($B18=5,$AW18,0)","v":{"v":0,"d":"0.00"}},{"$f":"IF($B18=6,$AW18,0)","v":{"v":0,"d":"0.00"}},{"$f":"IF(BD17>0,IF(H18+P18+X18+AF18+AN18+AV18+BL18+BT18+CB18+CJ18=0,IF(E18>0,BD17,0),0),0)","v":0},{"$f":"G18*BD18","v":{"v":0,"d":"0.00"}},{"$f":"IF($B18=1,$BE18,0)","v":{"v":0,"d":"0.00"}},{"$f":"IF($B18=2,$BE18,0)","v":{"v":0,"d":"0.00"}},{"$f":"IF($B18=3,$BE18,0)","v":{"v":0,"d":"0.00"}},{"$f":"IF($B18=4,$BE18,0)","v":{"v":0,"d":"0.00"}},{"$f":"IF($B18=5,$BE18,0)","v":{"v":0,"d":"0.00"}},{"$f":"IF($B18=6,$BE18,0)","v":{"v":0,"d":"0.00"}},{"$f":"IF(BL17>0,IF(H18+P18+X18+AF18+AN18+AV18+BD18+BT18+CB18+CJ18=0,IF(E18>0,BL17,0),0),0)","v":0},{"$f":"G18*BL18","v":{"v":0,"d":"0.00"}},{"$f":"IF($B18=1,$BM18,0)","v":{"v":0,"d":"0.00"}},{"$f":"IF($B18=2,$BM18,0)","v":{"v":0,"d":"0.00"}},{"$f":"IF($B18=3,$BM18,0)","v":{"v":0,"d":"0.00"}},{"$f":"IF($B18=4,$BM18,0)","v":{"v":0,"d":"0.00"}},{"$f":"IF($B18=5,$BM18,0)","v":{"v":0,"d":"0.00"}},{"$f":"IF($B18=6,$BM18,0)","v":{"v":0,"d":"0.00"}},{"$f":"IF(BT17>0,IF(H18+P18+X18+AF18+AN18+AV18+BD18+BL18+CB18+CJ18=0,IF(E18>0,BT17,0),0),0)","v":0},{"$f":"G18*BT18","v":{"v":0,"d":"0.00"}},{"$f":"IF($B18=1,$BU18,0)","v":{"v":0,"d":"0.00"}},{"$f":"IF($B18=2,$BU18,0)","v":{"v":0,"d":"0.00"}},{"$f":"IF($B18=3,$BU18,0)","v":{"v":0,"d":"0.00"}},{"$f":"IF($B18=4,$BU18,0)","v":{"v":0,"d":"0.00"}},{"$f":"IF($B18=5,$BU18,0)","v":{"v":0,"d":"0.00"}},{"$f":"IF($B18=6,$BU18,0)","v":{"v":0,"d":"0.00"}},{"$f":"IF(CB17>0,IF(H18+P18+X18+AF18+AN18+AV18+BD18+BL18+BT18+CJ18=0,IF(E18>0,CB17,0),0),0)","v":0},{"$f":"G18*CB18","v":{"v":0,"d":"0.00"}},{"$f":"IF($B18=1,$CC18,0)","v":{"v":0,"d":"0.00"}},{"$f":"IF($B18=2,$CC18,0)","v":{"v":0,"d":"0.00"}},{"$f":"IF($B18=3,$CC18,0)","v":{"v":0,"d":"0.00"}},{"$f":"IF($B18=4,$CC18,0)","v":{"v":0,"d":"0.00"}},{"$f":"IF($B18=5,$CC18,0)","v":{"v":0,"d":"0.00"}},{"$f":"IF($B18=6,$CC18,0)","v":{"v":0,"d":"0.00"}},{"$f":"IF(CJ17>0,IF(H18+P18+X18+AF18+AN18+AV18+BD18+BL18+BT18+CB18=0,IF(E18>0,CJ17,0),0),0)","v":0},{"$f":"G18*CJ18","v":{"v":0,"d":"0.00"}},{"$f":"IF($B18=1,$CK18,0)","v":{"v":0,"d":"0.00"}},{"$f":"IF($B18=2,$CK18,0)","v":{"v":0,"d":"0.00"}},{"$f":"IF($B18=3,$CK18,0)","v":{"v":0,"d":"0.00"}},{"$f":"IF($B18=4,$CK18,0)","v":{"v":0,"d":"0.00"}},{"$f":"IF($B18=5,$CK18,0)","v":{"v":0,"d":"0.00"}},{"$f":"IF($B18=6,$CK18,0)","v":{"v":0,"d":"0.00"}}]
[{"$f":"IF(C18<>C19,C19,\"\")","v":""},{"$f":"IF(C18<>C19,_xlfn.DAYS(C19,C18)+B18,B18)","v":1},{"$f":"IF(D19>0,IF(D19<E18,C18+1,C18),C18)","v":"2009-02-02"},{"$f":"IF((E19+H19+P19+X19+AF19+AN19+AV19+BD19+BL19+BT19+CB19+CJ19)>0,E18,0)","v":"00:00:00"},null,{"$f":"E19-D19","v":"00:00:00"},{"$f":"IF(E19>0,HOUR(F19)+(MINUTE(F19)/60),0)","v":0},{"$f":"IF(H18>0,IF(P19+X19+AF19+AN19+AV19+BD19+BL19+BT19+CB19+CJ19=0,IF(E19>0,H18,0),0),0)","v":0},{"$f":"G19*H19","v":{"v":0,"d":"0.00"}},{"$f":"IF($B19=1,$I19,0)","v":{"v":0,"d":"0.00"}},{"$f":"IF($B19=2,$I19,0)","v":{"v":0,"d":"0.00"}},{"$f":"IF($B19=3,$I19,0)","v":{"v":0,"d":"0.00"}},{"$f":"IF($B19=4,$I19,0)","v":{"v":0,"d":"0.00"}},{"$f":"IF($B19=5,$I19,0)","v":{"v":0,"d":"0.00"}},{"$f":"IF($B19=6,$I19,0)","v":{"v":0,"d":"0.00"}},{"$f":"IF(P18>0,IF(H19+X19+AF19+AN19+AV19+BD19+BL19+BT19+CB19+CJ19=0,IF(E19>0,P18,0),0),0)","v":0},{"$f":"G19*P19","v":{"v":0,"d":"0.00"}},{"$f":"IF(B19=1,Q19,0)","v":{"v":0,"d":"0.00"}},{"$f":"IF(B19=2,Q19,0)","v":{"v":0,"d":"0.00"}},{"$f":"IF(B19=3,Q19,0)","v":{"v":0,"d":"0.00"}},{"$f":"IF(B19=4,Q19,0)","v":{"v":0,"d":"0.00"}},{"$f":"IF(B19=5,Q19,0)","v":{"v":0,"d":"0.00"}},{"$f":"IF(B19=6,Q19,0)","v":{"v":0,"d":"0.00"}},{"$f":"IF(X18>0,IF(H19+P19+AF19+AN19+AV19+BD19+BL19+BT19+CB19+CJ19=0,IF(E19>0,X18,0),0),0)","v":0},{"$f":"G19*X19","v":{"v":0,"d":"0.00"}},{"$f":"IF($B19=1,$Y19,0)","v":{"v":0,"d":"0.00"}},{"$f":"IF($B19=2,$Y19,0)","v":{"v":0,"d":"0.00"}},{"$f":"IF($B19=3,$Y19,0)","v":{"v":0,"d":"0.00"}},{"$f":"IF($B19=4,$Y19,0)","v":{"v":0,"d":"0.00"}},{"$f":"IF($B19=5,$Y19,0)","v":{"v":0,"d":"0.00"}},{"$f":"IF($B19=6,$Y19,0)","v":{"v":0,"d":"0.00"}},{"$f":"IF(AF18>0,IF(H19+P19+X19+AN19+AV19+BD19+BL19+BT19+CB19+CJ19=0,IF(E19>0,AF18,0),0),0)","v":0},{"$f":"G19*AF19","v":{"v":0,"d":"0.00"}},{"$f":"IF($B19=1,$AG19,0)","v":{"v":0,"d":"0.00"}},{"$f":"IF($B19=2,$AG19,0)","v":{"v":0,"d":"0.00"}},{"$f":"IF($B19=3,$AG19,0)","v":{"v":0,"d":"0.00"}},{"$f":"IF($B19=4,$AG19,0)","v":{"v":0,"d":"0.00"}},{"$f":"IF($B19=5,$AG19,0)","v":{"v":0,"d":"0.00"}},{"$f":"IF($B19=6,$AG19,0)","v":{"v":0,"d":"0.00"}},{"$f":"IF(AN18>0,IF(H19+P19+X19+AF19+AV19+BD19+BL19+BT19+CB19+CJ19=0,IF(E19>0,AN18,0),0),0)","v":0},{"$f":"G19*AN19","v":{"v":0,"d":"0.00"}},{"$f":"IF($B19=1,$AO19,0)","v":{"v":0,"d":"0.00"}},{"$f":"IF($B19=2,$AO19,0)","v":{"v":0,"d":"0.00"}},{"$f":"IF($B19=3,$AO19,0)","v":{"v":0,"d":"0.00"}},{"$f":"IF($B19=4,$AO19,0)","v":{"v":0,"d":"0.00"}},{"$f":"IF($B19=5,$AO19,0)","v":{"v":0,"d":"0.00"}},{"$f":"IF($B19=6,$AO19,0)","v":{"v":0,"d":"0.00"}},{"$f":"IF(AV18>0,IF(H19+P19+X19+AF19+AN19+BD19+BL19+BT19+CB19+CJ19=0,IF(E19>0,AV18,0),0),0)","v":0},{"$f":"G19*AV19","v":{"v":0,"d":"0.00"}},{"$f":"IF($B19=1,$AW19,0)","v":{"v":0,"d":"0.00"}},{"$f":"IF($B19=2,$AW19,0)","v":{"v":0,"d":"0.00"}},{"$f":"IF($B19=3,$AW19,0)","v":{"v":0,"d":"0.00"}},{"$f":"IF($B19=4,$AW19,0)","v":{"v":0,"d":"0.00"}},{"$f":"IF($B19=5,$AW19,0)","v":{"v":0,"d":"0.00"}},{"$f":"IF($B19=6,$AW19,0)","v":{"v":0,"d":"0.00"}},{"$f":"IF(BD18>0,IF(H19+P19+X19+AF19+AN19+AV19+BL19+BT19+CB19+CJ19=0,IF(E19>0,BD18,0),0),0)","v":0},{"$f":"G19*BD19","v":{"v":0,"d":"0.00"}},{"$f":"IF($B19=1,$BE19,0)","v":{"v":0,"d":"0.00"}},{"$f":"IF($B19=2,$BE19,0)","v":{"v":0,"d":"0.00"}},{"$f":"IF($B19=3,$BE19,0)","v":{"v":0,"d":"0.00"}},{"$f":"IF($B19=4,$BE19,0)","v":{"v":0,"d":"0.00"}},{"$f":"IF($B19=5,$BE19,0)","v":{"v":0,"d":"0.00"}},{"$f":"IF($B19=6,$BE19,0)","v":{"v":0,"d":"0.00"}},{"$f":"IF(BL18>0,IF(H19+P19+X19+AF19+AN19+AV19+BD19+BT19+CB19+CJ19=0,IF(E19>0,BL18,0),0),0)","v":0},{"$f":"G19*BL19","v":{"v":0,"d":"0.00"}},{"$f":"IF($B19=1,$BM19,0)","v":{"v":0,"d":"0.00"}},{"$f":"IF($B19=2,$BM19,0)","v":{"v":0,"d":"0.00"}},{"$f":"IF($B19=3,$BM19,0)","v":{"v":0,"d":"0.00"}},{"$f":"IF($B19=4,$BM19,0)","v":{"v":0,"d":"0.00"}},{"$f":"IF($B19=5,$BM19,0)","v":{"v":0,"d":"0.00"}},{"$f":"IF($B19=6,$BM19,0)","v":{"v":0,"d":"0.00"}},{"$f":"IF(BT18>0,IF(H19+P19+X19+AF19+AN19+AV19+BD19+BL19+CB19+CJ19=0,IF(E19>0,BT18,0),0),0)","v":0},{"$f":"G19*BT19","v":{"v":0,"d":"0.00"}},{"$f":"IF($B19=1,$BU19,0)","v":{"v":0,"d":"0.00"}},{"$f":"IF($B19=2,$BU19,0)","v":{"v":0,"d":"0.00"}},{"$f":"IF($B19=3,$BU19,0)","v":{"v":0,"d":"0.00"}},{"$f":"IF($B19=4,$BU19,0)","v":{"v":0,"d":"0.00"}},{"$f":"IF($B19=5,$BU19,0)","v":{"v":0,"d":"0.00"}},{"$f":"IF($B19=6,$BU19,0)","v":{"v":0,"d":"0.00"}},{"$f":"IF(CB18>0,IF(H19+P19+X19+AF19+AN19+AV19+BD19+BL19+BT19+CJ19=0,IF(E19>0,CB18,0),0),0)","v":0},{"$f":"G19*CB19","v":{"v":0,"d":"0.00"}},{"$f":"IF($B19=1,$CC19,0)","v":{"v":0,"d":"0.00"}},{"$f":"IF($B19=2,$CC19,0)","v":{"v":0,"d":"0.00"}},{"$f":"IF($B19=3,$CC19,0)","v":{"v":0,"d":"0.00"}},{"$f":"IF($B19=4,$CC19,0)","v":{"v":0,"d":"0.00"}},{"$f":"IF($B19=5,$CC19,0)","v":{"v":0,"d":"0.00"}},{"$f":"IF($B19=6,$CC19,0)","v":{"v":0,"d":"0.00"}},{"$f":"IF(CJ18>0,IF(H19+P19+X19+AF19+AN19+AV19+BD19+BL19+BT19+CB19=0,IF(E19>0,CJ18,0),0),0)","v":0},{"$f":"G19*CJ19","v":{"v":0,"d":"0.00"}},{"$f":"IF($B19=1,$CK19,0)","v":{"v":0,"d":"0.00"}},{"$f":"IF($B19=2,$CK19,0)","v":{"v":0,"d":"0.00"}},{"$f":"IF($B19=3,$CK19,0)","v":{"v":0,"d":"0.00"}},{"$f":"IF($B19=4,$CK19,0)","v":{"v":0,"d":"0.00"}},{"$f":"IF($B19=5,$CK19,0)","v":{"v":0,"d":"0.00"}},{"$f":"IF($B19=6,$CK19,0)","v":{"v":0,"d":"0.00"}}]
[{"$f":"IF(C19<>C20,C20,\"\")","v":""},{"$f":"IF(C19<>C20,_xlfn.DAYS(C20,C19)+B19,B19)","v":1},{"$f":"IF(D20>0,IF(D20<E19,C19+1,C19),C19)","v":"2009-02-02"},{"$f":"IF((E20+H20+P20+X20+AF20+AN20+AV20+BD20+BL20+BT20+CB20+CJ20)>0,E19,0)","v":"00:00:00"},null,{"$f":"E20-D20","v":"00:00:00"},{"$f":"IF(E20>0,HOUR(F20)+(MINUTE(F20)/60),0)","v":0},{"$f":"IF(H19>0,IF(P20+X20+AF20+AN20+AV20+BD20+BL20+BT20+CB20+CJ20=0,IF(E20>0,H19,0),0),0)","v":0},{"$f":"G20*H20","v":{"v":0,"d":"0.00"}},{"$f":"IF($B20=1,$I20,0)","v":{"v":0,"d":"0.00"}},{"$f":"IF($B20=2,$I20,0)","v":{"v":0,"d":"0.00"}},{"$f":"IF($B20=3,$I20,0)","v":{"v":0,"d":"0.00"}},{"$f":"IF($B20=4,$I20,0)","v":{"v":0,"d":"0.00"}},{"$f":"IF($B20=5,$I20,0)","v":{"v":0,"d":"0.00"}},{"$f":"IF($B20=6,$I20,0)","v":{"v":0,"d":"0.00"}},{"$f":"IF(P19>0,IF(H20+X20+AF20+AN20+AV20+BD20+BL20+BT20+CB20+CJ20=0,IF(E20>0,P19,0),0),0)","v":0},{"$f":"G20*P20","v":{"v":0,"d":"0.00"}},{"$f":"IF(B20=1,Q20,0)","v":{"v":0,"d":"0.00"}},{"$f":"IF(B20=2,Q20,0)","v":{"v":0,"d":"0.00"}},{"$f":"IF(B20=3,Q20,0)","v":{"v":0,"d":"0.00"}},{"$f":"IF(B20=4,Q20,0)","v":{"v":0,"d":"0.00"}},{"$f":"IF(B20=5,Q20,0)","v":{"v":0,"d":"0.00"}},{"$f":"IF(B20=6,Q20,0)","v":{"v":0,"d":"0.00"}},{"$f":"IF(X19>0,IF(H20+P20+AF20+AN20+AV20+BD20+BL20+BT20+CB20+CJ20=0,IF(E20>0,X19,0),0),0)","v":0},{"$f":"G20*X20","v":{"v":0,"d":"0.00"}},{"$f":"IF($B20=1,$Y20,0)","v":{"v":0,"d":"0.00"}},{"$f":"IF($B20=2,$Y20,0)","v":{"v":0,"d":"0.00"}},{"$f":"IF($B20=3,$Y20,0)","v":{"v":0,"d":"0.00"}},{"$f":"IF($B20=4,$Y20,0)","v":{"v":0,"d":"0.00"}},{"$f":"IF($B20=5,$Y20,0)","v":{"v":0,"d":"0.00"}},{"$f":"IF($B20=6,$Y20,0)","v":{"v":0,"d":"0.00"}},{"$f":"IF(AF19>0,IF(H20+P20+X20+AN20+AV20+BD20+BL20+BT20+CB20+CJ20=0,IF(E20>0,AF19,0),0),0)","v":0},{"$f":"G20*AF20","v":{"v":0,"d":"0.00"}},{"$f":"IF($B20=1,$AG20,0)","v":{"v":0,"d":"0.00"}},{"$f":"IF($B20=2,$AG20,0)","v":{"v":0,"d":"0.00"}},{"$f":"IF($B20=3,$AG20,0)","v":{"v":0,"d":"0.00"}},{"$f":"IF($B20=4,$AG20,0)","v":{"v":0,"d":"0.00"}},{"$f":"IF($B20=5,$AG20,0)","v":{"v":0,"d":"0.00"}},{"$f":"IF($B20=6,$AG20,0)","v":{"v":0,"d":"0.00"}},{"$f":"IF(AN19>0,IF(H20+P20+X20+AF20+AV20+BD20+BL20+BT20+CB20+CJ20=0,IF(E20>0,AN19,0),0),0)","v":0},{"$f":"G20*AN20","v":{"v":0,"d":"0.00"}},{"$f":"IF($B20=1,$AO20,0)","v":{"v":0,"d":"0.00"}},{"$f":"IF($B20=2,$AO20,0)","v":{"v":0,"d":"0.00"}},{"$f":"IF($B20=3,$AO20,0)","v":{"v":0,"d":"0.00"}},{"$f":"IF($B20=4,$AO20,0)","v":{"v":0,"d":"0.00"}},{"$f":"IF($B20=5,$AO20,0)","v":{"v":0,"d":"0.00"}},{"$f":"IF($B20=6,$AO20,0)","v":{"v":0,"d":"0.00"}},{"$f":"IF(AV19>0,IF(H20+P20+X20+AF20+AN20+BD20+BL20+BT20+CB20+CJ20=0,IF(E20>0,AV19,0),0),0)","v":0},{"$f":"G20*AV20","v":{"v":0,"d":"0.00"}},{"$f":"IF($B20=1,$AW20,0)","v":{"v":0,"d":"0.00"}},{"$f":"IF($B20=2,$AW20,0)","v":{"v":0,"d":"0.00"}},{"$f":"IF($B20=3,$AW20,0)","v":{"v":0,"d":"0.00"}},{"$f":"IF($B20=4,$AW20,0)","v":{"v":0,"d":"0.00"}},{"$f":"IF($B20=5,$AW20,0)","v":{"v":0,"d":"0.00"}},{"$f":"IF($B20=6,$AW20,0)","v":{"v":0,"d":"0.00"}},{"$f":"IF(BD19>0,IF(H20+P20+X20+AF20+AN20+AV20+BL20+BT20+CB20+CJ20=0,IF(E20>0,BD19,0),0),0)","v":0},{"$f":"G20*BD20","v":{"v":0,"d":"0.00"}},{"$f":"IF($B20=1,$BE20,0)","v":{"v":0,"d":"0.00"}},{"$f":"IF($B20=2,$BE20,0)","v":{"v":0,"d":"0.00"}},{"$f":"IF($B20=3,$BE20,0)","v":{"v":0,"d":"0.00"}},{"$f":"IF($B20=4,$BE20,0)","v":{"v":0,"d":"0.00"}},{"$f":"IF($B20=5,$BE20,0)","v":{"v":0,"d":"0.00"}},{"$f":"IF($B20=6,$BE20,0)","v":{"v":0,"d":"0.00"}},{"$f":"IF(BL19>0,IF(H20+P20+X20+AF20+AN20+AV20+BD20+BT20+CB20+CJ20=0,IF(E20>0,BL19,0),0),0)","v":0},{"$f":"G20*BL20","v":{"v":0,"d":"0.00"}},{"$f":"IF($B20=1,$BM20,0)","v":{"v":0,"d":"0.00"}},{"$f":"IF($B20=2,$BM20,0)","v":{"v":0,"d":"0.00"}},{"$f":"IF($B20=3,$BM20,0)","v":{"v":0,"d":"0.00"}},{"$f":"IF($B20=4,$BM20,0)","v":{"v":0,"d":"0.00"}},{"$f":"IF($B20=5,$BM20,0)","v":{"v":0,"d":"0.00"}},{"$f":"IF($B20=6,$BM20,0)","v":{"v":0,"d":"0.00"}},{"$f":"IF(BT19>0,IF(H20+P20+X20+AF20+AN20+AV20+BD20+BL20+CB20+CJ20=0,IF(E20>0,BT19,0),0),0)","v":0},{"$f":"G20*BT20","v":{"v":0,"d":"0.00"}},{"$f":"IF($B20=1,$BU20,0)","v":{"v":0,"d":"0.00"}},{"$f":"IF($B20=2,$BU20,0)","v":{"v":0,"d":"0.00"}},{"$f":"IF($B20=3,$BU20,0)","v":{"v":0,"d":"0.00"}},{"$f":"IF($B20=4,$BU20,0)","v":{"v":0,"d":"0.00"}},{"$f":"IF($B20=5,$BU20,0)","v":{"v":0,"d":"0.00"}},{"$f":"IF($B20=6,$BU20,0)","v":{"v":0,"d":"0.00"}},{"$f":"IF(CB19>0,IF(H20+P20+X20+AF20+AN20+AV20+BD20+BL20+BT20+CJ20=0,IF(E20>0,CB19,0),0),0)","v":0},{"$f":"G20*CB20","v":{"v":0,"d":"0.00"}},{"$f":"IF($B20=1,$CC20,0)","v":{"v":0,"d":"0.00"}},{"$f":"IF($B20=2,$CC20,0)","v":{"v":0,"d":"0.00"}},{"$f":"IF($B20=3,$CC20,0)","v":{"v":0,"d":"0.00"}},{"$f":"IF($B20=4,$CC20,0)","v":{"v":0,"d":"0.00"}},{"$f":"IF($B20=5,$CC20,0)","v":{"v":0,"d":"0.00"}},{"$f":"IF($B20=6,$CC20,0)","v":{"v":0,"d":"0.00"}},{"$f":"IF(CJ19>0,IF(H20+P20+X20+AF20+AN20+AV20+BD20+BL20+BT20+CB20=0,IF(E20>0,CJ19,0),0),0)","v":0},{"$f":"G20*CJ20","v":{"v":0,"d":"0.00"}},{"$f":"IF($B20=1,$CK20,0)","v":{"v":0,"d":"0.00"}},{"$f":"IF($B20=2,$CK20,0)","v":{"v":0,"d":"0.00"}},{"$f":"IF($B20=3,$CK20,0)","v":{"v":0,"d":"0.00"}},{"$f":"IF($B20=4,$CK20,0)","v":{"v":0,"d":"0.00"}},{"$f":"IF($B20=5,$CK20,0)","v":{"v":0,"d":"0.00"}},{"$f":"IF($B20=6,$CK20,0)","v":{"v":0,"d":"0.00"}}]
[{"$f":"IF(C20<>C21,C21,\"\")","v":""},{"$f":"IF(C20<>C21,_xlfn.DAYS(C21,C20)+B20,B20)","v":1},{"$f":"IF(D21>0,IF(D21<E20,C20+1,C20),C20)","v":"2009-02-02"},{"$f":"IF((E21+H21+P21+X21+AF21+AN21+AV21+BD21+BL21+BT21+CB21+CJ21)>0,E20,0)","v":"00:00:00"},null,{"$f":"E21-D21","v":"00:00:00"},{"$f":"IF(E21>0,HOUR(F21)+(MINUTE(F21)/60),0)","v":0},{"$f":"IF(H20>0,IF(P21+X21+AF21+AN21+AV21+BD21+BL21+BT21+CB21+CJ21=0,IF(E21>0,H20,0),0),0)","v":0},{"$f":"G21*H21","v":{"v":0,"d":"0.00"}},{"$f":"IF($B21=1,$I21,0)","v":{"v":0,"d":"0.00"}},{"$f":"IF($B21=2,$I21,0)","v":{"v":0,"d":"0.00"}},{"$f":"IF($B21=3,$I21,0)","v":{"v":0,"d":"0.00"}},{"$f":"IF($B21=4,$I21,0)","v":{"v":0,"d":"0.00"}},{"$f":"IF($B21=5,$I21,0)","v":{"v":0,"d":"0.00"}},{"$f":"IF($B21=6,$I21,0)","v":{"v":0,"d":"0.00"}},{"$f":"IF(P20>0,IF(H21+X21+AF21+AN21+AV21+BD21+BL21+BT21+CB21+CJ21=0,IF(E21>0,P20,0),0),0)","v":0},{"$f":"G21*P21","v":{"v":0,"d":"0.00"}},{"$f":"IF(B21=1,Q21,0)","v":{"v":0,"d":"0.00"}},{"$f":"IF(B21=2,Q21,0)","v":{"v":0,"d":"0.00"}},{"$f":"IF(B21=3,Q21,0)","v":{"v":0,"d":"0.00"}},{"$f":"IF(B21=4,Q21,0)","v":{"v":0,"d":"0.00"}},{"$f":"IF(B21=5,Q21,0)","v":{"v":0,"d":"0.00"}},{"$f":"IF(B21=6,Q21,0)","v":{"v":0,"d":"0.00"}},{"$f":"IF(X20>0,IF(H21+P21+AF21+AN21+AV21+BD21+BL21+BT21+CB21+CJ21=0,IF(E21>0,X20,0),0),0)","v":0},{"$f":"G21*X21","v":{"v":0,"d":"0.00"}},{"$f":"IF($B21=1,$Y21,0)","v":{"v":0,"d":"0.00"}},{"$f":"IF($B21=2,$Y21,0)","v":{"v":0,"d":"0.00"}},{"$f":"IF($B21=3,$Y21,0)","v":{"v":0,"d":"0.00"}},{"$f":"IF($B21=4,$Y21,0)","v":{"v":0,"d":"0.00"}},{"$f":"IF($B21=5,$Y21,0)","v":{"v":0,"d":"0.00"}},{"$f":"IF($B21=6,$Y21,0)","v":{"v":0,"d":"0.00"}},{"$f":"IF(AF20>0,IF(H21+P21+X21+AN21+AV21+BD21+BL21+BT21+CB21+CJ21=0,IF(E21>0,AF20,0),0),0)","v":0},{"$f":"G21*AF21","v":{"v":0,"d":"0.00"}},{"$f":"IF($B21=1,$AG21,0)","v":{"v":0,"d":"0.00"}},{"$f":"IF($B21=2,$AG21,0)","v":{"v":0,"d":"0.00"}},{"$f":"IF($B21=3,$AG21,0)","v":{"v":0,"d":"0.00"}},{"$f":"IF($B21=4,$AG21,0)","v":{"v":0,"d":"0.00"}},{"$f":"IF($B21=5,$AG21,0)","v":{"v":0,"d":"0.00"}},{"$f":"IF($B21=6,$AG21,0)","v":{"v":0,"d":"0.00"}},{"$f":"IF(AN20>0,IF(H21+P21+X21+AF21+AV21+BD21+BL21+BT21+CB21+CJ21=0,IF(E21>0,AN20,0),0),0)","v":0},{"$f":"G21*AN21","v":{"v":0,"d":"0.00"}},{"$f":"IF($B21=1,$AO21,0)","v":{"v":0,"d":"0.00"}},{"$f":"IF($B21=2,$AO21,0)","v":{"v":0,"d":"0.00"}},{"$f":"IF($B21=3,$AO21,0)","v":{"v":0,"d":"0.00"}},{"$f":"IF($B21=4,$AO21,0)","v":{"v":0,"d":"0.00"}},{"$f":"IF($B21=5,$AO21,0)","v":{"v":0,"d":"0.00"}},{"$f":"IF($B21=6,$AO21,0)","v":{"v":0,"d":"0.00"}},{"$f":"IF(AV20>0,IF(H21+P21+X21+AF21+AN21+BD21+BL21+BT21+CB21+CJ21=0,IF(E21>0,AV20,0),0),0)","v":0},{"$f":"G21*AV21","v":{"v":0,"d":"0.00"}},{"$f":"IF($B21=1,$AW21,0)","v":{"v":0,"d":"0.00"}},{"$f":"IF($B21=2,$AW21,0)","v":{"v":0,"d":"0.00"}},{"$f":"IF($B21=3,$AW21,0)","v":{"v":0,"d":"0.00"}},{"$f":"IF($B21=4,$AW21,0)","v":{"v":0,"d":"0.00"}},{"$f":"IF($B21=5,$AW21,0)","v":{"v":0,"d":"0.00"}},{"$f":"IF($B21=6,$AW21,0)","v":{"v":0,"d":"0.00"}},{"$f":"IF(BD20>0,IF(H21+P21+X21+AF21+AN21+AV21+BL21+BT21+CB21+CJ21=0,IF(E21>0,BD20,0),0),0)","v":0},{"$f":"G21*BD21","v":{"v":0,"d":"0.00"}},{"$f":"IF($B21=1,$BE21,0)","v":{"v":0,"d":"0.00"}},{"$f":"IF($B21=2,$BE21,0)","v":{"v":0,"d":"0.00"}},{"$f":"IF($B21=3,$BE21,0)","v":{"v":0,"d":"0.00"}},{"$f":"IF($B21=4,$BE21,0)","v":{"v":0,"d":"0.00"}},{"$f":"IF($B21=5,$BE21,0)","v":{"v":0,"d":"0.00"}},{"$f":"IF($B21=6,$BE21,0)","v":{"v":0,"d":"0.00"}},{"$f":"IF(BL20>0,IF(H21+P21+X21+AF21+AN21+AV21+BD21+BT21+CB21+CJ21=0,IF(E21>0,BL20,0),0),0)","v":0},{"$f":"G21*BL21","v":{"v":0,"d":"0.00"}},{"$f":"IF($B21=1,$BM21,0)","v":{"v":0,"d":"0.00"}},{"$f":"IF($B21=2,$BM21,0)","v":{"v":0,"d":"0.00"}},{"$f":"IF($B21=3,$BM21,0)","v":{"v":0,"d":"0.00"}},{"$f":"IF($B21=4,$BM21,0)","v":{"v":0,"d":"0.00"}},{"$f":"IF($B21=5,$BM21,0)","v":{"v":0,"d":"0.00"}},{"$f":"IF($B21=6,$BM21,0)","v":{"v":0,"d":"0.00"}},{"$f":"IF(BT20>0,IF(H21+P21+X21+AF21+AN21+AV21+BD21+BL21+CB21+CJ21=0,IF(E21>0,BT20,0),0),0)","v":0},{"$f":"G21*BT21","v":{"v":0,"d":"0.00"}},{"$f":"IF($B21=1,$BU21,0)","v":{"v":0,"d":"0.00"}},{"$f":"IF($B21=2,$BU21,0)","v":{"v":0,"d":"0.00"}},{"$f":"IF($B21=3,$BU21,0)","v":{"v":0,"d":"0.00"}},{"$f":"IF($B21=4,$BU21,0)","v":{"v":0,"d":"0.00"}},{"$f":"IF($B21=5,$BU21,0)","v":{"v":0,"d":"0.00"}},{"$f":"IF($B21=6,$BU21,0)","v":{"v":0,"d":"0.00"}},{"$f":"IF(CB20>0,IF(H21+P21+X21+AF21+AN21+AV21+BD21+BL21+BT21+CJ21=0,IF(E21>0,CB20,0),0),0)","v":0},{"$f":"G21*CB21","v":{"v":0,"d":"0.00"}},{"$f":"IF($B21=1,$CC21,0)","v":{"v":0,"d":"0.00"}},{"$f":"IF($B21=2,$CC21,0)","v":{"v":0,"d":"0.00"}},{"$f":"IF($B21=3,$CC21,0)","v":{"v":0,"d":"0.00"}},{"$f":"IF($B21=4,$CC21,0)","v":{"v":0,"d":"0.00"}},{"$f":"IF($B21=5,$CC21,0)","v":{"v":0,"d":"0.00"}},{"$f":"IF($B21=6,$CC21,0)","v":{"v":0,"d":"0.00"}},{"$f":"IF(CJ20>0,IF(H21+P21+X21+AF21+AN21+AV21+BD21+BL21+BT21+CB21=0,IF(E21>0,CJ20,0),0),0)","v":0},{"$f":"G21*CJ21","v":{"v":0,"d":"0.00"}},{"$f":"IF($B21=1,$CK21,0)","v":{"v":0,"d":"0.00"}},{"$f":"IF($B21=2,$CK21,0)","v":{"v":0,"d":"0.00"}},{"$f":"IF($B21=3,$CK21,0)","v":{"v":0,"d":"0.00"}},{"$f":"IF($B21=4,$CK21,0)","v":{"v":0,"d":"0.00"}},{"$f":"IF($B21=5,$CK21,0)","v":{"v":0,"d":"0.00"}},{"$f":"IF($B21=6,$CK21,0)","v":{"v":0,"d":"0.00"}}]
[{"$f":"IF(C21<>C22,C22,\"\")","v":""},{"$f":"IF(C21<>C22,_xlfn.DAYS(C22,C21)+B21,B21)","v":1},{"$f":"IF(D22>0,IF(D22<E21,C21+1,C21),C21)","v":"2009-02-02"},{"$f":"IF((E22+H22+P22+X22+AF22+AN22+AV22+BD22+BL22+BT22+CB22+CJ22)>0,E21,0)","v":"00:00:00"},null,{"$f":"E22-D22","v":"00:00:00"},{"$f":"IF(E22>0,HOUR(F22)+(MINUTE(F22)/60),0)","v":0},{"$f":"IF(H21>0,IF(P22+X22+AF22+AN22+AV22+BD22+BL22+BT22+CB22+CJ22=0,IF(E22>0,H21,0),0),0)","v":0},{"$f":"G22*H22","v":{"v":0,"d":"0.00"}},{"$f":"IF($B22=1,$I22,0)","v":{"v":0,"d":"0.00"}},{"$f":"IF($B22=2,$I22,0)","v":{"v":0,"d":"0.00"}},{"$f":"IF($B22=3,$I22,0)","v":{"v":0,"d":"0.00"}},{"$f":"IF($B22=4,$I22,0)","v":{"v":0,"d":"0.00"}},{"$f":"IF($B22=5,$I22,0)","v":{"v":0,"d":"0.00"}},{"$f":"IF($B22=6,$I22,0)","v":{"v":0,"d":"0.00"}},{"$f":"IF(P21>0,IF(H22+X22+AF22+AN22+AV22+BD22+BL22+BT22+CB22+CJ22=0,IF(E22>0,P21,0),0),0)","v":0},{"$f":"G22*P22","v":{"v":0,"d":"0.00"}},{"$f":"IF(B22=1,Q22,0)","v":{"v":0,"d":"0.00"}},{"$f":"IF(B22=2,Q22,0)","v":{"v":0,"d":"0.00"}},{"$f":"IF(B22=3,Q22,0)","v":{"v":0,"d":"0.00"}},{"$f":"IF(B22=4,Q22,0)","v":{"v":0,"d":"0.00"}},{"$f":"IF(B22=5,Q22,0)","v":{"v":0,"d":"0.00"}},{"$f":"IF(B22=6,Q22,0)","v":{"v":0,"d":"0.00"}},{"$f":"IF(X21>0,IF(H22+P22+AF22+AN22+AV22+BD22+BL22+BT22+CB22+CJ22=0,IF(E22>0,X21,0),0),0)","v":0},{"$f":"G22*X22","v":{"v":0,"d":"0.00"}},{"$f":"IF($B22=1,$Y22,0)","v":{"v":0,"d":"0.00"}},{"$f":"IF($B22=2,$Y22,0)","v":{"v":0,"d":"0.00"}},{"$f":"IF($B22=3,$Y22,0)","v":{"v":0,"d":"0.00"}},{"$f":"IF($B22=4,$Y22,0)","v":{"v":0,"d":"0.00"}},{"$f":"IF($B22=5,$Y22,0)","v":{"v":0,"d":"0.00"}},{"$f":"IF($B22=6,$Y22,0)","v":{"v":0,"d":"0.00"}},{"$f":"IF(AF21>0,IF(H22+P22+X22+AN22+AV22+BD22+BL22+BT22+CB22+CJ22=0,IF(E22>0,AF21,0),0),0)","v":0},{"$f":"G22*AF22","v":{"v":0,"d":"0.00"}},{"$f":"IF($B22=1,$AG22,0)","v":{"v":0,"d":"0.00"}},{"$f":"IF($B22=2,$AG22,0)","v":{"v":0,"d":"0.00"}},{"$f":"IF($B22=3,$AG22,0)","v":{"v":0,"d":"0.00"}},{"$f":"IF($B22=4,$AG22,0)","v":{"v":0,"d":"0.00"}},{"$f":"IF($B22=5,$AG22,0)","v":{"v":0,"d":"0.00"}},{"$f":"IF($B22=6,$AG22,0)","v":{"v":0,"d":"0.00"}},{"$f":"IF(AN21>0,IF(H22+P22+X22+AF22+AV22+BD22+BL22+BT22+CB22+CJ22=0,IF(E22>0,AN21,0),0),0)","v":0},{"$f":"G22*AN22","v":{"v":0,"d":"0.00"}},{"$f":"IF($B22=1,$AO22,0)","v":{"v":0,"d":"0.00"}},{"$f":"IF($B22=2,$AO22,0)","v":{"v":0,"d":"0.00"}},{"$f":"IF($B22=3,$AO22,0)","v":{"v":0,"d":"0.00"}},{"$f":"IF($B22=4,$AO22,0)","v":{"v":0,"d":"0.00"}},{"$f":"IF($B22=5,$AO22,0)","v":{"v":0,"d":"0.00"}},{"$f":"IF($B22=6,$AO22,0)","v":{"v":0,"d":"0.00"}},{"$f":"IF(AV21>0,IF(H22+P22+X22+AF22+AN22+BD22+BL22+BT22+CB22+CJ22=0,IF(E22>0,AV21,0),0),0)","v":0},{"$f":"G22*AV22","v":{"v":0,"d":"0.00"}},{"$f":"IF($B22=1,$AW22,0)","v":{"v":0,"d":"0.00"}},{"$f":"IF($B22=2,$AW22,0)","v":{"v":0,"d":"0.00"}},{"$f":"IF($B22=3,$AW22,0)","v":{"v":0,"d":"0.00"}},{"$f":"IF($B22=4,$AW22,0)","v":{"v":0,"d":"0.00"}},{"$f":"IF($B22=5,$AW22,0)","v":{"v":0,"d":"0.00"}},{"$f":"IF($B22=6,$AW22,0)","v":{"v":0,"d":"0.00"}},{"$f":"IF(BD21>0,IF(H22+P22+X22+AF22+AN22+AV22+BL22+BT22+CB22+CJ22=0,IF(E22>0,BD21,0),0),0)","v":0},{"$f":"G22*BD22","v":{"v":0,"d":"0.00"}},{"$f":"IF($B22=1,$BE22,0)","v":{"v":0,"d":"0.00"}},{"$f":"IF($B22=2,$BE22,0)","v":{"v":0,"d":"0.00"}},{"$f":"IF($B22=3,$BE22,0)","v":{"v":0,"d":"0.00"}},{"$f":"IF($B22=4,$BE22,0)","v":{"v":0,"d":"0.00"}},{"$f":"IF($B22=5,$BE22,0)","v":{"v":0,"d":"0.00"}},{"$f":"IF($B22=6,$BE22,0)","v":{"v":0,"d":"0.00"}},{"$f":"IF(BL21>0,IF(H22+P22+X22+AF22+AN22+AV22+BD22+BT22+CB22+CJ22=0,IF(E22>0,BL21,0),0),0)","v":0},{"$f":"G22*BL22","v":{"v":0,"d":"0.00"}},{"$f":"IF($B22=1,$BM22,0)","v":{"v":0,"d":"0.00"}},{"$f":"IF($B22=2,$BM22,0)","v":{"v":0,"d":"0.00"}},{"$f":"IF($B22=3,$BM22,0)","v":{"v":0,"d":"0.00"}},{"$f":"IF($B22=4,$BM22,0)","v":{"v":0,"d":"0.00"}},{"$f":"IF($B22=5,$BM22,0)","v":{"v":0,"d":"0.00"}},{"$f":"IF($B22=6,$BM22,0)","v":{"v":0,"d":"0.00"}},{"$f":"IF(BT21>0,IF(H22+P22+X22+AF22+AN22+AV22+BD22+BL22+CB22+CJ22=0,IF(E22>0,BT21,0),0),0)","v":0},{"$f":"G22*BT22","v":{"v":0,"d":"0.00"}},{"$f":"IF($B22=1,$BU22,0)","v":{"v":0,"d":"0.00"}},{"$f":"IF($B22=2,$BU22,0)","v":{"v":0,"d":"0.00"}},{"$f":"IF($B22=3,$BU22,0)","v":{"v":0,"d":"0.00"}},{"$f":"IF($B22=4,$BU22,0)","v":{"v":0,"d":"0.00"}},{"$f":"IF($B22=5,$BU22,0)","v":{"v":0,"d":"0.00"}},{"$f":"IF($B22=6,$BU22,0)","v":{"v":0,"d":"0.00"}},{"$f":"IF(CB21>0,IF(H22+P22+X22+AF22+AN22+AV22+BD22+BL22+BT22+CJ22=0,IF(E22>0,CB21,0),0),0)","v":0},{"$f":"G22*CB22","v":{"v":0,"d":"0.00"}},{"$f":"IF($B22=1,$CC22,0)","v":{"v":0,"d":"0.00"}},{"$f":"IF($B22=2,$CC22,0)","v":{"v":0,"d":"0.00"}},{"$f":"IF($B22=3,$CC22,0)","v":{"v":0,"d":"0.00"}},{"$f":"IF($B22=4,$CC22,0)","v":{"v":0,"d":"0.00"}},{"$f":"IF($B22=5,$CC22,0)","v":{"v":0,"d":"0.00"}},{"$f":"IF($B22=6,$CC22,0)","v":{"v":0,"d":"0.00"}},{"$f":"IF(CJ21>0,IF(H22+P22+X22+AF22+AN22+AV22+BD22+BL22+BT22+CB22=0,IF(E22>0,CJ21,0),0),0)","v":0},{"$f":"G22*CJ22","v":{"v":0,"d":"0.00"}},{"$f":"IF($B22=1,$CK22,0)","v":{"v":0,"d":"0.00"}},{"$f":"IF($B22=2,$CK22,0)","v":{"v":0,"d":"0.00"}},{"$f":"IF($B22=3,$CK22,0)","v":{"v":0,"d":"0.00"}},{"$f":"IF($B22=4,$CK22,0)","v":{"v":0,"d":"0.00"}},{"$f":"IF($B22=5,$CK22,0)","v":{"v":0,"d":"0.00"}},{"$f":"IF($B22=6,$CK22,0)","v":{"v":0,"d":"0.00"}}]
[{"$f":"IF(C22<>C23,C23,\"\")","v":""},{"$f":"IF(C22<>C23,_xlfn.DAYS(C23,C22)+B22,B22)","v":1},{"$f":"IF(D23>0,IF(D23<E22,C22+1,C22),C22)","v":"2009-02-02"},{"$f":"IF((E23+H23+P23+X23+AF23+AN23+AV23+BD23+BL23+BT23+CB23+CJ23)>0,E22,0)","v":"00:00:00"},null,{"$f":"E23-D23","v":"00:00:00"},{"$f":"IF(E23>0,HOUR(F23)+(MINUTE(F23)/60),0)","v":0},{"$f":"IF(H22>0,IF(P23+X23+AF23+AN23+AV23+BD23+BL23+BT23+CB23+CJ23=0,IF(E23>0,H22,0),0),0)","v":0},{"$f":"G23*H23","v":{"v":0,"d":"0.00"}},{"$f":"IF($B23=1,$I23,0)","v":{"v":0,"d":"0.00"}},{"$f":"IF($B23=2,$I23,0)","v":{"v":0,"d":"0.00"}},{"$f":"IF($B23=3,$I23,0)","v":{"v":0,"d":"0.00"}},{"$f":"IF($B23=4,$I23,0)","v":{"v":0,"d":"0.00"}},{"$f":"IF($B23=5,$I23,0)","v":{"v":0,"d":"0.00"}},{"$f":"IF($B23=6,$I23,0)","v":{"v":0,"d":"0.00"}},{"$f":"IF(P22>0,IF(H23+X23+AF23+AN23+AV23+BD23+BL23+BT23+CB23+CJ23=0,IF(E23>0,P22,0),0),0)","v":0},{"$f":"G23*P23","v":{"v":0,"d":"0.00"}},{"$f":"IF(B23=1,Q23,0)","v":{"v":0,"d":"0.00"}},{"$f":"IF(B23=2,Q23,0)","v":{"v":0,"d":"0.00"}},{"$f":"IF(B23=3,Q23,0)","v":{"v":0,"d":"0.00"}},{"$f":"IF(B23=4,Q23,0)","v":{"v":0,"d":"0.00"}},{"$f":"IF(B23=5,Q23,0)","v":{"v":0,"d":"0.00"}},{"$f":"IF(B23=6,Q23,0)","v":{"v":0,"d":"0.00"}},{"$f":"IF(X22>0,IF(H23+P23+AF23+AN23+AV23+BD23+BL23+BT23+CB23+CJ23=0,IF(E23>0,X22,0),0),0)","v":0},{"$f":"G23*X23","v":{"v":0,"d":"0.00"}},{"$f":"IF($B23=1,$Y23,0)","v":{"v":0,"d":"0.00"}},{"$f":"IF($B23=2,$Y23,0)","v":{"v":0,"d":"0.00"}},{"$f":"IF($B23=3,$Y23,0)","v":{"v":0,"d":"0.00"}},{"$f":"IF($B23=4,$Y23,0)","v":{"v":0,"d":"0.00"}},{"$f":"IF($B23=5,$Y23,0)","v":{"v":0,"d":"0.00"}},{"$f":"IF($B23=6,$Y23,0)","v":{"v":0,"d":"0.00"}},{"$f":"IF(AF22>0,IF(H23+P23+X23+AN23+AV23+BD23+BL23+BT23+CB23+CJ23=0,IF(E23>0,AF22,0),0),0)","v":0},{"$f":"G23*AF23","v":{"v":0,"d":"0.00"}},{"$f":"IF($B23=1,$AG23,0)","v":{"v":0,"d":"0.00"}},{"$f":"IF($B23=2,$AG23,0)","v":{"v":0,"d":"0.00"}},{"$f":"IF($B23=3,$AG23,0)","v":{"v":0,"d":"0.00"}},{"$f":"IF($B23=4,$AG23,0)","v":{"v":0,"d":"0.00"}},{"$f":"IF($B23=5,$AG23,0)","v":{"v":0,"d":"0.00"}},{"$f":"IF($B23=6,$AG23,0)","v":{"v":0,"d":"0.00"}},{"$f":"IF(AN22>0,IF(H23+P23+X23+AF23+AV23+BD23+BL23+BT23+CB23+CJ23=0,IF(E23>0,AN22,0),0),0)","v":0},{"$f":"G23*AN23","v":{"v":0,"d":"0.00"}},{"$f":"IF($B23=1,$AO23,0)","v":{"v":0,"d":"0.00"}},{"$f":"IF($B23=2,$AO23,0)","v":{"v":0,"d":"0.00"}},{"$f":"IF($B23=3,$AO23,0)","v":{"v":0,"d":"0.00"}},{"$f":"IF($B23=4,$AO23,0)","v":{"v":0,"d":"0.00"}},{"$f":"IF($B23=5,$AO23,0)","v":{"v":0,"d":"0.00"}},{"$f":"IF($B23=6,$AO23,0)","v":{"v":0,"d":"0.00"}},{"$f":"IF(AV22>0,IF(H23+P23+X23+AF23+AN23+BD23+BL23+BT23+CB23+CJ23=0,IF(E23>0,AV22,0),0),0)","v":0},{"$f":"G23*AV23","v":{"v":0,"d":"0.00"}},{"$f":"IF($B23=1,$AW23,0)","v":{"v":0,"d":"0.00"}},{"$f":"IF($B23=2,$AW23,0)","v":{"v":0,"d":"0.00"}},{"$f":"IF($B23=3,$AW23,0)","v":{"v":0,"d":"0.00"}},{"$f":"IF($B23=4,$AW23,0)","v":{"v":0,"d":"0.00"}},{"$f":"IF($B23=5,$AW23,0)","v":{"v":0,"d":"0.00"}},{"$f":"IF($B23=6,$AW23,0)","v":{"v":0,"d":"0.00"}},{"$f":"IF(BD22>0,IF(H23+P23+X23+AF23+AN23+AV23+BL23+BT23+CB23+CJ23=0,IF(E23>0,BD22,0),0),0)","v":0},{"$f":"G23*BD23","v":{"v":0,"d":"0.00"}},{"$f":"IF($B23=1,$BE23,0)","v":{"v":0,"d":"0.00"}},{"$f":"IF($B23=2,$BE23,0)","v":{"v":0,"d":"0.00"}},{"$f":"IF($B23=3,$BE23,0)","v":{"v":0,"d":"0.00"}},{"$f":"IF($B23=4,$BE23,0)","v":{"v":0,"d":"0.00"}},{"$f":"IF($B23=5,$BE23,0)","v":{"v":0,"d":"0.00"}},{"$f":"IF($B23=6,$BE23,0)","v":{"v":0,"d":"0.00"}},{"$f":"IF(BL22>0,IF(H23+P23+X23+AF23+AN23+AV23+BD23+BT23+CB23+CJ23=0,IF(E23>0,BL22,0),0),0)","v":0},{"$f":"G23*BL23","v":{"v":0,"d":"0.00"}},{"$f":"IF($B23=1,$BM23,0)","v":{"v":0,"d":"0.00"}},{"$f":"IF($B23=2,$BM23,0)","v":{"v":0,"d":"0.00"}},{"$f":"IF($B23=3,$BM23,0)","v":{"v":0,"d":"0.00"}},{"$f":"IF($B23=4,$BM23,0)","v":{"v":0,"d":"0.00"}},{"$f":"IF($B23=5,$BM23,0)","v":{"v":0,"d":"0.00"}},{"$f":"IF($B23=6,$BM23,0)","v":{"v":0,"d":"0.00"}},{"$f":"IF(BT22>0,IF(H23+P23+X23+AF23+AN23+AV23+BD23+BL23+CB23+CJ23=0,IF(E23>0,BT22,0),0),0)","v":0},{"$f":"G23*BT23","v":{"v":0,"d":"0.00"}},{"$f":"IF($B23=1,$BU23,0)","v":{"v":0,"d":"0.00"}},{"$f":"IF($B23=2,$BU23,0)","v":{"v":0,"d":"0.00"}},{"$f":"IF($B23=3,$BU23,0)","v":{"v":0,"d":"0.00"}},{"$f":"IF($B23=4,$BU23,0)","v":{"v":0,"d":"0.00"}},{"$f":"IF($B23=5,$BU23,0)","v":{"v":0,"d":"0.00"}},{"$f":"IF($B23=6,$BU23,0)","v":{"v":0,"d":"0.00"}},{"$f":"IF(CB22>0,IF(H23+P23+X23+AF23+AN23+AV23+BD23+BL23+BT23+CJ23=0,IF(E23>0,CB22,0),0),0)","v":0},{"$f":"G23*CB23","v":{"v":0,"d":"0.00"}},{"$f":"IF($B23=1,$CC23,0)","v":{"v":0,"d":"0.00"}},{"$f":"IF($B23=2,$CC23,0)","v":{"v":0,"d":"0.00"}},{"$f":"IF($B23=3,$CC23,0)","v":{"v":0,"d":"0.00"}},{"$f":"IF($B23=4,$CC23,0)","v":{"v":0,"d":"0.00"}},{"$f":"IF($B23=5,$CC23,0)","v":{"v":0,"d":"0.00"}},{"$f":"IF($B23=6,$CC23,0)","v":{"v":0,"d":"0.00"}},{"$f":"IF(CJ22>0,IF(H23+P23+X23+AF23+AN23+AV23+BD23+BL23+BT23+CB23=0,IF(E23>0,CJ22,0),0),0)","v":0},{"$f":"G23*CJ23","v":{"v":0,"d":"0.00"}},{"$f":"IF($B23=1,$CK23,0)","v":{"v":0,"d":"0.00"}},{"$f":"IF($B23=2,$CK23,0)","v":{"v":0,"d":"0.00"}},{"$f":"IF($B23=3,$CK23,0)","v":{"v":0,"d":"0.00"}},{"$f":"IF($B23=4,$CK23,0)","v":{"v":0,"d":"0.00"}},{"$f":"IF($B23=5,$CK23,0)","v":{"v":0,"d":"0.00"}},{"$f":"IF($B23=6,$CK23,0)","v":{"v":0,"d":"0.00"}}]
[{"$f":"IF(C23<>C24,C24,\"\")","v":""},{"$f":"IF(C23<>C24,_xlfn.DAYS(C24,C23)+B23,B23)","v":1},{"$f":"IF(D24>0,IF(D24<E23,C23+1,C23),C23)","v":"2009-02-02"},{"$f":"IF((E24+H24+P24+X24+AF24+AN24+AV24+BD24+BL24+BT24+CB24+CJ24)>0,E23,0)","v":"00:00:00"},null,{"$f":"E24-D24","v":"00:00:00"},{"$f":"IF(E24>0,HOUR(F24)+(MINUTE(F24)/60),0)","v":0},{"$f":"IF(H23>0,IF(P24+X24+AF24+AN24+AV24+BD24+BL24+BT24+CB24+CJ24=0,IF(E24>0,H23,0),0),0)","v":0},{"$f":"G24*H24","v":{"v":0,"d":"0.00"}},{"$f":"IF($B24=1,$I24,0)","v":{"v":0,"d":"0.00"}},{"$f":"IF($B24=2,$I24,0)","v":{"v":0,"d":"0.00"}},{"$f":"IF($B24=3,$I24,0)","v":{"v":0,"d":"0.00"}},{"$f":"IF($B24=4,$I24,0)","v":{"v":0,"d":"0.00"}},{"$f":"IF($B24=5,$I24,0)","v":{"v":0,"d":"0.00"}},{"$f":"IF($B24=6,$I24,0)","v":{"v":0,"d":"0.00"}},{"$f":"IF(P23>0,IF(H24+X24+AF24+AN24+AV24+BD24+BL24+BT24+CB24+CJ24=0,IF(E24>0,P23,0),0),0)","v":0},{"$f":"G24*P24","v":{"v":0,"d":"0.00"}},{"$f":"IF(B24=1,Q24,0)","v":{"v":0,"d":"0.00"}},{"$f":"IF(B24=2,Q24,0)","v":{"v":0,"d":"0.00"}},{"$f":"IF(B24=3,Q24,0)","v":{"v":0,"d":"0.00"}},{"$f":"IF(B24=4,Q24,0)","v":{"v":0,"d":"0.00"}},{"$f":"IF(B24=5,Q24,0)","v":{"v":0,"d":"0.00"}},{"$f":"IF(B24=6,Q24,0)","v":{"v":0,"d":"0.00"}},{"$f":"IF(X23>0,IF(H24+P24+AF24+AN24+AV24+BD24+BL24+BT24+CB24+CJ24=0,IF(E24>0,X23,0),0),0)","v":0},{"$f":"G24*X24","v":{"v":0,"d":"0.00"}},{"$f":"IF($B24=1,$Y24,0)","v":{"v":0,"d":"0.00"}},{"$f":"IF($B24=2,$Y24,0)","v":{"v":0,"d":"0.00"}},{"$f":"IF($B24=3,$Y24,0)","v":{"v":0,"d":"0.00"}},{"$f":"IF($B24=4,$Y24,0)","v":{"v":0,"d":"0.00"}},{"$f":"IF($B24=5,$Y24,0)","v":{"v":0,"d":"0.00"}},{"$f":"IF($B24=6,$Y24,0)","v":{"v":0,"d":"0.00"}},{"$f":"IF(AF23>0,IF(H24+P24+X24+AN24+AV24+BD24+BL24+BT24+CB24+CJ24=0,IF(E24>0,AF23,0),0),0)","v":0},{"$f":"G24*AF24","v":{"v":0,"d":"0.00"}},{"$f":"IF($B24=1,$AG24,0)","v":{"v":0,"d":"0.00"}},{"$f":"IF($B24=2,$AG24,0)","v":{"v":0,"d":"0.00"}},{"$f":"IF($B24=3,$AG24,0)","v":{"v":0,"d":"0.00"}},{"$f":"IF($B24=4,$AG24,0)","v":{"v":0,"d":"0.00"}},{"$f":"IF($B24=5,$AG24,0)","v":{"v":0,"d":"0.00"}},{"$f":"IF($B24=6,$AG24,0)","v":{"v":0,"d":"0.00"}},{"$f":"IF(AN23>0,IF(H24+P24+X24+AF24+AV24+BD24+BL24+BT24+CB24+CJ24=0,IF(E24>0,AN23,0),0),0)","v":0},{"$f":"G24*AN24","v":{"v":0,"d":"0.00"}},{"$f":"IF($B24=1,$AO24,0)","v":{"v":0,"d":"0.00"}},{"$f":"IF($B24=2,$AO24,0)","v":{"v":0,"d":"0.00"}},{"$f":"IF($B24=3,$AO24,0)","v":{"v":0,"d":"0.00"}},{"$f":"IF($B24=4,$AO24,0)","v":{"v":0,"d":"0.00"}},{"$f":"IF($B24=5,$AO24,0)","v":{"v":0,"d":"0.00"}},{"$f":"IF($B24=6,$AO24,0)","v":{"v":0,"d":"0.00"}},{"$f":"IF(AV23>0,IF(H24+P24+X24+AF24+AN24+BD24+BL24+BT24+CB24+CJ24=0,IF(E24>0,AV23,0),0),0)","v":0},{"$f":"G24*AV24","v":{"v":0,"d":"0.00"}},{"$f":"IF($B24=1,$AW24,0)","v":{"v":0,"d":"0.00"}},{"$f":"IF($B24=2,$AW24,0)","v":{"v":0,"d":"0.00"}},{"$f":"IF($B24=3,$AW24,0)","v":{"v":0,"d":"0.00"}},{"$f":"IF($B24=4,$AW24,0)","v":{"v":0,"d":"0.00"}},{"$f":"IF($B24=5,$AW24,0)","v":{"v":0,"d":"0.00"}},{"$f":"IF($B24=6,$AW24,0)","v":{"v":0,"d":"0.00"}},{"$f":"IF(BD23>0,IF(H24+P24+X24+AF24+AN24+AV24+BL24+BT24+CB24+CJ24=0,IF(E24>0,BD23,0),0),0)","v":0},{"$f":"G24*BD24","v":{"v":0,"d":"0.00"}},{"$f":"IF($B24=1,$BE24,0)","v":{"v":0,"d":"0.00"}},{"$f":"IF($B24=2,$BE24,0)","v":{"v":0,"d":"0.00"}},{"$f":"IF($B24=3,$BE24,0)","v":{"v":0,"d":"0.00"}},{"$f":"IF($B24=4,$BE24,0)","v":{"v":0,"d":"0.00"}},{"$f":"IF($B24=5,$BE24,0)","v":{"v":0,"d":"0.00"}},{"$f":"IF($B24=6,$BE24,0)","v":{"v":0,"d":"0.00"}},{"$f":"IF(BL23>0,IF(H24+P24+X24+AF24+AN24+AV24+BD24+BT24+CB24+CJ24=0,IF(E24>0,BL23,0),0),0)","v":0},{"$f":"G24*BL24","v":{"v":0,"d":"0.00"}},{"$f":"IF($B24=1,$BM24,0)","v":{"v":0,"d":"0.00"}},{"$f":"IF($B24=2,$BM24,0)","v":{"v":0,"d":"0.00"}},{"$f":"IF($B24=3,$BM24,0)","v":{"v":0,"d":"0.00"}},{"$f":"IF($B24=4,$BM24,0)","v":{"v":0,"d":"0.00"}},{"$f":"IF($B24=5,$BM24,0)","v":{"v":0,"d":"0.00"}},{"$f":"IF($B24=6,$BM24,0)","v":{"v":0,"d":"0.00"}},{"$f":"IF(BT23>0,IF(H24+P24+X24+AF24+AN24+AV24+BD24+BL24+CB24+CJ24=0,IF(E24>0,BT23,0),0),0)","v":0},{"$f":"G24*BT24","v":{"v":0,"d":"0.00"}},{"$f":"IF($B24=1,$BU24,0)","v":{"v":0,"d":"0.00"}},{"$f":"IF($B24=2,$BU24,0)","v":{"v":0,"d":"0.00"}},{"$f":"IF($B24=3,$BU24,0)","v":{"v":0,"d":"0.00"}},{"$f":"IF($B24=4,$BU24,0)","v":{"v":0,"d":"0.00"}},{"$f":"IF($B24=5,$BU24,0)","v":{"v":0,"d":"0.00"}},{"$f":"IF($B24=6,$BU24,0)","v":{"v":0,"d":"0.00"}},{"$f":"IF(CB23>0,IF(H24+P24+X24+AF24+AN24+AV24+BD24+BL24+BT24+CJ24=0,IF(E24>0,CB23,0),0),0)","v":0},{"$f":"G24*CB24","v":{"v":0,"d":"0.00"}},{"$f":"IF($B24=1,$CC24,0)","v":{"v":0,"d":"0.00"}},{"$f":"IF($B24=2,$CC24,0)","v":{"v":0,"d":"0.00"}},{"$f":"IF($B24=3,$CC24,0)","v":{"v":0,"d":"0.00"}},{"$f":"IF($B24=4,$CC24,0)","v":{"v":0,"d":"0.00"}},{"$f":"IF($B24=5,$CC24,0)","v":{"v":0,"d":"0.00"}},{"$f":"IF($B24=6,$CC24,0)","v":{"v":0,"d":"0.00"}},{"$f":"IF(CJ23>0,IF(H24+P24+X24+AF24+AN24+AV24+BD24+BL24+BT24+CB24=0,IF(E24>0,CJ23,0),0),0)","v":0},{"$f":"G24*CJ24","v":{"v":0,"d":"0.00"}},{"$f":"IF($B24=1,$CK24,0)","v":{"v":0,"d":"0.00"}},{"$f":"IF($B24=2,$CK24,0)","v":{"v":0,"d":"0.00"}},{"$f":"IF($B24=3,$CK24,0)","v":{"v":0,"d":"0.00"}},{"$f":"IF($B24=4,$CK24,0)","v":{"v":0,"d":"0.00"}},{"$f":"IF($B24=5,$CK24,0)","v":{"v":0,"d":"0.00"}},{"$f":"IF($B24=6,$CK24,0)","v":{"v":0,"d":"0.00"}}]
[{"$f":"IF(C24<>C25,C25,\"\")","v":""},{"$f":"IF(C24<>C25,_xlfn.DAYS(C25,C24)+B24,B24)","v":1},{"$f":"IF(D25>0,IF(D25<E24,C24+1,C24),C24)","v":"2009-02-02"},{"$f":"IF((E25+H25+P25+X25+AF25+AN25+AV25+BD25+BL25+BT25+CB25+CJ25)>0,E24,0)","v":"00:00:00"},null,{"$f":"E25-D25","v":"00:00:00"},{"$f":"IF(E25>0,HOUR(F25)+(MINUTE(F25)/60),0)","v":0},{"$f":"IF(H24>0,IF(P25+X25+AF25+AN25+AV25+BD25+BL25+BT25+CB25+CJ25=0,IF(E25>0,H24,0),0),0)","v":0},{"$f":"G25*H25","v":{"v":0,"d":"0.00"}},{"$f":"IF($B25=1,$I25,0)","v":{"v":0,"d":"0.00"}},{"$f":"IF($B25=2,$I25,0)","v":{"v":0,"d":"0.00"}},{"$f":"IF($B25=3,$I25,0)","v":{"v":0,"d":"0.00"}},{"$f":"IF($B25=4,$I25,0)","v":{"v":0,"d":"0.00"}},{"$f":"IF($B25=5,$I25,0)","v":{"v":0,"d":"0.00"}},{"$f":"IF($B25=6,$I25,0)","v":{"v":0,"d":"0.00"}},{"$f":"IF(P24>0,IF(H25+X25+AF25+AN25+AV25+BD25+BL25+BT25+CB25+CJ25=0,IF(E25>0,P24,0),0),0)","v":0},{"$f":"G25*P25","v":{"v":0,"d":"0.00"}},{"$f":"IF(B25=1,Q25,0)","v":{"v":0,"d":"0.00"}},{"$f":"IF(B25=2,Q25,0)","v":{"v":0,"d":"0.00"}},{"$f":"IF(B25=3,Q25,0)","v":{"v":0,"d":"0.00"}},{"$f":"IF(B25=4,Q25,0)","v":{"v":0,"d":"0.00"}},{"$f":"IF(B25=5,Q25,0)","v":{"v":0,"d":"0.00"}},{"$f":"IF(B25=6,Q25,0)","v":{"v":0,"d":"0.00"}},{"$f":"IF(X24>0,IF(H25+P25+AF25+AN25+AV25+BD25+BL25+BT25+CB25+CJ25=0,IF(E25>0,X24,0),0),0)","v":0},{"$f":"G25*X25","v":{"v":0,"d":"0.00"}},{"$f":"IF($B25=1,$Y25,0)","v":{"v":0,"d":"0.00"}},{"$f":"IF($B25=2,$Y25,0)","v":{"v":0,"d":"0.00"}},{"$f":"IF($B25=3,$Y25,0)","v":{"v":0,"d":"0.00"}},{"$f":"IF($B25=4,$Y25,0)","v":{"v":0,"d":"0.00"}},{"$f":"IF($B25=5,$Y25,0)","v":{"v":0,"d":"0.00"}},{"$f":"IF($B25=6,$Y25,0)","v":{"v":0,"d":"0.00"}},{"$f":"IF(AF24>0,IF(H25+P25+X25+AN25+AV25+BD25+BL25+BT25+CB25+CJ25=0,IF(E25>0,AF24,0),0),0)","v":0},{"$f":"G25*AF25","v":{"v":0,"d":"0.00"}},{"$f":"IF($B25=1,$AG25,0)","v":{"v":0,"d":"0.00"}},{"$f":"IF($B25=2,$AG25,0)","v":{"v":0,"d":"0.00"}},{"$f":"IF($B25=3,$AG25,0)","v":{"v":0,"d":"0.00"}},{"$f":"IF($B25=4,$AG25,0)","v":{"v":0,"d":"0.00"}},{"$f":"IF($B25=5,$AG25,0)","v":{"v":0,"d":"0.00"}},{"$f":"IF($B25=6,$AG25,0)","v":{"v":0,"d":"0.00"}},{"$f":"IF(AN24>0,IF(H25+P25+X25+AF25+AV25+BD25+BL25+BT25+CB25+CJ25=0,IF(E25>0,AN24,0),0),0)","v":0},{"$f":"G25*AN25","v":{"v":0,"d":"0.00"}},{"$f":"IF($B25=1,$AO25,0)","v":{"v":0,"d":"0.00"}},{"$f":"IF($B25=2,$AO25,0)","v":{"v":0,"d":"0.00"}},{"$f":"IF($B25=3,$AO25,0)","v":{"v":0,"d":"0.00"}},{"$f":"IF($B25=4,$AO25,0)","v":{"v":0,"d":"0.00"}},{"$f":"IF($B25=5,$AO25,0)","v":{"v":0,"d":"0.00"}},{"$f":"IF($B25=6,$AO25,0)","v":{"v":0,"d":"0.00"}},{"$f":"IF(AV24>0,IF(H25+P25+X25+AF25+AN25+BD25+BL25+BT25+CB25+CJ25=0,IF(E25>0,AV24,0),0),0)","v":0},{"$f":"G25*AV25","v":{"v":0,"d":"0.00"}},{"$f":"IF($B25=1,$AW25,0)","v":{"v":0,"d":"0.00"}},{"$f":"IF($B25=2,$AW25,0)","v":{"v":0,"d":"0.00"}},{"$f":"IF($B25=3,$AW25,0)","v":{"v":0,"d":"0.00"}},{"$f":"IF($B25=4,$AW25,0)","v":{"v":0,"d":"0.00"}},{"$f":"IF($B25=5,$AW25,0)","v":{"v":0,"d":"0.00"}},{"$f":"IF($B25=6,$AW25,0)","v":{"v":0,"d":"0.00"}},{"$f":"IF(BD24>0,IF(H25+P25+X25+AF25+AN25+AV25+BL25+BT25+CB25+CJ25=0,IF(E25>0,BD24,0),0),0)","v":0},{"$f":"G25*BD25","v":{"v":0,"d":"0.00"}},{"$f":"IF($B25=1,$BE25,0)","v":{"v":0,"d":"0.00"}},{"$f":"IF($B25=2,$BE25,0)","v":{"v":0,"d":"0.00"}},{"$f":"IF($B25=3,$BE25,0)","v":{"v":0,"d":"0.00"}},{"$f":"IF($B25=4,$BE25,0)","v":{"v":0,"d":"0.00"}},{"$f":"IF($B25=5,$BE25,0)","v":{"v":0,"d":"0.00"}},{"$f":"IF($B25=6,$BE25,0)","v":{"v":0,"d":"0.00"}},{"$f":"IF(BL24>0,IF(H25+P25+X25+AF25+AN25+AV25+BD25+BT25+CB25+CJ25=0,IF(E25>0,BL24,0),0),0)","v":0},{"$f":"G25*BL25","v":{"v":0,"d":"0.00"}},{"$f":"IF($B25=1,$BM25,0)","v":{"v":0,"d":"0.00"}},{"$f":"IF($B25=2,$BM25,0)","v":{"v":0,"d":"0.00"}},{"$f":"IF($B25=3,$BM25,0)","v":{"v":0,"d":"0.00"}},{"$f":"IF($B25=4,$BM25,0)","v":{"v":0,"d":"0.00"}},{"$f":"IF($B25=5,$BM25,0)","v":{"v":0,"d":"0.00"}},{"$f":"IF($B25=6,$BM25,0)","v":{"v":0,"d":"0.00"}},{"$f":"IF(BT24>0,IF(H25+P25+X25+AF25+AN25+AV25+BD25+BL25+CB25+CJ25=0,IF(E25>0,BT24,0),0),0)","v":0},{"$f":"G25*BT25","v":{"v":0,"d":"0.00"}},{"$f":"IF($B25=1,$BU25,0)","v":{"v":0,"d":"0.00"}},{"$f":"IF($B25=2,$BU25,0)","v":{"v":0,"d":"0.00"}},{"$f":"IF($B25=3,$BU25,0)","v":{"v":0,"d":"0.00"}},{"$f":"IF($B25=4,$BU25,0)","v":{"v":0,"d":"0.00"}},{"$f":"IF($B25=5,$BU25,0)","v":{"v":0,"d":"0.00"}},{"$f":"IF($B25=6,$BU25,0)","v":{"v":0,"d":"0.00"}},{"$f":"IF(CB24>0,IF(H25+P25+X25+AF25+AN25+AV25+BD25+BL25+BT25+CJ25=0,IF(E25>0,CB24,0),0),0)","v":0},{"$f":"G25*CB25","v":{"v":0,"d":"0.00"}},{"$f":"IF($B25=1,$CC25,0)","v":{"v":0,"d":"0.00"}},{"$f":"IF($B25=2,$CC25,0)","v":{"v":0,"d":"0.00"}},{"$f":"IF($B25=3,$CC25,0)","v":{"v":0,"d":"0.00"}},{"$f":"IF($B25=4,$CC25,0)","v":{"v":0,"d":"0.00"}},{"$f":"IF($B25=5,$CC25,0)","v":{"v":0,"d":"0.00"}},{"$f":"IF($B25=6,$CC25,0)","v":{"v":0,"d":"0.00"}},{"$f":"IF(CJ24>0,IF(H25+P25+X25+AF25+AN25+AV25+BD25+BL25+BT25+CB25=0,IF(E25>0,CJ24,0),0),0)","v":0},{"$f":"G25*CJ25","v":{"v":0,"d":"0.00"}},{"$f":"IF($B25=1,$CK25,0)","v":{"v":0,"d":"0.00"}},{"$f":"IF($B25=2,$CK25,0)","v":{"v":0,"d":"0.00"}},{"$f":"IF($B25=3,$CK25,0)","v":{"v":0,"d":"0.00"}},{"$f":"IF($B25=4,$CK25,0)","v":{"v":0,"d":"0.00"}},{"$f":"IF($B25=5,$CK25,0)","v":{"v":0,"d":"0.00"}},{"$f":"IF($B25=6,$CK25,0)","v":{"v":0,"d":"0.00"}}]
[{"$f":"IF(C25<>C26,C26,\"\")","v":""},{"$f":"IF(C25<>C26,_xlfn.DAYS(C26,C25)+B25,B25)","v":1},{"$f":"IF(D26>0,IF(D26<E25,C25+1,C25),C25)","v":"2009-02-02"},{"$f":"IF((E26+H26+P26+X26+AF26+AN26+AV26+BD26+BL26+BT26+CB26+CJ26)>0,E25,0)","v":"00:00:00"},null,{"$f":"E26-D26","v":"00:00:00"},{"$f":"IF(E26>0,HOUR(F26)+(MINUTE(F26)/60),0)","v":0},{"$f":"IF(H25>0,IF(P26+X26+AF26+AN26+AV26+BD26+BL26+BT26+CB26+CJ26=0,IF(E26>0,H25,0),0),0)","v":0},{"$f":"G26*H26","v":{"v":0,"d":"0.00"}},{"$f":"IF($B26=1,$I26,0)","v":{"v":0,"d":"0.00"}},{"$f":"IF($B26=2,$I26,0)","v":{"v":0,"d":"0.00"}},{"$f":"IF($B26=3,$I26,0)","v":{"v":0,"d":"0.00"}},{"$f":"IF($B26=4,$I26,0)","v":{"v":0,"d":"0.00"}},{"$f":"IF($B26=5,$I26,0)","v":{"v":0,"d":"0.00"}},{"$f":"IF($B26=6,$I26,0)","v":{"v":0,"d":"0.00"}},{"$f":"IF(P25>0,IF(H26+X26+AF26+AN26+AV26+BD26+BL26+BT26+CB26+CJ26=0,IF(E26>0,P25,0),0),0)","v":0},{"$f":"G26*P26","v":{"v":0,"d":"0.00"}},{"$f":"IF(B26=1,Q26,0)","v":{"v":0,"d":"0.00"}},{"$f":"IF(B26=2,Q26,0)","v":{"v":0,"d":"0.00"}},{"$f":"IF(B26=3,Q26,0)","v":{"v":0,"d":"0.00"}},{"$f":"IF(B26=4,Q26,0)","v":{"v":0,"d":"0.00"}},{"$f":"IF(B26=5,Q26,0)","v":{"v":0,"d":"0.00"}},{"$f":"IF(B26=6,Q26,0)","v":{"v":0,"d":"0.00"}},{"$f":"IF(X25>0,IF(H26+P26+AF26+AN26+AV26+BD26+BL26+BT26+CB26+CJ26=0,IF(E26>0,X25,0),0),0)","v":0},{"$f":"G26*X26","v":{"v":0,"d":"0.00"}},{"$f":"IF($B26=1,$Y26,0)","v":{"v":0,"d":"0.00"}},{"$f":"IF($B26=2,$Y26,0)","v":{"v":0,"d":"0.00"}},{"$f":"IF($B26=3,$Y26,0)","v":{"v":0,"d":"0.00"}},{"$f":"IF($B26=4,$Y26,0)","v":{"v":0,"d":"0.00"}},{"$f":"IF($B26=5,$Y26,0)","v":{"v":0,"d":"0.00"}},{"$f":"IF($B26=6,$Y26,0)","v":{"v":0,"d":"0.00"}},{"$f":"IF(AF25>0,IF(H26+P26+X26+AN26+AV26+BD26+BL26+BT26+CB26+CJ26=0,IF(E26>0,AF25,0),0),0)","v":0},{"$f":"G26*AF26","v":{"v":0,"d":"0.00"}},{"$f":"IF($B26=1,$AG26,0)","v":{"v":0,"d":"0.00"}},{"$f":"IF($B26=2,$AG26,0)","v":{"v":0,"d":"0.00"}},{"$f":"IF($B26=3,$AG26,0)","v":{"v":0,"d":"0.00"}},{"$f":"IF($B26=4,$AG26,0)","v":{"v":0,"d":"0.00"}},{"$f":"IF($B26=5,$AG26,0)","v":{"v":0,"d":"0.00"}},{"$f":"IF($B26=6,$AG26,0)","v":{"v":0,"d":"0.00"}},{"$f":"IF(AN25>0,IF(H26+P26+X26+AF26+AV26+BD26+BL26+BT26+CB26+CJ26=0,IF(E26>0,AN25,0),0),0)","v":0},{"$f":"G26*AN26","v":{"v":0,"d":"0.00"}},{"$f":"IF($B26=1,$AO26,0)","v":{"v":0,"d":"0.00"}},{"$f":"IF($B26=2,$AO26,0)","v":{"v":0,"d":"0.00"}},{"$f":"IF($B26=3,$AO26,0)","v":{"v":0,"d":"0.00"}},{"$f":"IF($B26=4,$AO26,0)","v":{"v":0,"d":"0.00"}},{"$f":"IF($B26=5,$AO26,0)","v":{"v":0,"d":"0.00"}},{"$f":"IF($B26=6,$AO26,0)","v":{"v":0,"d":"0.00"}},{"$f":"IF(AV25>0,IF(H26+P26+X26+AF26+AN26+BD26+BL26+BT26+CB26+CJ26=0,IF(E26>0,AV25,0),0),0)","v":0},{"$f":"G26*AV26","v":{"v":0,"d":"0.00"}},{"$f":"IF($B26=1,$AW26,0)","v":{"v":0,"d":"0.00"}},{"$f":"IF($B26=2,$AW26,0)","v":{"v":0,"d":"0.00"}},{"$f":"IF($B26=3,$AW26,0)","v":{"v":0,"d":"0.00"}},{"$f":"IF($B26=4,$AW26,0)","v":{"v":0,"d":"0.00"}},{"$f":"IF($B26=5,$AW26,0)","v":{"v":0,"d":"0.00"}},{"$f":"IF($B26=6,$AW26,0)","v":{"v":0,"d":"0.00"}},{"$f":"IF(BD25>0,IF(H26+P26+X26+AF26+AN26+AV26+BL26+BT26+CB26+CJ26=0,IF(E26>0,BD25,0),0),0)","v":0},{"$f":"G26*BD26","v":{"v":0,"d":"0.00"}},{"$f":"IF($B26=1,$BE26,0)","v":{"v":0,"d":"0.00"}},{"$f":"IF($B26=2,$BE26,0)","v":{"v":0,"d":"0.00"}},{"$f":"IF($B26=3,$BE26,0)","v":{"v":0,"d":"0.00"}},{"$f":"IF($B26=4,$BE26,0)","v":{"v":0,"d":"0.00"}},{"$f":"IF($B26=5,$BE26,0)","v":{"v":0,"d":"0.00"}},{"$f":"IF($B26=6,$BE26,0)","v":{"v":0,"d":"0.00"}},{"$f":"IF(BL25>0,IF(H26+P26+X26+AF26+AN26+AV26+BD26+BT26+CB26+CJ26=0,IF(E26>0,BL25,0),0),0)","v":0},{"$f":"G26*BL26","v":{"v":0,"d":"0.00"}},{"$f":"IF($B26=1,$BM26,0)","v":{"v":0,"d":"0.00"}},{"$f":"IF($B26=2,$BM26,0)","v":{"v":0,"d":"0.00"}},{"$f":"IF($B26=3,$BM26,0)","v":{"v":0,"d":"0.00"}},{"$f":"IF($B26=4,$BM26,0)","v":{"v":0,"d":"0.00"}},{"$f":"IF($B26=5,$BM26,0)","v":{"v":0,"d":"0.00"}},{"$f":"IF($B26=6,$BM26,0)","v":{"v":0,"d":"0.00"}},{"$f":"IF(BT25>0,IF(H26+P26+X26+AF26+AN26+AV26+BD26+BL26+CB26+CJ26=0,IF(E26>0,BT25,0),0),0)","v":0},{"$f":"G26*BT26","v":{"v":0,"d":"0.00"}},{"$f":"IF($B26=1,$BU26,0)","v":{"v":0,"d":"0.00"}},{"$f":"IF($B26=2,$BU26,0)","v":{"v":0,"d":"0.00"}},{"$f":"IF($B26=3,$BU26,0)","v":{"v":0,"d":"0.00"}},{"$f":"IF($B26=4,$BU26,0)","v":{"v":0,"d":"0.00"}},{"$f":"IF($B26=5,$BU26,0)","v":{"v":0,"d":"0.00"}},{"$f":"IF($B26=6,$BU26,0)","v":{"v":0,"d":"0.00"}},{"$f":"IF(CB25>0,IF(H26+P26+X26+AF26+AN26+AV26+BD26+BL26+BT26+CJ26=0,IF(E26>0,CB25,0),0),0)","v":0},{"$f":"G26*CB26","v":{"v":0,"d":"0.00"}},{"$f":"IF($B26=1,$CC26,0)","v":{"v":0,"d":"0.00"}},{"$f":"IF($B26=2,$CC26,0)","v":{"v":0,"d":"0.00"}},{"$f":"IF($B26=3,$CC26,0)","v":{"v":0,"d":"0.00"}},{"$f":"IF($B26=4,$CC26,0)","v":{"v":0,"d":"0.00"}},{"$f":"IF($B26=5,$CC26,0)","v":{"v":0,"d":"0.00"}},{"$f":"IF($B26=6,$CC26,0)","v":{"v":0,"d":"0.00"}},{"$f":"IF(CJ25>0,IF(H26+P26+X26+AF26+AN26+AV26+BD26+BL26+BT26+CB26=0,IF(E26>0,CJ25,0),0),0)","v":0},{"$f":"G26*CJ26","v":{"v":0,"d":"0.00"}},{"$f":"IF($B26=1,$CK26,0)","v":{"v":0,"d":"0.00"}},{"$f":"IF($B26=2,$CK26,0)","v":{"v":0,"d":"0.00"}},{"$f":"IF($B26=3,$CK26,0)","v":{"v":0,"d":"0.00"}},{"$f":"IF($B26=4,$CK26,0)","v":{"v":0,"d":"0.00"}},{"$f":"IF($B26=5,$CK26,0)","v":{"v":0,"d":"0.00"}},{"$f":"IF($B26=6,$CK26,0)","v":{"v":0,"d":"0.00"}}]
[{"$f":"IF(C26<>C27,C27,\"\")","v":""},{"$f":"IF(C26<>C27,_xlfn.DAYS(C27,C26)+B26,B26)","v":1},{"$f":"IF(D27>0,IF(D27<E26,C26+1,C26),C26)","v":"2009-02-02"},{"$f":"IF((E27+H27+P27+X27+AF27+AN27+AV27+BD27+BL27+BT27+CB27+CJ27)>0,E26,0)","v":"00:00:00"},null,{"$f":"E27-D27","v":"00:00:00"},{"$f":"IF(E27>0,HOUR(F27)+(MINUTE(F27)/60),0)","v":0},{"$f":"IF(H26>0,IF(P27+X27+AF27+AN27+AV27+BD27+BL27+BT27+CB27+CJ27=0,IF(E27>0,H26,0),0),0)","v":0},{"$f":"G27*H27","v":{"v":0,"d":"0.00"}},{"$f":"IF($B27=1,$I27,0)","v":{"v":0,"d":"0.00"}},{"$f":"IF($B27=2,$I27,0)","v":{"v":0,"d":"0.00"}},{"$f":"IF($B27=3,$I27,0)","v":{"v":0,"d":"0.00"}},{"$f":"IF($B27=4,$I27,0)","v":{"v":0,"d":"0.00"}},{"$f":"IF($B27=5,$I27,0)","v":{"v":0,"d":"0.00"}},{"$f":"IF($B27=6,$I27,0)","v":{"v":0,"d":"0.00"}},{"$f":"IF(P26>0,IF(H27+X27+AF27+AN27+AV27+BD27+BL27+BT27+CB27+CJ27=0,IF(E27>0,P26,0),0),0)","v":0},{"$f":"G27*P27","v":{"v":0,"d":"0.00"}},{"$f":"IF(B27=1,Q27,0)","v":{"v":0,"d":"0.00"}},{"$f":"IF(B27=2,Q27,0)","v":{"v":0,"d":"0.00"}},{"$f":"IF(B27=3,Q27,0)","v":{"v":0,"d":"0.00"}},{"$f":"IF(B27=4,Q27,0)","v":{"v":0,"d":"0.00"}},{"$f":"IF(B27=5,Q27,0)","v":{"v":0,"d":"0.00"}},{"$f":"IF(B27=6,Q27,0)","v":{"v":0,"d":"0.00"}},{"$f":"IF(X26>0,IF(H27+P27+AF27+AN27+AV27+BD27+BL27+BT27+CB27+CJ27=0,IF(E27>0,X26,0),0),0)","v":0},{"$f":"G27*X27","v":{"v":0,"d":"0.00"}},{"$f":"IF($B27=1,$Y27,0)","v":{"v":0,"d":"0.00"}},{"$f":"IF($B27=2,$Y27,0)","v":{"v":0,"d":"0.00"}},{"$f":"IF($B27=3,$Y27,0)","v":{"v":0,"d":"0.00"}},{"$f":"IF($B27=4,$Y27,0)","v":{"v":0,"d":"0.00"}},{"$f":"IF($B27=5,$Y27,0)","v":{"v":0,"d":"0.00"}},{"$f":"IF($B27=6,$Y27,0)","v":{"v":0,"d":"0.00"}},{"$f":"IF(AF26>0,IF(H27+P27+X27+AN27+AV27+BD27+BL27+BT27+CB27+CJ27=0,IF(E27>0,AF26,0),0),0)","v":0},{"$f":"G27*AF27","v":{"v":0,"d":"0.00"}},{"$f":"IF($B27=1,$AG27,0)","v":{"v":0,"d":"0.00"}},{"$f":"IF($B27=2,$AG27,0)","v":{"v":0,"d":"0.00"}},{"$f":"IF($B27=3,$AG27,0)","v":{"v":0,"d":"0.00"}},{"$f":"IF($B27=4,$AG27,0)","v":{"v":0,"d":"0.00"}},{"$f":"IF($B27=5,$AG27,0)","v":{"v":0,"d":"0.00"}},{"$f":"IF($B27=6,$AG27,0)","v":{"v":0,"d":"0.00"}},{"$f":"IF(AN26>0,IF(H27+P27+X27+AF27+AV27+BD27+BL27+BT27+CB27+CJ27=0,IF(E27>0,AN26,0),0),0)","v":0},{"$f":"G27*AN27","v":{"v":0,"d":"0.00"}},{"$f":"IF($B27=1,$AO27,0)","v":{"v":0,"d":"0.00"}},{"$f":"IF($B27=2,$AO27,0)","v":{"v":0,"d":"0.00"}},{"$f":"IF($B27=3,$AO27,0)","v":{"v":0,"d":"0.00"}},{"$f":"IF($B27=4,$AO27,0)","v":{"v":0,"d":"0.00"}},{"$f":"IF($B27=5,$AO27,0)","v":{"v":0,"d":"0.00"}},{"$f":"IF($B27=6,$AO27,0)","v":{"v":0,"d":"0.00"}},{"$f":"IF(AV26>0,IF(H27+P27+X27+AF27+AN27+BD27+BL27+BT27+CB27+CJ27=0,IF(E27>0,AV26,0),0),0)","v":0},{"$f":"G27*AV27","v":{"v":0,"d":"0.00"}},{"$f":"IF($B27=1,$AW27,0)","v":{"v":0,"d":"0.00"}},{"$f":"IF($B27=2,$AW27,0)","v":{"v":0,"d":"0.00"}},{"$f":"IF($B27=3,$AW27,0)","v":{"v":0,"d":"0.00"}},{"$f":"IF($B27=4,$AW27,0)","v":{"v":0,"d":"0.00"}},{"$f":"IF($B27=5,$AW27,0)","v":{"v":0,"d":"0.00"}},{"$f":"IF($B27=6,$AW27,0)","v":{"v":0,"d":"0.00"}},{"$f":"IF(BD26>0,IF(H27+P27+X27+AF27+AN27+AV27+BL27+BT27+CB27+CJ27=0,IF(E27>0,BD26,0),0),0)","v":0},{"$f":"G27*BD27","v":{"v":0,"d":"0.00"}},{"$f":"IF($B27=1,$BE27,0)","v":{"v":0,"d":"0.00"}},{"$f":"IF($B27=2,$BE27,0)","v":{"v":0,"d":"0.00"}},{"$f":"IF($B27=3,$BE27,0)","v":{"v":0,"d":"0.00"}},{"$f":"IF($B27=4,$BE27,0)","v":{"v":0,"d":"0.00"}},{"$f":"IF($B27=5,$BE27,0)","v":{"v":0,"d":"0.00"}},{"$f":"IF($B27=6,$BE27,0)","v":{"v":0,"d":"0.00"}},{"$f":"IF(BL26>0,IF(H27+P27+X27+AF27+AN27+AV27+BD27+BT27+CB27+CJ27=0,IF(E27>0,BL26,0),0),0)","v":0},{"$f":"G27*BL27","v":{"v":0,"d":"0.00"}},{"$f":"IF($B27=1,$BM27,0)","v":{"v":0,"d":"0.00"}},{"$f":"IF($B27=2,$BM27,0)","v":{"v":0,"d":"0.00"}},{"$f":"IF($B27=3,$BM27,0)","v":{"v":0,"d":"0.00"}},{"$f":"IF($B27=4,$BM27,0)","v":{"v":0,"d":"0.00"}},{"$f":"IF($B27=5,$BM27,0)","v":{"v":0,"d":"0.00"}},{"$f":"IF($B27=6,$BM27,0)","v":{"v":0,"d":"0.00"}},{"$f":"IF(BT26>0,IF(H27+P27+X27+AF27+AN27+AV27+BD27+BL27+CB27+CJ27=0,IF(E27>0,BT26,0),0),0)","v":0},{"$f":"G27*BT27","v":{"v":0,"d":"0.00"}},{"$f":"IF($B27=1,$BU27,0)","v":{"v":0,"d":"0.00"}},{"$f":"IF($B27=2,$BU27,0)","v":{"v":0,"d":"0.00"}},{"$f":"IF($B27=3,$BU27,0)","v":{"v":0,"d":"0.00"}},{"$f":"IF($B27=4,$BU27,0)","v":{"v":0,"d":"0.00"}},{"$f":"IF($B27=5,$BU27,0)","v":{"v":0,"d":"0.00"}},{"$f":"IF($B27=6,$BU27,0)","v":{"v":0,"d":"0.00"}},{"$f":"IF(CB26>0,IF(H27+P27+X27+AF27+AN27+AV27+BD27+BL27+BT27+CJ27=0,IF(E27>0,CB26,0),0),0)","v":0},{"$f":"G27*CB27","v":{"v":0,"d":"0.00"}},{"$f":"IF($B27=1,$CC27,0)","v":{"v":0,"d":"0.00"}},{"$f":"IF($B27=2,$CC27,0)","v":{"v":0,"d":"0.00"}},{"$f":"IF($B27=3,$CC27,0)","v":{"v":0,"d":"0.00"}},{"$f":"IF($B27=4,$CC27,0)","v":{"v":0,"d":"0.00"}},{"$f":"IF($B27=5,$CC27,0)","v":{"v":0,"d":"0.00"}},{"$f":"IF($B27=6,$CC27,0)","v":{"v":0,"d":"0.00"}},{"$f":"IF(CJ26>0,IF(H27+P27+X27+AF27+AN27+AV27+BD27+BL27+BT27+CB27=0,IF(E27>0,CJ26,0),0),0)","v":0},{"$f":"G27*CJ27","v":{"v":0,"d":"0.00"}},{"$f":"IF($B27=1,$CK27,0)","v":{"v":0,"d":"0.00"}},{"$f":"IF($B27=2,$CK27,0)","v":{"v":0,"d":"0.00"}},{"$f":"IF($B27=3,$CK27,0)","v":{"v":0,"d":"0.00"}},{"$f":"IF($B27=4,$CK27,0)","v":{"v":0,"d":"0.00"}},{"$f":"IF($B27=5,$CK27,0)","v":{"v":0,"d":"0.00"}},{"$f":"IF($B27=6,$CK27,0)","v":{"v":0,"d":"0.00"}}]
[{"$f":"IF(C27<>C28,C28,\"\")","v":""},{"$f":"IF(C27<>C28,_xlfn.DAYS(C28,C27)+B27,B27)","v":1},{"$f":"IF(D28>0,IF(D28<E27,C27+1,C27),C27)","v":"2009-02-02"},{"$f":"IF((E28+H28+P28+X28+AF28+AN28+AV28+BD28+BL28+BT28+CB28+CJ28)>0,E27,0)","v":"00:00:00"},null,{"$f":"E28-D28","v":"00:00:00"},{"$f":"IF(E28>0,HOUR(F28)+(MINUTE(F28)/60),0)","v":0},{"$f":"IF(H27>0,IF(P28+X28+AF28+AN28+AV28+BD28+BL28+BT28+CB28+CJ28=0,IF(E28>0,H27,0),0),0)","v":0},{"$f":"G28*H28","v":{"v":0,"d":"0.00"}},{"$f":"IF($B28=1,$I28,0)","v":{"v":0,"d":"0.00"}},{"$f":"IF($B28=2,$I28,0)","v":{"v":0,"d":"0.00"}},{"$f":"IF($B28=3,$I28,0)","v":{"v":0,"d":"0.00"}},{"$f":"IF($B28=4,$I28,0)","v":{"v":0,"d":"0.00"}},{"$f":"IF($B28=5,$I28,0)","v":{"v":0,"d":"0.00"}},{"$f":"IF($B28=6,$I28,0)","v":{"v":0,"d":"0.00"}},{"$f":"IF(P27>0,IF(H28+X28+AF28+AN28+AV28+BD28+BL28+BT28+CB28+CJ28=0,IF(E28>0,P27,0),0),0)","v":0},{"$f":"G28*P28","v":{"v":0,"d":"0.00"}},{"$f":"IF(B28=1,Q28,0)","v":{"v":0,"d":"0.00"}},{"$f":"IF(B28=2,Q28,0)","v":{"v":0,"d":"0.00"}},{"$f":"IF(B28=3,Q28,0)","v":{"v":0,"d":"0.00"}},{"$f":"IF(B28=4,Q28,0)","v":{"v":0,"d":"0.00"}},{"$f":"IF(B28=5,Q28,0)","v":{"v":0,"d":"0.00"}},{"$f":"IF(B28=6,Q28,0)","v":{"v":0,"d":"0.00"}},{"$f":"IF(X27>0,IF(H28+P28+AF28+AN28+AV28+BD28+BL28+BT28+CB28+CJ28=0,IF(E28>0,X27,0),0),0)","v":0},{"$f":"G28*X28","v":{"v":0,"d":"0.00"}},{"$f":"IF($B28=1,$Y28,0)","v":{"v":0,"d":"0.00"}},{"$f":"IF($B28=2,$Y28,0)","v":{"v":0,"d":"0.00"}},{"$f":"IF($B28=3,$Y28,0)","v":{"v":0,"d":"0.00"}},{"$f":"IF($B28=4,$Y28,0)","v":{"v":0,"d":"0.00"}},{"$f":"IF($B28=5,$Y28,0)","v":{"v":0,"d":"0.00"}},{"$f":"IF($B28=6,$Y28,0)","v":{"v":0,"d":"0.00"}},{"$f":"IF(AF27>0,IF(H28+P28+X28+AN28+AV28+BD28+BL28+BT28+CB28+CJ28=0,IF(E28>0,AF27,0),0),0)","v":0},{"$f":"G28*AF28","v":{"v":0,"d":"0.00"}},{"$f":"IF($B28=1,$AG28,0)","v":{"v":0,"d":"0.00"}},{"$f":"IF($B28=2,$AG28,0)","v":{"v":0,"d":"0.00"}},{"$f":"IF($B28=3,$AG28,0)","v":{"v":0,"d":"0.00"}},{"$f":"IF($B28=4,$AG28,0)","v":{"v":0,"d":"0.00"}},{"$f":"IF($B28=5,$AG28,0)","v":{"v":0,"d":"0.00"}},{"$f":"IF($B28=6,$AG28,0)","v":{"v":0,"d":"0.00"}},{"$f":"IF(AN27>0,IF(H28+P28+X28+AF28+AV28+BD28+BL28+BT28+CB28+CJ28=0,IF(E28>0,AN27,0),0),0)","v":0},{"$f":"G28*AN28","v":{"v":0,"d":"0.00"}},{"$f":"IF($B28=1,$AO28,0)","v":{"v":0,"d":"0.00"}},{"$f":"IF($B28=2,$AO28,0)","v":{"v":0,"d":"0.00"}},{"$f":"IF($B28=3,$AO28,0)","v":{"v":0,"d":"0.00"}},{"$f":"IF($B28=4,$AO28,0)","v":{"v":0,"d":"0.00"}},{"$f":"IF($B28=5,$AO28,0)","v":{"v":0,"d":"0.00"}},{"$f":"IF($B28=6,$AO28,0)","v":{"v":0,"d":"0.00"}},{"$f":"IF(AV27>0,IF(H28+P28+X28+AF28+AN28+BD28+BL28+BT28+CB28+CJ28=0,IF(E28>0,AV27,0),0),0)","v":0},{"$f":"G28*AV28","v":{"v":0,"d":"0.00"}},{"$f":"IF($B28=1,$AW28,0)","v":{"v":0,"d":"0.00"}},{"$f":"IF($B28=2,$AW28,0)","v":{"v":0,"d":"0.00"}},{"$f":"IF($B28=3,$AW28,0)","v":{"v":0,"d":"0.00"}},{"$f":"IF($B28=4,$AW28,0)","v":{"v":0,"d":"0.00"}},{"$f":"IF($B28=5,$AW28,0)","v":{"v":0,"d":"0.00"}},{"$f":"IF($B28=6,$AW28,0)","v":{"v":0,"d":"0.00"}},{"$f":"IF(BD27>0,IF(H28+P28+X28+AF28+AN28+AV28+BL28+BT28+CB28+CJ28=0,IF(E28>0,BD27,0),0),0)","v":0},{"$f":"G28*BD28","v":{"v":0,"d":"0.00"}},{"$f":"IF($B28=1,$BE28,0)","v":{"v":0,"d":"0.00"}},{"$f":"IF($B28=2,$BE28,0)","v":{"v":0,"d":"0.00"}},{"$f":"IF($B28=3,$BE28,0)","v":{"v":0,"d":"0.00"}},{"$f":"IF($B28=4,$BE28,0)","v":{"v":0,"d":"0.00"}},{"$f":"IF($B28=5,$BE28,0)","v":{"v":0,"d":"0.00"}},{"$f":"IF($B28=6,$BE28,0)","v":{"v":0,"d":"0.00"}},{"$f":"IF(BL27>0,IF(H28+P28+X28+AF28+AN28+AV28+BD28+BT28+CB28+CJ28=0,IF(E28>0,BL27,0),0),0)","v":0},{"$f":"G28*BL28","v":{"v":0,"d":"0.00"}},{"$f":"IF($B28=1,$BM28,0)","v":{"v":0,"d":"0.00"}},{"$f":"IF($B28=2,$BM28,0)","v":{"v":0,"d":"0.00"}},{"$f":"IF($B28=3,$BM28,0)","v":{"v":0,"d":"0.00"}},{"$f":"IF($B28=4,$BM28,0)","v":{"v":0,"d":"0.00"}},{"$f":"IF($B28=5,$BM28,0)","v":{"v":0,"d":"0.00"}},{"$f":"IF($B28=6,$BM28,0)","v":{"v":0,"d":"0.00"}},{"$f":"IF(BT27>0,IF(H28+P28+X28+AF28+AN28+AV28+BD28+BL28+CB28+CJ28=0,IF(E28>0,BT27,0),0),0)","v":0},{"$f":"G28*BT28","v":{"v":0,"d":"0.00"}},{"$f":"IF($B28=1,$BU28,0)","v":{"v":0,"d":"0.00"}},{"$f":"IF($B28=2,$BU28,0)","v":{"v":0,"d":"0.00"}},{"$f":"IF($B28=3,$BU28,0)","v":{"v":0,"d":"0.00"}},{"$f":"IF($B28=4,$BU28,0)","v":{"v":0,"d":"0.00"}},{"$f":"IF($B28=5,$BU28,0)","v":{"v":0,"d":"0.00"}},{"$f":"IF($B28=6,$BU28,0)","v":{"v":0,"d":"0.00"}},{"$f":"IF(CB27>0,IF(H28+P28+X28+AF28+AN28+AV28+BD28+BL28+BT28+CJ28=0,IF(E28>0,CB27,0),0),0)","v":0},{"$f":"G28*CB28","v":{"v":0,"d":"0.00"}},{"$f":"IF($B28=1,$CC28,0)","v":{"v":0,"d":"0.00"}},{"$f":"IF($B28=2,$CC28,0)","v":{"v":0,"d":"0.00"}},{"$f":"IF($B28=3,$CC28,0)","v":{"v":0,"d":"0.00"}},{"$f":"IF($B28=4,$CC28,0)","v":{"v":0,"d":"0.00"}},{"$f":"IF($B28=5,$CC28,0)","v":{"v":0,"d":"0.00"}},{"$f":"IF($B28=6,$CC28,0)","v":{"v":0,"d":"0.00"}},{"$f":"IF(CJ27>0,IF(H28+P28+X28+AF28+AN28+AV28+BD28+BL28+BT28+CB28=0,IF(E28>0,CJ27,0),0),0)","v":0},{"$f":"G28*CJ28","v":{"v":0,"d":"0.00"}},{"$f":"IF($B28=1,$CK28,0)","v":{"v":0,"d":"0.00"}},{"$f":"IF($B28=2,$CK28,0)","v":{"v":0,"d":"0.00"}},{"$f":"IF($B28=3,$CK28,0)","v":{"v":0,"d":"0.00"}},{"$f":"IF($B28=4,$CK28,0)","v":{"v":0,"d":"0.00"}},{"$f":"IF($B28=5,$CK28,0)","v":{"v":0,"d":"0.00"}},{"$f":"IF($B28=6,$CK28,0)","v":{"v":0,"d":"0.00"}}]
[{"$f":"IF(C28<>C29,C29,\"\")","v":""},{"$f":"IF(C28<>C29,_xlfn.DAYS(C29,C28)+B28,B28)","v":1},{"$f":"IF(D29>0,IF(D29<E28,C28+1,C28),C28)","v":"2009-02-02"},{"$f":"IF((E29+H29+P29+X29+AF29+AN29+AV29+BD29+BL29+BT29+CB29+CJ29)>0,E28,0)","v":"00:00:00"},null,{"$f":"E29-D29","v":"00:00:00"},{"$f":"IF(E29>0,HOUR(F29)+(MINUTE(F29)/60),0)","v":0},{"$f":"IF(H28>0,IF(P29+X29+AF29+AN29+AV29+BD29+BL29+BT29+CB29+CJ29=0,IF(E29>0,H28,0),0),0)","v":0},{"$f":"G29*H29","v":{"v":0,"d":"0.00"}},{"$f":"IF($B29=1,$I29,0)","v":{"v":0,"d":"0.00"}},{"$f":"IF($B29=2,$I29,0)","v":{"v":0,"d":"0.00"}},{"$f":"IF($B29=3,$I29,0)","v":{"v":0,"d":"0.00"}},{"$f":"IF($B29=4,$I29,0)","v":{"v":0,"d":"0.00"}},{"$f":"IF($B29=5,$I29,0)","v":{"v":0,"d":"0.00"}},{"$f":"IF($B29=6,$I29,0)","v":{"v":0,"d":"0.00"}},{"$f":"IF(P28>0,IF(H29+X29+AF29+AN29+AV29+BD29+BL29+BT29+CB29+CJ29=0,IF(E29>0,P28,0),0),0)","v":0},{"$f":"G29*P29","v":{"v":0,"d":"0.00"}},{"$f":"IF(B29=1,Q29,0)","v":{"v":0,"d":"0.00"}},{"$f":"IF(B29=2,Q29,0)","v":{"v":0,"d":"0.00"}},{"$f":"IF(B29=3,Q29,0)","v":{"v":0,"d":"0.00"}},{"$f":"IF(B29=4,Q29,0)","v":{"v":0,"d":"0.00"}},{"$f":"IF(B29=5,Q29,0)","v":{"v":0,"d":"0.00"}},{"$f":"IF(B29=6,Q29,0)","v":{"v":0,"d":"0.00"}},{"$f":"IF(X28>0,IF(H29+P29+AF29+AN29+AV29+BD29+BL29+BT29+CB29+CJ29=0,IF(E29>0,X28,0),0),0)","v":0},{"$f":"G29*X29","v":{"v":0,"d":"0.00"}},{"$f":"IF($B29=1,$Y29,0)","v":{"v":0,"d":"0.00"}},{"$f":"IF($B29=2,$Y29,0)","v":{"v":0,"d":"0.00"}},{"$f":"IF($B29=3,$Y29,0)","v":{"v":0,"d":"0.00"}},{"$f":"IF($B29=4,$Y29,0)","v":{"v":0,"d":"0.00"}},{"$f":"IF($B29=5,$Y29,0)","v":{"v":0,"d":"0.00"}},{"$f":"IF($B29=6,$Y29,0)","v":{"v":0,"d":"0.00"}},{"$f":"IF(AF28>0,IF(H29+P29+X29+AN29+AV29+BD29+BL29+BT29+CB29+CJ29=0,IF(E29>0,AF28,0),0),0)","v":0},{"$f":"G29*AF29","v":{"v":0,"d":"0.00"}},{"$f":"IF($B29=1,$AG29,0)","v":{"v":0,"d":"0.00"}},{"$f":"IF($B29=2,$AG29,0)","v":{"v":0,"d":"0.00"}},{"$f":"IF($B29=3,$AG29,0)","v":{"v":0,"d":"0.00"}},{"$f":"IF($B29=4,$AG29,0)","v":{"v":0,"d":"0.00"}},{"$f":"IF($B29=5,$AG29,0)","v":{"v":0,"d":"0.00"}},{"$f":"IF($B29=6,$AG29,0)","v":{"v":0,"d":"0.00"}},{"$f":"IF(AN28>0,IF(H29+P29+X29+AF29+AV29+BD29+BL29+BT29+CB29+CJ29=0,IF(E29>0,AN28,0),0),0)","v":0},{"$f":"G29*AN29","v":{"v":0,"d":"0.00"}},{"$f":"IF($B29=1,$AO29,0)","v":{"v":0,"d":"0.00"}},{"$f":"IF($B29=2,$AO29,0)","v":{"v":0,"d":"0.00"}},{"$f":"IF($B29=3,$AO29,0)","v":{"v":0,"d":"0.00"}},{"$f":"IF($B29=4,$AO29,0)","v":{"v":0,"d":"0.00"}},{"$f":"IF($B29=5,$AO29,0)","v":{"v":0,"d":"0.00"}},{"$f":"IF($B29=6,$AO29,0)","v":{"v":0,"d":"0.00"}},{"$f":"IF(AV28>0,IF(H29+P29+X29+AF29+AN29+BD29+BL29+BT29+CB29+CJ29=0,IF(E29>0,AV28,0),0),0)","v":0},{"$f":"G29*AV29","v":{"v":0,"d":"0.00"}},{"$f":"IF($B29=1,$AW29,0)","v":{"v":0,"d":"0.00"}},{"$f":"IF($B29=2,$AW29,0)","v":{"v":0,"d":"0.00"}},{"$f":"IF($B29=3,$AW29,0)","v":{"v":0,"d":"0.00"}},{"$f":"IF($B29=4,$AW29,0)","v":{"v":0,"d":"0.00"}},{"$f":"IF($B29=5,$AW29,0)","v":{"v":0,"d":"0.00"}},{"$f":"IF($B29=6,$AW29,0)","v":{"v":0,"d":"0.00"}},{"$f":"IF(BD28>0,IF(H29+P29+X29+AF29+AN29+AV29+BL29+BT29+CB29+CJ29=0,IF(E29>0,BD28,0),0),0)","v":0},{"$f":"G29*BD29","v":{"v":0,"d":"0.00"}},{"$f":"IF($B29=1,$BE29,0)","v":{"v":0,"d":"0.00"}},{"$f":"IF($B29=2,$BE29,0)","v":{"v":0,"d":"0.00"}},{"$f":"IF($B29=3,$BE29,0)","v":{"v":0,"d":"0.00"}},{"$f":"IF($B29=4,$BE29,0)","v":{"v":0,"d":"0.00"}},{"$f":"IF($B29=5,$BE29,0)","v":{"v":0,"d":"0.00"}},{"$f":"IF($B29=6,$BE29,0)","v":{"v":0,"d":"0.00"}},{"$f":"IF(BL28>0,IF(H29+P29+X29+AF29+AN29+AV29+BD29+BT29+CB29+CJ29=0,IF(E29>0,BL28,0),0),0)","v":0},{"$f":"G29*BL29","v":{"v":0,"d":"0.00"}},{"$f":"IF($B29=1,$BM29,0)","v":{"v":0,"d":"0.00"}},{"$f":"IF($B29=2,$BM29,0)","v":{"v":0,"d":"0.00"}},{"$f":"IF($B29=3,$BM29,0)","v":{"v":0,"d":"0.00"}},{"$f":"IF($B29=4,$BM29,0)","v":{"v":0,"d":"0.00"}},{"$f":"IF($B29=5,$BM29,0)","v":{"v":0,"d":"0.00"}},{"$f":"IF($B29=6,$BM29,0)","v":{"v":0,"d":"0.00"}},{"$f":"IF(BT28>0,IF(H29+P29+X29+AF29+AN29+AV29+BD29+BL29+CB29+CJ29=0,IF(E29>0,BT28,0),0),0)","v":0},{"$f":"G29*BT29","v":{"v":0,"d":"0.00"}},{"$f":"IF($B29=1,$BU29,0)","v":{"v":0,"d":"0.00"}},{"$f":"IF($B29=2,$BU29,0)","v":{"v":0,"d":"0.00"}},{"$f":"IF($B29=3,$BU29,0)","v":{"v":0,"d":"0.00"}},{"$f":"IF($B29=4,$BU29,0)","v":{"v":0,"d":"0.00"}},{"$f":"IF($B29=5,$BU29,0)","v":{"v":0,"d":"0.00"}},{"$f":"IF($B29=6,$BU29,0)","v":{"v":0,"d":"0.00"}},{"$f":"IF(CB28>0,IF(H29+P29+X29+AF29+AN29+AV29+BD29+BL29+BT29+CJ29=0,IF(E29>0,CB28,0),0),0)","v":0},{"$f":"G29*CB29","v":{"v":0,"d":"0.00"}},{"$f":"IF($B29=1,$CC29,0)","v":{"v":0,"d":"0.00"}},{"$f":"IF($B29=2,$CC29,0)","v":{"v":0,"d":"0.00"}},{"$f":"IF($B29=3,$CC29,0)","v":{"v":0,"d":"0.00"}},{"$f":"IF($B29=4,$CC29,0)","v":{"v":0,"d":"0.00"}},{"$f":"IF($B29=5,$CC29,0)","v":{"v":0,"d":"0.00"}},{"$f":"IF($B29=6,$CC29,0)","v":{"v":0,"d":"0.00"}},{"$f":"IF(CJ28>0,IF(H29+P29+X29+AF29+AN29+AV29+BD29+BL29+BT29+CB29=0,IF(E29>0,CJ28,0),0),0)","v":0},{"$f":"G29*CJ29","v":{"v":0,"d":"0.00"}},{"$f":"IF($B29=1,$CK29,0)","v":{"v":0,"d":"0.00"}},{"$f":"IF($B29=2,$CK29,0)","v":{"v":0,"d":"0.00"}},{"$f":"IF($B29=3,$CK29,0)","v":{"v":0,"d":"0.00"}},{"$f":"IF($B29=4,$CK29,0)","v":{"v":0,"d":"0.00"}},{"$f":"IF($B29=5,$CK29,0)","v":{"v":0,"d":"0.00"}},{"$f":"IF($B29=6,$CK29,0)","v":{"v":0,"d":"0.00"}}]
[{"$f":"IF(C29<>C30,C30,\"\")","v":""},{"$f":"IF(C29<>C30,_xlfn.DAYS(C30,C29)+B29,B29)","v":1},{"$f":"IF(D30>0,IF(D30<E29,C29+1,C29),C29)","v":"2009-02-02"},{"$f":"IF((E30+H30+P30+X30+AF30+AN30+AV30+BD30+BL30+BT30+CB30+CJ30)>0,E29,0)","v":"00:00:00"},null,{"$f":"E30-D30","v":"00:00:00"},{"$f":"IF(E30>0,HOUR(F30)+(MINUTE(F30)/60),0)","v":0},{"$f":"IF(H29>0,IF(P30+X30+AF30+AN30+AV30+BD30+BL30+BT30+CB30+CJ30=0,IF(E30>0,H29,0),0),0)","v":0},{"$f":"G30*H30","v":{"v":0,"d":"0.00"}},{"$f":"IF($B30=1,$I30,0)","v":{"v":0,"d":"0.00"}},{"$f":"IF($B30=2,$I30,0)","v":{"v":0,"d":"0.00"}},{"$f":"IF($B30=3,$I30,0)","v":{"v":0,"d":"0.00"}},{"$f":"IF($B30=4,$I30,0)","v":{"v":0,"d":"0.00"}},{"$f":"IF($B30=5,$I30,0)","v":{"v":0,"d":"0.00"}},{"$f":"IF($B30=6,$I30,0)","v":{"v":0,"d":"0.00"}},{"$f":"IF(P29>0,IF(H30+X30+AF30+AN30+AV30+BD30+BL30+BT30+CB30+CJ30=0,IF(E30>0,P29,0),0),0)","v":0},{"$f":"G30*P30","v":{"v":0,"d":"0.00"}},{"$f":"IF(B30=1,Q30,0)","v":{"v":0,"d":"0.00"}},{"$f":"IF(B30=2,Q30,0)","v":{"v":0,"d":"0.00"}},{"$f":"IF(B30=3,Q30,0)","v":{"v":0,"d":"0.00"}},{"$f":"IF(B30=4,Q30,0)","v":{"v":0,"d":"0.00"}},{"$f":"IF(B30=5,Q30,0)","v":{"v":0,"d":"0.00"}},{"$f":"IF(B30=6,Q30,0)","v":{"v":0,"d":"0.00"}},{"$f":"IF(X29>0,IF(H30+P30+AF30+AN30+AV30+BD30+BL30+BT30+CB30+CJ30=0,IF(E30>0,X29,0),0),0)","v":0},{"$f":"G30*X30","v":{"v":0,"d":"0.00"}},{"$f":"IF($B30=1,$Y30,0)","v":{"v":0,"d":"0.00"}},{"$f":"IF($B30=2,$Y30,0)","v":{"v":0,"d":"0.00"}},{"$f":"IF($B30=3,$Y30,0)","v":{"v":0,"d":"0.00"}},{"$f":"IF($B30=4,$Y30,0)","v":{"v":0,"d":"0.00"}},{"$f":"IF($B30=5,$Y30,0)","v":{"v":0,"d":"0.00"}},{"$f":"IF($B30=6,$Y30,0)","v":{"v":0,"d":"0.00"}},{"$f":"IF(AF29>0,IF(H30+P30+X30+AN30+AV30+BD30+BL30+BT30+CB30+CJ30=0,IF(E30>0,AF29,0),0),0)","v":0},{"$f":"G30*AF30","v":{"v":0,"d":"0.00"}},{"$f":"IF($B30=1,$AG30,0)","v":{"v":0,"d":"0.00"}},{"$f":"IF($B30=2,$AG30,0)","v":{"v":0,"d":"0.00"}},{"$f":"IF($B30=3,$AG30,0)","v":{"v":0,"d":"0.00"}},{"$f":"IF($B30=4,$AG30,0)","v":{"v":0,"d":"0.00"}},{"$f":"IF($B30=5,$AG30,0)","v":{"v":0,"d":"0.00"}},{"$f":"IF($B30=6,$AG30,0)","v":{"v":0,"d":"0.00"}},{"$f":"IF(AN29>0,IF(H30+P30+X30+AF30+AV30+BD30+BL30+BT30+CB30+CJ30=0,IF(E30>0,AN29,0),0),0)","v":0},{"$f":"G30*AN30","v":{"v":0,"d":"0.00"}},{"$f":"IF($B30=1,$AO30,0)","v":{"v":0,"d":"0.00"}},{"$f":"IF($B30=2,$AO30,0)","v":{"v":0,"d":"0.00"}},{"$f":"IF($B30=3,$AO30,0)","v":{"v":0,"d":"0.00"}},{"$f":"IF($B30=4,$AO30,0)","v":{"v":0,"d":"0.00"}},{"$f":"IF($B30=5,$AO30,0)","v":{"v":0,"d":"0.00"}},{"$f":"IF($B30=6,$AO30,0)","v":{"v":0,"d":"0.00"}},{"$f":"IF(AV29>0,IF(H30+P30+X30+AF30+AN30+BD30+BL30+BT30+CB30+CJ30=0,IF(E30>0,AV29,0),0),0)","v":0},{"$f":"G30*AV30","v":{"v":0,"d":"0.00"}},{"$f":"IF($B30=1,$AW30,0)","v":{"v":0,"d":"0.00"}},{"$f":"IF($B30=2,$AW30,0)","v":{"v":0,"d":"0.00"}},{"$f":"IF($B30=3,$AW30,0)","v":{"v":0,"d":"0.00"}},{"$f":"IF($B30=4,$AW30,0)","v":{"v":0,"d":"0.00"}},{"$f":"IF($B30=5,$AW30,0)","v":{"v":0,"d":"0.00"}},{"$f":"IF($B30=6,$AW30,0)","v":{"v":0,"d":"0.00"}},{"$f":"IF(BD29>0,IF(H30+P30+X30+AF30+AN30+AV30+BL30+BT30+CB30+CJ30=0,IF(E30>0,BD29,0),0),0)","v":0},{"$f":"G30*BD30","v":{"v":0,"d":"0.00"}},{"$f":"IF($B30=1,$BE30,0)","v":{"v":0,"d":"0.00"}},{"$f":"IF($B30=2,$BE30,0)","v":{"v":0,"d":"0.00"}},{"$f":"IF($B30=3,$BE30,0)","v":{"v":0,"d":"0.00"}},{"$f":"IF($B30=4,$BE30,0)","v":{"v":0,"d":"0.00"}},{"$f":"IF($B30=5,$BE30,0)","v":{"v":0,"d":"0.00"}},{"$f":"IF($B30=6,$BE30,0)","v":{"v":0,"d":"0.00"}},{"$f":"IF(BL29>0,IF(H30+P30+X30+AF30+AN30+AV30+BD30+BT30+CB30+CJ30=0,IF(E30>0,BL29,0),0),0)","v":0},{"$f":"G30*BL30","v":{"v":0,"d":"0.00"}},{"$f":"IF($B30=1,$BM30,0)","v":{"v":0,"d":"0.00"}},{"$f":"IF($B30=2,$BM30,0)","v":{"v":0,"d":"0.00"}},{"$f":"IF($B30=3,$BM30,0)","v":{"v":0,"d":"0.00"}},{"$f":"IF($B30=4,$BM30,0)","v":{"v":0,"d":"0.00"}},{"$f":"IF($B30=5,$BM30,0)","v":{"v":0,"d":"0.00"}},{"$f":"IF($B30=6,$BM30,0)","v":{"v":0,"d":"0.00"}},{"$f":"IF(BT29>0,IF(H30+P30+X30+AF30+AN30+AV30+BD30+BL30+CB30+CJ30=0,IF(E30>0,BT29,0),0),0)","v":0},{"$f":"G30*BT30","v":{"v":0,"d":"0.00"}},{"$f":"IF($B30=1,$BU30,0)","v":{"v":0,"d":"0.00"}},{"$f":"IF($B30=2,$BU30,0)","v":{"v":0,"d":"0.00"}},{"$f":"IF($B30=3,$BU30,0)","v":{"v":0,"d":"0.00"}},{"$f":"IF($B30=4,$BU30,0)","v":{"v":0,"d":"0.00"}},{"$f":"IF($B30=5,$BU30,0)","v":{"v":0,"d":"0.00"}},{"$f":"IF($B30=6,$BU30,0)","v":{"v":0,"d":"0.00"}},{"$f":"IF(CB29>0,IF(H30+P30+X30+AF30+AN30+AV30+BD30+BL30+BT30+CJ30=0,IF(E30>0,CB29,0),0),0)","v":0},{"$f":"G30*CB30","v":{"v":0,"d":"0.00"}},{"$f":"IF($B30=1,$CC30,0)","v":{"v":0,"d":"0.00"}},{"$f":"IF($B30=2,$CC30,0)","v":{"v":0,"d":"0.00"}},{"$f":"IF($B30=3,$CC30,0)","v":{"v":0,"d":"0.00"}},{"$f":"IF($B30=4,$CC30,0)","v":{"v":0,"d":"0.00"}},{"$f":"IF($B30=5,$CC30,0)","v":{"v":0,"d":"0.00"}},{"$f":"IF($B30=6,$CC30,0)","v":{"v":0,"d":"0.00"}},{"$f":"IF(CJ29>0,IF(H30+P30+X30+AF30+AN30+AV30+BD30+BL30+BT30+CB30=0,IF(E30>0,CJ29,0),0),0)","v":0},{"$f":"G30*CJ30","v":{"v":0,"d":"0.00"}},{"$f":"IF($B30=1,$CK30,0)","v":{"v":0,"d":"0.00"}},{"$f":"IF($B30=2,$CK30,0)","v":{"v":0,"d":"0.00"}},{"$f":"IF($B30=3,$CK30,0)","v":{"v":0,"d":"0.00"}},{"$f":"IF($B30=4,$CK30,0)","v":{"v":0,"d":"0.00"}},{"$f":"IF($B30=5,$CK30,0)","v":{"v":0,"d":"0.00"}},{"$f":"IF($B30=6,$CK30,0)","v":{"v":0,"d":"0.00"}}]
[{"$f":"IF(C30<>C31,C31,\"\")","v":""},{"$f":"IF(C30<>C31,_xlfn.DAYS(C31,C30)+B30,B30)","v":1},{"$f":"IF(D31>0,IF(D31<E30,C30+1,C30),C30)","v":"2009-02-02"},{"$f":"IF((E31+H31+P31+X31+AF31+AN31+AV31+BD31+BL31+BT31+CB31+CJ31)>0,E30,0)","v":"00:00:00"},null,{"$f":"E31-D31","v":"00:00:00"},{"$f":"IF(E31>0,HOUR(F31)+(MINUTE(F31)/60),0)","v":0},{"$f":"IF(H30>0,IF(P31+X31+AF31+AN31+AV31+BD31+BL31+BT31+CB31+CJ31=0,IF(E31>0,H30,0),0),0)","v":0},{"$f":"G31*H31","v":{"v":0,"d":"0.00"}},{"$f":"IF($B31=1,$I31,0)","v":{"v":0,"d":"0.00"}},{"$f":"IF($B31=2,$I31,0)","v":{"v":0,"d":"0.00"}},{"$f":"IF($B31=3,$I31,0)","v":{"v":0,"d":"0.00"}},{"$f":"IF($B31=4,$I31,0)","v":{"v":0,"d":"0.00"}},{"$f":"IF($B31=5,$I31,0)","v":{"v":0,"d":"0.00"}},{"$f":"IF($B31=6,$I31,0)","v":{"v":0,"d":"0.00"}},{"$f":"IF(P30>0,IF(H31+X31+AF31+AN31+AV31+BD31+BL31+BT31+CB31+CJ31=0,IF(E31>0,P30,0),0),0)","v":0},{"$f":"G31*P31","v":{"v":0,"d":"0.00"}},{"$f":"IF(B31=1,Q31,0)","v":{"v":0,"d":"0.00"}},{"$f":"IF(B31=2,Q31,0)","v":{"v":0,"d":"0.00"}},{"$f":"IF(B31=3,Q31,0)","v":{"v":0,"d":"0.00"}},{"$f":"IF(B31=4,Q31,0)","v":{"v":0,"d":"0.00"}},{"$f":"IF(B31=5,Q31,0)","v":{"v":0,"d":"0.00"}},{"$f":"IF(B31=6,Q31,0)","v":{"v":0,"d":"0.00"}},{"$f":"IF(X30>0,IF(H31+P31+AF31+AN31+AV31+BD31+BL31+BT31+CB31+CJ31=0,IF(E31>0,X30,0),0),0)","v":0},{"$f":"G31*X31","v":{"v":0,"d":"0.00"}},{"$f":"IF($B31=1,$Y31,0)","v":{"v":0,"d":"0.00"}},{"$f":"IF($B31=2,$Y31,0)","v":{"v":0,"d":"0.00"}},{"$f":"IF($B31=3,$Y31,0)","v":{"v":0,"d":"0.00"}},{"$f":"IF($B31=4,$Y31,0)","v":{"v":0,"d":"0.00"}},{"$f":"IF($B31=5,$Y31,0)","v":{"v":0,"d":"0.00"}},{"$f":"IF($B31=6,$Y31,0)","v":{"v":0,"d":"0.00"}},{"$f":"IF(AF30>0,IF(H31+P31+X31+AN31+AV31+BD31+BL31+BT31+CB31+CJ31=0,IF(E31>0,AF30,0),0),0)","v":0},{"$f":"G31*AF31","v":{"v":0,"d":"0.00"}},{"$f":"IF($B31=1,$AG31,0)","v":{"v":0,"d":"0.00"}},{"$f":"IF($B31=2,$AG31,0)","v":{"v":0,"d":"0.00"}},{"$f":"IF($B31=3,$AG31,0)","v":{"v":0,"d":"0.00"}},{"$f":"IF($B31=4,$AG31,0)","v":{"v":0,"d":"0.00"}},{"$f":"IF($B31=5,$AG31,0)","v":{"v":0,"d":"0.00"}},{"$f":"IF($B31=6,$AG31,0)","v":{"v":0,"d":"0.00"}},{"$f":"IF(AN30>0,IF(H31+P31+X31+AF31+AV31+BD31+BL31+BT31+CB31+CJ31=0,IF(E31>0,AN30,0),0),0)","v":0},{"$f":"G31*AN31","v":{"v":0,"d":"0.00"}},{"$f":"IF($B31=1,$AO31,0)","v":{"v":0,"d":"0.00"}},{"$f":"IF($B31=2,$AO31,0)","v":{"v":0,"d":"0.00"}},{"$f":"IF($B31=3,$AO31,0)","v":{"v":0,"d":"0.00"}},{"$f":"IF($B31=4,$AO31,0)","v":{"v":0,"d":"0.00"}},{"$f":"IF($B31=5,$AO31,0)","v":{"v":0,"d":"0.00"}},{"$f":"IF($B31=6,$AO31,0)","v":{"v":0,"d":"0.00"}},{"$f":"IF(AV30>0,IF(H31+P31+X31+AF31+AN31+BD31+BL31+BT31+CB31+CJ31=0,IF(E31>0,AV30,0),0),0)","v":0},{"$f":"G31*AV31","v":{"v":0,"d":"0.00"}},{"$f":"IF($B31=1,$AW31,0)","v":{"v":0,"d":"0.00"}},{"$f":"IF($B31=2,$AW31,0)","v":{"v":0,"d":"0.00"}},{"$f":"IF($B31=3,$AW31,0)","v":{"v":0,"d":"0.00"}},{"$f":"IF($B31=4,$AW31,0)","v":{"v":0,"d":"0.00"}},{"$f":"IF($B31=5,$AW31,0)","v":{"v":0,"d":"0.00"}},{"$f":"IF($B31=6,$AW31,0)","v":{"v":0,"d":"0.00"}},{"$f":"IF(BD30>0,IF(H31+P31+X31+AF31+AN31+AV31+BL31+BT31+CB31+CJ31=0,IF(E31>0,BD30,0),0),0)","v":0},{"$f":"G31*BD31","v":{"v":0,"d":"0.00"}},{"$f":"IF($B31=1,$BE31,0)","v":{"v":0,"d":"0.00"}},{"$f":"IF($B31=2,$BE31,0)","v":{"v":0,"d":"0.00"}},{"$f":"IF($B31=3,$BE31,0)","v":{"v":0,"d":"0.00"}},{"$f":"IF($B31=4,$BE31,0)","v":{"v":0,"d":"0.00"}},{"$f":"IF($B31=5,$BE31,0)","v":{"v":0,"d":"0.00"}},{"$f":"IF($B31=6,$BE31,0)","v":{"v":0,"d":"0.00"}},{"$f":"IF(BL30>0,IF(H31+P31+X31+AF31+AN31+AV31+BD31+BT31+CB31+CJ31=0,IF(E31>0,BL30,0),0),0)","v":0},{"$f":"G31*BL31","v":{"v":0,"d":"0.00"}},{"$f":"IF($B31=1,$BM31,0)","v":{"v":0,"d":"0.00"}},{"$f":"IF($B31=2,$BM31,0)","v":{"v":0,"d":"0.00"}},{"$f":"IF($B31=3,$BM31,0)","v":{"v":0,"d":"0.00"}},{"$f":"IF($B31=4,$BM31,0)","v":{"v":0,"d":"0.00"}},{"$f":"IF($B31=5,$BM31,0)","v":{"v":0,"d":"0.00"}},{"$f":"IF($B31=6,$BM31,0)","v":{"v":0,"d":"0.00"}},{"$f":"IF(BT30>0,IF(H31+P31+X31+AF31+AN31+AV31+BD31+BL31+CB31+CJ31=0,IF(E31>0,BT30,0),0),0)","v":0},{"$f":"G31*BT31","v":{"v":0,"d":"0.00"}},{"$f":"IF($B31=1,$BU31,0)","v":{"v":0,"d":"0.00"}},{"$f":"IF($B31=2,$BU31,0)","v":{"v":0,"d":"0.00"}},{"$f":"IF($B31=3,$BU31,0)","v":{"v":0,"d":"0.00"}},{"$f":"IF($B31=4,$BU31,0)","v":{"v":0,"d":"0.00"}},{"$f":"IF($B31=5,$BU31,0)","v":{"v":0,"d":"0.00"}},{"$f":"IF($B31=6,$BU31,0)","v":{"v":0,"d":"0.00"}},{"$f":"IF(CB30>0,IF(H31+P31+X31+AF31+AN31+AV31+BD31+BL31+BT31+CJ31=0,IF(E31>0,CB30,0),0),0)","v":0},{"$f":"G31*CB31","v":{"v":0,"d":"0.00"}},{"$f":"IF($B31=1,$CC31,0)","v":{"v":0,"d":"0.00"}},{"$f":"IF($B31=2,$CC31,0)","v":{"v":0,"d":"0.00"}},{"$f":"IF($B31=3,$CC31,0)","v":{"v":0,"d":"0.00"}},{"$f":"IF($B31=4,$CC31,0)","v":{"v":0,"d":"0.00"}},{"$f":"IF($B31=5,$CC31,0)","v":{"v":0,"d":"0.00"}},{"$f":"IF($B31=6,$CC31,0)","v":{"v":0,"d":"0.00"}},{"$f":"IF(CJ30>0,IF(H31+P31+X31+AF31+AN31+AV31+BD31+BL31+BT31+CB31=0,IF(E31>0,CJ30,0),0),0)","v":0},{"$f":"G31*CJ31","v":{"v":0,"d":"0.00"}},{"$f":"IF($B31=1,$CK31,0)","v":{"v":0,"d":"0.00"}},{"$f":"IF($B31=2,$CK31,0)","v":{"v":0,"d":"0.00"}},{"$f":"IF($B31=3,$CK31,0)","v":{"v":0,"d":"0.00"}},{"$f":"IF($B31=4,$CK31,0)","v":{"v":0,"d":"0.00"}},{"$f":"IF($B31=5,$CK31,0)","v":{"v":0,"d":"0.00"}},{"$f":"IF($B31=6,$CK31,0)","v":{"v":0,"d":"0.00"}}]
[{"$f":"IF(C31<>C32,C32,\"\")","v":""},{"$f":"IF(C31<>C32,_xlfn.DAYS(C32,C31)+B31,B31)","v":1},{"$f":"IF(D32>0,IF(D32<E31,C31+1,C31),C31)","v":"2009-02-02"},{"$f":"IF((E32+H32+P32+X32+AF32+AN32+AV32+BD32+BL32+BT32+CB32+CJ32)>0,E31,0)","v":"00:00:00"},null,{"$f":"E32-D32","v":"00:00:00"},{"$f":"IF(E32>0,HOUR(F32)+(MINUTE(F32)/60),0)","v":0},{"$f":"IF(H31>0,IF(P32+X32+AF32+AN32+AV32+BD32+BL32+BT32+CB32+CJ32=0,IF(E32>0,H31,0),0),0)","v":0},{"$f":"G32*H32","v":{"v":0,"d":"0.00"}},{"$f":"IF($B32=1,$I32,0)","v":{"v":0,"d":"0.00"}},{"$f":"IF($B32=2,$I32,0)","v":{"v":0,"d":"0.00"}},{"$f":"IF($B32=3,$I32,0)","v":{"v":0,"d":"0.00"}},{"$f":"IF($B32=4,$I32,0)","v":{"v":0,"d":"0.00"}},{"$f":"IF($B32=5,$I32,0)","v":{"v":0,"d":"0.00"}},{"$f":"IF($B32=6,$I32,0)","v":{"v":0,"d":"0.00"}},{"$f":"IF(P31>0,IF(H32+X32+AF32+AN32+AV32+BD32+BL32+BT32+CB32+CJ32=0,IF(E32>0,P31,0),0),0)","v":0},{"$f":"G32*P32","v":{"v":0,"d":"0.00"}},{"$f":"IF(B32=1,Q32,0)","v":{"v":0,"d":"0.00"}},{"$f":"IF(B32=2,Q32,0)","v":{"v":0,"d":"0.00"}},{"$f":"IF(B32=3,Q32,0)","v":{"v":0,"d":"0.00"}},{"$f":"IF(B32=4,Q32,0)","v":{"v":0,"d":"0.00"}},{"$f":"IF(B32=5,Q32,0)","v":{"v":0,"d":"0.00"}},{"$f":"IF(B32=6,Q32,0)","v":{"v":0,"d":"0.00"}},{"$f":"IF(X31>0,IF(H32+P32+AF32+AN32+AV32+BD32+BL32+BT32+CB32+CJ32=0,IF(E32>0,X31,0),0),0)","v":0},{"$f":"G32*X32","v":{"v":0,"d":"0.00"}},{"$f":"IF($B32=1,$Y32,0)","v":{"v":0,"d":"0.00"}},{"$f":"IF($B32=2,$Y32,0)","v":{"v":0,"d":"0.00"}},{"$f":"IF($B32=3,$Y32,0)","v":{"v":0,"d":"0.00"}},{"$f":"IF($B32=4,$Y32,0)","v":{"v":0,"d":"0.00"}},{"$f":"IF($B32=5,$Y32,0)","v":{"v":0,"d":"0.00"}},{"$f":"IF($B32=6,$Y32,0)","v":{"v":0,"d":"0.00"}},{"$f":"IF(AF31>0,IF(H32+P32+X32+AN32+AV32+BD32+BL32+BT32+CB32+CJ32=0,IF(E32>0,AF31,0),0),0)","v":0},{"$f":"G32*AF32","v":{"v":0,"d":"0.00"}},{"$f":"IF($B32=1,$AG32,0)","v":{"v":0,"d":"0.00"}},{"$f":"IF($B32=2,$AG32,0)","v":{"v":0,"d":"0.00"}},{"$f":"IF($B32=3,$AG32,0)","v":{"v":0,"d":"0.00"}},{"$f":"IF($B32=4,$AG32,0)","v":{"v":0,"d":"0.00"}},{"$f":"IF($B32=5,$AG32,0)","v":{"v":0,"d":"0.00"}},{"$f":"IF($B32=6,$AG32,0)","v":{"v":0,"d":"0.00"}},{"$f":"IF(AN31>0,IF(H32+P32+X32+AF32+AV32+BD32+BL32+BT32+CB32+CJ32=0,IF(E32>0,AN31,0),0),0)","v":0},{"$f":"G32*AN32","v":{"v":0,"d":"0.00"}},{"$f":"IF($B32=1,$AO32,0)","v":{"v":0,"d":"0.00"}},{"$f":"IF($B32=2,$AO32,0)","v":{"v":0,"d":"0.00"}},{"$f":"IF($B32=3,$AO32,0)","v":{"v":0,"d":"0.00"}},{"$f":"IF($B32=4,$AO32,0)","v":{"v":0,"d":"0.00"}},{"$f":"IF($B32=5,$AO32,0)","v":{"v":0,"d":"0.00"}},{"$f":"IF($B32=6,$AO32,0)","v":{"v":0,"d":"0.00"}},{"$f":"IF(AV31>0,IF(H32+P32+X32+AF32+AN32+BD32+BL32+BT32+CB32+CJ32=0,IF(E32>0,AV31,0),0),0)","v":0},{"$f":"G32*AV32","v":{"v":0,"d":"0.00"}},{"$f":"IF($B32=1,$AW32,0)","v":{"v":0,"d":"0.00"}},{"$f":"IF($B32=2,$AW32,0)","v":{"v":0,"d":"0.00"}},{"$f":"IF($B32=3,$AW32,0)","v":{"v":0,"d":"0.00"}},{"$f":"IF($B32=4,$AW32,0)","v":{"v":0,"d":"0.00"}},{"$f":"IF($B32=5,$AW32,0)","v":{"v":0,"d":"0.00"}},{"$f":"IF($B32=6,$AW32,0)","v":{"v":0,"d":"0.00"}},{"$f":"IF(BD31>0,IF(H32+P32+X32+AF32+AN32+AV32+BL32+BT32+CB32+CJ32=0,IF(E32>0,BD31,0),0),0)","v":0},{"$f":"G32*BD32","v":{"v":0,"d":"0.00"}},{"$f":"IF($B32=1,$BE32,0)","v":{"v":0,"d":"0.00"}},{"$f":"IF($B32=2,$BE32,0)","v":{"v":0,"d":"0.00"}},{"$f":"IF($B32=3,$BE32,0)","v":{"v":0,"d":"0.00"}},{"$f":"IF($B32=4,$BE32,0)","v":{"v":0,"d":"0.00"}},{"$f":"IF($B32=5,$BE32,0)","v":{"v":0,"d":"0.00"}},{"$f":"IF($B32=6,$BE32,0)","v":{"v":0,"d":"0.00"}},{"$f":"IF(BL31>0,IF(H32+P32+X32+AF32+AN32+AV32+BD32+BT32+CB32+CJ32=0,IF(E32>0,BL31,0),0),0)","v":0},{"$f":"G32*BL32","v":{"v":0,"d":"0.00"}},{"$f":"IF($B32=1,$BM32,0)","v":{"v":0,"d":"0.00"}},{"$f":"IF($B32=2,$BM32,0)","v":{"v":0,"d":"0.00"}},{"$f":"IF($B32=3,$BM32,0)","v":{"v":0,"d":"0.00"}},{"$f":"IF($B32=4,$BM32,0)","v":{"v":0,"d":"0.00"}},{"$f":"IF($B32=5,$BM32,0)","v":{"v":0,"d":"0.00"}},{"$f":"IF($B32=6,$BM32,0)","v":{"v":0,"d":"0.00"}},{"$f":"IF(BT31>0,IF(H32+P32+X32+AF32+AN32+AV32+BD32+BL32+CB32+CJ32=0,IF(E32>0,BT31,0),0),0)","v":0},{"$f":"G32*BT32","v":{"v":0,"d":"0.00"}},{"$f":"IF($B32=1,$BU32,0)","v":{"v":0,"d":"0.00"}},{"$f":"IF($B32=2,$BU32,0)","v":{"v":0,"d":"0.00"}},{"$f":"IF($B32=3,$BU32,0)","v":{"v":0,"d":"0.00"}},{"$f":"IF($B32=4,$BU32,0)","v":{"v":0,"d":"0.00"}},{"$f":"IF($B32=5,$BU32,0)","v":{"v":0,"d":"0.00"}},{"$f":"IF($B32=6,$BU32,0)","v":{"v":0,"d":"0.00"}},{"$f":"IF(CB31>0,IF(H32+P32+X32+AF32+AN32+AV32+BD32+BL32+BT32+CJ32=0,IF(E32>0,CB31,0),0),0)","v":0},{"$f":"G32*CB32","v":{"v":0,"d":"0.00"}},{"$f":"IF($B32=1,$CC32,0)","v":{"v":0,"d":"0.00"}},{"$f":"IF($B32=2,$CC32,0)","v":{"v":0,"d":"0.00"}},{"$f":"IF($B32=3,$CC32,0)","v":{"v":0,"d":"0.00"}},{"$f":"IF($B32=4,$CC32,0)","v":{"v":0,"d":"0.00"}},{"$f":"IF($B32=5,$CC32,0)","v":{"v":0,"d":"0.00"}},{"$f":"IF($B32=6,$CC32,0)","v":{"v":0,"d":"0.00"}},{"$f":"IF(CJ31>0,IF(H32+P32+X32+AF32+AN32+AV32+BD32+BL32+BT32+CB32=0,IF(E32>0,CJ31,0),0),0)","v":0},{"$f":"G32*CJ32","v":{"v":0,"d":"0.00"}},{"$f":"IF($B32=1,$CK32,0)","v":{"v":0,"d":"0.00"}},{"$f":"IF($B32=2,$CK32,0)","v":{"v":0,"d":"0.00"}},{"$f":"IF($B32=3,$CK32,0)","v":{"v":0,"d":"0.00"}},{"$f":"IF($B32=4,$CK32,0)","v":{"v":0,"d":"0.00"}},{"$f":"IF($B32=5,$CK32,0)","v":{"v":0,"d":"0.00"}},{"$f":"IF($B32=6,$CK32,0)","v":{"v":0,"d":"0.00"}}]
[{"$f":"IF(C32<>C33,C33,\"\")","v":""},{"$f":"IF(C32<>C33,_xlfn.DAYS(C33,C32)+B32,B32)","v":1},{"$f":"IF(D33>0,IF(D33<E32,C32+1,C32),C32)","v":"2009-02-02"},{"$f":"IF((E33+H33+P33+X33+AF33+AN33+AV33+BD33+BL33+BT33+CB33+CJ33)>0,E32,0)","v":"00:00:00"},null,{"$f":"E33-D33","v":"00:00:00"},{"$f":"IF(E33>0,HOUR(F33)+(MINUTE(F33)/60),0)","v":0},{"$f":"IF(H32>0,IF(P33+X33+AF33+AN33+AV33+BD33+BL33+BT33+CB33+CJ33=0,IF(E33>0,H32,0),0),0)","v":0},{"$f":"G33*H33","v":{"v":0,"d":"0.00"}},{"$f":"IF($B33=1,$I33,0)","v":{"v":0,"d":"0.00"}},{"$f":"IF($B33=2,$I33,0)","v":{"v":0,"d":"0.00"}},{"$f":"IF($B33=3,$I33,0)","v":{"v":0,"d":"0.00"}},{"$f":"IF($B33=4,$I33,0)","v":{"v":0,"d":"0.00"}},{"$f":"IF($B33=5,$I33,0)","v":{"v":0,"d":"0.00"}},{"$f":"IF($B33=6,$I33,0)","v":{"v":0,"d":"0.00"}},{"$f":"IF(P32>0,IF(H33+X33+AF33+AN33+AV33+BD33+BL33+BT33+CB33+CJ33=0,IF(E33>0,P32,0),0),0)","v":0},{"$f":"G33*P33","v":{"v":0,"d":"0.00"}},{"$f":"IF(B33=1,Q33,0)","v":{"v":0,"d":"0.00"}},{"$f":"IF(B33=2,Q33,0)","v":{"v":0,"d":"0.00"}},{"$f":"IF(B33=3,Q33,0)","v":{"v":0,"d":"0.00"}},{"$f":"IF(B33=4,Q33,0)","v":{"v":0,"d":"0.00"}},{"$f":"IF(B33=5,Q33,0)","v":{"v":0,"d":"0.00"}},{"$f":"IF(B33=6,Q33,0)","v":{"v":0,"d":"0.00"}},{"$f":"IF(X32>0,IF(H33+P33+AF33+AN33+AV33+BD33+BL33+BT33+CB33+CJ33=0,IF(E33>0,X32,0),0),0)","v":0},{"$f":"G33*X33","v":{"v":0,"d":"0.00"}},{"$f":"IF($B33=1,$Y33,0)","v":{"v":0,"d":"0.00"}},{"$f":"IF($B33=2,$Y33,0)","v":{"v":0,"d":"0.00"}},{"$f":"IF($B33=3,$Y33,0)","v":{"v":0,"d":"0.00"}},{"$f":"IF($B33=4,$Y33,0)","v":{"v":0,"d":"0.00"}},{"$f":"IF($B33=5,$Y33,0)","v":{"v":0,"d":"0.00"}},{"$f":"IF($B33=6,$Y33,0)","v":{"v":0,"d":"0.00"}},{"$f":"IF(AF32>0,IF(H33+P33+X33+AN33+AV33+BD33+BL33+BT33+CB33+CJ33=0,IF(E33>0,AF32,0),0),0)","v":0},{"$f":"G33*AF33","v":{"v":0,"d":"0.00"}},{"$f":"IF($B33=1,$AG33,0)","v":{"v":0,"d":"0.00"}},{"$f":"IF($B33=2,$AG33,0)","v":{"v":0,"d":"0.00"}},{"$f":"IF($B33=3,$AG33,0)","v":{"v":0,"d":"0.00"}},{"$f":"IF($B33=4,$AG33,0)","v":{"v":0,"d":"0.00"}},{"$f":"IF($B33=5,$AG33,0)","v":{"v":0,"d":"0.00"}},{"$f":"IF($B33=6,$AG33,0)","v":{"v":0,"d":"0.00"}},{"$f":"IF(AN32>0,IF(H33+P33+X33+AF33+AV33+BD33+BL33+BT33+CB33+CJ33=0,IF(E33>0,AN32,0),0),0)","v":0},{"$f":"G33*AN33","v":{"v":0,"d":"0.00"}},{"$f":"IF($B33=1,$AO33,0)","v":{"v":0,"d":"0.00"}},{"$f":"IF($B33=2,$AO33,0)","v":{"v":0,"d":"0.00"}},{"$f":"IF($B33=3,$AO33,0)","v":{"v":0,"d":"0.00"}},{"$f":"IF($B33=4,$AO33,0)","v":{"v":0,"d":"0.00"}},{"$f":"IF($B33=5,$AO33,0)","v":{"v":0,"d":"0.00"}},{"$f":"IF($B33=6,$AO33,0)","v":{"v":0,"d":"0.00"}},{"$f":"IF(AV32>0,IF(H33+P33+X33+AF33+AN33+BD33+BL33+BT33+CB33+CJ33=0,IF(E33>0,AV32,0),0),0)","v":0},{"$f":"G33*AV33","v":{"v":0,"d":"0.00"}},{"$f":"IF($B33=1,$AW33,0)","v":{"v":0,"d":"0.00"}},{"$f":"IF($B33=2,$AW33,0)","v":{"v":0,"d":"0.00"}},{"$f":"IF($B33=3,$AW33,0)","v":{"v":0,"d":"0.00"}},{"$f":"IF($B33=4,$AW33,0)","v":{"v":0,"d":"0.00"}},{"$f":"IF($B33=5,$AW33,0)","v":{"v":0,"d":"0.00"}},{"$f":"IF($B33=6,$AW33,0)","v":{"v":0,"d":"0.00"}},{"$f":"IF(BD32>0,IF(H33+P33+X33+AF33+AN33+AV33+BL33+BT33+CB33+CJ33=0,IF(E33>0,BD32,0),0),0)","v":0},{"$f":"G33*BD33","v":{"v":0,"d":"0.00"}},{"$f":"IF($B33=1,$BE33,0)","v":{"v":0,"d":"0.00"}},{"$f":"IF($B33=2,$BE33,0)","v":{"v":0,"d":"0.00"}},{"$f":"IF($B33=3,$BE33,0)","v":{"v":0,"d":"0.00"}},{"$f":"IF($B33=4,$BE33,0)","v":{"v":0,"d":"0.00"}},{"$f":"IF($B33=5,$BE33,0)","v":{"v":0,"d":"0.00"}},{"$f":"IF($B33=6,$BE33,0)","v":{"v":0,"d":"0.00"}},{"$f":"IF(BL32>0,IF(H33+P33+X33+AF33+AN33+AV33+BD33+BT33+CB33+CJ33=0,IF(E33>0,BL32,0),0),0)","v":0},{"$f":"G33*BL33","v":{"v":0,"d":"0.00"}},{"$f":"IF($B33=1,$BM33,0)","v":{"v":0,"d":"0.00"}},{"$f":"IF($B33=2,$BM33,0)","v":{"v":0,"d":"0.00"}},{"$f":"IF($B33=3,$BM33,0)","v":{"v":0,"d":"0.00"}},{"$f":"IF($B33=4,$BM33,0)","v":{"v":0,"d":"0.00"}},{"$f":"IF($B33=5,$BM33,0)","v":{"v":0,"d":"0.00"}},{"$f":"IF($B33=6,$BM33,0)","v":{"v":0,"d":"0.00"}},{"$f":"IF(BT32>0,IF(H33+P33+X33+AF33+AN33+AV33+BD33+BL33+CB33+CJ33=0,IF(E33>0,BT32,0),0),0)","v":0},{"$f":"G33*BT33","v":{"v":0,"d":"0.00"}},{"$f":"IF($B33=1,$BU33,0)","v":{"v":0,"d":"0.00"}},{"$f":"IF($B33=2,$BU33,0)","v":{"v":0,"d":"0.00"}},{"$f":"IF($B33=3,$BU33,0)","v":{"v":0,"d":"0.00"}},{"$f":"IF($B33=4,$BU33,0)","v":{"v":0,"d":"0.00"}},{"$f":"IF($B33=5,$BU33,0)","v":{"v":0,"d":"0.00"}},{"$f":"IF($B33=6,$BU33,0)","v":{"v":0,"d":"0.00"}},{"$f":"IF(CB32>0,IF(H33+P33+X33+AF33+AN33+AV33+BD33+BL33+BT33+CJ33=0,IF(E33>0,CB32,0),0),0)","v":0},{"$f":"G33*CB33","v":{"v":0,"d":"0.00"}},{"$f":"IF($B33=1,$CC33,0)","v":{"v":0,"d":"0.00"}},{"$f":"IF($B33=2,$CC33,0)","v":{"v":0,"d":"0.00"}},{"$f":"IF($B33=3,$CC33,0)","v":{"v":0,"d":"0.00"}},{"$f":"IF($B33=4,$CC33,0)","v":{"v":0,"d":"0.00"}},{"$f":"IF($B33=5,$CC33,0)","v":{"v":0,"d":"0.00"}},{"$f":"IF($B33=6,$CC33,0)","v":{"v":0,"d":"0.00"}},{"$f":"IF(CJ32>0,IF(H33+P33+X33+AF33+AN33+AV33+BD33+BL33+BT33+CB33=0,IF(E33>0,CJ32,0),0),0)","v":0},{"$f":"G33*CJ33","v":{"v":0,"d":"0.00"}},{"$f":"IF($B33=1,$CK33,0)","v":{"v":0,"d":"0.00"}},{"$f":"IF($B33=2,$CK33,0)","v":{"v":0,"d":"0.00"}},{"$f":"IF($B33=3,$CK33,0)","v":{"v":0,"d":"0.00"}},{"$f":"IF($B33=4,$CK33,0)","v":{"v":0,"d":"0.00"}},{"$f":"IF($B33=5,$CK33,0)","v":{"v":0,"d":"0.00"}},{"$f":"IF($B33=6,$CK33,0)","v":{"v":0,"d":"0.00"}}]
[{"$f":"IF(C33<>C34,C34,\"\")","v":""},{"$f":"IF(C33<>C34,_xlfn.DAYS(C34,C33)+B33,B33)","v":1},{"$f":"IF(D34>0,IF(D34<E33,C33+1,C33),C33)","v":"2009-02-02"},{"$f":"IF((E34+H34+P34+X34+AF34+AN34+AV34+BD34+BL34+BT34+CB34+CJ34)>0,E33,0)","v":"00:00:00"},null,{"$f":"E34-D34","v":"00:00:00"},{"$f":"IF(E34>0,HOUR(F34)+(MINUTE(F34)/60),0)","v":0},{"$f":"IF(H33>0,IF(P34+X34+AF34+AN34+AV34+BD34+BL34+BT34+CB34+CJ34=0,IF(E34>0,H33,0),0),0)","v":0},{"$f":"G34*H34","v":{"v":0,"d":"0.00"}},{"$f":"IF($B34=1,$I34,0)","v":{"v":0,"d":"0.00"}},{"$f":"IF($B34=2,$I34,0)","v":{"v":0,"d":"0.00"}},{"$f":"IF($B34=3,$I34,0)","v":{"v":0,"d":"0.00"}},{"$f":"IF($B34=4,$I34,0)","v":{"v":0,"d":"0.00"}},{"$f":"IF($B34=5,$I34,0)","v":{"v":0,"d":"0.00"}},{"$f":"IF($B34=6,$I34,0)","v":{"v":0,"d":"0.00"}},{"$f":"IF(P33>0,IF(H34+X34+AF34+AN34+AV34+BD34+BL34+BT34+CB34+CJ34=0,IF(E34>0,P33,0),0),0)","v":0},{"$f":"G34*P34","v":{"v":0,"d":"0.00"}},{"$f":"IF(B34=1,Q34,0)","v":{"v":0,"d":"0.00"}},{"$f":"IF(B34=2,Q34,0)","v":{"v":0,"d":"0.00"}},{"$f":"IF(B34=3,Q34,0)","v":{"v":0,"d":"0.00"}},{"$f":"IF(B34=4,Q34,0)","v":{"v":0,"d":"0.00"}},{"$f":"IF(B34=5,Q34,0)","v":{"v":0,"d":"0.00"}},{"$f":"IF(B34=6,Q34,0)","v":{"v":0,"d":"0.00"}},{"$f":"IF(X33>0,IF(H34+P34+AF34+AN34+AV34+BD34+BL34+BT34+CB34+CJ34=0,IF(E34>0,X33,0),0),0)","v":0},{"$f":"G34*X34","v":{"v":0,"d":"0.00"}},{"$f":"IF($B34=1,$Y34,0)","v":{"v":0,"d":"0.00"}},{"$f":"IF($B34=2,$Y34,0)","v":{"v":0,"d":"0.00"}},{"$f":"IF($B34=3,$Y34,0)","v":{"v":0,"d":"0.00"}},{"$f":"IF($B34=4,$Y34,0)","v":{"v":0,"d":"0.00"}},{"$f":"IF($B34=5,$Y34,0)","v":{"v":0,"d":"0.00"}},{"$f":"IF($B34=6,$Y34,0)","v":{"v":0,"d":"0.00"}},{"$f":"IF(AF33>0,IF(H34+P34+X34+AN34+AV34+BD34+BL34+BT34+CB34+CJ34=0,IF(E34>0,AF33,0),0),0)","v":0},{"$f":"G34*AF34","v":{"v":0,"d":"0.00"}},{"$f":"IF($B34=1,$AG34,0)","v":{"v":0,"d":"0.00"}},{"$f":"IF($B34=2,$AG34,0)","v":{"v":0,"d":"0.00"}},{"$f":"IF($B34=3,$AG34,0)","v":{"v":0,"d":"0.00"}},{"$f":"IF($B34=4,$AG34,0)","v":{"v":0,"d":"0.00"}},{"$f":"IF($B34=5,$AG34,0)","v":{"v":0,"d":"0.00"}},{"$f":"IF($B34=6,$AG34,0)","v":{"v":0,"d":"0.00"}},{"$f":"IF(AN33>0,IF(H34+P34+X34+AF34+AV34+BD34+BL34+BT34+CB34+CJ34=0,IF(E34>0,AN33,0),0),0)","v":0},{"$f":"G34*AN34","v":{"v":0,"d":"0.00"}},{"$f":"IF($B34=1,$AO34,0)","v":{"v":0,"d":"0.00"}},{"$f":"IF($B34=2,$AO34,0)","v":{"v":0,"d":"0.00"}},{"$f":"IF($B34=3,$AO34,0)","v":{"v":0,"d":"0.00"}},{"$f":"IF($B34=4,$AO34,0)","v":{"v":0,"d":"0.00"}},{"$f":"IF($B34=5,$AO34,0)","v":{"v":0,"d":"0.00"}},{"$f":"IF($B34=6,$AO34,0)","v":{"v":0,"d":"0.00"}},{"$f":"IF(AV33>0,IF(H34+P34+X34+AF34+AN34+BD34+BL34+BT34+CB34+CJ34=0,IF(E34>0,AV33,0),0),0)","v":0},{"$f":"G34*AV34","v":{"v":0,"d":"0.00"}},{"$f":"IF($B34=1,$AW34,0)","v":{"v":0,"d":"0.00"}},{"$f":"IF($B34=2,$AW34,0)","v":{"v":0,"d":"0.00"}},{"$f":"IF($B34=3,$AW34,0)","v":{"v":0,"d":"0.00"}},{"$f":"IF($B34=4,$AW34,0)","v":{"v":0,"d":"0.00"}},{"$f":"IF($B34=5,$AW34,0)","v":{"v":0,"d":"0.00"}},{"$f":"IF($B34=6,$AW34,0)","v":{"v":0,"d":"0.00"}},{"$f":"IF(BD33>0,IF(H34+P34+X34+AF34+AN34+AV34+BL34+BT34+CB34+CJ34=0,IF(E34>0,BD33,0),0),0)","v":0},{"$f":"G34*BD34","v":{"v":0,"d":"0.00"}},{"$f":"IF($B34=1,$BE34,0)","v":{"v":0,"d":"0.00"}},{"$f":"IF($B34=2,$BE34,0)","v":{"v":0,"d":"0.00"}},{"$f":"IF($B34=3,$BE34,0)","v":{"v":0,"d":"0.00"}},{"$f":"IF($B34=4,$BE34,0)","v":{"v":0,"d":"0.00"}},{"$f":"IF($B34=5,$BE34,0)","v":{"v":0,"d":"0.00"}},{"$f":"IF($B34=6,$BE34,0)","v":{"v":0,"d":"0.00"}},{"$f":"IF(BL33>0,IF(H34+P34+X34+AF34+AN34+AV34+BD34+BT34+CB34+CJ34=0,IF(E34>0,BL33,0),0),0)","v":0},{"$f":"G34*BL34","v":{"v":0,"d":"0.00"}},{"$f":"IF($B34=1,$BM34,0)","v":{"v":0,"d":"0.00"}},{"$f":"IF($B34=2,$BM34,0)","v":{"v":0,"d":"0.00"}},{"$f":"IF($B34=3,$BM34,0)","v":{"v":0,"d":"0.00"}},{"$f":"IF($B34=4,$BM34,0)","v":{"v":0,"d":"0.00"}},{"$f":"IF($B34=5,$BM34,0)","v":{"v":0,"d":"0.00"}},{"$f":"IF($B34=6,$BM34,0)","v":{"v":0,"d":"0.00"}},{"$f":"IF(BT33>0,IF(H34+P34+X34+AF34+AN34+AV34+BD34+BL34+CB34+CJ34=0,IF(E34>0,BT33,0),0),0)","v":0},{"$f":"G34*BT34","v":{"v":0,"d":"0.00"}},{"$f":"IF($B34=1,$BU34,0)","v":{"v":0,"d":"0.00"}},{"$f":"IF($B34=2,$BU34,0)","v":{"v":0,"d":"0.00"}},{"$f":"IF($B34=3,$BU34,0)","v":{"v":0,"d":"0.00"}},{"$f":"IF($B34=4,$BU34,0)","v":{"v":0,"d":"0.00"}},{"$f":"IF($B34=5,$BU34,0)","v":{"v":0,"d":"0.00"}},{"$f":"IF($B34=6,$BU34,0)","v":{"v":0,"d":"0.00"}},{"$f":"IF(CB33>0,IF(H34+P34+X34+AF34+AN34+AV34+BD34+BL34+BT34+CJ34=0,IF(E34>0,CB33,0),0),0)","v":0},{"$f":"G34*CB34","v":{"v":0,"d":"0.00"}},{"$f":"IF($B34=1,$CC34,0)","v":{"v":0,"d":"0.00"}},{"$f":"IF($B34=2,$CC34,0)","v":{"v":0,"d":"0.00"}},{"$f":"IF($B34=3,$CC34,0)","v":{"v":0,"d":"0.00"}},{"$f":"IF($B34=4,$CC34,0)","v":{"v":0,"d":"0.00"}},{"$f":"IF($B34=5,$CC34,0)","v":{"v":0,"d":"0.00"}},{"$f":"IF($B34=6,$CC34,0)","v":{"v":0,"d":"0.00"}},{"$f":"IF(CJ33>0,IF(H34+P34+X34+AF34+AN34+AV34+BD34+BL34+BT34+CB34=0,IF(E34>0,CJ33,0),0),0)","v":0},{"$f":"G34*CJ34","v":{"v":0,"d":"0.00"}},{"$f":"IF($B34=1,$CK34,0)","v":{"v":0,"d":"0.00"}},{"$f":"IF($B34=2,$CK34,0)","v":{"v":0,"d":"0.00"}},{"$f":"IF($B34=3,$CK34,0)","v":{"v":0,"d":"0.00"}},{"$f":"IF($B34=4,$CK34,0)","v":{"v":0,"d":"0.00"}},{"$f":"IF($B34=5,$CK34,0)","v":{"v":0,"d":"0.00"}},{"$f":"IF($B34=6,$CK34,0)","v":{"v":0,"d":"0.00"}}]
[{"$f":"IF(C34<>C35,C35,\"\")","v":""},{"$f":"IF(C34<>C35,_xlfn.DAYS(C35,C34)+B34,B34)","v":1},{"$f":"IF(D35>0,IF(D35<E34,C34+1,C34),C34)","v":"2009-02-02"},{"$f":"IF((E35+H35+P35+X35+AF35+AN35+AV35+BD35+BL35+BT35+CB35+CJ35)>0,E34,0)","v":"00:00:00"},null,{"$f":"E35-D35","v":"00:00:00"},{"$f":"IF(E35>0,HOUR(F35)+(MINUTE(F35)/60),0)","v":0},{"$f":"IF(H34>0,IF(P35+X35+AF35+AN35+AV35+BD35+BL35+BT35+CB35+CJ35=0,IF(E35>0,H34,0),0),0)","v":0},{"$f":"G35*H35","v":{"v":0,"d":"0.00"}},{"$f":"IF($B35=1,$I35,0)","v":{"v":0,"d":"0.00"}},{"$f":"IF($B35=2,$I35,0)","v":{"v":0,"d":"0.00"}},{"$f":"IF($B35=3,$I35,0)","v":{"v":0,"d":"0.00"}},{"$f":"IF($B35=4,$I35,0)","v":{"v":0,"d":"0.00"}},{"$f":"IF($B35=5,$I35,0)","v":{"v":0,"d":"0.00"}},{"$f":"IF($B35=6,$I35,0)","v":{"v":0,"d":"0.00"}},{"$f":"IF(P34>0,IF(H35+X35+AF35+AN35+AV35+BD35+BL35+BT35+CB35+CJ35=0,IF(E35>0,P34,0),0),0)","v":0},{"$f":"G35*P35","v":{"v":0,"d":"0.00"}},{"$f":"IF(B35=1,Q35,0)","v":{"v":0,"d":"0.00"}},{"$f":"IF(B35=2,Q35,0)","v":{"v":0,"d":"0.00"}},{"$f":"IF(B35=3,Q35,0)","v":{"v":0,"d":"0.00"}},{"$f":"IF(B35=4,Q35,0)","v":{"v":0,"d":"0.00"}},{"$f":"IF(B35=5,Q35,0)","v":{"v":0,"d":"0.00"}},{"$f":"IF(B35=6,Q35,0)","v":{"v":0,"d":"0.00"}},{"$f":"IF(X34>0,IF(H35+P35+AF35+AN35+AV35+BD35+BL35+BT35+CB35+CJ35=0,IF(E35>0,X34,0),0),0)","v":0},{"$f":"G35*X35","v":{"v":0,"d":"0.00"}},{"$f":"IF($B35=1,$Y35,0)","v":{"v":0,"d":"0.00"}},{"$f":"IF($B35=2,$Y35,0)","v":{"v":0,"d":"0.00"}},{"$f":"IF($B35=3,$Y35,0)","v":{"v":0,"d":"0.00"}},{"$f":"IF($B35=4,$Y35,0)","v":{"v":0,"d":"0.00"}},{"$f":"IF($B35=5,$Y35,0)","v":{"v":0,"d":"0.00"}},{"$f":"IF($B35=6,$Y35,0)","v":{"v":0,"d":"0.00"}},{"$f":"IF(AF34>0,IF(H35+P35+X35+AN35+AV35+BD35+BL35+BT35+CB35+CJ35=0,IF(E35>0,AF34,0),0),0)","v":0},{"$f":"G35*AF35","v":{"v":0,"d":"0.00"}},{"$f":"IF($B35=1,$AG35,0)","v":{"v":0,"d":"0.00"}},{"$f":"IF($B35=2,$AG35,0)","v":{"v":0,"d":"0.00"}},{"$f":"IF($B35=3,$AG35,0)","v":{"v":0,"d":"0.00"}},{"$f":"IF($B35=4,$AG35,0)","v":{"v":0,"d":"0.00"}},{"$f":"IF($B35=5,$AG35,0)","v":{"v":0,"d":"0.00"}},{"$f":"IF($B35=6,$AG35,0)","v":{"v":0,"d":"0.00"}},{"$f":"IF(AN34>0,IF(H35+P35+X35+AF35+AV35+BD35+BL35+BT35+CB35+CJ35=0,IF(E35>0,AN34,0),0),0)","v":0},{"$f":"G35*AN35","v":{"v":0,"d":"0.00"}},{"$f":"IF($B35=1,$AO35,0)","v":{"v":0,"d":"0.00"}},{"$f":"IF($B35=2,$AO35,0)","v":{"v":0,"d":"0.00"}},{"$f":"IF($B35=3,$AO35,0)","v":{"v":0,"d":"0.00"}},{"$f":"IF($B35=4,$AO35,0)","v":{"v":0,"d":"0.00"}},{"$f":"IF($B35=5,$AO35,0)","v":{"v":0,"d":"0.00"}},{"$f":"IF($B35=6,$AO35,0)","v":{"v":0,"d":"0.00"}},{"$f":"IF(AV34>0,IF(H35+P35+X35+AF35+AN35+BD35+BL35+BT35+CB35+CJ35=0,IF(E35>0,AV34,0),0),0)","v":0},{"$f":"G35*AV35","v":{"v":0,"d":"0.00"}},{"$f":"IF($B35=1,$AW35,0)","v":{"v":0,"d":"0.00"}},{"$f":"IF($B35=2,$AW35,0)","v":{"v":0,"d":"0.00"}},{"$f":"IF($B35=3,$AW35,0)","v":{"v":0,"d":"0.00"}},{"$f":"IF($B35=4,$AW35,0)","v":{"v":0,"d":"0.00"}},{"$f":"IF($B35=5,$AW35,0)","v":{"v":0,"d":"0.00"}},{"$f":"IF($B35=6,$AW35,0)","v":{"v":0,"d":"0.00"}},{"$f":"IF(BD34>0,IF(H35+P35+X35+AF35+AN35+AV35+BL35+BT35+CB35+CJ35=0,IF(E35>0,BD34,0),0),0)","v":0},{"$f":"G35*BD35","v":{"v":0,"d":"0.00"}},{"$f":"IF($B35=1,$BE35,0)","v":{"v":0,"d":"0.00"}},{"$f":"IF($B35=2,$BE35,0)","v":{"v":0,"d":"0.00"}},{"$f":"IF($B35=3,$BE35,0)","v":{"v":0,"d":"0.00"}},{"$f":"IF($B35=4,$BE35,0)","v":{"v":0,"d":"0.00"}},{"$f":"IF($B35=5,$BE35,0)","v":{"v":0,"d":"0.00"}},{"$f":"IF($B35=6,$BE35,0)","v":{"v":0,"d":"0.00"}},{"$f":"IF(BL34>0,IF(H35+P35+X35+AF35+AN35+AV35+BD35+BT35+CB35+CJ35=0,IF(E35>0,BL34,0),0),0)","v":0},{"$f":"G35*BL35","v":{"v":0,"d":"0.00"}},{"$f":"IF($B35=1,$BM35,0)","v":{"v":0,"d":"0.00"}},{"$f":"IF($B35=2,$BM35,0)","v":{"v":0,"d":"0.00"}},{"$f":"IF($B35=3,$BM35,0)","v":{"v":0,"d":"0.00"}},{"$f":"IF($B35=4,$BM35,0)","v":{"v":0,"d":"0.00"}},{"$f":"IF($B35=5,$BM35,0)","v":{"v":0,"d":"0.00"}},{"$f":"IF($B35=6,$BM35,0)","v":{"v":0,"d":"0.00"}},{"$f":"IF(BT34>0,IF(H35+P35+X35+AF35+AN35+AV35+BD35+BL35+CB35+CJ35=0,IF(E35>0,BT34,0),0),0)","v":0},{"$f":"G35*BT35","v":{"v":0,"d":"0.00"}},{"$f":"IF($B35=1,$BU35,0)","v":{"v":0,"d":"0.00"}},{"$f":"IF($B35=2,$BU35,0)","v":{"v":0,"d":"0.00"}},{"$f":"IF($B35=3,$BU35,0)","v":{"v":0,"d":"0.00"}},{"$f":"IF($B35=4,$BU35,0)","v":{"v":0,"d":"0.00"}},{"$f":"IF($B35=5,$BU35,0)","v":{"v":0,"d":"0.00"}},{"$f":"IF($B35=6,$BU35,0)","v":{"v":0,"d":"0.00"}},{"$f":"IF(CB34>0,IF(H35+P35+X35+AF35+AN35+AV35+BD35+BL35+BT35+CJ35=0,IF(E35>0,CB34,0),0),0)","v":0},{"$f":"G35*CB35","v":{"v":0,"d":"0.00"}},{"$f":"IF($B35=1,$CC35,0)","v":{"v":0,"d":"0.00"}},{"$f":"IF($B35=2,$CC35,0)","v":{"v":0,"d":"0.00"}},{"$f":"IF($B35=3,$CC35,0)","v":{"v":0,"d":"0.00"}},{"$f":"IF($B35=4,$CC35,0)","v":{"v":0,"d":"0.00"}},{"$f":"IF($B35=5,$CC35,0)","v":{"v":0,"d":"0.00"}},{"$f":"IF($B35=6,$CC35,0)","v":{"v":0,"d":"0.00"}},{"$f":"IF(CJ34>0,IF(H35+P35+X35+AF35+AN35+AV35+BD35+BL35+BT35+CB35=0,IF(E35>0,CJ34,0),0),0)","v":0},{"$f":"G35*CJ35","v":{"v":0,"d":"0.00"}},{"$f":"IF($B35=1,$CK35,0)","v":{"v":0,"d":"0.00"}},{"$f":"IF($B35=2,$CK35,0)","v":{"v":0,"d":"0.00"}},{"$f":"IF($B35=3,$CK35,0)","v":{"v":0,"d":"0.00"}},{"$f":"IF($B35=4,$CK35,0)","v":{"v":0,"d":"0.00"}},{"$f":"IF($B35=5,$CK35,0)","v":{"v":0,"d":"0.00"}},{"$f":"IF($B35=6,$CK35,0)","v":{"v":0,"d":"0.00"}}]
[{"$f":"IF(C35<>C36,C36,\"\")","v":""},{"$f":"IF(C35<>C36,_xlfn.DAYS(C36,C35)+B35,B35)","v":1},{"$f":"IF(D36>0,IF(D36<E35,C35+1,C35),C35)","v":"2009-02-02"},{"$f":"IF((E36+H36+P36+X36+AF36+AN36+AV36+BD36+BL36+BT36+CB36+CJ36)>0,E35,0)","v":"00:00:00"},null,{"$f":"E36-D36","v":"00:00:00"},{"$f":"IF(E36>0,HOUR(F36)+(MINUTE(F36)/60),0)","v":0},{"$f":"IF(H35>0,IF(P36+X36+AF36+AN36+AV36+BD36+BL36+BT36+CB36+CJ36=0,IF(E36>0,H35,0),0),0)","v":0},{"$f":"G36*H36","v":{"v":0,"d":"0.00"}},{"$f":"IF($B36=1,$I36,0)","v":{"v":0,"d":"0.00"}},{"$f":"IF($B36=2,$I36,0)","v":{"v":0,"d":"0.00"}},{"$f":"IF($B36=3,$I36,0)","v":{"v":0,"d":"0.00"}},{"$f":"IF($B36=4,$I36,0)","v":{"v":0,"d":"0.00"}},{"$f":"IF($B36=5,$I36,0)","v":{"v":0,"d":"0.00"}},{"$f":"IF($B36=6,$I36,0)","v":{"v":0,"d":"0.00"}},{"$f":"IF(P35>0,IF(H36+X36+AF36+AN36+AV36+BD36+BL36+BT36+CB36+CJ36=0,IF(E36>0,P35,0),0),0)","v":0},{"$f":"G36*P36","v":{"v":0,"d":"0.00"}},{"$f":"IF(B36=1,Q36,0)","v":{"v":0,"d":"0.00"}},{"$f":"IF(B36=2,Q36,0)","v":{"v":0,"d":"0.00"}},{"$f":"IF(B36=3,Q36,0)","v":{"v":0,"d":"0.00"}},{"$f":"IF(B36=4,Q36,0)","v":{"v":0,"d":"0.00"}},{"$f":"IF(B36=5,Q36,0)","v":{"v":0,"d":"0.00"}},{"$f":"IF(B36=6,Q36,0)","v":{"v":0,"d":"0.00"}},{"$f":"IF(X35>0,IF(H36+P36+AF36+AN36+AV36+BD36+BL36+BT36+CB36+CJ36=0,IF(E36>0,X35,0),0),0)","v":0},{"$f":"G36*X36","v":{"v":0,"d":"0.00"}},{"$f":"IF($B36=1,$Y36,0)","v":{"v":0,"d":"0.00"}},{"$f":"IF($B36=2,$Y36,0)","v":{"v":0,"d":"0.00"}},{"$f":"IF($B36=3,$Y36,0)","v":{"v":0,"d":"0.00"}},{"$f":"IF($B36=4,$Y36,0)","v":{"v":0,"d":"0.00"}},{"$f":"IF($B36=5,$Y36,0)","v":{"v":0,"d":"0.00"}},{"$f":"IF($B36=6,$Y36,0)","v":{"v":0,"d":"0.00"}},{"$f":"IF(AF35>0,IF(H36+P36+X36+AN36+AV36+BD36+BL36+BT36+CB36+CJ36=0,IF(E36>0,AF35,0),0),0)","v":0},{"$f":"G36*AF36","v":{"v":0,"d":"0.00"}},{"$f":"IF($B36=1,$AG36,0)","v":{"v":0,"d":"0.00"}},{"$f":"IF($B36=2,$AG36,0)","v":{"v":0,"d":"0.00"}},{"$f":"IF($B36=3,$AG36,0)","v":{"v":0,"d":"0.00"}},{"$f":"IF($B36=4,$AG36,0)","v":{"v":0,"d":"0.00"}},{"$f":"IF($B36=5,$AG36,0)","v":{"v":0,"d":"0.00"}},{"$f":"IF($B36=6,$AG36,0)","v":{"v":0,"d":"0.00"}},{"$f":"IF(AN35>0,IF(H36+P36+X36+AF36+AV36+BD36+BL36+BT36+CB36+CJ36=0,IF(E36>0,AN35,0),0),0)","v":0},{"$f":"G36*AN36","v":{"v":0,"d":"0.00"}},{"$f":"IF($B36=1,$AO36,0)","v":{"v":0,"d":"0.00"}},{"$f":"IF($B36=2,$AO36,0)","v":{"v":0,"d":"0.00"}},{"$f":"IF($B36=3,$AO36,0)","v":{"v":0,"d":"0.00"}},{"$f":"IF($B36=4,$AO36,0)","v":{"v":0,"d":"0.00"}},{"$f":"IF($B36=5,$AO36,0)","v":{"v":0,"d":"0.00"}},{"$f":"IF($B36=6,$AO36,0)","v":{"v":0,"d":"0.00"}},{"$f":"IF(AV35>0,IF(H36+P36+X36+AF36+AN36+BD36+BL36+BT36+CB36+CJ36=0,IF(E36>0,AV35,0),0),0)","v":0},{"$f":"G36*AV36","v":{"v":0,"d":"0.00"}},{"$f":"IF($B36=1,$AW36,0)","v":{"v":0,"d":"0.00"}},{"$f":"IF($B36=2,$AW36,0)","v":{"v":0,"d":"0.00"}},{"$f":"IF($B36=3,$AW36,0)","v":{"v":0,"d":"0.00"}},{"$f":"IF($B36=4,$AW36,0)","v":{"v":0,"d":"0.00"}},{"$f":"IF($B36=5,$AW36,0)","v":{"v":0,"d":"0.00"}},{"$f":"IF($B36=6,$AW36,0)","v":{"v":0,"d":"0.00"}},{"$f":"IF(BD35>0,IF(H36+P36+X36+AF36+AN36+AV36+BL36+BT36+CB36+CJ36=0,IF(E36>0,BD35,0),0),0)","v":0},{"$f":"G36*BD36","v":{"v":0,"d":"0.00"}},{"$f":"IF($B36=1,$BE36,0)","v":{"v":0,"d":"0.00"}},{"$f":"IF($B36=2,$BE36,0)","v":{"v":0,"d":"0.00"}},{"$f":"IF($B36=3,$BE36,0)","v":{"v":0,"d":"0.00"}},{"$f":"IF($B36=4,$BE36,0)","v":{"v":0,"d":"0.00"}},{"$f":"IF($B36=5,$BE36,0)","v":{"v":0,"d":"0.00"}},{"$f":"IF($B36=6,$BE36,0)","v":{"v":0,"d":"0.00"}},{"$f":"IF(BL35>0,IF(H36+P36+X36+AF36+AN36+AV36+BD36+BT36+CB36+CJ36=0,IF(E36>0,BL35,0),0),0)","v":0},{"$f":"G36*BL36","v":{"v":0,"d":"0.00"}},{"$f":"IF($B36=1,$BM36,0)","v":{"v":0,"d":"0.00"}},{"$f":"IF($B36=2,$BM36,0)","v":{"v":0,"d":"0.00"}},{"$f":"IF($B36=3,$BM36,0)","v":{"v":0,"d":"0.00"}},{"$f":"IF($B36=4,$BM36,0)","v":{"v":0,"d":"0.00"}},{"$f":"IF($B36=5,$BM36,0)","v":{"v":0,"d":"0.00"}},{"$f":"IF($B36=6,$BM36,0)","v":{"v":0,"d":"0.00"}},{"$f":"IF(BT35>0,IF(H36+P36+X36+AF36+AN36+AV36+BD36+BL36+CB36+CJ36=0,IF(E36>0,BT35,0),0),0)","v":0},{"$f":"G36*BT36","v":{"v":0,"d":"0.00"}},{"$f":"IF($B36=1,$BU36,0)","v":{"v":0,"d":"0.00"}},{"$f":"IF($B36=2,$BU36,0)","v":{"v":0,"d":"0.00"}},{"$f":"IF($B36=3,$BU36,0)","v":{"v":0,"d":"0.00"}},{"$f":"IF($B36=4,$BU36,0)","v":{"v":0,"d":"0.00"}},{"$f":"IF($B36=5,$BU36,0)","v":{"v":0,"d":"0.00"}},{"$f":"IF($B36=6,$BU36,0)","v":{"v":0,"d":"0.00"}},{"$f":"IF(CB35>0,IF(H36+P36+X36+AF36+AN36+AV36+BD36+BL36+BT36+CJ36=0,IF(E36>0,CB35,0),0),0)","v":0},{"$f":"G36*CB36","v":{"v":0,"d":"0.00"}},{"$f":"IF($B36=1,$CC36,0)","v":{"v":0,"d":"0.00"}},{"$f":"IF($B36=2,$CC36,0)","v":{"v":0,"d":"0.00"}},{"$f":"IF($B36=3,$CC36,0)","v":{"v":0,"d":"0.00"}},{"$f":"IF($B36=4,$CC36,0)","v":{"v":0,"d":"0.00"}},{"$f":"IF($B36=5,$CC36,0)","v":{"v":0,"d":"0.00"}},{"$f":"IF($B36=6,$CC36,0)","v":{"v":0,"d":"0.00"}},{"$f":"IF(CJ35>0,IF(H36+P36+X36+AF36+AN36+AV36+BD36+BL36+BT36+CB36=0,IF(E36>0,CJ35,0),0),0)","v":0},{"$f":"G36*CJ36","v":{"v":0,"d":"0.00"}},{"$f":"IF($B36=1,$CK36,0)","v":{"v":0,"d":"0.00"}},{"$f":"IF($B36=2,$CK36,0)","v":{"v":0,"d":"0.00"}},{"$f":"IF($B36=3,$CK36,0)","v":{"v":0,"d":"0.00"}},{"$f":"IF($B36=4,$CK36,0)","v":{"v":0,"d":"0.00"}},{"$f":"IF($B36=5,$CK36,0)","v":{"v":0,"d":"0.00"}},{"$f":"IF($B36=6,$CK36,0)","v":{"v":0,"d":"0.00"}}]
[{"$f":"IF(C36<>C37,C37,\"\")","v":""},{"$f":"IF(C36<>C37,_xlfn.DAYS(C37,C36)+B36,B36)","v":1},{"$f":"IF(D37>0,IF(D37<E36,C36+1,C36),C36)","v":"2009-02-02"},{"$f":"IF((E37+H37+P37+X37+AF37+AN37+AV37+BD37+BL37+BT37+CB37+CJ37)>0,E36,0)","v":"00:00:00"},null,{"$f":"E37-D37","v":"00:00:00"},{"$f":"IF(E37>0,HOUR(F37)+(MINUTE(F37)/60),0)","v":0},{"$f":"IF(H36>0,IF(P37+X37+AF37+AN37+AV37+BD37+BL37+BT37+CB37+CJ37=0,IF(E37>0,H36,0),0),0)","v":0},{"$f":"G37*H37","v":{"v":0,"d":"0.00"}},{"$f":"IF($B37=1,$I37,0)","v":{"v":0,"d":"0.00"}},{"$f":"IF($B37=2,$I37,0)","v":{"v":0,"d":"0.00"}},{"$f":"IF($B37=3,$I37,0)","v":{"v":0,"d":"0.00"}},{"$f":"IF($B37=4,$I37,0)","v":{"v":0,"d":"0.00"}},{"$f":"IF($B37=5,$I37,0)","v":{"v":0,"d":"0.00"}},{"$f":"IF($B37=6,$I37,0)","v":{"v":0,"d":"0.00"}},{"$f":"IF(P36>0,IF(H37+X37+AF37+AN37+AV37+BD37+BL37+BT37+CB37+CJ37=0,IF(E37>0,P36,0),0),0)","v":0},{"$f":"G37*P37","v":{"v":0,"d":"0.00"}},{"$f":"IF(B37=1,Q37,0)","v":{"v":0,"d":"0.00"}},{"$f":"IF(B37=2,Q37,0)","v":{"v":0,"d":"0.00"}},{"$f":"IF(B37=3,Q37,0)","v":{"v":0,"d":"0.00"}},{"$f":"IF(B37=4,Q37,0)","v":{"v":0,"d":"0.00"}},{"$f":"IF(B37=5,Q37,0)","v":{"v":0,"d":"0.00"}},{"$f":"IF(B37=6,Q37,0)","v":{"v":0,"d":"0.00"}},{"$f":"IF(X36>0,IF(H37+P37+AF37+AN37+AV37+BD37+BL37+BT37+CB37+CJ37=0,IF(E37>0,X36,0),0),0)","v":0},{"$f":"G37*X37","v":{"v":0,"d":"0.00"}},{"$f":"IF($B37=1,$Y37,0)","v":{"v":0,"d":"0.00"}},{"$f":"IF($B37=2,$Y37,0)","v":{"v":0,"d":"0.00"}},{"$f":"IF($B37=3,$Y37,0)","v":{"v":0,"d":"0.00"}},{"$f":"IF($B37=4,$Y37,0)","v":{"v":0,"d":"0.00"}},{"$f":"IF($B37=5,$Y37,0)","v":{"v":0,"d":"0.00"}},{"$f":"IF($B37=6,$Y37,0)","v":{"v":0,"d":"0.00"}},{"$f":"IF(AF36>0,IF(H37+P37+X37+AN37+AV37+BD37+BL37+BT37+CB37+CJ37=0,IF(E37>0,AF36,0),0),0)","v":0},{"$f":"G37*AF37","v":{"v":0,"d":"0.00"}},{"$f":"IF($B37=1,$AG37,0)","v":{"v":0,"d":"0.00"}},{"$f":"IF($B37=2,$AG37,0)","v":{"v":0,"d":"0.00"}},{"$f":"IF($B37=3,$AG37,0)","v":{"v":0,"d":"0.00"}},{"$f":"IF($B37=4,$AG37,0)","v":{"v":0,"d":"0.00"}},{"$f":"IF($B37=5,$AG37,0)","v":{"v":0,"d":"0.00"}},{"$f":"IF($B37=6,$AG37,0)","v":{"v":0,"d":"0.00"}},{"$f":"IF(AN36>0,IF(H37+P37+X37+AF37+AV37+BD37+BL37+BT37+CB37+CJ37=0,IF(E37>0,AN36,0),0),0)","v":0},{"$f":"G37*AN37","v":{"v":0,"d":"0.00"}},{"$f":"IF($B37=1,$AO37,0)","v":{"v":0,"d":"0.00"}},{"$f":"IF($B37=2,$AO37,0)","v":{"v":0,"d":"0.00"}},{"$f":"IF($B37=3,$AO37,0)","v":{"v":0,"d":"0.00"}},{"$f":"IF($B37=4,$AO37,0)","v":{"v":0,"d":"0.00"}},{"$f":"IF($B37=5,$AO37,0)","v":{"v":0,"d":"0.00"}},{"$f":"IF($B37=6,$AO37,0)","v":{"v":0,"d":"0.00"}},{"$f":"IF(AV36>0,IF(H37+P37+X37+AF37+AN37+BD37+BL37+BT37+CB37+CJ37=0,IF(E37>0,AV36,0),0),0)","v":0},{"$f":"G37*AV37","v":{"v":0,"d":"0.00"}},{"$f":"IF($B37=1,$AW37,0)","v":{"v":0,"d":"0.00"}},{"$f":"IF($B37=2,$AW37,0)","v":{"v":0,"d":"0.00"}},{"$f":"IF($B37=3,$AW37,0)","v":{"v":0,"d":"0.00"}},{"$f":"IF($B37=4,$AW37,0)","v":{"v":0,"d":"0.00"}},{"$f":"IF($B37=5,$AW37,0)","v":{"v":0,"d":"0.00"}},{"$f":"IF($B37=6,$AW37,0)","v":{"v":0,"d":"0.00"}},{"$f":"IF(BD36>0,IF(H37+P37+X37+AF37+AN37+AV37+BL37+BT37+CB37+CJ37=0,IF(E37>0,BD36,0),0),0)","v":0},{"$f":"G37*BD37","v":{"v":0,"d":"0.00"}},{"$f":"IF($B37=1,$BE37,0)","v":{"v":0,"d":"0.00"}},{"$f":"IF($B37=2,$BE37,0)","v":{"v":0,"d":"0.00"}},{"$f":"IF($B37=3,$BE37,0)","v":{"v":0,"d":"0.00"}},{"$f":"IF($B37=4,$BE37,0)","v":{"v":0,"d":"0.00"}},{"$f":"IF($B37=5,$BE37,0)","v":{"v":0,"d":"0.00"}},{"$f":"IF($B37=6,$BE37,0)","v":{"v":0,"d":"0.00"}},{"$f":"IF(BL36>0,IF(H37+P37+X37+AF37+AN37+AV37+BD37+BT37+CB37+CJ37=0,IF(E37>0,BL36,0),0),0)","v":0},{"$f":"G37*BL37","v":{"v":0,"d":"0.00"}},{"$f":"IF($B37=1,$BM37,0)","v":{"v":0,"d":"0.00"}},{"$f":"IF($B37=2,$BM37,0)","v":{"v":0,"d":"0.00"}},{"$f":"IF($B37=3,$BM37,0)","v":{"v":0,"d":"0.00"}},{"$f":"IF($B37=4,$BM37,0)","v":{"v":0,"d":"0.00"}},{"$f":"IF($B37=5,$BM37,0)","v":{"v":0,"d":"0.00"}},{"$f":"IF($B37=6,$BM37,0)","v":{"v":0,"d":"0.00"}},{"$f":"IF(BT36>0,IF(H37+P37+X37+AF37+AN37+AV37+BD37+BL37+CB37+CJ37=0,IF(E37>0,BT36,0),0),0)","v":0},{"$f":"G37*BT37","v":{"v":0,"d":"0.00"}},{"$f":"IF($B37=1,$BU37,0)","v":{"v":0,"d":"0.00"}},{"$f":"IF($B37=2,$BU37,0)","v":{"v":0,"d":"0.00"}},{"$f":"IF($B37=3,$BU37,0)","v":{"v":0,"d":"0.00"}},{"$f":"IF($B37=4,$BU37,0)","v":{"v":0,"d":"0.00"}},{"$f":"IF($B37=5,$BU37,0)","v":{"v":0,"d":"0.00"}},{"$f":"IF($B37=6,$BU37,0)","v":{"v":0,"d":"0.00"}},{"$f":"IF(CB36>0,IF(H37+P37+X37+AF37+AN37+AV37+BD37+BL37+BT37+CJ37=0,IF(E37>0,CB36,0),0),0)","v":0},{"$f":"G37*CB37","v":{"v":0,"d":"0.00"}},{"$f":"IF($B37=1,$CC37,0)","v":{"v":0,"d":"0.00"}},{"$f":"IF($B37=2,$CC37,0)","v":{"v":0,"d":"0.00"}},{"$f":"IF($B37=3,$CC37,0)","v":{"v":0,"d":"0.00"}},{"$f":"IF($B37=4,$CC37,0)","v":{"v":0,"d":"0.00"}},{"$f":"IF($B37=5,$CC37,0)","v":{"v":0,"d":"0.00"}},{"$f":"IF($B37=6,$CC37,0)","v":{"v":0,"d":"0.00"}},{"$f":"IF(CJ36>0,IF(H37+P37+X37+AF37+AN37+AV37+BD37+BL37+BT37+CB37=0,IF(E37>0,CJ36,0),0),0)","v":0},{"$f":"G37*CJ37","v":{"v":0,"d":"0.00"}},{"$f":"IF($B37=1,$CK37,0)","v":{"v":0,"d":"0.00"}},{"$f":"IF($B37=2,$CK37,0)","v":{"v":0,"d":"0.00"}},{"$f":"IF($B37=3,$CK37,0)","v":{"v":0,"d":"0.00"}},{"$f":"IF($B37=4,$CK37,0)","v":{"v":0,"d":"0.00"}},{"$f":"IF($B37=5,$CK37,0)","v":{"v":0,"d":"0.00"}},{"$f":"IF($B37=6,$CK37,0)","v":{"v":0,"d":"0.00"}}]
[{"$f":"IF(C37<>C38,C38,\"\")","v":""},{"$f":"IF(C37<>C38,_xlfn.DAYS(C38,C37)+B37,B37)","v":1},{"$f":"IF(D38>0,IF(D38<E37,C37+1,C37),C37)","v":"2009-02-02"},{"$f":"IF((E38+H38+P38+X38+AF38+AN38+AV38+BD38+BL38+BT38+CB38+CJ38)>0,E37,0)","v":"00:00:00"},null,{"$f":"E38-D38","v":"00:00:00"},{"$f":"IF(E38>0,HOUR(F38)+(MINUTE(F38)/60),0)","v":0},{"$f":"IF(H37>0,IF(P38+X38+AF38+AN38+AV38+BD38+BL38+BT38+CB38+CJ38=0,IF(E38>0,H37,0),0),0)","v":0},{"$f":"G38*H38","v":{"v":0,"d":"0.00"}},{"$f":"IF($B38=1,$I38,0)","v":{"v":0,"d":"0.00"}},{"$f":"IF($B38=2,$I38,0)","v":{"v":0,"d":"0.00"}},{"$f":"IF($B38=3,$I38,0)","v":{"v":0,"d":"0.00"}},{"$f":"IF($B38=4,$I38,0)","v":{"v":0,"d":"0.00"}},{"$f":"IF($B38=5,$I38,0)","v":{"v":0,"d":"0.00"}},{"$f":"IF($B38=6,$I38,0)","v":{"v":0,"d":"0.00"}},{"$f":"IF(P37>0,IF(H38+X38+AF38+AN38+AV38+BD38+BL38+BT38+CB38+CJ38=0,IF(E38>0,P37,0),0),0)","v":0},{"$f":"G38*P38","v":{"v":0,"d":"0.00"}},{"$f":"IF(B38=1,Q38,0)","v":{"v":0,"d":"0.00"}},{"$f":"IF(B38=2,Q38,0)","v":{"v":0,"d":"0.00"}},{"$f":"IF(B38=3,Q38,0)","v":{"v":0,"d":"0.00"}},{"$f":"IF(B38=4,Q38,0)","v":{"v":0,"d":"0.00"}},{"$f":"IF(B38=5,Q38,0)","v":{"v":0,"d":"0.00"}},{"$f":"IF(B38=6,Q38,0)","v":{"v":0,"d":"0.00"}},{"$f":"IF(X37>0,IF(H38+P38+AF38+AN38+AV38+BD38+BL38+BT38+CB38+CJ38=0,IF(E38>0,X37,0),0),0)","v":0},{"$f":"G38*X38","v":{"v":0,"d":"0.00"}},{"$f":"IF($B38=1,$Y38,0)","v":{"v":0,"d":"0.00"}},{"$f":"IF($B38=2,$Y38,0)","v":{"v":0,"d":"0.00"}},{"$f":"IF($B38=3,$Y38,0)","v":{"v":0,"d":"0.00"}},{"$f":"IF($B38=4,$Y38,0)","v":{"v":0,"d":"0.00"}},{"$f":"IF($B38=5,$Y38,0)","v":{"v":0,"d":"0.00"}},{"$f":"IF($B38=6,$Y38,0)","v":{"v":0,"d":"0.00"}},{"$f":"IF(AF37>0,IF(H38+P38+X38+AN38+AV38+BD38+BL38+BT38+CB38+CJ38=0,IF(E38>0,AF37,0),0),0)","v":0},{"$f":"G38*AF38","v":{"v":0,"d":"0.00"}},{"$f":"IF($B38=1,$AG38,0)","v":{"v":0,"d":"0.00"}},{"$f":"IF($B38=2,$AG38,0)","v":{"v":0,"d":"0.00"}},{"$f":"IF($B38=3,$AG38,0)","v":{"v":0,"d":"0.00"}},{"$f":"IF($B38=4,$AG38,0)","v":{"v":0,"d":"0.00"}},{"$f":"IF($B38=5,$AG38,0)","v":{"v":0,"d":"0.00"}},{"$f":"IF($B38=6,$AG38,0)","v":{"v":0,"d":"0.00"}},{"$f":"IF(AN37>0,IF(H38+P38+X38+AF38+AV38+BD38+BL38+BT38+CB38+CJ38=0,IF(E38>0,AN37,0),0),0)","v":0},{"$f":"G38*AN38","v":{"v":0,"d":"0.00"}},{"$f":"IF($B38=1,$AO38,0)","v":{"v":0,"d":"0.00"}},{"$f":"IF($B38=2,$AO38,0)","v":{"v":0,"d":"0.00"}},{"$f":"IF($B38=3,$AO38,0)","v":{"v":0,"d":"0.00"}},{"$f":"IF($B38=4,$AO38,0)","v":{"v":0,"d":"0.00"}},{"$f":"IF($B38=5,$AO38,0)","v":{"v":0,"d":"0.00"}},{"$f":"IF($B38=6,$AO38,0)","v":{"v":0,"d":"0.00"}},{"$f":"IF(AV37>0,IF(H38+P38+X38+AF38+AN38+BD38+BL38+BT38+CB38+CJ38=0,IF(E38>0,AV37,0),0),0)","v":0},{"$f":"G38*AV38","v":{"v":0,"d":"0.00"}},{"$f":"IF($B38=1,$AW38,0)","v":{"v":0,"d":"0.00"}},{"$f":"IF($B38=2,$AW38,0)","v":{"v":0,"d":"0.00"}},{"$f":"IF($B38=3,$AW38,0)","v":{"v":0,"d":"0.00"}},{"$f":"IF($B38=4,$AW38,0)","v":{"v":0,"d":"0.00"}},{"$f":"IF($B38=5,$AW38,0)","v":{"v":0,"d":"0.00"}},{"$f":"IF($B38=6,$AW38,0)","v":{"v":0,"d":"0.00"}},{"$f":"IF(BD37>0,IF(H38+P38+X38+AF38+AN38+AV38+BL38+BT38+CB38+CJ38=0,IF(E38>0,BD37,0),0),0)","v":0},{"$f":"G38*BD38","v":{"v":0,"d":"0.00"}},{"$f":"IF($B38=1,$BE38,0)","v":{"v":0,"d":"0.00"}},{"$f":"IF($B38=2,$BE38,0)","v":{"v":0,"d":"0.00"}},{"$f":"IF($B38=3,$BE38,0)","v":{"v":0,"d":"0.00"}},{"$f":"IF($B38=4,$BE38,0)","v":{"v":0,"d":"0.00"}},{"$f":"IF($B38=5,$BE38,0)","v":{"v":0,"d":"0.00"}},{"$f":"IF($B38=6,$BE38,0)","v":{"v":0,"d":"0.00"}},{"$f":"IF(BL37>0,IF(H38+P38+X38+AF38+AN38+AV38+BD38+BT38+CB38+CJ38=0,IF(E38>0,BL37,0),0),0)","v":0},{"$f":"G38*BL38","v":{"v":0,"d":"0.00"}},{"$f":"IF($B38=1,$BM38,0)","v":{"v":0,"d":"0.00"}},{"$f":"IF($B38=2,$BM38,0)","v":{"v":0,"d":"0.00"}},{"$f":"IF($B38=3,$BM38,0)","v":{"v":0,"d":"0.00"}},{"$f":"IF($B38=4,$BM38,0)","v":{"v":0,"d":"0.00"}},{"$f":"IF($B38=5,$BM38,0)","v":{"v":0,"d":"0.00"}},{"$f":"IF($B38=6,$BM38,0)","v":{"v":0,"d":"0.00"}},{"$f":"IF(BT37>0,IF(H38+P38+X38+AF38+AN38+AV38+BD38+BL38+CB38+CJ38=0,IF(E38>0,BT37,0),0),0)","v":0},{"$f":"G38*BT38","v":{"v":0,"d":"0.00"}},{"$f":"IF($B38=1,$BU38,0)","v":{"v":0,"d":"0.00"}},{"$f":"IF($B38=2,$BU38,0)","v":{"v":0,"d":"0.00"}},{"$f":"IF($B38=3,$BU38,0)","v":{"v":0,"d":"0.00"}},{"$f":"IF($B38=4,$BU38,0)","v":{"v":0,"d":"0.00"}},{"$f":"IF($B38=5,$BU38,0)","v":{"v":0,"d":"0.00"}},{"$f":"IF($B38=6,$BU38,0)","v":{"v":0,"d":"0.00"}},{"$f":"IF(CB37>0,IF(H38+P38+X38+AF38+AN38+AV38+BD38+BL38+BT38+CJ38=0,IF(E38>0,CB37,0),0),0)","v":0},{"$f":"G38*CB38","v":{"v":0,"d":"0.00"}},{"$f":"IF($B38=1,$CC38,0)","v":{"v":0,"d":"0.00"}},{"$f":"IF($B38=2,$CC38,0)","v":{"v":0,"d":"0.00"}},{"$f":"IF($B38=3,$CC38,0)","v":{"v":0,"d":"0.00"}},{"$f":"IF($B38=4,$CC38,0)","v":{"v":0,"d":"0.00"}},{"$f":"IF($B38=5,$CC38,0)","v":{"v":0,"d":"0.00"}},{"$f":"IF($B38=6,$CC38,0)","v":{"v":0,"d":"0.00"}},{"$f":"IF(CJ37>0,IF(H38+P38+X38+AF38+AN38+AV38+BD38+BL38+BT38+CB38=0,IF(E38>0,CJ37,0),0),0)","v":0},{"$f":"G38*CJ38","v":{"v":0,"d":"0.00"}},{"$f":"IF($B38=1,$CK38,0)","v":{"v":0,"d":"0.00"}},{"$f":"IF($B38=2,$CK38,0)","v":{"v":0,"d":"0.00"}},{"$f":"IF($B38=3,$CK38,0)","v":{"v":0,"d":"0.00"}},{"$f":"IF($B38=4,$CK38,0)","v":{"v":0,"d":"0.00"}},{"$f":"IF($B38=5,$CK38,0)","v":{"v":0,"d":"0.00"}},{"$f":"IF($B38=6,$CK38,0)","v":{"v":0,"d":"0.00"}}]
[{"$f":"IF(C38<>C39,C39,\"\")","v":""},{"$f":"IF(C38<>C39,_xlfn.DAYS(C39,C38)+B38,B38)","v":1},{"$f":"IF(D39>0,IF(D39<E38,C38+1,C38),C38)","v":"2009-02-02"},{"$f":"IF((E39+H39+P39+X39+AF39+AN39+AV39+BD39+BL39+BT39+CB39+CJ39)>0,E38,0)","v":"00:00:00"},null,{"$f":"E39-D39","v":"00:00:00"},{"$f":"IF(E39>0,HOUR(F39)+(MINUTE(F39)/60),0)","v":0},{"$f":"IF(H38>0,IF(P39+X39+AF39+AN39+AV39+BD39+BL39+BT39+CB39+CJ39=0,IF(E39>0,H38,0),0),0)","v":0},{"$f":"G39*H39","v":{"v":0,"d":"0.00"}},{"$f":"IF($B39=1,$I39,0)","v":{"v":0,"d":"0.00"}},{"$f":"IF($B39=2,$I39,0)","v":{"v":0,"d":"0.00"}},{"$f":"IF($B39=3,$I39,0)","v":{"v":0,"d":"0.00"}},{"$f":"IF($B39=4,$I39,0)","v":{"v":0,"d":"0.00"}},{"$f":"IF($B39=5,$I39,0)","v":{"v":0,"d":"0.00"}},{"$f":"IF($B39=6,$I39,0)","v":{"v":0,"d":"0.00"}},{"$f":"IF(P38>0,IF(H39+X39+AF39+AN39+AV39+BD39+BL39+BT39+CB39+CJ39=0,IF(E39>0,P38,0),0),0)","v":0},{"$f":"G39*P39","v":{"v":0,"d":"0.00"}},{"$f":"IF(B39=1,Q39,0)","v":{"v":0,"d":"0.00"}},{"$f":"IF(B39=2,Q39,0)","v":{"v":0,"d":"0.00"}},{"$f":"IF(B39=3,Q39,0)","v":{"v":0,"d":"0.00"}},{"$f":"IF(B39=4,Q39,0)","v":{"v":0,"d":"0.00"}},{"$f":"IF(B39=5,Q39,0)","v":{"v":0,"d":"0.00"}},{"$f":"IF(B39=6,Q39,0)","v":{"v":0,"d":"0.00"}},{"$f":"IF(X38>0,IF(H39+P39+AF39+AN39+AV39+BD39+BL39+BT39+CB39+CJ39=0,IF(E39>0,X38,0),0),0)","v":0},{"$f":"G39*X39","v":{"v":0,"d":"0.00"}},{"$f":"IF($B39=1,$Y39,0)","v":{"v":0,"d":"0.00"}},{"$f":"IF($B39=2,$Y39,0)","v":{"v":0,"d":"0.00"}},{"$f":"IF($B39=3,$Y39,0)","v":{"v":0,"d":"0.00"}},{"$f":"IF($B39=4,$Y39,0)","v":{"v":0,"d":"0.00"}},{"$f":"IF($B39=5,$Y39,0)","v":{"v":0,"d":"0.00"}},{"$f":"IF($B39=6,$Y39,0)","v":{"v":0,"d":"0.00"}},{"$f":"IF(AF38>0,IF(H39+P39+X39+AN39+AV39+BD39+BL39+BT39+CB39+CJ39=0,IF(E39>0,AF38,0),0),0)","v":0},{"$f":"G39*AF39","v":{"v":0,"d":"0.00"}},{"$f":"IF($B39=1,$AG39,0)","v":{"v":0,"d":"0.00"}},{"$f":"IF($B39=2,$AG39,0)","v":{"v":0,"d":"0.00"}},{"$f":"IF($B39=3,$AG39,0)","v":{"v":0,"d":"0.00"}},{"$f":"IF($B39=4,$AG39,0)","v":{"v":0,"d":"0.00"}},{"$f":"IF($B39=5,$AG39,0)","v":{"v":0,"d":"0.00"}},{"$f":"IF($B39=6,$AG39,0)","v":{"v":0,"d":"0.00"}},{"$f":"IF(AN38>0,IF(H39+P39+X39+AF39+AV39+BD39+BL39+BT39+CB39+CJ39=0,IF(E39>0,AN38,0),0),0)","v":0},{"$f":"G39*AN39","v":{"v":0,"d":"0.00"}},{"$f":"IF($B39=1,$AO39,0)","v":{"v":0,"d":"0.00"}},{"$f":"IF($B39=2,$AO39,0)","v":{"v":0,"d":"0.00"}},{"$f":"IF($B39=3,$AO39,0)","v":{"v":0,"d":"0.00"}},{"$f":"IF($B39=4,$AO39,0)","v":{"v":0,"d":"0.00"}},{"$f":"IF($B39=5,$AO39,0)","v":{"v":0,"d":"0.00"}},{"$f":"IF($B39=6,$AO39,0)","v":{"v":0,"d":"0.00"}},{"$f":"IF(AV38>0,IF(H39+P39+X39+AF39+AN39+BD39+BL39+BT39+CB39+CJ39=0,IF(E39>0,AV38,0),0),0)","v":0},{"$f":"G39*AV39","v":{"v":0,"d":"0.00"}},{"$f":"IF($B39=1,$AW39,0)","v":{"v":0,"d":"0.00"}},{"$f":"IF($B39=2,$AW39,0)","v":{"v":0,"d":"0.00"}},{"$f":"IF($B39=3,$AW39,0)","v":{"v":0,"d":"0.00"}},{"$f":"IF($B39=4,$AW39,0)","v":{"v":0,"d":"0.00"}},{"$f":"IF($B39=5,$AW39,0)","v":{"v":0,"d":"0.00"}},{"$f":"IF($B39=6,$AW39,0)","v":{"v":0,"d":"0.00"}},{"$f":"IF(BD38>0,IF(H39+P39+X39+AF39+AN39+AV39+BL39+BT39+CB39+CJ39=0,IF(E39>0,BD38,0),0),0)","v":0},{"$f":"G39*BD39","v":{"v":0,"d":"0.00"}},{"$f":"IF($B39=1,$BE39,0)","v":{"v":0,"d":"0.00"}},{"$f":"IF($B39=2,$BE39,0)","v":{"v":0,"d":"0.00"}},{"$f":"IF($B39=3,$BE39,0)","v":{"v":0,"d":"0.00"}},{"$f":"IF($B39=4,$BE39,0)","v":{"v":0,"d":"0.00"}},{"$f":"IF($B39=5,$BE39,0)","v":{"v":0,"d":"0.00"}},{"$f":"IF($B39=6,$BE39,0)","v":{"v":0,"d":"0.00"}},{"$f":"IF(BL38>0,IF(H39+P39+X39+AF39+AN39+AV39+BD39+BT39+CB39+CJ39=0,IF(E39>0,BL38,0),0),0)","v":0},{"$f":"G39*BL39","v":{"v":0,"d":"0.00"}},{"$f":"IF($B39=1,$BM39,0)","v":{"v":0,"d":"0.00"}},{"$f":"IF($B39=2,$BM39,0)","v":{"v":0,"d":"0.00"}},{"$f":"IF($B39=3,$BM39,0)","v":{"v":0,"d":"0.00"}},{"$f":"IF($B39=4,$BM39,0)","v":{"v":0,"d":"0.00"}},{"$f":"IF($B39=5,$BM39,0)","v":{"v":0,"d":"0.00"}},{"$f":"IF($B39=6,$BM39,0)","v":{"v":0,"d":"0.00"}},{"$f":"IF(BT38>0,IF(H39+P39+X39+AF39+AN39+AV39+BD39+BL39+CB39+CJ39=0,IF(E39>0,BT38,0),0),0)","v":0},{"$f":"G39*BT39","v":{"v":0,"d":"0.00"}},{"$f":"IF($B39=1,$BU39,0)","v":{"v":0,"d":"0.00"}},{"$f":"IF($B39=2,$BU39,0)","v":{"v":0,"d":"0.00"}},{"$f":"IF($B39=3,$BU39,0)","v":{"v":0,"d":"0.00"}},{"$f":"IF($B39=4,$BU39,0)","v":{"v":0,"d":"0.00"}},{"$f":"IF($B39=5,$BU39,0)","v":{"v":0,"d":"0.00"}},{"$f":"IF($B39=6,$BU39,0)","v":{"v":0,"d":"0.00"}},{"$f":"IF(CB38>0,IF(H39+P39+X39+AF39+AN39+AV39+BD39+BL39+BT39+CJ39=0,IF(E39>0,CB38,0),0),0)","v":0},{"$f":"G39*CB39","v":{"v":0,"d":"0.00"}},{"$f":"IF($B39=1,$CC39,0)","v":{"v":0,"d":"0.00"}},{"$f":"IF($B39=2,$CC39,0)","v":{"v":0,"d":"0.00"}},{"$f":"IF($B39=3,$CC39,0)","v":{"v":0,"d":"0.00"}},{"$f":"IF($B39=4,$CC39,0)","v":{"v":0,"d":"0.00"}},{"$f":"IF($B39=5,$CC39,0)","v":{"v":0,"d":"0.00"}},{"$f":"IF($B39=6,$CC39,0)","v":{"v":0,"d":"0.00"}},{"$f":"IF(CJ38>0,IF(H39+P39+X39+AF39+AN39+AV39+BD39+BL39+BT39+CB39=0,IF(E39>0,CJ38,0),0),0)","v":0},{"$f":"G39*CJ39","v":{"v":0,"d":"0.00"}},{"$f":"IF($B39=1,$CK39,0)","v":{"v":0,"d":"0.00"}},{"$f":"IF($B39=2,$CK39,0)","v":{"v":0,"d":"0.00"}},{"$f":"IF($B39=3,$CK39,0)","v":{"v":0,"d":"0.00"}},{"$f":"IF($B39=4,$CK39,0)","v":{"v":0,"d":"0.00"}},{"$f":"IF($B39=5,$CK39,0)","v":{"v":0,"d":"0.00"}},{"$f":"IF($B39=6,$CK39,0)","v":{"v":0,"d":"0.00"}}]
[{"$f":"IF(C39<>C40,C40,\"\")","v":""},{"$f":"IF(C39<>C40,_xlfn.DAYS(C40,C39)+B39,B39)","v":1},{"$f":"IF(D40>0,IF(D40<E39,C39+1,C39),C39)","v":"2009-02-02"},{"$f":"IF((E40+H40+P40+X40+AF40+AN40+AV40+BD40+BL40+BT40+CB40+CJ40)>0,E39,0)","v":"00:00:00"},null,{"$f":"E40-D40","v":"00:00:00"},{"$f":"IF(E40>0,HOUR(F40)+(MINUTE(F40)/60),0)","v":0},{"$f":"IF(H39>0,IF(P40+X40+AF40+AN40+AV40+BD40+BL40+BT40+CB40+CJ40=0,IF(E40>0,H39,0),0),0)","v":0},{"$f":"G40*H40","v":{"v":0,"d":"0.00"}},{"$f":"IF($B40=1,$I40,0)","v":{"v":0,"d":"0.00"}},{"$f":"IF($B40=2,$I40,0)","v":{"v":0,"d":"0.00"}},{"$f":"IF($B40=3,$I40,0)","v":{"v":0,"d":"0.00"}},{"$f":"IF($B40=4,$I40,0)","v":{"v":0,"d":"0.00"}},{"$f":"IF($B40=5,$I40,0)","v":{"v":0,"d":"0.00"}},{"$f":"IF($B40=6,$I40,0)","v":{"v":0,"d":"0.00"}},{"$f":"IF(P39>0,IF(H40+X40+AF40+AN40+AV40+BD40+BL40+BT40+CB40+CJ40=0,IF(E40>0,P39,0),0),0)","v":0},{"$f":"G40*P40","v":{"v":0,"d":"0.00"}},{"$f":"IF(B40=1,Q40,0)","v":{"v":0,"d":"0.00"}},{"$f":"IF(B40=2,Q40,0)","v":{"v":0,"d":"0.00"}},{"$f":"IF(B40=3,Q40,0)","v":{"v":0,"d":"0.00"}},{"$f":"IF(B40=4,Q40,0)","v":{"v":0,"d":"0.00"}},{"$f":"IF(B40=5,Q40,0)","v":{"v":0,"d":"0.00"}},{"$f":"IF(B40=6,Q40,0)","v":{"v":0,"d":"0.00"}},{"$f":"IF(X39>0,IF(H40+P40+AF40+AN40+AV40+BD40+BL40+BT40+CB40+CJ40=0,IF(E40>0,X39,0),0),0)","v":0},{"$f":"G40*X40","v":{"v":0,"d":"0.00"}},{"$f":"IF($B40=1,$Y40,0)","v":{"v":0,"d":"0.00"}},{"$f":"IF($B40=2,$Y40,0)","v":{"v":0,"d":"0.00"}},{"$f":"IF($B40=3,$Y40,0)","v":{"v":0,"d":"0.00"}},{"$f":"IF($B40=4,$Y40,0)","v":{"v":0,"d":"0.00"}},{"$f":"IF($B40=5,$Y40,0)","v":{"v":0,"d":"0.00"}},{"$f":"IF($B40=6,$Y40,0)","v":{"v":0,"d":"0.00"}},{"$f":"IF(AF39>0,IF(H40+P40+X40+AN40+AV40+BD40+BL40+BT40+CB40+CJ40=0,IF(E40>0,AF39,0),0),0)","v":0},{"$f":"G40*AF40","v":{"v":0,"d":"0.00"}},{"$f":"IF($B40=1,$AG40,0)","v":{"v":0,"d":"0.00"}},{"$f":"IF($B40=2,$AG40,0)","v":{"v":0,"d":"0.00"}},{"$f":"IF($B40=3,$AG40,0)","v":{"v":0,"d":"0.00"}},{"$f":"IF($B40=4,$AG40,0)","v":{"v":0,"d":"0.00"}},{"$f":"IF($B40=5,$AG40,0)","v":{"v":0,"d":"0.00"}},{"$f":"IF($B40=6,$AG40,0)","v":{"v":0,"d":"0.00"}},{"$f":"IF(AN39>0,IF(H40+P40+X40+AF40+AV40+BD40+BL40+BT40+CB40+CJ40=0,IF(E40>0,AN39,0),0),0)","v":0},{"$f":"G40*AN40","v":{"v":0,"d":"0.00"}},{"$f":"IF($B40=1,$AO40,0)","v":{"v":0,"d":"0.00"}},{"$f":"IF($B40=2,$AO40,0)","v":{"v":0,"d":"0.00"}},{"$f":"IF($B40=3,$AO40,0)","v":{"v":0,"d":"0.00"}},{"$f":"IF($B40=4,$AO40,0)","v":{"v":0,"d":"0.00"}},{"$f":"IF($B40=5,$AO40,0)","v":{"v":0,"d":"0.00"}},{"$f":"IF($B40=6,$AO40,0)","v":{"v":0,"d":"0.00"}},{"$f":"IF(AV39>0,IF(H40+P40+X40+AF40+AN40+BD40+BL40+BT40+CB40+CJ40=0,IF(E40>0,AV39,0),0),0)","v":0},{"$f":"G40*AV40","v":{"v":0,"d":"0.00"}},{"$f":"IF($B40=1,$AW40,0)","v":{"v":0,"d":"0.00"}},{"$f":"IF($B40=2,$AW40,0)","v":{"v":0,"d":"0.00"}},{"$f":"IF($B40=3,$AW40,0)","v":{"v":0,"d":"0.00"}},{"$f":"IF($B40=4,$AW40,0)","v":{"v":0,"d":"0.00"}},{"$f":"IF($B40=5,$AW40,0)","v":{"v":0,"d":"0.00"}},{"$f":"IF($B40=6,$AW40,0)","v":{"v":0,"d":"0.00"}},{"$f":"IF(BD39>0,IF(H40+P40+X40+AF40+AN40+AV40+BL40+BT40+CB40+CJ40=0,IF(E40>0,BD39,0),0),0)","v":0},{"$f":"G40*BD40","v":{"v":0,"d":"0.00"}},{"$f":"IF($B40=1,$BE40,0)","v":{"v":0,"d":"0.00"}},{"$f":"IF($B40=2,$BE40,0)","v":{"v":0,"d":"0.00"}},{"$f":"IF($B40=3,$BE40,0)","v":{"v":0,"d":"0.00"}},{"$f":"IF($B40=4,$BE40,0)","v":{"v":0,"d":"0.00"}},{"$f":"IF($B40=5,$BE40,0)","v":{"v":0,"d":"0.00"}},{"$f":"IF($B40=6,$BE40,0)","v":{"v":0,"d":"0.00"}},{"$f":"IF(BL39>0,IF(H40+P40+X40+AF40+AN40+AV40+BD40+BT40+CB40+CJ40=0,IF(E40>0,BL39,0),0),0)","v":0},{"$f":"G40*BL40","v":{"v":0,"d":"0.00"}},{"$f":"IF($B40=1,$BM40,0)","v":{"v":0,"d":"0.00"}},{"$f":"IF($B40=2,$BM40,0)","v":{"v":0,"d":"0.00"}},{"$f":"IF($B40=3,$BM40,0)","v":{"v":0,"d":"0.00"}},{"$f":"IF($B40=4,$BM40,0)","v":{"v":0,"d":"0.00"}},{"$f":"IF($B40=5,$BM40,0)","v":{"v":0,"d":"0.00"}},{"$f":"IF($B40=6,$BM40,0)","v":{"v":0,"d":"0.00"}},{"$f":"IF(BT39>0,IF(H40+P40+X40+AF40+AN40+AV40+BD40+BL40+CB40+CJ40=0,IF(E40>0,BT39,0),0),0)","v":0},{"$f":"G40*BT40","v":{"v":0,"d":"0.00"}},{"$f":"IF($B40=1,$BU40,0)","v":{"v":0,"d":"0.00"}},{"$f":"IF($B40=2,$BU40,0)","v":{"v":0,"d":"0.00"}},{"$f":"IF($B40=3,$BU40,0)","v":{"v":0,"d":"0.00"}},{"$f":"IF($B40=4,$BU40,0)","v":{"v":0,"d":"0.00"}},{"$f":"IF($B40=5,$BU40,0)","v":{"v":0,"d":"0.00"}},{"$f":"IF($B40=6,$BU40,0)","v":{"v":0,"d":"0.00"}},{"$f":"IF(CB39>0,IF(H40+P40+X40+AF40+AN40+AV40+BD40+BL40+BT40+CJ40=0,IF(E40>0,CB39,0),0),0)","v":0},{"$f":"G40*CB40","v":{"v":0,"d":"0.00"}},{"$f":"IF($B40=1,$CC40,0)","v":{"v":0,"d":"0.00"}},{"$f":"IF($B40=2,$CC40,0)","v":{"v":0,"d":"0.00"}},{"$f":"IF($B40=3,$CC40,0)","v":{"v":0,"d":"0.00"}},{"$f":"IF($B40=4,$CC40,0)","v":{"v":0,"d":"0.00"}},{"$f":"IF($B40=5,$CC40,0)","v":{"v":0,"d":"0.00"}},{"$f":"IF($B40=6,$CC40,0)","v":{"v":0,"d":"0.00"}},{"$f":"IF(CJ39>0,IF(H40+P40+X40+AF40+AN40+AV40+BD40+BL40+BT40+CB40=0,IF(E40>0,CJ39,0),0),0)","v":0},{"$f":"G40*CJ40","v":{"v":0,"d":"0.00"}},{"$f":"IF($B40=1,$CK40,0)","v":{"v":0,"d":"0.00"}},{"$f":"IF($B40=2,$CK40,0)","v":{"v":0,"d":"0.00"}},{"$f":"IF($B40=3,$CK40,0)","v":{"v":0,"d":"0.00"}},{"$f":"IF($B40=4,$CK40,0)","v":{"v":0,"d":"0.00"}},{"$f":"IF($B40=5,$CK40,0)","v":{"v":0,"d":"0.00"}},{"$f":"IF($B40=6,$CK40,0)","v":{"v":0,"d":"0.00"}}]
[{"$f":"IF(C40<>C41,C41,\"\")","v":""},{"$f":"IF(C40<>C41,_xlfn.DAYS(C41,C40)+B40,B40)","v":1},{"$f":"IF(D41>0,IF(D41<E40,C40+1,C40),C40)","v":"2009-02-02"},{"$f":"IF((E41+H41+P41+X41+AF41+AN41+AV41+BD41+BL41+BT41+CB41+CJ41)>0,E40,0)","v":"00:00:00"},null,{"$f":"E41-D41","v":"00:00:00"},{"$f":"IF(E41>0,HOUR(F41)+(MINUTE(F41)/60),0)","v":0},{"$f":"IF(H40>0,IF(P41+X41+AF41+AN41+AV41+BD41+BL41+BT41+CB41+CJ41=0,IF(E41>0,H40,0),0),0)","v":0},{"$f":"G41*H41","v":{"v":0,"d":"0.00"}},{"$f":"IF($B41=1,$I41,0)","v":{"v":0,"d":"0.00"}},{"$f":"IF($B41=2,$I41,0)","v":{"v":0,"d":"0.00"}},{"$f":"IF($B41=3,$I41,0)","v":{"v":0,"d":"0.00"}},{"$f":"IF($B41=4,$I41,0)","v":{"v":0,"d":"0.00"}},{"$f":"IF($B41=5,$I41,0)","v":{"v":0,"d":"0.00"}},{"$f":"IF($B41=6,$I41,0)","v":{"v":0,"d":"0.00"}},{"$f":"IF(P40>0,IF(H41+X41+AF41+AN41+AV41+BD41+BL41+BT41+CB41+CJ41=0,IF(E41>0,P40,0),0),0)","v":0},{"$f":"G41*P41","v":{"v":0,"d":"0.00"}},{"$f":"IF(B41=1,Q41,0)","v":{"v":0,"d":"0.00"}},{"$f":"IF(B41=2,Q41,0)","v":{"v":0,"d":"0.00"}},{"$f":"IF(B41=3,Q41,0)","v":{"v":0,"d":"0.00"}},{"$f":"IF(B41=4,Q41,0)","v":{"v":0,"d":"0.00"}},{"$f":"IF(B41=5,Q41,0)","v":{"v":0,"d":"0.00"}},{"$f":"IF(B41=6,Q41,0)","v":{"v":0,"d":"0.00"}},{"$f":"IF(X40>0,IF(H41+P41+AF41+AN41+AV41+BD41+BL41+BT41+CB41+CJ41=0,IF(E41>0,X40,0),0),0)","v":0},{"$f":"G41*X41","v":{"v":0,"d":"0.00"}},{"$f":"IF($B41=1,$Y41,0)","v":{"v":0,"d":"0.00"}},{"$f":"IF($B41=2,$Y41,0)","v":{"v":0,"d":"0.00"}},{"$f":"IF($B41=3,$Y41,0)","v":{"v":0,"d":"0.00"}},{"$f":"IF($B41=4,$Y41,0)","v":{"v":0,"d":"0.00"}},{"$f":"IF($B41=5,$Y41,0)","v":{"v":0,"d":"0.00"}},{"$f":"IF($B41=6,$Y41,0)","v":{"v":0,"d":"0.00"}},{"$f":"IF(AF40>0,IF(H41+P41+X41+AN41+AV41+BD41+BL41+BT41+CB41+CJ41=0,IF(E41>0,AF40,0),0),0)","v":0},{"$f":"G41*AF41","v":{"v":0,"d":"0.00"}},{"$f":"IF($B41=1,$AG41,0)","v":{"v":0,"d":"0.00"}},{"$f":"IF($B41=2,$AG41,0)","v":{"v":0,"d":"0.00"}},{"$f":"IF($B41=3,$AG41,0)","v":{"v":0,"d":"0.00"}},{"$f":"IF($B41=4,$AG41,0)","v":{"v":0,"d":"0.00"}},{"$f":"IF($B41=5,$AG41,0)","v":{"v":0,"d":"0.00"}},{"$f":"IF($B41=6,$AG41,0)","v":{"v":0,"d":"0.00"}},{"$f":"IF(AN40>0,IF(H41+P41+X41+AF41+AV41+BD41+BL41+BT41+CB41+CJ41=0,IF(E41>0,AN40,0),0),0)","v":0},{"$f":"G41*AN41","v":{"v":0,"d":"0.00"}},{"$f":"IF($B41=1,$AO41,0)","v":{"v":0,"d":"0.00"}},{"$f":"IF($B41=2,$AO41,0)","v":{"v":0,"d":"0.00"}},{"$f":"IF($B41=3,$AO41,0)","v":{"v":0,"d":"0.00"}},{"$f":"IF($B41=4,$AO41,0)","v":{"v":0,"d":"0.00"}},{"$f":"IF($B41=5,$AO41,0)","v":{"v":0,"d":"0.00"}},{"$f":"IF($B41=6,$AO41,0)","v":{"v":0,"d":"0.00"}},{"$f":"IF(AV40>0,IF(H41+P41+X41+AF41+AN41+BD41+BL41+BT41+CB41+CJ41=0,IF(E41>0,AV40,0),0),0)","v":0},{"$f":"G41*AV41","v":{"v":0,"d":"0.00"}},{"$f":"IF($B41=1,$AW41,0)","v":{"v":0,"d":"0.00"}},{"$f":"IF($B41=2,$AW41,0)","v":{"v":0,"d":"0.00"}},{"$f":"IF($B41=3,$AW41,0)","v":{"v":0,"d":"0.00"}},{"$f":"IF($B41=4,$AW41,0)","v":{"v":0,"d":"0.00"}},{"$f":"IF($B41=5,$AW41,0)","v":{"v":0,"d":"0.00"}},{"$f":"IF($B41=6,$AW41,0)","v":{"v":0,"d":"0.00"}},{"$f":"IF(BD40>0,IF(H41+P41+X41+AF41+AN41+AV41+BL41+BT41+CB41+CJ41=0,IF(E41>0,BD40,0),0),0)","v":0},{"$f":"G41*BD41","v":{"v":0,"d":"0.00"}},{"$f":"IF($B41=1,$BE41,0)","v":{"v":0,"d":"0.00"}},{"$f":"IF($B41=2,$BE41,0)","v":{"v":0,"d":"0.00"}},{"$f":"IF($B41=3,$BE41,0)","v":{"v":0,"d":"0.00"}},{"$f":"IF($B41=4,$BE41,0)","v":{"v":0,"d":"0.00"}},{"$f":"IF($B41=5,$BE41,0)","v":{"v":0,"d":"0.00"}},{"$f":"IF($B41=6,$BE41,0)","v":{"v":0,"d":"0.00"}},{"$f":"IF(BL40>0,IF(H41+P41+X41+AF41+AN41+AV41+BD41+BT41+CB41+CJ41=0,IF(E41>0,BL40,0),0),0)","v":0},{"$f":"G41*BL41","v":{"v":0,"d":"0.00"}},{"$f":"IF($B41=1,$BM41,0)","v":{"v":0,"d":"0.00"}},{"$f":"IF($B41=2,$BM41,0)","v":{"v":0,"d":"0.00"}},{"$f":"IF($B41=3,$BM41,0)","v":{"v":0,"d":"0.00"}},{"$f":"IF($B41=4,$BM41,0)","v":{"v":0,"d":"0.00"}},{"$f":"IF($B41=5,$BM41,0)","v":{"v":0,"d":"0.00"}},{"$f":"IF($B41=6,$BM41,0)","v":{"v":0,"d":"0.00"}},{"$f":"IF(BT40>0,IF(H41+P41+X41+AF41+AN41+AV41+BD41+BL41+CB41+CJ41=0,IF(E41>0,BT40,0),0),0)","v":0},{"$f":"G41*BT41","v":{"v":0,"d":"0.00"}},{"$f":"IF($B41=1,$BU41,0)","v":{"v":0,"d":"0.00"}},{"$f":"IF($B41=2,$BU41,0)","v":{"v":0,"d":"0.00"}},{"$f":"IF($B41=3,$BU41,0)","v":{"v":0,"d":"0.00"}},{"$f":"IF($B41=4,$BU41,0)","v":{"v":0,"d":"0.00"}},{"$f":"IF($B41=5,$BU41,0)","v":{"v":0,"d":"0.00"}},{"$f":"IF($B41=6,$BU41,0)","v":{"v":0,"d":"0.00"}},{"$f":"IF(CB40>0,IF(H41+P41+X41+AF41+AN41+AV41+BD41+BL41+BT41+CJ41=0,IF(E41>0,CB40,0),0),0)","v":0},{"$f":"G41*CB41","v":{"v":0,"d":"0.00"}},{"$f":"IF($B41=1,$CC41,0)","v":{"v":0,"d":"0.00"}},{"$f":"IF($B41=2,$CC41,0)","v":{"v":0,"d":"0.00"}},{"$f":"IF($B41=3,$CC41,0)","v":{"v":0,"d":"0.00"}},{"$f":"IF($B41=4,$CC41,0)","v":{"v":0,"d":"0.00"}},{"$f":"IF($B41=5,$CC41,0)","v":{"v":0,"d":"0.00"}},{"$f":"IF($B41=6,$CC41,0)","v":{"v":0,"d":"0.00"}},{"$f":"IF(CJ40>0,IF(H41+P41+X41+AF41+AN41+AV41+BD41+BL41+BT41+CB41=0,IF(E41>0,CJ40,0),0),0)","v":0},{"$f":"G41*CJ41","v":{"v":0,"d":"0.00"}},{"$f":"IF($B41=1,$CK41,0)","v":{"v":0,"d":"0.00"}},{"$f":"IF($B41=2,$CK41,0)","v":{"v":0,"d":"0.00"}},{"$f":"IF($B41=3,$CK41,0)","v":{"v":0,"d":"0.00"}},{"$f":"IF($B41=4,$CK41,0)","v":{"v":0,"d":"0.00"}},{"$f":"IF($B41=5,$CK41,0)","v":{"v":0,"d":"0.00"}},{"$f":"IF($B41=6,$CK41,0)","v":{"v":0,"d":"0.00"}}]
["Totals",{"$nulls":5},{"$f":"SUM(G5:G41)","v":{"v":7,"d":"7.00"}},{"$f":"SUM(I5:I41)","v":{"v":7,"d":"7.00"}},null,{"$f":"SUM(J5:J41)","v":{"v":7,"d":"7.00"}},{"$f":"SUM(K5:K41)","v":{"v":0,"d":"0.00"}},{"$f":"SUM(L5:L41)","v":{"v":0,"d":"0.00"}},{"$f":"SUM(M5:M41)","v":{"v":0,"d":"0.00"}},{"$f":"SUM(N5:N41)","v":{"v":0,"d":"0.00"}},{"$f":"SUM(O5:O41)","v":{"v":0,"d":"0.00"}},{"$f":"SUM(Q5:Q41)","v":{"v":0,"d":"0.00"}},null,{"$f":"SUM(R5:R41)","v":{"v":0,"d":"0.00"}},{"$f":"SUM(S5:S41)","v":{"v":0,"d":"0.00"}},{"$f":"SUM(T5:T41)","v":{"v":0,"d":"0.00"}},{"$f":"SUM(U5:U41)","v":{"v":0,"d":"0.00"}},{"$f":"SUM(V5:V41)","v":{"v":0,"d":"0.00"}},{"$f":"SUM(W5:W41)","v":{"v":0,"d":"0.00"}},{"$f":"SUM(Y5:Y41)","v":{"v":0,"d":"0.00"}},null,{"$f":"SUM(Z5:Z41)","v":{"v":0,"d":"0.00"}},{"$f":"SUM(AA5:AA41)","v":{"v":0,"d":"0.00"}},{"$f":"SUM(AB5:AB41)","v":{"v":0,"d":"0.00"}},{"$f":"SUM(AC5:AC41)","v":{"v":0,"d":"0.00"}},{"$f":"SUM(AD5:AD41)","v":{"v":0,"d":"0.00"}},{"$f":"SUM(AE5:AE41)","v":{"v":0,"d":"0.00"}},{"$f":"SUM(AG5:AG41)","v":{"v":0,"d":"0.00"}},null,{"$f":"SUM(AH5:AH41)","v":{"v":0,"d":"0.00"}},{"$f":"SUM(AI5:AI41)","v":{"v":0,"d":"0.00"}},{"$f":"SUM(AJ5:AJ41)","v":{"v":0,"d":"0.00"}},{"$f":"SUM(AK5:AK41)","v":{"v":0,"d":"0.00"}},{"$f":"SUM(AL5:AL41)","v":{"v":0,"d":"0.00"}},{"$f":"SUM(AM5:AM41)","v":{"v":0,"d":"0.00"}},{"$f":"SUM(AO5:AO41)","v":{"v":0,"d":"0.00"}},null,{"$f":"SUM(AP5:AP41)","v":{"v":0,"d":"0.00"}},{"$f":"SUM(AQ5:AQ41)","v":{"v":0,"d":"0.00"}},{"$f":"SUM(AR5:AR41)","v":{"v":0,"d":"0.00"}},{"$f":"SUM(AS5:AS41)","v":{"v":0,"d":"0.00"}},{"$f":"SUM(AT5:AT41)","v":{"v":0,"d":"0.00"}},{"$f":"SUM(AU5:AU41)","v":{"v":0,"d":"0.00"}},{"$f":"SUM(AW5:AW41)","v":{"v":0,"d":"0.00"}},null,{"$f":"SUM(AX5:AX41)","v":{"v":0,"d":"0.00"}},{"$f":"SUM(AY5:AY41)","v":{"v":0,"d":"0.00"}},{"$f":"SUM(AZ5:AZ41)","v":{"v":0,"d":"0.00"}},{"$f":"SUM(BA5:BA41)","v":{"v":0,"d":"0.00"}},{"$f":"SUM(BB5:BB41)","v":{"v":0,"d":"0.00"}},{"$f":"SUM(BC5:BC41)","v":{"v":0,"d":"0.00"}},{"$f":"SUM(BE5:BE41)","v":{"v":0,"d":"0.00"}},null,{"$f":"SUM(BF5:BF41)","v":{"v":0,"d":"0.00"}},{"$f":"SUM(BG5:BG41)","v":{"v":0,"d":"0.00"}},{"$f":"SUM(BH5:BH41)","v":{"v":0,"d":"0.00"}},{"$f":"SUM(BI5:BI41)","v":{"v":0,"d":"0.00"}},{"$f":"SUM(BJ5:BJ41)","v":{"v":0,"d":"0.00"}},{"$f":"SUM(BK5:BK41)","v":{"v":0,"d":"0.00"}},{"$f":"SUM(BM5:BM41)","v":{"v":0,"d":"0.00"}},null,{"$f":"SUM(BN5:BN41)","v":{"v":0,"d":"0.00"}},{"$f":"SUM(BO5:BO41)","v":{"v":0,"d":"0.00"}},{"$f":"SUM(BP5:BP41)","v":{"v":0,"d":"0.00"}},{"$f":"SUM(BQ5:BQ41)","v":{"v":0,"d":"0.00"}},{"$f":"SUM(BR5:BR41)","v":{"v":0,"d":"0.00"}},{"$f":"SUM(BS5:BS41)","v":{"v":0,"d":"0.00"}},{"$f":"SUM(BU5:BU41)","v":{"v":0,"d":"0.00"}},null,{"$f":"SUM(BV5:BV41)","v":{"v":0,"d":"0.00"}},{"$f":"SUM(BW5:BW41)","v":{"v":0,"d":"0.00"}},{"$f":"SUM(BX5:BX41)","v":{"v":0,"d":"0.00"}},{"$f":"SUM(BY5:BY41)","v":{"v":0,"d":"0.00"}},{"$f":"SUM(BZ5:BZ41)","v":{"v":0,"d":"0.00"}},{"$f":"SUM(CA5:CA41)","v":{"v":0,"d":"0.00"}},{"$f":"SUM(CC5:CC41)","v":{"v":0,"d":"0.00"}},null,{"$f":"SUM(CD5:CD41)","v":{"v":0,"d":"0.00"}},{"$f":"SUM(CE5:CE41)","v":{"v":0,"d":"0.00"}},{"$f":"SUM(CF5:CF41)","v":{"v":0,"d":"0.00"}},{"$f":"SUM(CG5:CG41)","v":{"v":0,"d":"0.00"}},{"$f":"SUM(CH5:CH41)","v":{"v":0,"d":"0.00"}},{"$f":"SUM(CI5:CI41)","v":{"v":0,"d":"0.00"}},{"$f":"SUM(CK5:CK41)","v":{"v":0,"d":"0.00"}},null,{"$f":"SUM(CL5:CL41)","v":0},{"$f":"SUM(CM5:CM41)","v":0},{"$f":"SUM(CN5:CN41)","v":0},{"$f":"SUM(CO5:CO41)","v":0},{"$f":"SUM(CP5:CP41)","v":0},{"$f":"SUM(CQ5:CQ41)","v":0}]
[{"$nulls":23},{"$f":"A5","v":"2009-02-02"},{"$nulls":7},{"$f":"X43+1","v":"2009-02-03"},{"$nulls":7},{"$f":"AF43+1","v":"2009-02-04"},{"$nulls":7},{"$f":"AN43+1","v":"2009-02-05"},{"$nulls":7},{"$f":"AV43+1","v":"2009-02-06"}]
["T1",null,null,"Task 1",{"$nulls":19},{"$f":"J42","v":{"v":7,"d":"7.00"}},{"$nulls":7},{"$f":"K42","v":0},{"$nulls":7},{"$f":"L42","v":0},{"$nulls":7},{"$f":"M42","v":0},{"$nulls":7},{"$f":"N42","v":0},{"$nulls":7},{"$f":"O42","v":0},{"$nulls":15},{"$f":"H42","v":{"v":7,"d":"7.00"}}]
[2,null,null,"2",{"$nulls":19},{"$f":"R42","v":0},{"$nulls":7},{"$f":"S42","v":0},{"$nulls":7},{"$f":"T42","v":0},{"$nulls":7},{"$f":"U42","v":0},{"$nulls":7},{"$f":"V42","v":0},{"$nulls":7},{"$f":"W42","v":0},{"$nulls":15},{"$f":"P42","v":0}]
[3,null,null,"3",{"$nulls":19},{"$f":"Z42","v":0},{"$nulls":7},{"$f":"AA42","v":0},{"$nulls":7},{"$f":"AB42","v":0},{"$nulls":7},{"$f":"AC42","v":0},{"$nulls":7},{"$f":"AD42","v":0},{"$nulls":7},{"$f":"AE42","v":0},{"$nulls":15},{"$f":"X42","v":0}]
[4,null,null,"4",{"$nulls":19},{"$f":"AH42","v":0},{"$nulls":7},{"$f":"AI42","v":0},{"$nulls":7},{"$f":"AJ42","v":0},{"$nulls":7},{"$f":"AK42","v":0},{"$nulls":7},{"$f":"AL42","v":0},{"$nulls":7},{"$f":"AM42","v":0},{"$nulls":15},{"$f":"AF42","v":0}]
[5,null,null,"5",{"$nulls":19},{"$f":"AP42","v":0},{"$nulls":7},{"$f":"AQ42","v":0},{"$nulls":7},{"$f":"AR42","v":0},{"$nulls":7},{"$f":"AS42","v":0},{"$nulls":7},{"$f":"AT42","v":0},{"$nulls":7},{"$f":"AU42","v":0},{"$nulls":15},{"$f":"AN42","v":0}]
[6,null,null,"6",{"$nulls":19},{"$f":"AX42","v":0},{"$nulls":7},{"$f":"AY42","v":0},{"$nulls":7},{"$f":"AZ42","v":0},{"$nulls":7},{"$f":"BA42","v":0},{"$nulls":7},{"$f":"BB42","v":0},{"$nulls":7},{"$f":"BC42","v":0},{"$nulls":15},{"$f":"AV42","v":0}]
[7,null,null,7,{"$nulls":19},{"$f":"BF42","v":0},{"$nulls":7},{"$f":"BG42","v":0},{"$nulls":7},{"$f":"BH42","v":0},{"$nulls":7},{"$f":"BI42","v":0},{"$nulls":7},{"$f":"BJ42","v":0},{"$nulls":7},{"$f":"BK42","v":0},{"$nulls":15},{"$f":"BD42","v":0}]
[8,null,null,8,{"$nulls":19},{"$f":"BN42","v":0},{"$nulls":7},{"$f":"BO42","v":0},{"$nulls":7},{"$f":"BP42","v":0},{"$nulls":7},{"$f":"BQ42","v":0},{"$nulls":7},{"$f":"BR42","v":0},{"$nulls":7},{"$f":"BS42","v":0},{"$nulls":15},{"$f":"BL42","v":0}]
[9,null,null,9,{"$nulls":19},{"$f":"BV42","v":0},{"$nulls":7},{"$f":"BW42","v":0},{"$nulls":7},{"$f":"BX42","v":0},{"$nulls":7},{"$f":"BY42","v":0},{"$nulls":7},{"$f":"BZ42","v":0},{"$nulls":7},{"$f":"CA42","v":0},{"$nulls":15},{"$f":"BT42","v":0}]
[10,null,null,10,{"$nulls":19},{"$f":"CD42","v":0},{"$nulls":7},{"$f":"CE42","v":0},{"$nulls":7},{"$f":"CF42","v":0},{"$nulls":7},{"$f":"CG42","v":0},{"$nulls":7},{"$f":"CH42","v":0},{"$nulls":7},{"$f":"CI42","v":0},{"$nulls":15},{"$f":"CB42","v":0}]
[11,null,null,11,{"$nulls":19},{"$f":"CL42","v":0},{"$nulls":7},{"$f":"CM42","v":0},{"$nulls":7},{"$f":"CN42","v":0},{"$nulls":7},{"$f":"CO42","v":0},{"$nulls":7},{"$f":"CP42","v":0},{"$nulls":7},{"$f":"CQ42","v":0},{"$nulls":15},{"$f":"CJ42","v":0}]
["Totals",{"$nulls":22},{"$f":"SUM(X44:X54)","v":{"v":7,"d":"7.00"}},{"$nulls":7},{"$f":"SUM(AF44:AF54)","v":0},{"$nulls":7},{"$f":"SUM(AN44:AN54)","v":0},{"$nulls":7},{"$f":"SUM(AV44:AV54)","v":0},{"$nulls":7},{"$f":"SUM(BD44:BD54)","v":0},{"$nulls":7},{"$f":"SUM(BL44:BL54)","v":0},{"$nulls":15},{"$f":"SUM(CB44:CB54)","v":{"v":7,"d":"7.00"}}]

{"sheet":"Week 2","index":2,"n_rows":55,"n_cols":95,"rows_kept":55}
[1,2,3,4,5,6,null,{"$f":"CONCATENATE(\"Timesheet for \",'Week 1'!$A$1,\" for period \",TEXT(DAY(A5),\"00\"),\"/\",TEXT(MONTH(A5),\"00\"),\"/\",TEXT(YEAR(A5)-2000,\"00\"),\" to \",TEXT(DAY(A5+6),\"00\"),\"/\",TEXT(MONTH(A5+6),\"00\"),\"/\",TEXT(YEAR(A5+6)-2000,\"00\"))","v":"Timesheet for 'Name in cell A1' for period 09/02/09 to 15/02/09"}]
[]
[{"$nulls":6},"                                           Tasks"]
["Date",null,null,"From","To",null,"Hrs",{"$f":"A44","v":"T1"},{"$nulls":7},{"$f":"A45","v":2},{"$nulls":7},{"$f":"A46","v":3},{"$nulls":7},{"$f":"A47","v":4},{"$nulls":7},{"$f":"A48","v":5},{"$nulls":7},{"$f":"A49","v":6},{"$nulls":7},{"$f":"A50","v":7},{"$nulls":7},{"$f":"A51","v":8},{"$nulls":7},{"$f":"A52","v":9},{"$nulls":7},{"$f":"A53","v":10},{"$nulls":7},{"$f":"A54","v":11}]
[{"$f":"'Week 1'!$A5+7","v":"2009-02-09"},1,{"$f":"A5","v":"2009-02-09"},"10:30:00","10:30:00",{"$f":"E5-D5","v":"00:00:00"},{"$f":"IF(E5>0,HOUR(F5)+(MINUTE(F5)/60),0)","v":0},0,{"$f":"G5*H5","v":{"v":0,"d":"0.00"}},{"$f":"IF($B5=1,$I5,0)","v":{"v":0,"d":"0.00"}},{"$f":"IF($B5=2,$I5,0)","v":{"v":0,"d":"0.00"}},{"$f":"IF($B5=3,$I5,0)","v":{"v":0,"d":"0.00"}},{"$f":"IF($B5=4,$I5,0)","v":{"v":0,"d":"0.00"}},{"$f":"IF($B5=5,$I5,0)","v":{"v":0,"d":"0.00"}},{"$f":"IF($B5=6,$I5,0)","v":{"v":0,"d":"0.00"}},0,{"$f":"G5*P5","v":{"v":0,"d":"0.00"}},{"$f":"IF(B5=1,Q5,0)","v":{"v":0,"d":"0.00"}},{"$f":"IF(B5=2,Q5,0)","v":{"v":0,"d":"0.00"}},{"$f":"IF(B5=3,Q5,0)","v":{"v":0,"d":"0.00"}},{"$f":"IF(B5=4,Q5,0)","v":{"v":0,"d":"0.00"}},{"$f":"IF(B5=5,Q5,0)","v":{"v":0,"d":"0.00"}},{"$f":"IF(B5=6,Q5,0)","v":{"v":0,"d":"0.00"}},0,{"$f":"G5*X5","v":{"v":0,"d":"0.00"}},{"$f":"IF($B5=1,$Y5,0)","v":{"v":0,"d":"0.00"}},{"$f":"IF($B5=2,$Y5,0)","v":{"v":0,"d":"0.00"}},{"$f":"IF($B5=3,$Y5,0)","v":{"v":0,"d":"0.00"}},{"$f":"IF($B5=4,$Y5,0)","v":{"v":0,"d":"0.00"}},{"$f":"IF($B5=5,$Y5,0)","v":{"v":0,"d":"0.00"}},{"$f":"IF($B5>5,$Y5,0)","v":{"v":0,"d":"0.00"}},0,{"$f":"G5*AF5","v":{"v":0,"d":"0.00"}},{"$f":"IF($B5=1,$AG5,0)","v":{"v":0,"d":"0.00"}},{"$f":"IF($B5=2,$AG5,0)","v":{"v":0,"d":"0.00"}},{"$f":"IF($B5=3,$AG5,0)","v":{"v":0,"d":"0.00"}},{"$f":"IF($B5=4,$AG5,0)","v":{"v":0,"d":"0.00"}},{"$f":"IF($B5=5,$AG5,0)","v":{"v":0,"d":"0.00"}},{"$f":"IF($B5=6,$AG5,0)","v":{"v":0,"d":"0.00"}},0,{"$f":"G5*AN5","v":{"v":0,"d":"0.00"}},{"$f":"IF($B5=1,$AO5,0)","v":{"v":0,"d":"0.00"}},{"$f":"IF($B5=2,$AO5,0)","v":{"v":0,"d":"0.00"}},{"$f":"IF($B5=3,$AO5,0)","v":{"v":0,"d":"0.00"}},{"$f":"IF($B5=4,$AO5,0)","v":{"v":0,"d":"0.00"}},{"$f":"IF($B5=5,$AO5,0)","v":{"v":0,"d":"0.00"}},{"$f":"IF($B5=6,$AO5,0)","v":{"v":0,"d":"0.00"}},0,{"$f":"G5*AV5","v":{"v":0,"d":"0.00"}},{"$f":"IF($B5=1,$AW5,0)","v":{"v":0,"d":"0.00"}},{"$f":"IF($B5=2,$AW5,0)","v":{"v":0,"d":"0.00"}},{"$f":"IF($B5=3,$AW5,0)","v":{"v":0,"d":"0.00"}},{"$f":"IF($B5=4,$AW5,0)","v":{"v":0,"d":"0.00"}},{"$f":"IF($B5=5,$AW5,0)","v":{"v":0,"d":"0.00"}},{"$f":"IF($B5=6,$AW5,0)","v":{"v":0,"d":"0.00"}},0,{"$f":"G5*BD5","v":{"v":0,"d":"0.00"}},{"$f":"IF($B5=1,$BE5,0)","v":{"v":0,"d":"0.00"}},{"$f":"IF($B5=2,$BE5,0)","v":{"v":0,"d":"0.00"}},{"$f":"IF($B5=3,$BE5,0)","v":{"v":0,"d":"0.00"}},{"$f":"IF($B5=4,$BE5,0)","v":{"v":0,"d":"0.00"}},{"$f":"IF($B5=5,$BE5,0)","v":{"v":0,"d":"0.00"}},{"$f":"IF($B5=6,$BE5,0)","v":{"v":0,"d":"0.00"}},0,{"$f":"G5*BL5","v":{"v":0,"d":"0.00"}},{"$f":"IF($B5=1,$BM5,0)","v":{"v":0,"d":"0.00"}},{"$f":"IF($B5=2,$BM5,0)","v":{"v":0,"d":"0.00"}},{"$f":"IF($B5=3,$BM5,0)","v":{"v":0,"d":"0.00"}},{"$f":"IF($B5=4,$BM5,0)","v":{"v":0,"d":"0.00"}},{"$f":"IF($B5=5,$BM5,0)","v":{"v":0,"d":"0.00"}},{"$f":"IF($B5=6,$BM5,0)","v":{"v":0,"d":"0.00"}},0,{"$f":"G5*BT5","v":{"v":0,"d":"0.00"}},{"$f":"IF($B5=1,$BU5,0)","v":{"v":0,"d":"0.00"}},{"$f":"IF($B5=2,$BU5,0)","v":{"v":0,"d":"0.00"}},{"$f":"IF($B5=3,$BU5,0)","v":{"v":0,"d":"0.00"}},{"$f":"IF($B5=4,$BU5,0)","v":{"v":0,"d":"0.00"}},{"$f":"IF($B5=5,$BU5,0)","v":{"v":0,"d":"0.00"}},{"$f":"IF($B5=6,$BU5,0)","v":{"v":0,"d":"0.00"}},0,{"$f":"G5*CB5","v":{"v":0,"d":"0.00"}},{"$f":"IF($B5=1,$CC5,0)","v":{"v":0,"d":"0.00"}},{"$f":"IF($B5=2,$CC5,0)","v":{"v":0,"d":"0.00"}},{"$f":"IF($B5=3,$CC5,0)","v":{"v":0,"d":"0.00"}},{"$f":"IF($B5=4,$CC5,0)","v":{"v":0,"d":"0.00"}},{"$f":"IF($B5=5,$CC5,0)","v":{"v":0,"d":"0.00"}},{"$f":"IF($B5=6,$CC5,0)","v":{"v":0,"d":"0.00"}},0,{"$f":"G5*CJ5","v":{"v":0,"d":"0.00"}},{"$f":"IF($B5=1,$CK5,0)","v":{"v":0,"d":"0.00"}},{"$f":"IF($B5=2,$CK5,0)","v":{"v":0,"d":"0.00"}},{"$f":"IF($B5=3,$CK5,0)","v":{"v":0,"d":"0.00"}},{"$f":"IF($B5=4,$CK5,0)","v":{"v":0,"d":"0.00"}},{"$f":"IF($B5=5,$CK5,0)","v":{"v":0,"d":"0.00"}},{"$f":"IF($B5=6,$CK5,0)","v":{"v":0,"d":"0.00"}}]
[{"$f":"IF(C5<>C6,C6,\"\")","v":""},{"$f":"IF(C5<>C6,_xlfn.DAYS(C6,C5)+B5,B5)","v":1},{"$f":"IF(D6>0,IF(D6<E5,C5+1,C5),C5)","v":"2009-02-09"},{"$f":"IF((E6+H6+P6+X6+AF6+AN6+AV6+BD6+BL6+BT6+CB6+CJ6)>0,E5,0)","v":"00:00:00"},null,{"$f":"E6-D6","v":"00:00:00"},{"$f":"IF(E6>0,HOUR(F6)+(MINUTE(F6)/60),0)","v":0},{"$f":"IF(H5>0,IF(P6+X6+AF6+AN6+AV6+BD6+BL6+BT6+CB6+CJ6=0,IF(E6>0,H5,0),0),0)","v":0},{"$f":"G6*H6","v":{"v":0,"d":"0.00"}},{"$f":"IF($B6=1,$I6,0)","v":{"v":0,"d":"0.00"}},{"$f":"IF($B6=2,$I6,0)","v":{"v":0,"d":"0.00"}},{"$f":"IF($B6=3,$I6,0)","v":{"v":0,"d":"0.00"}},{"$f":"IF($B6=4,$I6,0)","v":{"v":0,"d":"0.00"}},{"$f":"IF($B6=5,$I6,0)","v":{"v":0,"d":"0.00"}},{"$f":"IF($B6=6,$I6,0)","v":{"v":0,"d":"0.00"}},{"$f":"IF(P5>0,IF(H6+X6+AF6+AN6+AV6+BD6+BL6+BT6+CB6+CJ6=0,IF(E6>0,P5,0),0),0)","v":0},{"$f":"G6*P6","v":{"v":0,"d":"0.00"}},{"$f":"IF(B6=1,Q6,0)","v":{"v":0,"d":"0.00"}},{"$f":"IF(B6=2,Q6,0)","v":{"v":0,"d":"0.00"}},{"$f":"IF(B6=3,Q6,0)","v":{"v":0,"d":"0.00"}},{"$f":"IF(B6=4,Q6,0)","v":{"v":0,"d":"0.00"}},{"$f":"IF(B6=5,Q6,0)","v":{"v":0,"d":"0.00"}},{"$f":"IF(B6=6,Q6,0)","v":{"v":0,"d":"0.00"}},{"$f":"IF(X5>0,IF(H6+P6+AF6+AN6+AV6+BD6+BL6+BT6+CB6+CJ6=0,IF(E6>0,X5,0),0),0)","v":0},{"$f":"G6*X6","v":{"v":0,"d":"0.00"}},{"$f":"IF($B6=1,$Y6,0)","v":{"v":0,"d":"0.00"}},{"$f":"IF($B6=2,$Y6,0)","v":{"v":0,"d":"0.00"}},{"$f":"IF($B6=3,$Y6,0)","v":{"v":0,"d":"0.00"}},{"$f":"IF($B6=4,$Y6,0)","v":{"v":0,"d":"0.00"}},{"$f":"IF($B6=5,$Y6,0)","v":{"v":0,"d":"0.00"}},{"$f":"IF($B6=6,$Y6,0)","v":{"v":0,"d":"0.00"}},{"$f":"IF(AF5>0,IF(H6+P6+X6+AN6+AV6+BD6+BL6+BT6+CB6+CJ6=0,IF(E6>0,AF5,0),0),0)","v":0},{"$f":"G6*AF6","v":{"v":0,"d":"0.00"}},{"$f":"IF($B6=1,$AG6,0)","v":{"v":0,"d":"0.00"}},{"$f":"IF($B6=2,$AG6,0)","v":{"v":0,"d":"0.00"}},{"$f":"IF($B6=3,$AG6,0)","v":{"v":0,"d":"0.00"}},{"$f":"IF($B6=4,$AG6,0)","v":{"v":0,"d":"0.00"}},{"$f":"IF($B6=5,$AG6,0)","v":{"v":0,"d":"0.00"}},{"$f":"IF($B6=6,$AG6,0)","v":{"v":0,"d":"0.00"}},{"$f":"IF(AN5>0,IF(H6+P6+X6+AF6+AV6+BD6+BL6+BT6+CB6+CJ6=0,IF(E6>0,AN5,0),0),0)","v":0},{"$f":"G6*AN6","v":{"v":0,"d":"0.00"}},{"$f":"IF($B6=1,$AO6,0)","v":{"v":0,"d":"0.00"}},{"$f":"IF($B6=2,$AO6,0)","v":{"v":0,"d":"0.00"}},{"$f":"IF($B6=3,$AO6,0)","v":{"v":0,"d":"0.00"}},{"$f":"IF($B6=4,$AO6,0)","v":{"v":0,"d":"0.00"}},{"$f":"IF($B6=5,$AO6,0)","v":{"v":0,"d":"0.00"}},{"$f":"IF($B6=6,$AO6,0)","v":{"v":0,"d":"0.00"}},{"$f":"IF(AV5>0,IF(H6+P6+X6+AF6+AN6+BD6+BL6+BT6+CB6+CJ6=0,IF(E6>0,AV5,0),0),0)","v":0},{"$f":"G6*AV6","v":{"v":0,"d":"0.00"}},{"$f":"IF($B6=1,$AW6,0)","v":{"v":0,"d":"0.00"}},{"$f":"IF($B6=2,$AW6,0)","v":{"v":0,"d":"0.00"}},{"$f":"IF($B6=3,$AW6,0)","v":{"v":0,"d":"0.00"}},{"$f":"IF($B6=4,$AW6,0)","v":{"v":0,"d":"0.00"}},{"$f":"IF($B6=5,$AW6,0)","v":{"v":0,"d":"0.00"}},{"$f":"IF($B6=6,$AW6,0)","v":{"v":0,"d":"0.00"}},{"$f":"IF(BD5>0,IF(H6+P6+X6+AF6+AN6+AV6+BL6+BT6+CB6+CJ6=0,IF(E6>0,BD5,0),0),0)","v":0},{"$f":"G6*BD6","v":{"v":0,"d":"0.00"}},{"$f":"IF($B6=1,$BE6,0)","v":{"v":0,"d":"0.00"}},{"$f":"IF($B6=2,$BE6,0)","v":{"v":0,"d":"0.00"}},{"$f":"IF($B6=3,$BE6,0)","v":{"v":0,"d":"0.00"}},{"$f":"IF($B6=4,$BE6,0)","v":{"v":0,"d":"0.00"}},{"$f":"IF($B6=5,$BE6,0)","v":{"v":0,"d":"0.00"}},{"$f":"IF($B6=6,$BE6,0)","v":{"v":0,"d":"0.00"}},{"$f":"IF(BL5>0,IF(H6+P6+X6+AF6+AN6+AV6+BD6+BT6+CB6+CJ6=0,IF(E6>0,BL5,0),0),0)","v":0},{"$f":"G6*BL6","v":{"v":0,"d":"0.00"}},{"$f":"IF($B6=1,$BM6,0)","v":{"v":0,"d":"0.00"}},{"$f":"IF($B6=2,$BM6,0)","v":{"v":0,"d":"0.00"}},{"$f":"IF($B6=3,$BM6,0)","v":{"v":0,"d":"0.00"}},{"$f":"IF($B6=4,$BM6,0)","v":{"v":0,"d":"0.00"}},{"$f":"IF($B6=5,$BM6,0)","v":{"v":0,"d":"0.00"}},{"$f":"IF($B6=6,$BM6,0)","v":{"v":0,"d":"0.00"}},{"$f":"IF(BT5>0,IF(H6+P6+X6+AF6+AN6+AV6+BD6+BL6+CB6+CJ6=0,IF(E6>0,BT5,0),0),0)","v":0},{"$f":"G6*BT6","v":{"v":0,"d":"0.00"}},{"$f":"IF($B6=1,$BU6,0)","v":{"v":0,"d":"0.00"}},{"$f":"IF($B6=2,$BU6,0)","v":{"v":0,"d":"0.00"}},{"$f":"IF($B6=3,$BU6,0)","v":{"v":0,"d":"0.00"}},{"$f":"IF($B6=4,$BU6,0)","v":{"v":0,"d":"0.00"}},{"$f":"IF($B6=5,$BU6,0)","v":{"v":0,"d":"0.00"}},{"$f":"IF($B6=6,$BU6,0)","v":{"v":0,"d":"0.00"}},{"$f":"IF(CB5>0,IF(H6+P6+X6+AF6+AN6+AV6+BD6+BL6+BT6+CJ6=0,IF(E6>0,CB5,0),0),0)","v":0},{"$f":"G6*CB6","v":{"v":0,"d":"0.00"}},{"$f":"IF($B6=1,$CC6,0)","v":{"v":0,"d":"0.00"}},{"$f":"IF($B6=2,$CC6,0)","v":{"v":0,"d":"0.00"}},{"$f":"IF($B6=3,$CC6,0)","v":{"v":0,"d":"0.00"}},{"$f":"IF($B6=4,$CC6,0)","v":{"v":0,"d":"0.00"}},{"$f":"IF($B6=5,$CC6,0)","v":{"v":0,"d":"0.00"}},{"$f":"IF($B6=6,$CC6,0)","v":{"v":0,"d":"0.00"}},{"$f":"IF(CJ5>0,IF(H6+P6+X6+AF6+AN6+AV6+BD6+BL6+BT6+CB6=0,IF(E6>0,CJ5,0),0),0)","v":0},{"$f":"G6*CJ6","v":{"v":0,"d":"0.00"}},{"$f":"IF($B6=1,$CK6,0)","v":{"v":0,"d":"0.00"}},{"$f":"IF($B6=2,$CK6,0)","v":{"v":0,"d":"0.00"}},{"$f":"IF($B6=3,$CK6,0)","v":{"v":0,"d":"0.00"}},{"$f":"IF($B6=4,$CK6,0)","v":{"v":0,"d":"0.00"}},{"$f":"IF($B6=5,$CK6,0)","v":{"v":0,"d":"0.00"}},{"$f":"IF($B6=6,$CK6,0)","v":{"v":0,"d":"0.00"}}]
[{"$f":"IF(C6<>C7,C7,\"\")","v":""},{"$f":"IF(C6<>C7,_xlfn.DAYS(C7,C6)+B6,B6)","v":1},{"$f":"IF(D7>0,IF(D7<E6,C6+1,C6),C6)","v":"2009-02-09"},{"$f":"IF((E7+H7+P7+X7+AF7+AN7+AV7+BD7+BL7+BT7+CB7+CJ7)>0,E6,0)","v":"00:00:00"},null,{"$f":"E7-D7","v":"00:00:00"},{"$f":"IF(E7>0,HOUR(F7)+(MINUTE(F7)/60),0)","v":0},{"$f":"IF(H6>0,IF(P7+X7+AF7+AN7+AV7+BD7+BL7+BT7+CB7+CJ7=0,IF(E7>0,H6,0),0),0)","v":0},{"$f":"G7*H7","v":{"v":0,"d":"0.00"}},{"$f":"IF($B7=1,$I7,0)","v":{"v":0,"d":"0.00"}},{"$f":"IF($B7=2,$I7,0)","v":{"v":0,"d":"0.00"}},{"$f":"IF($B7=3,$I7,0)","v":{"v":0,"d":"0.00"}},{"$f":"IF($B7=4,$I7,0)","v":{"v":0,"d":"0.00"}},{"$f":"IF($B7=5,$I7,0)","v":{"v":0,"d":"0.00"}},{"$f":"IF($B7=6,$I7,0)","v":{"v":0,"d":"0.00"}},{"$f":"IF(P6>0,IF(H7+X7+AF7+AN7+AV7+BD7+BL7+BT7+CB7+CJ7=0,IF(E7>0,P6,0),0),0)","v":0},{"$f":"G7*P7","v":{"v":0,"d":"0.00"}},{"$f":"IF(B7=1,Q7,0)","v":{"v":0,"d":"0.00"}},{"$f":"IF(B7=2,Q7,0)","v":{"v":0,"d":"0.00"}},{"$f":"IF(B7=3,Q7,0)","v":{"v":0,"d":"0.00"}},{"$f":"IF(B7=4,Q7,0)","v":{"v":0,"d":"0.00"}},{"$f":"IF(B7=5,Q7,0)","v":{"v":0,"d":"0.00"}},{"$f":"IF(B7=6,Q7,0)","v":{"v":0,"d":"0.00"}},{"$f":"IF(X6>0,IF(H7+P7+AF7+AN7+AV7+BD7+BL7+BT7+CB7+CJ7=0,IF(E7>0,X6,0),0),0)","v":0},{"$f":"G7*X7","v":{"v":0,"d":"0.00"}},{"$f":"IF($B7=1,$Y7,0)","v":{"v":0,"d":"0.00"}},{"$f":"IF($B7=2,$Y7,0)","v":{"v":0,"d":"0.00"}},{"$f":"IF($B7=3,$Y7,0)","v":{"v":0,"d":"0.00"}},{"$f":"IF($B7=4,$Y7,0)","v":{"v":0,"d":"0.00"}},{"$f":"IF($B7=5,$Y7,0)","v":{"v":0,"d":"0.00"}},{"$f":"IF($B7=6,$Y7,0)","v":{"v":0,"d":"0.00"}},{"$f":"IF(AF6>0,IF(H7+P7+X7+AN7+AV7+BD7+BL7+BT7+CB7+CJ7=0,IF(E7>0,AF6,0),0),0)","v":0},{"$f":"G7*AF7","v":{"v":0,"d":"0.00"}},{"$f":"IF($B7=1,$AG7,0)","v":{"v":0,"d":"0.00"}},{"$f":"IF($B7=2,$AG7,0)","v":{"v":0,"d":"0.00"}},{"$f":"IF($B7=3,$AG7,0)","v":{"v":0,"d":"0.00"}},{"$f":"IF($B7=4,$AG7,0)","v":{"v":0,"d":"0.00"}},{"$f":"IF($B7=5,$AG7,0)","v":{"v":0,"d":"0.00"}},{"$f":"IF($B7=6,$AG7,0)","v":{"v":0,"d":"0.00"}},{"$f":"IF(AN6>0,IF(H7+P7+X7+AF7+AV7+BD7+BL7+BT7+CB7+CJ7=0,IF(E7>0,AN6,0),0),0)","v":0},{"$f":"G7*AN7","v":{"v":0,"d":"0.00"}},{"$f":"IF($B7=1,$AO7,0)","v":{"v":0,"d":"0.00"}},{"$f":"IF($B7=2,$AO7,0)","v":{"v":0,"d":"0.00"}},{"$f":"IF($B7=3,$AO7,0)","v":{"v":0,"d":"0.00"}},{"$f":"IF($B7=4,$AO7,0)","v":{"v":0,"d":"0.00"}},{"$f":"IF($B7=5,$AO7,0)","v":{"v":0,"d":"0.00"}},{"$f":"IF($B7=6,$AO7,0)","v":{"v":0,"d":"0.00"}},{"$f":"IF(AV6>0,IF(H7+P7+X7+AF7+AN7+BD7+BL7+BT7+CB7+CJ7=0,IF(E7>0,AV6,0),0),0)","v":0},{"$f":"G7*AV7","v":{"v":0,"d":"0.00"}},{"$f":"IF($B7=1,$AW7,0)","v":{"v":0,"d":"0.00"}},{"$f":"IF($B7=2,$AW7,0)","v":{"v":0,"d":"0.00"}},{"$f":"IF($B7=3,$AW7,0)","v":{"v":0,"d":"0.00"}},{"$f":"IF($B7=4,$AW7,0)","v":{"v":0,"d":"0.00"}},{"$f":"IF($B7=5,$AW7,0)","v":{"v":0,"d":"0.00"}},{"$f":"IF($B7=6,$AW7,0)","v":{"v":0,"d":"0.00"}},{"$f":"IF(BD6>0,IF(H7+P7+X7+AF7+AN7+AV7+BL7+BT7+CB7+CJ7=0,IF(E7>0,BD6,0),0),0)","v":0},{"$f":"G7*BD7","v":{"v":0,"d":"0.00"}},{"$f":"IF($B7=1,$BE7,0)","v":{"v":0,"d":"0.00"}},{"$f":"IF($B7=2,$BE7,0)","v":{"v":0,"d":"0.00"}},{"$f":"IF($B7=3,$BE7,0)","v":{"v":0,"d":"0.00"}},{"$f":"IF($B7=4,$BE7,0)","v":{"v":0,"d":"0.00"}},{"$f":"IF($B7=5,$BE7,0)","v":{"v":0,"d":"0.00"}},{"$f":"IF($B7=6,$BE7,0)","v":{"v":0,"d":"0.00"}},{"$f":"IF(BL6>0,IF(H7+P7+X7+AF7+AN7+AV7+BD7+BT7+CB7+CJ7=0,IF(E7>0,BL6,0),0),0)","v":0},{"$f":"G7*BL7","v":{"v":0,"d":"0.00"}},{"$f":"IF($B7=1,$BM7,0)","v":{"v":0,"d":"0.00"}},{"$f":"IF($B7=2,$BM7,0)","v":{"v":0,"d":"0.00"}},{"$f":"IF($B7=3,$BM7,0)","v":{"v":0,"d":"0.00"}},{"$f":"IF($B7=4,$BM7,0)","v":{"v":0,"d":"0.00"}},{"$f":"IF($B7=5,$BM7,0)","v":{"v":0,"d":"0.00"}},{"$f":"IF($B7=6,$BM7,0)","v":{"v":0,"d":"0.00"}},{"$f":"IF(BT6>0,IF(H7+P7+X7+AF7+AN7+AV7+BD7+BL7+CB7+CJ7=0,IF(E7>0,BT6,0),0),0)","v":0},{"$f":"G7*BT7","v":{"v":0,"d":"0.00"}},{"$f":"IF($B7=1,$BU7,0)","v":{"v":0,"d":"0.00"}},{"$f":"IF($B7=2,$BU7,0)","v":{"v":0,"d":"0.00"}},{"$f":"IF($B7=3,$BU7,0)","v":{"v":0,"d":"0.00"}},{"$f":"IF($B7=4,$BU7,0)","v":{"v":0,"d":"0.00"}},{"$f":"IF($B7=5,$BU7,0)","v":{"v":0,"d":"0.00"}},{"$f":"IF($B7=6,$BU7,0)","v":{"v":0,"d":"0.00"}},{"$f":"IF(CB6>0,IF(H7+P7+X7+AF7+AN7+AV7+BD7+BL7+BT7+CJ7=0,IF(E7>0,CB6,0),0),0)","v":0},{"$f":"G7*CB7","v":{"v":0,"d":"0.00"}},{"$f":"IF($B7=1,$CC7,0)","v":{"v":0,"d":"0.00"}},{"$f":"IF($B7=2,$CC7,0)","v":{"v":0,"d":"0.00"}},{"$f":"IF($B7=3,$CC7,0)","v":{"v":0,"d":"0.00"}},{"$f":"IF($B7=4,$CC7,0)","v":{"v":0,"d":"0.00"}},{"$f":"IF($B7=5,$CC7,0)","v":{"v":0,"d":"0.00"}},{"$f":"IF($B7=6,$CC7,0)","v":{"v":0,"d":"0.00"}},{"$f":"IF(CJ6>0,IF(H7+P7+X7+AF7+AN7+AV7+BD7+BL7+BT7+CB7=0,IF(E7>0,CJ6,0),0),0)","v":0},{"$f":"G7*CJ7","v":{"v":0,"d":"0.00"}},{"$f":"IF($B7=1,$CK7,0)","v":{"v":0,"d":"0.00"}},{"$f":"IF($B7=2,$CK7,0)","v":{"v":0,"d":"0.00"}},{"$f":"IF($B7=3,$CK7,0)","v":{"v":0,"d":"0.00"}},{"$f":"IF($B7=4,$CK7,0)","v":{"v":0,"d":"0.00"}},{"$f":"IF($B7=5,$CK7,0)","v":{"v":0,"d":"0.00"}},{"$f":"IF($B7=6,$CK7,0)","v":{"v":0,"d":"0.00"}}]
[{"$f":"IF(C7<>C8,C8,\"\")","v":""},{"$f":"IF(C7<>C8,_xlfn.DAYS(C8,C7)+B7,B7)","v":1},{"$f":"IF(D8>0,IF(D8<E7,C7+1,C7),C7)","v":"2009-02-09"},{"$f":"IF((E8+H8+P8+X8+AF8+AN8+AV8+BD8+BL8+BT8+CB8+CJ8)>0,E7,0)","v":"00:00:00"},null,{"$f":"E8-D8","v":"00:00:00"},{"$f":"IF(E8>0,HOUR(F8)+(MINUTE(F8)/60),0)","v":0},{"$f":"IF(H7>0,IF(P8+X8+AF8+AN8+AV8+BD8+BL8+BT8+CB8+CJ8=0,IF(E8>0,H7,0),0),0)","v":0},{"$f":"G8*H8","v":{"v":0,"d":"0.00"}},{"$f":"IF($B8=1,$I8,0)","v":{"v":0,"d":"0.00"}},{"$f":"IF($B8=2,$I8,0)","v":{"v":0,"d":"0.00"}},{"$f":"IF($B8=3,$I8,0)","v":{"v":0,"d":"0.00"}},{"$f":"IF($B8=4,$I8,0)","v":{"v":0,"d":"0.00"}},{"$f":"IF($B8=5,$I8,0)","v":{"v":0,"d":"0.00"}},{"$f":"IF($B8=6,$I8,0)","v":{"v":0,"d":"0.00"}},{"$f":"IF(P7>0,IF(H8+X8+AF8+AN8+AV8+BD8+BL8+BT8+CB8+CJ8=0,IF(E8>0,P7,0),0),0)","v":0},{"$f":"G8*P8","v":{"v":0,"d":"0.00"}},{"$f":"IF(B8=1,Q8,0)","v":{"v":0,"d":"0.00"}},{"$f":"IF(B8=2,Q8,0)","v":{"v":0,"d":"0.00"}},{"$f":"IF(B8=3,Q8,0)","v":{"v":0,"d":"0.00"}},{"$f":"IF(B8=4,Q8,0)","v":{"v":0,"d":"0.00"}},{"$f":"IF(B8=5,Q8,0)","v":{"v":0,"d":"0.00"}},{"$f":"IF(B8=6,Q8,0)","v":{"v":0,"d":"0.00"}},{"$f":"IF(X7>0,IF(H8+P8+AF8+AN8+AV8+BD8+BL8+BT8+CB8+CJ8=0,IF(E8>0,X7,0),0),0)","v":0},{"$f":"G8*X8","v":{"v":0,"d":"0.00"}},{"$f":"IF($B8=1,$Y8,0)","v":{"v":0,"d":"0.00"}},{"$f":"IF($B8=2,$Y8,0)","v":{"v":0,"d":"0.00"}},{"$f":"IF($B8=3,$Y8,0)","v":{"v":0,"d":"0.00"}},{"$f":"IF($B8=4,$Y8,0)","v":{"v":0,"d":"0.00"}},{"$f":"IF($B8=5,$Y8,0)","v":{"v":0,"d":"0.00"}},{"$f":"IF($B8=6,$Y8,0)","v":{"v":0,"d":"0.00"}},{"$f":"IF(AF7>0,IF(H8+P8+X8+AN8+AV8+BD8+BL8+BT8+CB8+CJ8=0,IF(E8>0,AF7,0),0),0)","v":0},{"$f":"G8*AF8","v":{"v":0,"d":"0.00"}},{"$f":"IF($B8=1,$AG8,0)","v":{"v":0,"d":"0.00"}},{"$f":"IF($B8=2,$AG8,0)","v":{"v":0,"d":"0.00"}},{"$f":"IF($B8=3,$AG8,0)","v":{"v":0,"d":"0.00"}},{"$f":"IF($B8=4,$AG8,0)","v":{"v":0,"d":"0.00"}},{"$f":"IF($B8=5,$AG8,0)","v":{"v":0,"d":"0.00"}},{"$f":"IF($B8=6,$AG8,0)","v":{"v":0,"d":"0.00"}},{"$f":"IF(AN7>0,IF(H8+P8+X8+AF8+AV8+BD8+BL8+BT8+CB8+CJ8=0,IF(E8>0,AN7,0),0),0)","v":0},{"$f":"G8*AN8","v":{"v":0,"d":"0.00"}},{"$f":"IF($B8=1,$AO8,0)","v":{"v":0,"d":"0.00"}},{"$f":"IF($B8=2,$AO8,0)","v":{"v":0,"d":"0.00"}},{"$f":"IF($B8=3,$AO8,0)","v":{"v":0,"d":"0.00"}},{"$f":"IF($B8=4,$AO8,0)","v":{"v":0,"d":"0.00"}},{"$f":"IF($B8=5,$AO8,0)","v":{"v":0,"d":"0.00"}},{"$f":"IF($B8=6,$AO8,0)","v":{"v":0,"d":"0.00"}},{"$f":"IF(AV7>0,IF(H8+P8+X8+AF8+AN8+BD8+BL8+BT8+CB8+CJ8=0,IF(E8>0,AV7,0),0),0)","v":0},{"$f":"G8*AV8","v":{"v":0,"d":"0.00"}},{"$f":"IF($B8=1,$AW8,0)","v":{"v":0,"d":"0.00"}},{"$f":"IF($B8=2,$AW8,0)","v":{"v":0,"d":"0.00"}},{"$f":"IF($B8=3,$AW8,0)","v":{"v":0,"d":"0.00"}},{"$f":"IF($B8=4,$AW8,0)","v":{"v":0,"d":"0.00"}},{"$f":"IF($B8=5,$AW8,0)","v":{"v":0,"d":"0.00"}},{"$f":"IF($B8=6,$AW8,0)","v":{"v":0,"d":"0.00"}},{"$f":"IF(BD7>0,IF(H8+P8+X8+AF8+AN8+AV8+BL8+BT8+CB8+CJ8=0,IF(E8>0,BD7,0),0),0)","v":0},{"$f":"G8*BD8","v":{"v":0,"d":"0.00"}},{"$f":"IF($B8=1,$BE8,0)","v":{"v":0,"d":"0.00"}},{"$f":"IF($B8=2,$BE8,0)","v":{"v":0,"d":"0.00"}},{"$f":"IF($B8=3,$BE8,0)","v":{"v":0,"d":"0.00"}},{"$f":"IF($B8=4,$BE8,0)","v":{"v":0,"d":"0.00"}},{"$f":"IF($B8=5,$BE8,0)","v":{"v":0,"d":"0.00"}},{"$f":"IF($B8=6,$BE8,0)","v":{"v":0,"d":"0.00"}},{"$f":"IF(BL7>0,IF(H8+P8+X8+AF8+AN8+AV8+BD8+BT8+CB8+CJ8=0,IF(E8>0,BL7,0),0),0)","v":0},{"$f":"G8*BL8","v":{"v":0,"d":"0.00"}},{"$f":"IF($B8=1,$BM8,0)","v":{"v":0,"d":"0.00"}},{"$f":"IF($B8=2,$BM8,0)","v":{"v":0,"d":"0.00"}},{"$f":"IF($B8=3,$BM8,0)","v":{"v":0,"d":"0.00"}},{"$f":"IF($B8=4,$BM8,0)","v":{"v":0,"d":"0.00"}},{"$f":"IF($B8=5,$BM8,0)","v":{"v":0,"d":"0.00"}},{"$f":"IF($B8=6,$BM8,0)","v":{"v":0,"d":"0.00"}},{"$f":"IF(BT7>0,IF(H8+P8+X8+AF8+AN8+AV8+BD8+BL8+CB8+CJ8=0,IF(E8>0,BT7,0),0),0)","v":0},{"$f":"G8*BT8","v":{"v":0,"d":"0.00"}},{"$f":"IF($B8=1,$BU8,0)","v":{"v":0,"d":"0.00"}},{"$f":"IF($B8=2,$BU8,0)","v":{"v":0,"d":"0.00"}},{"$f":"IF($B8=3,$BU8,0)","v":{"v":0,"d":"0.00"}},{"$f":"IF($B8=4,$BU8,0)","v":{"v":0,"d":"0.00"}},{"$f":"IF($B8=5,$BU8,0)","v":{"v":0,"d":"0.00"}},{"$f":"IF($B8=6,$BU8,0)","v":{"v":0,"d":"0.00"}},{"$f":"IF(CB7>0,IF(H8+P8+X8+AF8+AN8+AV8+BD8+BL8+BT8+CJ8=0,IF(E8>0,CB7,0),0),0)","v":0},{"$f":"G8*CB8","v":{"v":0,"d":"0.00"}},{"$f":"IF($B8=1,$CC8,0)","v":{"v":0,"d":"0.00"}},{"$f":"IF($B8=2,$CC8,0)","v":{"v":0,"d":"0.00"}},{"$f":"IF($B8=3,$CC8,0)","v":{"v":0,"d":"0.00"}},{"$f":"IF($B8=4,$CC8,0)","v":{"v":0,"d":"0.00"}},{"$f":"IF($B8=5,$CC8,0)","v":{"v":0,"d":"0.00"}},{"$f":"IF($B8=6,$CC8,0)","v":{"v":0,"d":"0.00"}},{"$f":"IF(CJ7>0,IF(H8+P8+X8+AF8+AN8+AV8+BD8+BL8+BT8+CB8=0,IF(E8>0,CJ7,0),0),0)","v":0},{"$f":"G8*CJ8","v":{"v":0,"d":"0.00"}},{"$f":"IF($B8=1,$CK8,0)","v":{"v":0,"d":"0.00"}},{"$f":"IF($B8=2,$CK8,0)","v":{"v":0,"d":"0.00"}},{"$f":"IF($B8=3,$CK8,0)","v":{"v":0,"d":"0.00"}},{"$f":"IF($B8=4,$CK8,0)","v":{"v":0,"d":"0.00"}},{"$f":"IF($B8=5,$CK8,0)","v":{"v":0,"d":"0.00"}},{"$f":"IF($B8=6,$CK8,0)","v":{"v":0,"d":"0.00"}}]
[{"$f":"IF(C8<>C9,C9,\"\")","v":""},{"$f":"IF(C8<>C9,_xlfn.DAYS(C9,C8)+B8,B8)","v":1},{"$f":"IF(D9>0,IF(D9<E8,C8+1,C8),C8)","v":"2009-02-09"},{"$f":"IF((E9+H9+P9+X9+AF9+AN9+AV9+BD9+BL9+BT9+CB9+CJ9)>0,E8,0)","v":"00:00:00"},null,{"$f":"E9-D9","v":"00:00:00"},{"$f":"IF(E9>0,HOUR(F9)+(MINUTE(F9)/60),0)","v":0},{"$f":"IF(H8>0,IF(P9+X9+AF9+AN9+AV9+BD9+BL9+BT9+CB9+CJ9=0,IF(E9>0,H8,0),0),0)","v":0},{"$f":"G9*H9","v":{"v":0,"d":"0.00"}},{"$f":"IF($B9=1,$I9,0)","v":{"v":0,"d":"0.00"}},{"$f":"IF($B9=2,$I9,0)","v":{"v":0,"d":"0.00"}},{"$f":"IF($B9=3,$I9,0)","v":{"v":0,"d":"0.00"}},{"$f":"IF($B9=4,$I9,0)","v":{"v":0,"d":"0.00"}},{"$f":"IF($B9=5,$I9,0)","v":{"v":0,"d":"0.00"}},{"$f":"IF($B9=6,$I9,0)","v":{"v":0,"d":"0.00"}},{"$f":"IF(P8>0,IF(H9+X9+AF9+AN9+AV9+BD9+BL9+BT9+CB9+CJ9=0,IF(E9>0,P8,0),0),0)","v":0},{"$f":"G9*P9","v":{"v":0,"d":"0.00"}},{"$f":"IF(B9=1,Q9,0)","v":{"v":0,"d":"0.00"}},{"$f":"IF(B9=2,Q9,0)","v":{"v":0,"d":"0.00"}},{"$f":"IF(B9=3,Q9,0)","v":{"v":0,"d":"0.00"}},{"$f":"IF(B9=4,Q9,0)","v":{"v":0,"d":"0.00"}},{"$f":"IF(B9=5,Q9,0)","v":{"v":0,"d":"0.00"}},{"$f":"IF(B9=6,Q9,0)","v":{"v":0,"d":"0.00"}},{"$f":"IF(X8>0,IF(H9+P9+AF9+AN9+AV9+BD9+BL9+BT9+CB9+CJ9=0,IF(E9>0,X8,0),0),0)","v":0},{"$f":"G9*X9","v":{"v":0,"d":"0.00"}},{"$f":"IF($B9=1,$Y9,0)","v":{"v":0,"d":"0.00"}},{"$f":"IF($B9=2,$Y9,0)","v":{"v":0,"d":"0.00"}},{"$f":"IF($B9=3,$Y9,0)","v":{"v":0,"d":"0.00"}},{"$f":"IF($B9=4,$Y9,0)","v":{"v":0,"d":"0.00"}},{"$f":"IF($B9=5,$Y9,0)","v":{"v":0,"d":"0.00"}},{"$f":"IF($B9=6,$Y9,0)","v":{"v":0,"d":"0.00"}},{"$f":"IF(AF8>0,IF(H9+P9+X9+AN9+AV9+BD9+BL9+BT9+CB9+CJ9=0,IF(E9>0,AF8,0),0),0)","v":0},{"$f":"G9*AF9","v":{"v":0,"d":"0.00"}},{"$f":"IF($B9=1,$AG9,0)","v":{"v":0,"d":"0.00"}},{"$f":"IF($B9=2,$AG9,0)","v":{"v":0,"d":"0.00"}},{"$f":"IF($B9=3,$AG9,0)","v":{"v":0,"d":"0.00"}},{"$f":"IF($B9=4,$AG9,0)","v":{"v":0,"d":"0.00"}},{"$f":"IF($B9=5,$AG9,0)","v":{"v":0,"d":"0.00"}},{"$f":"IF($B9=6,$AG9,0)","v":{"v":0,"d":"0.00"}},{"$f":"IF(AN8>0,IF(H9+P9+X9+AF9+AV9+BD9+BL9+BT9+CB9+CJ9=0,IF(E9>0,AN8,0),0),0)","v":0},{"$f":"G9*AN9","v":{"v":0,"d":"0.00"}},{"$f":"IF($B9=1,$AO9,0)","v":{"v":0,"d":"0.00"}},{"$f":"IF($B9=2,$AO9,0)","v":{"v":0,"d":"0.00"}},{"$f":"IF($B9=3,$AO9,0)","v":{"v":0,"d":"0.00"}},{"$f":"IF($B9=4,$AO9,0)","v":{"v":0,"d":"0.00"}},{"$f":"IF($B9=5,$AO9,0)","v":{"v":0,"d":"0.00"}},{"$f":"IF($B9=6,$AO9,0)","v":{"v":0,"d":"0.00"}},{"$f":"IF(AV8>0,IF(H9+P9+X9+AF9+AN9+BD9+BL9+BT9+CB9+CJ9=0,IF(E9>0,AV8,0),0),0)","v":0},{"$f":"G9*AV9","v":{"v":0,"d":"0.00"}},{"$f":"IF($B9=1,$AW9,0)","v":{"v":0,"d":"0.00"}},{"$f":"IF($B9=2,$AW9,0)","v":{"v":0,"d":"0.00"}},{"$f":"IF($B9=3,$AW9,0)","v":{"v":0,"d":"0.00"}},{"$f":"IF($B9=4,$AW9,0)","v":{"v":0,"d":"0.00"}},{"$f":"IF($B9=5,$AW9,0)","v":{"v":0,"d":"0.00"}},{"$f":"IF($B9=6,$AW9,0)","v":{"v":0,"d":"0.00"}},{"$f":"IF(BD8>0,IF(H9+P9+X9+AF9+AN9+AV9+BL9+BT9+CB9+CJ9=0,IF(E9>0,BD8,0),0),0)","v":0},{"$f":"G9*BD9","v":{"v":0,"d":"0.00"}},{"$f":"IF($B9=1,$BE9,0)","v":{"v":0,"d":"0.00"}},{"$f":"IF($B9=2,$BE9,0)","v":{"v":0,"d":"0.00"}},{"$f":"IF($B9=3,$BE9,0)","v":{"v":0,"d":"0.00"}},{"$f":"IF($B9=4,$BE9,0)","v":{"v":0,"d":"0.00"}},{"$f":"IF($B9=5,$BE9,0)","v":{"v":0,"d":"0.00"}},{"$f":"IF($B9=6,$BE9,0)","v":{"v":0,"d":"0.00"}},{"$f":"IF(BL8>0,IF(H9+P9+X9+AF9+AN9+AV9+BD9+BT9+CB9+CJ9=0,IF(E9>0,BL8,0),0),0)","v":0},{"$f":"G9*BL9","v":{"v":0,"d":"0.00"}},{"$f":"IF($B9=1,$BM9,0)","v":{"v":0,"d":"0.00"}},{"$f":"IF($B9=2,$BM9,0)","v":{"v":0,"d":"0.00"}},{"$f":"IF($B9=3,$BM9,0)","v":{"v":0,"d":"0.00"}},{"$f":"IF($B9=4,$BM9,0)","v":{"v":0,"d":"0.00"}},{"$f":"IF($B9=5,$BM9,0)","v":{"v":0,"d":"0.00"}},{"$f":"IF($B9=6,$BM9,0)","v":{"v":0,"d":"0.00"}},{"$f":"IF(BT8>0,IF(H9+P9+X9+AF9+AN9+AV9+BD9+BL9+CB9+CJ9=0,IF(E9>0,BT8,0),0),0)","v":0},{"$f":"G9*BT9","v":{"v":0,"d":"0.00"}},{"$f":"IF($B9=1,$BU9,0)","v":{"v":0,"d":"0.00"}},{"$f":"IF($B9=2,$BU9,0)","v":{"v":0,"d":"0.00"}},{"$f":"IF($B9=3,$BU9,0)","v":{"v":0,"d":"0.00"}},{"$f":"IF($B9=4,$BU9,0)","v":{"v":0,"d":"0.00"}},{"$f":"IF($B9=5,$BU9,0)","v":{"v":0,"d":"0.00"}},{"$f":"IF($B9=6,$BU9,0)","v":{"v":0,"d":"0.00"}},{"$f":"IF(CB8>0,IF(H9+P9+X9+AF9+AN9+AV9+BD9+BL9+BT9+CJ9=0,IF(E9>0,CB8,0),0),0)","v":0},{"$f":"G9*CB9","v":{"v":0,"d":"0.00"}},{"$f":"IF($B9=1,$CC9,0)","v":{"v":0,"d":"0.00"}},{"$f":"IF($B9=2,$CC9,0)","v":{"v":0,"d":"0.00"}},{"$f":"IF($B9=3,$CC9,0)","v":{"v":0,"d":"0.00"}},{"$f":"IF($B9=4,$CC9,0)","v":{"v":0,"d":"0.00"}},{"$f":"IF($B9=5,$CC9,0)","v":{"v":0,"d":"0.00"}},{"$f":"IF($B9=6,$CC9,0)","v":{"v":0,"d":"0.00"}},{"$f":"IF(CJ8>0,IF(H9+P9+X9+AF9+AN9+AV9+BD9+BL9+BT9+CB9=0,IF(E9>0,CJ8,0),0),0)","v":0},{"$f":"G9*CJ9","v":{"v":0,"d":"0.00"}},{"$f":"IF($B9=1,$CK9,0)","v":{"v":0,"d":"0.00"}},{"$f":"IF($B9=2,$CK9,0)","v":{"v":0,"d":"0.00"}},{"$f":"IF($B9=3,$CK9,0)","v":{"v":0,"d":"0.00"}},{"$f":"IF($B9=4,$CK9,0)","v":{"v":0,"d":"0.00"}},{"$f":"IF($B9=5,$CK9,0)","v":{"v":0,"d":"0.00"}},{"$f":"IF($B9=6,$CK9,0)","v":{"v":0,"d":"0.00"}}]
[{"$f":"IF(C9<>C10,C10,\"\")","v":""},{"$f":"IF(C9<>C10,_xlfn.DAYS(C10,C9)+B9,B9)","v":1},{"$f":"IF(D10>0,IF(D10<E9,C9+1,C9),C9)","v":"2009-02-09"},{"$f":"IF((E10+H10+P10+X10+AF10+AN10+AV10+BD10+BL10+BT10+CB10+CJ10)>0,E9,0)","v":"00:00:00"},null,{"$f":"E10-D10","v":"00:00:00"},{"$f":"IF(E10>0,HOUR(F10)+(MINUTE(F10)/60),0)","v":0},{"$f":"IF(H9>0,IF(P10+X10+AF10+AN10+AV10+BD10+BL10+BT10+CB10+CJ10=0,IF(E10>0,H9,0),0),0)","v":0},{"$f":"G10*H10","v":{"v":0,"d":"0.00"}},{"$f":"IF($B10=1,$I10,0)","v":{"v":0,"d":"0.00"}},{"$f":"IF($B10=2,$I10,0)","v":{"v":0,"d":"0.00"}},{"$f":"IF($B10=3,$I10,0)","v":{"v":0,"d":"0.00"}},{"$f":"IF($B10=4,$I10,0)","v":{"v":0,"d":"0.00"}},{"$f":"IF($B10=5,$I10,0)","v":{"v":0,"d":"0.00"}},{"$f":"IF($B10=6,$I10,0)","v":{"v":0,"d":"0.00"}},{"$f":"IF(P9>0,IF(H10+X10+AF10+AN10+AV10+BD10+BL10+BT10+CB10+CJ10=0,IF(E10>0,P9,0),0),0)","v":0},{"$f":"G10*P10","v":{"v":0,"d":"0.00"}},{"$f":"IF(B10=1,Q10,0)","v":{"v":0,"d":"0.00"}},{"$f":"IF(B10=2,Q10,0)","v":{"v":0,"d":"0.00"}},{"$f":"IF(B10=3,Q10,0)","v":{"v":0,"d":"0.00"}},{"$f":"IF(B10=4,Q10,0)","v":{"v":0,"d":"0.00"}},{"$f":"IF(B10=5,Q10,0)","v":{"v":0,"d":"0.00"}},{"$f":"IF(B10=6,Q10,0)","v":{"v":0,"d":"0.00"}},{"$f":"IF(X9>0,IF(H10+P10+AF10+AN10+AV10+BD10+BL10+BT10+CB10+CJ10=0,IF(E10>0,X9,0),0),0)","v":0},{"$f":"G10*X10","v":{"v":0,"d":"0.00"}},{"$f":"IF($B10=1,$Y10,0)","v":{"v":0,"d":"0.00"}},{"$f":"IF($B10=2,$Y10,0)","v":{"v":0,"d":"0.00"}},{"$f":"IF($B10=3,$Y10,0)","v":{"v":0,"d":"0.00"}},{"$f":"IF($B10=4,$Y10,0)","v":{"v":0,"d":"0.00"}},{"$f":"IF($B10=5,$Y10,0)","v":{"v":0,"d":"0.00"}},{"$f":"IF($B10=6,$Y10,0)","v":{"v":0,"d":"0.00"}},{"$f":"IF(AF9>0,IF(H10+P10+X10+AN10+AV10+BD10+BL10+BT10+CB10+CJ10=0,IF(E10>0,AF9,0),0),0)","v":0},{"$f":"G10*AF10","v":{"v":0,"d":"0.00"}},{"$f":"IF($B10=1,$AG10,0)","v":{"v":0,"d":"0.00"}},{"$f":"IF($B10=2,$AG10,0)","v":{"v":0,"d":"0.00"}},{"$f":"IF($B10=3,$AG10,0)","v":{"v":0,"d":"0.00"}},{"$f":"IF($B10=4,$AG10,0)","v":{"v":0,"d":"0.00"}},{"$f":"IF($B10=5,$AG10,0)","v":{"v":0,"d":"0.00"}},{"$f":"IF($B10=6,$AG10,0)","v":{"v":0,"d":"0.00"}},{"$f":"IF(AN9>0,IF(H10+P10+X10+AF10+AV10+BD10+BL10+BT10+CB10+CJ10=0,IF(E10>0,AN9,0),0),0)","v":0},{"$f":"G10*AN10","v":{"v":0,"d":"0.00"}},{"$f":"IF($B10=1,$AO10,0)","v":{"v":0,"d":"0.00"}},{"$f":"IF($B10=2,$AO10,0)","v":{"v":0,"d":"0.00"}},{"$f":"IF($B10=3,$AO10,0)","v":{"v":0,"d":"0.00"}},{"$f":"IF($B10=4,$AO10,0)","v":{"v":0,"d":"0.00"}},{"$f":"IF($B10=5,$AO10,0)","v":{"v":0,"d":"0.00"}},{"$f":"IF($B10=6,$AO10,0)","v":{"v":0,"d":"0.00"}},{"$f":"IF(AV9>0,IF(H10+P10+X10+AF10+AN10+BD10+BL10+BT10+CB10+CJ10=0,IF(E10>0,AV9,0),0),0)","v":0},{"$f":"G10*AV10","v":{"v":0,"d":"0.00"}},{"$f":"IF($B10=1,$AW10,0)","v":{"v":0,"d":"0.00"}},{"$f":"IF($B10=2,$AW10,0)","v":{"v":0,"d":"0.00"}},{"$f":"IF($B10=3,$AW10,0)","v":{"v":0,"d":"0.00"}},{"$f":"IF($B10=4,$AW10,0)","v":{"v":0,"d":"0.00"}},{"$f":"IF($B10=5,$AW10,0)","v":{"v":0,"d":"0.00"}},{"$f":"IF($B10=6,$AW10,0)","v":{"v":0,"d":"0.00"}},{"$f":"IF(BD9>0,IF(H10+P10+X10+AF10+AN10+AV10+BL10+BT10+CB10+CJ10=0,IF(E10>0,BD9,0),0),0)","v":0},{"$f":"G10*BD10","v":{"v":0,"d":"0.00"}},{"$f":"IF($B10=1,$BE10,0)","v":{"v":0,"d":"0.00"}},{"$f":"IF($B10=2,$BE10,0)","v":{"v":0,"d":"0.00"}},{"$f":"IF($B10=3,$BE10,0)","v":{"v":0,"d":"0.00"}},{"$f":"IF($B10=4,$BE10,0)","v":{"v":0,"d":"0.00"}},{"$f":"IF($B10=5,$BE10,0)","v":{"v":0,"d":"0.00"}},{"$f":"IF($B10=6,$BE10,0)","v":{"v":0,"d":"0.00"}},{"$f":"IF(BL9>0,IF(H10+P10+X10+AF10+AN10+AV10+BD10+BT10+CB10+CJ10=0,IF(E10>0,BL9,0),0),0)","v":0},{"$f":"G10*BL10","v":{"v":0,"d":"0.00"}},{"$f":"IF($B10=1,$BM10,0)","v":{"v":0,"d":"0.00"}},{"$f":"IF($B10=2,$BM10,0)","v":{"v":0,"d":"0.00"}},{"$f":"IF($B10=3,$BM10,0)","v":{"v":0,"d":"0.00"}},{"$f":"IF($B10=4,$BM10,0)","v":{"v":0,"d":"0.00"}},{"$f":"IF($B10=5,$BM10,0)","v":{"v":0,"d":"0.00"}},{"$f":"IF($B10=6,$BM10,0)","v":{"v":0,"d":"0.00"}},{"$f":"IF(BT9>0,IF(H10+P10+X10+AF10+AN10+AV10+BD10+BL10+CB10+CJ10=0,IF(E10>0,BT9,0),0),0)","v":0},{"$f":"G10*BT10","v":{"v":0,"d":"0.00"}},{"$f":"IF($B10=1,$BU10,0)","v":{"v":0,"d":"0.00"}},{"$f":"IF($B10=2,$BU10,0)","v":{"v":0,"d":"0.00"}},{"$f":"IF($B10=3,$BU10,0)","v":{"v":0,"d":"0.00"}},{"$f":"IF($B10=4,$BU10,0)","v":{"v":0,"d":"0.00"}},{"$f":"IF($B10=5,$BU10,0)","v":{"v":0,"d":"0.00"}},{"$f":"IF($B10=6,$BU10,0)","v":{"v":0,"d":"0.00"}},{"$f":"IF(CB9>0,IF(H10+P10+X10+AF10+AN10+AV10+BD10+BL10+BT10+CJ10=0,IF(E10>0,CB9,0),0),0)","v":0},{"$f":"G10*CB10","v":{"v":0,"d":"0.00"}},{"$f":"IF($B10=1,$CC10,0)","v":{"v":0,"d":"0.00"}},{"$f":"IF($B10=2,$CC10,0)","v":{"v":0,"d":"0.00"}},{"$f":"IF($B10=3,$CC10,0)","v":{"v":0,"d":"0.00"}},{"$f":"IF($B10=4,$CC10,0)","v":{"v":0,"d":"0.00"}},{"$f":"IF($B10=5,$CC10,0)","v":{"v":0,"d":"0.00"}},{"$f":"IF($B10=6,$CC10,0)","v":{"v":0,"d":"0.00"}},{"$f":"IF(CJ9>0,IF(H10+P10+X10+AF10+AN10+AV10+BD10+BL10+BT10+CB10=0,IF(E10>0,CJ9,0),0),0)","v":0},{"$f":"G10*CJ10","v":{"v":0,"d":"0.00"}},{"$f":"IF($B10=1,$CK10,0)","v":{"v":0,"d":"0.00"}},{"$f":"IF($B10=2,$CK10,0)","v":{"v":0,"d":"0.00"}},{"$f":"IF($B10=3,$CK10,0)","v":{"v":0,"d":"0.00"}},{"$f":"IF($B10=4,$CK10,0)","v":{"v":0,"d":"0.00"}},{"$f":"IF($B10=5,$CK10,0)","v":{"v":0,"d":"0.00"}},{"$f":"IF($B10=6,$CK10,0)","v":{"v":0,"d":"0.00"}}]
[{"$f":"IF(C10<>C11,C11,\"\")","v":""},{"$f":"IF(C10<>C11,_xlfn.DAYS(C11,C10)+B10,B10)","v":1},{"$f":"IF(D11>0,IF(D11<E10,C10+1,C10),C10)","v":"2009-02-09"},{"$f":"IF((E11+H11+P11+X11+AF11+AN11+AV11+BD11+BL11+BT11+CB11+CJ11)>0,E10,0)","v":"00:00:00"},null,{"$f":"E11-D11","v":"00:00:00"},{"$f":"IF(E11>0,HOUR(F11)+(MINUTE(F11)/60),0)","v":0},{"$f":"IF(H10>0,IF(P11+X11+AF11+AN11+AV11+BD11+BL11+BT11+CB11+CJ11=0,IF(E11>0,H10,0),0),0)","v":0},{"$f":"G11*H11","v":{"v":0,"d":"0.00"}},{"$f":"IF($B11=1,$I11,0)","v":{"v":0,"d":"0.00"}},{"$f":"IF($B11=2,$I11,0)","v":{"v":0,"d":"0.00"}},{"$f":"IF($B11=3,$I11,0)","v":{"v":0,"d":"0.00"}},{"$f":"IF($B11=4,$I11,0)","v":{"v":0,"d":"0.00"}},{"$f":"IF($B11=5,$I11,0)","v":{"v":0,"d":"0.00"}},{"$f":"IF($B11=6,$I11,0)","v":{"v":0,"d":"0.00"}},{"$f":"IF(P10>0,IF(H11+X11+AF11+AN11+AV11+BD11+BL11+BT11+CB11+CJ11=0,IF(E11>0,P10,0),0),0)","v":0},{"$f":"G11*P11","v":{"v":0,"d":"0.00"}},{"$f":"IF(B11=1,Q11,0)","v":{"v":0,"d":"0.00"}},{"$f":"IF(B11=2,Q11,0)","v":{"v":0,"d":"0.00"}},{"$f":"IF(B11=3,Q11,0)","v":{"v":0,"d":"0.00"}},{"$f":"IF(B11=4,Q11,0)","v":{"v":0,"d":"0.00"}},{"$f":"IF(B11=5,Q11,0)","v":{"v":0,"d":"0.00"}},{"$f":"IF(B11=6,Q11,0)","v":{"v":0,"d":"0.00"}},{"$f":"IF(X10>0,IF(H11+P11+AF11+AN11+AV11+BD11+BL11+BT11+CB11+CJ11=0,IF(E11>0,X10,0),0),0)","v":0},{"$f":"G11*X11","v":{"v":0,"d":"0.00"}},{"$f":"IF($B11=1,$Y11,0)","v":{"v":0,"d":"0.00"}},{"$f":"IF($B11=2,$Y11,0)","v":{"v":0,"d":"0.00"}},{"$f":"IF($B11=3,$Y11,0)","v":{"v":0,"d":"0.00"}},{"$f":"IF($B11=4,$Y11,0)","v":{"v":0,"d":"0.00"}},{"$f":"IF($B11=5,$Y11,0)","v":{"v":0,"d":"0.00"}},{"$f":"IF($B11=6,$Y11,0)","v":{"v":0,"d":"0.00"}},{"$f":"IF(AF10>0,IF(H11+P11+X11+AN11+AV11+BD11+BL11+BT11+CB11+CJ11=0,IF(E11>0,AF10,0),0),0)","v":0},{"$f":"G11*AF11","v":{"v":0,"d":"0.00"}},{"$f":"IF($B11=1,$AG11,0)","v":{"v":0,"d":"0.00"}},{"$f":"IF($B11=2,$AG11,0)","v":{"v":0,"d":"0.00"}},{"$f":"IF($B11=3,$AG11,0)","v":{"v":0,"d":"0.00"}},{"$f":"IF($B11=4,$AG11,0)","v":{"v":0,"d":"0.00"}},{"$f":"IF($B11=5,$AG11,0)","v":{"v":0,"d":"0.00"}},{"$f":"IF($B11=6,$AG11,0)","v":{"v":0,"d":"0.00"}},{"$f":"IF(AN10>0,IF(H11+P11+X11+AF11+AV11+BD11+BL11+BT11+CB11+CJ11=0,IF(E11>0,AN10,0),0),0)","v":0},{"$f":"G11*AN11","v":{"v":0,"d":"0.00"}},{"$f":"IF($B11=1,$AO11,0)","v":{"v":0,"d":"0.00"}},{"$f":"IF($B11=2,$AO11,0)","v":{"v":0,"d":"0.00"}},{"$f":"IF($B11=3,$AO11,0)","v":{"v":0,"d":"0.00"}},{"$f":"IF($B11=4,$AO11,0)","v":{"v":0,"d":"0.00"}},{"$f":"IF($B11=5,$AO11,0)","v":{"v":0,"d":"0.00"}},{"$f":"IF($B11=6,$AO11,0)","v":{"v":0,"d":"0.00"}},{"$f":"IF(AV10>0,IF(H11+P11+X11+AF11+AN11+BD11+BL11+BT11+CB11+CJ11=0,IF(E11>0,AV10,0),0),0)","v":0},{"$f":"G11*AV11","v":{"v":0,"d":"0.00"}},{"$f":"IF($B11=1,$AW11,0)","v":{"v":0,"d":"0.00"}},{"$f":"IF($B11=2,$AW11,0)","v":{"v":0,"d":"0.00"}},{"$f":"IF($B11=3,$AW11,0)","v":{"v":0,"d":"0.00"}},{"$f":"IF($B11=4,$AW11,0)","v":{"v":0,"d":"0.00"}},{"$f":"IF($B11=5,$AW11,0)","v":{"v":0,"d":"0.00"}},{"$f":"IF($B11=6,$AW11,0)","v":{"v":0,"d":"0.00"}},{"$f":"IF(BD10>0,IF(H11+P11+X11+AF11+AN11+AV11+BL11+BT11+CB11+CJ11=0,IF(E11>0,BD10,0),0),0)","v":0},{"$f":"G11*BD11","v":{"v":0,"d":"0.00"}},{"$f":"IF($B11=1,$BE11,0)","v":{"v":0,"d":"0.00"}},{"$f":"IF($B11=2,$BE11,0)","v":{"v":0,"d":"0.00"}},{"$f":"IF($B11=3,$BE11,0)","v":{"v":0,"d":"0.00"}},{"$f":"IF($B11=4,$BE11,0)","v":{"v":0,"d":"0.00"}},{"$f":"IF($B11=5,$BE11,0)","v":{"v":0,"d":"0.00"}},{"$f":"IF($B11=6,$BE11,0)","v":{"v":0,"d":"0.00"}},{"$f":"IF(BL10>0,IF(H11+P11+X11+AF11+AN11+AV11+BD11+BT11+CB11+CJ11=0,IF(E11>0,BL10,0),0),0)","v":0},{"$f":"G11*BL11","v":{"v":0,"d":"0.00"}},{"$f":"IF($B11=1,$BM11,0)","v":{"v":0,"d":"0.00"}},{"$f":"IF($B11=2,$BM11,0)","v":{"v":0,"d":"0.00"}},{"$f":"IF($B11=3,$BM11,0)","v":{"v":0,"d":"0.00"}},{"$f":"IF($B11=4,$BM11,0)","v":{"v":0,"d":"0.00"}},{"$f":"IF($B11=5,$BM11,0)","v":{"v":0,"d":"0.00"}},{"$f":"IF($B11=6,$BM11,0)","v":{"v":0,"d":"0.00"}},{"$f":"IF(BT10>0,IF(H11+P11+X11+AF11+AN11+AV11+BD11+BL11+CB11+CJ11=0,IF(E11>0,BT10,0),0),0)","v":0},{"$f":"G11*BT11","v":{"v":0,"d":"0.00"}},{"$f":"IF($B11=1,$BU11,0)","v":{"v":0,"d":"0.00"}},{"$f":"IF($B11=2,$BU11,0)","v":{"v":0,"d":"0.00"}},{"$f":"IF($B11=3,$BU11,0)","v":{"v":0,"d":"0.00"}},{"$f":"IF($B11=4,$BU11,0)","v":{"v":0,"d":"0.00"}},{"$f":"IF($B11=5,$BU11,0)","v":{"v":0,"d":"0.00"}},{"$f":"IF($B11=6,$BU11,0)","v":{"v":0,"d":"0.00"}},{"$f":"IF(CB10>0,IF(H11+P11+X11+AF11+AN11+AV11+BD11+BL11+BT11+CJ11=0,IF(E11>0,CB10,0),0),0)","v":0},{"$f":"G11*CB11","v":{"v":0,"d":"0.00"}},{"$f":"IF($B11=1,$CC11,0)","v":{"v":0,"d":"0.00"}},{"$f":"IF($B11=2,$CC11,0)","v":{"v":0,"d":"0.00"}},{"$f":"IF($B11=3,$CC11,0)","v":{"v":0,"d":"0.00"}},{"$f":"IF($B11=4,$CC11,0)","v":{"v":0,"d":"0.00"}},{"$f":"IF($B11=5,$CC11,0)","v":{"v":0,"d":"0.00"}},{"$f":"IF($B11=6,$CC11,0)","v":{"v":0,"d":"0.00"}},{"$f":"IF(CJ10>0,IF(H11+P11+X11+AF11+AN11+AV11+BD11+BL11+BT11+CB11=0,IF(E11>0,CJ10,0),0),0)","v":0},{"$f":"G11*CJ11","v":{"v":0,"d":"0.00"}},{"$f":"IF($B11=1,$CK11,0)","v":{"v":0,"d":"0.00"}},{"$f":"IF($B11=2,$CK11,0)","v":{"v":0,"d":"0.00"}},{"$f":"IF($B11=3,$CK11,0)","v":{"v":0,"d":"0.00"}},{"$f":"IF($B11=4,$CK11,0)","v":{"v":0,"d":"0.00"}},{"$f":"IF($B11=5,$CK11,0)","v":{"v":0,"d":"0.00"}},{"$f":"IF($B11=6,$CK11,0)","v":{"v":0,"d":"0.00"}}]
[{"$f":"IF(C11<>C12,C12,\"\")","v":""},{"$f":"IF(C11<>C12,_xlfn.DAYS(C12,C11)+B11,B11)","v":1},{"$f":"IF(D12>0,IF(D12<E11,C11+1,C11),C11)","v":"2009-02-09"},{"$f":"IF((E12+H12+P12+X12+AF12+AN12+AV12+BD12+BL12+BT12+CB12+CJ12)>0,E11,0)","v":"00:00:00"},null,{"$f":"E12-D12","v":"00:00:00"},{"$f":"IF(E12>0,HOUR(F12)+(MINUTE(F12)/60),0)","v":0},{"$f":"IF(H11>0,IF(P12+X12+AF12+AN12+AV12+BD12+BL12+BT12+CB12+CJ12=0,IF(E12>0,H11,0),0),0)","v":0},{"$f":"G12*H12","v":{"v":0,"d":"0.00"}},{"$f":"IF($B12=1,$I12,0)","v":{"v":0,"d":"0.00"}},{"$f":"IF($B12=2,$I12,0)","v":{"v":0,"d":"0.00"}},{"$f":"IF($B12=3,$I12,0)","v":{"v":0,"d":"0.00"}},{"$f":"IF($B12=4,$I12,0)","v":{"v":0,"d":"0.00"}},{"$f":"IF($B12=5,$I12,0)","v":{"v":0,"d":"0.00"}},{"$f":"IF($B12=6,$I12,0)","v":{"v":0,"d":"0.00"}},{"$f":"IF(P11>0,IF(H12+X12+AF12+AN12+AV12+BD12+BL12+BT12+CB12+CJ12=0,IF(E12>0,P11,0),0),0)","v":0},{"$f":"G12*P12","v":{"v":0,"d":"0.00"}},{"$f":"IF(B12=1,Q12,0)","v":{"v":0,"d":"0.00"}},{"$f":"IF(B12=2,Q12,0)","v":{"v":0,"d":"0.00"}},{"$f":"IF(B12=3,Q12,0)","v":{"v":0,"d":"0.00"}},{"$f":"IF(B12=4,Q12,0)","v":{"v":0,"d":"0.00"}},{"$f":"IF(B12=5,Q12,0)","v":{"v":0,"d":"0.00"}},{"$f":"IF(B12=6,Q12,0)","v":{"v":0,"d":"0.00"}},{"$f":"IF(X11>0,IF(H12+P12+AF12+AN12+AV12+BD12+BL12+BT12+CB12+CJ12=0,IF(E12>0,X11,0),0),0)","v":0},{"$f":"G12*X12","v":{"v":0,"d":"0.00"}},{"$f":"IF($B12=1,$Y12,0)","v":{"v":0,"d":"0.00"}},{"$f":"IF($B12=2,$Y12,0)","v":{"v":0,"d":"0.00"}},{"$f":"IF($B12=3,$Y12,0)","v":{"v":0,"d":"0.00"}},{"$f":"IF($B12=4,$Y12,0)","v":{"v":0,"d":"0.00"}},{"$f":"IF($B12=5,$Y12,0)","v":{"v":0,"d":"0.00"}},{"$f":"IF($B12=6,$Y12,0)","v":{"v":0,"d":"0.00"}},{"$f":"IF(AF11>0,IF(H12+P12+X12+AN12+AV12+BD12+BL12+BT12+CB12+CJ12=0,IF(E12>0,AF11,0),0),0)","v":0},{"$f":"G12*AF12","v":{"v":0,"d":"0.00"}},{"$f":"IF($B12=1,$AG12,0)","v":{"v":0,"d":"0.00"}},{"$f":"IF($B12=2,$AG12,0)","v":{"v":0,"d":"0.00"}},{"$f":"IF($B12=3,$AG12,0)","v":{"v":0,"d":"0.00"}},{"$f":"IF($B12=4,$AG12,0)","v":{"v":0,"d":"0.00"}},{"$f":"IF($B12=5,$AG12,0)","v":{"v":0,"d":"0.00"}},{"$f":"IF($B12=6,$AG12,0)","v":{"v":0,"d":"0.00"}},{"$f":"IF(AN11>0,IF(H12+P12+X12+AF12+AV12+BD12+BL12+BT12+CB12+CJ12=0,IF(E12>0,AN11,0),0),0)","v":0},{"$f":"G12*AN12","v":{"v":0,"d":"0.00"}},{"$f":"IF($B12=1,$AO12,0)","v":{"v":0,"d":"0.00"}},{"$f":"IF($B12=2,$AO12,0)","v":{"v":0,"d":"0.00"}},{"$f":"IF($B12=3,$AO12,0)","v":{"v":0,"d":"0.00"}},{"$f":"IF($B12=4,$AO12,0)","v":{"v":0,"d":"0.00"}},{"$f":"IF($B12=5,$AO12,0)","v":{"v":0,"d":"0.00"}},{"$f":"IF($B12=6,$AO12,0)","v":{"v":0,"d":"0.00"}},{"$f":"IF(AV11>0,IF(H12+P12+X12+AF12+AN12+BD12+BL12+BT12+CB12+CJ12=0,IF(E12>0,AV11,0),0),0)","v":0},{"$f":"G12*AV12","v":{"v":0,"d":"0.00"}},{"$f":"IF($B12=1,$AW12,0)","v":{"v":0,"d":"0.00"}},{"$f":"IF($B12=2,$AW12,0)","v":{"v":0,"d":"0.00"}},{"$f":"IF($B12=3,$AW12,0)","v":{"v":0,"d":"0.00"}},{"$f":"IF($B12=4,$AW12,0)","v":{"v":0,"d":"0.00"}},{"$f":"IF($B12=5,$AW12,0)","v":{"v":0,"d":"0.00"}},{"$f":"IF($B12=6,$AW12,0)","v":{"v":0,"d":"0.00"}},{"$f":"IF(BD11>0,IF(H12+P12+X12+AF12+AN12+AV12+BL12+BT12+CB12+CJ12=0,IF(E12>0,BD11,0),0),0)","v":0},{"$f":"G12*BD12","v":{"v":0,"d":"0.00"}},{"$f":"IF($B12=1,$BE12,0)","v":{"v":0,"d":"0.00"}},{"$f":"IF($B12=2,$BE12,0)","v":{"v":0,"d":"0.00"}},{"$f":"IF($B12=3,$BE12,0)","v":{"v":0,"d":"0.00"}},{"$f":"IF($B12=4,$BE12,0)","v":{"v":0,"d":"0.00"}},{"$f":"IF($B12=5,$BE12,0)","v":{"v":0,"d":"0.00"}},{"$f":"IF($B12=6,$BE12,0)","v":{"v":0,"d":"0.00"}},{"$f":"IF(BL11>0,IF(H12+P12+X12+AF12+AN12+AV12+BD12+BT12+CB12+CJ12=0,IF(E12>0,BL11,0),0),0)","v":0},{"$f":"G12*BL12","v":{"v":0,"d":"0.00"}},{"$f":"IF($B12=1,$BM12,0)","v":{"v":0,"d":"0.00"}},{"$f":"IF($B12=2,$BM12,0)","v":{"v":0,"d":"0.00"}},{"$f":"IF($B12=3,$BM12,0)","v":{"v":0,"d":"0.00"}},{"$f":"IF($B12=4,$BM12,0)","v":{"v":0,"d":"0.00"}},{"$f":"IF($B12=5,$BM12,0)","v":{"v":0,"d":"0.00"}},{"$f":"IF($B12=6,$BM12,0)","v":{"v":0,"d":"0.00"}},{"$f":"IF(BT11>0,IF(H12+P12+X12+AF12+AN12+AV12+BD12+BL12+CB12+CJ12=0,IF(E12>0,BT11,0),0),0)","v":0},{"$f":"G12*BT12","v":{"v":0,"d":"0.00"}},{"$f":"IF($B12=1,$BU12,0)","v":{"v":0,"d":"0.00"}},{"$f":"IF($B12=2,$BU12,0)","v":{"v":0,"d":"0.00"}},{"$f":"IF($B12=3,$BU12,0)","v":{"v":0,"d":"0.00"}},{"$f":"IF($B12=4,$BU12,0)","v":{"v":0,"d":"0.00"}},{"$f":"IF($B12=5,$BU12,0)","v":{"v":0,"d":"0.00"}},{"$f":"IF($B12=6,$BU12,0)","v":{"v":0,"d":"0.00"}},{"$f":"IF(CB11>0,IF(H12+P12+X12+AF12+AN12+AV12+BD12+BL12+BT12+CJ12=0,IF(E12>0,CB11,0),0),0)","v":0},{"$f":"G12*CB12","v":{"v":0,"d":"0.00"}},{"$f":"IF($B12=1,$CC12,0)","v":{"v":0,"d":"0.00"}},{"$f":"IF($B12=2,$CC12,0)","v":{"v":0,"d":"0.00"}},{"$f":"IF($B12=3,$CC12,0)","v":{"v":0,"d":"0.00"}},{"$f":"IF($B12=4,$CC12,0)","v":{"v":0,"d":"0.00"}},{"$f":"IF($B12=5,$CC12,0)","v":{"v":0,"d":"0.00"}},{"$f":"IF($B12=6,$CC12,0)","v":{"v":0,"d":"0.00"}},{"$f":"IF(CJ11>0,IF(H12+P12+X12+AF12+AN12+AV12+BD12+BL12+BT12+CB12=0,IF(E12>0,CJ11,0),0),0)","v":0},{"$f":"G12*CJ12","v":{"v":0,"d":"0.00"}},{"$f":"IF($B12=1,$CK12,0)","v":{"v":0,"d":"0.00"}},{"$f":"IF($B12=2,$CK12,0)","v":{"v":0,"d":"0.00"}},{"$f":"IF($B12=3,$CK12,0)","v":{"v":0,"d":"0.00"}},{"$f":"IF($B12=4,$CK12,0)","v":{"v":0,"d":"0.00"}},{"$f":"IF($B12=5,$CK12,0)","v":{"v":0,"d":"0.00"}},{"$f":"IF($B12=6,$CK12,0)","v":{"v":0,"d":"0.00"}}]
[{"$f":"IF(C12<>C13,C13,\"\")","v":""},{"$f":"IF(C12<>C13,_xlfn.DAYS(C13,C12)+B12,B12)","v":1},{"$f":"IF(D13>0,IF(D13<E12,C12+1,C12),C12)","v":"2009-02-09"},{"$f":"IF((E13+H13+P13+X13+AF13+AN13+AV13+BD13+BL13+BT13+CB13+CJ13)>0,E12,0)","v":"00:00:00"},null,{"$f":"E13-D13","v":"00:00:00"},{"$f":"IF(E13>0,HOUR(F13)+(MINUTE(F13)/60),0)","v":0},{"$f":"IF(H12>0,IF(P13+X13+AF13+AN13+AV13+BD13+BL13+BT13+CB13+CJ13=0,IF(E13>0,H12,0),0),0)","v":0},{"$f":"G13*H13","v":{"v":0,"d":"0.00"}},{"$f":"IF($B13=1,$I13,0)","v":{"v":0,"d":"0.00"}},{"$f":"IF($B13=2,$I13,0)","v":{"v":0,"d":"0.00"}},{"$f":"IF($B13=3,$I13,0)","v":{"v":0,"d":"0.00"}},{"$f":"IF($B13=4,$I13,0)","v":{"v":0,"d":"0.00"}},{"$f":"IF($B13=5,$I13,0)","v":{"v":0,"d":"0.00"}},{"$f":"IF($B13=6,$I13,0)","v":{"v":0,"d":"0.00"}},{"$f":"IF(P12>0,IF(H13+X13+AF13+AN13+AV13+BD13+BL13+BT13+CB13+CJ13=0,IF(E13>0,P12,0),0),0)","v":0},{"$f":"G13*P13","v":{"v":0,"d":"0.00"}},{"$f":"IF(B13=1,Q13,0)","v":{"v":0,"d":"0.00"}},{"$f":"IF(B13=2,Q13,0)","v":{"v":0,"d":"0.00"}},{"$f":"IF(B13=3,Q13,0)","v":{"v":0,"d":"0.00"}},{"$f":"IF(B13=4,Q13,0)","v":{"v":0,"d":"0.00"}},{"$f":"IF(B13=5,Q13,0)","v":{"v":0,"d":"0.00"}},{"$f":"IF(B13=6,Q13,0)","v":{"v":0,"d":"0.00"}},{"$f":"IF(X12>0,IF(H13+P13+AF13+AN13+AV13+BD13+BL13+BT13+CB13+CJ13=0,IF(E13>0,X12,0),0),0)","v":0},{"$f":"G13*X13","v":{"v":0,"d":"0.00"}},{"$f":"IF($B13=1,$Y13,0)","v":{"v":0,"d":"0.00"}},{"$f":"IF($B13=2,$Y13,0)","v":{"v":0,"d":"0.00"}},{"$f":"IF($B13=3,$Y13,0)","v":{"v":0,"d":"0.00"}},{"$f":"IF($B13=4,$Y13,0)","v":{"v":0,"d":"0.00"}},{"$f":"IF($B13=5,$Y13,0)","v":{"v":0,"d":"0.00"}},{"$f":"IF($B13=6,$Y13,0)","v":{"v":0,"d":"0.00"}},{"$f":"IF(AF12>0,IF(H13+P13+X13+AN13+AV13+BD13+BL13+BT13+CB13+CJ13=0,IF(E13>0,AF12,0),0),0)","v":0},{"$f":"G13*AF13","v":{"v":0,"d":"0.00"}},{"$f":"IF($B13=1,$AG13,0)","v":{"v":0,"d":"0.00"}},{"$f":"IF($B13=2,$AG13,0)","v":{"v":0,"d":"0.00"}},{"$f":"IF($B13=3,$AG13,0)","v":{"v":0,"d":"0.00"}},{"$f":"IF($B13=4,$AG13,0)","v":{"v":0,"d":"0.00"}},{"$f":"IF($B13=5,$AG13,0)","v":{"v":0,"d":"0.00"}},{"$f":"IF($B13=6,$AG13,0)","v":{"v":0,"d":"0.00"}},{"$f":"IF(AN12>0,IF(H13+P13+X13+AF13+AV13+BD13+BL13+BT13+CB13+CJ13=0,IF(E13>0,AN12,0),0),0)","v":0},{"$f":"G13*AN13","v":{"v":0,"d":"0.00"}},{"$f":"IF($B13=1,$AO13,0)","v":{"v":0,"d":"0.00"}},{"$f":"IF($B13=2,$AO13,0)","v":{"v":0,"d":"0.00"}},{"$f":"IF($B13=3,$AO13,0)","v":{"v":0,"d":"0.00"}},{"$f":"IF($B13=4,$AO13,0)","v":{"v":0,"d":"0.00"}},{"$f":"IF($B13=5,$AO13,0)","v":{"v":0,"d":"0.00"}},{"$f":"IF($B13=6,$AO13,0)","v":{"v":0,"d":"0.00"}},{"$f":"IF(AV12>0,IF(H13+P13+X13+AF13+AN13+BD13+BL13+BT13+CB13+CJ13=0,IF(E13>0,AV12,0),0),0)","v":0},{"$f":"G13*AV13","v":{"v":0,"d":"0.00"}},{"$f":"IF($B13=1,$AW13,0)","v":{"v":0,"d":"0.00"}},{"$f":"IF($B13=2,$AW13,0)","v":{"v":0,"d":"0.00"}},{"$f":"IF($B13=3,$AW13,0)","v":{"v":0,"d":"0.00"}},{"$f":"IF($B13=4,$AW13,0)","v":{"v":0,"d":"0.00"}},{"$f":"IF($B13=5,$AW13,0)","v":{"v":0,"d":"0.00"}},{"$f":"IF($B13=6,$AW13,0)","v":{"v":0,"d":"0.00"}},{"$f":"IF(BD12>0,IF(H13+P13+X13+AF13+AN13+AV13+BL13+BT13+CB13+CJ13=0,IF(E13>0,BD12,0),0),0)","v":0},{"$f":"G13*BD13","v":{"v":0,"d":"0.00"}},{"$f":"IF($B13=1,$BE13,0)","v":{"v":0,"d":"0.00"}},{"$f":"IF($B13=2,$BE13,0)","v":{"v":0,"d":"0.00"}},{"$f":"IF($B13=3,$BE13,0)","v":{"v":0,"d":"0.00"}},{"$f":"IF($B13=4,$BE13,0)","v":{"v":0,"d":"0.00"}},{"$f":"IF($B13=5,$BE13,0)","v":{"v":0,"d":"0.00"}},{"$f":"IF($B13=6,$BE13,0)","v":{"v":0,"d":"0.00"}},{"$f":"IF(BL12>0,IF(H13+P13+X13+AF13+AN13+AV13+BD13+BT13+CB13+CJ13=0,IF(E13>0,BL12,0),0),0)","v":0},{"$f":"G13*BL13","v":{"v":0,"d":"0.00"}},{"$f":"IF($B13=1,$BM13,0)","v":{"v":0,"d":"0.00"}},{"$f":"IF($B13=2,$BM13,0)","v":{"v":0,"d":"0.00"}},{"$f":"IF($B13=3,$BM13,0)","v":{"v":0,"d":"0.00"}},{"$f":"IF($B13=4,$BM13,0)","v":{"v":0,"d":"0.00"}},{"$f":"IF($B13=5,$BM13,0)","v":{"v":0,"d":"0.00"}},{"$f":"IF($B13=6,$BM13,0)","v":{"v":0,"d":"0.00"}},{"$f":"IF(BT12>0,IF(H13+P13+X13+AF13+AN13+AV13+BD13+BL13+CB13+CJ13=0,IF(E13>0,BT12,0),0),0)","v":0},{"$f":"G13*BT13","v":{"v":0,"d":"0.00"}},{"$f":"IF($B13=1,$BU13,0)","v":{"v":0,"d":"0.00"}},{"$f":"IF($B13=2,$BU13,0)","v":{"v":0,"d":"0.00"}},{"$f":"IF($B13=3,$BU13,0)","v":{"v":0,"d":"0.00"}},{"$f":"IF($B13=4,$BU13,0)","v":{"v":0,"d":"0.00"}},{"$f":"IF($B13=5,$BU13,0)","v":{"v":0,"d":"0.00"}},{"$f":"IF($B13=6,$BU13,0)","v":{"v":0,"d":"0.00"}},{"$f":"IF(CB12>0,IF(H13+P13+X13+AF13+AN13+AV13+BD13+BL13+BT13+CJ13=0,IF(E13>0,CB12,0),0),0)","v":0},{"$f":"G13*CB13","v":{"v":0,"d":"0.00"}},{"$f":"IF($B13=1,$CC13,0)","v":{"v":0,"d":"0.00"}},{"$f":"IF($B13=2,$CC13,0)","v":{"v":0,"d":"0.00"}},{"$f":"IF($B13=3,$CC13,0)","v":{"v":0,"d":"0.00"}},{"$f":"IF($B13=4,$CC13,0)","v":{"v":0,"d":"0.00"}},{"$f":"IF($B13=5,$CC13,0)","v":{"v":0,"d":"0.00"}},{"$f":"IF($B13=6,$CC13,0)","v":{"v":0,"d":"0.00"}},{"$f":"IF(CJ12>0,IF(H13+P13+X13+AF13+AN13+AV13+BD13+BL13+BT13+CB13=0,IF(E13>0,CJ12,0),0),0)","v":0},{"$f":"G13*CJ13","v":{"v":0,"d":"0.00"}},{"$f":"IF($B13=1,$CK13,0)","v":{"v":0,"d":"0.00"}},{"$f":"IF($B13=2,$CK13,0)","v":{"v":0,"d":"0.00"}},{"$f":"IF($B13=3,$CK13,0)","v":{"v":0,"d":"0.00"}},{"$f":"IF($B13=4,$CK13,0)","v":{"v":0,"d":"0.00"}},{"$f":"IF($B13=5,$CK13,0)","v":{"v":0,"d":"0.00"}},{"$f":"IF($B13=6,$CK13,0)","v":{"v":0,"d":"0.00"}}]
[{"$f":"IF(C13<>C14,C14,\"\")","v":""},{"$f":"IF(C13<>C14,_xlfn.DAYS(C14,C13)+B13,B13)","v":1},{"$f":"IF(D14>0,IF(D14<E13,C13+1,C13),C13)","v":"2009-02-09"},{"$f":"IF((E14+H14+P14+X14+AF14+AN14+AV14+BD14+BL14+BT14+CB14+CJ14)>0,E13,0)","v":"00:00:00"},null,{"$f":"E14-D14","v":"00:00:00"},{"$f":"IF(E14>0,HOUR(F14)+(MINUTE(F14)/60),0)","v":0},{"$f":"IF(H13>0,IF(P14+X14+AF14+AN14+AV14+BD14+BL14+BT14+CB14+CJ14=0,IF(E14>0,H13,0),0),0)","v":0},{"$f":"G14*H14","v":{"v":0,"d":"0.00"}},{"$f":"IF($B14=1,$I14,0)","v":{"v":0,"d":"0.00"}},{"$f":"IF($B14=2,$I14,0)","v":{"v":0,"d":"0.00"}},{"$f":"IF($B14=3,$I14,0)","v":{"v":0,"d":"0.00"}},{"$f":"IF($B14=4,$I14,0)","v":{"v":0,"d":"0.00"}},{"$f":"IF($B14=5,$I14,0)","v":{"v":0,"d":"0.00"}},{"$f":"IF($B14=6,$I14,0)","v":{"v":0,"d":"0.00"}},{"$f":"IF(P13>0,IF(H14+X14+AF14+AN14+AV14+BD14+BL14+BT14+CB14+CJ14=0,IF(E14>0,P13,0),0),0)","v":0},{"$f":"G14*P14","v":{"v":0,"d":"0.00"}},{"$f":"IF(B14=1,Q14,0)","v":{"v":0,"d":"0.00"}},{"$f":"IF(B14=2,Q14,0)","v":{"v":0,"d":"0.00"}},{"$f":"IF(B14=3,Q14,0)","v":{"v":0,"d":"0.00"}},{"$f":"IF(B14=4,Q14,0)","v":{"v":0,"d":"0.00"}},{"$f":"IF(B14=5,Q14,0)","v":{"v":0,"d":"0.00"}},{"$f":"IF(B14=6,Q14,0)","v":{"v":0,"d":"0.00"}},{"$f":"IF(X13>0,IF(H14+P14+AF14+AN14+AV14+BD14+BL14+BT14+CB14+CJ14=0,IF(E14>0,X13,0),0),0)","v":0},{"$f":"G14*X14","v":{"v":0,"d":"0.00"}},{"$f":"IF($B14=1,$Y14,0)","v":{"v":0,"d":"0.00"}},{"$f":"IF($B14=2,$Y14,0)","v":{"v":0,"d":"0.00"}},{"$f":"IF($B14=3,$Y14,0)","v":{"v":0,"d":"0.00"}},{"$f":"IF($B14=4,$Y14,0)","v":{"v":0,"d":"0.00"}},{"$f":"IF($B14=5,$Y14,0)","v":{"v":0,"d":"0.00"}},{"$f":"IF($B14=6,$Y14,0)","v":{"v":0,"d":"0.00"}},{"$f":"IF(AF13>0,IF(H14+P14+X14+AN14+AV14+BD14+BL14+BT14+CB14+CJ14=0,IF(E14>0,AF13,0),0),0)","v":0},{"$f":"G14*AF14","v":{"v":0,"d":"0.00"}},{"$f":"IF($B14=1,$AG14,0)","v":{"v":0,"d":"0.00"}},{"$f":"IF($B14=2,$AG14,0)","v":{"v":0,"d":"0.00"}},{"$f":"IF($B14=3,$AG14,0)","v":{"v":0,"d":"0.00"}},{"$f":"IF($B14=4,$AG14,0)","v":{"v":0,"d":"0.00"}},{"$f":"IF($B14=5,$AG14,0)","v":{"v":0,"d":"0.00"}},{"$f":"IF($B14=6,$AG14,0)","v":{"v":0,"d":"0.00"}},{"$f":"IF(AN13>0,IF(H14+P14+X14+AF14+AV14+BD14+BL14+BT14+CB14+CJ14=0,IF(E14>0,AN13,0),0),0)","v":0},{"$f":"G14*AN14","v":{"v":0,"d":"0.00"}},{"$f":"IF($B14=1,$AO14,0)","v":{"v":0,"d":"0.00"}},{"$f":"IF($B14=2,$AO14,0)","v":{"v":0,"d":"0.00"}},{"$f":"IF($B14=3,$AO14,0)","v":{"v":0,"d":"0.00"}},{"$f":"IF($B14=4,$AO14,0)","v":{"v":0,"d":"0.00"}},{"$f":"IF($B14=5,$AO14,0)","v":{"v":0,"d":"0.00"}},{"$f":"IF($B14=6,$AO14,0)","v":{"v":0,"d":"0.00"}},{"$f":"IF(AV13>0,IF(H14+P14+X14+AF14+AN14+BD14+BL14+BT14+CB14+CJ14=0,IF(E14>0,AV13,0),0),0)","v":0},{"$f":"G14*AV14","v":{"v":0,"d":"0.00"}},{"$f":"IF($B14=1,$AW14,0)","v":{"v":0,"d":"0.00"}},{"$f":"IF($B14=2,$AW14,0)","v":{"v":0,"d":"0.00"}},{"$f":"IF($B14=3,$AW14,0)","v":{"v":0,"d":"0.00"}},{"$f":"IF($B14=4,$AW14,0)","v":{"v":0,"d":"0.00"}},{"$f":"IF($B14=5,$AW14,0)","v":{"v":0,"d":"0.00"}},{"$f":"IF($B14=6,$AW14,0)","v":{"v":0,"d":"0.00"}},{"$f":"IF(BD13>0,IF(H14+P14+X14+AF14+AN14+AV14+BL14+BT14+CB14+CJ14=0,IF(E14>0,BD13,0),0),0)","v":0},{"$f":"G14*BD14","v":{"v":0,"d":"0.00"}},{"$f":"IF($B14=1,$BE14,0)","v":{"v":0,"d":"0.00"}},{"$f":"IF($B14=2,$BE14,0)","v":{"v":0,"d":"0.00"}},{"$f":"IF($B14=3,$BE14,0)","v":{"v":0,"d":"0.00"}},{"$f":"IF($B14=4,$BE14,0)","v":{"v":0,"d":"0.00"}},{"$f":"IF($B14=5,$BE14,0)","v":{"v":0,"d":"0.00"}},{"$f":"IF($B14=6,$BE14,0)","v":{"v":0,"d":"0.00"}},{"$f":"IF(BL13>0,IF(H14+P14+X14+AF14+AN14+AV14+BD14+BT14+CB14+CJ14=0,IF(E14>0,BL13,0),0),0)","v":0},{"$f":"G14*BL14","v":{"v":0,"d":"0.00"}},{"$f":"IF($B14=1,$BM14,0)","v":{"v":0,"d":"0.00"}},{"$f":"IF($B14=2,$BM14,0)","v":{"v":0,"d":"0.00"}},{"$f":"IF($B14=3,$BM14,0)","v":{"v":0,"d":"0.00"}},{"$f":"IF($B14=4,$BM14,0)","v":{"v":0,"d":"0.00"}},{"$f":"IF($B14=5,$BM14,0)","v":{"v":0,"d":"0.00"}},{"$f":"IF($B14=6,$BM14,0)","v":{"v":0,"d":"0.00"}},{"$f":"IF(BT13>0,IF(H14+P14+X14+AF14+AN14+AV14+BD14+BL14+CB14+CJ14=0,IF(E14>0,BT13,0),0),0)","v":0},{"$f":"G14*BT14","v":{"v":0,"d":"0.00"}},{"$f":"IF($B14=1,$BU14,0)","v":{"v":0,"d":"0.00"}},{"$f":"IF($B14=2,$BU14,0)","v":{"v":0,"d":"0.00"}},{"$f":"IF($B14=3,$BU14,0)","v":{"v":0,"d":"0.00"}},{"$f":"IF($B14=4,$BU14,0)","v":{"v":0,"d":"0.00"}},{"$f":"IF($B14=5,$BU14,0)","v":{"v":0,"d":"0.00"}},{"$f":"IF($B14=6,$BU14,0)","v":{"v":0,"d":"0.00"}},{"$f":"IF(CB13>0,IF(H14+P14+X14+AF14+AN14+AV14+BD14+BL14+BT14+CJ14=0,IF(E14>0,CB13,0),0),0)","v":0},{"$f":"G14*CB14","v":{"v":0,"d":"0.00"}},{"$f":"IF($B14=1,$CC14,0)","v":{"v":0,"d":"0.00"}},{"$f":"IF($B14=2,$CC14,0)","v":{"v":0,"d":"0.00"}},{"$f":"IF($B14=3,$CC14,0)","v":{"v":0,"d":"0.00"}},{"$f":"IF($B14=4,$CC14,0)","v":{"v":0,"d":"0.00"}},{"$f":"IF($B14=5,$CC14,0)","v":{"v":0,"d":"0.00"}},{"$f":"IF($B14=6,$CC14,0)","v":{"v":0,"d":"0.00"}},{"$f":"IF(CJ13>0,IF(H14+P14+X14+AF14+AN14+AV14+BD14+BL14+BT14+CB14=0,IF(E14>0,CJ13,0),0),0)","v":0},{"$f":"G14*CJ14","v":{"v":0,"d":"0.00"}},{"$f":"IF($B14=1,$CK14,0)","v":{"v":0,"d":"0.00"}},{"$f":"IF($B14=2,$CK14,0)","v":{"v":0,"d":"0.00"}},{"$f":"IF($B14=3,$CK14,0)","v":{"v":0,"d":"0.00"}},{"$f":"IF($B14=4,$CK14,0)","v":{"v":0,"d":"0.00"}},{"$f":"IF($B14=5,$CK14,0)","v":{"v":0,"d":"0.00"}},{"$f":"IF($B14=6,$CK14,0)","v":{"v":0,"d":"0.00"}}]
[{"$f":"IF(C14<>C15,C15,\"\")","v":""},{"$f":"IF(C14<>C15,_xlfn.DAYS(C15,C14)+B14,B14)","v":1},{"$f":"IF(D15>0,IF(D15<E14,C14+1,C14),C14)","v":"2009-02-09"},{"$f":"IF((E15+H15+P15+X15+AF15+AN15+AV15+BD15+BL15+BT15+CB15+CJ15)>0,E14,0)","v":"00:00:00"},null,{"$f":"E15-D15","v":"00:00:00"},{"$f":"IF(E15>0,HOUR(F15)+(MINUTE(F15)/60),0)","v":0},{"$f":"IF(H14>0,IF(P15+X15+AF15+AN15+AV15+BD15+BL15+BT15+CB15+CJ15=0,IF(E15>0,H14,0),0),0)","v":0},{"$f":"G15*H15","v":{"v":0,"d":"0.00"}},{"$f":"IF($B15=1,$I15,0)","v":{"v":0,"d":"0.00"}},{"$f":"IF($B15=2,$I15,0)","v":{"v":0,"d":"0.00"}},{"$f":"IF($B15=3,$I15,0)","v":{"v":0,"d":"0.00"}},{"$f":"IF($B15=4,$I15,0)","v":{"v":0,"d":"0.00"}},{"$f":"IF($B15=5,$I15,0)","v":{"v":0,"d":"0.00"}},{"$f":"IF($B15=6,$I15,0)","v":{"v":0,"d":"0.00"}},{"$f":"IF(P14>0,IF(H15+X15+AF15+AN15+AV15+BD15+BL15+BT15+CB15+CJ15=0,IF(E15>0,P14,0),0),0)","v":0},{"$f":"G15*P15","v":{"v":0,"d":"0.00"}},{"$f":"IF(B15=1,Q15,0)","v":{"v":0,"d":"0.00"}},{"$f":"IF(B15=2,Q15,0)","v":{"v":0,"d":"0.00"}},{"$f":"IF(B15=3,Q15,0)","v":{"v":0,"d":"0.00"}},{"$f":"IF(B15=4,Q15,0)","v":{"v":0,"d":"0.00"}},{"$f":"IF(B15=5,Q15,0)","v":{"v":0,"d":"0.00"}},{"$f":"IF(B15=6,Q15,0)","v":{"v":0,"d":"0.00"}},{"$f":"IF(X14>0,IF(H15+P15+AF15+AN15+AV15+BD15+BL15+BT15+CB15+CJ15=0,IF(E15>0,X14,0),0),0)","v":0},{"$f":"G15*X15","v":{"v":0,"d":"0.00"}},{"$f":"IF($B15=1,$Y15,0)","v":{"v":0,"d":"0.00"}},{"$f":"IF($B15=2,$Y15,0)","v":{"v":0,"d":"0.00"}},{"$f":"IF($B15=3,$Y15,0)","v":{"v":0,"d":"0.00"}},{"$f":"IF($B15=4,$Y15,0)","v":{"v":0,"d":"0.00"}},{"$f":"IF($B15=5,$Y15,0)","v":{"v":0,"d":"0.00"}},{"$f":"IF($B15=6,$Y15,0)","v":{"v":0,"d":"0.00"}},{"$f":"IF(AF14>0,IF(H15+P15+X15+AN15+AV15+BD15+BL15+BT15+CB15+CJ15=0,IF(E15>0,AF14,0),0),0)","v":0},{"$f":"G15*AF15","v":{"v":0,"d":"0.00"}},{"$f":"IF($B15=1,$AG15,0)","v":{"v":0,"d":"0.00"}},{"$f":"IF($B15=2,$AG15,0)","v":{"v":0,"d":"0.00"}},{"$f":"IF($B15=3,$AG15,0)","v":{"v":0,"d":"0.00"}},{"$f":"IF($B15=4,$AG15,0)","v":{"v":0,"d":"0.00"}},{"$f":"IF($B15=5,$AG15,0)","v":{"v":0,"d":"0.00"}},{"$f":"IF($B15=6,$AG15,0)","v":{"v":0,"d":"0.00"}},{"$f":"IF(AN14>0,IF(H15+P15+X15+AF15+AV15+BD15+BL15+BT15+CB15+CJ15=0,IF(E15>0,AN14,0),0),0)","v":0},{"$f":"G15*AN15","v":{"v":0,"d":"0.00"}},{"$f":"IF($B15=1,$AO15,0)","v":{"v":0,"d":"0.00"}},{"$f":"IF($B15=2,$AO15,0)","v":{"v":0,"d":"0.00"}},{"$f":"IF($B15=3,$AO15,0)","v":{"v":0,"d":"0.00"}},{"$f":"IF($B15=4,$AO15,0)","v":{"v":0,"d":"0.00"}},{"$f":"IF($B15=5,$AO15,0)","v":{"v":0,"d":"0.00"}},{"$f":"IF($B15=6,$AO15,0)","v":{"v":0,"d":"0.00"}},{"$f":"IF(AV14>0,IF(H15+P15+X15+AF15+AN15+BD15+BL15+BT15+CB15+CJ15=0,IF(E15>0,AV14,0),0),0)","v":0},{"$f":"G15*AV15","v":{"v":0,"d":"0.00"}},{"$f":"IF($B15=1,$AW15,0)","v":{"v":0,"d":"0.00"}},{"$f":"IF($B15=2,$AW15,0)","v":{"v":0,"d":"0.00"}},{"$f":"IF($B15=3,$AW15,0)","v":{"v":0,"d":"0.00"}},{"$f":"IF($B15=4,$AW15,0)","v":{"v":0,"d":"0.00"}},{"$f":"IF($B15=5,$AW15,0)","v":{"v":0,"d":"0.00"}},{"$f":"IF($B15=6,$AW15,0)","v":{"v":0,"d":"0.00"}},{"$f":"IF(BD14>0,IF(H15+P15+X15+AF15+AN15+AV15+BL15+BT15+CB15+CJ15=0,IF(E15>0,BD14,0),0),0)","v":0},{"$f":"G15*BD15","v":{"v":0,"d":"0.00"}},{"$f":"IF($B15=1,$BE15,0)","v":{"v":0,"d":"0.00"}},{"$f":"IF($B15=2,$BE15,0)","v":{"v":0,"d":"0.00"}},{"$f":"IF($B15=3,$BE15,0)","v":{"v":0,"d":"0.00"}},{"$f":"IF($B15=4,$BE15,0)","v":{"v":0,"d":"0.00"}},{"$f":"IF($B15=5,$BE15,0)","v":{"v":0,"d":"0.00"}},{"$f":"IF($B15=6,$BE15,0)","v":{"v":0,"d":"0.00"}},{"$f":"IF(BL14>0,IF(H15+P15+X15+AF15+AN15+AV15+BD15+BT15+CB15+CJ15=0,IF(E15>0,BL14,0),0),0)","v":0},{"$f":"G15*BL15","v":{"v":0,"d":"0.00"}},{"$f":"IF($B15=1,$BM15,0)","v":{"v":0,"d":"0.00"}},{"$f":"IF($B15=2,$BM15,0)","v":{"v":0,"d":"0.00"}},{"$f":"IF($B15=3,$BM15,0)","v":{"v":0,"d":"0.00"}},{"$f":"IF($B15=4,$BM15,0)","v":{"v":0,"d":"0.00"}},{"$f":"IF($B15=5,$BM15,0)","v":{"v":0,"d":"0.00"}},{"$f":"IF($B15=6,$BM15,0)","v":{"v":0,"d":"0.00"}},{"$f":"IF(BT14>0,IF(H15+P15+X15+AF15+AN15+AV15+BD15+BL15+CB15+CJ15=0,IF(E15>0,BT14,0),0),0)","v":0},{"$f":"G15*BT15","v":{"v":0,"d":"0.00"}},{"$f":"IF($B15=1,$BU15,0)","v":{"v":0,"d":"0.00"}},{"$f":"IF($B15=2,$BU15,0)","v":{"v":0,"d":"0.00"}},{"$f":"IF($B15=3,$BU15,0)","v":{"v":0,"d":"0.00"}},{"$f":"IF($B15=4,$BU15,0)","v":{"v":0,"d":"0.00"}},{"$f":"IF($B15=5,$BU15,0)","v":{"v":0,"d":"0.00"}},{"$f":"IF($B15=6,$BU15,0)","v":{"v":0,"d":"0.00"}},{"$f":"IF(CB14>0,IF(H15+P15+X15+AF15+AN15+AV15+BD15+BL15+BT15+CJ15=0,IF(E15>0,CB14,0),0),0)","v":0},{"$f":"G15*CB15","v":{"v":0,"d":"0.00"}},{"$f":"IF($B15=1,$CC15,0)","v":{"v":0,"d":"0.00"}},{"$f":"IF($B15=2,$CC15,0)","v":{"v":0,"d":"0.00"}},{"$f":"IF($B15=3,$CC15,0)","v":{"v":0,"d":"0.00"}},{"$f":"IF($B15=4,$CC15,0)","v":{"v":0,"d":"0.00"}},{"$f":"IF($B15=5,$CC15,0)","v":{"v":0,"d":"0.00"}},{"$f":"IF($B15=6,$CC15,0)","v":{"v":0,"d":"0.00"}},{"$f":"IF(CJ14>0,IF(H15+P15+X15+AF15+AN15+AV15+BD15+BL15+BT15+CB15=0,IF(E15>0,CJ14,0),0),0)","v":0},{"$f":"G15*CJ15","v":{"v":0,"d":"0.00"}},{"$f":"IF($B15=1,$CK15,0)","v":{"v":0,"d":"0.00"}},{"$f":"IF($B15=2,$CK15,0)","v":{"v":0,"d":"0.00"}},{"$f":"IF($B15=3,$CK15,0)","v":{"v":0,"d":"0.00"}},{"$f":"IF($B15=4,$CK15,0)","v":{"v":0,"d":"0.00"}},{"$f":"IF($B15=5,$CK15,0)","v":{"v":0,"d":"0.00"}},{"$f":"IF($B15=6,$CK15,0)","v":{"v":0,"d":"0.00"}}]
[{"$f":"IF(C15<>C16,C16,\"\")","v":""},{"$f":"IF(C15<>C16,_xlfn.DAYS(C16,C15)+B15,B15)","v":1},{"$f":"IF(D16>0,IF(D16<E15,C15+1,C15),C15)","v":"2009-02-09"},{"$f":"IF((E16+H16+P16+X16+AF16+AN16+AV16+BD16+BL16+BT16+CB16+CJ16)>0,E15,0)","v":"00:00:00"},null,{"$f":"E16-D16","v":"00:00:00"},{"$f":"IF(E16>0,HOUR(F16)+(MINUTE(F16)/60),0)","v":0},{"$f":"IF(H15>0,IF(P16+X16+AF16+AN16+AV16+BD16+BL16+BT16+CB16+CJ16=0,IF(E16>0,H15,0),0),0)","v":0},{"$f":"G16*H16","v":{"v":0,"d":"0.00"}},{"$f":"IF($B16=1,$I16,0)","v":{"v":0,"d":"0.00"}},{"$f":"IF($B16=2,$I16,0)","v":{"v":0,"d":"0.00"}},{"$f":"IF($B16=3,$I16,0)","v":{"v":0,"d":"0.00"}},{"$f":"IF($B16=4,$I16,0)","v":{"v":0,"d":"0.00"}},{"$f":"IF($B16=5,$I16,0)","v":{"v":0,"d":"0.00"}},{"$f":"IF($B16=6,$I16,0)","v":{"v":0,"d":"0.00"}},{"$f":"IF(P15>0,IF(H16+X16+AF16+AN16+AV16+BD16+BL16+BT16+CB16+CJ16=0,IF(E16>0,P15,0),0),0)","v":0},{"$f":"G16*P16","v":{"v":0,"d":"0.00"}},{"$f":"IF(B16=1,Q16,0)","v":{"v":0,"d":"0.00"}},{"$f":"IF(B16=2,Q16,0)","v":{"v":0,"d":"0.00"}},{"$f":"IF(B16=3,Q16,0)","v":{"v":0,"d":"0.00"}},{"$f":"IF(B16=4,Q16,0)","v":{"v":0,"d":"0.00"}},{"$f":"IF(B16=5,Q16,0)","v":{"v":0,"d":"0.00"}},{"$f":"IF(B16=6,Q16,0)","v":{"v":0,"d":"0.00"}},{"$f":"IF(X15>0,IF(H16+P16+AF16+AN16+AV16+BD16+BL16+BT16+CB16+CJ16=0,IF(E16>0,X15,0),0),0)","v":0},{"$f":"G16*X16","v":{"v":0,"d":"0.00"}},{"$f":"IF($B16=1,$Y16,0)","v":{"v":0,"d":"0.00"}},{"$f":"IF($B16=2,$Y16,0)","v":{"v":0,"d":"0.00"}},{"$f":"IF($B16=3,$Y16,0)","v":{"v":0,"d":"0.00"}},{"$f":"IF($B16=4,$Y16,0)","v":{"v":0,"d":"0.00"}},{"$f":"IF($B16=5,$Y16,0)","v":{"v":0,"d":"0.00"}},{"$f":"IF($B16=6,$Y16,0)","v":{"v":0,"d":"0.00"}},{"$f":"IF(AF15>0,IF(H16+P16+X16+AN16+AV16+BD16+BL16+BT16+CB16+CJ16=0,IF(E16>0,AF15,0),0),0)","v":0},{"$f":"G16*AF16","v":{"v":0,"d":"0.00"}},{"$f":"IF($B16=1,$AG16,0)","v":{"v":0,"d":"0.00"}},{"$f":"IF($B16=2,$AG16,0)","v":{"v":0,"d":"0.00"}},{"$f":"IF($B16=3,$AG16,0)","v":{"v":0,"d":"0.00"}},{"$f":"IF($B16=4,$AG16,0)","v":{"v":0,"d":"0.00"}},{"$f":"IF($B16=5,$AG16,0)","v":{"v":0,"d":"0.00"}},{"$f":"IF($B16=6,$AG16,0)","v":{"v":0,"d":"0.00"}},{"$f":"IF(AN15>0,IF(H16+P16+X16+AF16+AV16+BD16+BL16+BT16+CB16+CJ16=0,IF(E16>0,AN15,0),0),0)","v":0},{"$f":"G16*AN16","v":{"v":0,"d":"0.00"}},{"$f":"IF($B16=1,$AO16,0)","v":{"v":0,"d":"0.00"}},{"$f":"IF($B16=2,$AO16,0)","v":{"v":0,"d":"0.00"}},{"$f":"IF($B16=3,$AO16,0)","v":{"v":0,"d":"0.00"}},{"$f":"IF($B16=4,$AO16,0)","v":{"v":0,"d":"0.00"}},{"$f":"IF($B16=5,$AO16,0)","v":{"v":0,"d":"0.00"}},{"$f":"IF($B16=6,$AO16,0)","v":{"v":0,"d":"0.00"}},{"$f":"IF(AV15>0,IF(H16+P16+X16+AF16+AN16+BD16+BL16+BT16+CB16+CJ16=0,IF(E16>0,AV15,0),0),0)","v":0},{"$f":"G16*AV16","v":{"v":0,"d":"0.00"}},{"$f":"IF($B16=1,$AW16,0)","v":{"v":0,"d":"0.00"}},{"$f":"IF($B16=2,$AW16,0)","v":{"v":0,"d":"0.00"}},{"$f":"IF($B16=3,$AW16,0)","v":{"v":0,"d":"0.00"}},{"$f":"IF($B16=4,$AW16,0)","v":{"v":0,"d":"0.00"}},{"$f":"IF($B16=5,$AW16,0)","v":{"v":0,"d":"0.00"}},{"$f":"IF($B16=6,$AW16,0)","v":{"v":0,"d":"0.00"}},{"$f":"IF(BD15>0,IF(H16+P16+X16+AF16+AN16+AV16+BL16+BT16+CB16+CJ16=0,IF(E16>0,BD15,0),0),0)","v":0},{"$f":"G16*BD16","v":{"v":0,"d":"0.00"}},{"$f":"IF($B16=1,$BE16,0)","v":{"v":0,"d":"0.00"}},{"$f":"IF($B16=2,$BE16,0)","v":{"v":0,"d":"0.00"}},{"$f":"IF($B16=3,$BE16,0)","v":{"v":0,"d":"0.00"}},{"$f":"IF($B16=4,$BE16,0)","v":{"v":0,"d":"0.00"}},{"$f":"IF($B16=5,$BE16,0)","v":{"v":0,"d":"0.00"}},{"$f":"IF($B16=6,$BE16,0)","v":{"v":0,"d":"0.00"}},{"$f":"IF(BL15>0,IF(H16+P16+X16+AF16+AN16+AV16+BD16+BT16+CB16+CJ16=0,IF(E16>0,BL15,0),0),0)","v":0},{"$f":"G16*BL16","v":{"v":0,"d":"0.00"}},{"$f":"IF($B16=1,$BM16,0)","v":{"v":0,"d":"0.00"}},{"$f":"IF($B16=2,$BM16,0)","v":{"v":0,"d":"0.00"}},{"$f":"IF($B16=3,$BM16,0)","v":{"v":0,"d":"0.00"}},{"$f":"IF($B16=4,$BM16,0)","v":{"v":0,"d":"0.00"}},{"$f":"IF($B16=5,$BM16,0)","v":{"v":0,"d":"0.00"}},{"$f":"IF($B16=6,$BM16,0)","v":{"v":0,"d":"0.00"}},{"$f":"IF(BT15>0,IF(H16+P16+X16+AF16+AN16+AV16+BD16+BL16+CB16+CJ16=0,IF(E16>0,BT15,0),0),0)","v":0},{"$f":"G16*BT16","v":{"v":0,"d":"0.00"}},{"$f":"IF($B16=1,$BU16,0)","v":{"v":0,"d":"0.00"}},{"$f":"IF($B16=2,$BU16,0)","v":{"v":0,"d":"0.00"}},{"$f":"IF($B16=3,$BU16,0)","v":{"v":0,"d":"0.00"}},{"$f":"IF($B16=4,$BU16,0)","v":{"v":0,"d":"0.00"}},{"$f":"IF($B16=5,$BU16,0)","v":{"v":0,"d":"0.00"}},{"$f":"IF($B16=6,$BU16,0)","v":{"v":0,"d":"0.00"}},{"$f":"IF(CB15>0,IF(H16+P16+X16+AF16+AN16+AV16+BD16+BL16+BT16+CJ16=0,IF(E16>0,CB15,0),0),0)","v":0},{"$f":"G16*CB16","v":{"v":0,"d":"0.00"}},{"$f":"IF($B16=1,$CC16,0)","v":{"v":0,"d":"0.00"}},{"$f":"IF($B16=2,$CC16,0)","v":{"v":0,"d":"0.00"}},{"$f":"IF($B16=3,$CC16,0)","v":{"v":0,"d":"0.00"}},{"$f":"IF($B16=4,$CC16,0)","v":{"v":0,"d":"0.00"}},{"$f":"IF($B16=5,$CC16,0)","v":{"v":0,"d":"0.00"}},{"$f":"IF($B16=6,$CC16,0)","v":{"v":0,"d":"0.00"}},{"$f":"IF(CJ15>0,IF(H16+P16+X16+AF16+AN16+AV16+BD16+BL16+BT16+CB16=0,IF(E16>0,CJ15,0),0),0)","v":0},{"$f":"G16*CJ16","v":{"v":0,"d":"0.00"}},{"$f":"IF($B16=1,$CK16,0)","v":{"v":0,"d":"0.00"}},{"$f":"IF($B16=2,$CK16,0)","v":{"v":0,"d":"0.00"}},{"$f":"IF($B16=3,$CK16,0)","v":{"v":0,"d":"0.00"}},{"$f":"IF($B16=4,$CK16,0)","v":{"v":0,"d":"0.00"}},{"$f":"IF($B16=5,$CK16,0)","v":{"v":0,"d":"0.00"}},{"$f":"IF($B16=6,$CK16,0)","v":{"v":0,"d":"0.00"}}]
[{"$f":"IF(C16<>C17,C17,\"\")","v":""},{"$f":"IF(C16<>C17,_xlfn.DAYS(C17,C16)+B16,B16)","v":1},{"$f":"IF(D17>0,IF(D17<E16,C16+1,C16),C16)","v":"2009-02-09"},{"$f":"IF((E17+H17+P17+X17+AF17+AN17+AV17+BD17+BL17+BT17+CB17+CJ17)>0,E16,0)","v":"00:00:00"},null,{"$f":"E17-D17","v":"00:00:00"},{"$f":"IF(E17>0,HOUR(F17)+(MINUTE(F17)/60),0)","v":0},{"$f":"IF(H16>0,IF(P17+X17+AF17+AN17+AV17+BD17+BL17+BT17+CB17+CJ17=0,IF(E17>0,H16,0),0),0)","v":0},{"$f":"G17*H17","v":{"v":0,"d":"0.00"}},{"$f":"IF($B17=1,$I17,0)","v":{"v":0,"d":"0.00"}},{"$f":"IF($B17=2,$I17,0)","v":{"v":0,"d":"0.00"}},{"$f":"IF($B17=3,$I17,0)","v":{"v":0,"d":"0.00"}},{"$f":"IF($B17=4,$I17,0)","v":{"v":0,"d":"0.00"}},{"$f":"IF($B17=5,$I17,0)","v":{"v":0,"d":"0.00"}},{"$f":"IF($B17=6,$I17,0)","v":{"v":0,"d":"0.00"}},{"$f":"IF(P16>0,IF(H17+X17+AF17+AN17+AV17+BD17+BL17+BT17+CB17+CJ17=0,IF(E17>0,P16,0),0),0)","v":0},{"$f":"G17*P17","v":{"v":0,"d":"0.00"}},{"$f":"IF(B17=1,Q17,0)","v":{"v":0,"d":"0.00"}},{"$f":"IF(B17=2,Q17,0)","v":{"v":0,"d":"0.00"}},{"$f":"IF(B17=3,Q17,0)","v":{"v":0,"d":"0.00"}},{"$f":"IF(B17=4,Q17,0)","v":{"v":0,"d":"0.00"}},{"$f":"IF(B17=5,Q17,0)","v":{"v":0,"d":"0.00"}},{"$f":"IF(B17=6,Q17,0)","v":{"v":0,"d":"0.00"}},{"$f":"IF(X16>0,IF(H17+P17+AF17+AN17+AV17+BD17+BL17+BT17+CB17+CJ17=0,IF(E17>0,X16,0),0),0)","v":0},{"$f":"G17*X17","v":{"v":0,"d":"0.00"}},{"$f":"IF($B17=1,$Y17,0)","v":{"v":0,"d":"0.00"}},{"$f":"IF($B17=2,$Y17,0)","v":{"v":0,"d":"0.00"}},{"$f":"IF($B17=3,$Y17,0)","v":{"v":0,"d":"0.00"}},{"$f":"IF($B17=4,$Y17,0)","v":{"v":0,"d":"0.00"}},{"$f":"IF($B17=5,$Y17,0)","v":{"v":0,"d":"0.00"}},{"$f":"IF($B17=6,$Y17,0)","v":{"v":0,"d":"0.00"}},{"$f":"IF(AF16>0,IF(H17+P17+X17+AN17+AV17+BD17+BL17+BT17+CB17+CJ17=0,IF(E17>0,AF16,0),0),0)","v":0},{"$f":"G17*AF17","v":{"v":0,"d":"0.00"}},{"$f":"IF($B17=1,$AG17,0)","v":{"v":0,"d":"0.00"}},{"$f":"IF($B17=2,$AG17,0)","v":{"v":0,"d":"0.00"}},{"$f":"IF($B17=3,$AG17,0)","v":{"v":0,"d":"0.00"}},{"$f":"IF($B17=4,$AG17,0)","v":{"v":0,"d":"0.00"}},{"$f":"IF($B17=5,$AG17,0)","v":{"v":0,"d":"0.00"}},{"$f":"IF($B17=6,$AG17,0)","v":{"v":0,"d":"0.00"}},{"$f":"IF(AN16>0,IF(H17+P17+X17+AF17+AV17+BD17+BL17+BT17+CB17+CJ17=0,IF(E17>0,AN16,0),0),0)","v":0},{"$f":"G17*AN17","v":{"v":0,"d":"0.00"}},{"$f":"IF($B17=1,$AO17,0)","v":{"v":0,"d":"0.00"}},{"$f":"IF($B17=2,$AO17,0)","v":{"v":0,"d":"0.00"}},{"$f":"IF($B17=3,$AO17,0)","v":{"v":0,"d":"0.00"}},{"$f":"IF($B17=4,$AO17,0)","v":{"v":0,"d":"0.00"}},{"$f":"IF($B17=5,$AO17,0)","v":{"v":0,"d":"0.00"}},{"$f":"IF($B17=6,$AO17,0)","v":{"v":0,"d":"0.00"}},{"$f":"IF(AV16>0,IF(H17+P17+X17+AF17+AN17+BD17+BL17+BT17+CB17+CJ17=0,IF(E17>0,AV16,0),0),0)","v":0},{"$f":"G17*AV17","v":{"v":0,"d":"0.00"}},{"$f":"IF($B17=1,$AW17,0)","v":{"v":0,"d":"0.00"}},{"$f":"IF($B17=2,$AW17,0)","v":{"v":0,"d":"0.00"}},{"$f":"IF($B17=3,$AW17,0)","v":{"v":0,"d":"0.00"}},{"$f":"IF($B17=4,$AW17,0)","v":{"v":0,"d":"0.00"}},{"$f":"IF($B17=5,$AW17,0)","v":{"v":0,"d":"0.00"}},{"$f":"IF($B17=6,$AW17,0)","v":{"v":0,"d":"0.00"}},{"$f":"IF(BD16>0,IF(H17+P17+X17+AF17+AN17+AV17+BL17+BT17+CB17+CJ17=0,IF(E17>0,BD16,0),0),0)","v":0},{"$f":"G17*BD17","v":{"v":0,"d":"0.00"}},{"$f":"IF($B17=1,$BE17,0)","v":{"v":0,"d":"0.00"}},{"$f":"IF($B17=2,$BE17,0)","v":{"v":0,"d":"0.00"}},{"$f":"IF($B17=3,$BE17,0)","v":{"v":0,"d":"0.00"}},{"$f":"IF($B17=4,$BE17,0)","v":{"v":0,"d":"0.00"}},{"$f":"IF($B17=5,$BE17,0)","v":{"v":0,"d":"0.00"}},{"$f":"IF($B17=6,$BE17,0)","v":{"v":0,"d":"0.00"}},{"$f":"IF(BL16>0,IF(H17+P17+X17+AF17+AN17+AV17+BD17+BT17+CB17+CJ17=0,IF(E17>0,BL16,0),0),0)","v":0},{"$f":"G17*BL17","v":{"v":0,"d":"0.00"}},{"$f":"IF($B17=1,$BM17,0)","v":{"v":0,"d":"0.00"}},{"$f":"IF($B17=2,$BM17,0)","v":{"v":0,"d":"0.00"}},{"$f":"IF($B17=3,$BM17,0)","v":{"v":0,"d":"0.00"}},{"$f":"IF($B17=4,$BM17,0)","v":{"v":0,"d":"0.00"}},{"$f":"IF($B17=5,$BM17,0)","v":{"v":0,"d":"0.00"}},{"$f":"IF($B17=6,$BM17,0)","v":{"v":0,"d":"0.00"}},{"$f":"IF(BT16>0,IF(H17+P17+X17+AF17+AN17+AV17+BD17+BL17+CB17+CJ17=0,IF(E17>0,BT16,0),0),0)","v":0},{"$f":"G17*BT17","v":{"v":0,"d":"0.00"}},{"$f":"IF($B17=1,$BU17,0)","v":{"v":0,"d":"0.00"}},{"$f":"IF($B17=2,$BU17,0)","v":{"v":0,"d":"0.00"}},{"$f":"IF($B17=3,$BU17,0)","v":{"v":0,"d":"0.00"}},{"$f":"IF($B17=4,$BU17,0)","v":{"v":0,"d":"0.00"}},{"$f":"IF($B17=5,$BU17,0)","v":{"v":0,"d":"0.00"}},{"$f":"IF($B17=6,$BU17,0)","v":{"v":0,"d":"0.00"}},{"$f":"IF(CB16>0,IF(H17+P17+X17+AF17+AN17+AV17+BD17+BL17+BT17+CJ17=0,IF(E17>0,CB16,0),0),0)","v":0},{"$f":"G17*CB17","v":{"v":0,"d":"0.00"}},{"$f":"IF($B17=1,$CC17,0)","v":{"v":0,"d":"0.00"}},{"$f":"IF($B17=2,$CC17,0)","v":{"v":0,"d":"0.00"}},{"$f":"IF($B17=3,$CC17,0)","v":{"v":0,"d":"0.00"}},{"$f":"IF($B17=4,$CC17,0)","v":{"v":0,"d":"0.00"}},{"$f":"IF($B17=5,$CC17,0)","v":{"v":0,"d":"0.00"}},{"$f":"IF($B17=6,$CC17,0)","v":{"v":0,"d":"0.00"}},{"$f":"IF(CJ16>0,IF(H17+P17+X17+AF17+AN17+AV17+BD17+BL17+BT17+CB17=0,IF(E17>0,CJ16,0),0),0)","v":0},{"$f":"G17*CJ17","v":{"v":0,"d":"0.00"}},{"$f":"IF($B17=1,$CK17,0)","v":{"v":0,"d":"0.00"}},{"$f":"IF($B17=2,$CK17,0)","v":{"v":0,"d":"0.00"}},{"$f":"IF($B17=3,$CK17,0)","v":{"v":0,"d":"0.00"}},{"$f":"IF($B17=4,$CK17,0)","v":{"v":0,"d":"0.00"}},{"$f":"IF($B17=5,$CK17,0)","v":{"v":0,"d":"0.00"}},{"$f":"IF($B17=6,$CK17,0)","v":{"v":0,"d":"0.00"}}]
[{"$f":"IF(C17<>C18,C18,\"\")","v":""},{"$f":"IF(C17<>C18,_xlfn.DAYS(C18,C17)+B17,B17)","v":1},{"$f":"IF(D18>0,IF(D18<E17,C17+1,C17),C17)","v":"2009-02-09"},{"$f":"IF((E18+H18+P18+X18+AF18+AN18+AV18+BD18+BL18+BT18+CB18+CJ18)>0,E17,0)","v":"00:00:00"},null,{"$f":"E18-D18","v":"00:00:00"},{"$f":"IF(E18>0,HOUR(F18)+(MINUTE(F18)/60),0)","v":0},{"$f":"IF(H17>0,IF(P18+X18+AF18+AN18+AV18+BD18+BL18+BT18+CB18+CJ18=0,IF(E18>0,H17,0),0),0)","v":0},{"$f":"G18*H18","v":{"v":0,"d":"0.00"}},{"$f":"IF($B18=1,$I18,0)","v":{"v":0,"d":"0.00"}},{"$f":"IF($B18=2,$I18,0)","v":{"v":0,"d":"0.00"}},{"$f":"IF($B18=3,$I18,0)","v":{"v":0,"d":"0.00"}},{"$f":"IF($B18=4,$I18,0)","v":{"v":0,"d":"0.00"}},{"$f":"IF($B18=5,$I18,0)","v":{"v":0,"d":"0.00"}},{"$f":"IF($B18=6,$I18,0)","v":{"v":0,"d":"0.00"}},{"$f":"IF(P17>0,IF(H18+X18+AF18+AN18+AV18+BD18+BL18+BT18+CB18+CJ18=0,IF(E18>0,P17,0),0),0)","v":0},{"$f":"G18*P18","v":{"v":0,"d":"0.00"}},{"$f":"IF(B18=1,Q18,0)","v":{"v":0,"d":"0.00"}},{"$f":"IF(B18=2,Q18,0)","v":{"v":0,"d":"0.00"}},{"$f":"IF(B18=3,Q18,0)","v":{"v":0,"d":"0.00"}},{"$f":"IF(B18=4,Q18,0)","v":{"v":0,"d":"0.00"}},{"$f":"IF(B18=5,Q18,0)","v":{"v":0,"d":"0.00"}},{"$f":"IF(B18=6,Q18,0)","v":{"v":0,"d":"0.00"}},{"$f":"IF(X17>0,IF(H18+P18+AF18+AN18+AV18+BD18+BL18+BT18+CB18+CJ18=0,IF(E18>0,X17,0),0),0)","v":0},{"$f":"G18*X18","v":{"v":0,"d":"0.00"}},{"$f":"IF($B18=1,$Y18,0)","v":{"v":0,"d":"0.00"}},{"$f":"IF($B18=2,$Y18,0)","v":{"v":0,"d":"0.00"}},{"$f":"IF($B18=3,$Y18,0)","v":{"v":0,"d":"0.00"}},{"$f":"IF($B18=4,$Y18,0)","v":{"v":0,"d":"0.00"}},{"$f":"IF($B18=5,$Y18,0)","v":{"v":0,"d":"0.00"}},{"$f":"IF($B18=6,$Y18,0)","v":{"v":0,"d":"0.00"}},{"$f":"IF(AF17>0,IF(H18+P18+X18+AN18+AV18+BD18+BL18+BT18+CB18+CJ18=0,IF(E18>0,AF17,0),0),0)","v":0},{"$f":"G18*AF18","v":{"v":0,"d":"0.00"}},{"$f":"IF($B18=1,$AG18,0)","v":{"v":0,"d":"0.00"}},{"$f":"IF($B18=2,$AG18,0)","v":{"v":0,"d":"0.00"}},{"$f":"IF($B18=3,$AG18,0)","v":{"v":0,"d":"0.00"}},{"$f":"IF($B18=4,$AG18,0)","v":{"v":0,"d":"0.00"}},{"$f":"IF($B18=5,$AG18,0)","v":{"v":0,"d":"0.00"}},{"$f":"IF($B18=6,$AG18,0)","v":{"v":0,"d":"0.00"}},{"$f":"IF(AN17>0,IF(H18+P18+X18+AF18+AV18+BD18+BL18+BT18+CB18+CJ18=0,IF(E18>0,AN17,0),0),0)","v":0},{"$f":"G18*AN18","v":{"v":0,"d":"0.00"}},{"$f":"IF($B18=1,$AO18,0)","v":{"v":0,"d":"0.00"}},{"$f":"IF($B18=2,$AO18,0)","v":{"v":0,"d":"0.00"}},{"$f":"IF($B18=3,$AO18,0)","v":{"v":0,"d":"0.00"}},{"$f":"IF($B18=4,$AO18,0)","v":{"v":0,"d":"0.00"}},{"$f":"IF($B18=5,$AO18,0)","v":{"v":0,"d":"0.00"}},{"$f":"IF($B18=6,$AO18,0)","v":{"v":0,"d":"0.00"}},{"$f":"IF(AV17>0,IF(H18+P18+X18+AF18+AN18+BD18+BL18+BT18+CB18+CJ18=0,IF(E18>0,AV17,0),0),0)","v":0},{"$f":"G18*AV18","v":{"v":0,"d":"0.00"}},{"$f":"IF($B18=1,$AW18,0)","v":{"v":0,"d":"0.00"}},{"$f":"IF($B18=2,$AW18,0)","v":{"v":0,"d":"0.00"}},{"$f":"IF($B18=3,$AW18,0)","v":{"v":0,"d":"0.00"}},{"$f":"IF($B18=4,$AW18,0)","v":{"v":0,"d":"0.00"}},{"$f":"IF($B18=5,$AW18,0)","v":{"v":0,"d":"0.00"}},{"$f":"IF($B18=6,$AW18,0)","v":{"v":0,"d":"0.00"}},{"$f":"IF(BD17>0,IF(H18+P18+X18+AF18+AN18+AV18+BL18+BT18+CB18+CJ18=0,IF(E18>0,BD17,0),0),0)","v":0},{"$f":"G18*BD18","v":{"v":0,"d":"0.00"}},{"$f":"IF($B18=1,$BE18,0)","v":{"v":0,"d":"0.00"}},{"$f":"IF($B18=2,$BE18,0)","v":{"v":0,"d":"0.00"}},{"$f":"IF($B18=3,$BE18,0)","v":{"v":0,"d":"0.00"}},{"$f":"IF($B18=4,$BE18,0)","v":{"v":0,"d":"0.00"}},{"$f":"IF($B18=5,$BE18,0)","v":{"v":0,"d":"0.00"}},{"$f":"IF($B18=6,$BE18,0)","v":{"v":0,"d":"0.00"}},{"$f":"IF(BL17>0,IF(H18+P18+X18+AF18+AN18+AV18+BD18+BT18+CB18+CJ18=0,IF(E18>0,BL17,0),0),0)","v":0},{"$f":"G18*BL18","v":{"v":0,"d":"0.00"}},{"$f":"IF($B18=1,$BM18,0)","v":{"v":0,"d":"0.00"}},{"$f":"IF($B18=2,$BM18,0)","v":{"v":0,"d":"0.00"}},{"$f":"IF($B18=3,$BM18,0)","v":{"v":0,"d":"0.00"}},{"$f":"IF($B18=4,$BM18,0)","v":{"v":0,"d":"0.00"}},{"$f":"IF($B18=5,$BM18,0)","v":{"v":0,"d":"0.00"}},{"$f":"IF($B18=6,$BM18,0)","v":{"v":0,"d":"0.00"}},{"$f":"IF(BT17>0,IF(H18+P18+X18+AF18+AN18+AV18+BD18+BL18+CB18+CJ18=0,IF(E18>0,BT17,0),0),0)","v":0},{"$f":"G18*BT18","v":{"v":0,"d":"0.00"}},{"$f":"IF($B18=1,$BU18,0)","v":{"v":0,"d":"0.00"}},{"$f":"IF($B18=2,$BU18,0)","v":{"v":0,"d":"0.00"}},{"$f":"IF($B18=3,$BU18,0)","v":{"v":0,"d":"0.00"}},{"$f":"IF($B18=4,$BU18,0)","v":{"v":0,"d":"0.00"}},{"$f":"IF($B18=5,$BU18,0)","v":{"v":0,"d":"0.00"}},{"$f":"IF($B18=6,$BU18,0)","v":{"v":0,"d":"0.00"}},{"$f":"IF(CB17>0,IF(H18+P18+X18+AF18+AN18+AV18+BD18+BL18+BT18+CJ18=0,IF(E18>0,CB17,0),0),0)","v":0},{"$f":"G18*CB18","v":{"v":0,"d":"0.00"}},{"$f":"IF($B18=1,$CC18,0)","v":{"v":0,"d":"0.00"}},{"$f":"IF($B18=2,$CC18,0)","v":{"v":0,"d":"0.00"}},{"$f":"IF($B18=3,$CC18,0)","v":{"v":0,"d":"0.00"}},{"$f":"IF($B18=4,$CC18,0)","v":{"v":0,"d":"0.00"}},{"$f":"IF($B18=5,$CC18,0)","v":{"v":0,"d":"0.00"}},{"$f":"IF($B18=6,$CC18,0)","v":{"v":0,"d":"0.00"}},{"$f":"IF(CJ17>0,IF(H18+P18+X18+AF18+AN18+AV18+BD18+BL18+BT18+CB18=0,IF(E18>0,CJ17,0),0),0)","v":0},{"$f":"G18*CJ18","v":{"v":0,"d":"0.00"}},{"$f":"IF($B18=1,$CK18,0)","v":{"v":0,"d":"0.00"}},{"$f":"IF($B18=2,$CK18,0)","v":{"v":0,"d":"0.00"}},{"$f":"IF($B18=3,$CK18,0)","v":{"v":0,"d":"0.00"}},{"$f":"IF($B18=4,$CK18,0)","v":{"v":0,"d":"0.00"}},{"$f":"IF($B18=5,$CK18,0)","v":{"v":0,"d":"0.00"}},{"$f":"IF($B18=6,$CK18,0)","v":{"v":0,"d":"0.00"}}]
[{"$f":"IF(C18<>C19,C19,\"\")","v":""},{"$f":"IF(C18<>C19,_xlfn.DAYS(C19,C18)+B18,B18)","v":1},{"$f":"IF(D19>0,IF(D19<E18,C18+1,C18),C18)","v":"2009-02-09"},{"$f":"IF((E19+H19+P19+X19+AF19+AN19+AV19+BD19+BL19+BT19+CB19+CJ19)>0,E18,0)","v":"00:00:00"},null,{"$f":"E19-D19","v":"00:00:00"},{"$f":"IF(E19>0,HOUR(F19)+(MINUTE(F19)/60),0)","v":0},{"$f":"IF(H18>0,IF(P19+X19+AF19+AN19+AV19+BD19+BL19+BT19+CB19+CJ19=0,IF(E19>0,H18,0),0),0)","v":0},{"$f":"G19*H19","v":{"v":0,"d":"0.00"}},{"$f":"IF($B19=1,$I19,0)","v":{"v":0,"d":"0.00"}},{"$f":"IF($B19=2,$I19,0)","v":{"v":0,"d":"0.00"}},{"$f":"IF($B19=3,$I19,0)","v":{"v":0,"d":"0.00"}},{"$f":"IF($B19=4,$I19,0)","v":{"v":0,"d":"0.00"}},{"$f":"IF($B19=5,$I19,0)","v":{"v":0,"d":"0.00"}},{"$f":"IF($B19=6,$I19,0)","v":{"v":0,"d":"0.00"}},{"$f":"IF(P18>0,IF(H19+X19+AF19+AN19+AV19+BD19+BL19+BT19+CB19+CJ19=0,IF(E19>0,P18,0),0),0)","v":0},{"$f":"G19*P19","v":{"v":0,"d":"0.00"}},{"$f":"IF(B19=1,Q19,0)","v":{"v":0,"d":"0.00"}},{"$f":"IF(B19=2,Q19,0)","v":{"v":0,"d":"0.00"}},{"$f":"IF(B19=3,Q19,0)","v":{"v":0,"d":"0.00"}},{"$f":"IF(B19=4,Q19,0)","v":{"v":0,"d":"0.00"}},{"$f":"IF(B19=5,Q19,0)","v":{"v":0,"d":"0.00"}},{"$f":"IF(B19=6,Q19,0)","v":{"v":0,"d":"0.00"}},{"$f":"IF(X18>0,IF(H19+P19+AF19+AN19+AV19+BD19+BL19+BT19+CB19+CJ19=0,IF(E19>0,X18,0),0),0)","v":0},{"$f":"G19*X19","v":{"v":0,"d":"0.00"}},{"$f":"IF($B19=1,$Y19,0)","v":{"v":0,"d":"0.00"}},{"$f":"IF($B19=2,$Y19,0)","v":{"v":0,"d":"0.00"}},{"$f":"IF($B19=3,$Y19,0)","v":{"v":0,"d":"0.00"}},{"$f":"IF($B19=4,$Y19,0)","v":{"v":0,"d":"0.00"}},{"$f":"IF($B19=5,$Y19,0)","v":{"v":0,"d":"0.00"}},{"$f":"IF($B19=6,$Y19,0)","v":{"v":0,"d":"0.00"}},{"$f":"IF(AF18>0,IF(H19+P19+X19+AN19+AV19+BD19+BL19+BT19+CB19+CJ19=0,IF(E19>0,AF18,0),0),0)","v":0},{"$f":"G19*AF19","v":{"v":0,"d":"0.00"}},{"$f":"IF($B19=1,$AG19,0)","v":{"v":0,"d":"0.00"}},{"$f":"IF($B19=2,$AG19,0)","v":{"v":0,"d":"0.00"}},{"$f":"IF($B19=3,$AG19,0)","v":{"v":0,"d":"0.00"}},{"$f":"IF($B19=4,$AG19,0)","v":{"v":0,"d":"0.00"}},{"$f":"IF($B19=5,$AG19,0)","v":{"v":0,"d":"0.00"}},{"$f":"IF($B19=6,$AG19,0)","v":{"v":0,"d":"0.00"}},{"$f":"IF(AN18>0,IF(H19+P19+X19+AF19+AV19+BD19+BL19+BT19+CB19+CJ19=0,IF(E19>0,AN18,0),0),0)","v":0},{"$f":"G19*AN19","v":{"v":0,"d":"0.00"}},{"$f":"IF($B19=1,$AO19,0)","v":{"v":0,"d":"0.00"}},{"$f":"IF($B19=2,$AO19,0)","v":{"v":0,"d":"0.00"}},{"$f":"IF($B19=3,$AO19,0)","v":{"v":0,"d":"0.00"}},{"$f":"IF($B19=4,$AO19,0)","v":{"v":0,"d":"0.00"}},{"$f":"IF($B19=5,$AO19,0)","v":{"v":0,"d":"0.00"}},{"$f":"IF($B19=6,$AO19,0)","v":{"v":0,"d":"0.00"}},{"$f":"IF(AV18>0,IF(H19+P19+X19+AF19+AN19+BD19+BL19+BT19+CB19+CJ19=0,IF(E19>0,AV18,0),0),0)","v":0},{"$f":"G19*AV19","v":{"v":0,"d":"0.00"}},{"$f":"IF($B19=1,$AW19,0)","v":{"v":0,"d":"0.00"}},{"$f":"IF($B19=2,$AW19,0)","v":{"v":0,"d":"0.00"}},{"$f":"IF($B19=3,$AW19,0)","v":{"v":0,"d":"0.00"}},{"$f":"IF($B19=4,$AW19,0)","v":{"v":0,"d":"0.00"}},{"$f":"IF($B19=5,$AW19,0)","v":{"v":0,"d":"0.00"}},{"$f":"IF($B19=6,$AW19,0)","v":{"v":0,"d":"0.00"}},{"$f":"IF(BD18>0,IF(H19+P19+X19+AF19+AN19+AV19+BL19+BT19+CB19+CJ19=0,IF(E19>0,BD18,0),0),0)","v":0},{"$f":"G19*BD19","v":{"v":0,"d":"0.00"}},{"$f":"IF($B19=1,$BE19,0)","v":{"v":0,"d":"0.00"}},{"$f":"IF($B19=2,$BE19,0)","v":{"v":0,"d":"0.00"}},{"$f":"IF($B19=3,$BE19,0)","v":{"v":0,"d":"0.00"}},{"$f":"IF($B19=4,$BE19,0)","v":{"v":0,"d":"0.00"}},{"$f":"IF($B19=5,$BE19,0)","v":{"v":0,"d":"0.00"}},{"$f":"IF($B19=6,$BE19,0)","v":{"v":0,"d":"0.00"}},{"$f":"IF(BL18>0,IF(H19+P19+X19+AF19+AN19+AV19+BD19+BT19+CB19+CJ19=0,IF(E19>0,BL18,0),0),0)","v":0},{"$f":"G19*BL19","v":{"v":0,"d":"0.00"}},{"$f":"IF($B19=1,$BM19,0)","v":{"v":0,"d":"0.00"}},{"$f":"IF($B19=2,$BM19,0)","v":{"v":0,"d":"0.00"}},{"$f":"IF($B19=3,$BM19,0)","v":{"v":0,"d":"0.00"}},{"$f":"IF($B19=4,$BM19,0)","v":{"v":0,"d":"0.00"}},{"$f":"IF($B19=5,$BM19,0)","v":{"v":0,"d":"0.00"}},{"$f":"IF($B19=6,$BM19,0)","v":{"v":0,"d":"0.00"}},{"$f":"IF(BT18>0,IF(H19+P19+X19+AF19+AN19+AV19+BD19+BL19+CB19+CJ19=0,IF(E19>0,BT18,0),0),0)","v":0},{"$f":"G19*BT19","v":{"v":0,"d":"0.00"}},{"$f":"IF($B19=1,$BU19,0)","v":{"v":0,"d":"0.00"}},{"$f":"IF($B19=2,$BU19,0)","v":{"v":0,"d":"0.00"}},{"$f":"IF($B19=3,$BU19,0)","v":{"v":0,"d":"0.00"}},{"$f":"IF($B19=4,$BU19,0)","v":{"v":0,"d":"0.00"}},{"$f":"IF($B19=5,$BU19,0)","v":{"v":0,"d":"0.00"}},{"$f":"IF($B19=6,$BU19,0)","v":{"v":0,"d":"0.00"}},{"$f":"IF(CB18>0,IF(H19+P19+X19+AF19+AN19+AV19+BD19+BL19+BT19+CJ19=0,IF(E19>0,CB18,0),0),0)","v":0},{"$f":"G19*CB19","v":{"v":0,"d":"0.00"}},{"$f":"IF($B19=1,$CC19,0)","v":{"v":0,"d":"0.00"}},{"$f":"IF($B19=2,$CC19,0)","v":{"v":0,"d":"0.00"}},{"$f":"IF($B19=3,$CC19,0)","v":{"v":0,"d":"0.00"}},{"$f":"IF($B19=4,$CC19,0)","v":{"v":0,"d":"0.00"}},{"$f":"IF($B19=5,$CC19,0)","v":{"v":0,"d":"0.00"}},{"$f":"IF($B19=6,$CC19,0)","v":{"v":0,"d":"0.00"}},{"$f":"IF(CJ18>0,IF(H19+P19+X19+AF19+AN19+AV19+BD19+BL19+BT19+CB19=0,IF(E19>0,CJ18,0),0),0)","v":0},{"$f":"G19*CJ19","v":{"v":0,"d":"0.00"}},{"$f":"IF($B19=1,$CK19,0)","v":{"v":0,"d":"0.00"}},{"$f":"IF($B19=2,$CK19,0)","v":{"v":0,"d":"0.00"}},{"$f":"IF($B19=3,$CK19,0)","v":{"v":0,"d":"0.00"}},{"$f":"IF($B19=4,$CK19,0)","v":{"v":0,"d":"0.00"}},{"$f":"IF($B19=5,$CK19,0)","v":{"v":0,"d":"0.00"}},{"$f":"IF($B19=6,$CK19,0)","v":{"v":0,"d":"0.00"}}]
[{"$f":"IF(C19<>C20,C20,\"\")","v":""},{"$f":"IF(C19<>C20,_xlfn.DAYS(C20,C19)+B19,B19)","v":1},{"$f":"IF(D20>0,IF(D20<E19,C19+1,C19),C19)","v":"2009-02-09"},{"$f":"IF((E20+H20+P20+X20+AF20+AN20+AV20+BD20+BL20+BT20+CB20+CJ20)>0,E19,0)","v":"00:00:00"},null,{"$f":"E20-D20","v":"00:00:00"},{"$f":"IF(E20>0,HOUR(F20)+(MINUTE(F20)/60),0)","v":0},{"$f":"IF(H19>0,IF(P20+X20+AF20+AN20+AV20+BD20+BL20+BT20+CB20+CJ20=0,IF(E20>0,H19,0),0),0)","v":0},{"$f":"G20*H20","v":{"v":0,"d":"0.00"}},{"$f":"IF($B20=1,$I20,0)","v":{"v":0,"d":"0.00"}},{"$f":"IF($B20=2,$I20,0)","v":{"v":0,"d":"0.00"}},{"$f":"IF($B20=3,$I20,0)","v":{"v":0,"d":"0.00"}},{"$f":"IF($B20=4,$I20,0)","v":{"v":0,"d":"0.00"}},{"$f":"IF($B20=5,$I20,0)","v":{"v":0,"d":"0.00"}},{"$f":"IF($B20=6,$I20,0)","v":{"v":0,"d":"0.00"}},{"$f":"IF(P19>0,IF(H20+X20+AF20+AN20+AV20+BD20+BL20+BT20+CB20+CJ20=0,IF(E20>0,P19,0),0),0)","v":0},{"$f":"G20*P20","v":{"v":0,"d":"0.00"}},{"$f":"IF(B20=1,Q20,0)","v":{"v":0,"d":"0.00"}},{"$f":"IF(B20=2,Q20,0)","v":{"v":0,"d":"0.00"}},{"$f":"IF(B20=3,Q20,0)","v":{"v":0,"d":"0.00"}},{"$f":"IF(B20=4,Q20,0)","v":{"v":0,"d":"0.00"}},{"$f":"IF(B20=5,Q20,0)","v":{"v":0,"d":"0.00"}},{"$f":"IF(B20=6,Q20,0)","v":{"v":0,"d":"0.00"}},{"$f":"IF(X19>0,IF(H20+P20+AF20+AN20+AV20+BD20+BL20+BT20+CB20+CJ20=0,IF(E20>0,X19,0),0),0)","v":0},{"$f":"G20*X20","v":{"v":0,"d":"0.00"}},{"$f":"IF($B20=1,$Y20,0)","v":{"v":0,"d":"0.00"}},{"$f":"IF($B20=2,$Y20,0)","v":{"v":0,"d":"0.00"}},{"$f":"IF($B20=3,$Y20,0)","v":{"v":0,"d":"0.00"}},{"$f":"IF($B20=4,$Y20,0)","v":{"v":0,"d":"0.00"}},{"$f":"IF($B20=5,$Y20,0)","v":{"v":0,"d":"0.00"}},{"$f":"IF($B20=6,$Y20,0)","v":{"v":0,"d":"0.00"}},{"$f":"IF(AF19>0,IF(H20+P20+X20+AN20+AV20+BD20+BL20+BT20+CB20+CJ20=0,IF(E20>0,AF19,0),0),0)","v":0},{"$f":"G20*AF20","v":{"v":0,"d":"0.00"}},{"$f":"IF($B20=1,$AG20,0)","v":{"v":0,"d":"0.00"}},{"$f":"IF($B20=2,$AG20,0)","v":{"v":0,"d":"0.00"}},{"$f":"IF($B20=3,$AG20,0)","v":{"v":0,"d":"0.00"}},{"$f":"IF($B20=4,$AG20,0)","v":{"v":0,"d":"0.00"}},{"$f":"IF($B20=5,$AG20,0)","v":{"v":0,"d":"0.00"}},{"$f":"IF($B20=6,$AG20,0)","v":{"v":0,"d":"0.00"}},{"$f":"IF(AN19>0,IF(H20+P20+X20+AF20+AV20+BD20+BL20+BT20+CB20+CJ20=0,IF(E20>0,AN19,0),0),0)","v":0},{"$f":"G20*AN20","v":{"v":0,"d":"0.00"}},{"$f":"IF($B20=1,$AO20,0)","v":{"v":0,"d":"0.00"}},{"$f":"IF($B20=2,$AO20,0)","v":{"v":0,"d":"0.00"}},{"$f":"IF($B20=3,$AO20,0)","v":{"v":0,"d":"0.00"}},{"$f":"IF($B20=4,$AO20,0)","v":{"v":0,"d":"0.00"}},{"$f":"IF($B20=5,$AO20,0)","v":{"v":0,"d":"0.00"}},{"$f":"IF($B20=6,$AO20,0)","v":{"v":0,"d":"0.00"}},{"$f":"IF(AV19>0,IF(H20+P20+X20+AF20+AN20+BD20+BL20+BT20+CB20+CJ20=0,IF(E20>0,AV19,0),0),0)","v":0},{"$f":"G20*AV20","v":{"v":0,"d":"0.00"}},{"$f":"IF($B20=1,$AW20,0)","v":{"v":0,"d":"0.00"}},{"$f":"IF($B20=2,$AW20,0)","v":{"v":0,"d":"0.00"}},{"$f":"IF($B20=3,$AW20,0)","v":{"v":0,"d":"0.00"}},{"$f":"IF($B20=4,$AW20,0)","v":{"v":0,"d":"0.00"}},{"$f":"IF($B20=5,$AW20,0)","v":{"v":0,"d":"0.00"}},{"$f":"IF($B20=6,$AW20,0)","v":{"v":0,"d":"0.00"}},{"$f":"IF(BD19>0,IF(H20+P20+X20+AF20+AN20+AV20+BL20+BT20+CB20+CJ20=0,IF(E20>0,BD19,0),0),0)","v":0},{"$f":"G20*BD20","v":{"v":0,"d":"0.00"}},{"$f":"IF($B20=1,$BE20,0)","v":{"v":0,"d":"0.00"}},{"$f":"IF($B20=2,$BE20,0)","v":{"v":0,"d":"0.00"}},{"$f":"IF($B20=3,$BE20,0)","v":{"v":0,"d":"0.00"}},{"$f":"IF($B20=4,$BE20,0)","v":{"v":0,"d":"0.00"}},{"$f":"IF($B20=5,$BE20,0)","v":{"v":0,"d":"0.00"}},{"$f":"IF($B20=6,$BE20,0)","v":{"v":0,"d":"0.00"}},{"$f":"IF(BL19>0,IF(H20+P20+X20+AF20+AN20+AV20+BD20+BT20+CB20+CJ20=0,IF(E20>0,BL19,0),0),0)","v":0},{"$f":"G20*BL20","v":{"v":0,"d":"0.00"}},{"$f":"IF($B20=1,$BM20,0)","v":{"v":0,"d":"0.00"}},{"$f":"IF($B20=2,$BM20,0)","v":{"v":0,"d":"0.00"}},{"$f":"IF($B20=3,$BM20,0)","v":{"v":0,"d":"0.00"}},{"$f":"IF($B20=4,$BM20,0)","v":{"v":0,"d":"0.00"}},{"$f":"IF($B20=5,$BM20,0)","v":{"v":0,"d":"0.00"}},{"$f":"IF($B20=6,$BM20,0)","v":{"v":0,"d":"0.00"}},{"$f":"IF(BT19>0,IF(H20+P20+X20+AF20+AN20+AV20+BD20+BL20+CB20+CJ20=0,IF(E20>0,BT19,0),0),0)","v":0},{"$f":"G20*BT20","v":{"v":0,"d":"0.00"}},{"$f":"IF($B20=1,$BU20,0)","v":{"v":0,"d":"0.00"}},{"$f":"IF($B20=2,$BU20,0)","v":{"v":0,"d":"0.00"}},{"$f":"IF($B20=3,$BU20,0)","v":{"v":0,"d":"0.00"}},{"$f":"IF($B20=4,$BU20,0)","v":{"v":0,"d":"0.00"}},{"$f":"IF($B20=5,$BU20,0)","v":{"v":0,"d":"0.00"}},{"$f":"IF($B20=6,$BU20,0)","v":{"v":0,"d":"0.00"}},{"$f":"IF(CB19>0,IF(H20+P20+X20+AF20+AN20+AV20+BD20+BL20+BT20+CJ20=0,IF(E20>0,CB19,0),0),0)","v":0},{"$f":"G20*CB20","v":{"v":0,"d":"0.00"}},{"$f":"IF($B20=1,$CC20,0)","v":{"v":0,"d":"0.00"}},{"$f":"IF($B20=2,$CC20,0)","v":{"v":0,"d":"0.00"}},{"$f":"IF($B20=3,$CC20,0)","v":{"v":0,"d":"0.00"}},{"$f":"IF($B20=4,$CC20,0)","v":{"v":0,"d":"0.00"}},{"$f":"IF($B20=5,$CC20,0)","v":{"v":0,"d":"0.00"}},{"$f":"IF($B20=6,$CC20,0)","v":{"v":0,"d":"0.00"}},{"$f":"IF(CJ19>0,IF(H20+P20+X20+AF20+AN20+AV20+BD20+BL20+BT20+CB20=0,IF(E20>0,CJ19,0),0),0)","v":0},{"$f":"G20*CJ20","v":{"v":0,"d":"0.00"}},{"$f":"IF($B20=1,$CK20,0)","v":{"v":0,"d":"0.00"}},{"$f":"IF($B20=2,$CK20,0)","v":{"v":0,"d":"0.00"}},{"$f":"IF($B20=3,$CK20,0)","v":{"v":0,"d":"0.00"}},{"$f":"IF($B20=4,$CK20,0)","v":{"v":0,"d":"0.00"}},{"$f":"IF($B20=5,$CK20,0)","v":{"v":0,"d":"0.00"}},{"$f":"IF($B20=6,$CK20,0)","v":{"v":0,"d":"0.00"}}]
[{"$f":"IF(C20<>C21,C21,\"\")","v":""},{"$f":"IF(C20<>C21,_xlfn.DAYS(C21,C20)+B20,B20)","v":1},{"$f":"IF(D21>0,IF(D21<E20,C20+1,C20),C20)","v":"2009-02-09"},{"$f":"IF((E21+H21+P21+X21+AF21+AN21+AV21+BD21+BL21+BT21+CB21+CJ21)>0,E20,0)","v":"00:00:00"},null,{"$f":"E21-D21","v":"00:00:00"},{"$f":"IF(E21>0,HOUR(F21)+(MINUTE(F21)/60),0)","v":0},{"$f":"IF(H20>0,IF(P21+X21+AF21+AN21+AV21+BD21+BL21+BT21+CB21+CJ21=0,IF(E21>0,H20,0),0),0)","v":0},{"$f":"G21*H21","v":{"v":0,"d":"0.00"}},{"$f":"IF($B21=1,$I21,0)","v":{"v":0,"d":"0.00"}},{"$f":"IF($B21=2,$I21,0)","v":{"v":0,"d":"0.00"}},{"$f":"IF($B21=3,$I21,0)","v":{"v":0,"d":"0.00"}},{"$f":"IF($B21=4,$I21,0)","v":{"v":0,"d":"0.00"}},{"$f":"IF($B21=5,$I21,0)","v":{"v":0,"d":"0.00"}},{"$f":"IF($B21=6,$I21,0)","v":{"v":0,"d":"0.00"}},{"$f":"IF(P20>0,IF(H21+X21+AF21+AN21+AV21+BD21+BL21+BT21+CB21+CJ21=0,IF(E21>0,P20,0),0),0)","v":0},{"$f":"G21*P21","v":{"v":0,"d":"0.00"}},{"$f":"IF(B21=1,Q21,0)","v":{"v":0,"d":"0.00"}},{"$f":"IF(B21=2,Q21,0)","v":{"v":0,"d":"0.00"}},{"$f":"IF(B21=3,Q21,0)","v":{"v":0,"d":"0.00"}},{"$f":"IF(B21=4,Q21,0)","v":{"v":0,"d":"0.00"}},{"$f":"IF(B21=5,Q21,0)","v":{"v":0,"d":"0.00"}},{"$f":"IF(B21=6,Q21,0)","v":{"v":0,"d":"0.00"}},{"$f":"IF(X20>0,IF(H21+P21+AF21+AN21+AV21+BD21+BL21+BT21+CB21+CJ21=0,IF(E21>0,X20,0),0),0)","v":0},{"$f":"G21*X21","v":{"v":0,"d":"0.00"}},{"$f":"IF($B21=1,$Y21,0)","v":{"v":0,"d":"0.00"}},{"$f":"IF($B21=2,$Y21,0)","v":{"v":0,"d":"0.00"}},{"$f":"IF($B21=3,$Y21,0)","v":{"v":0,"d":"0.00"}},{"$f":"IF($B21=4,$Y21,0)","v":{"v":0,"d":"0.00"}},{"$f":"IF($B21=5,$Y21,0)","v":{"v":0,"d":"0.00"}},{"$f":"IF($B21=6,$Y21,0)","v":{"v":0,"d":"0.00"}},{"$f":"IF(AF20>0,IF(H21+P21+X21+AN21+AV21+BD21+BL21+BT21+CB21+CJ21=0,IF(E21>0,AF20,0),0),0)","v":0},{"$f":"G21*AF21","v":{"v":0,"d":"0.00"}},{"$f":"IF($B21=1,$AG21,0)","v":{"v":0,"d":"0.00"}},{"$f":"IF($B21=2,$AG21,0)","v":{"v":0,"d":"0.00"}},{"$f":"IF($B21=3,$AG21,0)","v":{"v":0,"d":"0.00"}},{"$f":"IF($B21=4,$AG21,0)","v":{"v":0,"d":"0.00"}},{"$f":"IF($B21=5,$AG21,0)","v":{"v":0,"d":"0.00"}},{"$f":"IF($B21=6,$AG21,0)","v":{"v":0,"d":"0.00"}},{"$f":"IF(AN20>0,IF(H21+P21+X21+AF21+AV21+BD21+BL21+BT21+CB21+CJ21=0,IF(E21>0,AN20,0),0),0)","v":0},{"$f":"G21*AN21","v":{"v":0,"d":"0.00"}},{"$f":"IF($B21=1,$AO21,0)","v":{"v":0,"d":"0.00"}},{"$f":"IF($B21=2,$AO21,0)","v":{"v":0,"d":"0.00"}},{"$f":"IF($B21=3,$AO21,0)","v":{"v":0,"d":"0.00"}},{"$f":"IF($B21=4,$AO21,0)","v":{"v":0,"d":"0.00"}},{"$f":"IF($B21=5,$AO21,0)","v":{"v":0,"d":"0.00"}},{"$f":"IF($B21=6,$AO21,0)","v":{"v":0,"d":"0.00"}},{"$f":"IF(AV20>0,IF(H21+P21+X21+AF21+AN21+BD21+BL21+BT21+CB21+CJ21=0,IF(E21>0,AV20,0),0),0)","v":0},{"$f":"G21*AV21","v":{"v":0,"d":"0.00"}},{"$f":"IF($B21=1,$AW21,0)","v":{"v":0,"d":"0.00"}},{"$f":"IF($B21=2,$AW21,0)","v":{"v":0,"d":"0.00"}},{"$f":"IF($B21=3,$AW21,0)","v":{"v":0,"d":"0.00"}},{"$f":"IF($B21=4,$AW21,0)","v":{"v":0,"d":"0.00"}},{"$f":"IF($B21=5,$AW21,0)","v":{"v":0,"d":"0.00"}},{"$f":"IF($B21=6,$AW21,0)","v":{"v":0,"d":"0.00"}},{"$f":"IF(BD20>0,IF(H21+P21+X21+AF21+AN21+AV21+BL21+BT21+CB21+CJ21=0,IF(E21>0,BD20,0),0),0)","v":0},{"$f":"G21*BD21","v":{"v":0,"d":"0.00"}},{"$f":"IF($B21=1,$BE21,0)","v":{"v":0,"d":"0.00"}},{"$f":"IF($B21=2,$BE21,0)","v":{"v":0,"d":"0.00"}},{"$f":"IF($B21=3,$BE21,0)","v":{"v":0,"d":"0.00"}},{"$f":"IF($B21=4,$BE21,0)","v":{"v":0,"d":"0.00"}},{"$f":"IF($B21=5,$BE21,0)","v":{"v":0,"d":"0.00"}},{"$f":"IF($B21=6,$BE21,0)","v":{"v":0,"d":"0.00"}},{"$f":"IF(BL20>0,IF(H21+P21+X21+AF21+AN21+AV21+BD21+BT21+CB21+CJ21=0,IF(E21>0,BL20,0),0),0)","v":0},{"$f":"G21*BL21","v":{"v":0,"d":"0.00"}},{"$f":"IF($B21=1,$BM21,0)","v":{"v":0,"d":"0.00"}},{"$f":"IF($B21=2,$BM21,0)","v":{"v":0,"d":"0.00"}},{"$f":"IF($B21=3,$BM21,0)","v":{"v":0,"d":"0.00"}},{"$f":"IF($B21=4,$BM21,0)","v":{"v":0,"d":"0.00"}},{"$f":"IF($B21=5,$BM21,0)","v":{"v":0,"d":"0.00"}},{"$f":"IF($B21=6,$BM21,0)","v":{"v":0,"d":"0.00"}},{"$f":"IF(BT20>0,IF(H21+P21+X21+AF21+AN21+AV21+BD21+BL21+CB21+CJ21=0,IF(E21>0,BT20,0),0),0)","v":0},{"$f":"G21*BT21","v":{"v":0,"d":"0.00"}},{"$f":"IF($B21=1,$BU21,0)","v":{"v":0,"d":"0.00"}},{"$f":"IF($B21=2,$BU21,0)","v":{"v":0,"d":"0.00"}},{"$f":"IF($B21=3,$BU21,0)","v":{"v":0,"d":"0.00"}},{"$f":"IF($B21=4,$BU21,0)","v":{"v":0,"d":"0.00"}},{"$f":"IF($B21=5,$BU21,0)","v":{"v":0,"d":"0.00"}},{"$f":"IF($B21=6,$BU21,0)","v":{"v":0,"d":"0.00"}},{"$f":"IF(CB20>0,IF(H21+P21+X21+AF21+AN21+AV21+BD21+BL21+BT21+CJ21=0,IF(E21>0,CB20,0),0),0)","v":0},{"$f":"G21*CB21","v":{"v":0,"d":"0.00"}},{"$f":"IF($B21=1,$CC21,0)","v":{"v":0,"d":"0.00"}},{"$f":"IF($B21=2,$CC21,0)","v":{"v":0,"d":"0.00"}},{"$f":"IF($B21=3,$CC21,0)","v":{"v":0,"d":"0.00"}},{"$f":"IF($B21=4,$CC21,0)","v":{"v":0,"d":"0.00"}},{"$f":"IF($B21=5,$CC21,0)","v":{"v":0,"d":"0.00"}},{"$f":"IF($B21=6,$CC21,0)","v":{"v":0,"d":"0.00"}},{"$f":"IF(CJ20>0,IF(H21+P21+X21+AF21+AN21+AV21+BD21+BL21+BT21+CB21=0,IF(E21>0,CJ20,0),0),0)","v":0},{"$f":"G21*CJ21","v":{"v":0,"d":"0.00"}},{"$f":"IF($B21=1,$CK21,0)","v":{"v":0,"d":"0.00"}},{"$f":"IF($B21=2,$CK21,0)","v":{"v":0,"d":"0.00"}},{"$f":"IF($B21=3,$CK21,0)","v":{"v":0,"d":"0.00"}},{"$f":"IF($B21=4,$CK21,0)","v":{"v":0,"d":"0.00"}},{"$f":"IF($B21=5,$CK21,0)","v":{"v":0,"d":"0.00"}},{"$f":"IF($B21=6,$CK21,0)","v":{"v":0,"d":"0.00"}}]
[{"$f":"IF(C21<>C22,C22,\"\")","v":""},{"$f":"IF(C21<>C22,_xlfn.DAYS(C22,C21)+B21,B21)","v":1},{"$f":"IF(D22>0,IF(D22<E21,C21+1,C21),C21)","v":"2009-02-09"},{"$f":"IF((E22+H22+P22+X22+AF22+AN22+AV22+BD22+BL22+BT22+CB22+CJ22)>0,E21,0)","v":"00:00:00"},null,{"$f":"E22-D22","v":"00:00:00"},{"$f":"IF(E22>0,HOUR(F22)+(MINUTE(F22)/60),0)","v":0},{"$f":"IF(H21>0,IF(P22+X22+AF22+AN22+AV22+BD22+BL22+BT22+CB22+CJ22=0,IF(E22>0,H21,0),0),0)","v":0},{"$f":"G22*H22","v":{"v":0,"d":"0.00"}},{"$f":"IF($B22=1,$I22,0)","v":{"v":0,"d":"0.00"}},{"$f":"IF($B22=2,$I22,0)","v":{"v":0,"d":"0.00"}},{"$f":"IF($B22=3,$I22,0)","v":{"v":0,"d":"0.00"}},{"$f":"IF($B22=4,$I22,0)","v":{"v":0,"d":"0.00"}},{"$f":"IF($B22=5,$I22,0)","v":{"v":0,"d":"0.00"}},{"$f":"IF($B22=6,$I22,0)","v":{"v":0,"d":"0.00"}},{"$f":"IF(P21>0,IF(H22+X22+AF22+AN22+AV22+BD22+BL22+BT22+CB22+CJ22=0,IF(E22>0,P21,0),0),0)","v":0},{"$f":"G22*P22","v":{"v":0,"d":"0.00"}},{"$f":"IF(B22=1,Q22,0)","v":{"v":0,"d":"0.00"}},{"$f":"IF(B22=2,Q22,0)","v":{"v":0,"d":"0.00"}},{"$f":"IF(B22=3,Q22,0)","v":{"v":0,"d":"0.00"}},{"$f":"IF(B22=4,Q22,0)","v":{"v":0,"d":"0.00"}},{"$f":"IF(B22=5,Q22,0)","v":{"v":0,"d":"0.00"}},{"$f":"IF(B22=6,Q22,0)","v":{"v":0,"d":"0.00"}},{"$f":"IF(X21>0,IF(H22+P22+AF22+AN22+AV22+BD22+BL22+BT22+CB22+CJ22=0,IF(E22>0,X21,0),0),0)","v":0},{"$f":"G22*X22","v":{"v":0,"d":"0.00"}},{"$f":"IF($B22=1,$Y22,0)","v":{"v":0,"d":"0.00"}},{"$f":"IF($B22=2,$Y22,0)","v":{"v":0,"d":"0.00"}},{"$f":"IF($B22=3,$Y22,0)","v":{"v":0,"d":"0.00"}},{"$f":"IF($B22=4,$Y22,0)","v":{"v":0,"d":"0.00"}},{"$f":"IF($B22=5,$Y22,0)","v":{"v":0,"d":"0.00"}},{"$f":"IF($B22=6,$Y22,0)","v":{"v":0,"d":"0.00"}},{"$f":"IF(AF21>0,IF(H22+P22+X22+AN22+AV22+BD22+BL22+BT22+CB22+CJ22=0,IF(E22>0,AF21,0),0),0)","v":0},{"$f":"G22*AF22","v":{"v":0,"d":"0.00"}},{"$f":"IF($B22=1,$AG22,0)","v":{"v":0,"d":"0.00"}},{"$f":"IF($B22=2,$AG22,0)","v":{"v":0,"d":"0.00"}},{"$f":"IF($B22=3,$AG22,0)","v":{"v":0,"d":"0.00"}},{"$f":"IF($B22=4,$AG22,0)","v":{"v":0,"d":"0.00"}},{"$f":"IF($B22=5,$AG22,0)","v":{"v":0,"d":"0.00"}},{"$f":"IF($B22=6,$AG22,0)","v":{"v":0,"d":"0.00"}},{"$f":"IF(AN21>0,IF(H22+P22+X22+AF22+AV22+BD22+BL22+BT22+CB22+CJ22=0,IF(E22>0,AN21,0),0),0)","v":0},{"$f":"G22*AN22","v":{"v":0,"d":"0.00"}},{"$f":"IF($B22=1,$AO22,0)","v":{"v":0,"d":"0.00"}},{"$f":"IF($B22=2,$AO22,0)","v":{"v":0,"d":"0.00"}},{"$f":"IF($B22=3,$AO22,0)","v":{"v":0,"d":"0.00"}},{"$f":"IF($B22=4,$AO22,0)","v":{"v":0,"d":"0.00"}},{"$f":"IF($B22=5,$AO22,0)","v":{"v":0,"d":"0.00"}},{"$f":"IF($B22=6,$AO22,0)","v":{"v":0,"d":"0.00"}},{"$f":"IF(AV21>0,IF(H22+P22+X22+AF22+AN22+BD22+BL22+BT22+CB22+CJ22=0,IF(E22>0,AV21,0),0),0)","v":0},{"$f":"G22*AV22","v":{"v":0,"d":"0.00"}},{"$f":"IF($B22=1,$AW22,0)","v":{"v":0,"d":"0.00"}},{"$f":"IF($B22=2,$AW22,0)","v":{"v":0,"d":"0.00"}},{"$f":"IF($B22=3,$AW22,0)","v":{"v":0,"d":"0.00"}},{"$f":"IF($B22=4,$AW22,0)","v":{"v":0,"d":"0.00"}},{"$f":"IF($B22=5,$AW22,0)","v":{"v":0,"d":"0.00"}},{"$f":"IF($B22=6,$AW22,0)","v":{"v":0,"d":"0.00"}},{"$f":"IF(BD21>0,IF(H22+P22+X22+AF22+AN22+AV22+BL22+BT22+CB22+CJ22=0,IF(E22>0,BD21,0),0),0)","v":0},{"$f":"G22*BD22","v":{"v":0,"d":"0.00"}},{"$f":"IF($B22=1,$BE22,0)","v":{"v":0,"d":"0.00"}},{"$f":"IF($B22=2,$BE22,0)","v":{"v":0,"d":"0.00"}},{"$f":"IF($B22=3,$BE22,0)","v":{"v":0,"d":"0.00"}},{"$f":"IF($B22=4,$BE22,0)","v":{"v":0,"d":"0.00"}},{"$f":"IF($B22=5,$BE22,0)","v":{"v":0,"d":"0.00"}},{"$f":"IF($B22=6,$BE22,0)","v":{"v":0,"d":"0.00"}},{"$f":"IF(BL21>0,IF(H22+P22+X22+AF22+AN22+AV22+BD22+BT22+CB22+CJ22=0,IF(E22>0,BL21,0),0),0)","v":0},{"$f":"G22*BL22","v":{"v":0,"d":"0.00"}},{"$f":"IF($B22=1,$BM22,0)","v":{"v":0,"d":"0.00"}},{"$f":"IF($B22=2,$BM22,0)","v":{"v":0,"d":"0.00"}},{"$f":"IF($B22=3,$BM22,0)","v":{"v":0,"d":"0.00"}},{"$f":"IF($B22=4,$BM22,0)","v":{"v":0,"d":"0.00"}},{"$f":"IF($B22=5,$BM22,0)","v":{"v":0,"d":"0.00"}},{"$f":"IF($B22=6,$BM22,0)","v":{"v":0,"d":"0.00"}},{"$f":"IF(BT21>0,IF(H22+P22+X22+AF22+AN22+AV22+BD22+BL22+CB22+CJ22=0,IF(E22>0,BT21,0),0),0)","v":0},{"$f":"G22*BT22","v":{"v":0,"d":"0.00"}},{"$f":"IF($B22=1,$BU22,0)","v":{"v":0,"d":"0.00"}},{"$f":"IF($B22=2,$BU22,0)","v":{"v":0,"d":"0.00"}},{"$f":"IF($B22=3,$BU22,0)","v":{"v":0,"d":"0.00"}},{"$f":"IF($B22=4,$BU22,0)","v":{"v":0,"d":"0.00"}},{"$f":"IF($B22=5,$BU22,0)","v":{"v":0,"d":"0.00"}},{"$f":"IF($B22=6,$BU22,0)","v":{"v":0,"d":"0.00"}},{"$f":"IF(CB21>0,IF(H22+P22+X22+AF22+AN22+AV22+BD22+BL22+BT22+CJ22=0,IF(E22>0,CB21,0),0),0)","v":0},{"$f":"G22*CB22","v":{"v":0,"d":"0.00"}},{"$f":"IF($B22=1,$CC22,0)","v":{"v":0,"d":"0.00"}},{"$f":"IF($B22=2,$CC22,0)","v":{"v":0,"d":"0.00"}},{"$f":"IF($B22=3,$CC22,0)","v":{"v":0,"d":"0.00"}},{"$f":"IF($B22=4,$CC22,0)","v":{"v":0,"d":"0.00"}},{"$f":"IF($B22=5,$CC22,0)","v":{"v":0,"d":"0.00"}},{"$f":"IF($B22=6,$CC22,0)","v":{"v":0,"d":"0.00"}},{"$f":"IF(CJ21>0,IF(H22+P22+X22+AF22+AN22+AV22+BD22+BL22+BT22+CB22=0,IF(E22>0,CJ21,0),0),0)","v":0},{"$f":"G22*CJ22","v":{"v":0,"d":"0.00"}},{"$f":"IF($B22=1,$CK22,0)","v":{"v":0,"d":"0.00"}},{"$f":"IF($B22=2,$CK22,0)","v":{"v":0,"d":"0.00"}},{"$f":"IF($B22=3,$CK22,0)","v":{"v":0,"d":"0.00"}},{"$f":"IF($B22=4,$CK22,0)","v":{"v":0,"d":"0.00"}},{"$f":"IF($B22=5,$CK22,0)","v":{"v":0,"d":"0.00"}},{"$f":"IF($B22=6,$CK22,0)","v":{"v":0,"d":"0.00"}}]
[{"$f":"IF(C22<>C23,C23,\"\")","v":""},{"$f":"IF(C22<>C23,_xlfn.DAYS(C23,C22)+B22,B22)","v":1},{"$f":"IF(D23>0,IF(D23<E22,C22+1,C22),C22)","v":"2009-02-09"},{"$f":"IF((E23+H23+P23+X23+AF23+AN23+AV23+BD23+BL23+BT23+CB23+CJ23)>0,E22,0)","v":"00:00:00"},null,{"$f":"E23-D23","v":"00:00:00"},{"$f":"IF(E23>0,HOUR(F23)+(MINUTE(F23)/60),0)","v":0},{"$f":"IF(H22>0,IF(P23+X23+AF23+AN23+AV23+BD23+BL23+BT23+CB23+CJ23=0,IF(E23>0,H22,0),0),0)","v":0},{"$f":"G23*H23","v":{"v":0,"d":"0.00"}},{"$f":"IF($B23=1,$I23,0)","v":{"v":0,"d":"0.00"}},{"$f":"IF($B23=2,$I23,0)","v":{"v":0,"d":"0.00"}},{"$f":"IF($B23=3,$I23,0)","v":{"v":0,"d":"0.00"}},{"$f":"IF($B23=4,$I23,0)","v":{"v":0,"d":"0.00"}},{"$f":"IF($B23=5,$I23,0)","v":{"v":0,"d":"0.00"}},{"$f":"IF($B23=6,$I23,0)","v":{"v":0,"d":"0.00"}},{"$f":"IF(P22>0,IF(H23+X23+AF23+AN23+AV23+BD23+BL23+BT23+CB23+CJ23=0,IF(E23>0,P22,0),0),0)","v":0},{"$f":"G23*P23","v":{"v":0,"d":"0.00"}},{"$f":"IF(B23=1,Q23,0)","v":{"v":0,"d":"0.00"}},{"$f":"IF(B23=2,Q23,0)","v":{"v":0,"d":"0.00"}},{"$f":"IF(B23=3,Q23,0)","v":{"v":0,"d":"0.00"}},{"$f":"IF(B23=4,Q23,0)","v":{"v":0,"d":"0.00"}},{"$f":"IF(B23=5,Q23,0)","v":{"v":0,"d":"0.00"}},{"$f":"IF(B23=6,Q23,0)","v":{"v":0,"d":"0.00"}},{"$f":"IF(X22>0,IF(H23+P23+AF23+AN23+AV23+BD23+BL23+BT23+CB23+CJ23=0,IF(E23>0,X22,0),0),0)","v":0},{"$f":"G23*X23","v":{"v":0,"d":"0.00"}},{"$f":"IF($B23=1,$Y23,0)","v":{"v":0,"d":"0.00"}},{"$f":"IF($B23=2,$Y23,0)","v":{"v":0,"d":"0.00"}},{"$f":"IF($B23=3,$Y23,0)","v":{"v":0,"d":"0.00"}},{"$f":"IF($B23=4,$Y23,0)","v":{"v":0,"d":"0.00"}},{"$f":"IF($B23=5,$Y23,0)","v":{"v":0,"d":"0.00"}},{"$f":"IF($B23=6,$Y23,0)","v":{"v":0,"d":"0.00"}},{"$f":"IF(AF22>0,IF(H23+P23+X23+AN23+AV23+BD23+BL23+BT23+CB23+CJ23=0,IF(E23>0,AF22,0),0),0)","v":0},{"$f":"G23*AF23","v":{"v":0,"d":"0.00"}},{"$f":"IF($B23=1,$AG23,0)","v":{"v":0,"d":"0.00"}},{"$f":"IF($B23=2,$AG23,0)","v":{"v":0,"d":"0.00"}},{"$f":"IF($B23=3,$AG23,0)","v":{"v":0,"d":"0.00"}},{"$f":"IF($B23=4,$AG23,0)","v":{"v":0,"d":"0.00"}},{"$f":"IF($B23=5,$AG23,0)","v":{"v":0,"d":"0.00"}},{"$f":"IF($B23=6,$AG23,0)","v":{"v":0,"d":"0.00"}},{"$f":"IF(AN22>0,IF(H23+P23+X23+AF23+AV23+BD23+BL23+BT23+CB23+CJ23=0,IF(E23>0,AN22,0),0),0)","v":0},{"$f":"G23*AN23","v":{"v":0,"d":"0.00"}},{"$f":"IF($B23=1,$AO23,0)","v":{"v":0,"d":"0.00"}},{"$f":"IF($B23=2,$AO23,0)","v":{"v":0,"d":"0.00"}},{"$f":"IF($B23=3,$AO23,0)","v":{"v":0,"d":"0.00"}},{"$f":"IF($B23=4,$AO23,0)","v":{"v":0,"d":"0.00"}},{"$f":"IF($B23=5,$AO23,0)","v":{"v":0,"d":"0.00"}},{"$f":"IF($B23=6,$AO23,0)","v":{"v":0,"d":"0.00"}},{"$f":"IF(AV22>0,IF(H23+P23+X23+AF23+AN23+BD23+BL23+BT23+CB23+CJ23=0,IF(E23>0,AV22,0),0),0)","v":0},{"$f":"G23*AV23","v":{"v":0,"d":"0.00"}},{"$f":"IF($B23=1,$AW23,0)","v":{"v":0,"d":"0.00"}},{"$f":"IF($B23=2,$AW23,0)","v":{"v":0,"d":"0.00"}},{"$f":"IF($B23=3,$AW23,0)","v":{"v":0,"d":"0.00"}},{"$f":"IF($B23=4,$AW23,0)","v":{"v":0,"d":"0.00"}},{"$f":"IF($B23=5,$AW23,0)","v":{"v":0,"d":"0.00"}},{"$f":"IF($B23=6,$AW23,0)","v":{"v":0,"d":"0.00"}},{"$f":"IF(BD22>0,IF(H23+P23+X23+AF23+AN23+AV23+BL23+BT23+CB23+CJ23=0,IF(E23>0,BD22,0),0),0)","v":0},{"$f":"G23*BD23","v":{"v":0,"d":"0.00"}},{"$f":"IF($B23=1,$BE23,0)","v":{"v":0,"d":"0.00"}},{"$f":"IF($B23=2,$BE23,0)","v":{"v":0,"d":"0.00"}},{"$f":"IF($B23=3,$BE23,0)","v":{"v":0,"d":"0.00"}},{"$f":"IF($B23=4,$BE23,0)","v":{"v":0,"d":"0.00"}},{"$f":"IF($B23=5,$BE23,0)","v":{"v":0,"d":"0.00"}},{"$f":"IF($B23=6,$BE23,0)","v":{"v":0,"d":"0.00"}},{"$f":"IF(BL22>0,IF(H23+P23+X23+AF23+AN23+AV23+BD23+BT23+CB23+CJ23=0,IF(E23>0,BL22,0),0),0)","v":0},{"$f":"G23*BL23","v":{"v":0,"d":"0.00"}},{"$f":"IF($B23=1,$BM23,0)","v":{"v":0,"d":"0.00"}},{"$f":"IF($B23=2,$BM23,0)","v":{"v":0,"d":"0.00"}},{"$f":"IF($B23=3,$BM23,0)","v":{"v":0,"d":"0.00"}},{"$f":"IF($B23=4,$BM23,0)","v":{"v":0,"d":"0.00"}},{"$f":"IF($B23=5,$BM23,0)","v":{"v":0,"d":"0.00"}},{"$f":"IF($B23=6,$BM23,0)","v":{"v":0,"d":"0.00"}},{"$f":"IF(BT22>0,IF(H23+P23+X23+AF23+AN23+AV23+BD23+BL23+CB23+CJ23=0,IF(E23>0,BT22,0),0),0)","v":0},{"$f":"G23*BT23","v":{"v":0,"d":"0.00"}},{"$f":"IF($B23=1,$BU23,0)","v":{"v":0,"d":"0.00"}},{"$f":"IF($B23=2,$BU23,0)","v":{"v":0,"d":"0.00"}},{"$f":"IF($B23=3,$BU23,0)","v":{"v":0,"d":"0.00"}},{"$f":"IF($B23=4,$BU23,0)","v":{"v":0,"d":"0.00"}},{"$f":"IF($B23=5,$BU23,0)","v":{"v":0,"d":"0.00"}},{"$f":"IF($B23=6,$BU23,0)","v":{"v":0,"d":"0.00"}},{"$f":"IF(CB22>0,IF(H23+P23+X23+AF23+AN23+AV23+BD23+BL23+BT23+CJ23=0,IF(E23>0,CB22,0),0),0)","v":0},{"$f":"G23*CB23","v":{"v":0,"d":"0.00"}},{"$f":"IF($B23=1,$CC23,0)","v":{"v":0,"d":"0.00"}},{"$f":"IF($B23=2,$CC23,0)","v":{"v":0,"d":"0.00"}},{"$f":"IF($B23=3,$CC23,0)","v":{"v":0,"d":"0.00"}},{"$f":"IF($B23=4,$CC23,0)","v":{"v":0,"d":"0.00"}},{"$f":"IF($B23=5,$CC23,0)","v":{"v":0,"d":"0.00"}},{"$f":"IF($B23=6,$CC23,0)","v":{"v":0,"d":"0.00"}},{"$f":"IF(CJ22>0,IF(H23+P23+X23+AF23+AN23+AV23+BD23+BL23+BT23+CB23=0,IF(E23>0,CJ22,0),0),0)","v":0},{"$f":"G23*CJ23","v":{"v":0,"d":"0.00"}},{"$f":"IF($B23=1,$CK23,0)","v":{"v":0,"d":"0.00"}},{"$f":"IF($B23=2,$CK23,0)","v":{"v":0,"d":"0.00"}},{"$f":"IF($B23=3,$CK23,0)","v":{"v":0,"d":"0.00"}},{"$f":"IF($B23=4,$CK23,0)","v":{"v":0,"d":"0.00"}},{"$f":"IF($B23=5,$CK23,0)","v":{"v":0,"d":"0.00"}},{"$f":"IF($B23=6,$CK23,0)","v":{"v":0,"d":"0.00"}}]
[{"$f":"IF(C23<>C24,C24,\"\")","v":""},{"$f":"IF(C23<>C24,_xlfn.DAYS(C24,C23)+B23,B23)","v":1},{"$f":"IF(D24>0,IF(D24<E23,C23+1,C23),C23)","v":"2009-02-09"},{"$f":"IF((E24+H24+P24+X24+AF24+AN24+AV24+BD24+BL24+BT24+CB24+CJ24)>0,E23,0)","v":"00:00:00"},null,{"$f":"E24-D24","v":"00:00:00"},{"$f":"IF(E24>0,HOUR(F24)+(MINUTE(F24)/60),0)","v":0},{"$f":"IF(H23>0,IF(P24+X24+AF24+AN24+AV24+BD24+BL24+BT24+CB24+CJ24=0,IF(E24>0,H23,0),0),0)","v":0},{"$f":"G24*H24","v":{"v":0,"d":"0.00"}},{"$f":"IF($B24=1,$I24,0)","v":{"v":0,"d":"0.00"}},{"$f":"IF($B24=2,$I24,0)","v":{"v":0,"d":"0.00"}},{"$f":"IF($B24=3,$I24,0)","v":{"v":0,"d":"0.00"}},{"$f":"IF($B24=4,$I24,0)","v":{"v":0,"d":"0.00"}},{"$f":"IF($B24=5,$I24,0)","v":{"v":0,"d":"0.00"}},{"$f":"IF($B24=6,$I24,0)","v":{"v":0,"d":"0.00"}},{"$f":"IF(P23>0,IF(H24+X24+AF24+AN24+AV24+BD24+BL24+BT24+CB24+CJ24=0,IF(E24>0,P23,0),0),0)","v":0},{"$f":"G24*P24","v":{"v":0,"d":"0.00"}},{"$f":"IF(B24=1,Q24,0)","v":{"v":0,"d":"0.00"}},{"$f":"IF(B24=2,Q24,0)","v":{"v":0,"d":"0.00"}},{"$f":"IF(B24=3,Q24,0)","v":{"v":0,"d":"0.00"}},{"$f":"IF(B24=4,Q24,0)","v":{"v":0,"d":"0.00"}},{"$f":"IF(B24=5,Q24,0)","v":{"v":0,"d":"0.00"}},{"$f":"IF(B24=6,Q24,0)","v":{"v":0,"d":"0.00"}},{"$f":"IF(X23>0,IF(H24+P24+AF24+AN24+AV24+BD24+BL24+BT24+CB24+CJ24=0,IF(E24>0,X23,0),0),0)","v":0},{"$f":"G24*X24","v":{"v":0,"d":"0.00"}},{"$f":"IF($B24=1,$Y24,0)","v":{"v":0,"d":"0.00"}},{"$f":"IF($B24=2,$Y24,0)","v":{"v":0,"d":"0.00"}},{"$f":"IF($B24=3,$Y24,0)","v":{"v":0,"d":"0.00"}},{"$f":"IF($B24=4,$Y24,0)","v":{"v":0,"d":"0.00"}},{"$f":"IF($B24=5,$Y24,0)","v":{"v":0,"d":"0.00"}},{"$f":"IF($B24=6,$Y24,0)","v":{"v":0,"d":"0.00"}},{"$f":"IF(AF23>0,IF(H24+P24+X24+AN24+AV24+BD24+BL24+BT24+CB24+CJ24=0,IF(E24>0,AF23,0),0),0)","v":0},{"$f":"G24*AF24","v":{"v":0,"d":"0.00"}},{"$f":"IF($B24=1,$AG24,0)","v":{"v":0,"d":"0.00"}},{"$f":"IF($B24=2,$AG24,0)","v":{"v":0,"d":"0.00"}},{"$f":"IF($B24=3,$AG24,0)","v":{"v":0,"d":"0.00"}},{"$f":"IF($B24=4,$AG24,0)","v":{"v":0,"d":"0.00"}},{"$f":"IF($B24=5,$AG24,0)","v":{"v":0,"d":"0.00"}},{"$f":"IF($B24=6,$AG24,0)","v":{"v":0,"d":"0.00"}},{"$f":"IF(AN23>0,IF(H24+P24+X24+AF24+AV24+BD24+BL24+BT24+CB24+CJ24=0,IF(E24>0,AN23,0),0),0)","v":0},{"$f":"G24*AN24","v":{"v":0,"d":"0.00"}},{"$f":"IF($B24=1,$AO24,0)","v":{"v":0,"d":"0.00"}},{"$f":"IF($B24=2,$AO24,0)","v":{"v":0,"d":"0.00"}},{"$f":"IF($B24=3,$AO24,0)","v":{"v":0,"d":"0.00"}},{"$f":"IF($B24=4,$AO24,0)","v":{"v":0,"d":"0.00"}},{"$f":"IF($B24=5,$AO24,0)","v":{"v":0,"d":"0.00"}},{"$f":"IF($B24=6,$AO24,0)","v":{"v":0,"d":"0.00"}},{"$f":"IF(AV23>0,IF(H24+P24+X24+AF24+AN24+BD24+BL24+BT24+CB24+CJ24=0,IF(E24>0,AV23,0),0),0)","v":0},{"$f":"G24*AV24","v":{"v":0,"d":"0.00"}},{"$f":"IF($B24=1,$AW24,0)","v":{"v":0,"d":"0.00"}},{"$f":"IF($B24=2,$AW24,0)","v":{"v":0,"d":"0.00"}},{"$f":"IF($B24=3,$AW24,0)","v":{"v":0,"d":"0.00"}},{"$f":"IF($B24=4,$AW24,0)","v":{"v":0,"d":"0.00"}},{"$f":"IF($B24=5,$AW24,0)","v":{"v":0,"d":"0.00"}},{"$f":"IF($B24=6,$AW24,0)","v":{"v":0,"d":"0.00"}},{"$f":"IF(BD23>0,IF(H24+P24+X24+AF24+AN24+AV24+BL24+BT24+CB24+CJ24=0,IF(E24>0,BD23,0),0),0)","v":0},{"$f":"G24*BD24","v":{"v":0,"d":"0.00"}},{"$f":"IF($B24=1,$BE24,0)","v":{"v":0,"d":"0.00"}},{"$f":"IF($B24=2,$BE24,0)","v":{"v":0,"d":"0.00"}},{"$f":"IF($B24=3,$BE24,0)","v":{"v":0,"d":"0.00"}},{"$f":"IF($B24=4,$BE24,0)","v":{"v":0,"d":"0.00"}},{"$f":"IF($B24=5,$BE24,0)","v":{"v":0,"d":"0.00"}},{"$f":"IF($B24=6,$BE24,0)","v":{"v":0,"d":"0.00"}},{"$f":"IF(BL23>0,IF(H24+P24+X24+AF24+AN24+AV24+BD24+BT24+CB24+CJ24=0,IF(E24>0,BL23,0),0),0)","v":0},{"$f":"G24*BL24","v":{"v":0,"d":"0.00"}},{"$f":"IF($B24=1,$BM24,0)","v":{"v":0,"d":"0.00"}},{"$f":"IF($B24=2,$BM24,0)","v":{"v":0,"d":"0.00"}},{"$f":"IF($B24=3,$BM24,0)","v":{"v":0,"d":"0.00"}},{"$f":"IF($B24=4,$BM24,0)","v":{"v":0,"d":"0.00"}},{"$f":"IF($B24=5,$BM24,0)","v":{"v":0,"d":"0.00"}},{"$f":"IF($B24=6,$BM24,0)","v":{"v":0,"d":"0.00"}},{"$f":"IF(BT23>0,IF(H24+P24+X24+AF24+AN24+AV24+BD24+BL24+CB24+CJ24=0,IF(E24>0,BT23,0),0),0)","v":0},{"$f":"G24*BT24","v":{"v":0,"d":"0.00"}},{"$f":"IF($B24=1,$BU24,0)","v":{"v":0,"d":"0.00"}},{"$f":"IF($B24=2,$BU24,0)","v":{"v":0,"d":"0.00"}},{"$f":"IF($B24=3,$BU24,0)","v":{"v":0,"d":"0.00"}},{"$f":"IF($B24=4,$BU24,0)","v":{"v":0,"d":"0.00"}},{"$f":"IF($B24=5,$BU24,0)","v":{"v":0,"d":"0.00"}},{"$f":"IF($B24=6,$BU24,0)","v":{"v":0,"d":"0.00"}},{"$f":"IF(CB23>0,IF(H24+P24+X24+AF24+AN24+AV24+BD24+BL24+BT24+CJ24=0,IF(E24>0,CB23,0),0),0)","v":0},{"$f":"G24*CB24","v":{"v":0,"d":"0.00"}},{"$f":"IF($B24=1,$CC24,0)","v":{"v":0,"d":"0.00"}},{"$f":"IF($B24=2,$CC24,0)","v":{"v":0,"d":"0.00"}},{"$f":"IF($B24=3,$CC24,0)","v":{"v":0,"d":"0.00"}},{"$f":"IF($B24=4,$CC24,0)","v":{"v":0,"d":"0.00"}},{"$f":"IF($B24=5,$CC24,0)","v":{"v":0,"d":"0.00"}},{"$f":"IF($B24=6,$CC24,0)","v":{"v":0,"d":"0.00"}},{"$f":"IF(CJ23>0,IF(H24+P24+X24+AF24+AN24+AV24+BD24+BL24+BT24+CB24=0,IF(E24>0,CJ23,0),0),0)","v":0},{"$f":"G24*CJ24","v":{"v":0,"d":"0.00"}},{"$f":"IF($B24=1,$CK24,0)","v":{"v":0,"d":"0.00"}},{"$f":"IF($B24=2,$CK24,0)","v":{"v":0,"d":"0.00"}},{"$f":"IF($B24=3,$CK24,0)","v":{"v":0,"d":"0.00"}},{"$f":"IF($B24=4,$CK24,0)","v":{"v":0,"d":"0.00"}},{"$f":"IF($B24=5,$CK24,0)","v":{"v":0,"d":"0.00"}},{"$f":"IF($B24=6,$CK24,0)","v":{"v":0,"d":"0.00"}}]
[{"$f":"IF(C24<>C25,C25,\"\")","v":""},{"$f":"IF(C24<>C25,_xlfn.DAYS(C25,C24)+B24,B24)","v":1},{"$f":"IF(D25>0,IF(D25<E24,C24+1,C24),C24)","v":"2009-02-09"},{"$f":"IF((E25+H25+P25+X25+AF25+AN25+AV25+BD25+BL25+BT25+CB25+CJ25)>0,E24,0)","v":"00:00:00"},null,{"$f":"E25-D25","v":"00:00:00"},{"$f":"IF(E25>0,HOUR(F25)+(MINUTE(F25)/60),0)","v":0},{"$f":"IF(H24>0,IF(P25+X25+AF25+AN25+AV25+BD25+BL25+BT25+CB25+CJ25=0,IF(E25>0,H24,0),0),0)","v":0},{"$f":"G25*H25","v":{"v":0,"d":"0.00"}},{"$f":"IF($B25=1,$I25,0)","v":{"v":0,"d":"0.00"}},{"$f":"IF($B25=2,$I25,0)","v":{"v":0,"d":"0.00"}},{"$f":"IF($B25=3,$I25,0)","v":{"v":0,"d":"0.00"}},{"$f":"IF($B25=4,$I25,0)","v":{"v":0,"d":"0.00"}},{"$f":"IF($B25=5,$I25,0)","v":{"v":0,"d":"0.00"}},{"$f":"IF($B25=6,$I25,0)","v":{"v":0,"d":"0.00"}},{"$f":"IF(P24>0,IF(H25+X25+AF25+AN25+AV25+BD25+BL25+BT25+CB25+CJ25=0,IF(E25>0,P24,0),0),0)","v":0},{"$f":"G25*P25","v":{"v":0,"d":"0.00"}},{"$f":"IF(B25=1,Q25,0)","v":{"v":0,"d":"0.00"}},{"$f":"IF(B25=2,Q25,0)","v":{"v":0,"d":"0.00"}},{"$f":"IF(B25=3,Q25,0)","v":{"v":0,"d":"0.00"}},{"$f":"IF(B25=4,Q25,0)","v":{"v":0,"d":"0.00"}},{"$f":"IF(B25=5,Q25,0)","v":{"v":0,"d":"0.00"}},{"$f":"IF(B25=6,Q25,0)","v":{"v":0,"d":"0.00"}},{"$f":"IF(X24>0,IF(H25+P25+AF25+AN25+AV25+BD25+BL25+BT25+CB25+CJ25=0,IF(E25>0,X24,0),0),0)","v":0},{"$f":"G25*X25","v":{"v":0,"d":"0.00"}},{"$f":"IF($B25=1,$Y25,0)","v":{"v":0,"d":"0.00"}},{"$f":"IF($B25=2,$Y25,0)","v":{"v":0,"d":"0.00"}},{"$f":"IF($B25=3,$Y25,0)","v":{"v":0,"d":"0.00"}},{"$f":"IF($B25=4,$Y25,0)","v":{"v":0,"d":"0.00"}},{"$f":"IF($B25=5,$Y25,0)","v":{"v":0,"d":"0.00"}},{"$f":"IF($B25=6,$Y25,0)","v":{"v":0,"d":"0.00"}},{"$f":"IF(AF24>0,IF(H25+P25+X25+AN25+AV25+BD25+BL25+BT25+CB25+CJ25=0,IF(E25>0,AF24,0),0),0)","v":0},{"$f":"G25*AF25","v":{"v":0,"d":"0.00"}},{"$f":"IF($B25=1,$AG25,0)","v":{"v":0,"d":"0.00"}},{"$f":"IF($B25=2,$AG25,0)","v":{"v":0,"d":"0.00"}},{"$f":"IF($B25=3,$AG25,0)","v":{"v":0,"d":"0.00"}},{"$f":"IF($B25=4,$AG25,0)","v":{"v":0,"d":"0.00"}},{"$f":"IF($B25=5,$AG25,0)","v":{"v":0,"d":"0.00"}},{"$f":"IF($B25=6,$AG25,0)","v":{"v":0,"d":"0.00"}},{"$f":"IF(AN24>0,IF(H25+P25+X25+AF25+AV25+BD25+BL25+BT25+CB25+CJ25=0,IF(E25>0,AN24,0),0),0)","v":0},{"$f":"G25*AN25","v":{"v":0,"d":"0.00"}},{"$f":"IF($B25=1,$AO25,0)","v":{"v":0,"d":"0.00"}},{"$f":"IF($B25=2,$AO25,0)","v":{"v":0,"d":"0.00"}},{"$f":"IF($B25=3,$AO25,0)","v":{"v":0,"d":"0.00"}},{"$f":"IF($B25=4,$AO25,0)","v":{"v":0,"d":"0.00"}},{"$f":"IF($B25=5,$AO25,0)","v":{"v":0,"d":"0.00"}},{"$f":"IF($B25=6,$AO25,0)","v":{"v":0,"d":"0.00"}},{"$f":"IF(AV24>0,IF(H25+P25+X25+AF25+AN25+BD25+BL25+BT25+CB25+CJ25=0,IF(E25>0,AV24,0),0),0)","v":0},{"$f":"G25*AV25","v":{"v":0,"d":"0.00"}},{"$f":"IF($B25=1,$AW25,0)","v":{"v":0,"d":"0.00"}},{"$f":"IF($B25=2,$AW25,0)","v":{"v":0,"d":"0.00"}},{"$f":"IF($B25=3,$AW25,0)","v":{"v":0,"d":"0.00"}},{"$f":"IF($B25=4,$AW25,0)","v":{"v":0,"d":"0.00"}},{"$f":"IF($B25=5,$AW25,0)","v":{"v":0,"d":"0.00"}},{"$f":"IF($B25=6,$AW25,0)","v":{"v":0,"d":"0.00"}},{"$f":"IF(BD24>0,IF(H25+P25+X25+AF25+AN25+AV25+BL25+BT25+CB25+CJ25=0,IF(E25>0,BD24,0),0),0)","v":0},{"$f":"G25*BD25","v":{"v":0,"d":"0.00"}},{"$f":"IF($B25=1,$BE25,0)","v":{"v":0,"d":"0.00"}},{"$f":"IF($B25=2,$BE25,0)","v":{"v":0,"d":"0.00"}},{"$f":"IF($B25=3,$BE25,0)","v":{"v":0,"d":"0.00"}},{"$f":"IF($B25=4,$BE25,0)","v":{"v":0,"d":"0.00"}},{"$f":"IF($B25=5,$BE25,0)","v":{"v":0,"d":"0.00"}},{"$f":"IF($B25=6,$BE25,0)","v":{"v":0,"d":"0.00"}},{"$f":"IF(BL24>0,IF(H25+P25+X25+AF25+AN25+AV25+BD25+BT25+CB25+CJ25=0,IF(E25>0,BL24,0),0),0)","v":0},{"$f":"G25*BL25","v":{"v":0,"d":"0.00"}},{"$f":"IF($B25=1,$BM25,0)","v":{"v":0,"d":"0.00"}},{"$f":"IF($B25=2,$BM25,0)","v":{"v":0,"d":"0.00"}},{"$f":"IF($B25=3,$BM25,0)","v":{"v":0,"d":"0.00"}},{"$f":"IF($B25=4,$BM25,0)","v":{"v":0,"d":"0.00"}},{"$f":"IF($B25=5,$BM25,0)","v":{"v":0,"d":"0.00"}},{"$f":"IF($B25=6,$BM25,0)","v":{"v":0,"d":"0.00"}},{"$f":"IF(BT24>0,IF(H25+P25+X25+AF25+AN25+AV25+BD25+BL25+CB25+CJ25=0,IF(E25>0,BT24,0),0),0)","v":0},{"$f":"G25*BT25","v":{"v":0,"d":"0.00"}},{"$f":"IF($B25=1,$BU25,0)","v":{"v":0,"d":"0.00"}},{"$f":"IF($B25=2,$BU25,0)","v":{"v":0,"d":"0.00"}},{"$f":"IF($B25=3,$BU25,0)","v":{"v":0,"d":"0.00"}},{"$f":"IF($B25=4,$BU25,0)","v":{"v":0,"d":"0.00"}},{"$f":"IF($B25=5,$BU25,0)","v":{"v":0,"d":"0.00"}},{"$f":"IF($B25=6,$BU25,0)","v":{"v":0,"d":"0.00"}},{"$f":"IF(CB24>0,IF(H25+P25+X25+AF25+AN25+AV25+BD25+BL25+BT25+CJ25=0,IF(E25>0,CB24,0),0),0)","v":0},{"$f":"G25*CB25","v":{"v":0,"d":"0.00"}},{"$f":"IF($B25=1,$CC25,0)","v":{"v":0,"d":"0.00"}},{"$f":"IF($B25=2,$CC25,0)","v":{"v":0,"d":"0.00"}},{"$f":"IF($B25=3,$CC25,0)","v":{"v":0,"d":"0.00"}},{"$f":"IF($B25=4,$CC25,0)","v":{"v":0,"d":"0.00"}},{"$f":"IF($B25=5,$CC25,0)","v":{"v":0,"d":"0.00"}},{"$f":"IF($B25=6,$CC25,0)","v":{"v":0,"d":"0.00"}},{"$f":"IF(CJ24>0,IF(H25+P25+X25+AF25+AN25+AV25+BD25+BL25+BT25+CB25=0,IF(E25>0,CJ24,0),0),0)","v":0},{"$f":"G25*CJ25","v":{"v":0,"d":"0.00"}},{"$f":"IF($B25=1,$CK25,0)","v":{"v":0,"d":"0.00"}},{"$f":"IF($B25=2,$CK25,0)","v":{"v":0,"d":"0.00"}},{"$f":"IF($B25=3,$CK25,0)","v":{"v":0,"d":"0.00"}},{"$f":"IF($B25=4,$CK25,0)","v":{"v":0,"d":"0.00"}},{"$f":"IF($B25=5,$CK25,0)","v":{"v":0,"d":"0.00"}},{"$f":"IF($B25=6,$CK25,0)","v":{"v":0,"d":"0.00"}}]
[{"$f":"IF(C25<>C26,C26,\"\")","v":""},{"$f":"IF(C25<>C26,_xlfn.DAYS(C26,C25)+B25,B25)","v":1},{"$f":"IF(D26>0,IF(D26<E25,C25+1,C25),C25)","v":"2009-02-09"},{"$f":"IF((E26+H26+P26+X26+AF26+AN26+AV26+BD26+BL26+BT26+CB26+CJ26)>0,E25,0)","v":"00:00:00"},null,{"$f":"E26-D26","v":"00:00:00"},{"$f":"IF(E26>0,HOUR(F26)+(MINUTE(F26)/60),0)","v":0},{"$f":"IF(H25>0,IF(P26+X26+AF26+AN26+AV26+BD26+BL26+BT26+CB26+CJ26=0,IF(E26>0,H25,0),0),0)","v":0},{"$f":"G26*H26","v":{"v":0,"d":"0.00"}},{"$f":"IF($B26=1,$I26,0)","v":{"v":0,"d":"0.00"}},{"$f":"IF($B26=2,$I26,0)","v":{"v":0,"d":"0.00"}},{"$f":"IF($B26=3,$I26,0)","v":{"v":0,"d":"0.00"}},{"$f":"IF($B26=4,$I26,0)","v":{"v":0,"d":"0.00"}},{"$f":"IF($B26=5,$I26,0)","v":{"v":0,"d":"0.00"}},{"$f":"IF($B26=6,$I26,0)","v":{"v":0,"d":"0.00"}},{"$f":"IF(P25>0,IF(H26+X26+AF26+AN26+AV26+BD26+BL26+BT26+CB26+CJ26=0,IF(E26>0,P25,0),0),0)","v":0},{"$f":"G26*P26","v":{"v":0,"d":"0.00"}},{"$f":"IF(B26=1,Q26,0)","v":{"v":0,"d":"0.00"}},{"$f":"IF(B26=2,Q26,0)","v":{"v":0,"d":"0.00"}},{"$f":"IF(B26=3,Q26,0)","v":{"v":0,"d":"0.00"}},{"$f":"IF(B26=4,Q26,0)","v":{"v":0,"d":"0.00"}},{"$f":"IF(B26=5,Q26,0)","v":{"v":0,"d":"0.00"}},{"$f":"IF(B26=6,Q26,0)","v":{"v":0,"d":"0.00"}},{"$f":"IF(X25>0,IF(H26+P26+AF26+AN26+AV26+BD26+BL26+BT26+CB26+CJ26=0,IF(E26>0,X25,0),0),0)","v":0},{"$f":"G26*X26","v":{"v":0,"d":"0.00"}},{"$f":"IF($B26=1,$Y26,0)","v":{"v":0,"d":"0.00"}},{"$f":"IF($B26=2,$Y26,0)","v":{"v":0,"d":"0.00"}},{"$f":"IF($B26=3,$Y26,0)","v":{"v":0,"d":"0.00"}},{"$f":"IF($B26=4,$Y26,0)","v":{"v":0,"d":"0.00"}},{"$f":"IF($B26=5,$Y26,0)","v":{"v":0,"d":"0.00"}},{"$f":"IF($B26=6,$Y26,0)","v":{"v":0,"d":"0.00"}},{"$f":"IF(AF25>0,IF(H26+P26+X26+AN26+AV26+BD26+BL26+BT26+CB26+CJ26=0,IF(E26>0,AF25,0),0),0)","v":0},{"$f":"G26*AF26","v":{"v":0,"d":"0.00"}},{"$f":"IF($B26=1,$AG26,0)","v":{"v":0,"d":"0.00"}},{"$f":"IF($B26=2,$AG26,0)","v":{"v":0,"d":"0.00"}},{"$f":"IF($B26=3,$AG26,0)","v":{"v":0,"d":"0.00"}},{"$f":"IF($B26=4,$AG26,0)","v":{"v":0,"d":"0.00"}},{"$f":"IF($B26=5,$AG26,0)","v":{"v":0,"d":"0.00"}},{"$f":"IF($B26=6,$AG26,0)","v":{"v":0,"d":"0.00"}},{"$f":"IF(AN25>0,IF(H26+P26+X26+AF26+AV26+BD26+BL26+BT26+CB26+CJ26=0,IF(E26>0,AN25,0),0),0)","v":0},{"$f":"G26*AN26","v":{"v":0,"d":"0.00"}},{"$f":"IF($B26=1,$AO26,0)","v":{"v":0,"d":"0.00"}},{"$f":"IF($B26=2,$AO26,0)","v":{"v":0,"d":"0.00"}},{"$f":"IF($B26=3,$AO26,0)","v":{"v":0,"d":"0.00"}},{"$f":"IF($B26=4,$AO26,0)","v":{"v":0,"d":"0.00"}},{"$f":"IF($B26=5,$AO26,0)","v":{"v":0,"d":"0.00"}},{"$f":"IF($B26=6,$AO26,0)","v":{"v":0,"d":"0.00"}},{"$f":"IF(AV25>0,IF(H26+P26+X26+AF26+AN26+BD26+BL26+BT26+CB26+CJ26=0,IF(E26>0,AV25,0),0),0)","v":0},{"$f":"G26*AV26","v":{"v":0,"d":"0.00"}},{"$f":"IF($B26=1,$AW26,0)","v":{"v":0,"d":"0.00"}},{"$f":"IF($B26=2,$AW26,0)","v":{"v":0,"d":"0.00"}},{"$f":"IF($B26=3,$AW26,0)","v":{"v":0,"d":"0.00"}},{"$f":"IF($B26=4,$AW26,0)","v":{"v":0,"d":"0.00"}},{"$f":"IF($B26=5,$AW26,0)","v":{"v":0,"d":"0.00"}},{"$f":"IF($B26=6,$AW26,0)","v":{"v":0,"d":"0.00"}},{"$f":"IF(BD25>0,IF(H26+P26+X26+AF26+AN26+AV26+BL26+BT26+CB26+CJ26=0,IF(E26>0,BD25,0),0),0)","v":0},{"$f":"G26*BD26","v":{"v":0,"d":"0.00"}},{"$f":"IF($B26=1,$BE26,0)","v":{"v":0,"d":"0.00"}},{"$f":"IF($B26=2,$BE26,0)","v":{"v":0,"d":"0.00"}},{"$f":"IF($B26=3,$BE26,0)","v":{"v":0,"d":"0.00"}},{"$f":"IF($B26=4,$BE26,0)","v":{"v":0,"d":"0.00"}},{"$f":"IF($B26=5,$BE26,0)","v":{"v":0,"d":"0.00"}},{"$f":"IF($B26=6,$BE26,0)","v":{"v":0,"d":"0.00"}},{"$f":"IF(BL25>0,IF(H26+P26+X26+AF26+AN26+AV26+BD26+BT26+CB26+CJ26=0,IF(E26>0,BL25,0),0),0)","v":0},{"$f":"G26*BL26","v":{"v":0,"d":"0.00"}},{"$f":"IF($B26=1,$BM26,0)","v":{"v":0,"d":"0.00"}},{"$f":"IF($B26=2,$BM26,0)","v":{"v":0,"d":"0.00"}},{"$f":"IF($B26=3,$BM26,0)","v":{"v":0,"d":"0.00"}},{"$f":"IF($B26=4,$BM26,0)","v":{"v":0,"d":"0.00"}},{"$f":"IF($B26=5,$BM26,0)","v":{"v":0,"d":"0.00"}},{"$f":"IF($B26=6,$BM26,0)","v":{"v":0,"d":"0.00"}},{"$f":"IF(BT25>0,IF(H26+P26+X26+AF26+AN26+AV26+BD26+BL26+CB26+CJ26=0,IF(E26>0,BT25,0),0),0)","v":0},{"$f":"G26*BT26","v":{"v":0,"d":"0.00"}},{"$f":"IF($B26=1,$BU26,0)","v":{"v":0,"d":"0.00"}},{"$f":"IF($B26=2,$BU26,0)","v":{"v":0,"d":"0.00"}},{"$f":"IF($B26=3,$BU26,0)","v":{"v":0,"d":"0.00"}},{"$f":"IF($B26=4,$BU26,0)","v":{"v":0,"d":"0.00"}},{"$f":"IF($B26=5,$BU26,0)","v":{"v":0,"d":"0.00"}},{"$f":"IF($B26=6,$BU26,0)","v":{"v":0,"d":"0.00"}},{"$f":"IF(CB25>0,IF(H26+P26+X26+AF26+AN26+AV26+BD26+BL26+BT26+CJ26=0,IF(E26>0,CB25,0),0),0)","v":0},{"$f":"G26*CB26","v":{"v":0,"d":"0.00"}},{"$f":"IF($B26=1,$CC26,0)","v":{"v":0,"d":"0.00"}},{"$f":"IF($B26=2,$CC26,0)","v":{"v":0,"d":"0.00"}},{"$f":"IF($B26=3,$CC26,0)","v":{"v":0,"d":"0.00"}},{"$f":"IF($B26=4,$CC26,0)","v":{"v":0,"d":"0.00"}},{"$f":"IF($B26=5,$CC26,0)","v":{"v":0,"d":"0.00"}},{"$f":"IF($B26=6,$CC26,0)","v":{"v":0,"d":"0.00"}},{"$f":"IF(CJ25>0,IF(H26+P26+X26+AF26+AN26+AV26+BD26+BL26+BT26+CB26=0,IF(E26>0,CJ25,0),0),0)","v":0},{"$f":"G26*CJ26","v":{"v":0,"d":"0.00"}},{"$f":"IF($B26=1,$CK26,0)","v":{"v":0,"d":"0.00"}},{"$f":"IF($B26=2,$CK26,0)","v":{"v":0,"d":"0.00"}},{"$f":"IF($B26=3,$CK26,0)","v":{"v":0,"d":"0.00"}},{"$f":"IF($B26=4,$CK26,0)","v":{"v":0,"d":"0.00"}},{"$f":"IF($B26=5,$CK26,0)","v":{"v":0,"d":"0.00"}},{"$f":"IF($B26=6,$CK26,0)","v":{"v":0,"d":"0.00"}}]
[{"$f":"IF(C26<>C27,C27,\"\")","v":""},{"$f":"IF(C26<>C27,_xlfn.DAYS(C27,C26)+B26,B26)","v":1},{"$f":"IF(D27>0,IF(D27<E26,C26+1,C26),C26)","v":"2009-02-09"},{"$f":"IF((E27+H27+P27+X27+AF27+AN27+AV27+BD27+BL27+BT27+CB27+CJ27)>0,E26,0)","v":"00:00:00"},null,{"$f":"E27-D27","v":"00:00:00"},{"$f":"IF(E27>0,HOUR(F27)+(MINUTE(F27)/60),0)","v":0},{"$f":"IF(H26>0,IF(P27+X27+AF27+AN27+AV27+BD27+BL27+BT27+CB27+CJ27=0,IF(E27>0,H26,0),0),0)","v":0},{"$f":"G27*H27","v":{"v":0,"d":"0.00"}},{"$f":"IF($B27=1,$I27,0)","v":{"v":0,"d":"0.00"}},{"$f":"IF($B27=2,$I27,0)","v":{"v":0,"d":"0.00"}},{"$f":"IF($B27=3,$I27,0)","v":{"v":0,"d":"0.00"}},{"$f":"IF($B27=4,$I27,0)","v":{"v":0,"d":"0.00"}},{"$f":"IF($B27=5,$I27,0)","v":{"v":0,"d":"0.00"}},{"$f":"IF($B27=6,$I27,0)","v":{"v":0,"d":"0.00"}},{"$f":"IF(P26>0,IF(H27+X27+AF27+AN27+AV27+BD27+BL27+BT27+CB27+CJ27=0,IF(E27>0,P26,0),0),0)","v":0},{"$f":"G27*P27","v":{"v":0,"d":"0.00"}},{"$f":"IF(B27=1,Q27,0)","v":{"v":0,"d":"0.00"}},{"$f":"IF(B27=2,Q27,0)","v":{"v":0,"d":"0.00"}},{"$f":"IF(B27=3,Q27,0)","v":{"v":0,"d":"0.00"}},{"$f":"IF(B27=4,Q27,0)","v":{"v":0,"d":"0.00"}},{"$f":"IF(B27=5,Q27,0)","v":{"v":0,"d":"0.00"}},{"$f":"IF(B27=6,Q27,0)","v":{"v":0,"d":"0.00"}},{"$f":"IF(X26>0,IF(H27+P27+AF27+AN27+AV27+BD27+BL27+BT27+CB27+CJ27=0,IF(E27>0,X26,0),0),0)","v":0},{"$f":"G27*X27","v":{"v":0,"d":"0.00"}},{"$f":"IF($B27=1,$Y27,0)","v":{"v":0,"d":"0.00"}},{"$f":"IF($B27=2,$Y27,0)","v":{"v":0,"d":"0.00"}},{"$f":"IF($B27=3,$Y27,0)","v":{"v":0,"d":"0.00"}},{"$f":"IF($B27=4,$Y27,0)","v":{"v":0,"d":"0.00"}},{"$f":"IF($B27=5,$Y27,0)","v":{"v":0,"d":"0.00"}},{"$f":"IF($B27=6,$Y27,0)","v":{"v":0,"d":"0.00"}},{"$f":"IF(AF26>0,IF(H27+P27+X27+AN27+AV27+BD27+BL27+BT27+CB27+CJ27=0,IF(E27>0,AF26,0),0),0)","v":0},{"$f":"G27*AF27","v":{"v":0,"d":"0.00"}},{"$f":"IF($B27=1,$AG27,0)","v":{"v":0,"d":"0.00"}},{"$f":"IF($B27=2,$AG27,0)","v":{"v":0,"d":"0.00"}},{"$f":"IF($B27=3,$AG27,0)","v":{"v":0,"d":"0.00"}},{"$f":"IF($B27=4,$AG27,0)","v":{"v":0,"d":"0.00"}},{"$f":"IF($B27=5,$AG27,0)","v":{"v":0,"d":"0.00"}},{"$f":"IF($B27=6,$AG27,0)","v":{"v":0,"d":"0.00"}},{"$f":"IF(AN26>0,IF(H27+P27+X27+AF27+AV27+BD27+BL27+BT27+CB27+CJ27=0,IF(E27>0,AN26,0),0),0)","v":0},{"$f":"G27*AN27","v":{"v":0,"d":"0.00"}},{"$f":"IF($B27=1,$AO27,0)","v":{"v":0,"d":"0.00"}},{"$f":"IF($B27=2,$AO27,0)","v":{"v":0,"d":"0.00"}},{"$f":"IF($B27=3,$AO27,0)","v":{"v":0,"d":"0.00"}},{"$f":"IF($B27=4,$AO27,0)","v":{"v":0,"d":"0.00"}},{"$f":"IF($B27=5,$AO27,0)","v":{"v":0,"d":"0.00"}},{"$f":"IF($B27=6,$AO27,0)","v":{"v":0,"d":"0.00"}},{"$f":"IF(AV26>0,IF(H27+P27+X27+AF27+AN27+BD27+BL27+BT27+CB27+CJ27=0,IF(E27>0,AV26,0),0),0)","v":0},{"$f":"G27*AV27","v":{"v":0,"d":"0.00"}},{"$f":"IF($B27=1,$AW27,0)","v":{"v":0,"d":"0.00"}},{"$f":"IF($B27=2,$AW27,0)","v":{"v":0,"d":"0.00"}},{"$f":"IF($B27=3,$AW27,0)","v":{"v":0,"d":"0.00"}},{"$f":"IF($B27=4,$AW27,0)","v":{"v":0,"d":"0.00"}},{"$f":"IF($B27=5,$AW27,0)","v":{"v":0,"d":"0.00"}},{"$f":"IF($B27=6,$AW27,0)","v":{"v":0,"d":"0.00"}},{"$f":"IF(BD26>0,IF(H27+P27+X27+AF27+AN27+AV27+BL27+BT27+CB27+CJ27=0,IF(E27>0,BD26,0),0),0)","v":0},{"$f":"G27*BD27","v":{"v":0,"d":"0.00"}},{"$f":"IF($B27=1,$BE27,0)","v":{"v":0,"d":"0.00"}},{"$f":"IF($B27=2,$BE27,0)","v":{"v":0,"d":"0.00"}},{"$f":"IF($B27=3,$BE27,0)","v":{"v":0,"d":"0.00"}},{"$f":"IF($B27=4,$BE27,0)","v":{"v":0,"d":"0.00"}},{"$f":"IF($B27=5,$BE27,0)","v":{"v":0,"d":"0.00"}},{"$f":"IF($B27=6,$BE27,0)","v":{"v":0,"d":"0.00"}},{"$f":"IF(BL26>0,IF(H27+P27+X27+AF27+AN27+AV27+BD27+BT27+CB27+CJ27=0,IF(E27>0,BL26,0),0),0)","v":0},{"$f":"G27*BL27","v":{"v":0,"d":"0.00"}},{"$f":"IF($B27=1,$BM27,0)","v":{"v":0,"d":"0.00"}},{"$f":"IF($B27=2,$BM27,0)","v":{"v":0,"d":"0.00"}},{"$f":"IF($B27=3,$BM27,0)","v":{"v":0,"d":"0.00"}},{"$f":"IF($B27=4,$BM27,0)","v":{"v":0,"d":"0.00"}},{"$f":"IF($B27=5,$BM27,0)","v":{"v":0,"d":"0.00"}},{"$f":"IF($B27=6,$BM27,0)","v":{"v":0,"d":"0.00"}},{"$f":"IF(BT26>0,IF(H27+P27+X27+AF27+AN27+AV27+BD27+BL27+CB27+CJ27=0,IF(E27>0,BT26,0),0),0)","v":0},{"$f":"G27*BT27","v":{"v":0,"d":"0.00"}},{"$f":"IF($B27=1,$BU27,0)","v":{"v":0,"d":"0.00"}},{"$f":"IF($B27=2,$BU27,0)","v":{"v":0,"d":"0.00"}},{"$f":"IF($B27=3,$BU27,0)","v":{"v":0,"d":"0.00"}},{"$f":"IF($B27=4,$BU27,0)","v":{"v":0,"d":"0.00"}},{"$f":"IF($B27=5,$BU27,0)","v":{"v":0,"d":"0.00"}},{"$f":"IF($B27=6,$BU27,0)","v":{"v":0,"d":"0.00"}},{"$f":"IF(CB26>0,IF(H27+P27+X27+AF27+AN27+AV27+BD27+BL27+BT27+CJ27=0,IF(E27>0,CB26,0),0),0)","v":0},{"$f":"G27*CB27","v":{"v":0,"d":"0.00"}},{"$f":"IF($B27=1,$CC27,0)","v":{"v":0,"d":"0.00"}},{"$f":"IF($B27=2,$CC27,0)","v":{"v":0,"d":"0.00"}},{"$f":"IF($B27=3,$CC27,0)","v":{"v":0,"d":"0.00"}},{"$f":"IF($B27=4,$CC27,0)","v":{"v":0,"d":"0.00"}},{"$f":"IF($B27=5,$CC27,0)","v":{"v":0,"d":"0.00"}},{"$f":"IF($B27=6,$CC27,0)","v":{"v":0,"d":"0.00"}},{"$f":"IF(CJ26>0,IF(H27+P27+X27+AF27+AN27+AV27+BD27+BL27+BT27+CB27=0,IF(E27>0,CJ26,0),0),0)","v":0},{"$f":"G27*CJ27","v":{"v":0,"d":"0.00"}},{"$f":"IF($B27=1,$CK27,0)","v":{"v":0,"d":"0.00"}},{"$f":"IF($B27=2,$CK27,0)","v":{"v":0,"d":"0.00"}},{"$f":"IF($B27=3,$CK27,0)","v":{"v":0,"d":"0.00"}},{"$f":"IF($B27=4,$CK27,0)","v":{"v":0,"d":"0.00"}},{"$f":"IF($B27=5,$CK27,0)","v":{"v":0,"d":"0.00"}},{"$f":"IF($B27=6,$CK27,0)","v":{"v":0,"d":"0.00"}}]
[{"$f":"IF(C27<>C28,C28,\"\")","v":""},{"$f":"IF(C27<>C28,_xlfn.DAYS(C28,C27)+B27,B27)","v":1},{"$f":"IF(D28>0,IF(D28<E27,C27+1,C27),C27)","v":"2009-02-09"},{"$f":"IF((E28+H28+P28+X28+AF28+AN28+AV28+BD28+BL28+BT28+CB28+CJ28)>0,E27,0)","v":"00:00:00"},null,{"$f":"E28-D28","v":"00:00:00"},{"$f":"IF(E28>0,HOUR(F28)+(MINUTE(F28)/60),0)","v":0},{"$f":"IF(H27>0,IF(P28+X28+AF28+AN28+AV28+BD28+BL28+BT28+CB28+CJ28=0,IF(E28>0,H27,0),0),0)","v":0},{"$f":"G28*H28","v":{"v":0,"d":"0.00"}},{"$f":"IF($B28=1,$I28,0)","v":{"v":0,"d":"0.00"}},{"$f":"IF($B28=2,$I28,0)","v":{"v":0,"d":"0.00"}},{"$f":"IF($B28=3,$I28,0)","v":{"v":0,"d":"0.00"}},{"$f":"IF($B28=4,$I28,0)","v":{"v":0,"d":"0.00"}},{"$f":"IF($B28=5,$I28,0)","v":{"v":0,"d":"0.00"}},{"$f":"IF($B28=6,$I28,0)","v":{"v":0,"d":"0.00"}},{"$f":"IF(P27>0,IF(H28+X28+AF28+AN28+AV28+BD28+BL28+BT28+CB28+CJ28=0,IF(E28>0,P27,0),0),0)","v":0},{"$f":"G28*P28","v":{"v":0,"d":"0.00"}},{"$f":"IF(B28=1,Q28,0)","v":{"v":0,"d":"0.00"}},{"$f":"IF(B28=2,Q28,0)","v":{"v":0,"d":"0.00"}},{"$f":"IF(B28=3,Q28,0)","v":{"v":0,"d":"0.00"}},{"$f":"IF(B28=4,Q28,0)","v":{"v":0,"d":"0.00"}},{"$f":"IF(B28=5,Q28,0)","v":{"v":0,"d":"0.00"}},{"$f":"IF(B28=6,Q28,0)","v":{"v":0,"d":"0.00"}},{"$f":"IF(X27>0,IF(H28+P28+AF28+AN28+AV28+BD28+BL28+BT28+CB28+CJ28=0,IF(E28>0,X27,0),0),0)","v":0},{"$f":"G28*X28","v":{"v":0,"d":"0.00"}},{"$f":"IF($B28=1,$Y28,0)","v":{"v":0,"d":"0.00"}},{"$f":"IF($B28=2,$Y28,0)","v":{"v":0,"d":"0.00"}},{"$f":"IF($B28=3,$Y28,0)","v":{"v":0,"d":"0.00"}},{"$f":"IF($B28=4,$Y28,0)","v":{"v":0,"d":"0.00"}},{"$f":"IF($B28=5,$Y28,0)","v":{"v":0,"d":"0.00"}},{"$f":"IF($B28=6,$Y28,0)","v":{"v":0,"d":"0.00"}},{"$f":"IF(AF27>0,IF(H28+P28+X28+AN28+AV28+BD28+BL28+BT28+CB28+CJ28=0,IF(E28>0,AF27,0),0),0)","v":0},{"$f":"G28*AF28","v":{"v":0,"d":"0.00"}},{"$f":"IF($B28=1,$AG28,0)","v":{"v":0,"d":"0.00"}},{"$f":"IF($B28=2,$AG28,0)","v":{"v":0,"d":"0.00"}},{"$f":"IF($B28=3,$AG28,0)","v":{"v":0,"d":"0.00"}},{"$f":"IF($B28=4,$AG28,0)","v":{"v":0,"d":"0.00"}},{"$f":"IF($B28=5,$AG28,0)","v":{"v":0,"d":"0.00"}},{"$f":"IF($B28=6,$AG28,0)","v":{"v":0,"d":"0.00"}},{"$f":"IF(AN27>0,IF(H28+P28+X28+AF28+AV28+BD28+BL28+BT28+CB28+CJ28=0,IF(E28>0,AN27,0),0),0)","v":0},{"$f":"G28*AN28","v":{"v":0,"d":"0.00"}},{"$f":"IF($B28=1,$AO28,0)","v":{"v":0,"d":"0.00"}},{"$f":"IF($B28=2,$AO28,0)","v":{"v":0,"d":"0.00"}},{"$f":"IF($B28=3,$AO28,0)","v":{"v":0,"d":"0.00"}},{"$f":"IF($B28=4,$AO28,0)","v":{"v":0,"d":"0.00"}},{"$f":"IF($B28=5,$AO28,0)","v":{"v":0,"d":"0.00"}},{"$f":"IF($B28=6,$AO28,0)","v":{"v":0,"d":"0.00"}},{"$f":"IF(AV27>0,IF(H28+P28+X28+AF28+AN28+BD28+BL28+BT28+CB28+CJ28=0,IF(E28>0,AV27,0),0),0)","v":0},{"$f":"G28*AV28","v":{"v":0,"d":"0.00"}},{"$f":"IF($B28=1,$AW28,0)","v":{"v":0,"d":"0.00"}},{"$f":"IF($B28=2,$AW28,0)","v":{"v":0,"d":"0.00"}},{"$f":"IF($B28=3,$AW28,0)","v":{"v":0,"d":"0.00"}},{"$f":"IF($B28=4,$AW28,0)","v":{"v":0,"d":"0.00"}},{"$f":"IF($B28=5,$AW28,0)","v":{"v":0,"d":"0.00"}},{"$f":"IF($B28=6,$AW28,0)","v":{"v":0,"d":"0.00"}},{"$f":"IF(BD27>0,IF(H28+P28+X28+AF28+AN28+AV28+BL28+BT28+CB28+CJ28=0,IF(E28>0,BD27,0),0),0)","v":0},{"$f":"G28*BD28","v":{"v":0,"d":"0.00"}},{"$f":"IF($B28=1,$BE28,0)","v":{"v":0,"d":"0.00"}},{"$f":"IF($B28=2,$BE28,0)","v":{"v":0,"d":"0.00"}},{"$f":"IF($B28=3,$BE28,0)","v":{"v":0,"d":"0.00"}},{"$f":"IF($B28=4,$BE28,0)","v":{"v":0,"d":"0.00"}},{"$f":"IF($B28=5,$BE28,0)","v":{"v":0,"d":"0.00"}},{"$f":"IF($B28=6,$BE28,0)","v":{"v":0,"d":"0.00"}},{"$f":"IF(BL27>0,IF(H28+P28+X28+AF28+AN28+AV28+BD28+BT28+CB28+CJ28=0,IF(E28>0,BL27,0),0),0)","v":0},{"$f":"G28*BL28","v":{"v":0,"d":"0.00"}},{"$f":"IF($B28=1,$BM28,0)","v":{"v":0,"d":"0.00"}},{"$f":"IF($B28=2,$BM28,0)","v":{"v":0,"d":"0.00"}},{"$f":"IF($B28=3,$BM28,0)","v":{"v":0,"d":"0.00"}},{"$f":"IF($B28=4,$BM28,0)","v":{"v":0,"d":"0.00"}},{"$f":"IF($B28=5,$BM28,0)","v":{"v":0,"d":"0.00"}},{"$f":"IF($B28=6,$BM28,0)","v":{"v":0,"d":"0.00"}},{"$f":"IF(BT27>0,IF(H28+P28+X28+AF28+AN28+AV28+BD28+BL28+CB28+CJ28=0,IF(E28>0,BT27,0),0),0)","v":0},{"$f":"G28*BT28","v":{"v":0,"d":"0.00"}},{"$f":"IF($B28=1,$BU28,0)","v":{"v":0,"d":"0.00"}},{"$f":"IF($B28=2,$BU28,0)","v":{"v":0,"d":"0.00"}},{"$f":"IF($B28=3,$BU28,0)","v":{"v":0,"d":"0.00"}},{"$f":"IF($B28=4,$BU28,0)","v":{"v":0,"d":"0.00"}},{"$f":"IF($B28=5,$BU28,0)","v":{"v":0,"d":"0.00"}},{"$f":"IF($B28=6,$BU28,0)","v":{"v":0,"d":"0.00"}},{"$f":"IF(CB27>0,IF(H28+P28+X28+AF28+AN28+AV28+BD28+BL28+BT28+CJ28=0,IF(E28>0,CB27,0),0),0)","v":0},{"$f":"G28*CB28","v":{"v":0,"d":"0.00"}},{"$f":"IF($B28=1,$CC28,0)","v":{"v":0,"d":"0.00"}},{"$f":"IF($B28=2,$CC28,0)","v":{"v":0,"d":"0.00"}},{"$f":"IF($B28=3,$CC28,0)","v":{"v":0,"d":"0.00"}},{"$f":"IF($B28=4,$CC28,0)","v":{"v":0,"d":"0.00"}},{"$f":"IF($B28=5,$CC28,0)","v":{"v":0,"d":"0.00"}},{"$f":"IF($B28=6,$CC28,0)","v":{"v":0,"d":"0.00"}},{"$f":"IF(CJ27>0,IF(H28+P28+X28+AF28+AN28+AV28+BD28+BL28+BT28+CB28=0,IF(E28>0,CJ27,0),0),0)","v":0},{"$f":"G28*CJ28","v":{"v":0,"d":"0.00"}},{"$f":"IF($B28=1,$CK28,0)","v":{"v":0,"d":"0.00"}},{"$f":"IF($B28=2,$CK28,0)","v":{"v":0,"d":"0.00"}},{"$f":"IF($B28=3,$CK28,0)","v":{"v":0,"d":"0.00"}},{"$f":"IF($B28=4,$CK28,0)","v":{"v":0,"d":"0.00"}},{"$f":"IF($B28=5,$CK28,0)","v":{"v":0,"d":"0.00"}},{"$f":"IF($B28=6,$CK28,0)","v":{"v":0,"d":"0.00"}}]
[{"$f":"IF(C28<>C29,C29,\"\")","v":""},{"$f":"IF(C28<>C29,_xlfn.DAYS(C29,C28)+B28,B28)","v":1},{"$f":"IF(D29>0,IF(D29<E28,C28+1,C28),C28)","v":"2009-02-09"},{"$f":"IF((E29+H29+P29+X29+AF29+AN29+AV29+BD29+BL29+BT29+CB29+CJ29)>0,E28,0)","v":"00:00:00"},null,{"$f":"E29-D29","v":"00:00:00"},{"$f":"IF(E29>0,HOUR(F29)+(MINUTE(F29)/60),0)","v":0},{"$f":"IF(H28>0,IF(P29+X29+AF29+AN29+AV29+BD29+BL29+BT29+CB29+CJ29=0,IF(E29>0,H28,0),0),0)","v":0},{"$f":"G29*H29","v":{"v":0,"d":"0.00"}},{"$f":"IF($B29=1,$I29,0)","v":{"v":0,"d":"0.00"}},{"$f":"IF($B29=2,$I29,0)","v":{"v":0,"d":"0.00"}},{"$f":"IF($B29=3,$I29,0)","v":{"v":0,"d":"0.00"}},{"$f":"IF($B29=4,$I29,0)","v":{"v":0,"d":"0.00"}},{"$f":"IF($B29=5,$I29,0)","v":{"v":0,"d":"0.00"}},{"$f":"IF($B29=6,$I29,0)","v":{"v":0,"d":"0.00"}},{"$f":"IF(P28>0,IF(H29+X29+AF29+AN29+AV29+BD29+BL29+BT29+CB29+CJ29=0,IF(E29>0,P28,0),0),0)","v":0},{"$f":"G29*P29","v":{"v":0,"d":"0.00"}},{"$f":"IF(B29=1,Q29,0)","v":{"v":0,"d":"0.00"}},{"$f":"IF(B29=2,Q29,0)","v":{"v":0,"d":"0.00"}},{"$f":"IF(B29=3,Q29,0)","v":{"v":0,"d":"0.00"}},{"$f":"IF(B29=4,Q29,0)","v":{"v":0,"d":"0.00"}},{"$f":"IF(B29=5,Q29,0)","v":{"v":0,"d":"0.00"}},{"$f":"IF(B29=6,Q29,0)","v":{"v":0,"d":"0.00"}},{"$f":"IF(X28>0,IF(H29+P29+AF29+AN29+AV29+BD29+BL29+BT29+CB29+CJ29=0,IF(E29>0,X28,0),0),0)","v":0},{"$f":"G29*X29","v":{"v":0,"d":"0.00"}},{"$f":"IF($B29=1,$Y29,0)","v":{"v":0,"d":"0.00"}},{"$f":"IF($B29=2,$Y29,0)","v":{"v":0,"d":"0.00"}},{"$f":"IF($B29=3,$Y29,0)","v":{"v":0,"d":"0.00"}},{"$f":"IF($B29=4,$Y29,0)","v":{"v":0,"d":"0.00"}},{"$f":"IF($B29=5,$Y29,0)","v":{"v":0,"d":"0.00"}},{"$f":"IF($B29=6,$Y29,0)","v":{"v":0,"d":"0.00"}},{"$f":"IF(AF28>0,IF(H29+P29+X29+AN29+AV29+BD29+BL29+BT29+CB29+CJ29=0,IF(E29>0,AF28,0),0),0)","v":0},{"$f":"G29*AF29","v":{"v":0,"d":"0.00"}},{"$f":"IF($B29=1,$AG29,0)","v":{"v":0,"d":"0.00"}},{"$f":"IF($B29=2,$AG29,0)","v":{"v":0,"d":"0.00"}},{"$f":"IF($B29=3,$AG29,0)","v":{"v":0,"d":"0.00"}},{"$f":"IF($B29=4,$AG29,0)","v":{"v":0,"d":"0.00"}},{"$f":"IF($B29=5,$AG29,0)","v":{"v":0,"d":"0.00"}},{"$f":"IF($B29=6,$AG29,0)","v":{"v":0,"d":"0.00"}},{"$f":"IF(AN28>0,IF(H29+P29+X29+AF29+AV29+BD29+BL29+BT29+CB29+CJ29=0,IF(E29>0,AN28,0),0),0)","v":0},{"$f":"G29*AN29","v":{"v":0,"d":"0.00"}},{"$f":"IF($B29=1,$AO29,0)","v":{"v":0,"d":"0.00"}},{"$f":"IF($B29=2,$AO29,0)","v":{"v":0,"d":"0.00"}},{"$f":"IF($B29=3,$AO29,0)","v":{"v":0,"d":"0.00"}},{"$f":"IF($B29=4,$AO29,0)","v":{"v":0,"d":"0.00"}},{"$f":"IF($B29=5,$AO29,0)","v":{"v":0,"d":"0.00"}},{"$f":"IF($B29=6,$AO29,0)","v":{"v":0,"d":"0.00"}},{"$f":"IF(AV28>0,IF(H29+P29+X29+AF29+AN29+BD29+BL29+BT29+CB29+CJ29=0,IF(E29>0,AV28,0),0),0)","v":0},{"$f":"G29*AV29","v":{"v":0,"d":"0.00"}},{"$f":"IF($B29=1,$AW29,0)","v":{"v":0,"d":"0.00"}},{"$f":"IF($B29=2,$AW29,0)","v":{"v":0,"d":"0.00"}},{"$f":"IF($B29=3,$AW29,0)","v":{"v":0,"d":"0.00"}},{"$f":"IF($B29=4,$AW29,0)","v":{"v":0,"d":"0.00"}},{"$f":"IF($B29=5,$AW29,0)","v":{"v":0,"d":"0.00"}},{"$f":"IF($B29=6,$AW29,0)","v":{"v":0,"d":"0.00"}},{"$f":"IF(BD28>0,IF(H29+P29+X29+AF29+AN29+AV29+BL29+BT29+CB29+CJ29=0,IF(E29>0,BD28,0),0),0)","v":0},{"$f":"G29*BD29","v":{"v":0,"d":"0.00"}},{"$f":"IF($B29=1,$BE29,0)","v":{"v":0,"d":"0.00"}},{"$f":"IF($B29=2,$BE29,0)","v":{"v":0,"d":"0.00"}},{"$f":"IF($B29=3,$BE29,0)","v":{"v":0,"d":"0.00"}},{"$f":"IF($B29=4,$BE29,0)","v":{"v":0,"d":"0.00"}},{"$f":"IF($B29=5,$BE29,0)","v":{"v":0,"d":"0.00"}},{"$f":"IF($B29=6,$BE29,0)","v":{"v":0,"d":"0.00"}},{"$f":"IF(BL28>0,IF(H29+P29+X29+AF29+AN29+AV29+BD29+BT29+CB29+CJ29=0,IF(E29>0,BL28,0),0),0)","v":0},{"$f":"G29*BL29","v":{"v":0,"d":"0.00"}},{"$f":"IF($B29=1,$BM29,0)","v":{"v":0,"d":"0.00"}},{"$f":"IF($B29=2,$BM29,0)","v":{"v":0,"d":"0.00"}},{"$f":"IF($B29=3,$BM29,0)","v":{"v":0,"d":"0.00"}},{"$f":"IF($B29=4,$BM29,0)","v":{"v":0,"d":"0.00"}},{"$f":"IF($B29=5,$BM29,0)","v":{"v":0,"d":"0.00"}},{"$f":"IF($B29=6,$BM29,0)","v":{"v":0,"d":"0.00"}},{"$f":"IF(BT28>0,IF(H29+P29+X29+AF29+AN29+AV29+BD29+BL29+CB29+CJ29=0,IF(E29>0,BT28,0),0),0)","v":0},{"$f":"G29*BT29","v":{"v":0,"d":"0.00"}},{"$f":"IF($B29=1,$BU29,0)","v":{"v":0,"d":"0.00"}},{"$f":"IF($B29=2,$BU29,0)","v":{"v":0,"d":"0.00"}},{"$f":"IF($B29=3,$BU29,0)","v":{"v":0,"d":"0.00"}},{"$f":"IF($B29=4,$BU29,0)","v":{"v":0,"d":"0.00"}},{"$f":"IF($B29=5,$BU29,0)","v":{"v":0,"d":"0.00"}},{"$f":"IF($B29=6,$BU29,0)","v":{"v":0,"d":"0.00"}},{"$f":"IF(CB28>0,IF(H29+P29+X29+AF29+AN29+AV29+BD29+BL29+BT29+CJ29=0,IF(E29>0,CB28,0),0),0)","v":0},{"$f":"G29*CB29","v":{"v":0,"d":"0.00"}},{"$f":"IF($B29=1,$CC29,0)","v":{"v":0,"d":"0.00"}},{"$f":"IF($B29=2,$CC29,0)","v":{"v":0,"d":"0.00"}},{"$f":"IF($B29=3,$CC29,0)","v":{"v":0,"d":"0.00"}},{"$f":"IF($B29=4,$CC29,0)","v":{"v":0,"d":"0.00"}},{"$f":"IF($B29=5,$CC29,0)","v":{"v":0,"d":"0.00"}},{"$f":"IF($B29=6,$CC29,0)","v":{"v":0,"d":"0.00"}},{"$f":"IF(CJ28>0,IF(H29+P29+X29+AF29+AN29+AV29+BD29+BL29+BT29+CB29=0,IF(E29>0,CJ28,0),0),0)","v":0},{"$f":"G29*CJ29","v":{"v":0,"d":"0.00"}},{"$f":"IF($B29=1,$CK29,0)","v":{"v":0,"d":"0.00"}},{"$f":"IF($B29=2,$CK29,0)","v":{"v":0,"d":"0.00"}},{"$f":"IF($B29=3,$CK29,0)","v":{"v":0,"d":"0.00"}},{"$f":"IF($B29=4,$CK29,0)","v":{"v":0,"d":"0.00"}},{"$f":"IF($B29=5,$CK29,0)","v":{"v":0,"d":"0.00"}},{"$f":"IF($B29=6,$CK29,0)","v":{"v":0,"d":"0.00"}}]
[{"$f":"IF(C29<>C30,C30,\"\")","v":""},{"$f":"IF(C29<>C30,_xlfn.DAYS(C30,C29)+B29,B29)","v":1},{"$f":"IF(D30>0,IF(D30<E29,C29+1,C29),C29)","v":"2009-02-09"},{"$f":"IF((E30+H30+P30+X30+AF30+AN30+AV30+BD30+BL30+BT30+CB30+CJ30)>0,E29,0)","v":"00:00:00"},null,{"$f":"E30-D30","v":"00:00:00"},{"$f":"IF(E30>0,HOUR(F30)+(MINUTE(F30)/60),0)","v":0},{"$f":"IF(H29>0,IF(P30+X30+AF30+AN30+AV30+BD30+BL30+BT30+CB30+CJ30=0,IF(E30>0,H29,0),0),0)","v":0},{"$f":"G30*H30","v":{"v":0,"d":"0.00"}},{"$f":"IF($B30=1,$I30,0)","v":{"v":0,"d":"0.00"}},{"$f":"IF($B30=2,$I30,0)","v":{"v":0,"d":"0.00"}},{"$f":"IF($B30=3,$I30,0)","v":{"v":0,"d":"0.00"}},{"$f":"IF($B30=4,$I30,0)","v":{"v":0,"d":"0.00"}},{"$f":"IF($B30=5,$I30,0)","v":{"v":0,"d":"0.00"}},{"$f":"IF($B30=6,$I30,0)","v":{"v":0,"d":"0.00"}},{"$f":"IF(P29>0,IF(H30+X30+AF30+AN30+AV30+BD30+BL30+BT30+CB30+CJ30=0,IF(E30>0,P29,0),0),0)","v":0},{"$f":"G30*P30","v":{"v":0,"d":"0.00"}},{"$f":"IF(B30=1,Q30,0)","v":{"v":0,"d":"0.00"}},{"$f":"IF(B30=2,Q30,0)","v":{"v":0,"d":"0.00"}},{"$f":"IF(B30=3,Q30,0)","v":{"v":0,"d":"0.00"}},{"$f":"IF(B30=4,Q30,0)","v":{"v":0,"d":"0.00"}},{"$f":"IF(B30=5,Q30,0)","v":{"v":0,"d":"0.00"}},{"$f":"IF(B30=6,Q30,0)","v":{"v":0,"d":"0.00"}},{"$f":"IF(X29>0,IF(H30+P30+AF30+AN30+AV30+BD30+BL30+BT30+CB30+CJ30=0,IF(E30>0,X29,0),0),0)","v":0},{"$f":"G30*X30","v":{"v":0,"d":"0.00"}},{"$f":"IF($B30=1,$Y30,0)","v":{"v":0,"d":"0.00"}},{"$f":"IF($B30=2,$Y30,0)","v":{"v":0,"d":"0.00"}},{"$f":"IF($B30=3,$Y30,0)","v":{"v":0,"d":"0.00"}},{"$f":"IF($B30=4,$Y30,0)","v":{"v":0,"d":"0.00"}},{"$f":"IF($B30=5,$Y30,0)","v":{"v":0,"d":"0.00"}},{"$f":"IF($B30=6,$Y30,0)","v":{"v":0,"d":"0.00"}},{"$f":"IF(AF29>0,IF(H30+P30+X30+AN30+AV30+BD30+BL30+BT30+CB30+CJ30=0,IF(E30>0,AF29,0),0),0)","v":0},{"$f":"G30*AF30","v":{"v":0,"d":"0.00"}},{"$f":"IF($B30=1,$AG30,0)","v":{"v":0,"d":"0.00"}},{"$f":"IF($B30=2,$AG30,0)","v":{"v":0,"d":"0.00"}},{"$f":"IF($B30=3,$AG30,0)","v":{"v":0,"d":"0.00"}},{"$f":"IF($B30=4,$AG30,0)","v":{"v":0,"d":"0.00"}},{"$f":"IF($B30=5,$AG30,0)","v":{"v":0,"d":"0.00"}},{"$f":"IF($B30=6,$AG30,0)","v":{"v":0,"d":"0.00"}},{"$f":"IF(AN29>0,IF(H30+P30+X30+AF30+AV30+BD30+BL30+BT30+CB30+CJ30=0,IF(E30>0,AN29,0),0),0)","v":0},{"$f":"G30*AN30","v":{"v":0,"d":"0.00"}},{"$f":"IF($B30=1,$AO30,0)","v":{"v":0,"d":"0.00"}},{"$f":"IF($B30=2,$AO30,0)","v":{"v":0,"d":"0.00"}},{"$f":"IF($B30=3,$AO30,0)","v":{"v":0,"d":"0.00"}},{"$f":"IF($B30=4,$AO30,0)","v":{"v":0,"d":"0.00"}},{"$f":"IF($B30=5,$AO30,0)","v":{"v":0,"d":"0.00"}},{"$f":"IF($B30=6,$AO30,0)","v":{"v":0,"d":"0.00"}},{"$f":"IF(AV29>0,IF(H30+P30+X30+AF30+AN30+BD30+BL30+BT30+CB30+CJ30=0,IF(E30>0,AV29,0),0),0)","v":0},{"$f":"G30*AV30","v":{"v":0,"d":"0.00"}},{"$f":"IF($B30=1,$AW30,0)","v":{"v":0,"d":"0.00"}},{"$f":"IF($B30=2,$AW30,0)","v":{"v":0,"d":"0.00"}},{"$f":"IF($B30=3,$AW30,0)","v":{"v":0,"d":"0.00"}},{"$f":"IF($B30=4,$AW30,0)","v":{"v":0,"d":"0.00"}},{"$f":"IF($B30=5,$AW30,0)","v":{"v":0,"d":"0.00"}},{"$f":"IF($B30=6,$AW30,0)","v":{"v":0,"d":"0.00"}},{"$f":"IF(BD29>0,IF(H30+P30+X30+AF30+AN30+AV30+BL30+BT30+CB30+CJ30=0,IF(E30>0,BD29,0),0),0)","v":0},{"$f":"G30*BD30","v":{"v":0,"d":"0.00"}},{"$f":"IF($B30=1,$BE30,0)","v":{"v":0,"d":"0.00"}},{"$f":"IF($B30=2,$BE30,0)","v":{"v":0,"d":"0.00"}},{"$f":"IF($B30=3,$BE30,0)","v":{"v":0,"d":"0.00"}},{"$f":"IF($B30=4,$BE30,0)","v":{"v":0,"d":"0.00"}},{"$f":"IF($B30=5,$BE30,0)","v":{"v":0,"d":"0.00"}},{"$f":"IF($B30=6,$BE30,0)","v":{"v":0,"d":"0.00"}},{"$f":"IF(BL29>0,IF(H30+P30+X30+AF30+AN30+AV30+BD30+BT30+CB30+CJ30=0,IF(E30>0,BL29,0),0),0)","v":0},{"$f":"G30*BL30","v":{"v":0,"d":"0.00"}},{"$f":"IF($B30=1,$BM30,0)","v":{"v":0,"d":"0.00"}},{"$f":"IF($B30=2,$BM30,0)","v":{"v":0,"d":"0.00"}},{"$f":"IF($B30=3,$BM30,0)","v":{"v":0,"d":"0.00"}},{"$f":"IF($B30=4,$BM30,0)","v":{"v":0,"d":"0.00"}},{"$f":"IF($B30=5,$BM30,0)","v":{"v":0,"d":"0.00"}},{"$f":"IF($B30=6,$BM30,0)","v":{"v":0,"d":"0.00"}},{"$f":"IF(BT29>0,IF(H30+P30+X30+AF30+AN30+AV30+BD30+BL30+CB30+CJ30=0,IF(E30>0,BT29,0),0),0)","v":0},{"$f":"G30*BT30","v":{"v":0,"d":"0.00"}},{"$f":"IF($B30=1,$BU30,0)","v":{"v":0,"d":"0.00"}},{"$f":"IF($B30=2,$BU30,0)","v":{"v":0,"d":"0.00"}},{"$f":"IF($B30=3,$BU30,0)","v":{"v":0,"d":"0.00"}},{"$f":"IF($B30=4,$BU30,0)","v":{"v":0,"d":"0.00"}},{"$f":"IF($B30=5,$BU30,0)","v":{"v":0,"d":"0.00"}},{"$f":"IF($B30=6,$BU30,0)","v":{"v":0,"d":"0.00"}},{"$f":"IF(CB29>0,IF(H30+P30+X30+AF30+AN30+AV30+BD30+BL30+BT30+CJ30=0,IF(E30>0,CB29,0),0),0)","v":0},{"$f":"G30*CB30","v":{"v":0,"d":"0.00"}},{"$f":"IF($B30=1,$CC30,0)","v":{"v":0,"d":"0.00"}},{"$f":"IF($B30=2,$CC30,0)","v":{"v":0,"d":"0.00"}},{"$f":"IF($B30=3,$CC30,0)","v":{"v":0,"d":"0.00"}},{"$f":"IF($B30=4,$CC30,0)","v":{"v":0,"d":"0.00"}},{"$f":"IF($B30=5,$CC30,0)","v":{"v":0,"d":"0.00"}},{"$f":"IF($B30=6,$CC30,0)","v":{"v":0,"d":"0.00"}},{"$f":"IF(CJ29>0,IF(H30+P30+X30+AF30+AN30+AV30+BD30+BL30+BT30+CB30=0,IF(E30>0,CJ29,0),0),0)","v":0},{"$f":"G30*CJ30","v":{"v":0,"d":"0.00"}},{"$f":"IF($B30=1,$CK30,0)","v":{"v":0,"d":"0.00"}},{"$f":"IF($B30=2,$CK30,0)","v":{"v":0,"d":"0.00"}},{"$f":"IF($B30=3,$CK30,0)","v":{"v":0,"d":"0.00"}},{"$f":"IF($B30=4,$CK30,0)","v":{"v":0,"d":"0.00"}},{"$f":"IF($B30=5,$CK30,0)","v":{"v":0,"d":"0.00"}},{"$f":"IF($B30=6,$CK30,0)","v":{"v":0,"d":"0.00"}}]
[{"$f":"IF(C30<>C31,C31,\"\")","v":""},{"$f":"IF(C30<>C31,_xlfn.DAYS(C31,C30)+B30,B30)","v":1},{"$f":"IF(D31>0,IF(D31<E30,C30+1,C30),C30)","v":"2009-02-09"},{"$f":"IF((E31+H31+P31+X31+AF31+AN31+AV31+BD31+BL31+BT31+CB31+CJ31)>0,E30,0)","v":"00:00:00"},null,{"$f":"E31-D31","v":"00:00:00"},{"$f":"IF(E31>0,HOUR(F31)+(MINUTE(F31)/60),0)","v":0},{"$f":"IF(H30>0,IF(P31+X31+AF31+AN31+AV31+BD31+BL31+BT31+CB31+CJ31=0,IF(E31>0,H30,0),0),0)","v":0},{"$f":"G31*H31","v":{"v":0,"d":"0.00"}},{"$f":"IF($B31=1,$I31,0)","v":{"v":0,"d":"0.00"}},{"$f":"IF($B31=2,$I31,0)","v":{"v":0,"d":"0.00"}},{"$f":"IF($B31=3,$I31,0)","v":{"v":0,"d":"0.00"}},{"$f":"IF($B31=4,$I31,0)","v":{"v":0,"d":"0.00"}},{"$f":"IF($B31=5,$I31,0)","v":{"v":0,"d":"0.00"}},{"$f":"IF($B31=6,$I31,0)","v":{"v":0,"d":"0.00"}},{"$f":"IF(P30>0,IF(H31+X31+AF31+AN31+AV31+BD31+BL31+BT31+CB31+CJ31=0,IF(E31>0,P30,0),0),0)","v":0},{"$f":"G31*P31","v":{"v":0,"d":"0.00"}},{"$f":"IF(B31=1,Q31,0)","v":{"v":0,"d":"0.00"}},{"$f":"IF(B31=2,Q31,0)","v":{"v":0,"d":"0.00"}},{"$f":"IF(B31=3,Q31,0)","v":{"v":0,"d":"0.00"}},{"$f":"IF(B31=4,Q31,0)","v":{"v":0,"d":"0.00"}},{"$f":"IF(B31=5,Q31,0)","v":{"v":0,"d":"0.00"}},{"$f":"IF(B31=6,Q31,0)","v":{"v":0,"d":"0.00"}},{"$f":"IF(X30>0,IF(H31+P31+AF31+AN31+AV31+BD31+BL31+BT31+CB31+CJ31=0,IF(E31>0,X30,0),0),0)","v":0},{"$f":"G31*X31","v":{"v":0,"d":"0.00"}},{"$f":"IF($B31=1,$Y31,0)","v":{"v":0,"d":"0.00"}},{"$f":"IF($B31=2,$Y31,0)","v":{"v":0,"d":"0.00"}},{"$f":"IF($B31=3,$Y31,0)","v":{"v":0,"d":"0.00"}},{"$f":"IF($B31=4,$Y31,0)","v":{"v":0,"d":"0.00"}},{"$f":"IF($B31=5,$Y31,0)","v":{"v":0,"d":"0.00"}},{"$f":"IF($B31=6,$Y31,0)","v":{"v":0,"d":"0.00"}},{"$f":"IF(AF30>0,IF(H31+P31+X31+AN31+AV31+BD31+BL31+BT31+CB31+CJ31=0,IF(E31>0,AF30,0),0),0)","v":0},{"$f":"G31*AF31","v":{"v":0,"d":"0.00"}},{"$f":"IF($B31=1,$AG31,0)","v":{"v":0,"d":"0.00"}},{"$f":"IF($B31=2,$AG31,0)","v":{"v":0,"d":"0.00"}},{"$f":"IF($B31=3,$AG31,0)","v":{"v":0,"d":"0.00"}},{"$f":"IF($B31=4,$AG31,0)","v":{"v":0,"d":"0.00"}},{"$f":"IF($B31=5,$AG31,0)","v":{"v":0,"d":"0.00"}},{"$f":"IF($B31=6,$AG31,0)","v":{"v":0,"d":"0.00"}},{"$f":"IF(AN30>0,IF(H31+P31+X31+AF31+AV31+BD31+BL31+BT31+CB31+CJ31=0,IF(E31>0,AN30,0),0),0)","v":0},{"$f":"G31*AN31","v":{"v":0,"d":"0.00"}},{"$f":"IF($B31=1,$AO31,0)","v":{"v":0,"d":"0.00"}},{"$f":"IF($B31=2,$AO31,0)","v":{"v":0,"d":"0.00"}},{"$f":"IF($B31=3,$AO31,0)","v":{"v":0,"d":"0.00"}},{"$f":"IF($B31=4,$AO31,0)","v":{"v":0,"d":"0.00"}},{"$f":"IF($B31=5,$AO31,0)","v":{"v":0,"d":"0.00"}},{"$f":"IF($B31=6,$AO31,0)","v":{"v":0,"d":"0.00"}},{"$f":"IF(AV30>0,IF(H31+P31+X31+AF31+AN31+BD31+BL31+BT31+CB31+CJ31=0,IF(E31>0,AV30,0),0),0)","v":0},{"$f":"G31*AV31","v":{"v":0,"d":"0.00"}},{"$f":"IF($B31=1,$AW31,0)","v":{"v":0,"d":"0.00"}},{"$f":"IF($B31=2,$AW31,0)","v":{"v":0,"d":"0.00"}},{"$f":"IF($B31=3,$AW31,0)","v":{"v":0,"d":"0.00"}},{"$f":"IF($B31=4,$AW31,0)","v":{"v":0,"d":"0.00"}},{"$f":"IF($B31=5,$AW31,0)","v":{"v":0,"d":"0.00"}},{"$f":"IF($B31=6,$AW31,0)","v":{"v":0,"d":"0.00"}},{"$f":"IF(BD30>0,IF(H31+P31+X31+AF31+AN31+AV31+BL31+BT31+CB31+CJ31=0,IF(E31>0,BD30,0),0),0)","v":0},{"$f":"G31*BD31","v":{"v":0,"d":"0.00"}},{"$f":"IF($B31=1,$BE31,0)","v":{"v":0,"d":"0.00"}},{"$f":"IF($B31=2,$BE31,0)","v":{"v":0,"d":"0.00"}},{"$f":"IF($B31=3,$BE31,0)","v":{"v":0,"d":"0.00"}},{"$f":"IF($B31=4,$BE31,0)","v":{"v":0,"d":"0.00"}},{"$f":"IF($B31=5,$BE31,0)","v":{"v":0,"d":"0.00"}},{"$f":"IF($B31=6,$BE31,0)","v":{"v":0,"d":"0.00"}},{"$f":"IF(BL30>0,IF(H31+P31+X31+AF31+AN31+AV31+BD31+BT31+CB31+CJ31=0,IF(E31>0,BL30,0),0),0)","v":0},{"$f":"G31*BL31","v":{"v":0,"d":"0.00"}},{"$f":"IF($B31=1,$BM31,0)","v":{"v":0,"d":"0.00"}},{"$f":"IF($B31=2,$BM31,0)","v":{"v":0,"d":"0.00"}},{"$f":"IF($B31=3,$BM31,0)","v":{"v":0,"d":"0.00"}},{"$f":"IF($B31=4,$BM31,0)","v":{"v":0,"d":"0.00"}},{"$f":"IF($B31=5,$BM31,0)","v":{"v":0,"d":"0.00"}},{"$f":"IF($B31=6,$BM31,0)","v":{"v":0,"d":"0.00"}},{"$f":"IF(BT30>0,IF(H31+P31+X31+AF31+AN31+AV31+BD31+BL31+CB31+CJ31=0,IF(E31>0,BT30,0),0),0)","v":0},{"$f":"G31*BT31","v":{"v":0,"d":"0.00"}},{"$f":"IF($B31=1,$BU31,0)","v":{"v":0,"d":"0.00"}},{"$f":"IF($B31=2,$BU31,0)","v":{"v":0,"d":"0.00"}},{"$f":"IF($B31=3,$BU31,0)","v":{"v":0,"d":"0.00"}},{"$f":"IF($B31=4,$BU31,0)","v":{"v":0,"d":"0.00"}},{"$f":"IF($B31=5,$BU31,0)","v":{"v":0,"d":"0.00"}},{"$f":"IF($B31=6,$BU31,0)","v":{"v":0,"d":"0.00"}},{"$f":"IF(CB30>0,IF(H31+P31+X31+AF31+AN31+AV31+BD31+BL31+BT31+CJ31=0,IF(E31>0,CB30,0),0),0)","v":0},{"$f":"G31*CB31","v":{"v":0,"d":"0.00"}},{"$f":"IF($B31=1,$CC31,0)","v":{"v":0,"d":"0.00"}},{"$f":"IF($B31=2,$CC31,0)","v":{"v":0,"d":"0.00"}},{"$f":"IF($B31=3,$CC31,0)","v":{"v":0,"d":"0.00"}},{"$f":"IF($B31=4,$CC31,0)","v":{"v":0,"d":"0.00"}},{"$f":"IF($B31=5,$CC31,0)","v":{"v":0,"d":"0.00"}},{"$f":"IF($B31=6,$CC31,0)","v":{"v":0,"d":"0.00"}},{"$f":"IF(CJ30>0,IF(H31+P31+X31+AF31+AN31+AV31+BD31+BL31+BT31+CB31=0,IF(E31>0,CJ30,0),0),0)","v":0},{"$f":"G31*CJ31","v":{"v":0,"d":"0.00"}},{"$f":"IF($B31=1,$CK31,0)","v":{"v":0,"d":"0.00"}},{"$f":"IF($B31=2,$CK31,0)","v":{"v":0,"d":"0.00"}},{"$f":"IF($B31=3,$CK31,0)","v":{"v":0,"d":"0.00"}},{"$f":"IF($B31=4,$CK31,0)","v":{"v":0,"d":"0.00"}},{"$f":"IF($B31=5,$CK31,0)","v":{"v":0,"d":"0.00"}},{"$f":"IF($B31=6,$CK31,0)","v":{"v":0,"d":"0.00"}}]
[{"$f":"IF(C31<>C32,C32,\"\")","v":""},{"$f":"IF(C31<>C32,_xlfn.DAYS(C32,C31)+B31,B31)","v":1},{"$f":"IF(D32>0,IF(D32<E31,C31+1,C31),C31)","v":"2009-02-09"},{"$f":"IF((E32+H32+P32+X32+AF32+AN32+AV32+BD32+BL32+BT32+CB32+CJ32)>0,E31,0)","v":"00:00:00"},null,{"$f":"E32-D32","v":"00:00:00"},{"$f":"IF(E32>0,HOUR(F32)+(MINUTE(F32)/60),0)","v":0},{"$f":"IF(H31>0,IF(P32+X32+AF32+AN32+AV32+BD32+BL32+BT32+CB32+CJ32=0,IF(E32>0,H31,0),0),0)","v":0},{"$f":"G32*H32","v":{"v":0,"d":"0.00"}},{"$f":"IF($B32=1,$I32,0)","v":{"v":0,"d":"0.00"}},{"$f":"IF($B32=2,$I32,0)","v":{"v":0,"d":"0.00"}},{"$f":"IF($B32=3,$I32,0)","v":{"v":0,"d":"0.00"}},{"$f":"IF($B32=4,$I32,0)","v":{"v":0,"d":"0.00"}},{"$f":"IF($B32=5,$I32,0)","v":{"v":0,"d":"0.00"}},{"$f":"IF($B32=6,$I32,0)","v":{"v":0,"d":"0.00"}},{"$f":"IF(P31>0,IF(H32+X32+AF32+AN32+AV32+BD32+BL32+BT32+CB32+CJ32=0,IF(E32>0,P31,0),0),0)","v":0},{"$f":"G32*P32","v":{"v":0,"d":"0.00"}},{"$f":"IF(B32=1,Q32,0)","v":{"v":0,"d":"0.00"}},{"$f":"IF(B32=2,Q32,0)","v":{"v":0,"d":"0.00"}},{"$f":"IF(B32=3,Q32,0)","v":{"v":0,"d":"0.00"}},{"$f":"IF(B32=4,Q32,0)","v":{"v":0,"d":"0.00"}},{"$f":"IF(B32=5,Q32,0)","v":{"v":0,"d":"0.00"}},{"$f":"IF(B32=6,Q32,0)","v":{"v":0,"d":"0.00"}},{"$f":"IF(X31>0,IF(H32+P32+AF32+AN32+AV32+BD32+BL32+BT32+CB32+CJ32=0,IF(E32>0,X31,0),0),0)","v":0},{"$f":"G32*X32","v":{"v":0,"d":"0.00"}},{"$f":"IF($B32=1,$Y32,0)","v":{"v":0,"d":"0.00"}},{"$f":"IF($B32=2,$Y32,0)","v":{"v":0,"d":"0.00"}},{"$f":"IF($B32=3,$Y32,0)","v":{"v":0,"d":"0.00"}},{"$f":"IF($B32=4,$Y32,0)","v":{"v":0,"d":"0.00"}},{"$f":"IF($B32=5,$Y32,0)","v":{"v":0,"d":"0.00"}},{"$f":"IF($B32=6,$Y32,0)","v":{"v":0,"d":"0.00"}},{"$f":"IF(AF31>0,IF(H32+P32+X32+AN32+AV32+BD32+BL32+BT32+CB32+CJ32=0,IF(E32>0,AF31,0),0),0)","v":0},{"$f":"G32*AF32","v":{"v":0,"d":"0.00"}},{"$f":"IF($B32=1,$AG32,0)","v":{"v":0,"d":"0.00"}},{"$f":"IF($B32=2,$AG32,0)","v":{"v":0,"d":"0.00"}},{"$f":"IF($B32=3,$AG32,0)","v":{"v":0,"d":"0.00"}},{"$f":"IF($B32=4,$AG32,0)","v":{"v":0,"d":"0.00"}},{"$f":"IF($B32=5,$AG32,0)","v":{"v":0,"d":"0.00"}},{"$f":"IF($B32=6,$AG32,0)","v":{"v":0,"d":"0.00"}},{"$f":"IF(AN31>0,IF(H32+P32+X32+AF32+AV32+BD32+BL32+BT32+CB32+CJ32=0,IF(E32>0,AN31,0),0),0)","v":0},{"$f":"G32*AN32","v":{"v":0,"d":"0.00"}},{"$f":"IF($B32=1,$AO32,0)","v":{"v":0,"d":"0.00"}},{"$f":"IF($B32=2,$AO32,0)","v":{"v":0,"d":"0.00"}},{"$f":"IF($B32=3,$AO32,0)","v":{"v":0,"d":"0.00"}},{"$f":"IF($B32=4,$AO32,0)","v":{"v":0,"d":"0.00"}},{"$f":"IF($B32=5,$AO32,0)","v":{"v":0,"d":"0.00"}},{"$f":"IF($B32=6,$AO32,0)","v":{"v":0,"d":"0.00"}},{"$f":"IF(AV31>0,IF(H32+P32+X32+AF32+AN32+BD32+BL32+BT32+CB32+CJ32=0,IF(E32>0,AV31,0),0),0)","v":0},{"$f":"G32*AV32","v":{"v":0,"d":"0.00"}},{"$f":"IF($B32=1,$AW32,0)","v":{"v":0,"d":"0.00"}},{"$f":"IF($B32=2,$AW32,0)","v":{"v":0,"d":"0.00"}},{"$f":"IF($B32=3,$AW32,0)","v":{"v":0,"d":"0.00"}},{"$f":"IF($B32=4,$AW32,0)","v":{"v":0,"d":"0.00"}},{"$f":"IF($B32=5,$AW32,0)","v":{"v":0,"d":"0.00"}},{"$f":"IF($B32=6,$AW32,0)","v":{"v":0,"d":"0.00"}},{"$f":"IF(BD31>0,IF(H32+P32+X32+AF32+AN32+AV32+BL32+BT32+CB32+CJ32=0,IF(E32>0,BD31,0),0),0)","v":0},{"$f":"G32*BD32","v":{"v":0,"d":"0.00"}},{"$f":"IF($B32=1,$BE32,0)","v":{"v":0,"d":"0.00"}},{"$f":"IF($B32=2,$BE32,0)","v":{"v":0,"d":"0.00"}},{"$f":"IF($B32=3,$BE32,0)","v":{"v":0,"d":"0.00"}},{"$f":"IF($B32=4,$BE32,0)","v":{"v":0,"d":"0.00"}},{"$f":"IF($B32=5,$BE32,0)","v":{"v":0,"d":"0.00"}},{"$f":"IF($B32=6,$BE32,0)","v":{"v":0,"d":"0.00"}},{"$f":"IF(BL31>0,IF(H32+P32+X32+AF32+AN32+AV32+BD32+BT32+CB32+CJ32=0,IF(E32>0,BL31,0),0),0)","v":0},{"$f":"G32*BL32","v":{"v":0,"d":"0.00"}},{"$f":"IF($B32=1,$BM32,0)","v":{"v":0,"d":"0.00"}},{"$f":"IF($B32=2,$BM32,0)","v":{"v":0,"d":"0.00"}},{"$f":"IF($B32=3,$BM32,0)","v":{"v":0,"d":"0.00"}},{"$f":"IF($B32=4,$BM32,0)","v":{"v":0,"d":"0.00"}},{"$f":"IF($B32=5,$BM32,0)","v":{"v":0,"d":"0.00"}},{"$f":"IF($B32=6,$BM32,0)","v":{"v":0,"d":"0.00"}},{"$f":"IF(BT31>0,IF(H32+P32+X32+AF32+AN32+AV32+BD32+BL32+CB32+CJ32=0,IF(E32>0,BT31,0),0),0)","v":0},{"$f":"G32*BT32","v":{"v":0,"d":"0.00"}},{"$f":"IF($B32=1,$BU32,0)","v":{"v":0,"d":"0.00"}},{"$f":"IF($B32=2,$BU32,0)","v":{"v":0,"d":"0.00"}},{"$f":"IF($B32=3,$BU32,0)","v":{"v":0,"d":"0.00"}},{"$f":"IF($B32=4,$BU32,0)","v":{"v":0,"d":"0.00"}},{"$f":"IF($B32=5,$BU32,0)","v":{"v":0,"d":"0.00"}},{"$f":"IF($B32=6,$BU32,0)","v":{"v":0,"d":"0.00"}},{"$f":"IF(CB31>0,IF(H32+P32+X32+AF32+AN32+AV32+BD32+BL32+BT32+CJ32=0,IF(E32>0,CB31,0),0),0)","v":0},{"$f":"G32*CB32","v":{"v":0,"d":"0.00"}},{"$f":"IF($B32=1,$CC32,0)","v":{"v":0,"d":"0.00"}},{"$f":"IF($B32=2,$CC32,0)","v":{"v":0,"d":"0.00"}},{"$f":"IF($B32=3,$CC32,0)","v":{"v":0,"d":"0.00"}},{"$f":"IF($B32=4,$CC32,0)","v":{"v":0,"d":"0.00"}},{"$f":"IF($B32=5,$CC32,0)","v":{"v":0,"d":"0.00"}},{"$f":"IF($B32=6,$CC32,0)","v":{"v":0,"d":"0.00"}},{"$f":"IF(CJ31>0,IF(H32+P32+X32+AF32+AN32+AV32+BD32+BL32+BT32+CB32=0,IF(E32>0,CJ31,0),0),0)","v":0},{"$f":"G32*CJ32","v":{"v":0,"d":"0.00"}},{"$f":"IF($B32=1,$CK32,0)","v":{"v":0,"d":"0.00"}},{"$f":"IF($B32=2,$CK32,0)","v":{"v":0,"d":"0.00"}},{"$f":"IF($B32=3,$CK32,0)","v":{"v":0,"d":"0.00"}},{"$f":"IF($B32=4,$CK32,0)","v":{"v":0,"d":"0.00"}},{"$f":"IF($B32=5,$CK32,0)","v":{"v":0,"d":"0.00"}},{"$f":"IF($B32=6,$CK32,0)","v":{"v":0,"d":"0.00"}}]
[{"$f":"IF(C32<>C33,C33,\"\")","v":""},{"$f":"IF(C32<>C33,_xlfn.DAYS(C33,C32)+B32,B32)","v":1},{"$f":"IF(D33>0,IF(D33<E32,C32+1,C32),C32)","v":"2009-02-09"},{"$f":"IF((E33+H33+P33+X33+AF33+AN33+AV33+BD33+BL33+BT33+CB33+CJ33)>0,E32,0)","v":"00:00:00"},null,{"$f":"E33-D33","v":"00:00:00"},{"$f":"IF(E33>0,HOUR(F33)+(MINUTE(F33)/60),0)","v":0},{"$f":"IF(H32>0,IF(P33+X33+AF33+AN33+AV33+BD33+BL33+BT33+CB33+CJ33=0,IF(E33>0,H32,0),0),0)","v":0},{"$f":"G33*H33","v":{"v":0,"d":"0.00"}},{"$f":"IF($B33=1,$I33,0)","v":{"v":0,"d":"0.00"}},{"$f":"IF($B33=2,$I33,0)","v":{"v":0,"d":"0.00"}},{"$f":"IF($B33=3,$I33,0)","v":{"v":0,"d":"0.00"}},{"$f":"IF($B33=4,$I33,0)","v":{"v":0,"d":"0.00"}},{"$f":"IF($B33=5,$I33,0)","v":{"v":0,"d":"0.00"}},{"$f":"IF($B33=6,$I33,0)","v":{"v":0,"d":"0.00"}},{"$f":"IF(P32>0,IF(H33+X33+AF33+AN33+AV33+BD33+BL33+BT33+CB33+CJ33=0,IF(E33>0,P32,0),0),0)","v":0},{"$f":"G33*P33","v":{"v":0,"d":"0.00"}},{"$f":"IF(B33=1,Q33,0)","v":{"v":0,"d":"0.00"}},{"$f":"IF(B33=2,Q33,0)","v":{"v":0,"d":"0.00"}},{"$f":"IF(B33=3,Q33,0)","v":{"v":0,"d":"0.00"}},{"$f":"IF(B33=4,Q33,0)","v":{"v":0,"d":"0.00"}},{"$f":"IF(B33=5,Q33,0)","v":{"v":0,"d":"0.00"}},{"$f":"IF(B33=6,Q33,0)","v":{"v":0,"d":"0.00"}},{"$f":"IF(X32>0,IF(H33+P33+AF33+AN33+AV33+BD33+BL33+BT33+CB33+CJ33=0,IF(E33>0,X32,0),0),0)","v":0},{"$f":"G33*X33","v":{"v":0,"d":"0.00"}},{"$f":"IF($B33=1,$Y33,0)","v":{"v":0,"d":"0.00"}},{"$f":"IF($B33=2,$Y33,0)","v":{"v":0,"d":"0.00"}},{"$f":"IF($B33=3,$Y33,0)","v":{"v":0,"d":"0.00"}},{"$f":"IF($B33=4,$Y33,0)","v":{"v":0,"d":"0.00"}},{"$f":"IF($B33=5,$Y33,0)","v":{"v":0,"d":"0.00"}},{"$f":"IF($B33=6,$Y33,0)","v":{"v":0,"d":"0.00"}},{"$f":"IF(AF32>0,IF(H33+P33+X33+AN33+AV33+BD33+BL33+BT33+CB33+CJ33=0,IF(E33>0,AF32,0),0),0)","v":0},{"$f":"G33*AF33","v":{"v":0,"d":"0.00"}},{"$f":"IF($B33=1,$AG33,0)","v":{"v":0,"d":"0.00"}},{"$f":"IF($B33=2,$AG33,0)","v":{"v":0,"d":"0.00"}},{"$f":"IF($B33=3,$AG33,0)","v":{"v":0,"d":"0.00"}},{"$f":"IF($B33=4,$AG33,0)","v":{"v":0,"d":"0.00"}},{"$f":"IF($B33=5,$AG33,0)","v":{"v":0,"d":"0.00"}},{"$f":"IF($B33=6,$AG33,0)","v":{"v":0,"d":"0.00"}},{"$f":"IF(AN32>0,IF(H33+P33+X33+AF33+AV33+BD33+BL33+BT33+CB33+CJ33=0,IF(E33>0,AN32,0),0),0)","v":0},{"$f":"G33*AN33","v":{"v":0,"d":"0.00"}},{"$f":"IF($B33=1,$AO33,0)","v":{"v":0,"d":"0.00"}},{"$f":"IF($B33=2,$AO33,0)","v":{"v":0,"d":"0.00"}},{"$f":"IF($B33=3,$AO33,0)","v":{"v":0,"d":"0.00"}},{"$f":"IF($B33=4,$AO33,0)","v":{"v":0,"d":"0.00"}},{"$f":"IF($B33=5,$AO33,0)","v":{"v":0,"d":"0.00"}},{"$f":"IF($B33=6,$AO33,0)","v":{"v":0,"d":"0.00"}},{"$f":"IF(AV32>0,IF(H33+P33+X33+AF33+AN33+BD33+BL33+BT33+CB33+CJ33=0,IF(E33>0,AV32,0),0),0)","v":0},{"$f":"G33*AV33","v":{"v":0,"d":"0.00"}},{"$f":"IF($B33=1,$AW33,0)","v":{"v":0,"d":"0.00"}},{"$f":"IF($B33=2,$AW33,0)","v":{"v":0,"d":"0.00"}},{"$f":"IF($B33=3,$AW33,0)","v":{"v":0,"d":"0.00"}},{"$f":"IF($B33=4,$AW33,0)","v":{"v":0,"d":"0.00"}},{"$f":"IF($B33=5,$AW33,0)","v":{"v":0,"d":"0.00"}},{"$f":"IF($B33=6,$AW33,0)","v":{"v":0,"d":"0.00"}},{"$f":"IF(BD32>0,IF(H33+P33+X33+AF33+AN33+AV33+BL33+BT33+CB33+CJ33=0,IF(E33>0,BD32,0),0),0)","v":0},{"$f":"G33*BD33","v":{"v":0,"d":"0.00"}},{"$f":"IF($B33=1,$BE33,0)","v":{"v":0,"d":"0.00"}},{"$f":"IF($B33=2,$BE33,0)","v":{"v":0,"d":"0.00"}},{"$f":"IF($B33=3,$BE33,0)","v":{"v":0,"d":"0.00"}},{"$f":"IF($B33=4,$BE33,0)","v":{"v":0,"d":"0.00"}},{"$f":"IF($B33=5,$BE33,0)","v":{"v":0,"d":"0.00"}},{"$f":"IF($B33=6,$BE33,0)","v":{"v":0,"d":"0.00"}},{"$f":"IF(BL32>0,IF(H33+P33+X33+AF33+AN33+AV33+BD33+BT33+CB33+CJ33=0,IF(E33>0,BL32,0),0),0)","v":0},{"$f":"G33*BL33","v":{"v":0,"d":"0.00"}},{"$f":"IF($B33=1,$BM33,0)","v":{"v":0,"d":"0.00"}},{"$f":"IF($B33=2,$BM33,0)","v":{"v":0,"d":"0.00"}},{"$f":"IF($B33=3,$BM33,0)","v":{"v":0,"d":"0.00"}},{"$f":"IF($B33=4,$BM33,0)","v":{"v":0,"d":"0.00"}},{"$f":"IF($B33=5,$BM33,0)","v":{"v":0,"d":"0.00"}},{"$f":"IF($B33=6,$BM33,0)","v":{"v":0,"d":"0.00"}},{"$f":"IF(BT32>0,IF(H33+P33+X33+AF33+AN33+AV33+BD33+BL33+CB33+CJ33=0,IF(E33>0,BT32,0),0),0)","v":0},{"$f":"G33*BT33","v":{"v":0,"d":"0.00"}},{"$f":"IF($B33=1,$BU33,0)","v":{"v":0,"d":"0.00"}},{"$f":"IF($B33=2,$BU33,0)","v":{"v":0,"d":"0.00"}},{"$f":"IF($B33=3,$BU33,0)","v":{"v":0,"d":"0.00"}},{"$f":"IF($B33=4,$BU33,0)","v":{"v":0,"d":"0.00"}},{"$f":"IF($B33=5,$BU33,0)","v":{"v":0,"d":"0.00"}},{"$f":"IF($B33=6,$BU33,0)","v":{"v":0,"d":"0.00"}},{"$f":"IF(CB32>0,IF(H33+P33+X33+AF33+AN33+AV33+BD33+BL33+BT33+CJ33=0,IF(E33>0,CB32,0),0),0)","v":0},{"$f":"G33*CB33","v":{"v":0,"d":"0.00"}},{"$f":"IF($B33=1,$CC33,0)","v":{"v":0,"d":"0.00"}},{"$f":"IF($B33=2,$CC33,0)","v":{"v":0,"d":"0.00"}},{"$f":"IF($B33=3,$CC33,0)","v":{"v":0,"d":"0.00"}},{"$f":"IF($B33=4,$CC33,0)","v":{"v":0,"d":"0.00"}},{"$f":"IF($B33=5,$CC33,0)","v":{"v":0,"d":"0.00"}},{"$f":"IF($B33=6,$CC33,0)","v":{"v":0,"d":"0.00"}},{"$f":"IF(CJ32>0,IF(H33+P33+X33+AF33+AN33+AV33+BD33+BL33+BT33+CB33=0,IF(E33>0,CJ32,0),0),0)","v":0},{"$f":"G33*CJ33","v":{"v":0,"d":"0.00"}},{"$f":"IF($B33=1,$CK33,0)","v":{"v":0,"d":"0.00"}},{"$f":"IF($B33=2,$CK33,0)","v":{"v":0,"d":"0.00"}},{"$f":"IF($B33=3,$CK33,0)","v":{"v":0,"d":"0.00"}},{"$f":"IF($B33=4,$CK33,0)","v":{"v":0,"d":"0.00"}},{"$f":"IF($B33=5,$CK33,0)","v":{"v":0,"d":"0.00"}},{"$f":"IF($B33=6,$CK33,0)","v":{"v":0,"d":"0.00"}}]
[{"$f":"IF(C33<>C34,C34,\"\")","v":""},{"$f":"IF(C33<>C34,_xlfn.DAYS(C34,C33)+B33,B33)","v":1},{"$f":"IF(D34>0,IF(D34<E33,C33+1,C33),C33)","v":"2009-02-09"},{"$f":"IF((E34+H34+P34+X34+AF34+AN34+AV34+BD34+BL34+BT34+CB34+CJ34)>0,E33,0)","v":"00:00:00"},null,{"$f":"E34-D34","v":"00:00:00"},{"$f":"IF(E34>0,HOUR(F34)+(MINUTE(F34)/60),0)","v":0},{"$f":"IF(H33>0,IF(P34+X34+AF34+AN34+AV34+BD34+BL34+BT34+CB34+CJ34=0,IF(E34>0,H33,0),0),0)","v":0},{"$f":"G34*H34","v":{"v":0,"d":"0.00"}},{"$f":"IF($B34=1,$I34,0)","v":{"v":0,"d":"0.00"}},{"$f":"IF($B34=2,$I34,0)","v":{"v":0,"d":"0.00"}},{"$f":"IF($B34=3,$I34,0)","v":{"v":0,"d":"0.00"}},{"$f":"IF($B34=4,$I34,0)","v":{"v":0,"d":"0.00"}},{"$f":"IF($B34=5,$I34,0)","v":{"v":0,"d":"0.00"}},{"$f":"IF($B34=6,$I34,0)","v":{"v":0,"d":"0.00"}},{"$f":"IF(P33>0,IF(H34+X34+AF34+AN34+AV34+BD34+BL34+BT34+CB34+CJ34=0,IF(E34>0,P33,0),0),0)","v":0},{"$f":"G34*P34","v":{"v":0,"d":"0.00"}},{"$f":"IF(B34=1,Q34,0)","v":{"v":0,"d":"0.00"}},{"$f":"IF(B34=2,Q34,0)","v":{"v":0,"d":"0.00"}},{"$f":"IF(B34=3,Q34,0)","v":{"v":0,"d":"0.00"}},{"$f":"IF(B34=4,Q34,0)","v":{"v":0,"d":"0.00"}},{"$f":"IF(B34=5,Q34,0)","v":{"v":0,"d":"0.00"}},{"$f":"IF(B34=6,Q34,0)","v":{"v":0,"d":"0.00"}},{"$f":"IF(X33>0,IF(H34+P34+AF34+AN34+AV34+BD34+BL34+BT34+CB34+CJ34=0,IF(E34>0,X33,0),0),0)","v":0},{"$f":"G34*X34","v":{"v":0,"d":"0.00"}},{"$f":"IF($B34=1,$Y34,0)","v":{"v":0,"d":"0.00"}},{"$f":"IF($B34=2,$Y34,0)","v":{"v":0,"d":"0.00"}},{"$f":"IF($B34=3,$Y34,0)","v":{"v":0,"d":"0.00"}},{"$f":"IF($B34=4,$Y34,0)","v":{"v":0,"d":"0.00"}},{"$f":"IF($B34=5,$Y34,0)","v":{"v":0,"d":"0.00"}},{"$f":"IF($B34=6,$Y34,0)","v":{"v":0,"d":"0.00"}},{"$f":"IF(AF33>0,IF(H34+P34+X34+AN34+AV34+BD34+BL34+BT34+CB34+CJ34=0,IF(E34>0,AF33,0),0),0)","v":0},{"$f":"G34*AF34","v":{"v":0,"d":"0.00"}},{"$f":"IF($B34=1,$AG34,0)","v":{"v":0,"d":"0.00"}},{"$f":"IF($B34=2,$AG34,0)","v":{"v":0,"d":"0.00"}},{"$f":"IF($B34=3,$AG34,0)","v":{"v":0,"d":"0.00"}},{"$f":"IF($B34=4,$AG34,0)","v":{"v":0,"d":"0.00"}},{"$f":"IF($B34=5,$AG34,0)","v":{"v":0,"d":"0.00"}},{"$f":"IF($B34=6,$AG34,0)","v":{"v":0,"d":"0.00"}},{"$f":"IF(AN33>0,IF(H34+P34+X34+AF34+AV34+BD34+BL34+BT34+CB34+CJ34=0,IF(E34>0,AN33,0),0),0)","v":0},{"$f":"G34*AN34","v":{"v":0,"d":"0.00"}},{"$f":"IF($B34=1,$AO34,0)","v":{"v":0,"d":"0.00"}},{"$f":"IF($B34=2,$AO34,0)","v":{"v":0,"d":"0.00"}},{"$f":"IF($B34=3,$AO34,0)","v":{"v":0,"d":"0.00"}},{"$f":"IF($B34=4,$AO34,0)","v":{"v":0,"d":"0.00"}},{"$f":"IF($B34=5,$AO34,0)","v":{"v":0,"d":"0.00"}},{"$f":"IF($B34=6,$AO34,0)","v":{"v":0,"d":"0.00"}},{"$f":"IF(AV33>0,IF(H34+P34+X34+AF34+AN34+BD34+BL34+BT34+CB34+CJ34=0,IF(E34>0,AV33,0),0),0)","v":0},{"$f":"G34*AV34","v":{"v":0,"d":"0.00"}},{"$f":"IF($B34=1,$AW34,0)","v":{"v":0,"d":"0.00"}},{"$f":"IF($B34=2,$AW34,0)","v":{"v":0,"d":"0.00"}},{"$f":"IF($B34=3,$AW34,0)","v":{"v":0,"d":"0.00"}},{"$f":"IF($B34=4,$AW34,0)","v":{"v":0,"d":"0.00"}},{"$f":"IF($B34=5,$AW34,0)","v":{"v":0,"d":"0.00"}},{"$f":"IF($B34=6,$AW34,0)","v":{"v":0,"d":"0.00"}},{"$f":"IF(BD33>0,IF(H34+P34+X34+AF34+AN34+AV34+BL34+BT34+CB34+CJ34=0,IF(E34>0,BD33,0),0),0)","v":0},{"$f":"G34*BD34","v":{"v":0,"d":"0.00"}},{"$f":"IF($B34=1,$BE34,0)","v":{"v":0,"d":"0.00"}},{"$f":"IF($B34=2,$BE34,0)","v":{"v":0,"d":"0.00"}},{"$f":"IF($B34=3,$BE34,0)","v":{"v":0,"d":"0.00"}},{"$f":"IF($B34=4,$BE34,0)","v":{"v":0,"d":"0.00"}},{"$f":"IF($B34=5,$BE34,0)","v":{"v":0,"d":"0.00"}},{"$f":"IF($B34=6,$BE34,0)","v":{"v":0,"d":"0.00"}},{"$f":"IF(BL33>0,IF(H34+P34+X34+AF34+AN34+AV34+BD34+BT34+CB34+CJ34=0,IF(E34>0,BL33,0),0),0)","v":0},{"$f":"G34*BL34","v":{"v":0,"d":"0.00"}},{"$f":"IF($B34=1,$BM34,0)","v":{"v":0,"d":"0.00"}},{"$f":"IF($B34=2,$BM34,0)","v":{"v":0,"d":"0.00"}},{"$f":"IF($B34=3,$BM34,0)","v":{"v":0,"d":"0.00"}},{"$f":"IF($B34=4,$BM34,0)","v":{"v":0,"d":"0.00"}},{"$f":"IF($B34=5,$BM34,0)","v":{"v":0,"d":"0.00"}},{"$f":"IF($B34=6,$BM34,0)","v":{"v":0,"d":"0.00"}},{"$f":"IF(BT33>0,IF(H34+P34+X34+AF34+AN34+AV34+BD34+BL34+CB34+CJ34=0,IF(E34>0,BT33,0),0),0)","v":0},{"$f":"G34*BT34","v":{"v":0,"d":"0.00"}},{"$f":"IF($B34=1,$BU34,0)","v":{"v":0,"d":"0.00"}},{"$f":"IF($B34=2,$BU34,0)","v":{"v":0,"d":"0.00"}},{"$f":"IF($B34=3,$BU34,0)","v":{"v":0,"d":"0.00"}},{"$f":"IF($B34=4,$BU34,0)","v":{"v":0,"d":"0.00"}},{"$f":"IF($B34=5,$BU34,0)","v":{"v":0,"d":"0.00"}},{"$f":"IF($B34=6,$BU34,0)","v":{"v":0,"d":"0.00"}},{"$f":"IF(CB33>0,IF(H34+P34+X34+AF34+AN34+AV34+BD34+BL34+BT34+CJ34=0,IF(E34>0,CB33,0),0),0)","v":0},{"$f":"G34*CB34","v":{"v":0,"d":"0.00"}},{"$f":"IF($B34=1,$CC34,0)","v":{"v":0,"d":"0.00"}},{"$f":"IF($B34=2,$CC34,0)","v":{"v":0,"d":"0.00"}},{"$f":"IF($B34=3,$CC34,0)","v":{"v":0,"d":"0.00"}},{"$f":"IF($B34=4,$CC34,0)","v":{"v":0,"d":"0.00"}},{"$f":"IF($B34=5,$CC34,0)","v":{"v":0,"d":"0.00"}},{"$f":"IF($B34=6,$CC34,0)","v":{"v":0,"d":"0.00"}},{"$f":"IF(CJ33>0,IF(H34+P34+X34+AF34+AN34+AV34+BD34+BL34+BT34+CB34=0,IF(E34>0,CJ33,0),0),0)","v":0},{"$f":"G34*CJ34","v":{"v":0,"d":"0.00"}},{"$f":"IF($B34=1,$CK34,0)","v":{"v":0,"d":"0.00"}},{"$f":"IF($B34=2,$CK34,0)","v":{"v":0,"d":"0.00"}},{"$f":"IF($B34=3,$CK34,0)","v":{"v":0,"d":"0.00"}},{"$f":"IF($B34=4,$CK34,0)","v":{"v":0,"d":"0.00"}},{"$f":"IF($B34=5,$CK34,0)","v":{"v":0,"d":"0.00"}},{"$f":"IF($B34=6,$CK34,0)","v":{"v":0,"d":"0.00"}}]
[{"$f":"IF(C34<>C35,C35,\"\")","v":""},{"$f":"IF(C34<>C35,_xlfn.DAYS(C35,C34)+B34,B34)","v":1},{"$f":"IF(D35>0,IF(D35<E34,C34+1,C34),C34)","v":"2009-02-09"},{"$f":"IF((E35+H35+P35+X35+AF35+AN35+AV35+BD35+BL35+BT35+CB35+CJ35)>0,E34,0)","v":"00:00:00"},null,{"$f":"E35-D35","v":"00:00:00"},{"$f":"IF(E35>0,HOUR(F35)+(MINUTE(F35)/60),0)","v":0},{"$f":"IF(H34>0,IF(P35+X35+AF35+AN35+AV35+BD35+BL35+BT35+CB35+CJ35=0,IF(E35>0,H34,0),0),0)","v":0},{"$f":"G35*H35","v":{"v":0,"d":"0.00"}},{"$f":"IF($B35=1,$I35,0)","v":{"v":0,"d":"0.00"}},{"$f":"IF($B35=2,$I35,0)","v":{"v":0,"d":"0.00"}},{"$f":"IF($B35=3,$I35,0)","v":{"v":0,"d":"0.00"}},{"$f":"IF($B35=4,$I35,0)","v":{"v":0,"d":"0.00"}},{"$f":"IF($B35=5,$I35,0)","v":{"v":0,"d":"0.00"}},{"$f":"IF($B35=6,$I35,0)","v":{"v":0,"d":"0.00"}},{"$f":"IF(P34>0,IF(H35+X35+AF35+AN35+AV35+BD35+BL35+BT35+CB35+CJ35=0,IF(E35>0,P34,0),0),0)","v":0},{"$f":"G35*P35","v":{"v":0,"d":"0.00"}},{"$f":"IF(B35=1,Q35,0)","v":{"v":0,"d":"0.00"}},{"$f":"IF(B35=2,Q35,0)","v":{"v":0,"d":"0.00"}},{"$f":"IF(B35=3,Q35,0)","v":{"v":0,"d":"0.00"}},{"$f":"IF(B35=4,Q35,0)","v":{"v":0,"d":"0.00"}},{"$f":"IF(B35=5,Q35,0)","v":{"v":0,"d":"0.00"}},{"$f":"IF(B35=6,Q35,0)","v":{"v":0,"d":"0.00"}},{"$f":"IF(X34>0,IF(H35+P35+AF35+AN35+AV35+BD35+BL35+BT35+CB35+CJ35=0,IF(E35>0,X34,0),0),0)","v":0},{"$f":"G35*X35","v":{"v":0,"d":"0.00"}},{"$f":"IF($B35=1,$Y35,0)","v":{"v":0,"d":"0.00"}},{"$f":"IF($B35=2,$Y35,0)","v":{"v":0,"d":"0.00"}},{"$f":"IF($B35=3,$Y35,0)","v":{"v":0,"d":"0.00"}},{"$f":"IF($B35=4,$Y35,0)","v":{"v":0,"d":"0.00"}},{"$f":"IF($B35=5,$Y35,0)","v":{"v":0,"d":"0.00"}},{"$f":"IF($B35=6,$Y35,0)","v":{"v":0,"d":"0.00"}},{"$f":"IF(AF34>0,IF(H35+P35+X35+AN35+AV35+BD35+BL35+BT35+CB35+CJ35=0,IF(E35>0,AF34,0),0),0)","v":0},{"$f":"G35*AF35","v":{"v":0,"d":"0.00"}},{"$f":"IF($B35=1,$AG35,0)","v":{"v":0,"d":"0.00"}},{"$f":"IF($B35=2,$AG35,0)","v":{"v":0,"d":"0.00"}},{"$f":"IF($B35=3,$AG35,0)","v":{"v":0,"d":"0.00"}},{"$f":"IF($B35=4,$AG35,0)","v":{"v":0,"d":"0.00"}},{"$f":"IF($B35=5,$AG35,0)","v":{"v":0,"d":"0.00"}},{"$f":"IF($B35=6,$AG35,0)","v":{"v":0,"d":"0.00"}},{"$f":"IF(AN34>0,IF(H35+P35+X35+AF35+AV35+BD35+BL35+BT35+CB35+CJ35=0,IF(E35>0,AN34,0),0),0)","v":0},{"$f":"G35*AN35","v":{"v":0,"d":"0.00"}},{"$f":"IF($B35=1,$AO35,0)","v":{"v":0,"d":"0.00"}},{"$f":"IF($B35=2,$AO35,0)","v":{"v":0,"d":"0.00"}},{"$f":"IF($B35=3,$AO35,0)","v":{"v":0,"d":"0.00"}},{"$f":"IF($B35=4,$AO35,0)","v":{"v":0,"d":"0.00"}},{"$f":"IF($B35=5,$AO35,0)","v":{"v":0,"d":"0.00"}},{"$f":"IF($B35=6,$AO35,0)","v":{"v":0,"d":"0.00"}},{"$f":"IF(AV34>0,IF(H35+P35+X35+AF35+AN35+BD35+BL35+BT35+CB35+CJ35=0,IF(E35>0,AV34,0),0),0)","v":0},{"$f":"G35*AV35","v":{"v":0,"d":"0.00"}},{"$f":"IF($B35=1,$AW35,0)","v":{"v":0,"d":"0.00"}},{"$f":"IF($B35=2,$AW35,0)","v":{"v":0,"d":"0.00"}},{"$f":"IF($B35=3,$AW35,0)","v":{"v":0,"d":"0.00"}},{"$f":"IF($B35=4,$AW35,0)","v":{"v":0,"d":"0.00"}},{"$f":"IF($B35=5,$AW35,0)","v":{"v":0,"d":"0.00"}},{"$f":"IF($B35=6,$AW35,0)","v":{"v":0,"d":"0.00"}},{"$f":"IF(BD34>0,IF(H35+P35+X35+AF35+AN35+AV35+BL35+BT35+CB35+CJ35=0,IF(E35>0,BD34,0),0),0)","v":0},{"$f":"G35*BD35","v":{"v":0,"d":"0.00"}},{"$f":"IF($B35=1,$BE35,0)","v":{"v":0,"d":"0.00"}},{"$f":"IF($B35=2,$BE35,0)","v":{"v":0,"d":"0.00"}},{"$f":"IF($B35=3,$BE35,0)","v":{"v":0,"d":"0.00"}},{"$f":"IF($B35=4,$BE35,0)","v":{"v":0,"d":"0.00"}},{"$f":"IF($B35=5,$BE35,0)","v":{"v":0,"d":"0.00"}},{"$f":"IF($B35=6,$BE35,0)","v":{"v":0,"d":"0.00"}},{"$f":"IF(BL34>0,IF(H35+P35+X35+AF35+AN35+AV35+BD35+BT35+CB35+CJ35=0,IF(E35>0,BL34,0),0),0)","v":0},{"$f":"G35*BL35","v":{"v":0,"d":"0.00"}},{"$f":"IF($B35=1,$BM35,0)","v":{"v":0,"d":"0.00"}},{"$f":"IF($B35=2,$BM35,0)","v":{"v":0,"d":"0.00"}},{"$f":"IF($B35=3,$BM35,0)","v":{"v":0,"d":"0.00"}},{"$f":"IF($B35=4,$BM35,0)","v":{"v":0,"d":"0.00"}},{"$f":"IF($B35=5,$BM35,0)","v":{"v":0,"d":"0.00"}},{"$f":"IF($B35=6,$BM35,0)","v":{"v":0,"d":"0.00"}},{"$f":"IF(BT34>0,IF(H35+P35+X35+AF35+AN35+AV35+BD35+BL35+CB35+CJ35=0,IF(E35>0,BT34,0),0),0)","v":0},{"$f":"G35*BT35","v":{"v":0,"d":"0.00"}},{"$f":"IF($B35=1,$BU35,0)","v":{"v":0,"d":"0.00"}},{"$f":"IF($B35=2,$BU35,0)","v":{"v":0,"d":"0.00"}},{"$f":"IF($B35=3,$BU35,0)","v":{"v":0,"d":"0.00"}},{"$f":"IF($B35=4,$BU35,0)","v":{"v":0,"d":"0.00"}},{"$f":"IF($B35=5,$BU35,0)","v":{"v":0,"d":"0.00"}},{"$f":"IF($B35=6,$BU35,0)","v":{"v":0,"d":"0.00"}},{"$f":"IF(CB34>0,IF(H35+P35+X35+AF35+AN35+AV35+BD35+BL35+BT35+CJ35=0,IF(E35>0,CB34,0),0),0)","v":0},{"$f":"G35*CB35","v":{"v":0,"d":"0.00"}},{"$f":"IF($B35=1,$CC35,0)","v":{"v":0,"d":"0.00"}},{"$f":"IF($B35=2,$CC35,0)","v":{"v":0,"d":"0.00"}},{"$f":"IF($B35=3,$CC35,0)","v":{"v":0,"d":"0.00"}},{"$f":"IF($B35=4,$CC35,0)","v":{"v":0,"d":"0.00"}},{"$f":"IF($B35=5,$CC35,0)","v":{"v":0,"d":"0.00"}},{"$f":"IF($B35=6,$CC35,0)","v":{"v":0,"d":"0.00"}},{"$f":"IF(CJ34>0,IF(H35+P35+X35+AF35+AN35+AV35+BD35+BL35+BT35+CB35=0,IF(E35>0,CJ34,0),0),0)","v":0},{"$f":"G35*CJ35","v":{"v":0,"d":"0.00"}},{"$f":"IF($B35=1,$CK35,0)","v":{"v":0,"d":"0.00"}},{"$f":"IF($B35=2,$CK35,0)","v":{"v":0,"d":"0.00"}},{"$f":"IF($B35=3,$CK35,0)","v":{"v":0,"d":"0.00"}},{"$f":"IF($B35=4,$CK35,0)","v":{"v":0,"d":"0.00"}},{"$f":"IF($B35=5,$CK35,0)","v":{"v":0,"d":"0.00"}},{"$f":"IF($B35=6,$CK35,0)","v":{"v":0,"d":"0.00"}}]
[{"$f":"IF(C35<>C36,C36,\"\")","v":""},{"$f":"IF(C35<>C36,_xlfn.DAYS(C36,C35)+B35,B35)","v":1},{"$f":"IF(D36>0,IF(D36<E35,C35+1,C35),C35)","v":"2009-02-09"},{"$f":"IF((E36+H36+P36+X36+AF36+AN36+AV36+BD36+BL36+BT36+CB36+CJ36)>0,E35,0)","v":"00:00:00"},null,{"$f":"E36-D36","v":"00:00:00"},{"$f":"IF(E36>0,HOUR(F36)+(MINUTE(F36)/60),0)","v":0},{"$f":"IF(H35>0,IF(P36+X36+AF36+AN36+AV36+BD36+BL36+BT36+CB36+CJ36=0,IF(E36>0,H35,0),0),0)","v":0},{"$f":"G36*H36","v":{"v":0,"d":"0.00"}},{"$f":"IF($B36=1,$I36,0)","v":{"v":0,"d":"0.00"}},{"$f":"IF($B36=2,$I36,0)","v":{"v":0,"d":"0.00"}},{"$f":"IF($B36=3,$I36,0)","v":{"v":0,"d":"0.00"}},{"$f":"IF($B36=4,$I36,0)","v":{"v":0,"d":"0.00"}},{"$f":"IF($B36=5,$I36,0)","v":{"v":0,"d":"0.00"}},{"$f":"IF($B36=6,$I36,0)","v":{"v":0,"d":"0.00"}},{"$f":"IF(P35>0,IF(H36+X36+AF36+AN36+AV36+BD36+BL36+BT36+CB36+CJ36=0,IF(E36>0,P35,0),0),0)","v":0},{"$f":"G36*P36","v":{"v":0,"d":"0.00"}},{"$f":"IF(B36=1,Q36,0)","v":{"v":0,"d":"0.00"}},{"$f":"IF(B36=2,Q36,0)","v":{"v":0,"d":"0.00"}},{"$f":"IF(B36=3,Q36,0)","v":{"v":0,"d":"0.00"}},{"$f":"IF(B36=4,Q36,0)","v":{"v":0,"d":"0.00"}},{"$f":"IF(B36=5,Q36,0)","v":{"v":0,"d":"0.00"}},{"$f":"IF(B36=6,Q36,0)","v":{"v":0,"d":"0.00"}},{"$f":"IF(X35>0,IF(H36+P36+AF36+AN36+AV36+BD36+BL36+BT36+CB36+CJ36=0,IF(E36>0,X35,0),0),0)","v":0},{"$f":"G36*X36","v":{"v":0,"d":"0.00"}},{"$f":"IF($B36=1,$Y36,0)","v":{"v":0,"d":"0.00"}},{"$f":"IF($B36=2,$Y36,0)","v":{"v":0,"d":"0.00"}},{"$f":"IF($B36=3,$Y36,0)","v":{"v":0,"d":"0.00"}},{"$f":"IF($B36=4,$Y36,0)","v":{"v":0,"d":"0.00"}},{"$f":"IF($B36=5,$Y36,0)","v":{"v":0,"d":"0.00"}},{"$f":"IF($B36=6,$Y36,0)","v":{"v":0,"d":"0.00"}},{"$f":"IF(AF35>0,IF(H36+P36+X36+AN36+AV36+BD36+BL36+BT36+CB36+CJ36=0,IF(E36>0,AF35,0),0),0)","v":0},{"$f":"G36*AF36","v":{"v":0,"d":"0.00"}},{"$f":"IF($B36=1,$AG36,0)","v":{"v":0,"d":"0.00"}},{"$f":"IF($B36=2,$AG36,0)","v":{"v":0,"d":"0.00"}},{"$f":"IF($B36=3,$AG36,0)","v":{"v":0,"d":"0.00"}},{"$f":"IF($B36=4,$AG36,0)","v":{"v":0,"d":"0.00"}},{"$f":"IF($B36=5,$AG36,0)","v":{"v":0,"d":"0.00"}},{"$f":"IF($B36=6,$AG36,0)","v":{"v":0,"d":"0.00"}},{"$f":"IF(AN35>0,IF(H36+P36+X36+AF36+AV36+BD36+BL36+BT36+CB36+CJ36=0,IF(E36>0,AN35,0),0),0)","v":0},{"$f":"G36*AN36","v":{"v":0,"d":"0.00"}},{"$f":"IF($B36=1,$AO36,0)","v":{"v":0,"d":"0.00"}},{"$f":"IF($B36=2,$AO36,0)","v":{"v":0,"d":"0.00"}},{"$f":"IF($B36=3,$AO36,0)","v":{"v":0,"d":"0.00"}},{"$f":"IF($B36=4,$AO36,0)","v":{"v":0,"d":"0.00"}},{"$f":"IF($B36=5,$AO36,0)","v":{"v":0,"d":"0.00"}},{"$f":"IF($B36=6,$AO36,0)","v":{"v":0,"d":"0.00"}},{"$f":"IF(AV35>0,IF(H36+P36+X36+AF36+AN36+BD36+BL36+BT36+CB36+CJ36=0,IF(E36>0,AV35,0),0),0)","v":0},{"$f":"G36*AV36","v":{"v":0,"d":"0.00"}},{"$f":"IF($B36=1,$AW36,0)","v":{"v":0,"d":"0.00"}},{"$f":"IF($B36=2,$AW36,0)","v":{"v":0,"d":"0.00"}},{"$f":"IF($B36=3,$AW36,0)","v":{"v":0,"d":"0.00"}},{"$f":"IF($B36=4,$AW36,0)","v":{"v":0,"d":"0.00"}},{"$f":"IF($B36=5,$AW36,0)","v":{"v":0,"d":"0.00"}},{"$f":"IF($B36=6,$AW36,0)","v":{"v":0,"d":"0.00"}},{"$f":"IF(BD35>0,IF(H36+P36+X36+AF36+AN36+AV36+BL36+BT36+CB36+CJ36=0,IF(E36>0,BD35,0),0),0)","v":0},{"$f":"G36*BD36","v":{"v":0,"d":"0.00"}},{"$f":"IF($B36=1,$BE36,0)","v":{"v":0,"d":"0.00"}},{"$f":"IF($B36=2,$BE36,0)","v":{"v":0,"d":"0.00"}},{"$f":"IF($B36=3,$BE36,0)","v":{"v":0,"d":"0.00"}},{"$f":"IF($B36=4,$BE36,0)","v":{"v":0,"d":"0.00"}},{"$f":"IF($B36=5,$BE36,0)","v":{"v":0,"d":"0.00"}},{"$f":"IF($B36=6,$BE36,0)","v":{"v":0,"d":"0.00"}},{"$f":"IF(BL35>0,IF(H36+P36+X36+AF36+AN36+AV36+BD36+BT36+CB36+CJ36=0,IF(E36>0,BL35,0),0),0)","v":0},{"$f":"G36*BL36","v":{"v":0,"d":"0.00"}},{"$f":"IF($B36=1,$BM36,0)","v":{"v":0,"d":"0.00"}},{"$f":"IF($B36=2,$BM36,0)","v":{"v":0,"d":"0.00"}},{"$f":"IF($B36=3,$BM36,0)","v":{"v":0,"d":"0.00"}},{"$f":"IF($B36=4,$BM36,0)","v":{"v":0,"d":"0.00"}},{"$f":"IF($B36=5,$BM36,0)","v":{"v":0,"d":"0.00"}},{"$f":"IF($B36=6,$BM36,0)","v":{"v":0,"d":"0.00"}},{"$f":"IF(BT35>0,IF(H36+P36+X36+AF36+AN36+AV36+BD36+BL36+CB36+CJ36=0,IF(E36>0,BT35,0),0),0)","v":0},{"$f":"G36*BT36","v":{"v":0,"d":"0.00"}},{"$f":"IF($B36=1,$BU36,0)","v":{"v":0,"d":"0.00"}},{"$f":"IF($B36=2,$BU36,0)","v":{"v":0,"d":"0.00"}},{"$f":"IF($B36=3,$BU36,0)","v":{"v":0,"d":"0.00"}},{"$f":"IF($B36=4,$BU36,0)","v":{"v":0,"d":"0.00"}},{"$f":"IF($B36=5,$BU36,0)","v":{"v":0,"d":"0.00"}},{"$f":"IF($B36=6,$BU36,0)","v":{"v":0,"d":"0.00"}},{"$f":"IF(CB35>0,IF(H36+P36+X36+AF36+AN36+AV36+BD36+BL36+BT36+CJ36=0,IF(E36>0,CB35,0),0),0)","v":0},{"$f":"G36*CB36","v":{"v":0,"d":"0.00"}},{"$f":"IF($B36=1,$CC36,0)","v":{"v":0,"d":"0.00"}},{"$f":"IF($B36=2,$CC36,0)","v":{"v":0,"d":"0.00"}},{"$f":"IF($B36=3,$CC36,0)","v":{"v":0,"d":"0.00"}},{"$f":"IF($B36=4,$CC36,0)","v":{"v":0,"d":"0.00"}},{"$f":"IF($B36=5,$CC36,0)","v":{"v":0,"d":"0.00"}},{"$f":"IF($B36=6,$CC36,0)","v":{"v":0,"d":"0.00"}},{"$f":"IF(CJ35>0,IF(H36+P36+X36+AF36+AN36+AV36+BD36+BL36+BT36+CB36=0,IF(E36>0,CJ35,0),0),0)","v":0},{"$f":"G36*CJ36","v":{"v":0,"d":"0.00"}},{"$f":"IF($B36=1,$CK36,0)","v":{"v":0,"d":"0.00"}},{"$f":"IF($B36=2,$CK36,0)","v":{"v":0,"d":"0.00"}},{"$f":"IF($B36=3,$CK36,0)","v":{"v":0,"d":"0.00"}},{"$f":"IF($B36=4,$CK36,0)","v":{"v":0,"d":"0.00"}},{"$f":"IF($B36=5,$CK36,0)","v":{"v":0,"d":"0.00"}},{"$f":"IF($B36=6,$CK36,0)","v":{"v":0,"d":"0.00"}}]
[{"$f":"IF(C36<>C37,C37,\"\")","v":""},{"$f":"IF(C36<>C37,_xlfn.DAYS(C37,C36)+B36,B36)","v":1},{"$f":"IF(D37>0,IF(D37<E36,C36+1,C36),C36)","v":"2009-02-09"},{"$f":"IF((E37+H37+P37+X37+AF37+AN37+AV37+BD37+BL37+BT37+CB37+CJ37)>0,E36,0)","v":"00:00:00"},null,{"$f":"E37-D37","v":"00:00:00"},{"$f":"IF(E37>0,HOUR(F37)+(MINUTE(F37)/60),0)","v":0},{"$f":"IF(H36>0,IF(P37+X37+AF37+AN37+AV37+BD37+BL37+BT37+CB37+CJ37=0,IF(E37>0,H36,0),0),0)","v":0},{"$f":"G37*H37","v":{"v":0,"d":"0.00"}},{"$f":"IF($B37=1,$I37,0)","v":{"v":0,"d":"0.00"}},{"$f":"IF($B37=2,$I37,0)","v":{"v":0,"d":"0.00"}},{"$f":"IF($B37=3,$I37,0)","v":{"v":0,"d":"0.00"}},{"$f":"IF($B37=4,$I37,0)","v":{"v":0,"d":"0.00"}},{"$f":"IF($B37=5,$I37,0)","v":{"v":0,"d":"0.00"}},{"$f":"IF($B37=6,$I37,0)","v":{"v":0,"d":"0.00"}},{"$f":"IF(P36>0,IF(H37+X37+AF37+AN37+AV37+BD37+BL37+BT37+CB37+CJ37=0,IF(E37>0,P36,0),0),0)","v":0},{"$f":"G37*P37","v":{"v":0,"d":"0.00"}},{"$f":"IF(B37=1,Q37,0)","v":{"v":0,"d":"0.00"}},{"$f":"IF(B37=2,Q37,0)","v":{"v":0,"d":"0.00"}},{"$f":"IF(B37=3,Q37,0)","v":{"v":0,"d":"0.00"}},{"$f":"IF(B37=4,Q37,0)","v":{"v":0,"d":"0.00"}},{"$f":"IF(B37=5,Q37,0)","v":{"v":0,"d":"0.00"}},{"$f":"IF(B37=6,Q37,0)","v":{"v":0,"d":"0.00"}},{"$f":"IF(X36>0,IF(H37+P37+AF37+AN37+AV37+BD37+BL37+BT37+CB37+CJ37=0,IF(E37>0,X36,0),0),0)","v":0},{"$f":"G37*X37","v":{"v":0,"d":"0.00"}},{"$f":"IF($B37=1,$Y37,0)","v":{"v":0,"d":"0.00"}},{"$f":"IF($B37=2,$Y37,0)","v":{"v":0,"d":"0.00"}},{"$f":"IF($B37=3,$Y37,0)","v":{"v":0,"d":"0.00"}},{"$f":"IF($B37=4,$Y37,0)","v":{"v":0,"d":"0.00"}},{"$f":"IF($B37=5,$Y37,0)","v":{"v":0,"d":"0.00"}},{"$f":"IF($B37=6,$Y37,0)","v":{"v":0,"d":"0.00"}},{"$f":"IF(AF36>0,IF(H37+P37+X37+AN37+AV37+BD37+BL37+BT37+CB37+CJ37=0,IF(E37>0,AF36,0),0),0)","v":0},{"$f":"G37*AF37","v":{"v":0,"d":"0.00"}},{"$f":"IF($B37=1,$AG37,0)","v":{"v":0,"d":"0.00"}},{"$f":"IF($B37=2,$AG37,0)","v":{"v":0,"d":"0.00"}},{"$f":"IF($B37=3,$AG37,0)","v":{"v":0,"d":"0.00"}},{"$f":"IF($B37=4,$AG37,0)","v":{"v":0,"d":"0.00"}},{"$f":"IF($B37=5,$AG37,0)","v":{"v":0,"d":"0.00"}},{"$f":"IF($B37=6,$AG37,0)","v":{"v":0,"d":"0.00"}},{"$f":"IF(AN36>0,IF(H37+P37+X37+AF37+AV37+BD37+BL37+BT37+CB37+CJ37=0,IF(E37>0,AN36,0),0),0)","v":0},{"$f":"G37*AN37","v":{"v":0,"d":"0.00"}},{"$f":"IF($B37=1,$AO37,0)","v":{"v":0,"d":"0.00"}},{"$f":"IF($B37=2,$AO37,0)","v":{"v":0,"d":"0.00"}},{"$f":"IF($B37=3,$AO37,0)","v":{"v":0,"d":"0.00"}},{"$f":"IF($B37=4,$AO37,0)","v":{"v":0,"d":"0.00"}},{"$f":"IF($B37=5,$AO37,0)","v":{"v":0,"d":"0.00"}},{"$f":"IF($B37=6,$AO37,0)","v":{"v":0,"d":"0.00"}},{"$f":"IF(AV36>0,IF(H37+P37+X37+AF37+AN37+BD37+BL37+BT37+CB37+CJ37=0,IF(E37>0,AV36,0),0),0)","v":0},{"$f":"G37*AV37","v":{"v":0,"d":"0.00"}},{"$f":"IF($B37=1,$AW37,0)","v":{"v":0,"d":"0.00"}},{"$f":"IF($B37=2,$AW37,0)","v":{"v":0,"d":"0.00"}},{"$f":"IF($B37=3,$AW37,0)","v":{"v":0,"d":"0.00"}},{"$f":"IF($B37=4,$AW37,0)","v":{"v":0,"d":"0.00"}},{"$f":"IF($B37=5,$AW37,0)","v":{"v":0,"d":"0.00"}},{"$f":"IF($B37=6,$AW37,0)","v":{"v":0,"d":"0.00"}},{"$f":"IF(BD36>0,IF(H37+P37+X37+AF37+AN37+AV37+BL37+BT37+CB37+CJ37=0,IF(E37>0,BD36,0),0),0)","v":0},{"$f":"G37*BD37","v":{"v":0,"d":"0.00"}},{"$f":"IF($B37=1,$BE37,0)","v":{"v":0,"d":"0.00"}},{"$f":"IF($B37=2,$BE37,0)","v":{"v":0,"d":"0.00"}},{"$f":"IF($B37=3,$BE37,0)","v":{"v":0,"d":"0.00"}},{"$f":"IF($B37=4,$BE37,0)","v":{"v":0,"d":"0.00"}},{"$f":"IF($B37=5,$BE37,0)","v":{"v":0,"d":"0.00"}},{"$f":"IF($B37=6,$BE37,0)","v":{"v":0,"d":"0.00"}},{"$f":"IF(BL36>0,IF(H37+P37+X37+AF37+AN37+AV37+BD37+BT37+CB37+CJ37=0,IF(E37>0,BL36,0),0),0)","v":0},{"$f":"G37*BL37","v":{"v":0,"d":"0.00"}},{"$f":"IF($B37=1,$BM37,0)","v":{"v":0,"d":"0.00"}},{"$f":"IF($B37=2,$BM37,0)","v":{"v":0,"d":"0.00"}},{"$f":"IF($B37=3,$BM37,0)","v":{"v":0,"d":"0.00"}},{"$f":"IF($B37=4,$BM37,0)","v":{"v":0,"d":"0.00"}},{"$f":"IF($B37=5,$BM37,0)","v":{"v":0,"d":"0.00"}},{"$f":"IF($B37=6,$BM37,0)","v":{"v":0,"d":"0.00"}},{"$f":"IF(BT36>0,IF(H37+P37+X37+AF37+AN37+AV37+BD37+BL37+CB37+CJ37=0,IF(E37>0,BT36,0),0),0)","v":0},{"$f":"G37*BT37","v":{"v":0,"d":"0.00"}},{"$f":"IF($B37=1,$BU37,0)","v":{"v":0,"d":"0.00"}},{"$f":"IF($B37=2,$BU37,0)","v":{"v":0,"d":"0.00"}},{"$f":"IF($B37=3,$BU37,0)","v":{"v":0,"d":"0.00"}},{"$f":"IF($B37=4,$BU37,0)","v":{"v":0,"d":"0.00"}},{"$f":"IF($B37=5,$BU37,0)","v":{"v":0,"d":"0.00"}},{"$f":"IF($B37=6,$BU37,0)","v":{"v":0,"d":"0.00"}},{"$f":"IF(CB36>0,IF(H37+P37+X37+AF37+AN37+AV37+BD37+BL37+BT37+CJ37=0,IF(E37>0,CB36,0),0),0)","v":0},{"$f":"G37*CB37","v":{"v":0,"d":"0.00"}},{"$f":"IF($B37=1,$CC37,0)","v":{"v":0,"d":"0.00"}},{"$f":"IF($B37=2,$CC37,0)","v":{"v":0,"d":"0.00"}},{"$f":"IF($B37=3,$CC37,0)","v":{"v":0,"d":"0.00"}},{"$f":"IF($B37=4,$CC37,0)","v":{"v":0,"d":"0.00"}},{"$f":"IF($B37=5,$CC37,0)","v":{"v":0,"d":"0.00"}},{"$f":"IF($B37=6,$CC37,0)","v":{"v":0,"d":"0.00"}},{"$f":"IF(CJ36>0,IF(H37+P37+X37+AF37+AN37+AV37+BD37+BL37+BT37+CB37=0,IF(E37>0,CJ36,0),0),0)","v":0},{"$f":"G37*CJ37","v":{"v":0,"d":"0.00"}},{"$f":"IF($B37=1,$CK37,0)","v":{"v":0,"d":"0.00"}},{"$f":"IF($B37=2,$CK37,0)","v":{"v":0,"d":"0.00"}},{"$f":"IF($B37=3,$CK37,0)","v":{"v":0,"d":"0.00"}},{"$f":"IF($B37=4,$CK37,0)","v":{"v":0,"d":"0.00"}},{"$f":"IF($B37=5,$CK37,0)","v":{"v":0,"d":"0.00"}},{"$f":"IF($B37=6,$CK37,0)","v":{"v":0,"d":"0.00"}}]
[{"$f":"IF(C37<>C38,C38,\"\")","v":""},{"$f":"IF(C37<>C38,_xlfn.DAYS(C38,C37)+B37,B37)","v":1},{"$f":"IF(D38>0,IF(D38<E37,C37+1,C37),C37)","v":"2009-02-09"},{"$f":"IF((E38+H38+P38+X38+AF38+AN38+AV38+BD38+BL38+BT38+CB38+CJ38)>0,E37,0)","v":"00:00:00"},null,{"$f":"E38-D38","v":"00:00:00"},{"$f":"IF(E38>0,HOUR(F38)+(MINUTE(F38)/60),0)","v":0},{"$f":"IF(H37>0,IF(P38+X38+AF38+AN38+AV38+BD38+BL38+BT38+CB38+CJ38=0,IF(E38>0,H37,0),0),0)","v":0},{"$f":"G38*H38","v":{"v":0,"d":"0.00"}},{"$f":"IF($B38=1,$I38,0)","v":{"v":0,"d":"0.00"}},{"$f":"IF($B38=2,$I38,0)","v":{"v":0,"d":"0.00"}},{"$f":"IF($B38=3,$I38,0)","v":{"v":0,"d":"0.00"}},{"$f":"IF($B38=4,$I38,0)","v":{"v":0,"d":"0.00"}},{"$f":"IF($B38=5,$I38,0)","v":{"v":0,"d":"0.00"}},{"$f":"IF($B38=6,$I38,0)","v":{"v":0,"d":"0.00"}},{"$f":"IF(P37>0,IF(H38+X38+AF38+AN38+AV38+BD38+BL38+BT38+CB38+CJ38=0,IF(E38>0,P37,0),0),0)","v":0},{"$f":"G38*P38","v":{"v":0,"d":"0.00"}},{"$f":"IF(B38=1,Q38,0)","v":{"v":0,"d":"0.00"}},{"$f":"IF(B38=2,Q38,0)","v":{"v":0,"d":"0.00"}},{"$f":"IF(B38=3,Q38,0)","v":{"v":0,"d":"0.00"}},{"$f":"IF(B38=4,Q38,0)","v":{"v":0,"d":"0.00"}},{"$f":"IF(B38=5,Q38,0)","v":{"v":0,"d":"0.00"}},{"$f":"IF(B38=6,Q38,0)","v":{"v":0,"d":"0.00"}},{"$f":"IF(X37>0,IF(H38+P38+AF38+AN38+AV38+BD38+BL38+BT38+CB38+CJ38=0,IF(E38>0,X37,0),0),0)","v":0},{"$f":"G38*X38","v":{"v":0,"d":"0.00"}},{"$f":"IF($B38=1,$Y38,0)","v":{"v":0,"d":"0.00"}},{"$f":"IF($B38=2,$Y38,0)","v":{"v":0,"d":"0.00"}},{"$f":"IF($B38=3,$Y38,0)","v":{"v":0,"d":"0.00"}},{"$f":"IF($B38=4,$Y38,0)","v":{"v":0,"d":"0.00"}},{"$f":"IF($B38=5,$Y38,0)","v":{"v":0,"d":"0.00"}},{"$f":"IF($B38=6,$Y38,0)","v":{"v":0,"d":"0.00"}},{"$f":"IF(AF37>0,IF(H38+P38+X38+AN38+AV38+BD38+BL38+BT38+CB38+CJ38=0,IF(E38>0,AF37,0),0),0)","v":0},{"$f":"G38*AF38","v":{"v":0,"d":"0.00"}},{"$f":"IF($B38=1,$AG38,0)","v":{"v":0,"d":"0.00"}},{"$f":"IF($B38=2,$AG38,0)","v":{"v":0,"d":"0.00"}},{"$f":"IF($B38=3,$AG38,0)","v":{"v":0,"d":"0.00"}},{"$f":"IF($B38=4,$AG38,0)","v":{"v":0,"d":"0.00"}},{"$f":"IF($B38=5,$AG38,0)","v":{"v":0,"d":"0.00"}},{"$f":"IF($B38=6,$AG38,0)","v":{"v":0,"d":"0.00"}},{"$f":"IF(AN37>0,IF(H38+P38+X38+AF38+AV38+BD38+BL38+BT38+CB38+CJ38=0,IF(E38>0,AN37,0),0),0)","v":0},{"$f":"G38*AN38","v":{"v":0,"d":"0.00"}},{"$f":"IF($B38=1,$AO38,0)","v":{"v":0,"d":"0.00"}},{"$f":"IF($B38=2,$AO38,0)","v":{"v":0,"d":"0.00"}},{"$f":"IF($B38=3,$AO38,0)","v":{"v":0,"d":"0.00"}},{"$f":"IF($B38=4,$AO38,0)","v":{"v":0,"d":"0.00"}},{"$f":"IF($B38=5,$AO38,0)","v":{"v":0,"d":"0.00"}},{"$f":"IF($B38=6,$AO38,0)","v":{"v":0,"d":"0.00"}},{"$f":"IF(AV37>0,IF(H38+P38+X38+AF38+AN38+BD38+BL38+BT38+CB38+CJ38=0,IF(E38>0,AV37,0),0),0)","v":0},{"$f":"G38*AV38","v":{"v":0,"d":"0.00"}},{"$f":"IF($B38=1,$AW38,0)","v":{"v":0,"d":"0.00"}},{"$f":"IF($B38=2,$AW38,0)","v":{"v":0,"d":"0.00"}},{"$f":"IF($B38=3,$AW38,0)","v":{"v":0,"d":"0.00"}},{"$f":"IF($B38=4,$AW38,0)","v":{"v":0,"d":"0.00"}},{"$f":"IF($B38=5,$AW38,0)","v":{"v":0,"d":"0.00"}},{"$f":"IF($B38=6,$AW38,0)","v":{"v":0,"d":"0.00"}},{"$f":"IF(BD37>0,IF(H38+P38+X38+AF38+AN38+AV38+BL38+BT38+CB38+CJ38=0,IF(E38>0,BD37,0),0),0)","v":0},{"$f":"G38*BD38","v":{"v":0,"d":"0.00"}},{"$f":"IF($B38=1,$BE38,0)","v":{"v":0,"d":"0.00"}},{"$f":"IF($B38=2,$BE38,0)","v":{"v":0,"d":"0.00"}},{"$f":"IF($B38=3,$BE38,0)","v":{"v":0,"d":"0.00"}},{"$f":"IF($B38=4,$BE38,0)","v":{"v":0,"d":"0.00"}},{"$f":"IF($B38=5,$BE38,0)","v":{"v":0,"d":"0.00"}},{"$f":"IF($B38=6,$BE38,0)","v":{"v":0,"d":"0.00"}},{"$f":"IF(BL37>0,IF(H38+P38+X38+AF38+AN38+AV38+BD38+BT38+CB38+CJ38=0,IF(E38>0,BL37,0),0),0)","v":0},{"$f":"G38*BL38","v":{"v":0,"d":"0.00"}},{"$f":"IF($B38=1,$BM38,0)","v":{"v":0,"d":"0.00"}},{"$f":"IF($B38=2,$BM38,0)","v":{"v":0,"d":"0.00"}},{"$f":"IF($B38=3,$BM38,0)","v":{"v":0,"d":"0.00"}},{"$f":"IF($B38=4,$BM38,0)","v":{"v":0,"d":"0.00"}},{"$f":"IF($B38=5,$BM38,0)","v":{"v":0,"d":"0.00"}},{"$f":"IF($B38=6,$BM38,0)","v":{"v":0,"d":"0.00"}},{"$f":"IF(BT37>0,IF(H38+P38+X38+AF38+AN38+AV38+BD38+BL38+CB38+CJ38=0,IF(E38>0,BT37,0),0),0)","v":0},{"$f":"G38*BT38","v":{"v":0,"d":"0.00"}},{"$f":"IF($B38=1,$BU38,0)","v":{"v":0,"d":"0.00"}},{"$f":"IF($B38=2,$BU38,0)","v":{"v":0,"d":"0.00"}},{"$f":"IF($B38=3,$BU38,0)","v":{"v":0,"d":"0.00"}},{"$f":"IF($B38=4,$BU38,0)","v":{"v":0,"d":"0.00"}},{"$f":"IF($B38=5,$BU38,0)","v":{"v":0,"d":"0.00"}},{"$f":"IF($B38=6,$BU38,0)","v":{"v":0,"d":"0.00"}},{"$f":"IF(CB37>0,IF(H38+P38+X38+AF38+AN38+AV38+BD38+BL38+BT38+CJ38=0,IF(E38>0,CB37,0),0),0)","v":0},{"$f":"G38*CB38","v":{"v":0,"d":"0.00"}},{"$f":"IF($B38=1,$CC38,0)","v":{"v":0,"d":"0.00"}},{"$f":"IF($B38=2,$CC38,0)","v":{"v":0,"d":"0.00"}},{"$f":"IF($B38=3,$CC38,0)","v":{"v":0,"d":"0.00"}},{"$f":"IF($B38=4,$CC38,0)","v":{"v":0,"d":"0.00"}},{"$f":"IF($B38=5,$CC38,0)","v":{"v":0,"d":"0.00"}},{"$f":"IF($B38=6,$CC38,0)","v":{"v":0,"d":"0.00"}},{"$f":"IF(CJ37>0,IF(H38+P38+X38+AF38+AN38+AV38+BD38+BL38+BT38+CB38=0,IF(E38>0,CJ37,0),0),0)","v":0},{"$f":"G38*CJ38","v":{"v":0,"d":"0.00"}},{"$f":"IF($B38=1,$CK38,0)","v":{"v":0,"d":"0.00"}},{"$f":"IF($B38=2,$CK38,0)","v":{"v":0,"d":"0.00"}},{"$f":"IF($B38=3,$CK38,0)","v":{"v":0,"d":"0.00"}},{"$f":"IF($B38=4,$CK38,0)","v":{"v":0,"d":"0.00"}},{"$f":"IF($B38=5,$CK38,0)","v":{"v":0,"d":"0.00"}},{"$f":"IF($B38=6,$CK38,0)","v":{"v":0,"d":"0.00"}}]
[{"$f":"IF(C38<>C39,C39,\"\")","v":""},{"$f":"IF(C38<>C39,_xlfn.DAYS(C39,C38)+B38,B38)","v":1},{"$f":"IF(D39>0,IF(D39<E38,C38+1,C38),C38)","v":"2009-02-09"},{"$f":"IF((E39+H39+P39+X39+AF39+AN39+AV39+BD39+BL39+BT39+CB39+CJ39)>0,E38,0)","v":"00:00:00"},null,{"$f":"E39-D39","v":"00:00:00"},{"$f":"IF(E39>0,HOUR(F39)+(MINUTE(F39)/60),0)","v":0},{"$f":"IF(H38>0,IF(P39+X39+AF39+AN39+AV39+BD39+BL39+BT39+CB39+CJ39=0,IF(E39>0,H38,0),0),0)","v":0},{"$f":"G39*H39","v":{"v":0,"d":"0.00"}},{"$f":"IF($B39=1,$I39,0)","v":{"v":0,"d":"0.00"}},{"$f":"IF($B39=2,$I39,0)","v":{"v":0,"d":"0.00"}},{"$f":"IF($B39=3,$I39,0)","v":{"v":0,"d":"0.00"}},{"$f":"IF($B39=4,$I39,0)","v":{"v":0,"d":"0.00"}},{"$f":"IF($B39=5,$I39,0)","v":{"v":0,"d":"0.00"}},{"$f":"IF($B39=6,$I39,0)","v":{"v":0,"d":"0.00"}},{"$f":"IF(P38>0,IF(H39+X39+AF39+AN39+AV39+BD39+BL39+BT39+CB39+CJ39=0,IF(E39>0,P38,0),0),0)","v":0},{"$f":"G39*P39","v":{"v":0,"d":"0.00"}},{"$f":"IF(B39=1,Q39,0)","v":{"v":0,"d":"0.00"}},{"$f":"IF(B39=2,Q39,0)","v":{"v":0,"d":"0.00"}},{"$f":"IF(B39=3,Q39,0)","v":{"v":0,"d":"0.00"}},{"$f":"IF(B39=4,Q39,0)","v":{"v":0,"d":"0.00"}},{"$f":"IF(B39=5,Q39,0)","v":{"v":0,"d":"0.00"}},{"$f":"IF(B39=6,Q39,0)","v":{"v":0,"d":"0.00"}},{"$f":"IF(X38>0,IF(H39+P39+AF39+AN39+AV39+BD39+BL39+BT39+CB39+CJ39=0,IF(E39>0,X38,0),0),0)","v":0},{"$f":"G39*X39","v":{"v":0,"d":"0.00"}},{"$f":"IF($B39=1,$Y39,0)","v":{"v":0,"d":"0.00"}},{"$f":"IF($B39=2,$Y39,0)","v":{"v":0,"d":"0.00"}},{"$f":"IF($B39=3,$Y39,0)","v":{"v":0,"d":"0.00"}},{"$f":"IF($B39=4,$Y39,0)","v":{"v":0,"d":"0.00"}},{"$f":"IF($B39=5,$Y39,0)","v":{"v":0,"d":"0.00"}},{"$f":"IF($B39=6,$Y39,0)","v":{"v":0,"d":"0.00"}},{"$f":"IF(AF38>0,IF(H39+P39+X39+AN39+AV39+BD39+BL39+BT39+CB39+CJ39=0,IF(E39>0,AF38,0),0),0)","v":0},{"$f":"G39*AF39","v":{"v":0,"d":"0.00"}},{"$f":"IF($B39=1,$AG39,0)","v":{"v":0,"d":"0.00"}},{"$f":"IF($B39=2,$AG39,0)","v":{"v":0,"d":"0.00"}},{"$f":"IF($B39=3,$AG39,0)","v":{"v":0,"d":"0.00"}},{"$f":"IF($B39=4,$AG39,0)","v":{"v":0,"d":"0.00"}},{"$f":"IF($B39=5,$AG39,0)","v":{"v":0,"d":"0.00"}},{"$f":"IF($B39=6,$AG39,0)","v":{"v":0,"d":"0.00"}},{"$f":"IF(AN38>0,IF(H39+P39+X39+AF39+AV39+BD39+BL39+BT39+CB39+CJ39=0,IF(E39>0,AN38,0),0),0)","v":0},{"$f":"G39*AN39","v":{"v":0,"d":"0.00"}},{"$f":"IF($B39=1,$AO39,0)","v":{"v":0,"d":"0.00"}},{"$f":"IF($B39=2,$AO39,0)","v":{"v":0,"d":"0.00"}},{"$f":"IF($B39=3,$AO39,0)","v":{"v":0,"d":"0.00"}},{"$f":"IF($B39=4,$AO39,0)","v":{"v":0,"d":"0.00"}},{"$f":"IF($B39=5,$AO39,0)","v":{"v":0,"d":"0.00"}},{"$f":"IF($B39=6,$AO39,0)","v":{"v":0,"d":"0.00"}},{"$f":"IF(AV38>0,IF(H39+P39+X39+AF39+AN39+BD39+BL39+BT39+CB39+CJ39=0,IF(E39>0,AV38,0),0),0)","v":0},{"$f":"G39*AV39","v":{"v":0,"d":"0.00"}},{"$f":"IF($B39=1,$AW39,0)","v":{"v":0,"d":"0.00"}},{"$f":"IF($B39=2,$AW39,0)","v":{"v":0,"d":"0.00"}},{"$f":"IF($B39=3,$AW39,0)","v":{"v":0,"d":"0.00"}},{"$f":"IF($B39=4,$AW39,0)","v":{"v":0,"d":"0.00"}},{"$f":"IF($B39=5,$AW39,0)","v":{"v":0,"d":"0.00"}},{"$f":"IF($B39=6,$AW39,0)","v":{"v":0,"d":"0.00"}},{"$f":"IF(BD38>0,IF(H39+P39+X39+AF39+AN39+AV39+BL39+BT39+CB39+CJ39=0,IF(E39>0,BD38,0),0),0)","v":0},{"$f":"G39*BD39","v":{"v":0,"d":"0.00"}},{"$f":"IF($B39=1,$BE39,0)","v":{"v":0,"d":"0.00"}},{"$f":"IF($B39=2,$BE39,0)","v":{"v":0,"d":"0.00"}},{"$f":"IF($B39=3,$BE39,0)","v":{"v":0,"d":"0.00"}},{"$f":"IF($B39=4,$BE39,0)","v":{"v":0,"d":"0.00"}},{"$f":"IF($B39=5,$BE39,0)","v":{"v":0,"d":"0.00"}},{"$f":"IF($B39=6,$BE39,0)","v":{"v":0,"d":"0.00"}},{"$f":"IF(BL38>0,IF(H39+P39+X39+AF39+AN39+AV39+BD39+BT39+CB39+CJ39=0,IF(E39>0,BL38,0),0),0)","v":0},{"$f":"G39*BL39","v":{"v":0,"d":"0.00"}},{"$f":"IF($B39=1,$BM39,0)","v":{"v":0,"d":"0.00"}},{"$f":"IF($B39=2,$BM39,0)","v":{"v":0,"d":"0.00"}},{"$f":"IF($B39=3,$BM39,0)","v":{"v":0,"d":"0.00"}},{"$f":"IF($B39=4,$BM39,0)","v":{"v":0,"d":"0.00"}},{"$f":"IF($B39=5,$BM39,0)","v":{"v":0,"d":"0.00"}},{"$f":"IF($B39=6,$BM39,0)","v":{"v":0,"d":"0.00"}},{"$f":"IF(BT38>0,IF(H39+P39+X39+AF39+AN39+AV39+BD39+BL39+CB39+CJ39=0,IF(E39>0,BT38,0),0),0)","v":0},{"$f":"G39*BT39","v":{"v":0,"d":"0.00"}},{"$f":"IF($B39=1,$BU39,0)","v":{"v":0,"d":"0.00"}},{"$f":"IF($B39=2,$BU39,0)","v":{"v":0,"d":"0.00"}},{"$f":"IF($B39=3,$BU39,0)","v":{"v":0,"d":"0.00"}},{"$f":"IF($B39=4,$BU39,0)","v":{"v":0,"d":"0.00"}},{"$f":"IF($B39=5,$BU39,0)","v":{"v":0,"d":"0.00"}},{"$f":"IF($B39=6,$BU39,0)","v":{"v":0,"d":"0.00"}},{"$f":"IF(CB38>0,IF(H39+P39+X39+AF39+AN39+AV39+BD39+BL39+BT39+CJ39=0,IF(E39>0,CB38,0),0),0)","v":0},{"$f":"G39*CB39","v":{"v":0,"d":"0.00"}},{"$f":"IF($B39=1,$CC39,0)","v":{"v":0,"d":"0.00"}},{"$f":"IF($B39=2,$CC39,0)","v":{"v":0,"d":"0.00"}},{"$f":"IF($B39=3,$CC39,0)","v":{"v":0,"d":"0.00"}},{"$f":"IF($B39=4,$CC39,0)","v":{"v":0,"d":"0.00"}},{"$f":"IF($B39=5,$CC39,0)","v":{"v":0,"d":"0.00"}},{"$f":"IF($B39=6,$CC39,0)","v":{"v":0,"d":"0.00"}},{"$f":"IF(CJ38>0,IF(H39+P39+X39+AF39+AN39+AV39+BD39+BL39+BT39+CB39=0,IF(E39>0,CJ38,0),0),0)","v":0},{"$f":"G39*CJ39","v":{"v":0,"d":"0.00"}},{"$f":"IF($B39=1,$CK39,0)","v":{"v":0,"d":"0.00"}},{"$f":"IF($B39=2,$CK39,0)","v":{"v":0,"d":"0.00"}},{"$f":"IF($B39=3,$CK39,0)","v":{"v":0,"d":"0.00"}},{"$f":"IF($B39=4,$CK39,0)","v":{"v":0,"d":"0.00"}},{"$f":"IF($B39=5,$CK39,0)","v":{"v":0,"d":"0.00"}},{"$f":"IF($B39=6,$CK39,0)","v":{"v":0,"d":"0.00"}}]
[{"$f":"IF(C39<>C40,C40,\"\")","v":""},{"$f":"IF(C39<>C40,_xlfn.DAYS(C40,C39)+B39,B39)","v":1},{"$f":"IF(D40>0,IF(D40<E39,C39+1,C39),C39)","v":"2009-02-09"},{"$f":"IF((E40+H40+P40+X40+AF40+AN40+AV40+BD40+BL40+BT40+CB40+CJ40)>0,E39,0)","v":"00:00:00"},null,{"$f":"E40-D40","v":"00:00:00"},{"$f":"IF(E40>0,HOUR(F40)+(MINUTE(F40)/60),0)","v":0},{"$f":"IF(H39>0,IF(P40+X40+AF40+AN40+AV40+BD40+BL40+BT40+CB40+CJ40=0,IF(E40>0,H39,0),0),0)","v":0},{"$f":"G40*H40","v":{"v":0,"d":"0.00"}},{"$f":"IF($B40=1,$I40,0)","v":{"v":0,"d":"0.00"}},{"$f":"IF($B40=2,$I40,0)","v":{"v":0,"d":"0.00"}},{"$f":"IF($B40=3,$I40,0)","v":{"v":0,"d":"0.00"}},{"$f":"IF($B40=4,$I40,0)","v":{"v":0,"d":"0.00"}},{"$f":"IF($B40=5,$I40,0)","v":{"v":0,"d":"0.00"}},{"$f":"IF($B40=6,$I40,0)","v":{"v":0,"d":"0.00"}},{"$f":"IF(P39>0,IF(H40+X40+AF40+AN40+AV40+BD40+BL40+BT40+CB40+CJ40=0,IF(E40>0,P39,0),0),0)","v":0},{"$f":"G40*P40","v":{"v":0,"d":"0.00"}},{"$f":"IF(B40=1,Q40,0)","v":{"v":0,"d":"0.00"}},{"$f":"IF(B40=2,Q40,0)","v":{"v":0,"d":"0.00"}},{"$f":"IF(B40=3,Q40,0)","v":{"v":0,"d":"0.00"}},{"$f":"IF(B40=4,Q40,0)","v":{"v":0,"d":"0.00"}},{"$f":"IF(B40=5,Q40,0)","v":{"v":0,"d":"0.00"}},{"$f":"IF(B40=6,Q40,0)","v":{"v":0,"d":"0.00"}},{"$f":"IF(X39>0,IF(H40+P40+AF40+AN40+AV40+BD40+BL40+BT40+CB40+CJ40=0,IF(E40>0,X39,0),0),0)","v":0},{"$f":"G40*X40","v":{"v":0,"d":"0.00"}},{"$f":"IF($B40=1,$Y40,0)","v":{"v":0,"d":"0.00"}},{"$f":"IF($B40=2,$Y40,0)","v":{"v":0,"d":"0.00"}},{"$f":"IF($B40=3,$Y40,0)","v":{"v":0,"d":"0.00"}},{"$f":"IF($B40=4,$Y40,0)","v":{"v":0,"d":"0.00"}},{"$f":"IF($B40=5,$Y40,0)","v":{"v":0,"d":"0.00"}},{"$f":"IF($B40=6,$Y40,0)","v":{"v":0,"d":"0.00"}},{"$f":"IF(AF39>0,IF(H40+P40+X40+AN40+AV40+BD40+BL40+BT40+CB40+CJ40=0,IF(E40>0,AF39,0),0),0)","v":0},{"$f":"G40*AF40","v":{"v":0,"d":"0.00"}},{"$f":"IF($B40=1,$AG40,0)","v":{"v":0,"d":"0.00"}},{"$f":"IF($B40=2,$AG40,0)","v":{"v":0,"d":"0.00"}},{"$f":"IF($B40=3,$AG40,0)","v":{"v":0,"d":"0.00"}},{"$f":"IF($B40=4,$AG40,0)","v":{"v":0,"d":"0.00"}},{"$f":"IF($B40=5,$AG40,0)","v":{"v":0,"d":"0.00"}},{"$f":"IF($B40=6,$AG40,0)","v":{"v":0,"d":"0.00"}},{"$f":"IF(AN39>0,IF(H40+P40+X40+AF40+AV40+BD40+BL40+BT40+CB40+CJ40=0,IF(E40>0,AN39,0),0),0)","v":0},{"$f":"G40*AN40","v":{"v":0,"d":"0.00"}},{"$f":"IF($B40=1,$AO40,0)","v":{"v":0,"d":"0.00"}},{"$f":"IF($B40=2,$AO40,0)","v":{"v":0,"d":"0.00"}},{"$f":"IF($B40=3,$AO40,0)","v":{"v":0,"d":"0.00"}},{"$f":"IF($B40=4,$AO40,0)","v":{"v":0,"d":"0.00"}},{"$f":"IF($B40=5,$AO40,0)","v":{"v":0,"d":"0.00"}},{"$f":"IF($B40=6,$AO40,0)","v":{"v":0,"d":"0.00"}},{"$f":"IF(AV39>0,IF(H40+P40+X40+AF40+AN40+BD40+BL40+BT40+CB40+CJ40=0,IF(E40>0,AV39,0),0),0)","v":0},{"$f":"G40*AV40","v":{"v":0,"d":"0.00"}},{"$f":"IF($B40=1,$AW40,0)","v":{"v":0,"d":"0.00"}},{"$f":"IF($B40=2,$AW40,0)","v":{"v":0,"d":"0.00"}},{"$f":"IF($B40=3,$AW40,0)","v":{"v":0,"d":"0.00"}},{"$f":"IF($B40=4,$AW40,0)","v":{"v":0,"d":"0.00"}},{"$f":"IF($B40=5,$AW40,0)","v":{"v":0,"d":"0.00"}},{"$f":"IF($B40=6,$AW40,0)","v":{"v":0,"d":"0.00"}},{"$f":"IF(BD39>0,IF(H40+P40+X40+AF40+AN40+AV40+BL40+BT40+CB40+CJ40=0,IF(E40>0,BD39,0),0),0)","v":0},{"$f":"G40*BD40","v":{"v":0,"d":"0.00"}},{"$f":"IF($B40=1,$BE40,0)","v":{"v":0,"d":"0.00"}},{"$f":"IF($B40=2,$BE40,0)","v":{"v":0,"d":"0.00"}},{"$f":"IF($B40=3,$BE40,0)","v":{"v":0,"d":"0.00"}},{"$f":"IF($B40=4,$BE40,0)","v":{"v":0,"d":"0.00"}},{"$f":"IF($B40=5,$BE40,0)","v":{"v":0,"d":"0.00"}},{"$f":"IF($B40=6,$BE40,0)","v":{"v":0,"d":"0.00"}},{"$f":"IF(BL39>0,IF(H40+P40+X40+AF40+AN40+AV40+BD40+BT40+CB40+CJ40=0,IF(E40>0,BL39,0),0),0)","v":0},{"$f":"G40*BL40","v":{"v":0,"d":"0.00"}},{"$f":"IF($B40=1,$BM40,0)","v":{"v":0,"d":"0.00"}},{"$f":"IF($B40=2,$BM40,0)","v":{"v":0,"d":"0.00"}},{"$f":"IF($B40=3,$BM40,0)","v":{"v":0,"d":"0.00"}},{"$f":"IF($B40=4,$BM40,0)","v":{"v":0,"d":"0.00"}},{"$f":"IF($B40=5,$BM40,0)","v":{"v":0,"d":"0.00"}},{"$f":"IF($B40=6,$BM40,0)","v":{"v":0,"d":"0.00"}},{"$f":"IF(BT39>0,IF(H40+P40+X40+AF40+AN40+AV40+BD40+BL40+CB40+CJ40=0,IF(E40>0,BT39,0),0),0)","v":0},{"$f":"G40*BT40","v":{"v":0,"d":"0.00"}},{"$f":"IF($B40=1,$BU40,0)","v":{"v":0,"d":"0.00"}},{"$f":"IF($B40=2,$BU40,0)","v":{"v":0,"d":"0.00"}},{"$f":"IF($B40=3,$BU40,0)","v":{"v":0,"d":"0.00"}},{"$f":"IF($B40=4,$BU40,0)","v":{"v":0,"d":"0.00"}},{"$f":"IF($B40=5,$BU40,0)","v":{"v":0,"d":"0.00"}},{"$f":"IF($B40=6,$BU40,0)","v":{"v":0,"d":"0.00"}},{"$f":"IF(CB39>0,IF(H40+P40+X40+AF40+AN40+AV40+BD40+BL40+BT40+CJ40=0,IF(E40>0,CB39,0),0),0)","v":0},{"$f":"G40*CB40","v":{"v":0,"d":"0.00"}},{"$f":"IF($B40=1,$CC40,0)","v":{"v":0,"d":"0.00"}},{"$f":"IF($B40=2,$CC40,0)","v":{"v":0,"d":"0.00"}},{"$f":"IF($B40=3,$CC40,0)","v":{"v":0,"d":"0.00"}},{"$f":"IF($B40=4,$CC40,0)","v":{"v":0,"d":"0.00"}},{"$f":"IF($B40=5,$CC40,0)","v":{"v":0,"d":"0.00"}},{"$f":"IF($B40=6,$CC40,0)","v":{"v":0,"d":"0.00"}},{"$f":"IF(CJ39>0,IF(H40+P40+X40+AF40+AN40+AV40+BD40+BL40+BT40+CB40=0,IF(E40>0,CJ39,0),0),0)","v":0},{"$f":"G40*CJ40","v":{"v":0,"d":"0.00"}},{"$f":"IF($B40=1,$CK40,0)","v":{"v":0,"d":"0.00"}},{"$f":"IF($B40=2,$CK40,0)","v":{"v":0,"d":"0.00"}},{"$f":"IF($B40=3,$CK40,0)","v":{"v":0,"d":"0.00"}},{"$f":"IF($B40=4,$CK40,0)","v":{"v":0,"d":"0.00"}},{"$f":"IF($B40=5,$CK40,0)","v":{"v":0,"d":"0.00"}},{"$f":"IF($B40=6,$CK40,0)","v":{"v":0,"d":"0.00"}}]
[{"$f":"IF(C40<>C41,C41,\"\")","v":""},{"$f":"IF(C40<>C41,_xlfn.DAYS(C41,C40)+B40,B40)","v":1},{"$f":"IF(D41>0,IF(D41<E40,C40+1,C40),C40)","v":"2009-02-09"},{"$f":"IF((E41+H41+P41+X41+AF41+AN41+AV41+BD41+BL41+BT41+CB41+CJ41)>0,E40,0)","v":"00:00:00"},null,{"$f":"E41-D41","v":"00:00:00"},{"$f":"IF(E41>0,HOUR(F41)+(MINUTE(F41)/60),0)","v":0},{"$f":"IF(H40>0,IF(P41+X41+AF41+AN41+AV41+BD41+BL41+BT41+CB41+CJ41=0,IF(E41>0,H40,0),0),0)","v":0},{"$f":"G41*H41","v":{"v":0,"d":"0.00"}},{"$f":"IF($B41=1,$I41,0)","v":{"v":0,"d":"0.00"}},{"$f":"IF($B41=2,$I41,0)","v":{"v":0,"d":"0.00"}},{"$f":"IF($B41=3,$I41,0)","v":{"v":0,"d":"0.00"}},{"$f":"IF($B41=4,$I41,0)","v":{"v":0,"d":"0.00"}},{"$f":"IF($B41=5,$I41,0)","v":{"v":0,"d":"0.00"}},{"$f":"IF($B41=6,$I41,0)","v":{"v":0,"d":"0.00"}},{"$f":"IF(P40>0,IF(H41+X41+AF41+AN41+AV41+BD41+BL41+BT41+CB41+CJ41=0,IF(E41>0,P40,0),0),0)","v":0},{"$f":"G41*P41","v":{"v":0,"d":"0.00"}},{"$f":"IF(B41=1,Q41,0)","v":{"v":0,"d":"0.00"}},{"$f":"IF(B41=2,Q41,0)","v":{"v":0,"d":"0.00"}},{"$f":"IF(B41=3,Q41,0)","v":{"v":0,"d":"0.00"}},{"$f":"IF(B41=4,Q41,0)","v":{"v":0,"d":"0.00"}},{"$f":"IF(B41=5,Q41,0)","v":{"v":0,"d":"0.00"}},{"$f":"IF(B41=6,Q41,0)","v":{"v":0,"d":"0.00"}},{"$f":"IF(X40>0,IF(H41+P41+AF41+AN41+AV41+BD41+BL41+BT41+CB41+CJ41=0,IF(E41>0,X40,0),0),0)","v":0},{"$f":"G41*X41","v":{"v":0,"d":"0.00"}},{"$f":"IF($B41=1,$Y41,0)","v":{"v":0,"d":"0.00"}},{"$f":"IF($B41=2,$Y41,0)","v":{"v":0,"d":"0.00"}},{"$f":"IF($B41=3,$Y41,0)","v":{"v":0,"d":"0.00"}},{"$f":"IF($B41=4,$Y41,0)","v":{"v":0,"d":"0.00"}},{"$f":"IF($B41=5,$Y41,0)","v":{"v":0,"d":"0.00"}},{"$f":"IF($B41=6,$Y41,0)","v":{"v":0,"d":"0.00"}},{"$f":"IF(AF40>0,IF(H41+P41+X41+AN41+AV41+BD41+BL41+BT41+CB41+CJ41=0,IF(E41>0,AF40,0),0),0)","v":0},{"$f":"G41*AF41","v":{"v":0,"d":"0.00"}},{"$f":"IF($B41=1,$AG41,0)","v":{"v":0,"d":"0.00"}},{"$f":"IF($B41=2,$AG41,0)","v":{"v":0,"d":"0.00"}},{"$f":"IF($B41=3,$AG41,0)","v":{"v":0,"d":"0.00"}},{"$f":"IF($B41=4,$AG41,0)","v":{"v":0,"d":"0.00"}},{"$f":"IF($B41=5,$AG41,0)","v":{"v":0,"d":"0.00"}},{"$f":"IF($B41=6,$AG41,0)","v":{"v":0,"d":"0.00"}},{"$f":"IF(AN40>0,IF(H41+P41+X41+AF41+AV41+BD41+BL41+BT41+CB41+CJ41=0,IF(E41>0,AN40,0),0),0)","v":0},{"$f":"G41*AN41","v":{"v":0,"d":"0.00"}},{"$f":"IF($B41=1,$AO41,0)","v":{"v":0,"d":"0.00"}},{"$f":"IF($B41=2,$AO41,0)","v":{"v":0,"d":"0.00"}},{"$f":"IF($B41=3,$AO41,0)","v":{"v":0,"d":"0.00"}},{"$f":"IF($B41=4,$AO41,0)","v":{"v":0,"d":"0.00"}},{"$f":"IF($B41=5,$AO41,0)","v":{"v":0,"d":"0.00"}},{"$f":"IF($B41=6,$AO41,0)","v":{"v":0,"d":"0.00"}},{"$f":"IF(AV40>0,IF(H41+P41+X41+AF41+AN41+BD41+BL41+BT41+CB41+CJ41=0,IF(E41>0,AV40,0),0),0)","v":0},{"$f":"G41*AV41","v":{"v":0,"d":"0.00"}},{"$f":"IF($B41=1,$AW41,0)","v":{"v":0,"d":"0.00"}},{"$f":"IF($B41=2,$AW41,0)","v":{"v":0,"d":"0.00"}},{"$f":"IF($B41=3,$AW41,0)","v":{"v":0,"d":"0.00"}},{"$f":"IF($B41=4,$AW41,0)","v":{"v":0,"d":"0.00"}},{"$f":"IF($B41=5,$AW41,0)","v":{"v":0,"d":"0.00"}},{"$f":"IF($B41=6,$AW41,0)","v":{"v":0,"d":"0.00"}},{"$f":"IF(BD40>0,IF(H41+P41+X41+AF41+AN41+AV41+BL41+BT41+CB41+CJ41=0,IF(E41>0,BD40,0),0),0)","v":0},{"$f":"G41*BD41","v":{"v":0,"d":"0.00"}},{"$f":"IF($B41=1,$BE41,0)","v":{"v":0,"d":"0.00"}},{"$f":"IF($B41=2,$BE41,0)","v":{"v":0,"d":"0.00"}},{"$f":"IF($B41=3,$BE41,0)","v":{"v":0,"d":"0.00"}},{"$f":"IF($B41=4,$BE41,0)","v":{"v":0,"d":"0.00"}},{"$f":"IF($B41=5,$BE41,0)","v":{"v":0,"d":"0.00"}},{"$f":"IF($B41=6,$BE41,0)","v":{"v":0,"d":"0.00"}},{"$f":"IF(BL40>0,IF(H41+P41+X41+AF41+AN41+AV41+BD41+BT41+CB41+CJ41=0,IF(E41>0,BL40,0),0),0)","v":0},{"$f":"G41*BL41","v":{"v":0,"d":"0.00"}},{"$f":"IF($B41=1,$BM41,0)","v":{"v":0,"d":"0.00"}},{"$f":"IF($B41=2,$BM41,0)","v":{"v":0,"d":"0.00"}},{"$f":"IF($B41=3,$BM41,0)","v":{"v":0,"d":"0.00"}},{"$f":"IF($B41=4,$BM41,0)","v":{"v":0,"d":"0.00"}},{"$f":"IF($B41=5,$BM41,0)","v":{"v":0,"d":"0.00"}},{"$f":"IF($B41=6,$BM41,0)","v":{"v":0,"d":"0.00"}},{"$f":"IF(BT40>0,IF(H41+P41+X41+AF41+AN41+AV41+BD41+BL41+CB41+CJ41=0,IF(E41>0,BT40,0),0),0)","v":0},{"$f":"G41*BT41","v":{"v":0,"d":"0.00"}},{"$f":"IF($B41=1,$BU41,0)","v":{"v":0,"d":"0.00"}},{"$f":"IF($B41=2,$BU41,0)","v":{"v":0,"d":"0.00"}},{"$f":"IF($B41=3,$BU41,0)","v":{"v":0,"d":"0.00"}},{"$f":"IF($B41=4,$BU41,0)","v":{"v":0,"d":"0.00"}},{"$f":"IF($B41=5,$BU41,0)","v":{"v":0,"d":"0.00"}},{"$f":"IF($B41=6,$BU41,0)","v":{"v":0,"d":"0.00"}},{"$f":"IF(CB40>0,IF(H41+P41+X41+AF41+AN41+AV41+BD41+BL41+BT41+CJ41=0,IF(E41>0,CB40,0),0),0)","v":0},{"$f":"G41*CB41","v":{"v":0,"d":"0.00"}},{"$f":"IF($B41=1,$CC41,0)","v":{"v":0,"d":"0.00"}},{"$f":"IF($B41=2,$CC41,0)","v":{"v":0,"d":"0.00"}},{"$f":"IF($B41=3,$CC41,0)","v":{"v":0,"d":"0.00"}},{"$f":"IF($B41=4,$CC41,0)","v":{"v":0,"d":"0.00"}},{"$f":"IF($B41=5,$CC41,0)","v":{"v":0,"d":"0.00"}},{"$f":"IF($B41=6,$CC41,0)","v":{"v":0,"d":"0.00"}},{"$f":"IF(CJ40>0,IF(H41+P41+X41+AF41+AN41+AV41+BD41+BL41+BT41+CB41=0,IF(E41>0,CJ40,0),0),0)","v":0},{"$f":"G41*CJ41","v":{"v":0,"d":"0.00"}},{"$f":"IF($B41=1,$CK41,0)","v":{"v":0,"d":"0.00"}},{"$f":"IF($B41=2,$CK41,0)","v":{"v":0,"d":"0.00"}},{"$f":"IF($B41=3,$CK41,0)","v":{"v":0,"d":"0.00"}},{"$f":"IF($B41=4,$CK41,0)","v":{"v":0,"d":"0.00"}},{"$f":"IF($B41=5,$CK41,0)","v":{"v":0,"d":"0.00"}},{"$f":"IF($B41=6,$CK41,0)","v":{"v":0,"d":"0.00"}}]
["Totals",{"$nulls":5},{"$f":"SUM(G5:G41)","v":0},{"$f":"SUM(I5:I41)","v":{"v":0,"d":"0.00"}},null,{"$f":"SUM(J5:J41)","v":{"v":0,"d":"0.00"}},{"$f":"SUM(K5:K41)","v":{"v":0,"d":"0.00"}},{"$f":"SUM(L5:L41)","v":{"v":0,"d":"0.00"}},{"$f":"SUM(M5:M41)","v":{"v":0,"d":"0.00"}},{"$f":"SUM(N5:N41)","v":{"v":0,"d":"0.00"}},{"$f":"SUM(O5:O41)","v":{"v":0,"d":"0.00"}},{"$f":"SUM(Q5:Q41)","v":{"v":0,"d":"0.00"}},null,{"$f":"SUM(R5:R41)","v":{"v":0,"d":"0.00"}},{"$f":"SUM(S5:S41)","v":{"v":0,"d":"0.00"}},{"$f":"SUM(T5:T41)","v":{"v":0,"d":"0.00"}},{"$f":"SUM(U5:U41)","v":{"v":0,"d":"0.00"}},{"$f":"SUM(V5:V41)","v":{"v":0,"d":"0.00"}},{"$f":"SUM(W5:W41)","v":{"v":0,"d":"0.00"}},{"$f":"SUM(Y5:Y41)","v":{"v":0,"d":"0.00"}},null,{"$f":"SUM(Z5:Z41)","v":{"v":0,"d":"0.00"}},{"$f":"SUM(AA5:AA41)","v":{"v":0,"d":"0.00"}},{"$f":"SUM(AB5:AB41)","v":{"v":0,"d":"0.00"}},{"$f":"SUM(AC5:AC41)","v":{"v":0,"d":"0.00"}},{"$f":"SUM(AD5:AD41)","v":{"v":0,"d":"0.00"}},{"$f":"SUM(AE5:AE41)","v":{"v":0,"d":"0.00"}},{"$f":"SUM(AG5:AG41)","v":{"v":0,"d":"0.00"}},null,{"$f":"SUM(AH5:AH41)","v":{"v":0,"d":"0.00"}},{"$f":"SUM(AI5:AI41)","v":{"v":0,"d":"0.00"}},{"$f":"SUM(AJ5:AJ41)","v":{"v":0,"d":"0.00"}},{"$f":"SUM(AK5:AK41)","v":{"v":0,"d":"0.00"}},{"$f":"SUM(AL5:AL41)","v":{"v":0,"d":"0.00"}},{"$f":"SUM(AM5:AM41)","v":{"v":0,"d":"0.00"}},{"$f":"SUM(AO5:AO41)","v":{"v":0,"d":"0.00"}},null,{"$f":"SUM(AP5:AP41)","v":{"v":0,"d":"0.00"}},{"$f":"SUM(AQ5:AQ41)","v":{"v":0,"d":"0.00"}},{"$f":"SUM(AR5:AR41)","v":{"v":0,"d":"0.00"}},{"$f":"SUM(AS5:AS41)","v":{"v":0,"d":"0.00"}},{"$f":"SUM(AT5:AT41)","v":{"v":0,"d":"0.00"}},{"$f":"SUM(AU5:AU41)","v":{"v":0,"d":"0.00"}},{"$f":"SUM(AW5:AW41)","v":{"v":0,"d":"0.00"}},null,{"$f":"SUM(AX5:AX41)","v":{"v":0,"d":"0.00"}},{"$f":"SUM(AY5:AY41)","v":{"v":0,"d":"0.00"}},{"$f":"SUM(AZ5:AZ41)","v":{"v":0,"d":"0.00"}},{"$f":"SUM(BA5:BA41)","v":{"v":0,"d":"0.00"}},{"$f":"SUM(BB5:BB41)","v":{"v":0,"d":"0.00"}},{"$f":"SUM(BC5:BC41)","v":{"v":0,"d":"0.00"}},{"$f":"SUM(BE5:BE41)","v":{"v":0,"d":"0.00"}},null,{"$f":"SUM(BF5:BF41)","v":{"v":0,"d":"0.00"}},{"$f":"SUM(BG5:BG41)","v":{"v":0,"d":"0.00"}},{"$f":"SUM(BH5:BH41)","v":{"v":0,"d":"0.00"}},{"$f":"SUM(BI5:BI41)","v":{"v":0,"d":"0.00"}},{"$f":"SUM(BJ5:BJ41)","v":{"v":0,"d":"0.00"}},{"$f":"SUM(BK5:BK41)","v":{"v":0,"d":"0.00"}},{"$f":"SUM(BM5:BM41)","v":{"v":0,"d":"0.00"}},null,{"$f":"SUM(BN5:BN41)","v":{"v":0,"d":"0.00"}},{"$f":"SUM(BO5:BO41)","v":{"v":0,"d":"0.00"}},{"$f":"SUM(BP5:BP41)","v":{"v":0,"d":"0.00"}},{"$f":"SUM(BQ5:BQ41)","v":{"v":0,"d":"0.00"}},{"$f":"SUM(BR5:BR41)","v":{"v":0,"d":"0.00"}},{"$f":"SUM(BS5:BS41)","v":{"v":0,"d":"0.00"}},{"$f":"SUM(BU5:BU41)","v":{"v":0,"d":"0.00"}},null,{"$f":"SUM(BV5:BV41)","v":{"v":0,"d":"0.00"}},{"$f":"SUM(BW5:BW41)","v":{"v":0,"d":"0.00"}},{"$f":"SUM(BX5:BX41)","v":{"v":0,"d":"0.00"}},{"$f":"SUM(BY5:BY41)","v":{"v":0,"d":"0.00"}},{"$f":"SUM(BZ5:BZ41)","v":{"v":0,"d":"0.00"}},{"$f":"SUM(CA5:CA41)","v":{"v":0,"d":"0.00"}},{"$f":"SUM(CC5:CC41)","v":{"v":0,"d":"0.00"}},null,{"$f":"SUM(CD5:CD41)","v":{"v":0,"d":"0.00"}},{"$f":"SUM(CE5:CE41)","v":{"v":0,"d":"0.00"}},{"$f":"SUM(CF5:CF41)","v":{"v":0,"d":"0.00"}},{"$f":"SUM(CG5:CG41)","v":{"v":0,"d":"0.00"}},{"$f":"SUM(CH5:CH41)","v":{"v":0,"d":"0.00"}},{"$f":"SUM(CI5:CI41)","v":{"v":0,"d":"0.00"}},{"$f":"SUM(CK5:CK41)","v":{"v":0,"d":"0.00"}},null,{"$f":"SUM(CL5:CL41)","v":0},{"$f":"SUM(CM5:CM41)","v":0},{"$f":"SUM(CN5:CN41)","v":0},{"$f":"SUM(CO5:CO41)","v":0},{"$f":"SUM(CP5:CP41)","v":0},{"$f":"SUM(CQ5:CQ41)","v":0}]
[{"$nulls":23},{"$f":"A5","v":"2009-02-09"},{"$nulls":7},{"$f":"X43+1","v":"2009-02-10"},{"$nulls":7},{"$f":"AF43+1","v":"2009-02-11"},{"$nulls":7},{"$f":"AN43+1","v":"2009-02-12"},{"$nulls":7},{"$f":"AV43+1","v":"2009-02-13"}]
[{"$f":"'Week 1'!$A44","v":"T1"},null,null,{"$f":"'Week 1'!$D44","v":"Task 1"},{"$nulls":19},{"$f":"J42","v":0},{"$nulls":7},{"$f":"K42","v":0},{"$nulls":7},{"$f":"L42","v":0},{"$nulls":7},{"$f":"M42","v":0},{"$nulls":7},{"$f":"N42","v":0},{"$nulls":7},{"$f":"O42","v":0},{"$nulls":15},{"$f":"H42","v":0}]
[{"$f":"'Week 1'!$A45","v":2},null,null,{"$f":"'Week 1'!$D45","v":"2"},{"$nulls":19},{"$f":"R42","v":0},{"$nulls":7},{"$f":"S42","v":0},{"$nulls":7},{"$f":"T42","v":0},{"$nulls":7},{"$f":"U42","v":0},{"$nulls":7},{"$f":"V42","v":0},{"$nulls":7},{"$f":"W42","v":0},{"$nulls":15},{"$f":"P42","v":0}]
[{"$f":"'Week 1'!$A46","v":3},null,null,{"$f":"'Week 1'!$D46","v":"3"},{"$nulls":19},{"$f":"Z42","v":0},{"$nulls":7},{"$f":"AA42","v":0},{"$nulls":7},{"$f":"AB42","v":0},{"$nulls":7},{"$f":"AC42","v":0},{"$nulls":7},{"$f":"AD42","v":0},{"$nulls":7},{"$f":"AE42","v":0},{"$nulls":15},{"$f":"X42","v":0}]
[{"$f":"'Week 1'!$A47","v":4},null,null,{"$f":"'Week 1'!$D47","v":"4"},{"$nulls":19},{"$f":"AH42","v":0},{"$nulls":7},{"$f":"AI42","v":0},{"$nulls":7},{"$f":"AJ42","v":0},{"$nulls":7},{"$f":"AK42","v":0},{"$nulls":7},{"$f":"AL42","v":0},{"$nulls":7},{"$f":"AM42","v":0},{"$nulls":15},{"$f":"AF42","v":0}]
[{"$f":"'Week 1'!$A48","v":5},null,null,{"$f":"'Week 1'!$D48","v":"5"},{"$nulls":19},{"$f":"AP42","v":0},{"$nulls":7},{"$f":"AQ42","v":0},{"$nulls":7},{"$f":"AR42","v":0},{"$nulls":7},{"$f":"AS42","v":0},{"$nulls":7},{"$f":"AT42","v":0},{"$nulls":7},{"$f":"AU42","v":0},{"$nulls":15},{"$f":"AN42","v":0}]
[{"$f":"'Week 1'!$A49","v":6},null,null,{"$f":"'Week 1'!$D49","v":"6"},{"$nulls":19},{"$f":"AX42","v":0},{"$nulls":7},{"$f":"AY42","v":0},{"$nulls":7},{"$f":"AZ42","v":0},{"$nulls":7},{"$f":"BA42","v":0},{"$nulls":7},{"$f":"BB42","v":0},{"$nulls":7},{"$f":"BC42","v":0},{"$nulls":15},{"$f":"AV42","v":0}]
[{"$f":"'Week 1'!$A50","v":7},null,null,{"$f":"'Week 1'!$D50","v":7},{"$nulls":19},{"$f":"BF42","v":0},{"$nulls":7},{"$f":"BG42","v":0},{"$nulls":7},{"$f":"BH42","v":0},{"$nulls":7},{"$f":"BI42","v":0},{"$nulls":7},{"$f":"BJ42","v":0},{"$nulls":7},{"$f":"BK42","v":0},{"$nulls":15},{"$f":"BD42","v":0}]
[{"$f":"'Week 1'!$A51","v":8},null,null,{"$f":"'Week 1'!$D51","v":8},{"$nulls":19},{"$f":"BN42","v":0},{"$nulls":7},{"$f":"BO42","v":0},{"$nulls":7},{"$f":"BP42","v":0},{"$nulls":7},{"$f":"BQ42","v":0},{"$nulls":7},{"$f":"BR42","v":0},{"$nulls":7},{"$f":"BS42","v":0},{"$nulls":15},{"$f":"BL42","v":0}]
[{"$f":"'Week 1'!$A52","v":9},null,null,{"$f":"'Week 1'!$D52","v":9},{"$nulls":19},{"$f":"BV42","v":0},{"$nulls":7},{"$f":"BW42","v":0},{"$nulls":7},{"$f":"BX42","v":0},{"$nulls":7},{"$f":"BY42","v":0},{"$nulls":7},{"$f":"BZ42","v":0},{"$nulls":7},{"$f":"CA42","v":0},{"$nulls":15},{"$f":"BT42","v":0}]
[{"$f":"'Week 1'!$A53","v":10},null,null,{"$f":"'Week 1'!$D53","v":10},{"$nulls":19},{"$f":"CD42","v":0},{"$nulls":7},{"$f":"CE42","v":0},{"$nulls":7},{"$f":"CF42","v":0},{"$nulls":7},{"$f":"CG42","v":0},{"$nulls":7},{"$f":"CH42","v":0},{"$nulls":7},{"$f":"CI42","v":0},{"$nulls":15},{"$f":"CB42","v":0}]
[{"$f":"'Week 1'!$A54","v":11},null,null,{"$f":"'Week 1'!$D54","v":11},{"$nulls":19},{"$f":"CL42","v":0},{"$nulls":7},{"$f":"CM42","v":0},{"$nulls":7},{"$f":"CN42","v":0},{"$nulls":7},{"$f":"CO42","v":0},{"$nulls":7},{"$f":"CP42","v":0},{"$nulls":7},{"$f":"CQ42","v":0},{"$nulls":15},{"$f":"CJ42","v":0}]
["Totals",{"$nulls":22},{"$f":"SUM(X44:X54)","v":0},{"$nulls":7},{"$f":"SUM(AF44:AF54)","v":0},{"$nulls":7},{"$f":"SUM(AN44:AN54)","v":0},{"$nulls":7},{"$f":"SUM(AV44:AV54)","v":0},{"$nulls":7},{"$f":"SUM(BD44:BD54)","v":0},{"$nulls":7},{"$f":"SUM(BL44:BL54)","v":0},{"$nulls":15},{"$f":"SUM(CB44:CB54)","v":0}]

{"sheet":"Week 3","index":3,"n_rows":55,"n_cols":95,"rows_kept":55}
[1,2,3,4,5,6,null,{"$f":"CONCATENATE(\"Timesheet for \",'Week 1'!$A$1,\" for period \",TEXT(DAY(A5),\"00\"),\"/\",TEXT(MONTH(A5),\"00\"),\"/\",TEXT(YEAR(A5)-2000,\"00\"),\" to \",TEXT(DAY(A5+6),\"00\"),\"/\",TEXT(MONTH(A5+6),\"00\"),\"/\",TEXT(YEAR(A5+6)-2000,\"00\"))","v":"Timesheet for 'Name in cell A1' for period 16/02/09 to 22/02/09"}]
[]
[{"$nulls":6},"                                           Tasks"]
["Date",null,null,"From","To",null,"Hrs",{"$f":"A44","v":"T1"},{"$nulls":7},{"$f":"A45","v":2},{"$nulls":7},{"$f":"A46","v":3},{"$nulls":7},{"$f":"A47","v":4},{"$nulls":7},{"$f":"A48","v":5},{"$nulls":7},{"$f":"A49","v":6},{"$nulls":7},{"$f":"A50","v":7},{"$nulls":7},{"$f":"A51","v":8},{"$nulls":7},{"$f":"A52","v":9},{"$nulls":7},{"$f":"A53","v":10},{"$nulls":7},{"$f":"A54","v":11}]
[{"$f":"'Week 2'!$A5+7","v":"2009-02-16"},1,{"$f":"A5","v":"2009-02-16"},"10:30:00","10:30:00",{"$f":"E5-D5","v":"00:00:00"},{"$f":"IF(E5>0,HOUR(F5)+(MINUTE(F5)/60),0)","v":0},0,{"$f":"G5*H5","v":{"v":0,"d":"0.00"}},{"$f":"IF($B5=1,$I5,0)","v":{"v":0,"d":"0.00"}},{"$f":"IF($B5=2,$I5,0)","v":{"v":0,"d":"0.00"}},{"$f":"IF($B5=3,$I5,0)","v":{"v":0,"d":"0.00"}},{"$f":"IF($B5=4,$I5,0)","v":{"v":0,"d":"0.00"}},{"$f":"IF($B5=5,$I5,0)","v":{"v":0,"d":"0.00"}},{"$f":"IF($B5=6,$I5,0)","v":{"v":0,"d":"0.00"}},0,{"$f":"G5*P5","v":{"v":0,"d":"0.00"}},{"$f":"IF($B5=1,$Q5,0)","v":{"v":0,"d":"0.00"}},{"$f":"IF($B5=2,$Q5,0)","v":{"v":0,"d":"0.00"}},{"$f":"IF(B5=3,Q5,0)","v":{"v":0,"d":"0.00"}},{"$f":"IF(B5=4,Q5,0)","v":{"v":0,"d":"0.00"}},{"$f":"IF(B5=5,Q5,0)","v":{"v":0,"d":"0.00"}},{"$f":"IF(B5=6,Q5,0)","v":{"v":0,"d":"0.00"}},0,{"$f":"G5*X5","v":{"v":0,"d":"0.00"}},{"$f":"IF($B5=1,$Y5,0)","v":{"v":0,"d":"0.00"}},{"$f":"IF($B5=2,$Y5,0)","v":{"v":0,"d":"0.00"}},{"$f":"IF($B5=3,$Y5,0)","v":{"v":0,"d":"0.00"}},{"$f":"IF($B5=4,$Y5,0)","v":{"v":0,"d":"0.00"}},{"$f":"IF($B5=5,$Y5,0)","v":{"v":0,"d":"0.00"}},{"$f":"IF($B5>5,$Y5,0)","v":{"v":0,"d":"0.00"}},0,{"$f":"G5*AF5","v":{"v":0,"d":"0.00"}},{"$f":"IF($B5=1,$AG5,0)","v":{"v":0,"d":"0.00"}},{"$f":"IF($B5=2,$AG5,0)","v":{"v":0,"d":"0.00"}},{"$f":"IF($B5=3,$AG5,0)","v":{"v":0,"d":"0.00"}},{"$f":"IF($B5=4,$AG5,0)","v":{"v":0,"d":"0.00"}},{"$f":"IF($B5=5,$AG5,0)","v":{"v":0,"d":"0.00"}},{"$f":"IF($B5=6,$AG5,0)","v":{"v":0,"d":"0.00"}},0,{"$f":"G5*AN5","v":{"v":0,"d":"0.00"}},{"$f":"IF($B5=1,$AO5,0)","v":{"v":0,"d":"0.00"}},{"$f":"IF($B5=2,$AO5,0)","v":{"v":0,"d":"0.00"}},{"$f":"IF($B5=3,$AO5,0)","v":{"v":0,"d":"0.00"}},{"$f":"IF($B5=4,$AO5,0)","v":{"v":0,"d":"0.00"}},{"$f":"IF($B5=5,$AO5,0)","v":{"v":0,"d":"0.00"}},{"$f":"IF($B5=6,$AO5,0)","v":{"v":0,"d":"0.00"}},0,{"$f":"G5*AV5","v":{"v":0,"d":"0.00"}},{"$f":"IF($B5=1,$AW5,0)","v":{"v":0,"d":"0.00"}},{"$f":"IF($B5=2,$AW5,0)","v":{"v":0,"d":"0.00"}},{"$f":"IF($B5=3,$AW5,0)","v":{"v":0,"d":"0.00"}},{"$f":"IF($B5=4,$AW5,0)","v":{"v":0,"d":"0.00"}},{"$f":"IF($B5=5,$AW5,0)","v":{"v":0,"d":"0.00"}},{"$f":"IF($B5=6,$AW5,0)","v":{"v":0,"d":"0.00"}},0,{"$f":"G5*BD5","v":{"v":0,"d":"0.00"}},{"$f":"IF($B5=1,$BE5,0)","v":{"v":0,"d":"0.00"}},{"$f":"IF($B5=2,$BE5,0)","v":{"v":0,"d":"0.00"}},{"$f":"IF($B5=3,$BE5,0)","v":{"v":0,"d":"0.00"}},{"$f":"IF($B5=4,$BE5,0)","v":{"v":0,"d":"0.00"}},{"$f":"IF($B5=5,$BE5,0)","v":{"v":0,"d":"0.00"}},{"$f":"IF($B5=6,$BE5,0)","v":{"v":0,"d":"0.00"}},0,{"$f":"G5*BL5","v":{"v":0,"d":"0.00"}},{"$f":"IF($B5=1,$BM5,0)","v":{"v":0,"d":"0.00"}},{"$f":"IF($B5=2,$BM5,0)","v":{"v":0,"d":"0.00"}},{"$f":"IF($B5=3,$BM5,0)","v":{"v":0,"d":"0.00"}},{"$f":"IF($B5=4,$BM5,0)","v":{"v":0,"d":"0.00"}},{"$f":"IF($B5=5,$BM5,0)","v":{"v":0,"d":"0.00"}},{"$f":"IF($B5=6,$BM5,0)","v":{"v":0,"d":"0.00"}},0,{"$f":"G5*BT5","v":{"v":0,"d":"0.00"}},{"$f":"IF($B5=1,$BU5,0)","v":{"v":0,"d":"0.00"}},{"$f":"IF($B5=2,$BU5,0)","v":{"v":0,"d":"0.00"}},{"$f":"IF($B5=3,$BU5,0)","v":{"v":0,"d":"0.00"}},{"$f":"IF($B5=4,$BU5,0)","v":{"v":0,"d":"0.00"}},{"$f":"IF($B5=5,$BU5,0)","v":{"v":0,"d":"0.00"}},{"$f":"IF($B5=6,$BU5,0)","v":{"v":0,"d":"0.00"}},0,{"$f":"G5*CB5","v":{"v":0,"d":"0.00"}},{"$f":"IF($B5=1,$CC5,0)","v":{"v":0,"d":"0.00"}},{"$f":"IF($B5=2,$CC5,0)","v":{"v":0,"d":"0.00"}},{"$f":"IF($B5=3,$CC5,0)","v":{"v":0,"d":"0.00"}},{"$f":"IF($B5=4,$CC5,0)","v":{"v":0,"d":"0.00"}},{"$f":"IF($B5=5,$CC5,0)","v":{"v":0,"d":"0.00"}},{"$f":"IF($B5=6,$CC5,0)","v":{"v":0,"d":"0.00"}},0,{"$f":"G5*CJ5","v":{"v":0,"d":"0.00"}},{"$f":"IF($B5=1,$CK5,0)","v":{"v":0,"d":"0.00"}},{"$f":"IF($B5=2,$CK5,0)","v":{"v":0,"d":"0.00"}},{"$f":"IF($B5=3,$CK5,0)","v":{"v":0,"d":"0.00"}},{"$f":"IF($B5=4,$CK5,0)","v":{"v":0,"d":"0.00"}},{"$f":"IF($B5=5,$CK5,0)","v":{"v":0,"d":"0.00"}},{"$f":"IF($B5=6,$CK5,0)","v":{"v":0,"d":"0.00"}}]
[{"$f":"IF(C5<>C6,C6,\"\")","v":""},{"$f":"IF(C5<>C6,_xlfn.DAYS(C6,C5)+B5,B5)","v":1},{"$f":"IF(D6>0,IF(D6<E5,C5+1,C5),C5)","v":"2009-02-16"},{"$f":"IF((E6+H6+P6+X6+AF6+AN6+AV6+BD6+BL6+BT6+CB6+CJ6)>0,E5,0)","v":"00:00:00"},null,{"$f":"E6-D6","v":"00:00:00"},{"$f":"IF(E6>0,HOUR(F6)+(MINUTE(F6)/60),0)","v":0},{"$f":"IF(H5>0,IF(P6+X6+AF6+AN6+AV6+BD6+BL6+BT6+CB6+CJ6=0,IF(E6>0,H5,0),0),0)","v":0},{"$f":"G6*H6","v":{"v":0,"d":"0.00"}},{"$f":"IF($B6=1,$I6,0)","v":{"v":0,"d":"0.00"}},{"$f":"IF($B6=2,$I6,0)","v":{"v":0,"d":"0.00"}},{"$f":"IF($B6=3,$I6,0)","v":{"v":0,"d":"0.00"}},{"$f":"IF($B6=4,$I6,0)","v":{"v":0,"d":"0.00"}},{"$f":"IF($B6=5,$I6,0)","v":{"v":0,"d":"0.00"}},{"$f":"IF($B6=6,$I6,0)","v":{"v":0,"d":"0.00"}},{"$f":"IF(P5>0,IF(H6+X6+AF6+AN6+AV6+BD6+BL6+BT6+CB6+CJ6=0,IF(E6>0,P5,0),0),0)","v":0},{"$f":"G6*P6","v":{"v":0,"d":"0.00"}},{"$f":"IF(B6=1,Q6,0)","v":{"v":0,"d":"0.00"}},{"$f":"IF(B6=2,Q6,0)","v":{"v":0,"d":"0.00"}},{"$f":"IF(B6=3,Q6,0)","v":{"v":0,"d":"0.00"}},{"$f":"IF(B6=4,Q6,0)","v":{"v":0,"d":"0.00"}},{"$f":"IF(B6=5,Q6,0)","v":{"v":0,"d":"0.00"}},{"$f":"IF(B6=6,Q6,0)","v":{"v":0,"d":"0.00"}},{"$f":"IF(X5>0,IF(H6+P6+AF6+AN6+AV6+BD6+BL6+BT6+CB6+CJ6=0,IF(E6>0,X5,0),0),0)","v":0},{"$f":"G6*X6","v":{"v":0,"d":"0.00"}},{"$f":"IF($B6=1,$Y6,0)","v":{"v":0,"d":"0.00"}},{"$f":"IF($B6=2,$Y6,0)","v":{"v":0,"d":"0.00"}},{"$f":"IF($B6=3,$Y6,0)","v":{"v":0,"d":"0.00"}},{"$f":"IF($B6=4,$Y6,0)","v":{"v":0,"d":"0.00"}},{"$f":"IF($B6=5,$Y6,0)","v":{"v":0,"d":"0.00"}},{"$f":"IF($B6=6,$Y6,0)","v":{"v":0,"d":"0.00"}},{"$f":"IF(AF5>0,IF(H6+P6+X6+AN6+AV6+BD6+BL6+BT6+CB6+CJ6=0,IF(E6>0,AF5,0),0),0)","v":0},{"$f":"G6*AF6","v":{"v":0,"d":"0.00"}},{"$f":"IF($B6=1,$AG6,0)","v":{"v":0,"d":"0.00"}},{"$f":"IF($B6=2,$AG6,0)","v":{"v":0,"d":"0.00"}},{"$f":"IF($B6=3,$AG6,0)","v":{"v":0,"d":"0.00"}},{"$f":"IF($B6=4,$AG6,0)","v":{"v":0,"d":"0.00"}},{"$f":"IF($B6=5,$AG6,0)","v":{"v":0,"d":"0.00"}},{"$f":"IF($B6=6,$AG6,0)","v":{"v":0,"d":"0.00"}},{"$f":"IF(AN5>0,IF(H6+P6+X6+AF6+AV6+BD6+BL6+BT6+CB6+CJ6=0,IF(E6>0,AN5,0),0),0)","v":0},{"$f":"G6*AN6","v":{"v":0,"d":"0.00"}},{"$f":"IF($B6=1,$AO6,0)","v":{"v":0,"d":"0.00"}},{"$f":"IF($B6=2,$AO6,0)","v":{"v":0,"d":"0.00"}},{"$f":"IF($B6=3,$AO6,0)","v":{"v":0,"d":"0.00"}},{"$f":"IF($B6=4,$AO6,0)","v":{"v":0,"d":"0.00"}},{"$f":"IF($B6=5,$AO6,0)","v":{"v":0,"d":"0.00"}},{"$f":"IF($B6=6,$AO6,0)","v":{"v":0,"d":"0.00"}},{"$f":"IF(AV5>0,IF(H6+P6+X6+AF6+AN6+BD6+BL6+BT6+CB6+CJ6=0,IF(E6>0,AV5,0),0),0)","v":0},{"$f":"G6*AV6","v":{"v":0,"d":"0.00"}},{"$f":"IF($B6=1,$AW6,0)","v":{"v":0,"d":"0.00"}},{"$f":"IF($B6=2,$AW6,0)","v":{"v":0,"d":"0.00"}},{"$f":"IF($B6=3,$AW6,0)","v":{"v":0,"d":"0.00"}},{"$f":"IF($B6=4,$AW6,0)","v":{"v":0,"d":"0.00"}},{"$f":"IF($B6=5,$AW6,0)","v":{"v":0,"d":"0.00"}},{"$f":"IF($B6=6,$AW6,0)","v":{"v":0,"d":"0.00"}},{"$f":"IF(BD5>0,IF(H6+P6+X6+AF6+AN6+AV6+BL6+BT6+CB6+CJ6=0,IF(E6>0,BD5,0),0),0)","v":0},{"$f":"G6*BD6","v":{"v":0,"d":"0.00"}},{"$f":"IF($B6=1,$BE6,0)","v":{"v":0,"d":"0.00"}},{"$f":"IF($B6=2,$BE6,0)","v":{"v":0,"d":"0.00"}},{"$f":"IF($B6=3,$BE6,0)","v":{"v":0,"d":"0.00"}},{"$f":"IF($B6=4,$BE6,0)","v":{"v":0,"d":"0.00"}},{"$f":"IF($B6=5,$BE6,0)","v":{"v":0,"d":"0.00"}},{"$f":"IF($B6=6,$BE6,0)","v":{"v":0,"d":"0.00"}},{"$f":"IF(BL5>0,IF(H6+P6+X6+AF6+AN6+AV6+BD6+BT6+CB6+CJ6=0,IF(E6>0,BL5,0),0),0)","v":0},{"$f":"G6*BL6","v":{"v":0,"d":"0.00"}},{"$f":"IF($B6=1,$BM6,0)","v":{"v":0,"d":"0.00"}},{"$f":"IF($B6=2,$BM6,0)","v":{"v":0,"d":"0.00"}},{"$f":"IF($B6=3,$BM6,0)","v":{"v":0,"d":"0.00"}},{"$f":"IF($B6=4,$BM6,0)","v":{"v":0,"d":"0.00"}},{"$f":"IF($B6=5,$BM6,0)","v":{"v":0,"d":"0.00"}},{"$f":"IF($B6=6,$BM6,0)","v":{"v":0,"d":"0.00"}},{"$f":"IF(BT5>0,IF(H6+P6+X6+AF6+AN6+AV6+BD6+BL6+CB6+CJ6=0,IF(E6>0,BT5,0),0),0)","v":0},{"$f":"G6*BT6","v":{"v":0,"d":"0.00"}},{"$f":"IF($B6=1,$BU6,0)","v":{"v":0,"d":"0.00"}},{"$f":"IF($B6=2,$BU6,0)","v":{"v":0,"d":"0.00"}},{"$f":"IF($B6=3,$BU6,0)","v":{"v":0,"d":"0.00"}},{"$f":"IF($B6=4,$BU6,0)","v":{"v":0,"d":"0.00"}},{"$f":"IF($B6=5,$BU6,0)","v":{"v":0,"d":"0.00"}},{"$f":"IF($B6=6,$BU6,0)","v":{"v":0,"d":"0.00"}},{"$f":"IF(CB5>0,IF(H6+P6+X6+AF6+AN6+AV6+BD6+BL6+BT6+CJ6=0,IF(E6>0,CB5,0),0),0)","v":0},{"$f":"G6*CB6","v":{"v":0,"d":"0.00"}},{"$f":"IF($B6=1,$CC6,0)","v":{"v":0,"d":"0.00"}},{"$f":"IF($B6=2,$CC6,0)","v":{"v":0,"d":"0.00"}},{"$f":"IF($B6=3,$CC6,0)","v":{"v":0,"d":"0.00"}},{"$f":"IF($B6=4,$CC6,0)","v":{"v":0,"d":"0.00"}},{"$f":"IF($B6=5,$CC6,0)","v":{"v":0,"d":"0.00"}},{"$f":"IF($B6=6,$CC6,0)","v":{"v":0,"d":"0.00"}},{"$f":"IF(CJ5>0,IF(H6+P6+X6+AF6+AN6+AV6+BD6+BL6+BT6+CB6=0,IF(E6>0,CJ5,0),0),0)","v":0},{"$f":"G6*CJ6","v":{"v":0,"d":"0.00"}},{"$f":"IF($B6=1,$CK6,0)","v":{"v":0,"d":"0.00"}},{"$f":"IF($B6=2,$CK6,0)","v":{"v":0,"d":"0.00"}},{"$f":"IF($B6=3,$CK6,0)","v":{"v":0,"d":"0.00"}},{"$f":"IF($B6=4,$CK6,0)","v":{"v":0,"d":"0.00"}},{"$f":"IF($B6=5,$CK6,0)","v":{"v":0,"d":"0.00"}},{"$f":"IF($B6=6,$CK6,0)","v":{"v":0,"d":"0.00"}}]
[{"$f":"IF(C6<>C7,C7,\"\")","v":""},{"$f":"IF(C6<>C7,_xlfn.DAYS(C7,C6)+B6,B6)","v":1},{"$f":"IF(D7>0,IF(D7<E6,C6+1,C6),C6)","v":"2009-02-16"},{"$f":"IF((E7+H7+P7+X7+AF7+AN7+AV7+BD7+BL7+BT7+CB7+CJ7)>0,E6,0)","v":"00:00:00"},null,{"$f":"E7-D7","v":"00:00:00"},{"$f":"IF(E7>0,HOUR(F7)+(MINUTE(F7)/60),0)","v":0},{"$f":"IF(H6>0,IF(P7+X7+AF7+AN7+AV7+BD7+BL7+BT7+CB7+CJ7=0,IF(E7>0,H6,0),0),0)","v":0},{"$f":"G7*H7","v":{"v":0,"d":"0.00"}},{"$f":"IF($B7=1,$I7,0)","v":{"v":0,"d":"0.00"}},{"$f":"IF($B7=2,$I7,0)","v":{"v":0,"d":"0.00"}},{"$f":"IF($B7=3,$I7,0)","v":{"v":0,"d":"0.00"}},{"$f":"IF($B7=4,$I7,0)","v":{"v":0,"d":"0.00"}},{"$f":"IF($B7=5,$I7,0)","v":{"v":0,"d":"0.00"}},{"$f":"IF($B7=6,$I7,0)","v":{"v":0,"d":"0.00"}},{"$f":"IF(P6>0,IF(H7+X7+AF7+AN7+AV7+BD7+BL7+BT7+CB7+CJ7=0,IF(E7>0,P6,0),0),0)","v":0},{"$f":"G7*P7","v":{"v":0,"d":"0.00"}},{"$f":"IF(B7=1,Q7,0)","v":{"v":0,"d":"0.00"}},{"$f":"IF(B7=2,Q7,0)","v":{"v":0,"d":"0.00"}},{"$f":"IF(B7=3,Q7,0)","v":{"v":0,"d":"0.00"}},{"$f":"IF(B7=4,Q7,0)","v":{"v":0,"d":"0.00"}},{"$f":"IF(B7=5,Q7,0)","v":{"v":0,"d":"0.00"}},{"$f":"IF(B7=6,Q7,0)","v":{"v":0,"d":"0.00"}},{"$f":"IF(X6>0,IF(H7+P7+AF7+AN7+AV7+BD7+BL7+BT7+CB7+CJ7=0,IF(E7>0,X6,0),0),0)","v":0},{"$f":"G7*X7","v":{"v":0,"d":"0.00"}},{"$f":"IF($B7=1,$Y7,0)","v":{"v":0,"d":"0.00"}},{"$f":"IF($B7=2,$Y7,0)","v":{"v":0,"d":"0.00"}},{"$f":"IF($B7=3,$Y7,0)","v":{"v":0,"d":"0.00"}},{"$f":"IF($B7=4,$Y7,0)","v":{"v":0,"d":"0.00"}},{"$f":"IF($B7=5,$Y7,0)","v":{"v":0,"d":"0.00"}},{"$f":"IF($B7=6,$Y7,0)","v":{"v":0,"d":"0.00"}},{"$f":"IF(AF6>0,IF(H7+P7+X7+AN7+AV7+BD7+BL7+BT7+CB7+CJ7=0,IF(E7>0,AF6,0),0),0)","v":0},{"$f":"G7*AF7","v":{"v":0,"d":"0.00"}},{"$f":"IF($B7=1,$AG7,0)","v":{"v":0,"d":"0.00"}},{"$f":"IF($B7=2,$AG7,0)","v":{"v":0,"d":"0.00"}},{"$f":"IF($B7=3,$AG7,0)","v":{"v":0,"d":"0.00"}},{"$f":"IF($B7=4,$AG7,0)","v":{"v":0,"d":"0.00"}},{"$f":"IF($B7=5,$AG7,0)","v":{"v":0,"d":"0.00"}},{"$f":"IF($B7=6,$AG7,0)","v":{"v":0,"d":"0.00"}},{"$f":"IF(AN6>0,IF(H7+P7+X7+AF7+AV7+BD7+BL7+BT7+CB7+CJ7=0,IF(E7>0,AN6,0),0),0)","v":0},{"$f":"G7*AN7","v":{"v":0,"d":"0.00"}},{"$f":"IF($B7=1,$AO7,0)","v":{"v":0,"d":"0.00"}},{"$f":"IF($B7=2,$AO7,0)","v":{"v":0,"d":"0.00"}},{"$f":"IF($B7=3,$AO7,0)","v":{"v":0,"d":"0.00"}},{"$f":"IF($B7=4,$AO7,0)","v":{"v":0,"d":"0.00"}},{"$f":"IF($B7=5,$AO7,0)","v":{"v":0,"d":"0.00"}},{"$f":"IF($B7=6,$AO7,0)","v":{"v":0,"d":"0.00"}},{"$f":"IF(AV6>0,IF(H7+P7+X7+AF7+AN7+BD7+BL7+BT7+CB7+CJ7=0,IF(E7>0,AV6,0),0),0)","v":0},{"$f":"G7*AV7","v":{"v":0,"d":"0.00"}},{"$f":"IF($B7=1,$AW7,0)","v":{"v":0,"d":"0.00"}},{"$f":"IF($B7=2,$AW7,0)","v":{"v":0,"d":"0.00"}},{"$f":"IF($B7=3,$AW7,0)","v":{"v":0,"d":"0.00"}},{"$f":"IF($B7=4,$AW7,0)","v":{"v":0,"d":"0.00"}},{"$f":"IF($B7=5,$AW7,0)","v":{"v":0,"d":"0.00"}},{"$f":"IF($B7=6,$AW7,0)","v":{"v":0,"d":"0.00"}},{"$f":"IF(BD6>0,IF(H7+P7+X7+AF7+AN7+AV7+BL7+BT7+CB7+CJ7=0,IF(E7>0,BD6,0),0),0)","v":0},{"$f":"G7*BD7","v":{"v":0,"d":"0.00"}},{"$f":"IF($B7=1,$BE7,0)","v":{"v":0,"d":"0.00"}},{"$f":"IF($B7=2,$BE7,0)","v":{"v":0,"d":"0.00"}},{"$f":"IF($B7=3,$BE7,0)","v":{"v":0,"d":"0.00"}},{"$f":"IF($B7=4,$BE7,0)","v":{"v":0,"d":"0.00"}},{"$f":"IF($B7=5,$BE7,0)","v":{"v":0,"d":"0.00"}},{"$f":"IF($B7=6,$BE7,0)","v":{"v":0,"d":"0.00"}},{"$f":"IF(BL6>0,IF(H7+P7+X7+AF7+AN7+AV7+BD7+BT7+CB7+CJ7=0,IF(E7>0,BL6,0),0),0)","v":0},{"$f":"G7*BL7","v":{"v":0,"d":"0.00"}},{"$f":"IF($B7=1,$BM7,0)","v":{"v":0,"d":"0.00"}},{"$f":"IF($B7=2,$BM7,0)","v":{"v":0,"d":"0.00"}},{"$f":"IF($B7=3,$BM7,0)","v":{"v":0,"d":"0.00"}},{"$f":"IF($B7=4,$BM7,0)","v":{"v":0,"d":"0.00"}},{"$f":"IF($B7=5,$BM7,0)","v":{"v":0,"d":"0.00"}},{"$f":"IF($B7=6,$BM7,0)","v":{"v":0,"d":"0.00"}},{"$f":"IF(BT6>0,IF(H7+P7+X7+AF7+AN7+AV7+BD7+BL7+CB7+CJ7=0,IF(E7>0,BT6,0),0),0)","v":0},{"$f":"G7*BT7","v":{"v":0,"d":"0.00"}},{"$f":"IF($B7=1,$BU7,0)","v":{"v":0,"d":"0.00"}},{"$f":"IF($B7=2,$BU7,0)","v":{"v":0,"d":"0.00"}},{"$f":"IF($B7=3,$BU7,0)","v":{"v":0,"d":"0.00"}},{"$f":"IF($B7=4,$BU7,0)","v":{"v":0,"d":"0.00"}},{"$f":"IF($B7=5,$BU7,0)","v":{"v":0,"d":"0.00"}},{"$f":"IF($B7=6,$BU7,0)","v":{"v":0,"d":"0.00"}},{"$f":"IF(CB6>0,IF(H7+P7+X7+AF7+AN7+AV7+BD7+BL7+BT7+CJ7=0,IF(E7>0,CB6,0),0),0)","v":0},{"$f":"G7*CB7","v":{"v":0,"d":"0.00"}},{"$f":"IF($B7=1,$CC7,0)","v":{"v":0,"d":"0.00"}},{"$f":"IF($B7=2,$CC7,0)","v":{"v":0,"d":"0.00"}},{"$f":"IF($B7=3,$CC7,0)","v":{"v":0,"d":"0.00"}},{"$f":"IF($B7=4,$CC7,0)","v":{"v":0,"d":"0.00"}},{"$f":"IF($B7=5,$CC7,0)","v":{"v":0,"d":"0.00"}},{"$f":"IF($B7=6,$CC7,0)","v":{"v":0,"d":"0.00"}},{"$f":"IF(CJ6>0,IF(H7+P7+X7+AF7+AN7+AV7+BD7+BL7+BT7+CB7=0,IF(E7>0,CJ6,0),0),0)","v":0},{"$f":"G7*CJ7","v":{"v":0,"d":"0.00"}},{"$f":"IF($B7=1,$CK7,0)","v":{"v":0,"d":"0.00"}},{"$f":"IF($B7=2,$CK7,0)","v":{"v":0,"d":"0.00"}},{"$f":"IF($B7=3,$CK7,0)","v":{"v":0,"d":"0.00"}},{"$f":"IF($B7=4,$CK7,0)","v":{"v":0,"d":"0.00"}},{"$f":"IF($B7=5,$CK7,0)","v":{"v":0,"d":"0.00"}},{"$f":"IF($B7=6,$CK7,0)","v":{"v":0,"d":"0.00"}}]
[{"$f":"IF(C7<>C8,C8,\"\")","v":""},{"$f":"IF(C7<>C8,_xlfn.DAYS(C8,C7)+B7,B7)","v":1},{"$f":"IF(D8>0,IF(D8<E7,C7+1,C7),C7)","v":"2009-02-16"},{"$f":"IF((E8+H8+P8+X8+AF8+AN8+AV8+BD8+BL8+BT8+CB8+CJ8)>0,E7,0)","v":"00:00:00"},null,{"$f":"E8-D8","v":"00:00:00"},{"$f":"IF(E8>0,HOUR(F8)+(MINUTE(F8)/60),0)","v":0},{"$f":"IF(H7>0,IF(P8+X8+AF8+AN8+AV8+BD8+BL8+BT8+CB8+CJ8=0,IF(E8>0,H7,0),0),0)","v":0},{"$f":"G8*H8","v":{"v":0,"d":"0.00"}},{"$f":"IF($B8=1,$I8,0)","v":{"v":0,"d":"0.00"}},{"$f":"IF($B8=2,$I8,0)","v":{"v":0,"d":"0.00"}},{"$f":"IF($B8=3,$I8,0)","v":{"v":0,"d":"0.00"}},{"$f":"IF($B8=4,$I8,0)","v":{"v":0,"d":"0.00"}},{"$f":"IF($B8=5,$I8,0)","v":{"v":0,"d":"0.00"}},{"$f":"IF($B8=6,$I8,0)","v":{"v":0,"d":"0.00"}},{"$f":"IF(P7>0,IF(H8+X8+AF8+AN8+AV8+BD8+BL8+BT8+CB8+CJ8=0,IF(E8>0,P7,0),0),0)","v":0},{"$f":"G8*P8","v":{"v":0,"d":"0.00"}},{"$f":"IF(B8=1,Q8,0)","v":{"v":0,"d":"0.00"}},{"$f":"IF(B8=2,Q8,0)","v":{"v":0,"d":"0.00"}},{"$f":"IF(B8=3,Q8,0)","v":{"v":0,"d":"0.00"}},{"$f":"IF(B8=4,Q8,0)","v":{"v":0,"d":"0.00"}},{"$f":"IF(B8=5,Q8,0)","v":{"v":0,"d":"0.00"}},{"$f":"IF(B8=6,Q8,0)","v":{"v":0,"d":"0.00"}},{"$f":"IF(X7>0,IF(H8+P8+AF8+AN8+AV8+BD8+BL8+BT8+CB8+CJ8=0,IF(E8>0,X7,0),0),0)","v":0},{"$f":"G8*X8","v":{"v":0,"d":"0.00"}},{"$f":"IF($B8=1,$Y8,0)","v":{"v":0,"d":"0.00"}},{"$f":"IF($B8=2,$Y8,0)","v":{"v":0,"d":"0.00"}},{"$f":"IF($B8=3,$Y8,0)","v":{"v":0,"d":"0.00"}},{"$f":"IF($B8=4,$Y8,0)","v":{"v":0,"d":"0.00"}},{"$f":"IF($B8=5,$Y8,0)","v":{"v":0,"d":"0.00"}},{"$f":"IF($B8=6,$Y8,0)","v":{"v":0,"d":"0.00"}},{"$f":"IF(AF7>0,IF(H8+P8+X8+AN8+AV8+BD8+BL8+BT8+CB8+CJ8=0,IF(E8>0,AF7,0),0),0)","v":0},{"$f":"G8*AF8","v":{"v":0,"d":"0.00"}},{"$f":"IF($B8=1,$AG8,0)","v":{"v":0,"d":"0.00"}},{"$f":"IF($B8=2,$AG8,0)","v":{"v":0,"d":"0.00"}},{"$f":"IF($B8=3,$AG8,0)","v":{"v":0,"d":"0.00"}},{"$f":"IF($B8=4,$AG8,0)","v":{"v":0,"d":"0.00"}},{"$f":"IF($B8=5,$AG8,0)","v":{"v":0,"d":"0.00"}},{"$f":"IF($B8=6,$AG8,0)","v":{"v":0,"d":"0.00"}},{"$f":"IF(AN7>0,IF(H8+P8+X8+AF8+AV8+BD8+BL8+BT8+CB8+CJ8=0,IF(E8>0,AN7,0),0),0)","v":0},{"$f":"G8*AN8","v":{"v":0,"d":"0.00"}},{"$f":"IF($B8=1,$AO8,0)","v":{"v":0,"d":"0.00"}},{"$f":"IF($B8=2,$AO8,0)","v":{"v":0,"d":"0.00"}},{"$f":"IF($B8=3,$AO8,0)","v":{"v":0,"d":"0.00"}},{"$f":"IF($B8=4,$AO8,0)","v":{"v":0,"d":"0.00"}},{"$f":"IF($B8=5,$AO8,0)","v":{"v":0,"d":"0.00"}},{"$f":"IF($B8=6,$AO8,0)","v":{"v":0,"d":"0.00"}},{"$f":"IF(AV7>0,IF(H8+P8+X8+AF8+AN8+BD8+BL8+BT8+CB8+CJ8=0,IF(E8>0,AV7,0),0),0)","v":0},{"$f":"G8*AV8","v":{"v":0,"d":"0.00"}},{"$f":"IF($B8=1,$AW8,0)","v":{"v":0,"d":"0.00"}},{"$f":"IF($B8=2,$AW8,0)","v":{"v":0,"d":"0.00"}},{"$f":"IF($B8=3,$AW8,0)","v":{"v":0,"d":"0.00"}},{"$f":"IF($B8=4,$AW8,0)","v":{"v":0,"d":"0.00"}},{"$f":"IF($B8=5,$AW8,0)","v":{"v":0,"d":"0.00"}},{"$f":"IF($B8=6,$AW8,0)","v":{"v":0,"d":"0.00"}},{"$f":"IF(BD7>0,IF(H8+P8+X8+AF8+AN8+AV8+BL8+BT8+CB8+CJ8=0,IF(E8>0,BD7,0),0),0)","v":0},{"$f":"G8*BD8","v":{"v":0,"d":"0.00"}},{"$f":"IF($B8=1,$BE8,0)","v":{"v":0,"d":"0.00"}},{"$f":"IF($B8=2,$BE8,0)","v":{"v":0,"d":"0.00"}},{"$f":"IF($B8=3,$BE8,0)","v":{"v":0,"d":"0.00"}},{"$f":"IF($B8=4,$BE8,0)","v":{"v":0,"d":"0.00"}},{"$f":"IF($B8=5,$BE8,0)","v":{"v":0,"d":"0.00"}},{"$f":"IF($B8=6,$BE8,0)","v":{"v":0,"d":"0.00"}},{"$f":"IF(BL7>0,IF(H8+P8+X8+AF8+AN8+AV8+BD8+BT8+CB8+CJ8=0,IF(E8>0,BL7,0),0),0)","v":0},{"$f":"G8*BL8","v":{"v":0,"d":"0.00"}},{"$f":"IF($B8=1,$BM8,0)","v":{"v":0,"d":"0.00"}},{"$f":"IF($B8=2,$BM8,0)","v":{"v":0,"d":"0.00"}},{"$f":"IF($B8=3,$BM8,0)","v":{"v":0,"d":"0.00"}},{"$f":"IF($B8=4,$BM8,0)","v":{"v":0,"d":"0.00"}},{"$f":"IF($B8=5,$BM8,0)","v":{"v":0,"d":"0.00"}},{"$f":"IF($B8=6,$BM8,0)","v":{"v":0,"d":"0.00"}},{"$f":"IF(BT7>0,IF(H8+P8+X8+AF8+AN8+AV8+BD8+BL8+CB8+CJ8=0,IF(E8>0,BT7,0),0),0)","v":0},{"$f":"G8*BT8","v":{"v":0,"d":"0.00"}},{"$f":"IF($B8=1,$BU8,0)","v":{"v":0,"d":"0.00"}},{"$f":"IF($B8=2,$BU8,0)","v":{"v":0,"d":"0.00"}},{"$f":"IF($B8=3,$BU8,0)","v":{"v":0,"d":"0.00"}},{"$f":"IF($B8=4,$BU8,0)","v":{"v":0,"d":"0.00"}},{"$f":"IF($B8=5,$BU8,0)","v":{"v":0,"d":"0.00"}},{"$f":"IF($B8=6,$BU8,0)","v":{"v":0,"d":"0.00"}},{"$f":"IF(CB7>0,IF(H8+P8+X8+AF8+AN8+AV8+BD8+BL8+BT8+CJ8=0,IF(E8>0,CB7,0),0),0)","v":0},{"$f":"G8*CB8","v":{"v":0,"d":"0.00"}},{"$f":"IF($B8=1,$CC8,0)","v":{"v":0,"d":"0.00"}},{"$f":"IF($B8=2,$CC8,0)","v":{"v":0,"d":"0.00"}},{"$f":"IF($B8=3,$CC8,0)","v":{"v":0,"d":"0.00"}},{"$f":"IF($B8=4,$CC8,0)","v":{"v":0,"d":"0.00"}},{"$f":"IF($B8=5,$CC8,0)","v":{"v":0,"d":"0.00"}},{"$f":"IF($B8=6,$CC8,0)","v":{"v":0,"d":"0.00"}},{"$f":"IF(CJ7>0,IF(H8+P8+X8+AF8+AN8+AV8+BD8+BL8+BT8+CB8=0,IF(E8>0,CJ7,0),0),0)","v":0},{"$f":"G8*CJ8","v":{"v":0,"d":"0.00"}},{"$f":"IF($B8=1,$CK8,0)","v":{"v":0,"d":"0.00"}},{"$f":"IF($B8=2,$CK8,0)","v":{"v":0,"d":"0.00"}},{"$f":"IF($B8=3,$CK8,0)","v":{"v":0,"d":"0.00"}},{"$f":"IF($B8=4,$CK8,0)","v":{"v":0,"d":"0.00"}},{"$f":"IF($B8=5,$CK8,0)","v":{"v":0,"d":"0.00"}},{"$f":"IF($B8=6,$CK8,0)","v":{"v":0,"d":"0.00"}}]
[{"$f":"IF(C8<>C9,C9,\"\")","v":""},{"$f":"IF(C8<>C9,_xlfn.DAYS(C9,C8)+B8,B8)","v":1},{"$f":"IF(D9>0,IF(D9<E8,C8+1,C8),C8)","v":"2009-02-16"},{"$f":"IF((E9+H9+P9+X9+AF9+AN9+AV9+BD9+BL9+BT9+CB9+CJ9)>0,E8,0)","v":"00:00:00"},null,{"$f":"E9-D9","v":"00:00:00"},{"$f":"IF(E9>0,HOUR(F9)+(MINUTE(F9)/60),0)","v":0},{"$f":"IF(H8>0,IF(P9+X9+AF9+AN9+AV9+BD9+BL9+BT9+CB9+CJ9=0,IF(E9>0,H8,0),0),0)","v":0},{"$f":"G9*H9","v":{"v":0,"d":"0.00"}},{"$f":"IF($B9=1,$I9,0)","v":{"v":0,"d":"0.00"}},{"$f":"IF($B9=2,$I9,0)","v":{"v":0,"d":"0.00"}},{"$f":"IF($B9=3,$I9,0)","v":{"v":0,"d":"0.00"}},{"$f":"IF($B9=4,$I9,0)","v":{"v":0,"d":"0.00"}},{"$f":"IF($B9=5,$I9,0)","v":{"v":0,"d":"0.00"}},{"$f":"IF($B9=6,$I9,0)","v":{"v":0,"d":"0.00"}},{"$f":"IF(P8>0,IF(H9+X9+AF9+AN9+AV9+BD9+BL9+BT9+CB9+CJ9=0,IF(E9>0,P8,0),0),0)","v":0},{"$f":"G9*P9","v":{"v":0,"d":"0.00"}},{"$f":"IF(B9=1,Q9,0)","v":{"v":0,"d":"0.00"}},{"$f":"IF(B9=2,Q9,0)","v":{"v":0,"d":"0.00"}},{"$f":"IF(B9=3,Q9,0)","v":{"v":0,"d":"0.00"}},{"$f":"IF(B9=4,Q9,0)","v":{"v":0,"d":"0.00"}},{"$f":"IF(B9=5,Q9,0)","v":{"v":0,"d":"0.00"}},{"$f":"IF(B9=6,Q9,0)","v":{"v":0,"d":"0.00"}},{"$f":"IF(X8>0,IF(H9+P9+AF9+AN9+AV9+BD9+BL9+BT9+CB9+CJ9=0,IF(E9>0,X8,0),0),0)","v":0},{"$f":"G9*X9","v":{"v":0,"d":"0.00"}},{"$f":"IF($B9=1,$Y9,0)","v":{"v":0,"d":"0.00"}},{"$f":"IF($B9=2,$Y9,0)","v":{"v":0,"d":"0.00"}},{"$f":"IF($B9=3,$Y9,0)","v":{"v":0,"d":"0.00"}},{"$f":"IF($B9=4,$Y9,0)","v":{"v":0,"d":"0.00"}},{"$f":"IF($B9=5,$Y9,0)","v":{"v":0,"d":"0.00"}},{"$f":"IF($B9=6,$Y9,0)","v":{"v":0,"d":"0.00"}},{"$f":"IF(AF8>0,IF(H9+P9+X9+AN9+AV9+BD9+BL9+BT9+CB9+CJ9=0,IF(E9>0,AF8,0),0),0)","v":0},{"$f":"G9*AF9","v":{"v":0,"d":"0.00"}},{"$f":"IF($B9=1,$AG9,0)","v":{"v":0,"d":"0.00"}},{"$f":"IF($B9=2,$AG9,0)","v":{"v":0,"d":"0.00"}},{"$f":"IF($B9=3,$AG9,0)","v":{"v":0,"d":"0.00"}},{"$f":"IF($B9=4,$AG9,0)","v":{"v":0,"d":"0.00"}},{"$f":"IF($B9=5,$AG9,0)","v":{"v":0,"d":"0.00"}},{"$f":"IF($B9=6,$AG9,0)","v":{"v":0,"d":"0.00"}},{"$f":"IF(AN8>0,IF(H9+P9+X9+AF9+AV9+BD9+BL9+BT9+CB9+CJ9=0,IF(E9>0,AN8,0),0),0)","v":0},{"$f":"G9*AN9","v":{"v":0,"d":"0.00"}},{"$f":"IF($B9=1,$AO9,0)","v":{"v":0,"d":"0.00"}},{"$f":"IF($B9=2,$AO9,0)","v":{"v":0,"d":"0.00"}},{"$f":"IF($B9=3,$AO9,0)","v":{"v":0,"d":"0.00"}},{"$f":"IF($B9=4,$AO9,0)","v":{"v":0,"d":"0.00"}},{"$f":"IF($B9=5,$AO9,0)","v":{"v":0,"d":"0.00"}},{"$f":"IF($B9=6,$AO9,0)","v":{"v":0,"d":"0.00"}},{"$f":"IF(AV8>0,IF(H9+P9+X9+AF9+AN9+BD9+BL9+BT9+CB9+CJ9=0,IF(E9>0,AV8,0),0),0)","v":0},{"$f":"G9*AV9","v":{"v":0,"d":"0.00"}},{"$f":"IF($B9=1,$AW9,0)","v":{"v":0,"d":"0.00"}},{"$f":"IF($B9=2,$AW9,0)","v":{"v":0,"d":"0.00"}},{"$f":"IF($B9=3,$AW9,0)","v":{"v":0,"d":"0.00"}},{"$f":"IF($B9=4,$AW9,0)","v":{"v":0,"d":"0.00"}},{"$f":"IF($B9=5,$AW9,0)","v":{"v":0,"d":"0.00"}},{"$f":"IF($B9=6,$AW9,0)","v":{"v":0,"d":"0.00"}},{"$f":"IF(BD8>0,IF(H9+P9+X9+AF9+AN9+AV9+BL9+BT9+CB9+CJ9=0,IF(E9>0,BD8,0),0),0)","v":0},{"$f":"G9*BD9","v":{"v":0,"d":"0.00"}},{"$f":"IF($B9=1,$BE9,0)","v":{"v":0,"d":"0.00"}},{"$f":"IF($B9=2,$BE9,0)","v":{"v":0,"d":"0.00"}},{"$f":"IF($B9=3,$BE9,0)","v":{"v":0,"d":"0.00"}},{"$f":"IF($B9=4,$BE9,0)","v":{"v":0,"d":"0.00"}},{"$f":"IF($B9=5,$BE9,0)","v":{"v":0,"d":"0.00"}},{"$f":"IF($B9=6,$BE9,0)","v":{"v":0,"d":"0.00"}},{"$f":"IF(BL8>0,IF(H9+P9+X9+AF9+AN9+AV9+BD9+BT9+CB9+CJ9=0,IF(E9>0,BL8,0),0),0)","v":0},{"$f":"G9*BL9","v":{"v":0,"d":"0.00"}},{"$f":"IF($B9=1,$BM9,0)","v":{"v":0,"d":"0.00"}},{"$f":"IF($B9=2,$BM9,0)","v":{"v":0,"d":"0.00"}},{"$f":"IF($B9=3,$BM9,0)","v":{"v":0,"d":"0.00"}},{"$f":"IF($B9=4,$BM9,0)","v":{"v":0,"d":"0.00"}},{"$f":"IF($B9=5,$BM9,0)","v":{"v":0,"d":"0.00"}},{"$f":"IF($B9=6,$BM9,0)","v":{"v":0,"d":"0.00"}},{"$f":"IF(BT8>0,IF(H9+P9+X9+AF9+AN9+AV9+BD9+BL9+CB9+CJ9=0,IF(E9>0,BT8,0),0),0)","v":0},{"$f":"G9*BT9","v":{"v":0,"d":"0.00"}},{"$f":"IF($B9=1,$BU9,0)","v":{"v":0,"d":"0.00"}},{"$f":"IF($B9=2,$BU9,0)","v":{"v":0,"d":"0.00"}},{"$f":"IF($B9=3,$BU9,0)","v":{"v":0,"d":"0.00"}},{"$f":"IF($B9=4,$BU9,0)","v":{"v":0,"d":"0.00"}},{"$f":"IF($B9=5,$BU9,0)","v":{"v":0,"d":"0.00"}},{"$f":"IF($B9=6,$BU9,0)","v":{"v":0,"d":"0.00"}},{"$f":"IF(CB8>0,IF(H9+P9+X9+AF9+AN9+AV9+BD9+BL9+BT9+CJ9=0,IF(E9>0,CB8,0),0),0)","v":0},{"$f":"G9*CB9","v":{"v":0,"d":"0.00"}},{"$f":"IF($B9=1,$CC9,0)","v":{"v":0,"d":"0.00"}},{"$f":"IF($B9=2,$CC9,0)","v":{"v":0,"d":"0.00"}},{"$f":"IF($B9=3,$CC9,0)","v":{"v":0,"d":"0.00"}},{"$f":"IF($B9=4,$CC9,0)","v":{"v":0,"d":"0.00"}},{"$f":"IF($B9=5,$CC9,0)","v":{"v":0,"d":"0.00"}},{"$f":"IF($B9=6,$CC9,0)","v":{"v":0,"d":"0.00"}},{"$f":"IF(CJ8>0,IF(H9+P9+X9+AF9+AN9+AV9+BD9+BL9+BT9+CB9=0,IF(E9>0,CJ8,0),0),0)","v":0},{"$f":"G9*CJ9","v":{"v":0,"d":"0.00"}},{"$f":"IF($B9=1,$CK9,0)","v":{"v":0,"d":"0.00"}},{"$f":"IF($B9=2,$CK9,0)","v":{"v":0,"d":"0.00"}},{"$f":"IF($B9=3,$CK9,0)","v":{"v":0,"d":"0.00"}},{"$f":"IF($B9=4,$CK9,0)","v":{"v":0,"d":"0.00"}},{"$f":"IF($B9=5,$CK9,0)","v":{"v":0,"d":"0.00"}},{"$f":"IF($B9=6,$CK9,0)","v":{"v":0,"d":"0.00"}}]
[{"$f":"IF(C9<>C10,C10,\"\")","v":""},{"$f":"IF(C9<>C10,_xlfn.DAYS(C10,C9)+B9,B9)","v":1},{"$f":"IF(D10>0,IF(D10<E9,C9+1,C9),C9)","v":"2009-02-16"},{"$f":"IF((E10+H10+P10+X10+AF10+AN10+AV10+BD10+BL10+BT10+CB10+CJ10)>0,E9,0)","v":"00:00:00"},null,{"$f":"E10-D10","v":"00:00:00"},{"$f":"IF(E10>0,HOUR(F10)+(MINUTE(F10)/60),0)","v":0},{"$f":"IF(H9>0,IF(P10+X10+AF10+AN10+AV10+BD10+BL10+BT10+CB10+CJ10=0,IF(E10>0,H9,0),0),0)","v":0},{"$f":"G10*H10","v":{"v":0,"d":"0.00"}},{"$f":"IF($B10=1,$I10,0)","v":{"v":0,"d":"0.00"}},{"$f":"IF($B10=2,$I10,0)","v":{"v":0,"d":"0.00"}},{"$f":"IF($B10=3,$I10,0)","v":{"v":0,"d":"0.00"}},{"$f":"IF($B10=4,$I10,0)","v":{"v":0,"d":"0.00"}},{"$f":"IF($B10=5,$I10,0)","v":{"v":0,"d":"0.00"}},{"$f":"IF($B10=6,$I10,0)","v":{"v":0,"d":"0.00"}},{"$f":"IF(P9>0,IF(H10+X10+AF10+AN10+AV10+BD10+BL10+BT10+CB10+CJ10=0,IF(E10>0,P9,0),0),0)","v":0},{"$f":"G10*P10","v":{"v":0,"d":"0.00"}},{"$f":"IF(B10=1,Q10,0)","v":{"v":0,"d":"0.00"}},{"$f":"IF(B10=2,Q10,0)","v":{"v":0,"d":"0.00"}},{"$f":"IF(B10=3,Q10,0)","v":{"v":0,"d":"0.00"}},{"$f":"IF(B10=4,Q10,0)","v":{"v":0,"d":"0.00"}},{"$f":"IF(B10=5,Q10,0)","v":{"v":0,"d":"0.00"}},{"$f":"IF(B10=6,Q10,0)","v":{"v":0,"d":"0.00"}},{"$f":"IF(X9>0,IF(H10+P10+AF10+AN10+AV10+BD10+BL10+BT10+CB10+CJ10=0,IF(E10>0,X9,0),0),0)","v":0},{"$f":"G10*X10","v":{"v":0,"d":"0.00"}},{"$f":"IF($B10=1,$Y10,0)","v":{"v":0,"d":"0.00"}},{"$f":"IF($B10=2,$Y10,0)","v":{"v":0,"d":"0.00"}},{"$f":"IF($B10=3,$Y10,0)","v":{"v":0,"d":"0.00"}},{"$f":"IF($B10=4,$Y10,0)","v":{"v":0,"d":"0.00"}},{"$f":"IF($B10=5,$Y10,0)","v":{"v":0,"d":"0.00"}},{"$f":"IF($B10=6,$Y10,0)","v":{"v":0,"d":"0.00"}},{"$f":"IF(AF9>0,IF(H10+P10+X10+AN10+AV10+BD10+BL10+BT10+CB10+CJ10=0,IF(E10>0,AF9,0),0),0)","v":0},{"$f":"G10*AF10","v":{"v":0,"d":"0.00"}},{"$f":"IF($B10=1,$AG10,0)","v":{"v":0,"d":"0.00"}},{"$f":"IF($B10=2,$AG10,0)","v":{"v":0,"d":"0.00"}},{"$f":"IF($B10=3,$AG10,0)","v":{"v":0,"d":"0.00"}},{"$f":"IF($B10=4,$AG10,0)","v":{"v":0,"d":"0.00"}},{"$f":"IF($B10=5,$AG10,0)","v":{"v":0,"d":"0.00"}},{"$f":"IF($B10=6,$AG10,0)","v":{"v":0,"d":"0.00"}},{"$f":"IF(AN9>0,IF(H10+P10+X10+AF10+AV10+BD10+BL10+BT10+CB10+CJ10=0,IF(E10>0,AN9,0),0),0)","v":0},{"$f":"G10*AN10","v":{"v":0,"d":"0.00"}},{"$f":"IF($B10=1,$AO10,0)","v":{"v":0,"d":"0.00"}},{"$f":"IF($B10=2,$AO10,0)","v":{"v":0,"d":"0.00"}},{"$f":"IF($B10=3,$AO10,0)","v":{"v":0,"d":"0.00"}},{"$f":"IF($B10=4,$AO10,0)","v":{"v":0,"d":"0.00"}},{"$f":"IF($B10=5,$AO10,0)","v":{"v":0,"d":"0.00"}},{"$f":"IF($B10=6,$AO10,0)","v":{"v":0,"d":"0.00"}},{"$f":"IF(AV9>0,IF(H10+P10+X10+AF10+AN10+BD10+BL10+BT10+CB10+CJ10=0,IF(E10>0,AV9,0),0),0)","v":0},{"$f":"G10*AV10","v":{"v":0,"d":"0.00"}},{"$f":"IF($B10=1,$AW10,0)","v":{"v":0,"d":"0.00"}},{"$f":"IF($B10=2,$AW10,0)","v":{"v":0,"d":"0.00"}},{"$f":"IF($B10=3,$AW10,0)","v":{"v":0,"d":"0.00"}},{"$f":"IF($B10=4,$AW10,0)","v":{"v":0,"d":"0.00"}},{"$f":"IF($B10=5,$AW10,0)","v":{"v":0,"d":"0.00"}},{"$f":"IF($B10=6,$AW10,0)","v":{"v":0,"d":"0.00"}},{"$f":"IF(BD9>0,IF(H10+P10+X10+AF10+AN10+AV10+BL10+BT10+CB10+CJ10=0,IF(E10>0,BD9,0),0),0)","v":0},{"$f":"G10*BD10","v":{"v":0,"d":"0.00"}},{"$f":"IF($B10=1,$BE10,0)","v":{"v":0,"d":"0.00"}},{"$f":"IF($B10=2,$BE10,0)","v":{"v":0,"d":"0.00"}},{"$f":"IF($B10=3,$BE10,0)","v":{"v":0,"d":"0.00"}},{"$f":"IF($B10=4,$BE10,0)","v":{"v":0,"d":"0.00"}},{"$f":"IF($B10=5,$BE10,0)","v":{"v":0,"d":"0.00"}},{"$f":"IF($B10=6,$BE10,0)","v":{"v":0,"d":"0.00"}},{"$f":"IF(BL9>0,IF(H10+P10+X10+AF10+AN10+AV10+BD10+BT10+CB10+CJ10=0,IF(E10>0,BL9,0),0),0)","v":0},{"$f":"G10*BL10","v":{"v":0,"d":"0.00"}},{"$f":"IF($B10=1,$BM10,0)","v":{"v":0,"d":"0.00"}},{"$f":"IF($B10=2,$BM10,0)","v":{"v":0,"d":"0.00"}},{"$f":"IF($B10=3,$BM10,0)","v":{"v":0,"d":"0.00"}},{"$f":"IF($B10=4,$BM10,0)","v":{"v":0,"d":"0.00"}},{"$f":"IF($B10=5,$BM10,0)","v":{"v":0,"d":"0.00"}},{"$f":"IF($B10=6,$BM10,0)","v":{"v":0,"d":"0.00"}},{"$f":"IF(BT9>0,IF(H10+P10+X10+AF10+AN10+AV10+BD10+BL10+CB10+CJ10=0,IF(E10>0,BT9,0),0),0)","v":0},{"$f":"G10*BT10","v":{"v":0,"d":"0.00"}},{"$f":"IF($B10=1,$BU10,0)","v":{"v":0,"d":"0.00"}},{"$f":"IF($B10=2,$BU10,0)","v":{"v":0,"d":"0.00"}},{"$f":"IF($B10=3,$BU10,0)","v":{"v":0,"d":"0.00"}},{"$f":"IF($B10=4,$BU10,0)","v":{"v":0,"d":"0.00"}},{"$f":"IF($B10=5,$BU10,0)","v":{"v":0,"d":"0.00"}},{"$f":"IF($B10=6,$BU10,0)","v":{"v":0,"d":"0.00"}},{"$f":"IF(CB9>0,IF(H10+P10+X10+AF10+AN10+AV10+BD10+BL10+BT10+CJ10=0,IF(E10>0,CB9,0),0),0)","v":0},{"$f":"G10*CB10","v":{"v":0,"d":"0.00"}},{"$f":"IF($B10=1,$CC10,0)","v":{"v":0,"d":"0.00"}},{"$f":"IF($B10=2,$CC10,0)","v":{"v":0,"d":"0.00"}},{"$f":"IF($B10=3,$CC10,0)","v":{"v":0,"d":"0.00"}},{"$f":"IF($B10=4,$CC10,0)","v":{"v":0,"d":"0.00"}},{"$f":"IF($B10=5,$CC10,0)","v":{"v":0,"d":"0.00"}},{"$f":"IF($B10=6,$CC10,0)","v":{"v":0,"d":"0.00"}},{"$f":"IF(CJ9>0,IF(H10+P10+X10+AF10+AN10+AV10+BD10+BL10+BT10+CB10=0,IF(E10>0,CJ9,0),0),0)","v":0},{"$f":"G10*CJ10","v":{"v":0,"d":"0.00"}},{"$f":"IF($B10=1,$CK10,0)","v":{"v":0,"d":"0.00"}},{"$f":"IF($B10=2,$CK10,0)","v":{"v":0,"d":"0.00"}},{"$f":"IF($B10=3,$CK10,0)","v":{"v":0,"d":"0.00"}},{"$f":"IF($B10=4,$CK10,0)","v":{"v":0,"d":"0.00"}},{"$f":"IF($B10=5,$CK10,0)","v":{"v":0,"d":"0.00"}},{"$f":"IF($B10=6,$CK10,0)","v":{"v":0,"d":"0.00"}}]
[{"$f":"IF(C10<>C11,C11,\"\")","v":""},{"$f":"IF(C10<>C11,_xlfn.DAYS(C11,C10)+B10,B10)","v":1},{"$f":"IF(D11>0,IF(D11<E10,C10+1,C10),C10)","v":"2009-02-16"},{"$f":"IF((E11+H11+P11+X11+AF11+AN11+AV11+BD11+BL11+BT11+CB11+CJ11)>0,E10,0)","v":"00:00:00"},null,{"$f":"E11-D11","v":"00:00:00"},{"$f":"IF(E11>0,HOUR(F11)+(MINUTE(F11)/60),0)","v":0},{"$f":"IF(H10>0,IF(P11+X11+AF11+AN11+AV11+BD11+BL11+BT11+CB11+CJ11=0,IF(E11>0,H10,0),0),0)","v":0},{"$f":"G11*H11","v":{"v":0,"d":"0.00"}},{"$f":"IF($B11=1,$I11,0)","v":{"v":0,"d":"0.00"}},{"$f":"IF($B11=2,$I11,0)","v":{"v":0,"d":"0.00"}},{"$f":"IF($B11=3,$I11,0)","v":{"v":0,"d":"0.00"}},{"$f":"IF($B11=4,$I11,0)","v":{"v":0,"d":"0.00"}},{"$f":"IF($B11=5,$I11,0)","v":{"v":0,"d":"0.00"}},{"$f":"IF($B11=6,$I11,0)","v":{"v":0,"d":"0.00"}},{"$f":"IF(P10>0,IF(H11+X11+AF11+AN11+AV11+BD11+BL11+BT11+CB11+CJ11=0,IF(E11>0,P10,0),0),0)","v":0},{"$f":"G11*P11","v":{"v":0,"d":"0.00"}},{"$f":"IF(B11=1,Q11,0)","v":{"v":0,"d":"0.00"}},{"$f":"IF(B11=2,Q11,0)","v":{"v":0,"d":"0.00"}},{"$f":"IF(B11=3,Q11,0)","v":{"v":0,"d":"0.00"}},{"$f":"IF(B11=4,Q11,0)","v":{"v":0,"d":"0.00"}},{"$f":"IF(B11=5,Q11,0)","v":{"v":0,"d":"0.00"}},{"$f":"IF(B11=6,Q11,0)","v":{"v":0,"d":"0.00"}},{"$f":"IF(X10>0,IF(H11+P11+AF11+AN11+AV11+BD11+BL11+BT11+CB11+CJ11=0,IF(E11>0,X10,0),0),0)","v":0},{"$f":"G11*X11","v":{"v":0,"d":"0.00"}},{"$f":"IF($B11=1,$Y11,0)","v":{"v":0,"d":"0.00"}},{"$f":"IF($B11=2,$Y11,0)","v":{"v":0,"d":"0.00"}},{"$f":"IF($B11=3,$Y11,0)","v":{"v":0,"d":"0.00"}},{"$f":"IF($B11=4,$Y11,0)","v":{"v":0,"d":"0.00"}},{"$f":"IF($B11=5,$Y11,0)","v":{"v":0,"d":"0.00"}},{"$f":"IF($B11=6,$Y11,0)","v":{"v":0,"d":"0.00"}},{"$f":"IF(AF10>0,IF(H11+P11+X11+AN11+AV11+BD11+BL11+BT11+CB11+CJ11=0,IF(E11>0,AF10,0),0),0)","v":0},{"$f":"G11*AF11","v":{"v":0,"d":"0.00"}},{"$f":"IF($B11=1,$AG11,0)","v":{"v":0,"d":"0.00"}},{"$f":"IF($B11=2,$AG11,0)","v":{"v":0,"d":"0.00"}},{"$f":"IF($B11=3,$AG11,0)","v":{"v":0,"d":"0.00"}},{"$f":"IF($B11=4,$AG11,0)","v":{"v":0,"d":"0.00"}},{"$f":"IF($B11=5,$AG11,0)","v":{"v":0,"d":"0.00"}},{"$f":"IF($B11=6,$AG11,0)","v":{"v":0,"d":"0.00"}},{"$f":"IF(AN10>0,IF(H11+P11+X11+AF11+AV11+BD11+BL11+BT11+CB11+CJ11=0,IF(E11>0,AN10,0),0),0)","v":0},{"$f":"G11*AN11","v":{"v":0,"d":"0.00"}},{"$f":"IF($B11=1,$AO11,0)","v":{"v":0,"d":"0.00"}},{"$f":"IF($B11=2,$AO11,0)","v":{"v":0,"d":"0.00"}},{"$f":"IF($B11=3,$AO11,0)","v":{"v":0,"d":"0.00"}},{"$f":"IF($B11=4,$AO11,0)","v":{"v":0,"d":"0.00"}},{"$f":"IF($B11=5,$AO11,0)","v":{"v":0,"d":"0.00"}},{"$f":"IF($B11=6,$AO11,0)","v":{"v":0,"d":"0.00"}},{"$f":"IF(AV10>0,IF(H11+P11+X11+AF11+AN11+BD11+BL11+BT11+CB11+CJ11=0,IF(E11>0,AV10,0),0),0)","v":0},{"$f":"G11*AV11","v":{"v":0,"d":"0.00"}},{"$f":"IF($B11=1,$AW11,0)","v":{"v":0,"d":"0.00"}},{"$f":"IF($B11=2,$AW11,0)","v":{"v":0,"d":"0.00"}},{"$f":"IF($B11=3,$AW11,0)","v":{"v":0,"d":"0.00"}},{"$f":"IF($B11=4,$AW11,0)","v":{"v":0,"d":"0.00"}},{"$f":"IF($B11=5,$AW11,0)","v":{"v":0,"d":"0.00"}},{"$f":"IF($B11=6,$AW11,0)","v":{"v":0,"d":"0.00"}},{"$f":"IF(BD10>0,IF(H11+P11+X11+AF11+AN11+AV11+BL11+BT11+CB11+CJ11=0,IF(E11>0,BD10,0),0),0)","v":0},{"$f":"G11*BD11","v":{"v":0,"d":"0.00"}},{"$f":"IF($B11=1,$BE11,0)","v":{"v":0,"d":"0.00"}},{"$f":"IF($B11=2,$BE11,0)","v":{"v":0,"d":"0.00"}},{"$f":"IF($B11=3,$BE11,0)","v":{"v":0,"d":"0.00"}},{"$f":"IF($B11=4,$BE11,0)","v":{"v":0,"d":"0.00"}},{"$f":"IF($B11=5,$BE11,0)","v":{"v":0,"d":"0.00"}},{"$f":"IF($B11=6,$BE11,0)","v":{"v":0,"d":"0.00"}},{"$f":"IF(BL10>0,IF(H11+P11+X11+AF11+AN11+AV11+BD11+BT11+CB11+CJ11=0,IF(E11>0,BL10,0),0),0)","v":0},{"$f":"G11*BL11","v":{"v":0,"d":"0.00"}},{"$f":"IF($B11=1,$BM11,0)","v":{"v":0,"d":"0.00"}},{"$f":"IF($B11=2,$BM11,0)","v":{"v":0,"d":"0.00"}},{"$f":"IF($B11=3,$BM11,0)","v":{"v":0,"d":"0.00"}},{"$f":"IF($B11=4,$BM11,0)","v":{"v":0,"d":"0.00"}},{"$f":"IF($B11=5,$BM11,0)","v":{"v":0,"d":"0.00"}},{"$f":"IF($B11=6,$BM11,0)","v":{"v":0,"d":"0.00"}},{"$f":"IF(BT10>0,IF(H11+P11+X11+AF11+AN11+AV11+BD11+BL11+CB11+CJ11=0,IF(E11>0,BT10,0),0),0)","v":0},{"$f":"G11*BT11","v":{"v":0,"d":"0.00"}},{"$f":"IF($B11=1,$BU11,0)","v":{"v":0,"d":"0.00"}},{"$f":"IF($B11=2,$BU11,0)","v":{"v":0,"d":"0.00"}},{"$f":"IF($B11=3,$BU11,0)","v":{"v":0,"d":"0.00"}},{"$f":"IF($B11=4,$BU11,0)","v":{"v":0,"d":"0.00"}},{"$f":"IF($B11=5,$BU11,0)","v":{"v":0,"d":"0.00"}},{"$f":"IF($B11=6,$BU11,0)","v":{"v":0,"d":"0.00"}},{"$f":"IF(CB10>0,IF(H11+P11+X11+AF11+AN11+AV11+BD11+BL11+BT11+CJ11=0,IF(E11>0,CB10,0),0),0)","v":0},{"$f":"G11*CB11","v":{"v":0,"d":"0.00"}},{"$f":"IF($B11=1,$CC11,0)","v":{"v":0,"d":"0.00"}},{"$f":"IF($B11=2,$CC11,0)","v":{"v":0,"d":"0.00"}},{"$f":"IF($B11=3,$CC11,0)","v":{"v":0,"d":"0.00"}},{"$f":"IF($B11=4,$CC11,0)","v":{"v":0,"d":"0.00"}},{"$f":"IF($B11=5,$CC11,0)","v":{"v":0,"d":"0.00"}},{"$f":"IF($B11=6,$CC11,0)","v":{"v":0,"d":"0.00"}},{"$f":"IF(CJ10>0,IF(H11+P11+X11+AF11+AN11+AV11+BD11+BL11+BT11+CB11=0,IF(E11>0,CJ10,0),0),0)","v":0},{"$f":"G11*CJ11","v":{"v":0,"d":"0.00"}},{"$f":"IF($B11=1,$CK11,0)","v":{"v":0,"d":"0.00"}},{"$f":"IF($B11=2,$CK11,0)","v":{"v":0,"d":"0.00"}},{"$f":"IF($B11=3,$CK11,0)","v":{"v":0,"d":"0.00"}},{"$f":"IF($B11=4,$CK11,0)","v":{"v":0,"d":"0.00"}},{"$f":"IF($B11=5,$CK11,0)","v":{"v":0,"d":"0.00"}},{"$f":"IF($B11=6,$CK11,0)","v":{"v":0,"d":"0.00"}}]
[{"$f":"IF(C11<>C12,C12,\"\")","v":""},{"$f":"IF(C11<>C12,_xlfn.DAYS(C12,C11)+B11,B11)","v":1},{"$f":"IF(D12>0,IF(D12<E11,C11+1,C11),C11)","v":"2009-02-16"},{"$f":"IF((E12+H12+P12+X12+AF12+AN12+AV12+BD12+BL12+BT12+CB12+CJ12)>0,E11,0)","v":"00:00:00"},null,{"$f":"E12-D12","v":"00:00:00"},{"$f":"IF(E12>0,HOUR(F12)+(MINUTE(F12)/60),0)","v":0},{"$f":"IF(H11>0,IF(P12+X12+AF12+AN12+AV12+BD12+BL12+BT12+CB12+CJ12=0,IF(E12>0,H11,0),0),0)","v":0},{"$f":"G12*H12","v":{"v":0,"d":"0.00"}},{"$f":"IF($B12=1,$I12,0)","v":{"v":0,"d":"0.00"}},{"$f":"IF($B12=2,$I12,0)","v":{"v":0,"d":"0.00"}},{"$f":"IF($B12=3,$I12,0)","v":{"v":0,"d":"0.00"}},{"$f":"IF($B12=4,$I12,0)","v":{"v":0,"d":"0.00"}},{"$f":"IF($B12=5,$I12,0)","v":{"v":0,"d":"0.00"}},{"$f":"IF($B12=6,$I12,0)","v":{"v":0,"d":"0.00"}},{"$f":"IF(P11>0,IF(H12+X12+AF12+AN12+AV12+BD12+BL12+BT12+CB12+CJ12=0,IF(E12>0,P11,0),0),0)","v":0},{"$f":"G12*P12","v":{"v":0,"d":"0.00"}},{"$f":"IF(B12=1,Q12,0)","v":{"v":0,"d":"0.00"}},{"$f":"IF(B12=2,Q12,0)","v":{"v":0,"d":"0.00"}},{"$f":"IF(B12=3,Q12,0)","v":{"v":0,"d":"0.00"}},{"$f":"IF(B12=4,Q12,0)","v":{"v":0,"d":"0.00"}},{"$f":"IF(B12=5,Q12,0)","v":{"v":0,"d":"0.00"}},{"$f":"IF(B12=6,Q12,0)","v":{"v":0,"d":"0.00"}},{"$f":"IF(X11>0,IF(H12+P12+AF12+AN12+AV12+BD12+BL12+BT12+CB12+CJ12=0,IF(E12>0,X11,0),0),0)","v":0},{"$f":"G12*X12","v":{"v":0,"d":"0.00"}},{"$f":"IF($B12=1,$Y12,0)","v":{"v":0,"d":"0.00"}},{"$f":"IF($B12=2,$Y12,0)","v":{"v":0,"d":"0.00"}},{"$f":"IF($B12=3,$Y12,0)","v":{"v":0,"d":"0.00"}},{"$f":"IF($B12=4,$Y12,0)","v":{"v":0,"d":"0.00"}},{"$f":"IF($B12=5,$Y12,0)","v":{"v":0,"d":"0.00"}},{"$f":"IF($B12=6,$Y12,0)","v":{"v":0,"d":"0.00"}},{"$f":"IF(AF11>0,IF(H12+P12+X12+AN12+AV12+BD12+BL12+BT12+CB12+CJ12=0,IF(E12>0,AF11,0),0),0)","v":0},{"$f":"G12*AF12","v":{"v":0,"d":"0.00"}},{"$f":"IF($B12=1,$AG12,0)","v":{"v":0,"d":"0.00"}},{"$f":"IF($B12=2,$AG12,0)","v":{"v":0,"d":"0.00"}},{"$f":"IF($B12=3,$AG12,0)","v":{"v":0,"d":"0.00"}},{"$f":"IF($B12=4,$AG12,0)","v":{"v":0,"d":"0.00"}},{"$f":"IF($B12=5,$AG12,0)","v":{"v":0,"d":"0.00"}},{"$f":"IF($B12=6,$AG12,0)","v":{"v":0,"d":"0.00"}},{"$f":"IF(AN11>0,IF(H12+P12+X12+AF12+AV12+BD12+BL12+BT12+CB12+CJ12=0,IF(E12>0,AN11,0),0),0)","v":0},{"$f":"G12*AN12","v":{"v":0,"d":"0.00"}},{"$f":"IF($B12=1,$AO12,0)","v":{"v":0,"d":"0.00"}},{"$f":"IF($B12=2,$AO12,0)","v":{"v":0,"d":"0.00"}},{"$f":"IF($B12=3,$AO12,0)","v":{"v":0,"d":"0.00"}},{"$f":"IF($B12=4,$AO12,0)","v":{"v":0,"d":"0.00"}},{"$f":"IF($B12=5,$AO12,0)","v":{"v":0,"d":"0.00"}},{"$f":"IF($B12=6,$AO12,0)","v":{"v":0,"d":"0.00"}},{"$f":"IF(AV11>0,IF(H12+P12+X12+AF12+AN12+BD12+BL12+BT12+CB12+CJ12=0,IF(E12>0,AV11,0),0),0)","v":0},{"$f":"G12*AV12","v":{"v":0,"d":"0.00"}},{"$f":"IF($B12=1,$AW12,0)","v":{"v":0,"d":"0.00"}},{"$f":"IF($B12=2,$AW12,0)","v":{"v":0,"d":"0.00"}},{"$f":"IF($B12=3,$AW12,0)","v":{"v":0,"d":"0.00"}},{"$f":"IF($B12=4,$AW12,0)","v":{"v":0,"d":"0.00"}},{"$f":"IF($B12=5,$AW12,0)","v":{"v":0,"d":"0.00"}},{"$f":"IF($B12=6,$AW12,0)","v":{"v":0,"d":"0.00"}},{"$f":"IF(BD11>0,IF(H12+P12+X12+AF12+AN12+AV12+BL12+BT12+CB12+CJ12=0,IF(E12>0,BD11,0),0),0)","v":0},{"$f":"G12*BD12","v":{"v":0,"d":"0.00"}},{"$f":"IF($B12=1,$BE12,0)","v":{"v":0,"d":"0.00"}},{"$f":"IF($B12=2,$BE12,0)","v":{"v":0,"d":"0.00"}},{"$f":"IF($B12=3,$BE12,0)","v":{"v":0,"d":"0.00"}},{"$f":"IF($B12=4,$BE12,0)","v":{"v":0,"d":"0.00"}},{"$f":"IF($B12=5,$BE12,0)","v":{"v":0,"d":"0.00"}},{"$f":"IF($B12=6,$BE12,0)","v":{"v":0,"d":"0.00"}},{"$f":"IF(BL11>0,IF(H12+P12+X12+AF12+AN12+AV12+BD12+BT12+CB12+CJ12=0,IF(E12>0,BL11,0),0),0)","v":0},{"$f":"G12*BL12","v":{"v":0,"d":"0.00"}},{"$f":"IF($B12=1,$BM12,0)","v":{"v":0,"d":"0.00"}},{"$f":"IF($B12=2,$BM12,0)","v":{"v":0,"d":"0.00"}},{"$f":"IF($B12=3,$BM12,0)","v":{"v":0,"d":"0.00"}},{"$f":"IF($B12=4,$BM12,0)","v":{"v":0,"d":"0.00"}},{"$f":"IF($B12=5,$BM12,0)","v":{"v":0,"d":"0.00"}},{"$f":"IF($B12=6,$BM12,0)","v":{"v":0,"d":"0.00"}},{"$f":"IF(BT11>0,IF(H12+P12+X12+AF12+AN12+AV12+BD12+BL12+CB12+CJ12=0,IF(E12>0,BT11,0),0),0)","v":0},{"$f":"G12*BT12","v":{"v":0,"d":"0.00"}},{"$f":"IF($B12=1,$BU12,0)","v":{"v":0,"d":"0.00"}},{"$f":"IF($B12=2,$BU12,0)","v":{"v":0,"d":"0.00"}},{"$f":"IF($B12=3,$BU12,0)","v":{"v":0,"d":"0.00"}},{"$f":"IF($B12=4,$BU12,0)","v":{"v":0,"d":"0.00"}},{"$f":"IF($B12=5,$BU12,0)","v":{"v":0,"d":"0.00"}},{"$f":"IF($B12=6,$BU12,0)","v":{"v":0,"d":"0.00"}},{"$f":"IF(CB11>0,IF(H12+P12+X12+AF12+AN12+AV12+BD12+BL12+BT12+CJ12=0,IF(E12>0,CB11,0),0),0)","v":0},{"$f":"G12*CB12","v":{"v":0,"d":"0.00"}},{"$f":"IF($B12=1,$CC12,0)","v":{"v":0,"d":"0.00"}},{"$f":"IF($B12=2,$CC12,0)","v":{"v":0,"d":"0.00"}},{"$f":"IF($B12=3,$CC12,0)","v":{"v":0,"d":"0.00"}},{"$f":"IF($B12=4,$CC12,0)","v":{"v":0,"d":"0.00"}},{"$f":"IF($B12=5,$CC12,0)","v":{"v":0,"d":"0.00"}},{"$f":"IF($B12=6,$CC12,0)","v":{"v":0,"d":"0.00"}},{"$f":"IF(CJ11>0,IF(H12+P12+X12+AF12+AN12+AV12+BD12+BL12+BT12+CB12=0,IF(E12>0,CJ11,0),0),0)","v":0},{"$f":"G12*CJ12","v":{"v":0,"d":"0.00"}},{"$f":"IF($B12=1,$CK12,0)","v":{"v":0,"d":"0.00"}},{"$f":"IF($B12=2,$CK12,0)","v":{"v":0,"d":"0.00"}},{"$f":"IF($B12=3,$CK12,0)","v":{"v":0,"d":"0.00"}},{"$f":"IF($B12=4,$CK12,0)","v":{"v":0,"d":"0.00"}},{"$f":"IF($B12=5,$CK12,0)","v":{"v":0,"d":"0.00"}},{"$f":"IF($B12=6,$CK12,0)","v":{"v":0,"d":"0.00"}}]
[{"$f":"IF(C12<>C13,C13,\"\")","v":""},{"$f":"IF(C12<>C13,_xlfn.DAYS(C13,C12)+B12,B12)","v":1},{"$f":"IF(D13>0,IF(D13<E12,C12+1,C12),C12)","v":"2009-02-16"},{"$f":"IF((E13+H13+P13+X13+AF13+AN13+AV13+BD13+BL13+BT13+CB13+CJ13)>0,E12,0)","v":"00:00:00"},null,{"$f":"E13-D13","v":"00:00:00"},{"$f":"IF(E13>0,HOUR(F13)+(MINUTE(F13)/60),0)","v":0},{"$f":"IF(H12>0,IF(P13+X13+AF13+AN13+AV13+BD13+BL13+BT13+CB13+CJ13=0,IF(E13>0,H12,0),0),0)","v":0},{"$f":"G13*H13","v":{"v":0,"d":"0.00"}},{"$f":"IF($B13=1,$I13,0)","v":{"v":0,"d":"0.00"}},{"$f":"IF($B13=2,$I13,0)","v":{"v":0,"d":"0.00"}},{"$f":"IF($B13=3,$I13,0)","v":{"v":0,"d":"0.00"}},{"$f":"IF($B13=4,$I13,0)","v":{"v":0,"d":"0.00"}},{"$f":"IF($B13=5,$I13,0)","v":{"v":0,"d":"0.00"}},{"$f":"IF($B13=6,$I13,0)","v":{"v":0,"d":"0.00"}},{"$f":"IF(P12>0,IF(H13+X13+AF13+AN13+AV13+BD13+BL13+BT13+CB13+CJ13=0,IF(E13>0,P12,0),0),0)","v":0},{"$f":"G13*P13","v":{"v":0,"d":"0.00"}},{"$f":"IF(B13=1,Q13,0)","v":{"v":0,"d":"0.00"}},{"$f":"IF(B13=2,Q13,0)","v":{"v":0,"d":"0.00"}},{"$f":"IF(B13=3,Q13,0)","v":{"v":0,"d":"0.00"}},{"$f":"IF(B13=4,Q13,0)","v":{"v":0,"d":"0.00"}},{"$f":"IF(B13=5,Q13,0)","v":{"v":0,"d":"0.00"}},{"$f":"IF(B13=6,Q13,0)","v":{"v":0,"d":"0.00"}},{"$f":"IF(X12>0,IF(H13+P13+AF13+AN13+AV13+BD13+BL13+BT13+CB13+CJ13=0,IF(E13>0,X12,0),0),0)","v":0},{"$f":"G13*X13","v":{"v":0,"d":"0.00"}},{"$f":"IF($B13=1,$Y13,0)","v":{"v":0,"d":"0.00"}},{"$f":"IF($B13=2,$Y13,0)","v":{"v":0,"d":"0.00"}},{"$f":"IF($B13=3,$Y13,0)","v":{"v":0,"d":"0.00"}},{"$f":"IF($B13=4,$Y13,0)","v":{"v":0,"d":"0.00"}},{"$f":"IF($B13=5,$Y13,0)","v":{"v":0,"d":"0.00"}},{"$f":"IF($B13=6,$Y13,0)","v":{"v":0,"d":"0.00"}},{"$f":"IF(AF12>0,IF(H13+P13+X13+AN13+AV13+BD13+BL13+BT13+CB13+CJ13=0,IF(E13>0,AF12,0),0),0)","v":0},{"$f":"G13*AF13","v":{"v":0,"d":"0.00"}},{"$f":"IF($B13=1,$AG13,0)","v":{"v":0,"d":"0.00"}},{"$f":"IF($B13=2,$AG13,0)","v":{"v":0,"d":"0.00"}},{"$f":"IF($B13=3,$AG13,0)","v":{"v":0,"d":"0.00"}},{"$f":"IF($B13=4,$AG13,0)","v":{"v":0,"d":"0.00"}},{"$f":"IF($B13=5,$AG13,0)","v":{"v":0,"d":"0.00"}},{"$f":"IF($B13=6,$AG13,0)","v":{"v":0,"d":"0.00"}},{"$f":"IF(AN12>0,IF(H13+P13+X13+AF13+AV13+BD13+BL13+BT13+CB13+CJ13=0,IF(E13>0,AN12,0),0),0)","v":0},{"$f":"G13*AN13","v":{"v":0,"d":"0.00"}},{"$f":"IF($B13=1,$AO13,0)","v":{"v":0,"d":"0.00"}},{"$f":"IF($B13=2,$AO13,0)","v":{"v":0,"d":"0.00"}},{"$f":"IF($B13=3,$AO13,0)","v":{"v":0,"d":"0.00"}},{"$f":"IF($B13=4,$AO13,0)","v":{"v":0,"d":"0.00"}},{"$f":"IF($B13=5,$AO13,0)","v":{"v":0,"d":"0.00"}},{"$f":"IF($B13=6,$AO13,0)","v":{"v":0,"d":"0.00"}},{"$f":"IF(AV12>0,IF(H13+P13+X13+AF13+AN13+BD13+BL13+BT13+CB13+CJ13=0,IF(E13>0,AV12,0),0),0)","v":0},{"$f":"G13*AV13","v":{"v":0,"d":"0.00"}},{"$f":"IF($B13=1,$AW13,0)","v":{"v":0,"d":"0.00"}},{"$f":"IF($B13=2,$AW13,0)","v":{"v":0,"d":"0.00"}},{"$f":"IF($B13=3,$AW13,0)","v":{"v":0,"d":"0.00"}},{"$f":"IF($B13=4,$AW13,0)","v":{"v":0,"d":"0.00"}},{"$f":"IF($B13=5,$AW13,0)","v":{"v":0,"d":"0.00"}},{"$f":"IF($B13=6,$AW13,0)","v":{"v":0,"d":"0.00"}},{"$f":"IF(BD12>0,IF(H13+P13+X13+AF13+AN13+AV13+BL13+BT13+CB13+CJ13=0,IF(E13>0,BD12,0),0),0)","v":0},{"$f":"G13*BD13","v":{"v":0,"d":"0.00"}},{"$f":"IF($B13=1,$BE13,0)","v":{"v":0,"d":"0.00"}},{"$f":"IF($B13=2,$BE13,0)","v":{"v":0,"d":"0.00"}},{"$f":"IF($B13=3,$BE13,0)","v":{"v":0,"d":"0.00"}},{"$f":"IF($B13=4,$BE13,0)","v":{"v":0,"d":"0.00"}},{"$f":"IF($B13=5,$BE13,0)","v":{"v":0,"d":"0.00"}},{"$f":"IF($B13=6,$BE13,0)","v":{"v":0,"d":"0.00"}},{"$f":"IF(BL12>0,IF(H13+P13+X13+AF13+AN13+AV13+BD13+BT13+CB13+CJ13=0,IF(E13>0,BL12,0),0),0)","v":0},{"$f":"G13*BL13","v":{"v":0,"d":"0.00"}},{"$f":"IF($B13=1,$BM13,0)","v":{"v":0,"d":"0.00"}},{"$f":"IF($B13=2,$BM13,0)","v":{"v":0,"d":"0.00"}},{"$f":"IF($B13=3,$BM13,0)","v":{"v":0,"d":"0.00"}},{"$f":"IF($B13=4,$BM13,0)","v":{"v":0,"d":"0.00"}},{"$f":"IF($B13=5,$BM13,0)","v":{"v":0,"d":"0.00"}},{"$f":"IF($B13=6,$BM13,0)","v":{"v":0,"d":"0.00"}},{"$f":"IF(BT12>0,IF(H13+P13+X13+AF13+AN13+AV13+BD13+BL13+CB13+CJ13=0,IF(E13>0,BT12,0),0),0)","v":0},{"$f":"G13*BT13","v":{"v":0,"d":"0.00"}},{"$f":"IF($B13=1,$BU13,0)","v":{"v":0,"d":"0.00"}},{"$f":"IF($B13=2,$BU13,0)","v":{"v":0,"d":"0.00"}},{"$f":"IF($B13=3,$BU13,0)","v":{"v":0,"d":"0.00"}},{"$f":"IF($B13=4,$BU13,0)","v":{"v":0,"d":"0.00"}},{"$f":"IF($B13=5,$BU13,0)","v":{"v":0,"d":"0.00"}},{"$f":"IF($B13=6,$BU13,0)","v":{"v":0,"d":"0.00"}},{"$f":"IF(CB12>0,IF(H13+P13+X13+AF13+AN13+AV13+BD13+BL13+BT13+CJ13=0,IF(E13>0,CB12,0),0),0)","v":0},{"$f":"G13*CB13","v":{"v":0,"d":"0.00"}},{"$f":"IF($B13=1,$CC13,0)","v":{"v":0,"d":"0.00"}},{"$f":"IF($B13=2,$CC13,0)","v":{"v":0,"d":"0.00"}},{"$f":"IF($B13=3,$CC13,0)","v":{"v":0,"d":"0.00"}},{"$f":"IF($B13=4,$CC13,0)","v":{"v":0,"d":"0.00"}},{"$f":"IF($B13=5,$CC13,0)","v":{"v":0,"d":"0.00"}},{"$f":"IF($B13=6,$CC13,0)","v":{"v":0,"d":"0.00"}},{"$f":"IF(CJ12>0,IF(H13+P13+X13+AF13+AN13+AV13+BD13+BL13+BT13+CB13=0,IF(E13>0,CJ12,0),0),0)","v":0},{"$f":"G13*CJ13","v":{"v":0,"d":"0.00"}},{"$f":"IF($B13=1,$CK13,0)","v":{"v":0,"d":"0.00"}},{"$f":"IF($B13=2,$CK13,0)","v":{"v":0,"d":"0.00"}},{"$f":"IF($B13=3,$CK13,0)","v":{"v":0,"d":"0.00"}},{"$f":"IF($B13=4,$CK13,0)","v":{"v":0,"d":"0.00"}},{"$f":"IF($B13=5,$CK13,0)","v":{"v":0,"d":"0.00"}},{"$f":"IF($B13=6,$CK13,0)","v":{"v":0,"d":"0.00"}}]
[{"$f":"IF(C13<>C14,C14,\"\")","v":""},{"$f":"IF(C13<>C14,_xlfn.DAYS(C14,C13)+B13,B13)","v":1},{"$f":"IF(D14>0,IF(D14<E13,C13+1,C13),C13)","v":"2009-02-16"},{"$f":"IF((E14+H14+P14+X14+AF14+AN14+AV14+BD14+BL14+BT14+CB14+CJ14)>0,E13,0)","v":"00:00:00"},null,{"$f":"E14-D14","v":"00:00:00"},{"$f":"IF(E14>0,HOUR(F14)+(MINUTE(F14)/60),0)","v":0},{"$f":"IF(H13>0,IF(P14+X14+AF14+AN14+AV14+BD14+BL14+BT14+CB14+CJ14=0,IF(E14>0,H13,0),0),0)","v":0},{"$f":"G14*H14","v":{"v":0,"d":"0.00"}},{"$f":"IF($B14=1,$I14,0)","v":{"v":0,"d":"0.00"}},{"$f":"IF($B14=2,$I14,0)","v":{"v":0,"d":"0.00"}},{"$f":"IF($B14=3,$I14,0)","v":{"v":0,"d":"0.00"}},{"$f":"IF($B14=4,$I14,0)","v":{"v":0,"d":"0.00"}},{"$f":"IF($B14=5,$I14,0)","v":{"v":0,"d":"0.00"}},{"$f":"IF($B14=6,$I14,0)","v":{"v":0,"d":"0.00"}},{"$f":"IF(P13>0,IF(H14+X14+AF14+AN14+AV14+BD14+BL14+BT14+CB14+CJ14=0,IF(E14>0,P13,0),0),0)","v":0},{"$f":"G14*P14","v":{"v":0,"d":"0.00"}},{"$f":"IF(B14=1,Q14,0)","v":{"v":0,"d":"0.00"}},{"$f":"IF(B14=2,Q14,0)","v":{"v":0,"d":"0.00"}},{"$f":"IF(B14=3,Q14,0)","v":{"v":0,"d":"0.00"}},{"$f":"IF(B14=4,Q14,0)","v":{"v":0,"d":"0.00"}},{"$f":"IF(B14=5,Q14,0)","v":{"v":0,"d":"0.00"}},{"$f":"IF(B14=6,Q14,0)","v":{"v":0,"d":"0.00"}},{"$f":"IF(X13>0,IF(H14+P14+AF14+AN14+AV14+BD14+BL14+BT14+CB14+CJ14=0,IF(E14>0,X13,0),0),0)","v":0},{"$f":"G14*X14","v":{"v":0,"d":"0.00"}},{"$f":"IF($B14=1,$Y14,0)","v":{"v":0,"d":"0.00"}},{"$f":"IF($B14=2,$Y14,0)","v":{"v":0,"d":"0.00"}},{"$f":"IF($B14=3,$Y14,0)","v":{"v":0,"d":"0.00"}},{"$f":"IF($B14=4,$Y14,0)","v":{"v":0,"d":"0.00"}},{"$f":"IF($B14=5,$Y14,0)","v":{"v":0,"d":"0.00"}},{"$f":"IF($B14=6,$Y14,0)","v":{"v":0,"d":"0.00"}},{"$f":"IF(AF13>0,IF(H14+P14+X14+AN14+AV14+BD14+BL14+BT14+CB14+CJ14=0,IF(E14>0,AF13,0),0),0)","v":0},{"$f":"G14*AF14","v":{"v":0,"d":"0.00"}},{"$f":"IF($B14=1,$AG14,0)","v":{"v":0,"d":"0.00"}},{"$f":"IF($B14=2,$AG14,0)","v":{"v":0,"d":"0.00"}},{"$f":"IF($B14=3,$AG14,0)","v":{"v":0,"d":"0.00"}},{"$f":"IF($B14=4,$AG14,0)","v":{"v":0,"d":"0.00"}},{"$f":"IF($B14=5,$AG14,0)","v":{"v":0,"d":"0.00"}},{"$f":"IF($B14=6,$AG14,0)","v":{"v":0,"d":"0.00"}},{"$f":"IF(AN13>0,IF(H14+P14+X14+AF14+AV14+BD14+BL14+BT14+CB14+CJ14=0,IF(E14>0,AN13,0),0),0)","v":0},{"$f":"G14*AN14","v":{"v":0,"d":"0.00"}},{"$f":"IF($B14=1,$AO14,0)","v":{"v":0,"d":"0.00"}},{"$f":"IF($B14=2,$AO14,0)","v":{"v":0,"d":"0.00"}},{"$f":"IF($B14=3,$AO14,0)","v":{"v":0,"d":"0.00"}},{"$f":"IF($B14=4,$AO14,0)","v":{"v":0,"d":"0.00"}},{"$f":"IF($B14=5,$AO14,0)","v":{"v":0,"d":"0.00"}},{"$f":"IF($B14=6,$AO14,0)","v":{"v":0,"d":"0.00"}},{"$f":"IF(AV13>0,IF(H14+P14+X14+AF14+AN14+BD14+BL14+BT14+CB14+CJ14=0,IF(E14>0,AV13,0),0),0)","v":0},{"$f":"G14*AV14","v":{"v":0,"d":"0.00"}},{"$f":"IF($B14=1,$AW14,0)","v":{"v":0,"d":"0.00"}},{"$f":"IF($B14=2,$AW14,0)","v":{"v":0,"d":"0.00"}},{"$f":"IF($B14=3,$AW14,0)","v":{"v":0,"d":"0.00"}},{"$f":"IF($B14=4,$AW14,0)","v":{"v":0,"d":"0.00"}},{"$f":"IF($B14=5,$AW14,0)","v":{"v":0,"d":"0.00"}},{"$f":"IF($B14=6,$AW14,0)","v":{"v":0,"d":"0.00"}},{"$f":"IF(BD13>0,IF(H14+P14+X14+AF14+AN14+AV14+BL14+BT14+CB14+CJ14=0,IF(E14>0,BD13,0),0),0)","v":0},{"$f":"G14*BD14","v":{"v":0,"d":"0.00"}},{"$f":"IF($B14=1,$BE14,0)","v":{"v":0,"d":"0.00"}},{"$f":"IF($B14=2,$BE14,0)","v":{"v":0,"d":"0.00"}},{"$f":"IF($B14=3,$BE14,0)","v":{"v":0,"d":"0.00"}},{"$f":"IF($B14=4,$BE14,0)","v":{"v":0,"d":"0.00"}},{"$f":"IF($B14=5,$BE14,0)","v":{"v":0,"d":"0.00"}},{"$f":"IF($B14=6,$BE14,0)","v":{"v":0,"d":"0.00"}},{"$f":"IF(BL13>0,IF(H14+P14+X14+AF14+AN14+AV14+BD14+BT14+CB14+CJ14=0,IF(E14>0,BL13,0),0),0)","v":0},{"$f":"G14*BL14","v":{"v":0,"d":"0.00"}},{"$f":"IF($B14=1,$BM14,0)","v":{"v":0,"d":"0.00"}},{"$f":"IF($B14=2,$BM14,0)","v":{"v":0,"d":"0.00"}},{"$f":"IF($B14=3,$BM14,0)","v":{"v":0,"d":"0.00"}},{"$f":"IF($B14=4,$BM14,0)","v":{"v":0,"d":"0.00"}},{"$f":"IF($B14=5,$BM14,0)","v":{"v":0,"d":"0.00"}},{"$f":"IF($B14=6,$BM14,0)","v":{"v":0,"d":"0.00"}},{"$f":"IF(BT13>0,IF(H14+P14+X14+AF14+AN14+AV14+BD14+BL14+CB14+CJ14=0,IF(E14>0,BT13,0),0),0)","v":0},{"$f":"G14*BT14","v":{"v":0,"d":"0.00"}},{"$f":"IF($B14=1,$BU14,0)","v":{"v":0,"d":"0.00"}},{"$f":"IF($B14=2,$BU14,0)","v":{"v":0,"d":"0.00"}},{"$f":"IF($B14=3,$BU14,0)","v":{"v":0,"d":"0.00"}},{"$f":"IF($B14=4,$BU14,0)","v":{"v":0,"d":"0.00"}},{"$f":"IF($B14=5,$BU14,0)","v":{"v":0,"d":"0.00"}},{"$f":"IF($B14=6,$BU14,0)","v":{"v":0,"d":"0.00"}},{"$f":"IF(CB13>0,IF(H14+P14+X14+AF14+AN14+AV14+BD14+BL14+BT14+CJ14=0,IF(E14>0,CB13,0),0),0)","v":0},{"$f":"G14*CB14","v":{"v":0,"d":"0.00"}},{"$f":"IF($B14=1,$CC14,0)","v":{"v":0,"d":"0.00"}},{"$f":"IF($B14=2,$CC14,0)","v":{"v":0,"d":"0.00"}},{"$f":"IF($B14=3,$CC14,0)","v":{"v":0,"d":"0.00"}},{"$f":"IF($B14=4,$CC14,0)","v":{"v":0,"d":"0.00"}},{"$f":"IF($B14=5,$CC14,0)","v":{"v":0,"d":"0.00"}},{"$f":"IF($B14=6,$CC14,0)","v":{"v":0,"d":"0.00"}},{"$f":"IF(CJ13>0,IF(H14+P14+X14+AF14+AN14+AV14+BD14+BL14+BT14+CB14=0,IF(E14>0,CJ13,0),0),0)","v":0},{"$f":"G14*CJ14","v":{"v":0,"d":"0.00"}},{"$f":"IF($B14=1,$CK14,0)","v":{"v":0,"d":"0.00"}},{"$f":"IF($B14=2,$CK14,0)","v":{"v":0,"d":"0.00"}},{"$f":"IF($B14=3,$CK14,0)","v":{"v":0,"d":"0.00"}},{"$f":"IF($B14=4,$CK14,0)","v":{"v":0,"d":"0.00"}},{"$f":"IF($B14=5,$CK14,0)","v":{"v":0,"d":"0.00"}},{"$f":"IF($B14=6,$CK14,0)","v":{"v":0,"d":"0.00"}}]
[{"$f":"IF(C14<>C15,C15,\"\")","v":""},{"$f":"IF(C14<>C15,_xlfn.DAYS(C15,C14)+B14,B14)","v":1},{"$f":"IF(D15>0,IF(D15<E14,C14+1,C14),C14)","v":"2009-02-16"},{"$f":"IF((E15+H15+P15+X15+AF15+AN15+AV15+BD15+BL15+BT15+CB15+CJ15)>0,E14,0)","v":"00:00:00"},null,{"$f":"E15-D15","v":"00:00:00"},{"$f":"IF(E15>0,HOUR(F15)+(MINUTE(F15)/60),0)","v":0},{"$f":"IF(H14>0,IF(P15+X15+AF15+AN15+AV15+BD15+BL15+BT15+CB15+CJ15=0,IF(E15>0,H14,0),0),0)","v":0},{"$f":"G15*H15","v":{"v":0,"d":"0.00"}},{"$f":"IF($B15=1,$I15,0)","v":{"v":0,"d":"0.00"}},{"$f":"IF($B15=2,$I15,0)","v":{"v":0,"d":"0.00"}},{"$f":"IF($B15=3,$I15,0)","v":{"v":0,"d":"0.00"}},{"$f":"IF($B15=4,$I15,0)","v":{"v":0,"d":"0.00"}},{"$f":"IF($B15=5,$I15,0)","v":{"v":0,"d":"0.00"}},{"$f":"IF($B15=6,$I15,0)","v":{"v":0,"d":"0.00"}},{"$f":"IF(P14>0,IF(H15+X15+AF15+AN15+AV15+BD15+BL15+BT15+CB15+CJ15=0,IF(E15>0,P14,0),0),0)","v":0},{"$f":"G15*P15","v":{"v":0,"d":"0.00"}},{"$f":"IF(B15=1,Q15,0)","v":{"v":0,"d":"0.00"}},{"$f":"IF(B15=2,Q15,0)","v":{"v":0,"d":"0.00"}},{"$f":"IF(B15=3,Q15,0)","v":{"v":0,"d":"0.00"}},{"$f":"IF(B15=4,Q15,0)","v":{"v":0,"d":"0.00"}},{"$f":"IF(B15=5,Q15,0)","v":{"v":0,"d":"0.00"}},{"$f":"IF(B15=6,Q15,0)","v":{"v":0,"d":"0.00"}},{"$f":"IF(X14>0,IF(H15+P15+AF15+AN15+AV15+BD15+BL15+BT15+CB15+CJ15=0,IF(E15>0,X14,0),0),0)","v":0},{"$f":"G15*X15","v":{"v":0,"d":"0.00"}},{"$f":"IF($B15=1,$Y15,0)","v":{"v":0,"d":"0.00"}},{"$f":"IF($B15=2,$Y15,0)","v":{"v":0,"d":"0.00"}},{"$f":"IF($B15=3,$Y15,0)","v":{"v":0,"d":"0.00"}},{"$f":"IF($B15=4,$Y15,0)","v":{"v":0,"d":"0.00"}},{"$f":"IF($B15=5,$Y15,0)","v":{"v":0,"d":"0.00"}},{"$f":"IF($B15=6,$Y15,0)","v":{"v":0,"d":"0.00"}},{"$f":"IF(AF14>0,IF(H15+P15+X15+AN15+AV15+BD15+BL15+BT15+CB15+CJ15=0,IF(E15>0,AF14,0),0),0)","v":0},{"$f":"G15*AF15","v":{"v":0,"d":"0.00"}},{"$f":"IF($B15=1,$AG15,0)","v":{"v":0,"d":"0.00"}},{"$f":"IF($B15=2,$AG15,0)","v":{"v":0,"d":"0.00"}},{"$f":"IF($B15=3,$AG15,0)","v":{"v":0,"d":"0.00"}},{"$f":"IF($B15=4,$AG15,0)","v":{"v":0,"d":"0.00"}},{"$f":"IF($B15=5,$AG15,0)","v":{"v":0,"d":"0.00"}},{"$f":"IF($B15=6,$AG15,0)","v":{"v":0,"d":"0.00"}},{"$f":"IF(AN14>0,IF(H15+P15+X15+AF15+AV15+BD15+BL15+BT15+CB15+CJ15=0,IF(E15>0,AN14,0),0),0)","v":0},{"$f":"G15*AN15","v":{"v":0,"d":"0.00"}},{"$f":"IF($B15=1,$AO15,0)","v":{"v":0,"d":"0.00"}},{"$f":"IF($B15=2,$AO15,0)","v":{"v":0,"d":"0.00"}},{"$f":"IF($B15=3,$AO15,0)","v":{"v":0,"d":"0.00"}},{"$f":"IF($B15=4,$AO15,0)","v":{"v":0,"d":"0.00"}},{"$f":"IF($B15=5,$AO15,0)","v":{"v":0,"d":"0.00"}},{"$f":"IF($B15=6,$AO15,0)","v":{"v":0,"d":"0.00"}},{"$f":"IF(AV14>0,IF(H15+P15+X15+AF15+AN15+BD15+BL15+BT15+CB15+CJ15=0,IF(E15>0,AV14,0),0),0)","v":0},{"$f":"G15*AV15","v":{"v":0,"d":"0.00"}},{"$f":"IF($B15=1,$AW15,0)","v":{"v":0,"d":"0.00"}},{"$f":"IF($B15=2,$AW15,0)","v":{"v":0,"d":"0.00"}},{"$f":"IF($B15=3,$AW15,0)","v":{"v":0,"d":"0.00"}},{"$f":"IF($B15=4,$AW15,0)","v":{"v":0,"d":"0.00"}},{"$f":"IF($B15=5,$AW15,0)","v":{"v":0,"d":"0.00"}},{"$f":"IF($B15=6,$AW15,0)","v":{"v":0,"d":"0.00"}},{"$f":"IF(BD14>0,IF(H15+P15+X15+AF15+AN15+AV15+BL15+BT15+CB15+CJ15=0,IF(E15>0,BD14,0),0),0)","v":0},{"$f":"G15*BD15","v":{"v":0,"d":"0.00"}},{"$f":"IF($B15=1,$BE15,0)","v":{"v":0,"d":"0.00"}},{"$f":"IF($B15=2,$BE15,0)","v":{"v":0,"d":"0.00"}},{"$f":"IF($B15=3,$BE15,0)","v":{"v":0,"d":"0.00"}},{"$f":"IF($B15=4,$BE15,0)","v":{"v":0,"d":"0.00"}},{"$f":"IF($B15=5,$BE15,0)","v":{"v":0,"d":"0.00"}},{"$f":"IF($B15=6,$BE15,0)","v":{"v":0,"d":"0.00"}},{"$f":"IF(BL14>0,IF(H15+P15+X15+AF15+AN15+AV15+BD15+BT15+CB15+CJ15=0,IF(E15>0,BL14,0),0),0)","v":0},{"$f":"G15*BL15","v":{"v":0,"d":"0.00"}},{"$f":"IF($B15=1,$BM15,0)","v":{"v":0,"d":"0.00"}},{"$f":"IF($B15=2,$BM15,0)","v":{"v":0,"d":"0.00"}},{"$f":"IF($B15=3,$BM15,0)","v":{"v":0,"d":"0.00"}},{"$f":"IF($B15=4,$BM15,0)","v":{"v":0,"d":"0.00"}},{"$f":"IF($B15=5,$BM15,0)","v":{"v":0,"d":"0.00"}},{"$f":"IF($B15=6,$BM15,0)","v":{"v":0,"d":"0.00"}},{"$f":"IF(BT14>0,IF(H15+P15+X15+AF15+AN15+AV15+BD15+BL15+CB15+CJ15=0,IF(E15>0,BT14,0),0),0)","v":0},{"$f":"G15*BT15","v":{"v":0,"d":"0.00"}},{"$f":"IF($B15=1,$BU15,0)","v":{"v":0,"d":"0.00"}},{"$f":"IF($B15=2,$BU15,0)","v":{"v":0,"d":"0.00"}},{"$f":"IF($B15=3,$BU15,0)","v":{"v":0,"d":"0.00"}},{"$f":"IF($B15=4,$BU15,0)","v":{"v":0,"d":"0.00"}},{"$f":"IF($B15=5,$BU15,0)","v":{"v":0,"d":"0.00"}},{"$f":"IF($B15=6,$BU15,0)","v":{"v":0,"d":"0.00"}},{"$f":"IF(CB14>0,IF(H15+P15+X15+AF15+AN15+AV15+BD15+BL15+BT15+CJ15=0,IF(E15>0,CB14,0),0),0)","v":0},{"$f":"G15*CB15","v":{"v":0,"d":"0.00"}},{"$f":"IF($B15=1,$CC15,0)","v":{"v":0,"d":"0.00"}},{"$f":"IF($B15=2,$CC15,0)","v":{"v":0,"d":"0.00"}},{"$f":"IF($B15=3,$CC15,0)","v":{"v":0,"d":"0.00"}},{"$f":"IF($B15=4,$CC15,0)","v":{"v":0,"d":"0.00"}},{"$f":"IF($B15=5,$CC15,0)","v":{"v":0,"d":"0.00"}},{"$f":"IF($B15=6,$CC15,0)","v":{"v":0,"d":"0.00"}},{"$f":"IF(CJ14>0,IF(H15+P15+X15+AF15+AN15+AV15+BD15+BL15+BT15+CB15=0,IF(E15>0,CJ14,0),0),0)","v":0},{"$f":"G15*CJ15","v":{"v":0,"d":"0.00"}},{"$f":"IF($B15=1,$CK15,0)","v":{"v":0,"d":"0.00"}},{"$f":"IF($B15=2,$CK15,0)","v":{"v":0,"d":"0.00"}},{"$f":"IF($B15=3,$CK15,0)","v":{"v":0,"d":"0.00"}},{"$f":"IF($B15=4,$CK15,0)","v":{"v":0,"d":"0.00"}},{"$f":"IF($B15=5,$CK15,0)","v":{"v":0,"d":"0.00"}},{"$f":"IF($B15=6,$CK15,0)","v":{"v":0,"d":"0.00"}}]
[{"$f":"IF(C15<>C16,C16,\"\")","v":""},{"$f":"IF(C15<>C16,_xlfn.DAYS(C16,C15)+B15,B15)","v":1},{"$f":"IF(D16>0,IF(D16<E15,C15+1,C15),C15)","v":"2009-02-16"},{"$f":"IF((E16+H16+P16+X16+AF16+AN16+AV16+BD16+BL16+BT16+CB16+CJ16)>0,E15,0)","v":"00:00:00"},null,{"$f":"E16-D16","v":"00:00:00"},{"$f":"IF(E16>0,HOUR(F16)+(MINUTE(F16)/60),0)","v":0},{"$f":"IF(H15>0,IF(P16+X16+AF16+AN16+AV16+BD16+BL16+BT16+CB16+CJ16=0,IF(E16>0,H15,0),0),0)","v":0},{"$f":"G16*H16","v":{"v":0,"d":"0.00"}},{"$f":"IF($B16=1,$I16,0)","v":{"v":0,"d":"0.00"}},{"$f":"IF($B16=2,$I16,0)","v":{"v":0,"d":"0.00"}},{"$f":"IF($B16=3,$I16,0)","v":{"v":0,"d":"0.00"}},{"$f":"IF($B16=4,$I16,0)","v":{"v":0,"d":"0.00"}},{"$f":"IF($B16=5,$I16,0)","v":{"v":0,"d":"0.00"}},{"$f":"IF($B16=6,$I16,0)","v":{"v":0,"d":"0.00"}},{"$f":"IF(P15>0,IF(H16+X16+AF16+AN16+AV16+BD16+BL16+BT16+CB16+CJ16=0,IF(E16>0,P15,0),0),0)","v":0},{"$f":"G16*P16","v":{"v":0,"d":"0.00"}},{"$f":"IF(B16=1,Q16,0)","v":{"v":0,"d":"0.00"}},{"$f":"IF(B16=2,Q16,0)","v":{"v":0,"d":"0.00"}},{"$f":"IF(B16=3,Q16,0)","v":{"v":0,"d":"0.00"}},{"$f":"IF(B16=4,Q16,0)","v":{"v":0,"d":"0.00"}},{"$f":"IF(B16=5,Q16,0)","v":{"v":0,"d":"0.00"}},{"$f":"IF(B16=6,Q16,0)","v":{"v":0,"d":"0.00"}},{"$f":"IF(X15>0,IF(H16+P16+AF16+AN16+AV16+BD16+BL16+BT16+CB16+CJ16=0,IF(E16>0,X15,0),0),0)","v":0},{"$f":"G16*X16","v":{"v":0,"d":"0.00"}},{"$f":"IF($B16=1,$Y16,0)","v":{"v":0,"d":"0.00"}},{"$f":"IF($B16=2,$Y16,0)","v":{"v":0,"d":"0.00"}},{"$f":"IF($B16=3,$Y16,0)","v":{"v":0,"d":"0.00"}},{"$f":"IF($B16=4,$Y16,0)","v":{"v":0,"d":"0.00"}},{"$f":"IF($B16=5,$Y16,0)","v":{"v":0,"d":"0.00"}},{"$f":"IF($B16=6,$Y16,0)","v":{"v":0,"d":"0.00"}},{"$f":"IF(AF15>0,IF(H16+P16+X16+AN16+AV16+BD16+BL16+BT16+CB16+CJ16=0,IF(E16>0,AF15,0),0),0)","v":0},{"$f":"G16*AF16","v":{"v":0,"d":"0.00"}},{"$f":"IF($B16=1,$AG16,0)","v":{"v":0,"d":"0.00"}},{"$f":"IF($B16=2,$AG16,0)","v":{"v":0,"d":"0.00"}},{"$f":"IF($B16=3,$AG16,0)","v":{"v":0,"d":"0.00"}},{"$f":"IF($B16=4,$AG16,0)","v":{"v":0,"d":"0.00"}},{"$f":"IF($B16=5,$AG16,0)","v":{"v":0,"d":"0.00"}},{"$f":"IF($B16=6,$AG16,0)","v":{"v":0,"d":"0.00"}},{"$f":"IF(AN15>0,IF(H16+P16+X16+AF16+AV16+BD16+BL16+BT16+CB16+CJ16=0,IF(E16>0,AN15,0),0),0)","v":0},{"$f":"G16*AN16","v":{"v":0,"d":"0.00"}},{"$f":"IF($B16=1,$AO16,0)","v":{"v":0,"d":"0.00"}},{"$f":"IF($B16=2,$AO16,0)","v":{"v":0,"d":"0.00"}},{"$f":"IF($B16=3,$AO16,0)","v":{"v":0,"d":"0.00"}},{"$f":"IF($B16=4,$AO16,0)","v":{"v":0,"d":"0.00"}},{"$f":"IF($B16=5,$AO16,0)","v":{"v":0,"d":"0.00"}},{"$f":"IF($B16=6,$AO16,0)","v":{"v":0,"d":"0.00"}},{"$f":"IF(AV15>0,IF(H16+P16+X16+AF16+AN16+BD16+BL16+BT16+CB16+CJ16=0,IF(E16>0,AV15,0),0),0)","v":0},{"$f":"G16*AV16","v":{"v":0,"d":"0.00"}},{"$f":"IF($B16=1,$AW16,0)","v":{"v":0,"d":"0.00"}},{"$f":"IF($B16=2,$AW16,0)","v":{"v":0,"d":"0.00"}},{"$f":"IF($B16=3,$AW16,0)","v":{"v":0,"d":"0.00"}},{"$f":"IF($B16=4,$AW16,0)","v":{"v":0,"d":"0.00"}},{"$f":"IF($B16=5,$AW16,0)","v":{"v":0,"d":"0.00"}},{"$f":"IF($B16=6,$AW16,0)","v":{"v":0,"d":"0.00"}},{"$f":"IF(BD15>0,IF(H16+P16+X16+AF16+AN16+AV16+BL16+BT16+CB16+CJ16=0,IF(E16>0,BD15,0),0),0)","v":0},{"$f":"G16*BD16","v":{"v":0,"d":"0.00"}},{"$f":"IF($B16=1,$BE16,0)","v":{"v":0,"d":"0.00"}},{"$f":"IF($B16=2,$BE16,0)","v":{"v":0,"d":"0.00"}},{"$f":"IF($B16=3,$BE16,0)","v":{"v":0,"d":"0.00"}},{"$f":"IF($B16=4,$BE16,0)","v":{"v":0,"d":"0.00"}},{"$f":"IF($B16=5,$BE16,0)","v":{"v":0,"d":"0.00"}},{"$f":"IF($B16=6,$BE16,0)","v":{"v":0,"d":"0.00"}},{"$f":"IF(BL15>0,IF(H16+P16+X16+AF16+AN16+AV16+BD16+BT16+CB16+CJ16=0,IF(E16>0,BL15,0),0),0)","v":0},{"$f":"G16*BL16","v":{"v":0,"d":"0.00"}},{"$f":"IF($B16=1,$BM16,0)","v":{"v":0,"d":"0.00"}},{"$f":"IF($B16=2,$BM16,0)","v":{"v":0,"d":"0.00"}},{"$f":"IF($B16=3,$BM16,0)","v":{"v":0,"d":"0.00"}},{"$f":"IF($B16=4,$BM16,0)","v":{"v":0,"d":"0.00"}},{"$f":"IF($B16=5,$BM16,0)","v":{"v":0,"d":"0.00"}},{"$f":"IF($B16=6,$BM16,0)","v":{"v":0,"d":"0.00"}},{"$f":"IF(BT15>0,IF(H16+P16+X16+AF16+AN16+AV16+BD16+BL16+CB16+CJ16=0,IF(E16>0,BT15,0),0),0)","v":0},{"$f":"G16*BT16","v":{"v":0,"d":"0.00"}},{"$f":"IF($B16=1,$BU16,0)","v":{"v":0,"d":"0.00"}},{"$f":"IF($B16=2,$BU16,0)","v":{"v":0,"d":"0.00"}},{"$f":"IF($B16=3,$BU16,0)","v":{"v":0,"d":"0.00"}},{"$f":"IF($B16=4,$BU16,0)","v":{"v":0,"d":"0.00"}},{"$f":"IF($B16=5,$BU16,0)","v":{"v":0,"d":"0.00"}},{"$f":"IF($B16=6,$BU16,0)","v":{"v":0,"d":"0.00"}},{"$f":"IF(CB15>0,IF(H16+P16+X16+AF16+AN16+AV16+BD16+BL16+BT16+CJ16=0,IF(E16>0,CB15,0),0),0)","v":0},{"$f":"G16*CB16","v":{"v":0,"d":"0.00"}},{"$f":"IF($B16=1,$CC16,0)","v":{"v":0,"d":"0.00"}},{"$f":"IF($B16=2,$CC16,0)","v":{"v":0,"d":"0.00"}},{"$f":"IF($B16=3,$CC16,0)","v":{"v":0,"d":"0.00"}},{"$f":"IF($B16=4,$CC16,0)","v":{"v":0,"d":"0.00"}},{"$f":"IF($B16=5,$CC16,0)","v":{"v":0,"d":"0.00"}},{"$f":"IF($B16=6,$CC16,0)","v":{"v":0,"d":"0.00"}},{"$f":"IF(CJ15>0,IF(H16+P16+X16+AF16+AN16+AV16+BD16+BL16+BT16+CB16=0,IF(E16>0,CJ15,0),0),0)","v":0},{"$f":"G16*CJ16","v":{"v":0,"d":"0.00"}},{"$f":"IF($B16=1,$CK16,0)","v":{"v":0,"d":"0.00"}},{"$f":"IF($B16=2,$CK16,0)","v":{"v":0,"d":"0.00"}},{"$f":"IF($B16=3,$CK16,0)","v":{"v":0,"d":"0.00"}},{"$f":"IF($B16=4,$CK16,0)","v":{"v":0,"d":"0.00"}},{"$f":"IF($B16=5,$CK16,0)","v":{"v":0,"d":"0.00"}},{"$f":"IF($B16=6,$CK16,0)","v":{"v":0,"d":"0.00"}}]
[{"$f":"IF(C16<>C17,C17,\"\")","v":""},{"$f":"IF(C16<>C17,_xlfn.DAYS(C17,C16)+B16,B16)","v":1},{"$f":"IF(D17>0,IF(D17<E16,C16+1,C16),C16)","v":"2009-02-16"},{"$f":"IF((E17+H17+P17+X17+AF17+AN17+AV17+BD17+BL17+BT17+CB17+CJ17)>0,E16,0)","v":"00:00:00"},null,{"$f":"E17-D17","v":"00:00:00"},{"$f":"IF(E17>0,HOUR(F17)+(MINUTE(F17)/60),0)","v":0},{"$f":"IF(H16>0,IF(P17+X17+AF17+AN17+AV17+BD17+BL17+BT17+CB17+CJ17=0,IF(E17>0,H16,0),0),0)","v":0},{"$f":"G17*H17","v":{"v":0,"d":"0.00"}},{"$f":"IF($B17=1,$I17,0)","v":{"v":0,"d":"0.00"}},{"$f":"IF($B17=2,$I17,0)","v":{"v":0,"d":"0.00"}},{"$f":"IF($B17=3,$I17,0)","v":{"v":0,"d":"0.00"}},{"$f":"IF($B17=4,$I17,0)","v":{"v":0,"d":"0.00"}},{"$f":"IF($B17=5,$I17,0)","v":{"v":0,"d":"0.00"}},{"$f":"IF($B17=6,$I17,0)","v":{"v":0,"d":"0.00"}},{"$f":"IF(P16>0,IF(H17+X17+AF17+AN17+AV17+BD17+BL17+BT17+CB17+CJ17=0,IF(E17>0,P16,0),0),0)","v":0},{"$f":"G17*P17","v":{"v":0,"d":"0.00"}},{"$f":"IF(B17=1,Q17,0)","v":{"v":0,"d":"0.00"}},{"$f":"IF(B17=2,Q17,0)","v":{"v":0,"d":"0.00"}},{"$f":"IF(B17=3,Q17,0)","v":{"v":0,"d":"0.00"}},{"$f":"IF(B17=4,Q17,0)","v":{"v":0,"d":"0.00"}},{"$f":"IF(B17=5,Q17,0)","v":{"v":0,"d":"0.00"}},{"$f":"IF(B17=6,Q17,0)","v":{"v":0,"d":"0.00"}},{"$f":"IF(X16>0,IF(H17+P17+AF17+AN17+AV17+BD17+BL17+BT17+CB17+CJ17=0,IF(E17>0,X16,0),0),0)","v":0},{"$f":"G17*X17","v":{"v":0,"d":"0.00"}},{"$f":"IF($B17=1,$Y17,0)","v":{"v":0,"d":"0.00"}},{"$f":"IF($B17=2,$Y17,0)","v":{"v":0,"d":"0.00"}},{"$f":"IF($B17=3,$Y17,0)","v":{"v":0,"d":"0.00"}},{"$f":"IF($B17=4,$Y17,0)","v":{"v":0,"d":"0.00"}},{"$f":"IF($B17=5,$Y17,0)","v":{"v":0,"d":"0.00"}},{"$f":"IF($B17=6,$Y17,0)","v":{"v":0,"d":"0.00"}},{"$f":"IF(AF16>0,IF(H17+P17+X17+AN17+AV17+BD17+BL17+BT17+CB17+CJ17=0,IF(E17>0,AF16,0),0),0)","v":0},{"$f":"G17*AF17","v":{"v":0,"d":"0.00"}},{"$f":"IF($B17=1,$AG17,0)","v":{"v":0,"d":"0.00"}},{"$f":"IF($B17=2,$AG17,0)","v":{"v":0,"d":"0.00"}},{"$f":"IF($B17=3,$AG17,0)","v":{"v":0,"d":"0.00"}},{"$f":"IF($B17=4,$AG17,0)","v":{"v":0,"d":"0.00"}},{"$f":"IF($B17=5,$AG17,0)","v":{"v":0,"d":"0.00"}},{"$f":"IF($B17=6,$AG17,0)","v":{"v":0,"d":"0.00"}},{"$f":"IF(AN16>0,IF(H17+P17+X17+AF17+AV17+BD17+BL17+BT17+CB17+CJ17=0,IF(E17>0,AN16,0),0),0)","v":0},{"$f":"G17*AN17","v":{"v":0,"d":"0.00"}},{"$f":"IF($B17=1,$AO17,0)","v":{"v":0,"d":"0.00"}},{"$f":"IF($B17=2,$AO17,0)","v":{"v":0,"d":"0.00"}},{"$f":"IF($B17=3,$AO17,0)","v":{"v":0,"d":"0.00"}},{"$f":"IF($B17=4,$AO17,0)","v":{"v":0,"d":"0.00"}},{"$f":"IF($B17=5,$AO17,0)","v":{"v":0,"d":"0.00"}},{"$f":"IF($B17=6,$AO17,0)","v":{"v":0,"d":"0.00"}},{"$f":"IF(AV16>0,IF(H17+P17+X17+AF17+AN17+BD17+BL17+BT17+CB17+CJ17=0,IF(E17>0,AV16,0),0),0)","v":0},{"$f":"G17*AV17","v":{"v":0,"d":"0.00"}},{"$f":"IF($B17=1,$AW17,0)","v":{"v":0,"d":"0.00"}},{"$f":"IF($B17=2,$AW17,0)","v":{"v":0,"d":"0.00"}},{"$f":"IF($B17=3,$AW17,0)","v":{"v":0,"d":"0.00"}},{"$f":"IF($B17=4,$AW17,0)","v":{"v":0,"d":"0.00"}},{"$f":"IF($B17=5,$AW17,0)","v":{"v":0,"d":"0.00"}},{"$f":"IF($B17=6,$AW17,0)","v":{"v":0,"d":"0.00"}},{"$f":"IF(BD16>0,IF(H17+P17+X17+AF17+AN17+AV17+BL17+BT17+CB17+CJ17=0,IF(E17>0,BD16,0),0),0)","v":0},{"$f":"G17*BD17","v":{"v":0,"d":"0.00"}},{"$f":"IF($B17=1,$BE17,0)","v":{"v":0,"d":"0.00"}},{"$f":"IF($B17=2,$BE17,0)","v":{"v":0,"d":"0.00"}},{"$f":"IF($B17=3,$BE17,0)","v":{"v":0,"d":"0.00"}},{"$f":"IF($B17=4,$BE17,0)","v":{"v":0,"d":"0.00"}},{"$f":"IF($B17=5,$BE17,0)","v":{"v":0,"d":"0.00"}},{"$f":"IF($B17=6,$BE17,0)","v":{"v":0,"d":"0.00"}},{"$f":"IF(BL16>0,IF(H17+P17+X17+AF17+AN17+AV17+BD17+BT17+CB17+CJ17=0,IF(E17>0,BL16,0),0),0)","v":0},{"$f":"G17*BL17","v":{"v":0,"d":"0.00"}},{"$f":"IF($B17=1,$BM17,0)","v":{"v":0,"d":"0.00"}},{"$f":"IF($B17=2,$BM17,0)","v":{"v":0,"d":"0.00"}},{"$f":"IF($B17=3,$BM17,0)","v":{"v":0,"d":"0.00"}},{"$f":"IF($B17=4,$BM17,0)","v":{"v":0,"d":"0.00"}},{"$f":"IF($B17=5,$BM17,0)","v":{"v":0,"d":"0.00"}},{"$f":"IF($B17=6,$BM17,0)","v":{"v":0,"d":"0.00"}},{"$f":"IF(BT16>0,IF(H17+P17+X17+AF17+AN17+AV17+BD17+BL17+CB17+CJ17=0,IF(E17>0,BT16,0),0),0)","v":0},{"$f":"G17*BT17","v":{"v":0,"d":"0.00"}},{"$f":"IF($B17=1,$BU17,0)","v":{"v":0,"d":"0.00"}},{"$f":"IF($B17=2,$BU17,0)","v":{"v":0,"d":"0.00"}},{"$f":"IF($B17=3,$BU17,0)","v":{"v":0,"d":"0.00"}},{"$f":"IF($B17=4,$BU17,0)","v":{"v":0,"d":"0.00"}},{"$f":"IF($B17=5,$BU17,0)","v":{"v":0,"d":"0.00"}},{"$f":"IF($B17=6,$BU17,0)","v":{"v":0,"d":"0.00"}},{"$f":"IF(CB16>0,IF(H17+P17+X17+AF17+AN17+AV17+BD17+BL17+BT17+CJ17=0,IF(E17>0,CB16,0),0),0)","v":0},{"$f":"G17*CB17","v":{"v":0,"d":"0.00"}},{"$f":"IF($B17=1,$CC17,0)","v":{"v":0,"d":"0.00"}},{"$f":"IF($B17=2,$CC17,0)","v":{"v":0,"d":"0.00"}},{"$f":"IF($B17=3,$CC17,0)","v":{"v":0,"d":"0.00"}},{"$f":"IF($B17=4,$CC17,0)","v":{"v":0,"d":"0.00"}},{"$f":"IF($B17=5,$CC17,0)","v":{"v":0,"d":"0.00"}},{"$f":"IF($B17=6,$CC17,0)","v":{"v":0,"d":"0.00"}},{"$f":"IF(CJ16>0,IF(H17+P17+X17+AF17+AN17+AV17+BD17+BL17+BT17+CB17=0,IF(E17>0,CJ16,0),0),0)","v":0},{"$f":"G17*CJ17","v":{"v":0,"d":"0.00"}},{"$f":"IF($B17=1,$CK17,0)","v":{"v":0,"d":"0.00"}},{"$f":"IF($B17=2,$CK17,0)","v":{"v":0,"d":"0.00"}},{"$f":"IF($B17=3,$CK17,0)","v":{"v":0,"d":"0.00"}},{"$f":"IF($B17=4,$CK17,0)","v":{"v":0,"d":"0.00"}},{"$f":"IF($B17=5,$CK17,0)","v":{"v":0,"d":"0.00"}},{"$f":"IF($B17=6,$CK17,0)","v":{"v":0,"d":"0.00"}}]
[{"$f":"IF(C17<>C18,C18,\"\")","v":""},{"$f":"IF(C17<>C18,_xlfn.DAYS(C18,C17)+B17,B17)","v":1},{"$f":"IF(D18>0,IF(D18<E17,C17+1,C17),C17)","v":"2009-02-16"},{"$f":"IF((E18+H18+P18+X18+AF18+AN18+AV18+BD18+BL18+BT18+CB18+CJ18)>0,E17,0)","v":"00:00:00"},null,{"$f":"E18-D18","v":"00:00:00"},{"$f":"IF(E18>0,HOUR(F18)+(MINUTE(F18)/60),0)","v":0},{"$f":"IF(H17>0,IF(P18+X18+AF18+AN18+AV18+BD18+BL18+BT18+CB18+CJ18=0,IF(E18>0,H17,0),0),0)","v":0},{"$f":"G18*H18","v":{"v":0,"d":"0.00"}},{"$f":"IF($B18=1,$I18,0)","v":{"v":0,"d":"0.00"}},{"$f":"IF($B18=2,$I18,0)","v":{"v":0,"d":"0.00"}},{"$f":"IF($B18=3,$I18,0)","v":{"v":0,"d":"0.00"}},{"$f":"IF($B18=4,$I18,0)","v":{"v":0,"d":"0.00"}},{"$f":"IF($B18=5,$I18,0)","v":{"v":0,"d":"0.00"}},{"$f":"IF($B18=6,$I18,0)","v":{"v":0,"d":"0.00"}},{"$f":"IF(P17>0,IF(H18+X18+AF18+AN18+AV18+BD18+BL18+BT18+CB18+CJ18=0,IF(E18>0,P17,0),0),0)","v":0},{"$f":"G18*P18","v":{"v":0,"d":"0.00"}},{"$f":"IF(B18=1,Q18,0)","v":{"v":0,"d":"0.00"}},{"$f":"IF(B18=2,Q18,0)","v":{"v":0,"d":"0.00"}},{"$f":"IF(B18=3,Q18,0)","v":{"v":0,"d":"0.00"}},{"$f":"IF(B18=4,Q18,0)","v":{"v":0,"d":"0.00"}},{"$f":"IF(B18=5,Q18,0)","v":{"v":0,"d":"0.00"}},{"$f":"IF(B18=6,Q18,0)","v":{"v":0,"d":"0.00"}},{"$f":"IF(X17>0,IF(H18+P18+AF18+AN18+AV18+BD18+BL18+BT18+CB18+CJ18=0,IF(E18>0,X17,0),0),0)","v":0},{"$f":"G18*X18","v":{"v":0,"d":"0.00"}},{"$f":"IF($B18=1,$Y18,0)","v":{"v":0,"d":"0.00"}},{"$f":"IF($B18=2,$Y18,0)","v":{"v":0,"d":"0.00"}},{"$f":"IF($B18=3,$Y18,0)","v":{"v":0,"d":"0.00"}},{"$f":"IF($B18=4,$Y18,0)","v":{"v":0,"d":"0.00"}},{"$f":"IF($B18=5,$Y18,0)","v":{"v":0,"d":"0.00"}},{"$f":"IF($B18=6,$Y18,0)","v":{"v":0,"d":"0.00"}},{"$f":"IF(AF17>0,IF(H18+P18+X18+AN18+AV18+BD18+BL18+BT18+CB18+CJ18=0,IF(E18>0,AF17,0),0),0)","v":0},{"$f":"G18*AF18","v":{"v":0,"d":"0.00"}},{"$f":"IF($B18=1,$AG18,0)","v":{"v":0,"d":"0.00"}},{"$f":"IF($B18=2,$AG18,0)","v":{"v":0,"d":"0.00"}},{"$f":"IF($B18=3,$AG18,0)","v":{"v":0,"d":"0.00"}},{"$f":"IF($B18=4,$AG18,0)","v":{"v":0,"d":"0.00"}},{"$f":"IF($B18=5,$AG18,0)","v":{"v":0,"d":"0.00"}},{"$f":"IF($B18=6,$AG18,0)","v":{"v":0,"d":"0.00"}},{"$f":"IF(AN17>0,IF(H18+P18+X18+AF18+AV18+BD18+BL18+BT18+CB18+CJ18=0,IF(E18>0,AN17,0),0),0)","v":0},{"$f":"G18*AN18","v":{"v":0,"d":"0.00"}},{"$f":"IF($B18=1,$AO18,0)","v":{"v":0,"d":"0.00"}},{"$f":"IF($B18=2,$AO18,0)","v":{"v":0,"d":"0.00"}},{"$f":"IF($B18=3,$AO18,0)","v":{"v":0,"d":"0.00"}},{"$f":"IF($B18=4,$AO18,0)","v":{"v":0,"d":"0.00"}},{"$f":"IF($B18=5,$AO18,0)","v":{"v":0,"d":"0.00"}},{"$f":"IF($B18=6,$AO18,0)","v":{"v":0,"d":"0.00"}},{"$f":"IF(AV17>0,IF(H18+P18+X18+AF18+AN18+BD18+BL18+BT18+CB18+CJ18=0,IF(E18>0,AV17,0),0),0)","v":0},{"$f":"G18*AV18","v":{"v":0,"d":"0.00"}},{"$f":"IF($B18=1,$AW18,0)","v":{"v":0,"d":"0.00"}},{"$f":"IF($B18=2,$AW18,0)","v":{"v":0,"d":"0.00"}},{"$f":"IF($B18=3,$AW18,0)","v":{"v":0,"d":"0.00"}},{"$f":"IF($B18=4,$AW18,0)","v":{"v":0,"d":"0.00"}},{"$f":"IF($B18=5,$AW18,0)","v":{"v":0,"d":"0.00"}},{"$f":"IF($B18=6,$AW18,0)","v":{"v":0,"d":"0.00"}},{"$f":"IF(BD17>0,IF(H18+P18+X18+AF18+AN18+AV18+BL18+BT18+CB18+CJ18=0,IF(E18>0,BD17,0),0),0)","v":0},{"$f":"G18*BD18","v":{"v":0,"d":"0.00"}},{"$f":"IF($B18=1,$BE18,0)","v":{"v":0,"d":"0.00"}},{"$f":"IF($B18=2,$BE18,0)","v":{"v":0,"d":"0.00"}},{"$f":"IF($B18=3,$BE18,0)","v":{"v":0,"d":"0.00"}},{"$f":"IF($B18=4,$BE18,0)","v":{"v":0,"d":"0.00"}},{"$f":"IF($B18=5,$BE18,0)","v":{"v":0,"d":"0.00"}},{"$f":"IF($B18=6,$BE18,0)","v":{"v":0,"d":"0.00"}},{"$f":"IF(BL17>0,IF(H18+P18+X18+AF18+AN18+AV18+BD18+BT18+CB18+CJ18=0,IF(E18>0,BL17,0),0),0)","v":0},{"$f":"G18*BL18","v":{"v":0,"d":"0.00"}},{"$f":"IF($B18=1,$BM18,0)","v":{"v":0,"d":"0.00"}},{"$f":"IF($B18=2,$BM18,0)","v":{"v":0,"d":"0.00"}},{"$f":"IF($B18=3,$BM18,0)","v":{"v":0,"d":"0.00"}},{"$f":"IF($B18=4,$BM18,0)","v":{"v":0,"d":"0.00"}},{"$f":"IF($B18=5,$BM18,0)","v":{"v":0,"d":"0.00"}},{"$f":"IF($B18=6,$BM18,0)","v":{"v":0,"d":"0.00"}},{"$f":"IF(BT17>0,IF(H18+P18+X18+AF18+AN18+AV18+BD18+BL18+CB18+CJ18=0,IF(E18>0,BT17,0),0),0)","v":0},{"$f":"G18*BT18","v":{"v":0,"d":"0.00"}},{"$f":"IF($B18=1,$BU18,0)","v":{"v":0,"d":"0.00"}},{"$f":"IF($B18=2,$BU18,0)","v":{"v":0,"d":"0.00"}},{"$f":"IF($B18=3,$BU18,0)","v":{"v":0,"d":"0.00"}},{"$f":"IF($B18=4,$BU18,0)","v":{"v":0,"d":"0.00"}},{"$f":"IF($B18=5,$BU18,0)","v":{"v":0,"d":"0.00"}},{"$f":"IF($B18=6,$BU18,0)","v":{"v":0,"d":"0.00"}},{"$f":"IF(CB17>0,IF(H18+P18+X18+AF18+AN18+AV18+BD18+BL18+BT18+CJ18=0,IF(E18>0,CB17,0),0),0)","v":0},{"$f":"G18*CB18","v":{"v":0,"d":"0.00"}},{"$f":"IF($B18=1,$CC18,0)","v":{"v":0,"d":"0.00"}},{"$f":"IF($B18=2,$CC18,0)","v":{"v":0,"d":"0.00"}},{"$f":"IF($B18=3,$CC18,0)","v":{"v":0,"d":"0.00"}},{"$f":"IF($B18=4,$CC18,0)","v":{"v":0,"d":"0.00"}},{"$f":"IF($B18=5,$CC18,0)","v":{"v":0,"d":"0.00"}},{"$f":"IF($B18=6,$CC18,0)","v":{"v":0,"d":"0.00"}},{"$f":"IF(CJ17>0,IF(H18+P18+X18+AF18+AN18+AV18+BD18+BL18+BT18+CB18=0,IF(E18>0,CJ17,0),0),0)","v":0},{"$f":"G18*CJ18","v":{"v":0,"d":"0.00"}},{"$f":"IF($B18=1,$CK18,0)","v":{"v":0,"d":"0.00"}},{"$f":"IF($B18=2,$CK18,0)","v":{"v":0,"d":"0.00"}},{"$f":"IF($B18=3,$CK18,0)","v":{"v":0,"d":"0.00"}},{"$f":"IF($B18=4,$CK18,0)","v":{"v":0,"d":"0.00"}},{"$f":"IF($B18=5,$CK18,0)","v":{"v":0,"d":"0.00"}},{"$f":"IF($B18=6,$CK18,0)","v":{"v":0,"d":"0.00"}}]
[{"$f":"IF(C18<>C19,C19,\"\")","v":""},{"$f":"IF(C18<>C19,_xlfn.DAYS(C19,C18)+B18,B18)","v":1},{"$f":"IF(D19>0,IF(D19<E18,C18+1,C18),C18)","v":"2009-02-16"},{"$f":"IF((E19+H19+P19+X19+AF19+AN19+AV19+BD19+BL19+BT19+CB19+CJ19)>0,E18,0)","v":"00:00:00"},null,{"$f":"E19-D19","v":"00:00:00"},{"$f":"IF(E19>0,HOUR(F19)+(MINUTE(F19)/60),0)","v":0},{"$f":"IF(H18>0,IF(P19+X19+AF19+AN19+AV19+BD19+BL19+BT19+CB19+CJ19=0,IF(E19>0,H18,0),0),0)","v":0},{"$f":"G19*H19","v":{"v":0,"d":"0.00"}},{"$f":"IF($B19=1,$I19,0)","v":{"v":0,"d":"0.00"}},{"$f":"IF($B19=2,$I19,0)","v":{"v":0,"d":"0.00"}},{"$f":"IF($B19=3,$I19,0)","v":{"v":0,"d":"0.00"}},{"$f":"IF($B19=4,$I19,0)","v":{"v":0,"d":"0.00"}},{"$f":"IF($B19=5,$I19,0)","v":{"v":0,"d":"0.00"}},{"$f":"IF($B19=6,$I19,0)","v":{"v":0,"d":"0.00"}},{"$f":"IF(P18>0,IF(H19+X19+AF19+AN19+AV19+BD19+BL19+BT19+CB19+CJ19=0,IF(E19>0,P18,0),0),0)","v":0},{"$f":"G19*P19","v":{"v":0,"d":"0.00"}},{"$f":"IF(B19=1,Q19,0)","v":{"v":0,"d":"0.00"}},{"$f":"IF(B19=2,Q19,0)","v":{"v":0,"d":"0.00"}},{"$f":"IF(B19=3,Q19,0)","v":{"v":0,"d":"0.00"}},{"$f":"IF(B19=4,Q19,0)","v":{"v":0,"d":"0.00"}},{"$f":"IF(B19=5,Q19,0)","v":{"v":0,"d":"0.00"}},{"$f":"IF(B19=6,Q19,0)","v":{"v":0,"d":"0.00"}},{"$f":"IF(X18>0,IF(H19+P19+AF19+AN19+AV19+BD19+BL19+BT19+CB19+CJ19=0,IF(E19>0,X18,0),0),0)","v":0},{"$f":"G19*X19","v":{"v":0,"d":"0.00"}},{"$f":"IF($B19=1,$Y19,0)","v":{"v":0,"d":"0.00"}},{"$f":"IF($B19=2,$Y19,0)","v":{"v":0,"d":"0.00"}},{"$f":"IF($B19=3,$Y19,0)","v":{"v":0,"d":"0.00"}},{"$f":"IF($B19=4,$Y19,0)","v":{"v":0,"d":"0.00"}},{"$f":"IF($B19=5,$Y19,0)","v":{"v":0,"d":"0.00"}},{"$f":"IF($B19=6,$Y19,0)","v":{"v":0,"d":"0.00"}},{"$f":"IF(AF18>0,IF(H19+P19+X19+AN19+AV19+BD19+BL19+BT19+CB19+CJ19=0,IF(E19>0,AF18,0),0),0)","v":0},{"$f":"G19*AF19","v":{"v":0,"d":"0.00"}},{"$f":"IF($B19=1,$AG19,0)","v":{"v":0,"d":"0.00"}},{"$f":"IF($B19=2,$AG19,0)","v":{"v":0,"d":"0.00"}},{"$f":"IF($B19=3,$AG19,0)","v":{"v":0,"d":"0.00"}},{"$f":"IF($B19=4,$AG19,0)","v":{"v":0,"d":"0.00"}},{"$f":"IF($B19=5,$AG19,0)","v":{"v":0,"d":"0.00"}},{"$f":"IF($B19=6,$AG19,0)","v":{"v":0,"d":"0.00"}},{"$f":"IF(AN18>0,IF(H19+P19+X19+AF19+AV19+BD19+BL19+BT19+CB19+CJ19=0,IF(E19>0,AN18,0),0),0)","v":0},{"$f":"G19*AN19","v":{"v":0,"d":"0.00"}},{"$f":"IF($B19=1,$AO19,0)","v":{"v":0,"d":"0.00"}},{"$f":"IF($B19=2,$AO19,0)","v":{"v":0,"d":"0.00"}},{"$f":"IF($B19=3,$AO19,0)","v":{"v":0,"d":"0.00"}},{"$f":"IF($B19=4,$AO19,0)","v":{"v":0,"d":"0.00"}},{"$f":"IF($B19=5,$AO19,0)","v":{"v":0,"d":"0.00"}},{"$f":"IF($B19=6,$AO19,0)","v":{"v":0,"d":"0.00"}},{"$f":"IF(AV18>0,IF(H19+P19+X19+AF19+AN19+BD19+BL19+BT19+CB19+CJ19=0,IF(E19>0,AV18,0),0),0)","v":0},{"$f":"G19*AV19","v":{"v":0,"d":"0.00"}},{"$f":"IF($B19=1,$AW19,0)","v":{"v":0,"d":"0.00"}},{"$f":"IF($B19=2,$AW19,0)","v":{"v":0,"d":"0.00"}},{"$f":"IF($B19=3,$AW19,0)","v":{"v":0,"d":"0.00"}},{"$f":"IF($B19=4,$AW19,0)","v":{"v":0,"d":"0.00"}},{"$f":"IF($B19=5,$AW19,0)","v":{"v":0,"d":"0.00"}},{"$f":"IF($B19=6,$AW19,0)","v":{"v":0,"d":"0.00"}},{"$f":"IF(BD18>0,IF(H19+P19+X19+AF19+AN19+AV19+BL19+BT19+CB19+CJ19=0,IF(E19>0,BD18,0),0),0)","v":0},{"$f":"G19*BD19","v":{"v":0,"d":"0.00"}},{"$f":"IF($B19=1,$BE19,0)","v":{"v":0,"d":"0.00"}},{"$f":"IF($B19=2,$BE19,0)","v":{"v":0,"d":"0.00"}},{"$f":"IF($B19=3,$BE19,0)","v":{"v":0,"d":"0.00"}},{"$f":"IF($B19=4,$BE19,0)","v":{"v":0,"d":"0.00"}},{"$f":"IF($B19=5,$BE19,0)","v":{"v":0,"d":"0.00"}},{"$f":"IF($B19=6,$BE19,0)","v":{"v":0,"d":"0.00"}},{"$f":"IF(BL18>0,IF(H19+P19+X19+AF19+AN19+AV19+BD19+BT19+CB19+CJ19=0,IF(E19>0,BL18,0),0),0)","v":0},{"$f":"G19*BL19","v":{"v":0,"d":"0.00"}},{"$f":"IF($B19=1,$BM19,0)","v":{"v":0,"d":"0.00"}},{"$f":"IF($B19=2,$BM19,0)","v":{"v":0,"d":"0.00"}},{"$f":"IF($B19=3,$BM19,0)","v":{"v":0,"d":"0.00"}},{"$f":"IF($B19=4,$BM19,0)","v":{"v":0,"d":"0.00"}},{"$f":"IF($B19=5,$BM19,0)","v":{"v":0,"d":"0.00"}},{"$f":"IF($B19=6,$BM19,0)","v":{"v":0,"d":"0.00"}},{"$f":"IF(BT18>0,IF(H19+P19+X19+AF19+AN19+AV19+BD19+BL19+CB19+CJ19=0,IF(E19>0,BT18,0),0),0)","v":0},{"$f":"G19*BT19","v":{"v":0,"d":"0.00"}},{"$f":"IF($B19=1,$BU19,0)","v":{"v":0,"d":"0.00"}},{"$f":"IF($B19=2,$BU19,0)","v":{"v":0,"d":"0.00"}},{"$f":"IF($B19=3,$BU19,0)","v":{"v":0,"d":"0.00"}},{"$f":"IF($B19=4,$BU19,0)","v":{"v":0,"d":"0.00"}},{"$f":"IF($B19=5,$BU19,0)","v":{"v":0,"d":"0.00"}},{"$f":"IF($B19=6,$BU19,0)","v":{"v":0,"d":"0.00"}},{"$f":"IF(CB18>0,IF(H19+P19+X19+AF19+AN19+AV19+BD19+BL19+BT19+CJ19=0,IF(E19>0,CB18,0),0),0)","v":0},{"$f":"G19*CB19","v":{"v":0,"d":"0.00"}},{"$f":"IF($B19=1,$CC19,0)","v":{"v":0,"d":"0.00"}},{"$f":"IF($B19=2,$CC19,0)","v":{"v":0,"d":"0.00"}},{"$f":"IF($B19=3,$CC19,0)","v":{"v":0,"d":"0.00"}},{"$f":"IF($B19=4,$CC19,0)","v":{"v":0,"d":"0.00"}},{"$f":"IF($B19=5,$CC19,0)","v":{"v":0,"d":"0.00"}},{"$f":"IF($B19=6,$CC19,0)","v":{"v":0,"d":"0.00"}},{"$f":"IF(CJ18>0,IF(H19+P19+X19+AF19+AN19+AV19+BD19+BL19+BT19+CB19=0,IF(E19>0,CJ18,0),0),0)","v":0},{"$f":"G19*CJ19","v":{"v":0,"d":"0.00"}},{"$f":"IF($B19=1,$CK19,0)","v":{"v":0,"d":"0.00"}},{"$f":"IF($B19=2,$CK19,0)","v":{"v":0,"d":"0.00"}},{"$f":"IF($B19=3,$CK19,0)","v":{"v":0,"d":"0.00"}},{"$f":"IF($B19=4,$CK19,0)","v":{"v":0,"d":"0.00"}},{"$f":"IF($B19=5,$CK19,0)","v":{"v":0,"d":"0.00"}},{"$f":"IF($B19=6,$CK19,0)","v":{"v":0,"d":"0.00"}}]
[{"$f":"IF(C19<>C20,C20,\"\")","v":""},{"$f":"IF(C19<>C20,_xlfn.DAYS(C20,C19)+B19,B19)","v":1},{"$f":"IF(D20>0,IF(D20<E19,C19+1,C19),C19)","v":"2009-02-16"},{"$f":"IF((E20+H20+P20+X20+AF20+AN20+AV20+BD20+BL20+BT20+CB20+CJ20)>0,E19,0)","v":"00:00:00"},null,{"$f":"E20-D20","v":"00:00:00"},{"$f":"IF(E20>0,HOUR(F20)+(MINUTE(F20)/60),0)","v":0},{"$f":"IF(H19>0,IF(P20+X20+AF20+AN20+AV20+BD20+BL20+BT20+CB20+CJ20=0,IF(E20>0,H19,0),0),0)","v":0},{"$f":"G20*H20","v":{"v":0,"d":"0.00"}},{"$f":"IF($B20=1,$I20,0)","v":{"v":0,"d":"0.00"}},{"$f":"IF($B20=2,$I20,0)","v":{"v":0,"d":"0.00"}},{"$f":"IF($B20=3,$I20,0)","v":{"v":0,"d":"0.00"}},{"$f":"IF($B20=4,$I20,0)","v":{"v":0,"d":"0.00"}},{"$f":"IF($B20=5,$I20,0)","v":{"v":0,"d":"0.00"}},{"$f":"IF($B20=6,$I20,0)","v":{"v":0,"d":"0.00"}},{"$f":"IF(P19>0,IF(H20+X20+AF20+AN20+AV20+BD20+BL20+BT20+CB20+CJ20=0,IF(E20>0,P19,0),0),0)","v":0},{"$f":"G20*P20","v":{"v":0,"d":"0.00"}},{"$f":"IF(B20=1,Q20,0)","v":{"v":0,"d":"0.00"}},{"$f":"IF(B20=2,Q20,0)","v":{"v":0,"d":"0.00"}},{"$f":"IF(B20=3,Q20,0)","v":{"v":0,"d":"0.00"}},{"$f":"IF(B20=4,Q20,0)","v":{"v":0,"d":"0.00"}},{"$f":"IF(B20=5,Q20,0)","v":{"v":0,"d":"0.00"}},{"$f":"IF(B20=6,Q20,0)","v":{"v":0,"d":"0.00"}},{"$f":"IF(X19>0,IF(H20+P20+AF20+AN20+AV20+BD20+BL20+BT20+CB20+CJ20=0,IF(E20>0,X19,0),0),0)","v":0},{"$f":"G20*X20","v":{"v":0,"d":"0.00"}},{"$f":"IF($B20=1,$Y20,0)","v":{"v":0,"d":"0.00"}},{"$f":"IF($B20=2,$Y20,0)","v":{"v":0,"d":"0.00"}},{"$f":"IF($B20=3,$Y20,0)","v":{"v":0,"d":"0.00"}},{"$f":"IF($B20=4,$Y20,0)","v":{"v":0,"d":"0.00"}},{"$f":"IF($B20=5,$Y20,0)","v":{"v":0,"d":"0.00"}},{"$f":"IF($B20=6,$Y20,0)","v":{"v":0,"d":"0.00"}},{"$f":"IF(AF19>0,IF(H20+P20+X20+AN20+AV20+BD20+BL20+BT20+CB20+CJ20=0,IF(E20>0,AF19,0),0),0)","v":0},{"$f":"G20*AF20","v":{"v":0,"d":"0.00"}},{"$f":"IF($B20=1,$AG20,0)","v":{"v":0,"d":"0.00"}},{"$f":"IF($B20=2,$AG20,0)","v":{"v":0,"d":"0.00"}},{"$f":"IF($B20=3,$AG20,0)","v":{"v":0,"d":"0.00"}},{"$f":"IF($B20=4,$AG20,0)","v":{"v":0,"d":"0.00"}},{"$f":"IF($B20=5,$AG20,0)","v":{"v":0,"d":"0.00"}},{"$f":"IF($B20=6,$AG20,0)","v":{"v":0,"d":"0.00"}},{"$f":"IF(AN19>0,IF(H20+P20+X20+AF20+AV20+BD20+BL20+BT20+CB20+CJ20=0,IF(E20>0,AN19,0),0),0)","v":0},{"$f":"G20*AN20","v":{"v":0,"d":"0.00"}},{"$f":"IF($B20=1,$AO20,0)","v":{"v":0,"d":"0.00"}},{"$f":"IF($B20=2,$AO20,0)","v":{"v":0,"d":"0.00"}},{"$f":"IF($B20=3,$AO20,0)","v":{"v":0,"d":"0.00"}},{"$f":"IF($B20=4,$AO20,0)","v":{"v":0,"d":"0.00"}},{"$f":"IF($B20=5,$AO20,0)","v":{"v":0,"d":"0.00"}},{"$f":"IF($B20=6,$AO20,0)","v":{"v":0,"d":"0.00"}},{"$f":"IF(AV19>0,IF(H20+P20+X20+AF20+AN20+BD20+BL20+BT20+CB20+CJ20=0,IF(E20>0,AV19,0),0),0)","v":0},{"$f":"G20*AV20","v":{"v":0,"d":"0.00"}},{"$f":"IF($B20=1,$AW20,0)","v":{"v":0,"d":"0.00"}},{"$f":"IF($B20=2,$AW20,0)","v":{"v":0,"d":"0.00"}},{"$f":"IF($B20=3,$AW20,0)","v":{"v":0,"d":"0.00"}},{"$f":"IF($B20=4,$AW20,0)","v":{"v":0,"d":"0.00"}},{"$f":"IF($B20=5,$AW20,0)","v":{"v":0,"d":"0.00"}},{"$f":"IF($B20=6,$AW20,0)","v":{"v":0,"d":"0.00"}},{"$f":"IF(BD19>0,IF(H20+P20+X20+AF20+AN20+AV20+BL20+BT20+CB20+CJ20=0,IF(E20>0,BD19,0),0),0)","v":0},{"$f":"G20*BD20","v":{"v":0,"d":"0.00"}},{"$f":"IF($B20=1,$BE20,0)","v":{"v":0,"d":"0.00"}},{"$f":"IF($B20=2,$BE20,0)","v":{"v":0,"d":"0.00"}},{"$f":"IF($B20=3,$BE20,0)","v":{"v":0,"d":"0.00"}},{"$f":"IF($B20=4,$BE20,0)","v":{"v":0,"d":"0.00"}},{"$f":"IF($B20=5,$BE20,0)","v":{"v":0,"d":"0.00"}},{"$f":"IF($B20=6,$BE20,0)","v":{"v":0,"d":"0.00"}},{"$f":"IF(BL19>0,IF(H20+P20+X20+AF20+AN20+AV20+BD20+BT20+CB20+CJ20=0,IF(E20>0,BL19,0),0),0)","v":0},{"$f":"G20*BL20","v":{"v":0,"d":"0.00"}},{"$f":"IF($B20=1,$BM20,0)","v":{"v":0,"d":"0.00"}},{"$f":"IF($B20=2,$BM20,0)","v":{"v":0,"d":"0.00"}},{"$f":"IF($B20=3,$BM20,0)","v":{"v":0,"d":"0.00"}},{"$f":"IF($B20=4,$BM20,0)","v":{"v":0,"d":"0.00"}},{"$f":"IF($B20=5,$BM20,0)","v":{"v":0,"d":"0.00"}},{"$f":"IF($B20=6,$BM20,0)","v":{"v":0,"d":"0.00"}},{"$f":"IF(BT19>0,IF(H20+P20+X20+AF20+AN20+AV20+BD20+BL20+CB20+CJ20=0,IF(E20>0,BT19,0),0),0)","v":0},{"$f":"G20*BT20","v":{"v":0,"d":"0.00"}},{"$f":"IF($B20=1,$BU20,0)","v":{"v":0,"d":"0.00"}},{"$f":"IF($B20=2,$BU20,0)","v":{"v":0,"d":"0.00"}},{"$f":"IF($B20=3,$BU20,0)","v":{"v":0,"d":"0.00"}},{"$f":"IF($B20=4,$BU20,0)","v":{"v":0,"d":"0.00"}},{"$f":"IF($B20=5,$BU20,0)","v":{"v":0,"d":"0.00"}},{"$f":"IF($B20=6,$BU20,0)","v":{"v":0,"d":"0.00"}},{"$f":"IF(CB19>0,IF(H20+P20+X20+AF20+AN20+AV20+BD20+BL20+BT20+CJ20=0,IF(E20>0,CB19,0),0),0)","v":0},{"$f":"G20*CB20","v":{"v":0,"d":"0.00"}},{"$f":"IF($B20=1,$CC20,0)","v":{"v":0,"d":"0.00"}},{"$f":"IF($B20=2,$CC20,0)","v":{"v":0,"d":"0.00"}},{"$f":"IF($B20=3,$CC20,0)","v":{"v":0,"d":"0.00"}},{"$f":"IF($B20=4,$CC20,0)","v":{"v":0,"d":"0.00"}},{"$f":"IF($B20=5,$CC20,0)","v":{"v":0,"d":"0.00"}},{"$f":"IF($B20=6,$CC20,0)","v":{"v":0,"d":"0.00"}},{"$f":"IF(CJ19>0,IF(H20+P20+X20+AF20+AN20+AV20+BD20+BL20+BT20+CB20=0,IF(E20>0,CJ19,0),0),0)","v":0},{"$f":"G20*CJ20","v":{"v":0,"d":"0.00"}},{"$f":"IF($B20=1,$CK20,0)","v":{"v":0,"d":"0.00"}},{"$f":"IF($B20=2,$CK20,0)","v":{"v":0,"d":"0.00"}},{"$f":"IF($B20=3,$CK20,0)","v":{"v":0,"d":"0.00"}},{"$f":"IF($B20=4,$CK20,0)","v":{"v":0,"d":"0.00"}},{"$f":"IF($B20=5,$CK20,0)","v":{"v":0,"d":"0.00"}},{"$f":"IF($B20=6,$CK20,0)","v":{"v":0,"d":"0.00"}}]
[{"$f":"IF(C20<>C21,C21,\"\")","v":""},{"$f":"IF(C20<>C21,_xlfn.DAYS(C21,C20)+B20,B20)","v":1},{"$f":"IF(D21>0,IF(D21<E20,C20+1,C20),C20)","v":"2009-02-16"},{"$f":"IF((E21+H21+P21+X21+AF21+AN21+AV21+BD21+BL21+BT21+CB21+CJ21)>0,E20,0)","v":"00:00:00"},null,{"$f":"E21-D21","v":"00:00:00"},{"$f":"IF(E21>0,HOUR(F21)+(MINUTE(F21)/60),0)","v":0},{"$f":"IF(H20>0,IF(P21+X21+AF21+AN21+AV21+BD21+BL21+BT21+CB21+CJ21=0,IF(E21>0,H20,0),0),0)","v":0},{"$f":"G21*H21","v":{"v":0,"d":"0.00"}},{"$f":"IF($B21=1,$I21,0)","v":{"v":0,"d":"0.00"}},{"$f":"IF($B21=2,$I21,0)","v":{"v":0,"d":"0.00"}},{"$f":"IF($B21=3,$I21,0)","v":{"v":0,"d":"0.00"}},{"$f":"IF($B21=4,$I21,0)","v":{"v":0,"d":"0.00"}},{"$f":"IF($B21=5,$I21,0)","v":{"v":0,"d":"0.00"}},{"$f":"IF($B21=6,$I21,0)","v":{"v":0,"d":"0.00"}},{"$f":"IF(P20>0,IF(H21+X21+AF21+AN21+AV21+BD21+BL21+BT21+CB21+CJ21=0,IF(E21>0,P20,0),0),0)","v":0},{"$f":"G21*P21","v":{"v":0,"d":"0.00"}},{"$f":"IF(B21=1,Q21,0)","v":{"v":0,"d":"0.00"}},{"$f":"IF(B21=2,Q21,0)","v":{"v":0,"d":"0.00"}},{"$f":"IF(B21=3,Q21,0)","v":{"v":0,"d":"0.00"}},{"$f":"IF(B21=4,Q21,0)","v":{"v":0,"d":"0.00"}},{"$f":"IF(B21=5,Q21,0)","v":{"v":0,"d":"0.00"}},{"$f":"IF(B21=6,Q21,0)","v":{"v":0,"d":"0.00"}},{"$f":"IF(X20>0,IF(H21+P21+AF21+AN21+AV21+BD21+BL21+BT21+CB21+CJ21=0,IF(E21>0,X20,0),0),0)","v":0},{"$f":"G21*X21","v":{"v":0,"d":"0.00"}},{"$f":"IF($B21=1,$Y21,0)","v":{"v":0,"d":"0.00"}},{"$f":"IF($B21=2,$Y21,0)","v":{"v":0,"d":"0.00"}},{"$f":"IF($B21=3,$Y21,0)","v":{"v":0,"d":"0.00"}},{"$f":"IF($B21=4,$Y21,0)","v":{"v":0,"d":"0.00"}},{"$f":"IF($B21=5,$Y21,0)","v":{"v":0,"d":"0.00"}},{"$f":"IF($B21=6,$Y21,0)","v":{"v":0,"d":"0.00"}},{"$f":"IF(AF20>0,IF(H21+P21+X21+AN21+AV21+BD21+BL21+BT21+CB21+CJ21=0,IF(E21>0,AF20,0),0),0)","v":0},{"$f":"G21*AF21","v":{"v":0,"d":"0.00"}},{"$f":"IF($B21=1,$AG21,0)","v":{"v":0,"d":"0.00"}},{"$f":"IF($B21=2,$AG21,0)","v":{"v":0,"d":"0.00"}},{"$f":"IF($B21=3,$AG21,0)","v":{"v":0,"d":"0.00"}},{"$f":"IF($B21=4,$AG21,0)","v":{"v":0,"d":"0.00"}},{"$f":"IF($B21=5,$AG21,0)","v":{"v":0,"d":"0.00"}},{"$f":"IF($B21=6,$AG21,0)","v":{"v":0,"d":"0.00"}},{"$f":"IF(AN20>0,IF(H21+P21+X21+AF21+AV21+BD21+BL21+BT21+CB21+CJ21=0,IF(E21>0,AN20,0),0),0)","v":0},{"$f":"G21*AN21","v":{"v":0,"d":"0.00"}},{"$f":"IF($B21=1,$AO21,0)","v":{"v":0,"d":"0.00"}},{"$f":"IF($B21=2,$AO21,0)","v":{"v":0,"d":"0.00"}},{"$f":"IF($B21=3,$AO21,0)","v":{"v":0,"d":"0.00"}},{"$f":"IF($B21=4,$AO21,0)","v":{"v":0,"d":"0.00"}},{"$f":"IF($B21=5,$AO21,0)","v":{"v":0,"d":"0.00"}},{"$f":"IF($B21=6,$AO21,0)","v":{"v":0,"d":"0.00"}},{"$f":"IF(AV20>0,IF(H21+P21+X21+AF21+AN21+BD21+BL21+BT21+CB21+CJ21=0,IF(E21>0,AV20,0),0),0)","v":0},{"$f":"G21*AV21","v":{"v":0,"d":"0.00"}},{"$f":"IF($B21=1,$AW21,0)","v":{"v":0,"d":"0.00"}},{"$f":"IF($B21=2,$AW21,0)","v":{"v":0,"d":"0.00"}},{"$f":"IF($B21=3,$AW21,0)","v":{"v":0,"d":"0.00"}},{"$f":"IF($B21=4,$AW21,0)","v":{"v":0,"d":"0.00"}},{"$f":"IF($B21=5,$AW21,0)","v":{"v":0,"d":"0.00"}},{"$f":"IF($B21=6,$AW21,0)","v":{"v":0,"d":"0.00"}},{"$f":"IF(BD20>0,IF(H21+P21+X21+AF21+AN21+AV21+BL21+BT21+CB21+CJ21=0,IF(E21>0,BD20,0),0),0)","v":0},{"$f":"G21*BD21","v":{"v":0,"d":"0.00"}},{"$f":"IF($B21=1,$BE21,0)","v":{"v":0,"d":"0.00"}},{"$f":"IF($B21=2,$BE21,0)","v":{"v":0,"d":"0.00"}},{"$f":"IF($B21=3,$BE21,0)","v":{"v":0,"d":"0.00"}},{"$f":"IF($B21=4,$BE21,0)","v":{"v":0,"d":"0.00"}},{"$f":"IF($B21=5,$BE21,0)","v":{"v":0,"d":"0.00"}},{"$f":"IF($B21=6,$BE21,0)","v":{"v":0,"d":"0.00"}},{"$f":"IF(BL20>0,IF(H21+P21+X21+AF21+AN21+AV21+BD21+BT21+CB21+CJ21=0,IF(E21>0,BL20,0),0),0)","v":0},{"$f":"G21*BL21","v":{"v":0,"d":"0.00"}},{"$f":"IF($B21=1,$BM21,0)","v":{"v":0,"d":"0.00"}},{"$f":"IF($B21=2,$BM21,0)","v":{"v":0,"d":"0.00"}},{"$f":"IF($B21=3,$BM21,0)","v":{"v":0,"d":"0.00"}},{"$f":"IF($B21=4,$BM21,0)","v":{"v":0,"d":"0.00"}},{"$f":"IF($B21=5,$BM21,0)","v":{"v":0,"d":"0.00"}},{"$f":"IF($B21=6,$BM21,0)","v":{"v":0,"d":"0.00"}},{"$f":"IF(BT20>0,IF(H21+P21+X21+AF21+AN21+AV21+BD21+BL21+CB21+CJ21=0,IF(E21>0,BT20,0),0),0)","v":0},{"$f":"G21*BT21","v":{"v":0,"d":"0.00"}},{"$f":"IF($B21=1,$BU21,0)","v":{"v":0,"d":"0.00"}},{"$f":"IF($B21=2,$BU21,0)","v":{"v":0,"d":"0.00"}},{"$f":"IF($B21=3,$BU21,0)","v":{"v":0,"d":"0.00"}},{"$f":"IF($B21=4,$BU21,0)","v":{"v":0,"d":"0.00"}},{"$f":"IF($B21=5,$BU21,0)","v":{"v":0,"d":"0.00"}},{"$f":"IF($B21=6,$BU21,0)","v":{"v":0,"d":"0.00"}},{"$f":"IF(CB20>0,IF(H21+P21+X21+AF21+AN21+AV21+BD21+BL21+BT21+CJ21=0,IF(E21>0,CB20,0),0),0)","v":0},{"$f":"G21*CB21","v":{"v":0,"d":"0.00"}},{"$f":"IF($B21=1,$CC21,0)","v":{"v":0,"d":"0.00"}},{"$f":"IF($B21=2,$CC21,0)","v":{"v":0,"d":"0.00"}},{"$f":"IF($B21=3,$CC21,0)","v":{"v":0,"d":"0.00"}},{"$f":"IF($B21=4,$CC21,0)","v":{"v":0,"d":"0.00"}},{"$f":"IF($B21=5,$CC21,0)","v":{"v":0,"d":"0.00"}},{"$f":"IF($B21=6,$CC21,0)","v":{"v":0,"d":"0.00"}},{"$f":"IF(CJ20>0,IF(H21+P21+X21+AF21+AN21+AV21+BD21+BL21+BT21+CB21=0,IF(E21>0,CJ20,0),0),0)","v":0},{"$f":"G21*CJ21","v":{"v":0,"d":"0.00"}},{"$f":"IF($B21=1,$CK21,0)","v":{"v":0,"d":"0.00"}},{"$f":"IF($B21=2,$CK21,0)","v":{"v":0,"d":"0.00"}},{"$f":"IF($B21=3,$CK21,0)","v":{"v":0,"d":"0.00"}},{"$f":"IF($B21=4,$CK21,0)","v":{"v":0,"d":"0.00"}},{"$f":"IF($B21=5,$CK21,0)","v":{"v":0,"d":"0.00"}},{"$f":"IF($B21=6,$CK21,0)","v":{"v":0,"d":"0.00"}}]
[{"$f":"IF(C21<>C22,C22,\"\")","v":""},{"$f":"IF(C21<>C22,_xlfn.DAYS(C22,C21)+B21,B21)","v":1},{"$f":"IF(D22>0,IF(D22<E21,C21+1,C21),C21)","v":"2009-02-16"},{"$f":"IF((E22+H22+P22+X22+AF22+AN22+AV22+BD22+BL22+BT22+CB22+CJ22)>0,E21,0)","v":"00:00:00"},null,{"$f":"E22-D22","v":"00:00:00"},{"$f":"IF(E22>0,HOUR(F22)+(MINUTE(F22)/60),0)","v":0},{"$f":"IF(H21>0,IF(P22+X22+AF22+AN22+AV22+BD22+BL22+BT22+CB22+CJ22=0,IF(E22>0,H21,0),0),0)","v":0},{"$f":"G22*H22","v":{"v":0,"d":"0.00"}},{"$f":"IF($B22=1,$I22,0)","v":{"v":0,"d":"0.00"}},{"$f":"IF($B22=2,$I22,0)","v":{"v":0,"d":"0.00"}},{"$f":"IF($B22=3,$I22,0)","v":{"v":0,"d":"0.00"}},{"$f":"IF($B22=4,$I22,0)","v":{"v":0,"d":"0.00"}},{"$f":"IF($B22=5,$I22,0)","v":{"v":0,"d":"0.00"}},{"$f":"IF($B22=6,$I22,0)","v":{"v":0,"d":"0.00"}},{"$f":"IF(P21>0,IF(H22+X22+AF22+AN22+AV22+BD22+BL22+BT22+CB22+CJ22=0,IF(E22>0,P21,0),0),0)","v":0},{"$f":"G22*P22","v":{"v":0,"d":"0.00"}},{"$f":"IF(B22=1,Q22,0)","v":{"v":0,"d":"0.00"}},{"$f":"IF(B22=2,Q22,0)","v":{"v":0,"d":"0.00"}},{"$f":"IF(B22=3,Q22,0)","v":{"v":0,"d":"0.00"}},{"$f":"IF(B22=4,Q22,0)","v":{"v":0,"d":"0.00"}},{"$f":"IF(B22=5,Q22,0)","v":{"v":0,"d":"0.00"}},{"$f":"IF(B22=6,Q22,0)","v":{"v":0,"d":"0.00"}},{"$f":"IF(X21>0,IF(H22+P22+AF22+AN22+AV22+BD22+BL22+BT22+CB22+CJ22=0,IF(E22>0,X21,0),0),0)","v":0},{"$f":"G22*X22","v":{"v":0,"d":"0.00"}},{"$f":"IF($B22=1,$Y22,0)","v":{"v":0,"d":"0.00"}},{"$f":"IF($B22=2,$Y22,0)","v":{"v":0,"d":"0.00"}},{"$f":"IF($B22=3,$Y22,0)","v":{"v":0,"d":"0.00"}},{"$f":"IF($B22=4,$Y22,0)","v":{"v":0,"d":"0.00"}},{"$f":"IF($B22=5,$Y22,0)","v":{"v":0,"d":"0.00"}},{"$f":"IF($B22=6,$Y22,0)","v":{"v":0,"d":"0.00"}},{"$f":"IF(AF21>0,IF(H22+P22+X22+AN22+AV22+BD22+BL22+BT22+CB22+CJ22=0,IF(E22>0,AF21,0),0),0)","v":0},{"$f":"G22*AF22","v":{"v":0,"d":"0.00"}},{"$f":"IF($B22=1,$AG22,0)","v":{"v":0,"d":"0.00"}},{"$f":"IF($B22=2,$AG22,0)","v":{"v":0,"d":"0.00"}},{"$f":"IF($B22=3,$AG22,0)","v":{"v":0,"d":"0.00"}},{"$f":"IF($B22=4,$AG22,0)","v":{"v":0,"d":"0.00"}},{"$f":"IF($B22=5,$AG22,0)","v":{"v":0,"d":"0.00"}},{"$f":"IF($B22=6,$AG22,0)","v":{"v":0,"d":"0.00"}},{"$f":"IF(AN21>0,IF(H22+P22+X22+AF22+AV22+BD22+BL22+BT22+CB22+CJ22=0,IF(E22>0,AN21,0),0),0)","v":0},{"$f":"G22*AN22","v":{"v":0,"d":"0.00"}},{"$f":"IF($B22=1,$AO22,0)","v":{"v":0,"d":"0.00"}},{"$f":"IF($B22=2,$AO22,0)","v":{"v":0,"d":"0.00"}},{"$f":"IF($B22=3,$AO22,0)","v":{"v":0,"d":"0.00"}},{"$f":"IF($B22=4,$AO22,0)","v":{"v":0,"d":"0.00"}},{"$f":"IF($B22=5,$AO22,0)","v":{"v":0,"d":"0.00"}},{"$f":"IF($B22=6,$AO22,0)","v":{"v":0,"d":"0.00"}},{"$f":"IF(AV21>0,IF(H22+P22+X22+AF22+AN22+BD22+BL22+BT22+CB22+CJ22=0,IF(E22>0,AV21,0),0),0)","v":0},{"$f":"G22*AV22","v":{"v":0,"d":"0.00"}},{"$f":"IF($B22=1,$AW22,0)","v":{"v":0,"d":"0.00"}},{"$f":"IF($B22=2,$AW22,0)","v":{"v":0,"d":"0.00"}},{"$f":"IF($B22=3,$AW22,0)","v":{"v":0,"d":"0.00"}},{"$f":"IF($B22=4,$AW22,0)","v":{"v":0,"d":"0.00"}},{"$f":"IF($B22=5,$AW22,0)","v":{"v":0,"d":"0.00"}},{"$f":"IF($B22=6,$AW22,0)","v":{"v":0,"d":"0.00"}},{"$f":"IF(BD21>0,IF(H22+P22+X22+AF22+AN22+AV22+BL22+BT22+CB22+CJ22=0,IF(E22>0,BD21,0),0),0)","v":0},{"$f":"G22*BD22","v":{"v":0,"d":"0.00"}},{"$f":"IF($B22=1,$BE22,0)","v":{"v":0,"d":"0.00"}},{"$f":"IF($B22=2,$BE22,0)","v":{"v":0,"d":"0.00"}},{"$f":"IF($B22=3,$BE22,0)","v":{"v":0,"d":"0.00"}},{"$f":"IF($B22=4,$BE22,0)","v":{"v":0,"d":"0.00"}},{"$f":"IF($B22=5,$BE22,0)","v":{"v":0,"d":"0.00"}},{"$f":"IF($B22=6,$BE22,0)","v":{"v":0,"d":"0.00"}},{"$f":"IF(BL21>0,IF(H22+P22+X22+AF22+AN22+AV22+BD22+BT22+CB22+CJ22=0,IF(E22>0,BL21,0),0),0)","v":0},{"$f":"G22*BL22","v":{"v":0,"d":"0.00"}},{"$f":"IF($B22=1,$BM22,0)","v":{"v":0,"d":"0.00"}},{"$f":"IF($B22=2,$BM22,0)","v":{"v":0,"d":"0.00"}},{"$f":"IF($B22=3,$BM22,0)","v":{"v":0,"d":"0.00"}},{"$f":"IF($B22=4,$BM22,0)","v":{"v":0,"d":"0.00"}},{"$f":"IF($B22=5,$BM22,0)","v":{"v":0,"d":"0.00"}},{"$f":"IF($B22=6,$BM22,0)","v":{"v":0,"d":"0.00"}},{"$f":"IF(BT21>0,IF(H22+P22+X22+AF22+AN22+AV22+BD22+BL22+CB22+CJ22=0,IF(E22>0,BT21,0),0),0)","v":0},{"$f":"G22*BT22","v":{"v":0,"d":"0.00"}},{"$f":"IF($B22=1,$BU22,0)","v":{"v":0,"d":"0.00"}},{"$f":"IF($B22=2,$BU22,0)","v":{"v":0,"d":"0.00"}},{"$f":"IF($B22=3,$BU22,0)","v":{"v":0,"d":"0.00"}},{"$f":"IF($B22=4,$BU22,0)","v":{"v":0,"d":"0.00"}},{"$f":"IF($B22=5,$BU22,0)","v":{"v":0,"d":"0.00"}},{"$f":"IF($B22=6,$BU22,0)","v":{"v":0,"d":"0.00"}},{"$f":"IF(CB21>0,IF(H22+P22+X22+AF22+AN22+AV22+BD22+BL22+BT22+CJ22=0,IF(E22>0,CB21,0),0),0)","v":0},{"$f":"G22*CB22","v":{"v":0,"d":"0.00"}},{"$f":"IF($B22=1,$CC22,0)","v":{"v":0,"d":"0.00"}},{"$f":"IF($B22=2,$CC22,0)","v":{"v":0,"d":"0.00"}},{"$f":"IF($B22=3,$CC22,0)","v":{"v":0,"d":"0.00"}},{"$f":"IF($B22=4,$CC22,0)","v":{"v":0,"d":"0.00"}},{"$f":"IF($B22=5,$CC22,0)","v":{"v":0,"d":"0.00"}},{"$f":"IF($B22=6,$CC22,0)","v":{"v":0,"d":"0.00"}},{"$f":"IF(CJ21>0,IF(H22+P22+X22+AF22+AN22+AV22+BD22+BL22+BT22+CB22=0,IF(E22>0,CJ21,0),0),0)","v":0},{"$f":"G22*CJ22","v":{"v":0,"d":"0.00"}},{"$f":"IF($B22=1,$CK22,0)","v":{"v":0,"d":"0.00"}},{"$f":"IF($B22=2,$CK22,0)","v":{"v":0,"d":"0.00"}},{"$f":"IF($B22=3,$CK22,0)","v":{"v":0,"d":"0.00"}},{"$f":"IF($B22=4,$CK22,0)","v":{"v":0,"d":"0.00"}},{"$f":"IF($B22=5,$CK22,0)","v":{"v":0,"d":"0.00"}},{"$f":"IF($B22=6,$CK22,0)","v":{"v":0,"d":"0.00"}}]
[{"$f":"IF(C22<>C23,C23,\"\")","v":""},{"$f":"IF(C22<>C23,_xlfn.DAYS(C23,C22)+B22,B22)","v":1},{"$f":"IF(D23>0,IF(D23<E22,C22+1,C22),C22)","v":"2009-02-16"},{"$f":"IF((E23+H23+P23+X23+AF23+AN23+AV23+BD23+BL23+BT23+CB23+CJ23)>0,E22,0)","v":"00:00:00"},null,{"$f":"E23-D23","v":"00:00:00"},{"$f":"IF(E23>0,HOUR(F23)+(MINUTE(F23)/60),0)","v":0},{"$f":"IF(H22>0,IF(P23+X23+AF23+AN23+AV23+BD23+BL23+BT23+CB23+CJ23=0,IF(E23>0,H22,0),0),0)","v":0},{"$f":"G23*H23","v":{"v":0,"d":"0.00"}},{"$f":"IF($B23=1,$I23,0)","v":{"v":0,"d":"0.00"}},{"$f":"IF($B23=2,$I23,0)","v":{"v":0,"d":"0.00"}},{"$f":"IF($B23=3,$I23,0)","v":{"v":0,"d":"0.00"}},{"$f":"IF($B23=4,$I23,0)","v":{"v":0,"d":"0.00"}},{"$f":"IF($B23=5,$I23,0)","v":{"v":0,"d":"0.00"}},{"$f":"IF($B23=6,$I23,0)","v":{"v":0,"d":"0.00"}},{"$f":"IF(P22>0,IF(H23+X23+AF23+AN23+AV23+BD23+BL23+BT23+CB23+CJ23=0,IF(E23>0,P22,0),0),0)","v":0},{"$f":"G23*P23","v":{"v":0,"d":"0.00"}},{"$f":"IF(B23=1,Q23,0)","v":{"v":0,"d":"0.00"}},{"$f":"IF(B23=2,Q23,0)","v":{"v":0,"d":"0.00"}},{"$f":"IF(B23=3,Q23,0)","v":{"v":0,"d":"0.00"}},{"$f":"IF(B23=4,Q23,0)","v":{"v":0,"d":"0.00"}},{"$f":"IF(B23=5,Q23,0)","v":{"v":0,"d":"0.00"}},{"$f":"IF(B23=6,Q23,0)","v":{"v":0,"d":"0.00"}},{"$f":"IF(X22>0,IF(H23+P23+AF23+AN23+AV23+BD23+BL23+BT23+CB23+CJ23=0,IF(E23>0,X22,0),0),0)","v":0},{"$f":"G23*X23","v":{"v":0,"d":"0.00"}},{"$f":"IF($B23=1,$Y23,0)","v":{"v":0,"d":"0.00"}},{"$f":"IF($B23=2,$Y23,0)","v":{"v":0,"d":"0.00"}},{"$f":"IF($B23=3,$Y23,0)","v":{"v":0,"d":"0.00"}},{"$f":"IF($B23=4,$Y23,0)","v":{"v":0,"d":"0.00"}},{"$f":"IF($B23=5,$Y23,0)","v":{"v":0,"d":"0.00"}},{"$f":"IF($B23=6,$Y23,0)","v":{"v":0,"d":"0.00"}},{"$f":"IF(AF22>0,IF(H23+P23+X23+AN23+AV23+BD23+BL23+BT23+CB23+CJ23=0,IF(E23>0,AF22,0),0),0)","v":0},{"$f":"G23*AF23","v":{"v":0,"d":"0.00"}},{"$f":"IF($B23=1,$AG23,0)","v":{"v":0,"d":"0.00"}},{"$f":"IF($B23=2,$AG23,0)","v":{"v":0,"d":"0.00"}},{"$f":"IF($B23=3,$AG23,0)","v":{"v":0,"d":"0.00"}},{"$f":"IF($B23=4,$AG23,0)","v":{"v":0,"d":"0.00"}},{"$f":"IF($B23=5,$AG23,0)","v":{"v":0,"d":"0.00"}},{"$f":"IF($B23=6,$AG23,0)","v":{"v":0,"d":"0.00"}},{"$f":"IF(AN22>0,IF(H23+P23+X23+AF23+AV23+BD23+BL23+BT23+CB23+CJ23=0,IF(E23>0,AN22,0),0),0)","v":0},{"$f":"G23*AN23","v":{"v":0,"d":"0.00"}},{"$f":"IF($B23=1,$AO23,0)","v":{"v":0,"d":"0.00"}},{"$f":"IF($B23=2,$AO23,0)","v":{"v":0,"d":"0.00"}},{"$f":"IF($B23=3,$AO23,0)","v":{"v":0,"d":"0.00"}},{"$f":"IF($B23=4,$AO23,0)","v":{"v":0,"d":"0.00"}},{"$f":"IF($B23=5,$AO23,0)","v":{"v":0,"d":"0.00"}},{"$f":"IF($B23=6,$AO23,0)","v":{"v":0,"d":"0.00"}},{"$f":"IF(AV22>0,IF(H23+P23+X23+AF23+AN23+BD23+BL23+BT23+CB23+CJ23=0,IF(E23>0,AV22,0),0),0)","v":0},{"$f":"G23*AV23","v":{"v":0,"d":"0.00"}},{"$f":"IF($B23=1,$AW23,0)","v":{"v":0,"d":"0.00"}},{"$f":"IF($B23=2,$AW23,0)","v":{"v":0,"d":"0.00"}},{"$f":"IF($B23=3,$AW23,0)","v":{"v":0,"d":"0.00"}},{"$f":"IF($B23=4,$AW23,0)","v":{"v":0,"d":"0.00"}},{"$f":"IF($B23=5,$AW23,0)","v":{"v":0,"d":"0.00"}},{"$f":"IF($B23=6,$AW23,0)","v":{"v":0,"d":"0.00"}},{"$f":"IF(BD22>0,IF(H23+P23+X23+AF23+AN23+AV23+BL23+BT23+CB23+CJ23=0,IF(E23>0,BD22,0),0),0)","v":0},{"$f":"G23*BD23","v":{"v":0,"d":"0.00"}},{"$f":"IF($B23=1,$BE23,0)","v":{"v":0,"d":"0.00"}},{"$f":"IF($B23=2,$BE23,0)","v":{"v":0,"d":"0.00"}},{"$f":"IF($B23=3,$BE23,0)","v":{"v":0,"d":"0.00"}},{"$f":"IF($B23=4,$BE23,0)","v":{"v":0,"d":"0.00"}},{"$f":"IF($B23=5,$BE23,0)","v":{"v":0,"d":"0.00"}},{"$f":"IF($B23=6,$BE23,0)","v":{"v":0,"d":"0.00"}},{"$f":"IF(BL22>0,IF(H23+P23+X23+AF23+AN23+AV23+BD23+BT23+CB23+CJ23=0,IF(E23>0,BL22,0),0),0)","v":0},{"$f":"G23*BL23","v":{"v":0,"d":"0.00"}},{"$f":"IF($B23=1,$BM23,0)","v":{"v":0,"d":"0.00"}},{"$f":"IF($B23=2,$BM23,0)","v":{"v":0,"d":"0.00"}},{"$f":"IF($B23=3,$BM23,0)","v":{"v":0,"d":"0.00"}},{"$f":"IF($B23=4,$BM23,0)","v":{"v":0,"d":"0.00"}},{"$f":"IF($B23=5,$BM23,0)","v":{"v":0,"d":"0.00"}},{"$f":"IF($B23=6,$BM23,0)","v":{"v":0,"d":"0.00"}},{"$f":"IF(BT22>0,IF(H23+P23+X23+AF23+AN23+AV23+BD23+BL23+CB23+CJ23=0,IF(E23>0,BT22,0),0),0)","v":0},{"$f":"G23*BT23","v":{"v":0,"d":"0.00"}},{"$f":"IF($B23=1,$BU23,0)","v":{"v":0,"d":"0.00"}},{"$f":"IF($B23=2,$BU23,0)","v":{"v":0,"d":"0.00"}},{"$f":"IF($B23=3,$BU23,0)","v":{"v":0,"d":"0.00"}},{"$f":"IF($B23=4,$BU23,0)","v":{"v":0,"d":"0.00"}},{"$f":"IF($B23=5,$BU23,0)","v":{"v":0,"d":"0.00"}},{"$f":"IF($B23=6,$BU23,0)","v":{"v":0,"d":"0.00"}},{"$f":"IF(CB22>0,IF(H23+P23+X23+AF23+AN23+AV23+BD23+BL23+BT23+CJ23=0,IF(E23>0,CB22,0),0),0)","v":0},{"$f":"G23*CB23","v":{"v":0,"d":"0.00"}},{"$f":"IF($B23=1,$CC23,0)","v":{"v":0,"d":"0.00"}},{"$f":"IF($B23=2,$CC23,0)","v":{"v":0,"d":"0.00"}},{"$f":"IF($B23=3,$CC23,0)","v":{"v":0,"d":"0.00"}},{"$f":"IF($B23=4,$CC23,0)","v":{"v":0,"d":"0.00"}},{"$f":"IF($B23=5,$CC23,0)","v":{"v":0,"d":"0.00"}},{"$f":"IF($B23=6,$CC23,0)","v":{"v":0,"d":"0.00"}},{"$f":"IF(CJ22>0,IF(H23+P23+X23+AF23+AN23+AV23+BD23+BL23+BT23+CB23=0,IF(E23>0,CJ22,0),0),0)","v":0},{"$f":"G23*CJ23","v":{"v":0,"d":"0.00"}},{"$f":"IF($B23=1,$CK23,0)","v":{"v":0,"d":"0.00"}},{"$f":"IF($B23=2,$CK23,0)","v":{"v":0,"d":"0.00"}},{"$f":"IF($B23=3,$CK23,0)","v":{"v":0,"d":"0.00"}},{"$f":"IF($B23=4,$CK23,0)","v":{"v":0,"d":"0.00"}},{"$f":"IF($B23=5,$CK23,0)","v":{"v":0,"d":"0.00"}},{"$f":"IF($B23=6,$CK23,0)","v":{"v":0,"d":"0.00"}}]
[{"$f":"IF(C23<>C24,C24,\"\")","v":""},{"$f":"IF(C23<>C24,_xlfn.DAYS(C24,C23)+B23,B23)","v":1},{"$f":"IF(D24>0,IF(D24<E23,C23+1,C23),C23)","v":"2009-02-16"},{"$f":"IF((E24+H24+P24+X24+AF24+AN24+AV24+BD24+BL24+BT24+CB24+CJ24)>0,E23,0)","v":"00:00:00"},null,{"$f":"E24-D24","v":"00:00:00"},{"$f":"IF(E24>0,HOUR(F24)+(MINUTE(F24)/60),0)","v":0},{"$f":"IF(H23>0,IF(P24+X24+AF24+AN24+AV24+BD24+BL24+BT24+CB24+CJ24=0,IF(E24>0,H23,0),0),0)","v":0},{"$f":"G24*H24","v":{"v":0,"d":"0.00"}},{"$f":"IF($B24=1,$I24,0)","v":{"v":0,"d":"0.00"}},{"$f":"IF($B24=2,$I24,0)","v":{"v":0,"d":"0.00"}},{"$f":"IF($B24=3,$I24,0)","v":{"v":0,"d":"0.00"}},{"$f":"IF($B24=4,$I24,0)","v":{"v":0,"d":"0.00"}},{"$f":"IF($B24=5,$I24,0)","v":{"v":0,"d":"0.00"}},{"$f":"IF($B24=6,$I24,0)","v":{"v":0,"d":"0.00"}},{"$f":"IF(P23>0,IF(H24+X24+AF24+AN24+AV24+BD24+BL24+BT24+CB24+CJ24=0,IF(E24>0,P23,0),0),0)","v":0},{"$f":"G24*P24","v":{"v":0,"d":"0.00"}},{"$f":"IF(B24=1,Q24,0)","v":{"v":0,"d":"0.00"}},{"$f":"IF(B24=2,Q24,0)","v":{"v":0,"d":"0.00"}},{"$f":"IF(B24=3,Q24,0)","v":{"v":0,"d":"0.00"}},{"$f":"IF(B24=4,Q24,0)","v":{"v":0,"d":"0.00"}},{"$f":"IF(B24=5,Q24,0)","v":{"v":0,"d":"0.00"}},{"$f":"IF(B24=6,Q24,0)","v":{"v":0,"d":"0.00"}},{"$f":"IF(X23>0,IF(H24+P24+AF24+AN24+AV24+BD24+BL24+BT24+CB24+CJ24=0,IF(E24>0,X23,0),0),0)","v":0},{"$f":"G24*X24","v":{"v":0,"d":"0.00"}},{"$f":"IF($B24=1,$Y24,0)","v":{"v":0,"d":"0.00"}},{"$f":"IF($B24=2,$Y24,0)","v":{"v":0,"d":"0.00"}},{"$f":"IF($B24=3,$Y24,0)","v":{"v":0,"d":"0.00"}},{"$f":"IF($B24=4,$Y24,0)","v":{"v":0,"d":"0.00"}},{"$f":"IF($B24=5,$Y24,0)","v":{"v":0,"d":"0.00"}},{"$f":"IF($B24=6,$Y24,0)","v":{"v":0,"d":"0.00"}},{"$f":"IF(AF23>0,IF(H24+P24+X24+AN24+AV24+BD24+BL24+BT24+CB24+CJ24=0,IF(E24>0,AF23,0),0),0)","v":0},{"$f":"G24*AF24","v":{"v":0,"d":"0.00"}},{"$f":"IF($B24=1,$AG24,0)","v":{"v":0,"d":"0.00"}},{"$f":"IF($B24=2,$AG24,0)","v":{"v":0,"d":"0.00"}},{"$f":"IF($B24=3,$AG24,0)","v":{"v":0,"d":"0.00"}},{"$f":"IF($B24=4,$AG24,0)","v":{"v":0,"d":"0.00"}},{"$f":"IF($B24=5,$AG24,0)","v":{"v":0,"d":"0.00"}},{"$f":"IF($B24=6,$AG24,0)","v":{"v":0,"d":"0.00"}},{"$f":"IF(AN23>0,IF(H24+P24+X24+AF24+AV24+BD24+BL24+BT24+CB24+CJ24=0,IF(E24>0,AN23,0),0),0)","v":0},{"$f":"G24*AN24","v":{"v":0,"d":"0.00"}},{"$f":"IF($B24=1,$AO24,0)","v":{"v":0,"d":"0.00"}},{"$f":"IF($B24=2,$AO24,0)","v":{"v":0,"d":"0.00"}},{"$f":"IF($B24=3,$AO24,0)","v":{"v":0,"d":"0.00"}},{"$f":"IF($B24=4,$AO24,0)","v":{"v":0,"d":"0.00"}},{"$f":"IF($B24=5,$AO24,0)","v":{"v":0,"d":"0.00"}},{"$f":"IF($B24=6,$AO24,0)","v":{"v":0,"d":"0.00"}},{"$f":"IF(AV23>0,IF(H24+P24+X24+AF24+AN24+BD24+BL24+BT24+CB24+CJ24=0,IF(E24>0,AV23,0),0),0)","v":0},{"$f":"G24*AV24","v":{"v":0,"d":"0.00"}},{"$f":"IF($B24=1,$AW24,0)","v":{"v":0,"d":"0.00"}},{"$f":"IF($B24=2,$AW24,0)","v":{"v":0,"d":"0.00"}},{"$f":"IF($B24=3,$AW24,0)","v":{"v":0,"d":"0.00"}},{"$f":"IF($B24=4,$AW24,0)","v":{"v":0,"d":"0.00"}},{"$f":"IF($B24=5,$AW24,0)","v":{"v":0,"d":"0.00"}},{"$f":"IF($B24=6,$AW24,0)","v":{"v":0,"d":"0.00"}},{"$f":"IF(BD23>0,IF(H24+P24+X24+AF24+AN24+AV24+BL24+BT24+CB24+CJ24=0,IF(E24>0,BD23,0),0),0)","v":0},{"$f":"G24*BD24","v":{"v":0,"d":"0.00"}},{"$f":"IF($B24=1,$BE24,0)","v":{"v":0,"d":"0.00"}},{"$f":"IF($B24=2,$BE24,0)","v":{"v":0,"d":"0.00"}},{"$f":"IF($B24=3,$BE24,0)","v":{"v":0,"d":"0.00"}},{"$f":"IF($B24=4,$BE24,0)","v":{"v":0,"d":"0.00"}},{"$f":"IF($B24=5,$BE24,0)","v":{"v":0,"d":"0.00"}},{"$f":"IF($B24=6,$BE24,0)","v":{"v":0,"d":"0.00"}},{"$f":"IF(BL23>0,IF(H24+P24+X24+AF24+AN24+AV24+BD24+BT24+CB24+CJ24=0,IF(E24>0,BL23,0),0),0)","v":0},{"$f":"G24*BL24","v":{"v":0,"d":"0.00"}},{"$f":"IF($B24=1,$BM24,0)","v":{"v":0,"d":"0.00"}},{"$f":"IF($B24=2,$BM24,0)","v":{"v":0,"d":"0.00"}},{"$f":"IF($B24=3,$BM24,0)","v":{"v":0,"d":"0.00"}},{"$f":"IF($B24=4,$BM24,0)","v":{"v":0,"d":"0.00"}},{"$f":"IF($B24=5,$BM24,0)","v":{"v":0,"d":"0.00"}},{"$f":"IF($B24=6,$BM24,0)","v":{"v":0,"d":"0.00"}},{"$f":"IF(BT23>0,IF(H24+P24+X24+AF24+AN24+AV24+BD24+BL24+CB24+CJ24=0,IF(E24>0,BT23,0),0),0)","v":0},{"$f":"G24*BT24","v":{"v":0,"d":"0.00"}},{"$f":"IF($B24=1,$BU24,0)","v":{"v":0,"d":"0.00"}},{"$f":"IF($B24=2,$BU24,0)","v":{"v":0,"d":"0.00"}},{"$f":"IF($B24=3,$BU24,0)","v":{"v":0,"d":"0.00"}},{"$f":"IF($B24=4,$BU24,0)","v":{"v":0,"d":"0.00"}},{"$f":"IF($B24=5,$BU24,0)","v":{"v":0,"d":"0.00"}},{"$f":"IF($B24=6,$BU24,0)","v":{"v":0,"d":"0.00"}},{"$f":"IF(CB23>0,IF(H24+P24+X24+AF24+AN24+AV24+BD24+BL24+BT24+CJ24=0,IF(E24>0,CB23,0),0),0)","v":0},{"$f":"G24*CB24","v":{"v":0,"d":"0.00"}},{"$f":"IF($B24=1,$CC24,0)","v":{"v":0,"d":"0.00"}},{"$f":"IF($B24=2,$CC24,0)","v":{"v":0,"d":"0.00"}},{"$f":"IF($B24=3,$CC24,0)","v":{"v":0,"d":"0.00"}},{"$f":"IF($B24=4,$CC24,0)","v":{"v":0,"d":"0.00"}},{"$f":"IF($B24=5,$CC24,0)","v":{"v":0,"d":"0.00"}},{"$f":"IF($B24=6,$CC24,0)","v":{"v":0,"d":"0.00"}},{"$f":"IF(CJ23>0,IF(H24+P24+X24+AF24+AN24+AV24+BD24+BL24+BT24+CB24=0,IF(E24>0,CJ23,0),0),0)","v":0},{"$f":"G24*CJ24","v":{"v":0,"d":"0.00"}},{"$f":"IF($B24=1,$CK24,0)","v":{"v":0,"d":"0.00"}},{"$f":"IF($B24=2,$CK24,0)","v":{"v":0,"d":"0.00"}},{"$f":"IF($B24=3,$CK24,0)","v":{"v":0,"d":"0.00"}},{"$f":"IF($B24=4,$CK24,0)","v":{"v":0,"d":"0.00"}},{"$f":"IF($B24=5,$CK24,0)","v":{"v":0,"d":"0.00"}},{"$f":"IF($B24=6,$CK24,0)","v":{"v":0,"d":"0.00"}}]
[{"$f":"IF(C24<>C25,C25,\"\")","v":""},{"$f":"IF(C24<>C25,_xlfn.DAYS(C25,C24)+B24,B24)","v":1},{"$f":"IF(D25>0,IF(D25<E24,C24+1,C24),C24)","v":"2009-02-16"},{"$f":"IF((E25+H25+P25+X25+AF25+AN25+AV25+BD25+BL25+BT25+CB25+CJ25)>0,E24,0)","v":"00:00:00"},null,{"$f":"E25-D25","v":"00:00:00"},{"$f":"IF(E25>0,HOUR(F25)+(MINUTE(F25)/60),0)","v":0},{"$f":"IF(H24>0,IF(P25+X25+AF25+AN25+AV25+BD25+BL25+BT25+CB25+CJ25=0,IF(E25>0,H24,0),0),0)","v":0},{"$f":"G25*H25","v":{"v":0,"d":"0.00"}},{"$f":"IF($B25=1,$I25,0)","v":{"v":0,"d":"0.00"}},{"$f":"IF($B25=2,$I25,0)","v":{"v":0,"d":"0.00"}},{"$f":"IF($B25=3,$I25,0)","v":{"v":0,"d":"0.00"}},{"$f":"IF($B25=4,$I25,0)","v":{"v":0,"d":"0.00"}},{"$f":"IF($B25=5,$I25,0)","v":{"v":0,"d":"0.00"}},{"$f":"IF($B25=6,$I25,0)","v":{"v":0,"d":"0.00"}},{"$f":"IF(P24>0,IF(H25+X25+AF25+AN25+AV25+BD25+BL25+BT25+CB25+CJ25=0,IF(E25>0,P24,0),0),0)","v":0},{"$f":"G25*P25","v":{"v":0,"d":"0.00"}},{"$f":"IF(B25=1,Q25,0)","v":{"v":0,"d":"0.00"}},{"$f":"IF(B25=2,Q25,0)","v":{"v":0,"d":"0.00"}},{"$f":"IF(B25=3,Q25,0)","v":{"v":0,"d":"0.00"}},{"$f":"IF(B25=4,Q25,0)","v":{"v":0,"d":"0.00"}},{"$f":"IF(B25=5,Q25,0)","v":{"v":0,"d":"0.00"}},{"$f":"IF(B25=6,Q25,0)","v":{"v":0,"d":"0.00"}},{"$f":"IF(X24>0,IF(H25+P25+AF25+AN25+AV25+BD25+BL25+BT25+CB25+CJ25=0,IF(E25>0,X24,0),0),0)","v":0},{"$f":"G25*X25","v":{"v":0,"d":"0.00"}},{"$f":"IF($B25=1,$Y25,0)","v":{"v":0,"d":"0.00"}},{"$f":"IF($B25=2,$Y25,0)","v":{"v":0,"d":"0.00"}},{"$f":"IF($B25=3,$Y25,0)","v":{"v":0,"d":"0.00"}},{"$f":"IF($B25=4,$Y25,0)","v":{"v":0,"d":"0.00"}},{"$f":"IF($B25=5,$Y25,0)","v":{"v":0,"d":"0.00"}},{"$f":"IF($B25=6,$Y25,0)","v":{"v":0,"d":"0.00"}},{"$f":"IF(AF24>0,IF(H25+P25+X25+AN25+AV25+BD25+BL25+BT25+CB25+CJ25=0,IF(E25>0,AF24,0),0),0)","v":0},{"$f":"G25*AF25","v":{"v":0,"d":"0.00"}},{"$f":"IF($B25=1,$AG25,0)","v":{"v":0,"d":"0.00"}},{"$f":"IF($B25=2,$AG25,0)","v":{"v":0,"d":"0.00"}},{"$f":"IF($B25=3,$AG25,0)","v":{"v":0,"d":"0.00"}},{"$f":"IF($B25=4,$AG25,0)","v":{"v":0,"d":"0.00"}},{"$f":"IF($B25=5,$AG25,0)","v":{"v":0,"d":"0.00"}},{"$f":"IF($B25=6,$AG25,0)","v":{"v":0,"d":"0.00"}},{"$f":"IF(AN24>0,IF(H25+P25+X25+AF25+AV25+BD25+BL25+BT25+CB25+CJ25=0,IF(E25>0,AN24,0),0),0)","v":0},{"$f":"G25*AN25","v":{"v":0,"d":"0.00"}},{"$f":"IF($B25=1,$AO25,0)","v":{"v":0,"d":"0.00"}},{"$f":"IF($B25=2,$AO25,0)","v":{"v":0,"d":"0.00"}},{"$f":"IF($B25=3,$AO25,0)","v":{"v":0,"d":"0.00"}},{"$f":"IF($B25=4,$AO25,0)","v":{"v":0,"d":"0.00"}},{"$f":"IF($B25=5,$AO25,0)","v":{"v":0,"d":"0.00"}},{"$f":"IF($B25=6,$AO25,0)","v":{"v":0,"d":"0.00"}},{"$f":"IF(AV24>0,IF(H25+P25+X25+AF25+AN25+BD25+BL25+BT25+CB25+CJ25=0,IF(E25>0,AV24,0),0),0)","v":0},{"$f":"G25*AV25","v":{"v":0,"d":"0.00"}},{"$f":"IF($B25=1,$AW25,0)","v":{"v":0,"d":"0.00"}},{"$f":"IF($B25=2,$AW25,0)","v":{"v":0,"d":"0.00"}},{"$f":"IF($B25=3,$AW25,0)","v":{"v":0,"d":"0.00"}},{"$f":"IF($B25=4,$AW25,0)","v":{"v":0,"d":"0.00"}},{"$f":"IF($B25=5,$AW25,0)","v":{"v":0,"d":"0.00"}},{"$f":"IF($B25=6,$AW25,0)","v":{"v":0,"d":"0.00"}},{"$f":"IF(BD24>0,IF(H25+P25+X25+AF25+AN25+AV25+BL25+BT25+CB25+CJ25=0,IF(E25>0,BD24,0),0),0)","v":0},{"$f":"G25*BD25","v":{"v":0,"d":"0.00"}},{"$f":"IF($B25=1,$BE25,0)","v":{"v":0,"d":"0.00"}},{"$f":"IF($B25=2,$BE25,0)","v":{"v":0,"d":"0.00"}},{"$f":"IF($B25=3,$BE25,0)","v":{"v":0,"d":"0.00"}},{"$f":"IF($B25=4,$BE25,0)","v":{"v":0,"d":"0.00"}},{"$f":"IF($B25=5,$BE25,0)","v":{"v":0,"d":"0.00"}},{"$f":"IF($B25=6,$BE25,0)","v":{"v":0,"d":"0.00"}},{"$f":"IF(BL24>0,IF(H25+P25+X25+AF25+AN25+AV25+BD25+BT25+CB25+CJ25=0,IF(E25>0,BL24,0),0),0)","v":0},{"$f":"G25*BL25","v":{"v":0,"d":"0.00"}},{"$f":"IF($B25=1,$BM25,0)","v":{"v":0,"d":"0.00"}},{"$f":"IF($B25=2,$BM25,0)","v":{"v":0,"d":"0.00"}},{"$f":"IF($B25=3,$BM25,0)","v":{"v":0,"d":"0.00"}},{"$f":"IF($B25=4,$BM25,0)","v":{"v":0,"d":"0.00"}},{"$f":"IF($B25=5,$BM25,0)","v":{"v":0,"d":"0.00"}},{"$f":"IF($B25=6,$BM25,0)","v":{"v":0,"d":"0.00"}},{"$f":"IF(BT24>0,IF(H25+P25+X25+AF25+AN25+AV25+BD25+BL25+CB25+CJ25=0,IF(E25>0,BT24,0),0),0)","v":0},{"$f":"G25*BT25","v":{"v":0,"d":"0.00"}},{"$f":"IF($B25=1,$BU25,0)","v":{"v":0,"d":"0.00"}},{"$f":"IF($B25=2,$BU25,0)","v":{"v":0,"d":"0.00"}},{"$f":"IF($B25=3,$BU25,0)","v":{"v":0,"d":"0.00"}},{"$f":"IF($B25=4,$BU25,0)","v":{"v":0,"d":"0.00"}},{"$f":"IF($B25=5,$BU25,0)","v":{"v":0,"d":"0.00"}},{"$f":"IF($B25=6,$BU25,0)","v":{"v":0,"d":"0.00"}},{"$f":"IF(CB24>0,IF(H25+P25+X25+AF25+AN25+AV25+BD25+BL25+BT25+CJ25=0,IF(E25>0,CB24,0),0),0)","v":0},{"$f":"G25*CB25","v":{"v":0,"d":"0.00"}},{"$f":"IF($B25=1,$CC25,0)","v":{"v":0,"d":"0.00"}},{"$f":"IF($B25=2,$CC25,0)","v":{"v":0,"d":"0.00"}},{"$f":"IF($B25=3,$CC25,0)","v":{"v":0,"d":"0.00"}},{"$f":"IF($B25=4,$CC25,0)","v":{"v":0,"d":"0.00"}},{"$f":"IF($B25=5,$CC25,0)","v":{"v":0,"d":"0.00"}},{"$f":"IF($B25=6,$CC25,0)","v":{"v":0,"d":"0.00"}},{"$f":"IF(CJ24>0,IF(H25+P25+X25+AF25+AN25+AV25+BD25+BL25+BT25+CB25=0,IF(E25>0,CJ24,0),0),0)","v":0},{"$f":"G25*CJ25","v":{"v":0,"d":"0.00"}},{"$f":"IF($B25=1,$CK25,0)","v":{"v":0,"d":"0.00"}},{"$f":"IF($B25=2,$CK25,0)","v":{"v":0,"d":"0.00"}},{"$f":"IF($B25=3,$CK25,0)","v":{"v":0,"d":"0.00"}},{"$f":"IF($B25=4,$CK25,0)","v":{"v":0,"d":"0.00"}},{"$f":"IF($B25=5,$CK25,0)","v":{"v":0,"d":"0.00"}},{"$f":"IF($B25=6,$CK25,0)","v":{"v":0,"d":"0.00"}}]
[{"$f":"IF(C25<>C26,C26,\"\")","v":""},{"$f":"IF(C25<>C26,_xlfn.DAYS(C26,C25)+B25,B25)","v":1},{"$f":"IF(D26>0,IF(D26<E25,C25+1,C25),C25)","v":"2009-02-16"},{"$f":"IF((E26+H26+P26+X26+AF26+AN26+AV26+BD26+BL26+BT26+CB26+CJ26)>0,E25,0)","v":"00:00:00"},null,{"$f":"E26-D26","v":"00:00:00"},{"$f":"IF(E26>0,HOUR(F26)+(MINUTE(F26)/60),0)","v":0},{"$f":"IF(H25>0,IF(P26+X26+AF26+AN26+AV26+BD26+BL26+BT26+CB26+CJ26=0,IF(E26>0,H25,0),0),0)","v":0},{"$f":"G26*H26","v":{"v":0,"d":"0.00"}},{"$f":"IF($B26=1,$I26,0)","v":{"v":0,"d":"0.00"}},{"$f":"IF($B26=2,$I26,0)","v":{"v":0,"d":"0.00"}},{"$f":"IF($B26=3,$I26,0)","v":{"v":0,"d":"0.00"}},{"$f":"IF($B26=4,$I26,0)","v":{"v":0,"d":"0.00"}},{"$f":"IF($B26=5,$I26,0)","v":{"v":0,"d":"0.00"}},{"$f":"IF($B26=6,$I26,0)","v":{"v":0,"d":"0.00"}},{"$f":"IF(P25>0,IF(H26+X26+AF26+AN26+AV26+BD26+BL26+BT26+CB26+CJ26=0,IF(E26>0,P25,0),0),0)","v":0},{"$f":"G26*P26","v":{"v":0,"d":"0.00"}},{"$f":"IF(B26=1,Q26,0)","v":{"v":0,"d":"0.00"}},{"$f":"IF(B26=2,Q26,0)","v":{"v":0,"d":"0.00"}},{"$f":"IF(B26=3,Q26,0)","v":{"v":0,"d":"0.00"}},{"$f":"IF(B26=4,Q26,0)","v":{"v":0,"d":"0.00"}},{"$f":"IF(B26=5,Q26,0)","v":{"v":0,"d":"0.00"}},{"$f":"IF(B26=6,Q26,0)","v":{"v":0,"d":"0.00"}},{"$f":"IF(X25>0,IF(H26+P26+AF26+AN26+AV26+BD26+BL26+BT26+CB26+CJ26=0,IF(E26>0,X25,0),0),0)","v":0},{"$f":"G26*X26","v":{"v":0,"d":"0.00"}},{"$f":"IF($B26=1,$Y26,0)","v":{"v":0,"d":"0.00"}},{"$f":"IF($B26=2,$Y26,0)","v":{"v":0,"d":"0.00"}},{"$f":"IF($B26=3,$Y26,0)","v":{"v":0,"d":"0.00"}},{"$f":"IF($B26=4,$Y26,0)","v":{"v":0,"d":"0.00"}},{"$f":"IF($B26=5,$Y26,0)","v":{"v":0,"d":"0.00"}},{"$f":"IF($B26=6,$Y26,0)","v":{"v":0,"d":"0.00"}},{"$f":"IF(AF25>0,IF(H26+P26+X26+AN26+AV26+BD26+BL26+BT26+CB26+CJ26=0,IF(E26>0,AF25,0),0),0)","v":0},{"$f":"G26*AF26","v":{"v":0,"d":"0.00"}},{"$f":"IF($B26=1,$AG26,0)","v":{"v":0,"d":"0.00"}},{"$f":"IF($B26=2,$AG26,0)","v":{"v":0,"d":"0.00"}},{"$f":"IF($B26=3,$AG26,0)","v":{"v":0,"d":"0.00"}},{"$f":"IF($B26=4,$AG26,0)","v":{"v":0,"d":"0.00"}},{"$f":"IF($B26=5,$AG26,0)","v":{"v":0,"d":"0.00"}},{"$f":"IF($B26=6,$AG26,0)","v":{"v":0,"d":"0.00"}},{"$f":"IF(AN25>0,IF(H26+P26+X26+AF26+AV26+BD26+BL26+BT26+CB26+CJ26=0,IF(E26>0,AN25,0),0),0)","v":0},{"$f":"G26*AN26","v":{"v":0,"d":"0.00"}},{"$f":"IF($B26=1,$AO26,0)","v":{"v":0,"d":"0.00"}},{"$f":"IF($B26=2,$AO26,0)","v":{"v":0,"d":"0.00"}},{"$f":"IF($B26=3,$AO26,0)","v":{"v":0,"d":"0.00"}},{"$f":"IF($B26=4,$AO26,0)","v":{"v":0,"d":"0.00"}},{"$f":"IF($B26=5,$AO26,0)","v":{"v":0,"d":"0.00"}},{"$f":"IF($B26=6,$AO26,0)","v":{"v":0,"d":"0.00"}},{"$f":"IF(AV25>0,IF(H26+P26+X26+AF26+AN26+BD26+BL26+BT26+CB26+CJ26=0,IF(E26>0,AV25,0),0),0)","v":0},{"$f":"G26*AV26","v":{"v":0,"d":"0.00"}},{"$f":"IF($B26=1,$AW26,0)","v":{"v":0,"d":"0.00"}},{"$f":"IF($B26=2,$AW26,0)","v":{"v":0,"d":"0.00"}},{"$f":"IF($B26=3,$AW26,0)","v":{"v":0,"d":"0.00"}},{"$f":"IF($B26=4,$AW26,0)","v":{"v":0,"d":"0.00"}},{"$f":"IF($B26=5,$AW26,0)","v":{"v":0,"d":"0.00"}},{"$f":"IF($B26=6,$AW26,0)","v":{"v":0,"d":"0.00"}},{"$f":"IF(BD25>0,IF(H26+P26+X26+AF26+AN26+AV26+BL26+BT26+CB26+CJ26=0,IF(E26>0,BD25,0),0),0)","v":0},{"$f":"G26*BD26","v":{"v":0,"d":"0.00"}},{"$f":"IF($B26=1,$BE26,0)","v":{"v":0,"d":"0.00"}},{"$f":"IF($B26=2,$BE26,0)","v":{"v":0,"d":"0.00"}},{"$f":"IF($B26=3,$BE26,0)","v":{"v":0,"d":"0.00"}},{"$f":"IF($B26=4,$BE26,0)","v":{"v":0,"d":"0.00"}},{"$f":"IF($B26=5,$BE26,0)","v":{"v":0,"d":"0.00"}},{"$f":"IF($B26=6,$BE26,0)","v":{"v":0,"d":"0.00"}},{"$f":"IF(BL25>0,IF(H26+P26+X26+AF26+AN26+AV26+BD26+BT26+CB26+CJ26=0,IF(E26>0,BL25,0),0),0)","v":0},{"$f":"G26*BL26","v":{"v":0,"d":"0.00"}},{"$f":"IF($B26=1,$BM26,0)","v":{"v":0,"d":"0.00"}},{"$f":"IF($B26=2,$BM26,0)","v":{"v":0,"d":"0.00"}},{"$f":"IF($B26=3,$BM26,0)","v":{"v":0,"d":"0.00"}},{"$f":"IF($B26=4,$BM26,0)","v":{"v":0,"d":"0.00"}},{"$f":"IF($B26=5,$BM26,0)","v":{"v":0,"d":"0.00"}},{"$f":"IF($B26=6,$BM26,0)","v":{"v":0,"d":"0.00"}},{"$f":"IF(BT25>0,IF(H26+P26+X26+AF26+AN26+AV26+BD26+BL26+CB26+CJ26=0,IF(E26>0,BT25,0),0),0)","v":0},{"$f":"G26*BT26","v":{"v":0,"d":"0.00"}},{"$f":"IF($B26=1,$BU26,0)","v":{"v":0,"d":"0.00"}},{"$f":"IF($B26=2,$BU26,0)","v":{"v":0,"d":"0.00"}},{"$f":"IF($B26=3,$BU26,0)","v":{"v":0,"d":"0.00"}},{"$f":"IF($B26=4,$BU26,0)","v":{"v":0,"d":"0.00"}},{"$f":"IF($B26=5,$BU26,0)","v":{"v":0,"d":"0.00"}},{"$f":"IF($B26=6,$BU26,0)","v":{"v":0,"d":"0.00"}},{"$f":"IF(CB25>0,IF(H26+P26+X26+AF26+AN26+AV26+BD26+BL26+BT26+CJ26=0,IF(E26>0,CB25,0),0),0)","v":0},{"$f":"G26*CB26","v":{"v":0,"d":"0.00"}},{"$f":"IF($B26=1,$CC26,0)","v":{"v":0,"d":"0.00"}},{"$f":"IF($B26=2,$CC26,0)","v":{"v":0,"d":"0.00"}},{"$f":"IF($B26=3,$CC26,0)","v":{"v":0,"d":"0.00"}},{"$f":"IF($B26=4,$CC26,0)","v":{"v":0,"d":"0.00"}},{"$f":"IF($B26=5,$CC26,0)","v":{"v":0,"d":"0.00"}},{"$f":"IF($B26=6,$CC26,0)","v":{"v":0,"d":"0.00"}},{"$f":"IF(CJ25>0,IF(H26+P26+X26+AF26+AN26+AV26+BD26+BL26+BT26+CB26=0,IF(E26>0,CJ25,0),0),0)","v":0},{"$f":"G26*CJ26","v":{"v":0,"d":"0.00"}},{"$f":"IF($B26=1,$CK26,0)","v":{"v":0,"d":"0.00"}},{"$f":"IF($B26=2,$CK26,0)","v":{"v":0,"d":"0.00"}},{"$f":"IF($B26=3,$CK26,0)","v":{"v":0,"d":"0.00"}},{"$f":"IF($B26=4,$CK26,0)","v":{"v":0,"d":"0.00"}},{"$f":"IF($B26=5,$CK26,0)","v":{"v":0,"d":"0.00"}},{"$f":"IF($B26=6,$CK26,0)","v":{"v":0,"d":"0.00"}}]
[{"$f":"IF(C26<>C27,C27,\"\")","v":""},{"$f":"IF(C26<>C27,_xlfn.DAYS(C27,C26)+B26,B26)","v":1},{"$f":"IF(D27>0,IF(D27<E26,C26+1,C26),C26)","v":"2009-02-16"},{"$f":"IF((E27+H27+P27+X27+AF27+AN27+AV27+BD27+BL27+BT27+CB27+CJ27)>0,E26,0)","v":"00:00:00"},null,{"$f":"E27-D27","v":"00:00:00"},{"$f":"IF(E27>0,HOUR(F27)+(MINUTE(F27)/60),0)","v":0},{"$f":"IF(H26>0,IF(P27+X27+AF27+AN27+AV27+BD27+BL27+BT27+CB27+CJ27=0,IF(E27>0,H26,0),0),0)","v":0},{"$f":"G27*H27","v":{"v":0,"d":"0.00"}},{"$f":"IF($B27=1,$I27,0)","v":{"v":0,"d":"0.00"}},{"$f":"IF($B27=2,$I27,0)","v":{"v":0,"d":"0.00"}},{"$f":"IF($B27=3,$I27,0)","v":{"v":0,"d":"0.00"}},{"$f":"IF($B27=4,$I27,0)","v":{"v":0,"d":"0.00"}},{"$f":"IF($B27=5,$I27,0)","v":{"v":0,"d":"0.00"}},{"$f":"IF($B27=6,$I27,0)","v":{"v":0,"d":"0.00"}},{"$f":"IF(P26>0,IF(H27+X27+AF27+AN27+AV27+BD27+BL27+BT27+CB27+CJ27=0,IF(E27>0,P26,0),0),0)","v":0},{"$f":"G27*P27","v":{"v":0,"d":"0.00"}},{"$f":"IF(B27=1,Q27,0)","v":{"v":0,"d":"0.00"}},{"$f":"IF(B27=2,Q27,0)","v":{"v":0,"d":"0.00"}},{"$f":"IF(B27=3,Q27,0)","v":{"v":0,"d":"0.00"}},{"$f":"IF(B27=4,Q27,0)","v":{"v":0,"d":"0.00"}},{"$f":"IF(B27=5,Q27,0)","v":{"v":0,"d":"0.00"}},{"$f":"IF(B27=6,Q27,0)","v":{"v":0,"d":"0.00"}},{"$f":"IF(X26>0,IF(H27+P27+AF27+AN27+AV27+BD27+BL27+BT27+CB27+CJ27=0,IF(E27>0,X26,0),0),0)","v":0},{"$f":"G27*X27","v":{"v":0,"d":"0.00"}},{"$f":"IF($B27=1,$Y27,0)","v":{"v":0,"d":"0.00"}},{"$f":"IF($B27=2,$Y27,0)","v":{"v":0,"d":"0.00"}},{"$f":"IF($B27=3,$Y27,0)","v":{"v":0,"d":"0.00"}},{"$f":"IF($B27=4,$Y27,0)","v":{"v":0,"d":"0.00"}},{"$f":"IF($B27=5,$Y27,0)","v":{"v":0,"d":"0.00"}},{"$f":"IF($B27=6,$Y27,0)","v":{"v":0,"d":"0.00"}},{"$f":"IF(AF26>0,IF(H27+P27+X27+AN27+AV27+BD27+BL27+BT27+CB27+CJ27=0,IF(E27>0,AF26,0),0),0)","v":0},{"$f":"G27*AF27","v":{"v":0,"d":"0.00"}},{"$f":"IF($B27=1,$AG27,0)","v":{"v":0,"d":"0.00"}},{"$f":"IF($B27=2,$AG27,0)","v":{"v":0,"d":"0.00"}},{"$f":"IF($B27=3,$AG27,0)","v":{"v":0,"d":"0.00"}},{"$f":"IF($B27=4,$AG27,0)","v":{"v":0,"d":"0.00"}},{"$f":"IF($B27=5,$AG27,0)","v":{"v":0,"d":"0.00"}},{"$f":"IF($B27=6,$AG27,0)","v":{"v":0,"d":"0.00"}},{"$f":"IF(AN26>0,IF(H27+P27+X27+AF27+AV27+BD27+BL27+BT27+CB27+CJ27=0,IF(E27>0,AN26,0),0),0)","v":0},{"$f":"G27*AN27","v":{"v":0,"d":"0.00"}},{"$f":"IF($B27=1,$AO27,0)","v":{"v":0,"d":"0.00"}},{"$f":"IF($B27=2,$AO27,0)","v":{"v":0,"d":"0.00"}},{"$f":"IF($B27=3,$AO27,0)","v":{"v":0,"d":"0.00"}},{"$f":"IF($B27=4,$AO27,0)","v":{"v":0,"d":"0.00"}},{"$f":"IF($B27=5,$AO27,0)","v":{"v":0,"d":"0.00"}},{"$f":"IF($B27=6,$AO27,0)","v":{"v":0,"d":"0.00"}},{"$f":"IF(AV26>0,IF(H27+P27+X27+AF27+AN27+BD27+BL27+BT27+CB27+CJ27=0,IF(E27>0,AV26,0),0),0)","v":0},{"$f":"G27*AV27","v":{"v":0,"d":"0.00"}},{"$f":"IF($B27=1,$AW27,0)","v":{"v":0,"d":"0.00"}},{"$f":"IF($B27=2,$AW27,0)","v":{"v":0,"d":"0.00"}},{"$f":"IF($B27=3,$AW27,0)","v":{"v":0,"d":"0.00"}},{"$f":"IF($B27=4,$AW27,0)","v":{"v":0,"d":"0.00"}},{"$f":"IF($B27=5,$AW27,0)","v":{"v":0,"d":"0.00"}},{"$f":"IF($B27=6,$AW27,0)","v":{"v":0,"d":"0.00"}},{"$f":"IF(BD26>0,IF(H27+P27+X27+AF27+AN27+AV27+BL27+BT27+CB27+CJ27=0,IF(E27>0,BD26,0),0),0)","v":0},{"$f":"G27*BD27","v":{"v":0,"d":"0.00"}},{"$f":"IF($B27=1,$BE27,0)","v":{"v":0,"d":"0.00"}},{"$f":"IF($B27=2,$BE27,0)","v":{"v":0,"d":"0.00"}},{"$f":"IF($B27=3,$BE27,0)","v":{"v":0,"d":"0.00"}},{"$f":"IF($B27=4,$BE27,0)","v":{"v":0,"d":"0.00"}},{"$f":"IF($B27=5,$BE27,0)","v":{"v":0,"d":"0.00"}},{"$f":"IF($B27=6,$BE27,0)","v":{"v":0,"d":"0.00"}},{"$f":"IF(BL26>0,IF(H27+P27+X27+AF27+AN27+AV27+BD27+BT27+CB27+CJ27=0,IF(E27>0,BL26,0),0),0)","v":0},{"$f":"G27*BL27","v":{"v":0,"d":"0.00"}},{"$f":"IF($B27=1,$BM27,0)","v":{"v":0,"d":"0.00"}},{"$f":"IF($B27=2,$BM27,0)","v":{"v":0,"d":"0.00"}},{"$f":"IF($B27=3,$BM27,0)","v":{"v":0,"d":"0.00"}},{"$f":"IF($B27=4,$BM27,0)","v":{"v":0,"d":"0.00"}},{"$f":"IF($B27=5,$BM27,0)","v":{"v":0,"d":"0.00"}},{"$f":"IF($B27=6,$BM27,0)","v":{"v":0,"d":"0.00"}},{"$f":"IF(BT26>0,IF(H27+P27+X27+AF27+AN27+AV27+BD27+BL27+CB27+CJ27=0,IF(E27>0,BT26,0),0),0)","v":0},{"$f":"G27*BT27","v":{"v":0,"d":"0.00"}},{"$f":"IF($B27=1,$BU27,0)","v":{"v":0,"d":"0.00"}},{"$f":"IF($B27=2,$BU27,0)","v":{"v":0,"d":"0.00"}},{"$f":"IF($B27=3,$BU27,0)","v":{"v":0,"d":"0.00"}},{"$f":"IF($B27=4,$BU27,0)","v":{"v":0,"d":"0.00"}},{"$f":"IF($B27=5,$BU27,0)","v":{"v":0,"d":"0.00"}},{"$f":"IF($B27=6,$BU27,0)","v":{"v":0,"d":"0.00"}},{"$f":"IF(CB26>0,IF(H27+P27+X27+AF27+AN27+AV27+BD27+BL27+BT27+CJ27=0,IF(E27>0,CB26,0),0),0)","v":0},{"$f":"G27*CB27","v":{"v":0,"d":"0.00"}},{"$f":"IF($B27=1,$CC27,0)","v":{"v":0,"d":"0.00"}},{"$f":"IF($B27=2,$CC27,0)","v":{"v":0,"d":"0.00"}},{"$f":"IF($B27=3,$CC27,0)","v":{"v":0,"d":"0.00"}},{"$f":"IF($B27=4,$CC27,0)","v":{"v":0,"d":"0.00"}},{"$f":"IF($B27=5,$CC27,0)","v":{"v":0,"d":"0.00"}},{"$f":"IF($B27=6,$CC27,0)","v":{"v":0,"d":"0.00"}},{"$f":"IF(CJ26>0,IF(H27+P27+X27+AF27+AN27+AV27+BD27+BL27+BT27+CB27=0,IF(E27>0,CJ26,0),0),0)","v":0},{"$f":"G27*CJ27","v":{"v":0,"d":"0.00"}},{"$f":"IF($B27=1,$CK27,0)","v":{"v":0,"d":"0.00"}},{"$f":"IF($B27=2,$CK27,0)","v":{"v":0,"d":"0.00"}},{"$f":"IF($B27=3,$CK27,0)","v":{"v":0,"d":"0.00"}},{"$f":"IF($B27=4,$CK27,0)","v":{"v":0,"d":"0.00"}},{"$f":"IF($B27=5,$CK27,0)","v":{"v":0,"d":"0.00"}},{"$f":"IF($B27=6,$CK27,0)","v":{"v":0,"d":"0.00"}}]
[{"$f":"IF(C27<>C28,C28,\"\")","v":""},{"$f":"IF(C27<>C28,_xlfn.DAYS(C28,C27)+B27,B27)","v":1},{"$f":"IF(D28>0,IF(D28<E27,C27+1,C27),C27)","v":"2009-02-16"},{"$f":"IF((E28+H28+P28+X28+AF28+AN28+AV28+BD28+BL28+BT28+CB28+CJ28)>0,E27,0)","v":"00:00:00"},null,{"$f":"E28-D28","v":"00:00:00"},{"$f":"IF(E28>0,HOUR(F28)+(MINUTE(F28)/60),0)","v":0},{"$f":"IF(H27>0,IF(P28+X28+AF28+AN28+AV28+BD28+BL28+BT28+CB28+CJ28=0,IF(E28>0,H27,0),0),0)","v":0},{"$f":"G28*H28","v":{"v":0,"d":"0.00"}},{"$f":"IF($B28=1,$I28,0)","v":{"v":0,"d":"0.00"}},{"$f":"IF($B28=2,$I28,0)","v":{"v":0,"d":"0.00"}},{"$f":"IF($B28=3,$I28,0)","v":{"v":0,"d":"0.00"}},{"$f":"IF($B28=4,$I28,0)","v":{"v":0,"d":"0.00"}},{"$f":"IF($B28=5,$I28,0)","v":{"v":0,"d":"0.00"}},{"$f":"IF($B28=6,$I28,0)","v":{"v":0,"d":"0.00"}},{"$f":"IF(P27>0,IF(H28+X28+AF28+AN28+AV28+BD28+BL28+BT28+CB28+CJ28=0,IF(E28>0,P27,0),0),0)","v":0},{"$f":"G28*P28","v":{"v":0,"d":"0.00"}},{"$f":"IF(B28=1,Q28,0)","v":{"v":0,"d":"0.00"}},{"$f":"IF(B28=2,Q28,0)","v":{"v":0,"d":"0.00"}},{"$f":"IF(B28=3,Q28,0)","v":{"v":0,"d":"0.00"}},{"$f":"IF(B28=4,Q28,0)","v":{"v":0,"d":"0.00"}},{"$f":"IF(B28=5,Q28,0)","v":{"v":0,"d":"0.00"}},{"$f":"IF(B28=6,Q28,0)","v":{"v":0,"d":"0.00"}},{"$f":"IF(X27>0,IF(H28+P28+AF28+AN28+AV28+BD28+BL28+BT28+CB28+CJ28=0,IF(E28>0,X27,0),0),0)","v":0},{"$f":"G28*X28","v":{"v":0,"d":"0.00"}},{"$f":"IF($B28=1,$Y28,0)","v":{"v":0,"d":"0.00"}},{"$f":"IF($B28=2,$Y28,0)","v":{"v":0,"d":"0.00"}},{"$f":"IF($B28=3,$Y28,0)","v":{"v":0,"d":"0.00"}},{"$f":"IF($B28=4,$Y28,0)","v":{"v":0,"d":"0.00"}},{"$f":"IF($B28=5,$Y28,0)","v":{"v":0,"d":"0.00"}},{"$f":"IF($B28=6,$Y28,0)","v":{"v":0,"d":"0.00"}},{"$f":"IF(AF27>0,IF(H28+P28+X28+AN28+AV28+BD28+BL28+BT28+CB28+CJ28=0,IF(E28>0,AF27,0),0),0)","v":0},{"$f":"G28*AF28","v":{"v":0,"d":"0.00"}},{"$f":"IF($B28=1,$AG28,0)","v":{"v":0,"d":"0.00"}},{"$f":"IF($B28=2,$AG28,0)","v":{"v":0,"d":"0.00"}},{"$f":"IF($B28=3,$AG28,0)","v":{"v":0,"d":"0.00"}},{"$f":"IF($B28=4,$AG28,0)","v":{"v":0,"d":"0.00"}},{"$f":"IF($B28=5,$AG28,0)","v":{"v":0,"d":"0.00"}},{"$f":"IF($B28=6,$AG28,0)","v":{"v":0,"d":"0.00"}},{"$f":"IF(AN27>0,IF(H28+P28+X28+AF28+AV28+BD28+BL28+BT28+CB28+CJ28=0,IF(E28>0,AN27,0),0),0)","v":0},{"$f":"G28*AN28","v":{"v":0,"d":"0.00"}},{"$f":"IF($B28=1,$AO28,0)","v":{"v":0,"d":"0.00"}},{"$f":"IF($B28=2,$AO28,0)","v":{"v":0,"d":"0.00"}},{"$f":"IF($B28=3,$AO28,0)","v":{"v":0,"d":"0.00"}},{"$f":"IF($B28=4,$AO28,0)","v":{"v":0,"d":"0.00"}},{"$f":"IF($B28=5,$AO28,0)","v":{"v":0,"d":"0.00"}},{"$f":"IF($B28=6,$AO28,0)","v":{"v":0,"d":"0.00"}},{"$f":"IF(AV27>0,IF(H28+P28+X28+AF28+AN28+BD28+BL28+BT28+CB28+CJ28=0,IF(E28>0,AV27,0),0),0)","v":0},{"$f":"G28*AV28","v":{"v":0,"d":"0.00"}},{"$f":"IF($B28=1,$AW28,0)","v":{"v":0,"d":"0.00"}},{"$f":"IF($B28=2,$AW28,0)","v":{"v":0,"d":"0.00"}},{"$f":"IF($B28=3,$AW28,0)","v":{"v":0,"d":"0.00"}},{"$f":"IF($B28=4,$AW28,0)","v":{"v":0,"d":"0.00"}},{"$f":"IF($B28=5,$AW28,0)","v":{"v":0,"d":"0.00"}},{"$f":"IF($B28=6,$AW28,0)","v":{"v":0,"d":"0.00"}},{"$f":"IF(BD27>0,IF(H28+P28+X28+AF28+AN28+AV28+BL28+BT28+CB28+CJ28=0,IF(E28>0,BD27,0),0),0)","v":0},{"$f":"G28*BD28","v":{"v":0,"d":"0.00"}},{"$f":"IF($B28=1,$BE28,0)","v":{"v":0,"d":"0.00"}},{"$f":"IF($B28=2,$BE28,0)","v":{"v":0,"d":"0.00"}},{"$f":"IF($B28=3,$BE28,0)","v":{"v":0,"d":"0.00"}},{"$f":"IF($B28=4,$BE28,0)","v":{"v":0,"d":"0.00"}},{"$f":"IF($B28=5,$BE28,0)","v":{"v":0,"d":"0.00"}},{"$f":"IF($B28=6,$BE28,0)","v":{"v":0,"d":"0.00"}},{"$f":"IF(BL27>0,IF(H28+P28+X28+AF28+AN28+AV28+BD28+BT28+CB28+CJ28=0,IF(E28>0,BL27,0),0),0)","v":0},{"$f":"G28*BL28","v":{"v":0,"d":"0.00"}},{"$f":"IF($B28=1,$BM28,0)","v":{"v":0,"d":"0.00"}},{"$f":"IF($B28=2,$BM28,0)","v":{"v":0,"d":"0.00"}},{"$f":"IF($B28=3,$BM28,0)","v":{"v":0,"d":"0.00"}},{"$f":"IF($B28=4,$BM28,0)","v":{"v":0,"d":"0.00"}},{"$f":"IF($B28=5,$BM28,0)","v":{"v":0,"d":"0.00"}},{"$f":"IF($B28=6,$BM28,0)","v":{"v":0,"d":"0.00"}},{"$f":"IF(BT27>0,IF(H28+P28+X28+AF28+AN28+AV28+BD28+BL28+CB28+CJ28=0,IF(E28>0,BT27,0),0),0)","v":0},{"$f":"G28*BT28","v":{"v":0,"d":"0.00"}},{"$f":"IF($B28=1,$BU28,0)","v":{"v":0,"d":"0.00"}},{"$f":"IF($B28=2,$BU28,0)","v":{"v":0,"d":"0.00"}},{"$f":"IF($B28=3,$BU28,0)","v":{"v":0,"d":"0.00"}},{"$f":"IF($B28=4,$BU28,0)","v":{"v":0,"d":"0.00"}},{"$f":"IF($B28=5,$BU28,0)","v":{"v":0,"d":"0.00"}},{"$f":"IF($B28=6,$BU28,0)","v":{"v":0,"d":"0.00"}},{"$f":"IF(CB27>0,IF(H28+P28+X28+AF28+AN28+AV28+BD28+BL28+BT28+CJ28=0,IF(E28>0,CB27,0),0),0)","v":0},{"$f":"G28*CB28","v":{"v":0,"d":"0.00"}},{"$f":"IF($B28=1,$CC28,0)","v":{"v":0,"d":"0.00"}},{"$f":"IF($B28=2,$CC28,0)","v":{"v":0,"d":"0.00"}},{"$f":"IF($B28=3,$CC28,0)","v":{"v":0,"d":"0.00"}},{"$f":"IF($B28=4,$CC28,0)","v":{"v":0,"d":"0.00"}},{"$f":"IF($B28=5,$CC28,0)","v":{"v":0,"d":"0.00"}},{"$f":"IF($B28=6,$CC28,0)","v":{"v":0,"d":"0.00"}},{"$f":"IF(CJ27>0,IF(H28+P28+X28+AF28+AN28+AV28+BD28+BL28+BT28+CB28=0,IF(E28>0,CJ27,0),0),0)","v":0},{"$f":"G28*CJ28","v":{"v":0,"d":"0.00"}},{"$f":"IF($B28=1,$CK28,0)","v":{"v":0,"d":"0.00"}},{"$f":"IF($B28=2,$CK28,0)","v":{"v":0,"d":"0.00"}},{"$f":"IF($B28=3,$CK28,0)","v":{"v":0,"d":"0.00"}},{"$f":"IF($B28=4,$CK28,0)","v":{"v":0,"d":"0.00"}},{"$f":"IF($B28=5,$CK28,0)","v":{"v":0,"d":"0.00"}},{"$f":"IF($B28=6,$CK28,0)","v":{"v":0,"d":"0.00"}}]
[{"$f":"IF(C28<>C29,C29,\"\")","v":""},{"$f":"IF(C28<>C29,_xlfn.DAYS(C29,C28)+B28,B28)","v":1},{"$f":"IF(D29>0,IF(D29<E28,C28+1,C28),C28)","v":"2009-02-16"},{"$f":"IF((E29+H29+P29+X29+AF29+AN29+AV29+BD29+BL29+BT29+CB29+CJ29)>0,E28,0)","v":"00:00:00"},null,{"$f":"E29-D29","v":"00:00:00"},{"$f":"IF(E29>0,HOUR(F29)+(MINUTE(F29)/60),0)","v":0},{"$f":"IF(H28>0,IF(P29+X29+AF29+AN29+AV29+BD29+BL29+BT29+CB29+CJ29=0,IF(E29>0,H28,0),0),0)","v":0},{"$f":"G29*H29","v":{"v":0,"d":"0.00"}},{"$f":"IF($B29=1,$I29,0)","v":{"v":0,"d":"0.00"}},{"$f":"IF($B29=2,$I29,0)","v":{"v":0,"d":"0.00"}},{"$f":"IF($B29=3,$I29,0)","v":{"v":0,"d":"0.00"}},{"$f":"IF($B29=4,$I29,0)","v":{"v":0,"d":"0.00"}},{"$f":"IF($B29=5,$I29,0)","v":{"v":0,"d":"0.00"}},{"$f":"IF($B29=6,$I29,0)","v":{"v":0,"d":"0.00"}},{"$f":"IF(P28>0,IF(H29+X29+AF29+AN29+AV29+BD29+BL29+BT29+CB29+CJ29=0,IF(E29>0,P28,0),0),0)","v":0},{"$f":"G29*P29","v":{"v":0,"d":"0.00"}},{"$f":"IF(B29=1,Q29,0)","v":{"v":0,"d":"0.00"}},{"$f":"IF(B29=2,Q29,0)","v":{"v":0,"d":"0.00"}},{"$f":"IF(B29=3,Q29,0)","v":{"v":0,"d":"0.00"}},{"$f":"IF(B29=4,Q29,0)","v":{"v":0,"d":"0.00"}},{"$f":"IF(B29=5,Q29,0)","v":{"v":0,"d":"0.00"}},{"$f":"IF(B29=6,Q29,0)","v":{"v":0,"d":"0.00"}},{"$f":"IF(X28>0,IF(H29+P29+AF29+AN29+AV29+BD29+BL29+BT29+CB29+CJ29=0,IF(E29>0,X28,0),0),0)","v":0},{"$f":"G29*X29","v":{"v":0,"d":"0.00"}},{"$f":"IF($B29=1,$Y29,0)","v":{"v":0,"d":"0.00"}},{"$f":"IF($B29=2,$Y29,0)","v":{"v":0,"d":"0.00"}},{"$f":"IF($B29=3,$Y29,0)","v":{"v":0,"d":"0.00"}},{"$f":"IF($B29=4,$Y29,0)","v":{"v":0,"d":"0.00"}},{"$f":"IF($B29=5,$Y29,0)","v":{"v":0,"d":"0.00"}},{"$f":"IF($B29=6,$Y29,0)","v":{"v":0,"d":"0.00"}},{"$f":"IF(AF28>0,IF(H29+P29+X29+AN29+AV29+BD29+BL29+BT29+CB29+CJ29=0,IF(E29>0,AF28,0),0),0)","v":0},{"$f":"G29*AF29","v":{"v":0,"d":"0.00"}},{"$f":"IF($B29=1,$AG29,0)","v":{"v":0,"d":"0.00"}},{"$f":"IF($B29=2,$AG29,0)","v":{"v":0,"d":"0.00"}},{"$f":"IF($B29=3,$AG29,0)","v":{"v":0,"d":"0.00"}},{"$f":"IF($B29=4,$AG29,0)","v":{"v":0,"d":"0.00"}},{"$f":"IF($B29=5,$AG29,0)","v":{"v":0,"d":"0.00"}},{"$f":"IF($B29=6,$AG29,0)","v":{"v":0,"d":"0.00"}},{"$f":"IF(AN28>0,IF(H29+P29+X29+AF29+AV29+BD29+BL29+BT29+CB29+CJ29=0,IF(E29>0,AN28,0),0),0)","v":0},{"$f":"G29*AN29","v":{"v":0,"d":"0.00"}},{"$f":"IF($B29=1,$AO29,0)","v":{"v":0,"d":"0.00"}},{"$f":"IF($B29=2,$AO29,0)","v":{"v":0,"d":"0.00"}},{"$f":"IF($B29=3,$AO29,0)","v":{"v":0,"d":"0.00"}},{"$f":"IF($B29=4,$AO29,0)","v":{"v":0,"d":"0.00"}},{"$f":"IF($B29=5,$AO29,0)","v":{"v":0,"d":"0.00"}},{"$f":"IF($B29=6,$AO29,0)","v":{"v":0,"d":"0.00"}},{"$f":"IF(AV28>0,IF(H29+P29+X29+AF29+AN29+BD29+BL29+BT29+CB29+CJ29=0,IF(E29>0,AV28,0),0),0)","v":0},{"$f":"G29*AV29","v":{"v":0,"d":"0.00"}},{"$f":"IF($B29=1,$AW29,0)","v":{"v":0,"d":"0.00"}},{"$f":"IF($B29=2,$AW29,0)","v":{"v":0,"d":"0.00"}},{"$f":"IF($B29=3,$AW29,0)","v":{"v":0,"d":"0.00"}},{"$f":"IF($B29=4,$AW29,0)","v":{"v":0,"d":"0.00"}},{"$f":"IF($B29=5,$AW29,0)","v":{"v":0,"d":"0.00"}},{"$f":"IF($B29=6,$AW29,0)","v":{"v":0,"d":"0.00"}},{"$f":"IF(BD28>0,IF(H29+P29+X29+AF29+AN29+AV29+BL29+BT29+CB29+CJ29=0,IF(E29>0,BD28,0),0),0)","v":0},{"$f":"G29*BD29","v":{"v":0,"d":"0.00"}},{"$f":"IF($B29=1,$BE29,0)","v":{"v":0,"d":"0.00"}},{"$f":"IF($B29=2,$BE29,0)","v":{"v":0,"d":"0.00"}},{"$f":"IF($B29=3,$BE29,0)","v":{"v":0,"d":"0.00"}},{"$f":"IF($B29=4,$BE29,0)","v":{"v":0,"d":"0.00"}},{"$f":"IF($B29=5,$BE29,0)","v":{"v":0,"d":"0.00"}},{"$f":"IF($B29=6,$BE29,0)","v":{"v":0,"d":"0.00"}},{"$f":"IF(BL28>0,IF(H29+P29+X29+AF29+AN29+AV29+BD29+BT29+CB29+CJ29=0,IF(E29>0,BL28,0),0),0)","v":0},{"$f":"G29*BL29","v":{"v":0,"d":"0.00"}},{"$f":"IF($B29=1,$BM29,0)","v":{"v":0,"d":"0.00"}},{"$f":"IF($B29=2,$BM29,0)","v":{"v":0,"d":"0.00"}},{"$f":"IF($B29=3,$BM29,0)","v":{"v":0,"d":"0.00"}},{"$f":"IF($B29=4,$BM29,0)","v":{"v":0,"d":"0.00"}},{"$f":"IF($B29=5,$BM29,0)","v":{"v":0,"d":"0.00"}},{"$f":"IF($B29=6,$BM29,0)","v":{"v":0,"d":"0.00"}},{"$f":"IF(BT28>0,IF(H29+P29+X29+AF29+AN29+AV29+BD29+BL29+CB29+CJ29=0,IF(E29>0,BT28,0),0),0)","v":0},{"$f":"G29*BT29","v":{"v":0,"d":"0.00"}},{"$f":"IF($B29=1,$BU29,0)","v":{"v":0,"d":"0.00"}},{"$f":"IF($B29=2,$BU29,0)","v":{"v":0,"d":"0.00"}},{"$f":"IF($B29=3,$BU29,0)","v":{"v":0,"d":"0.00"}},{"$f":"IF($B29=4,$BU29,0)","v":{"v":0,"d":"0.00"}},{"$f":"IF($B29=5,$BU29,0)","v":{"v":0,"d":"0.00"}},{"$f":"IF($B29=6,$BU29,0)","v":{"v":0,"d":"0.00"}},{"$f":"IF(CB28>0,IF(H29+P29+X29+AF29+AN29+AV29+BD29+BL29+BT29+CJ29=0,IF(E29>0,CB28,0),0),0)","v":0},{"$f":"G29*CB29","v":{"v":0,"d":"0.00"}},{"$f":"IF($B29=1,$CC29,0)","v":{"v":0,"d":"0.00"}},{"$f":"IF($B29=2,$CC29,0)","v":{"v":0,"d":"0.00"}},{"$f":"IF($B29=3,$CC29,0)","v":{"v":0,"d":"0.00"}},{"$f":"IF($B29=4,$CC29,0)","v":{"v":0,"d":"0.00"}},{"$f":"IF($B29=5,$CC29,0)","v":{"v":0,"d":"0.00"}},{"$f":"IF($B29=6,$CC29,0)","v":{"v":0,"d":"0.00"}},{"$f":"IF(CJ28>0,IF(H29+P29+X29+AF29+AN29+AV29+BD29+BL29+BT29+CB29=0,IF(E29>0,CJ28,0),0),0)","v":0},{"$f":"G29*CJ29","v":{"v":0,"d":"0.00"}},{"$f":"IF($B29=1,$CK29,0)","v":{"v":0,"d":"0.00"}},{"$f":"IF($B29=2,$CK29,0)","v":{"v":0,"d":"0.00"}},{"$f":"IF($B29=3,$CK29,0)","v":{"v":0,"d":"0.00"}},{"$f":"IF($B29=4,$CK29,0)","v":{"v":0,"d":"0.00"}},{"$f":"IF($B29=5,$CK29,0)","v":{"v":0,"d":"0.00"}},{"$f":"IF($B29=6,$CK29,0)","v":{"v":0,"d":"0.00"}}]
[{"$f":"IF(C29<>C30,C30,\"\")","v":""},{"$f":"IF(C29<>C30,_xlfn.DAYS(C30,C29)+B29,B29)","v":1},{"$f":"IF(D30>0,IF(D30<E29,C29+1,C29),C29)","v":"2009-02-16"},{"$f":"IF((E30+H30+P30+X30+AF30+AN30+AV30+BD30+BL30+BT30+CB30+CJ30)>0,E29,0)","v":"00:00:00"},null,{"$f":"E30-D30","v":"00:00:00"},{"$f":"IF(E30>0,HOUR(F30)+(MINUTE(F30)/60),0)","v":0},{"$f":"IF(H29>0,IF(P30+X30+AF30+AN30+AV30+BD30+BL30+BT30+CB30+CJ30=0,IF(E30>0,H29,0),0),0)","v":0},{"$f":"G30*H30","v":{"v":0,"d":"0.00"}},{"$f":"IF($B30=1,$I30,0)","v":{"v":0,"d":"0.00"}},{"$f":"IF($B30=2,$I30,0)","v":{"v":0,"d":"0.00"}},{"$f":"IF($B30=3,$I30,0)","v":{"v":0,"d":"0.00"}},{"$f":"IF($B30=4,$I30,0)","v":{"v":0,"d":"0.00"}},{"$f":"IF($B30=5,$I30,0)","v":{"v":0,"d":"0.00"}},{"$f":"IF($B30=6,$I30,0)","v":{"v":0,"d":"0.00"}},{"$f":"IF(P29>0,IF(H30+X30+AF30+AN30+AV30+BD30+BL30+BT30+CB30+CJ30=0,IF(E30>0,P29,0),0),0)","v":0},{"$f":"G30*P30","v":{"v":0,"d":"0.00"}},{"$f":"IF(B30=1,Q30,0)","v":{"v":0,"d":"0.00"}},{"$f":"IF(B30=2,Q30,0)","v":{"v":0,"d":"0.00"}},{"$f":"IF(B30=3,Q30,0)","v":{"v":0,"d":"0.00"}},{"$f":"IF(B30=4,Q30,0)","v":{"v":0,"d":"0.00"}},{"$f":"IF(B30=5,Q30,0)","v":{"v":0,"d":"0.00"}},{"$f":"IF(B30=6,Q30,0)","v":{"v":0,"d":"0.00"}},{"$f":"IF(X29>0,IF(H30+P30+AF30+AN30+AV30+BD30+BL30+BT30+CB30+CJ30=0,IF(E30>0,X29,0),0),0)","v":0},{"$f":"G30*X30","v":{"v":0,"d":"0.00"}},{"$f":"IF($B30=1,$Y30,0)","v":{"v":0,"d":"0.00"}},{"$f":"IF($B30=2,$Y30,0)","v":{"v":0,"d":"0.00"}},{"$f":"IF($B30=3,$Y30,0)","v":{"v":0,"d":"0.00"}},{"$f":"IF($B30=4,$Y30,0)","v":{"v":0,"d":"0.00"}},{"$f":"IF($B30=5,$Y30,0)","v":{"v":0,"d":"0.00"}},{"$f":"IF($B30=6,$Y30,0)","v":{"v":0,"d":"0.00"}},{"$f":"IF(AF29>0,IF(H30+P30+X30+AN30+AV30+BD30+BL30+BT30+CB30+CJ30=0,IF(E30>0,AF29,0),0),0)","v":0},{"$f":"G30*AF30","v":{"v":0,"d":"0.00"}},{"$f":"IF($B30=1,$AG30,0)","v":{"v":0,"d":"0.00"}},{"$f":"IF($B30=2,$AG30,0)","v":{"v":0,"d":"0.00"}},{"$f":"IF($B30=3,$AG30,0)","v":{"v":0,"d":"0.00"}},{"$f":"IF($B30=4,$AG30,0)","v":{"v":0,"d":"0.00"}},{"$f":"IF($B30=5,$AG30,0)","v":{"v":0,"d":"0.00"}},{"$f":"IF($B30=6,$AG30,0)","v":{"v":0,"d":"0.00"}},{"$f":"IF(AN29>0,IF(H30+P30+X30+AF30+AV30+BD30+BL30+BT30+CB30+CJ30=0,IF(E30>0,AN29,0),0),0)","v":0},{"$f":"G30*AN30","v":{"v":0,"d":"0.00"}},{"$f":"IF($B30=1,$AO30,0)","v":{"v":0,"d":"0.00"}},{"$f":"IF($B30=2,$AO30,0)","v":{"v":0,"d":"0.00"}},{"$f":"IF($B30=3,$AO30,0)","v":{"v":0,"d":"0.00"}},{"$f":"IF($B30=4,$AO30,0)","v":{"v":0,"d":"0.00"}},{"$f":"IF($B30=5,$AO30,0)","v":{"v":0,"d":"0.00"}},{"$f":"IF($B30=6,$AO30,0)","v":{"v":0,"d":"0.00"}},{"$f":"IF(AV29>0,IF(H30+P30+X30+AF30+AN30+BD30+BL30+BT30+CB30+CJ30=0,IF(E30>0,AV29,0),0),0)","v":0},{"$f":"G30*AV30","v":{"v":0,"d":"0.00"}},{"$f":"IF($B30=1,$AW30,0)","v":{"v":0,"d":"0.00"}},{"$f":"IF($B30=2,$AW30,0)","v":{"v":0,"d":"0.00"}},{"$f":"IF($B30=3,$AW30,0)","v":{"v":0,"d":"0.00"}},{"$f":"IF($B30=4,$AW30,0)","v":{"v":0,"d":"0.00"}},{"$f":"IF($B30=5,$AW30,0)","v":{"v":0,"d":"0.00"}},{"$f":"IF($B30=6,$AW30,0)","v":{"v":0,"d":"0.00"}},{"$f":"IF(BD29>0,IF(H30+P30+X30+AF30+AN30+AV30+BL30+BT30+CB30+CJ30=0,IF(E30>0,BD29,0),0),0)","v":0},{"$f":"G30*BD30","v":{"v":0,"d":"0.00"}},{"$f":"IF($B30=1,$BE30,0)","v":{"v":0,"d":"0.00"}},{"$f":"IF($B30=2,$BE30,0)","v":{"v":0,"d":"0.00"}},{"$f":"IF($B30=3,$BE30,0)","v":{"v":0,"d":"0.00"}},{"$f":"IF($B30=4,$BE30,0)","v":{"v":0,"d":"0.00"}},{"$f":"IF($B30=5,$BE30,0)","v":{"v":0,"d":"0.00"}},{"$f":"IF($B30=6,$BE30,0)","v":{"v":0,"d":"0.00"}},{"$f":"IF(BL29>0,IF(H30+P30+X30+AF30+AN30+AV30+BD30+BT30+CB30+CJ30=0,IF(E30>0,BL29,0),0),0)","v":0},{"$f":"G30*BL30","v":{"v":0,"d":"0.00"}},{"$f":"IF($B30=1,$BM30,0)","v":{"v":0,"d":"0.00"}},{"$f":"IF($B30=2,$BM30,0)","v":{"v":0,"d":"0.00"}},{"$f":"IF($B30=3,$BM30,0)","v":{"v":0,"d":"0.00"}},{"$f":"IF($B30=4,$BM30,0)","v":{"v":0,"d":"0.00"}},{"$f":"IF($B30=5,$BM30,0)","v":{"v":0,"d":"0.00"}},{"$f":"IF($B30=6,$BM30,0)","v":{"v":0,"d":"0.00"}},{"$f":"IF(BT29>0,IF(H30+P30+X30+AF30+AN30+AV30+BD30+BL30+CB30+CJ30=0,IF(E30>0,BT29,0),0),0)","v":0},{"$f":"G30*BT30","v":{"v":0,"d":"0.00"}},{"$f":"IF($B30=1,$BU30,0)","v":{"v":0,"d":"0.00"}},{"$f":"IF($B30=2,$BU30,0)","v":{"v":0,"d":"0.00"}},{"$f":"IF($B30=3,$BU30,0)","v":{"v":0,"d":"0.00"}},{"$f":"IF($B30=4,$BU30,0)","v":{"v":0,"d":"0.00"}},{"$f":"IF($B30=5,$BU30,0)","v":{"v":0,"d":"0.00"}},{"$f":"IF($B30=6,$BU30,0)","v":{"v":0,"d":"0.00"}},{"$f":"IF(CB29>0,IF(H30+P30+X30+AF30+AN30+AV30+BD30+BL30+BT30+CJ30=0,IF(E30>0,CB29,0),0),0)","v":0},{"$f":"G30*CB30","v":{"v":0,"d":"0.00"}},{"$f":"IF($B30=1,$CC30,0)","v":{"v":0,"d":"0.00"}},{"$f":"IF($B30=2,$CC30,0)","v":{"v":0,"d":"0.00"}},{"$f":"IF($B30=3,$CC30,0)","v":{"v":0,"d":"0.00"}},{"$f":"IF($B30=4,$CC30,0)","v":{"v":0,"d":"0.00"}},{"$f":"IF($B30=5,$CC30,0)","v":{"v":0,"d":"0.00"}},{"$f":"IF($B30=6,$CC30,0)","v":{"v":0,"d":"0.00"}},{"$f":"IF(CJ29>0,IF(H30+P30+X30+AF30+AN30+AV30+BD30+BL30+BT30+CB30=0,IF(E30>0,CJ29,0),0),0)","v":0},{"$f":"G30*CJ30","v":{"v":0,"d":"0.00"}},{"$f":"IF($B30=1,$CK30,0)","v":{"v":0,"d":"0.00"}},{"$f":"IF($B30=2,$CK30,0)","v":{"v":0,"d":"0.00"}},{"$f":"IF($B30=3,$CK30,0)","v":{"v":0,"d":"0.00"}},{"$f":"IF($B30=4,$CK30,0)","v":{"v":0,"d":"0.00"}},{"$f":"IF($B30=5,$CK30,0)","v":{"v":0,"d":"0.00"}},{"$f":"IF($B30=6,$CK30,0)","v":{"v":0,"d":"0.00"}}]
[{"$f":"IF(C30<>C31,C31,\"\")","v":""},{"$f":"IF(C30<>C31,_xlfn.DAYS(C31,C30)+B30,B30)","v":1},{"$f":"IF(D31>0,IF(D31<E30,C30+1,C30),C30)","v":"2009-02-16"},{"$f":"IF((E31+H31+P31+X31+AF31+AN31+AV31+BD31+BL31+BT31+CB31+CJ31)>0,E30,0)","v":"00:00:00"},null,{"$f":"E31-D31","v":"00:00:00"},{"$f":"IF(E31>0,HOUR(F31)+(MINUTE(F31)/60),0)","v":0},{"$f":"IF(H30>0,IF(P31+X31+AF31+AN31+AV31+BD31+BL31+BT31+CB31+CJ31=0,IF(E31>0,H30,0),0),0)","v":0},{"$f":"G31*H31","v":{"v":0,"d":"0.00"}},{"$f":"IF($B31=1,$I31,0)","v":{"v":0,"d":"0.00"}},{"$f":"IF($B31=2,$I31,0)","v":{"v":0,"d":"0.00"}},{"$f":"IF($B31=3,$I31,0)","v":{"v":0,"d":"0.00"}},{"$f":"IF($B31=4,$I31,0)","v":{"v":0,"d":"0.00"}},{"$f":"IF($B31=5,$I31,0)","v":{"v":0,"d":"0.00"}},{"$f":"IF($B31=6,$I31,0)","v":{"v":0,"d":"0.00"}},{"$f":"IF(P30>0,IF(H31+X31+AF31+AN31+AV31+BD31+BL31+BT31+CB31+CJ31=0,IF(E31>0,P30,0),0),0)","v":0},{"$f":"G31*P31","v":{"v":0,"d":"0.00"}},{"$f":"IF(B31=1,Q31,0)","v":{"v":0,"d":"0.00"}},{"$f":"IF(B31=2,Q31,0)","v":{"v":0,"d":"0.00"}},{"$f":"IF(B31=3,Q31,0)","v":{"v":0,"d":"0.00"}},{"$f":"IF(B31=4,Q31,0)","v":{"v":0,"d":"0.00"}},{"$f":"IF(B31=5,Q31,0)","v":{"v":0,"d":"0.00"}},{"$f":"IF(B31=6,Q31,0)","v":{"v":0,"d":"0.00"}},{"$f":"IF(X30>0,IF(H31+P31+AF31+AN31+AV31+BD31+BL31+BT31+CB31+CJ31=0,IF(E31>0,X30,0),0),0)","v":0},{"$f":"G31*X31","v":{"v":0,"d":"0.00"}},{"$f":"IF($B31=1,$Y31,0)","v":{"v":0,"d":"0.00"}},{"$f":"IF($B31=2,$Y31,0)","v":{"v":0,"d":"0.00"}},{"$f":"IF($B31=3,$Y31,0)","v":{"v":0,"d":"0.00"}},{"$f":"IF($B31=4,$Y31,0)","v":{"v":0,"d":"0.00"}},{"$f":"IF($B31=5,$Y31,0)","v":{"v":0,"d":"0.00"}},{"$f":"IF($B31=6,$Y31,0)","v":{"v":0,"d":"0.00"}},{"$f":"IF(AF30>0,IF(H31+P31+X31+AN31+AV31+BD31+BL31+BT31+CB31+CJ31=0,IF(E31>0,AF30,0),0),0)","v":0},{"$f":"G31*AF31","v":{"v":0,"d":"0.00"}},{"$f":"IF($B31=1,$AG31,0)","v":{"v":0,"d":"0.00"}},{"$f":"IF($B31=2,$AG31,0)","v":{"v":0,"d":"0.00"}},{"$f":"IF($B31=3,$AG31,0)","v":{"v":0,"d":"0.00"}},{"$f":"IF($B31=4,$AG31,0)","v":{"v":0,"d":"0.00"}},{"$f":"IF($B31=5,$AG31,0)","v":{"v":0,"d":"0.00"}},{"$f":"IF($B31=6,$AG31,0)","v":{"v":0,"d":"0.00"}},{"$f":"IF(AN30>0,IF(H31+P31+X31+AF31+AV31+BD31+BL31+BT31+CB31+CJ31=0,IF(E31>0,AN30,0),0),0)","v":0},{"$f":"G31*AN31","v":{"v":0,"d":"0.00"}},{"$f":"IF($B31=1,$AO31,0)","v":{"v":0,"d":"0.00"}},{"$f":"IF($B31=2,$AO31,0)","v":{"v":0,"d":"0.00"}},{"$f":"IF($B31=3,$AO31,0)","v":{"v":0,"d":"0.00"}},{"$f":"IF($B31=4,$AO31,0)","v":{"v":0,"d":"0.00"}},{"$f":"IF($B31=5,$AO31,0)","v":{"v":0,"d":"0.00"}},{"$f":"IF($B31=6,$AO31,0)","v":{"v":0,"d":"0.00"}},{"$f":"IF(AV30>0,IF(H31+P31+X31+AF31+AN31+BD31+BL31+BT31+CB31+CJ31=0,IF(E31>0,AV30,0),0),0)","v":0},{"$f":"G31*AV31","v":{"v":0,"d":"0.00"}},{"$f":"IF($B31=1,$AW31,0)","v":{"v":0,"d":"0.00"}},{"$f":"IF($B31=2,$AW31,0)","v":{"v":0,"d":"0.00"}},{"$f":"IF($B31=3,$AW31,0)","v":{"v":0,"d":"0.00"}},{"$f":"IF($B31=4,$AW31,0)","v":{"v":0,"d":"0.00"}},{"$f":"IF($B31=5,$AW31,0)","v":{"v":0,"d":"0.00"}},{"$f":"IF($B31=6,$AW31,0)","v":{"v":0,"d":"0.00"}},{"$f":"IF(BD30>0,IF(H31+P31+X31+AF31+AN31+AV31+BL31+BT31+CB31+CJ31=0,IF(E31>0,BD30,0),0),0)","v":0},{"$f":"G31*BD31","v":{"v":0,"d":"0.00"}},{"$f":"IF($B31=1,$BE31,0)","v":{"v":0,"d":"0.00"}},{"$f":"IF($B31=2,$BE31,0)","v":{"v":0,"d":"0.00"}},{"$f":"IF($B31=3,$BE31,0)","v":{"v":0,"d":"0.00"}},{"$f":"IF($B31=4,$BE31,0)","v":{"v":0,"d":"0.00"}},{"$f":"IF($B31=5,$BE31,0)","v":{"v":0,"d":"0.00"}},{"$f":"IF($B31=6,$BE31,0)","v":{"v":0,"d":"0.00"}},{"$f":"IF(BL30>0,IF(H31+P31+X31+AF31+AN31+AV31+BD31+BT31+CB31+CJ31=0,IF(E31>0,BL30,0),0),0)","v":0},{"$f":"G31*BL31","v":{"v":0,"d":"0.00"}},{"$f":"IF($B31=1,$BM31,0)","v":{"v":0,"d":"0.00"}},{"$f":"IF($B31=2,$BM31,0)","v":{"v":0,"d":"0.00"}},{"$f":"IF($B31=3,$BM31,0)","v":{"v":0,"d":"0.00"}},{"$f":"IF($B31=4,$BM31,0)","v":{"v":0,"d":"0.00"}},{"$f":"IF($B31=5,$BM31,0)","v":{"v":0,"d":"0.00"}},{"$f":"IF($B31=6,$BM31,0)","v":{"v":0,"d":"0.00"}},{"$f":"IF(BT30>0,IF(H31+P31+X31+AF31+AN31+AV31+BD31+BL31+CB31+CJ31=0,IF(E31>0,BT30,0),0),0)","v":0},{"$f":"G31*BT31","v":{"v":0,"d":"0.00"}},{"$f":"IF($B31=1,$BU31,0)","v":{"v":0,"d":"0.00"}},{"$f":"IF($B31=2,$BU31,0)","v":{"v":0,"d":"0.00"}},{"$f":"IF($B31=3,$BU31,0)","v":{"v":0,"d":"0.00"}},{"$f":"IF($B31=4,$BU31,0)","v":{"v":0,"d":"0.00"}},{"$f":"IF($B31=5,$BU31,0)","v":{"v":0,"d":"0.00"}},{"$f":"IF($B31=6,$BU31,0)","v":{"v":0,"d":"0.00"}},{"$f":"IF(CB30>0,IF(H31+P31+X31+AF31+AN31+AV31+BD31+BL31+BT31+CJ31=0,IF(E31>0,CB30,0),0),0)","v":0},{"$f":"G31*CB31","v":{"v":0,"d":"0.00"}},{"$f":"IF($B31=1,$CC31,0)","v":{"v":0,"d":"0.00"}},{"$f":"IF($B31=2,$CC31,0)","v":{"v":0,"d":"0.00"}},{"$f":"IF($B31=3,$CC31,0)","v":{"v":0,"d":"0.00"}},{"$f":"IF($B31=4,$CC31,0)","v":{"v":0,"d":"0.00"}},{"$f":"IF($B31=5,$CC31,0)","v":{"v":0,"d":"0.00"}},{"$f":"IF($B31=6,$CC31,0)","v":{"v":0,"d":"0.00"}},{"$f":"IF(CJ30>0,IF(H31+P31+X31+AF31+AN31+AV31+BD31+BL31+BT31+CB31=0,IF(E31>0,CJ30,0),0),0)","v":0},{"$f":"G31*CJ31","v":{"v":0,"d":"0.00"}},{"$f":"IF($B31=1,$CK31,0)","v":{"v":0,"d":"0.00"}},{"$f":"IF($B31=2,$CK31,0)","v":{"v":0,"d":"0.00"}},{"$f":"IF($B31=3,$CK31,0)","v":{"v":0,"d":"0.00"}},{"$f":"IF($B31=4,$CK31,0)","v":{"v":0,"d":"0.00"}},{"$f":"IF($B31=5,$CK31,0)","v":{"v":0,"d":"0.00"}},{"$f":"IF($B31=6,$CK31,0)","v":{"v":0,"d":"0.00"}}]
[{"$f":"IF(C31<>C32,C32,\"\")","v":""},{"$f":"IF(C31<>C32,_xlfn.DAYS(C32,C31)+B31,B31)","v":1},{"$f":"IF(D32>0,IF(D32<E31,C31+1,C31),C31)","v":"2009-02-16"},{"$f":"IF((E32+H32+P32+X32+AF32+AN32+AV32+BD32+BL32+BT32+CB32+CJ32)>0,E31,0)","v":"00:00:00"},null,{"$f":"E32-D32","v":"00:00:00"},{"$f":"IF(E32>0,HOUR(F32)+(MINUTE(F32)/60),0)","v":0},{"$f":"IF(H31>0,IF(P32+X32+AF32+AN32+AV32+BD32+BL32+BT32+CB32+CJ32=0,IF(E32>0,H31,0),0),0)","v":0},{"$f":"G32*H32","v":{"v":0,"d":"0.00"}},{"$f":"IF($B32=1,$I32,0)","v":{"v":0,"d":"0.00"}},{"$f":"IF($B32=2,$I32,0)","v":{"v":0,"d":"0.00"}},{"$f":"IF($B32=3,$I32,0)","v":{"v":0,"d":"0.00"}},{"$f":"IF($B32=4,$I32,0)","v":{"v":0,"d":"0.00"}},{"$f":"IF($B32=5,$I32,0)","v":{"v":0,"d":"0.00"}},{"$f":"IF($B32=6,$I32,0)","v":{"v":0,"d":"0.00"}},{"$f":"IF(P31>0,IF(H32+X32+AF32+AN32+AV32+BD32+BL32+BT32+CB32+CJ32=0,IF(E32>0,P31,0),0),0)","v":0},{"$f":"G32*P32","v":{"v":0,"d":"0.00"}},{"$f":"IF(B32=1,Q32,0)","v":{"v":0,"d":"0.00"}},{"$f":"IF(B32=2,Q32,0)","v":{"v":0,"d":"0.00"}},{"$f":"IF(B32=3,Q32,0)","v":{"v":0,"d":"0.00"}},{"$f":"IF(B32=4,Q32,0)","v":{"v":0,"d":"0.00"}},{"$f":"IF(B32=5,Q32,0)","v":{"v":0,"d":"0.00"}},{"$f":"IF(B32=6,Q32,0)","v":{"v":0,"d":"0.00"}},{"$f":"IF(X31>0,IF(H32+P32+AF32+AN32+AV32+BD32+BL32+BT32+CB32+CJ32=0,IF(E32>0,X31,0),0),0)","v":0},{"$f":"G32*X32","v":{"v":0,"d":"0.00"}},{"$f":"IF($B32=1,$Y32,0)","v":{"v":0,"d":"0.00"}},{"$f":"IF($B32=2,$Y32,0)","v":{"v":0,"d":"0.00"}},{"$f":"IF($B32=3,$Y32,0)","v":{"v":0,"d":"0.00"}},{"$f":"IF($B32=4,$Y32,0)","v":{"v":0,"d":"0.00"}},{"$f":"IF($B32=5,$Y32,0)","v":{"v":0,"d":"0.00"}},{"$f":"IF($B32=6,$Y32,0)","v":{"v":0,"d":"0.00"}},{"$f":"IF(AF31>0,IF(H32+P32+X32+AN32+AV32+BD32+BL32+BT32+CB32+CJ32=0,IF(E32>0,AF31,0),0),0)","v":0},{"$f":"G32*AF32","v":{"v":0,"d":"0.00"}},{"$f":"IF($B32=1,$AG32,0)","v":{"v":0,"d":"0.00"}},{"$f":"IF($B32=2,$AG32,0)","v":{"v":0,"d":"0.00"}},{"$f":"IF($B32=3,$AG32,0)","v":{"v":0,"d":"0.00"}},{"$f":"IF($B32=4,$AG32,0)","v":{"v":0,"d":"0.00"}},{"$f":"IF($B32=5,$AG32,0)","v":{"v":0,"d":"0.00"}},{"$f":"IF($B32=6,$AG32,0)","v":{"v":0,"d":"0.00"}},{"$f":"IF(AN31>0,IF(H32+P32+X32+AF32+AV32+BD32+BL32+BT32+CB32+CJ32=0,IF(E32>0,AN31,0),0),0)","v":0},{"$f":"G32*AN32","v":{"v":0,"d":"0.00"}},{"$f":"IF($B32=1,$AO32,0)","v":{"v":0,"d":"0.00"}},{"$f":"IF($B32=2,$AO32,0)","v":{"v":0,"d":"0.00"}},{"$f":"IF($B32=3,$AO32,0)","v":{"v":0,"d":"0.00"}},{"$f":"IF($B32=4,$AO32,0)","v":{"v":0,"d":"0.00"}},{"$f":"IF($B32=5,$AO32,0)","v":{"v":0,"d":"0.00"}},{"$f":"IF($B32=6,$AO32,0)","v":{"v":0,"d":"0.00"}},{"$f":"IF(AV31>0,IF(H32+P32+X32+AF32+AN32+BD32+BL32+BT32+CB32+CJ32=0,IF(E32>0,AV31,0),0),0)","v":0},{"$f":"G32*AV32","v":{"v":0,"d":"0.00"}},{"$f":"IF($B32=1,$AW32,0)","v":{"v":0,"d":"0.00"}},{"$f":"IF($B32=2,$AW32,0)","v":{"v":0,"d":"0.00"}},{"$f":"IF($B32=3,$AW32,0)","v":{"v":0,"d":"0.00"}},{"$f":"IF($B32=4,$AW32,0)","v":{"v":0,"d":"0.00"}},{"$f":"IF($B32=5,$AW32,0)","v":{"v":0,"d":"0.00"}},{"$f":"IF($B32=6,$AW32,0)","v":{"v":0,"d":"0.00"}},{"$f":"IF(BD31>0,IF(H32+P32+X32+AF32+AN32+AV32+BL32+BT32+CB32+CJ32=0,IF(E32>0,BD31,0),0),0)","v":0},{"$f":"G32*BD32","v":{"v":0,"d":"0.00"}},{"$f":"IF($B32=1,$BE32,0)","v":{"v":0,"d":"0.00"}},{"$f":"IF($B32=2,$BE32,0)","v":{"v":0,"d":"0.00"}},{"$f":"IF($B32=3,$BE32,0)","v":{"v":0,"d":"0.00"}},{"$f":"IF($B32=4,$BE32,0)","v":{"v":0,"d":"0.00"}},{"$f":"IF($B32=5,$BE32,0)","v":{"v":0,"d":"0.00"}},{"$f":"IF($B32=6,$BE32,0)","v":{"v":0,"d":"0.00"}},{"$f":"IF(BL31>0,IF(H32+P32+X32+AF32+AN32+AV32+BD32+BT32+CB32+CJ32=0,IF(E32>0,BL31,0),0),0)","v":0},{"$f":"G32*BL32","v":{"v":0,"d":"0.00"}},{"$f":"IF($B32=1,$BM32,0)","v":{"v":0,"d":"0.00"}},{"$f":"IF($B32=2,$BM32,0)","v":{"v":0,"d":"0.00"}},{"$f":"IF($B32=3,$BM32,0)","v":{"v":0,"d":"0.00"}},{"$f":"IF($B32=4,$BM32,0)","v":{"v":0,"d":"0.00"}},{"$f":"IF($B32=5,$BM32,0)","v":{"v":0,"d":"0.00"}},{"$f":"IF($B32=6,$BM32,0)","v":{"v":0,"d":"0.00"}},{"$f":"IF(BT31>0,IF(H32+P32+X32+AF32+AN32+AV32+BD32+BL32+CB32+CJ32=0,IF(E32>0,BT31,0),0),0)","v":0},{"$f":"G32*BT32","v":{"v":0,"d":"0.00"}},{"$f":"IF($B32=1,$BU32,0)","v":{"v":0,"d":"0.00"}},{"$f":"IF($B32=2,$BU32,0)","v":{"v":0,"d":"0.00"}},{"$f":"IF($B32=3,$BU32,0)","v":{"v":0,"d":"0.00"}},{"$f":"IF($B32=4,$BU32,0)","v":{"v":0,"d":"0.00"}},{"$f":"IF($B32=5,$BU32,0)","v":{"v":0,"d":"0.00"}},{"$f":"IF($B32=6,$BU32,0)","v":{"v":0,"d":"0.00"}},{"$f":"IF(CB31>0,IF(H32+P32+X32+AF32+AN32+AV32+BD32+BL32+BT32+CJ32=0,IF(E32>0,CB31,0),0),0)","v":0},{"$f":"G32*CB32","v":{"v":0,"d":"0.00"}},{"$f":"IF($B32=1,$CC32,0)","v":{"v":0,"d":"0.00"}},{"$f":"IF($B32=2,$CC32,0)","v":{"v":0,"d":"0.00"}},{"$f":"IF($B32=3,$CC32,0)","v":{"v":0,"d":"0.00"}},{"$f":"IF($B32=4,$CC32,0)","v":{"v":0,"d":"0.00"}},{"$f":"IF($B32=5,$CC32,0)","v":{"v":0,"d":"0.00"}},{"$f":"IF($B32=6,$CC32,0)","v":{"v":0,"d":"0.00"}},{"$f":"IF(CJ31>0,IF(H32+P32+X32+AF32+AN32+AV32+BD32+BL32+BT32+CB32=0,IF(E32>0,CJ31,0),0),0)","v":0},{"$f":"G32*CJ32","v":{"v":0,"d":"0.00"}},{"$f":"IF($B32=1,$CK32,0)","v":{"v":0,"d":"0.00"}},{"$f":"IF($B32=2,$CK32,0)","v":{"v":0,"d":"0.00"}},{"$f":"IF($B32=3,$CK32,0)","v":{"v":0,"d":"0.00"}},{"$f":"IF($B32=4,$CK32,0)","v":{"v":0,"d":"0.00"}},{"$f":"IF($B32=5,$CK32,0)","v":{"v":0,"d":"0.00"}},{"$f":"IF($B32=6,$CK32,0)","v":{"v":0,"d":"0.00"}}]
[{"$f":"IF(C32<>C33,C33,\"\")","v":""},{"$f":"IF(C32<>C33,_xlfn.DAYS(C33,C32)+B32,B32)","v":1},{"$f":"IF(D33>0,IF(D33<E32,C32+1,C32),C32)","v":"2009-02-16"},{"$f":"IF((E33+H33+P33+X33+AF33+AN33+AV33+BD33+BL33+BT33+CB33+CJ33)>0,E32,0)","v":"00:00:00"},null,{"$f":"E33-D33","v":"00:00:00"},{"$f":"IF(E33>0,HOUR(F33)+(MINUTE(F33)/60),0)","v":0},{"$f":"IF(H32>0,IF(P33+X33+AF33+AN33+AV33+BD33+BL33+BT33+CB33+CJ33=0,IF(E33>0,H32,0),0),0)","v":0},{"$f":"G33*H33","v":{"v":0,"d":"0.00"}},{"$f":"IF($B33=1,$I33,0)","v":{"v":0,"d":"0.00"}},{"$f":"IF($B33=2,$I33,0)","v":{"v":0,"d":"0.00"}},{"$f":"IF($B33=3,$I33,0)","v":{"v":0,"d":"0.00"}},{"$f":"IF($B33=4,$I33,0)","v":{"v":0,"d":"0.00"}},{"$f":"IF($B33=5,$I33,0)","v":{"v":0,"d":"0.00"}},{"$f":"IF($B33=6,$I33,0)","v":{"v":0,"d":"0.00"}},{"$f":"IF(P32>0,IF(H33+X33+AF33+AN33+AV33+BD33+BL33+BT33+CB33+CJ33=0,IF(E33>0,P32,0),0),0)","v":0},{"$f":"G33*P33","v":{"v":0,"d":"0.00"}},{"$f":"IF(B33=1,Q33,0)","v":{"v":0,"d":"0.00"}},{"$f":"IF(B33=2,Q33,0)","v":{"v":0,"d":"0.00"}},{"$f":"IF(B33=3,Q33,0)","v":{"v":0,"d":"0.00"}},{"$f":"IF(B33=4,Q33,0)","v":{"v":0,"d":"0.00"}},{"$f":"IF(B33=5,Q33,0)","v":{"v":0,"d":"0.00"}},{"$f":"IF(B33=6,Q33,0)","v":{"v":0,"d":"0.00"}},{"$f":"IF(X32>0,IF(H33+P33+AF33+AN33+AV33+BD33+BL33+BT33+CB33+CJ33=0,IF(E33>0,X32,0),0),0)","v":0},{"$f":"G33*X33","v":{"v":0,"d":"0.00"}},{"$f":"IF($B33=1,$Y33,0)","v":{"v":0,"d":"0.00"}},{"$f":"IF($B33=2,$Y33,0)","v":{"v":0,"d":"0.00"}},{"$f":"IF($B33=3,$Y33,0)","v":{"v":0,"d":"0.00"}},{"$f":"IF($B33=4,$Y33,0)","v":{"v":0,"d":"0.00"}},{"$f":"IF($B33=5,$Y33,0)","v":{"v":0,"d":"0.00"}},{"$f":"IF($B33=6,$Y33,0)","v":{"v":0,"d":"0.00"}},{"$f":"IF(AF32>0,IF(H33+P33+X33+AN33+AV33+BD33+BL33+BT33+CB33+CJ33=0,IF(E33>0,AF32,0),0),0)","v":0},{"$f":"G33*AF33","v":{"v":0,"d":"0.00"}},{"$f":"IF($B33=1,$AG33,0)","v":{"v":0,"d":"0.00"}},{"$f":"IF($B33=2,$AG33,0)","v":{"v":0,"d":"0.00"}},{"$f":"IF($B33=3,$AG33,0)","v":{"v":0,"d":"0.00"}},{"$f":"IF($B33=4,$AG33,0)","v":{"v":0,"d":"0.00"}},{"$f":"IF($B33=5,$AG33,0)","v":{"v":0,"d":"0.00"}},{"$f":"IF($B33=6,$AG33,0)","v":{"v":0,"d":"0.00"}},{"$f":"IF(AN32>0,IF(H33+P33+X33+AF33+AV33+BD33+BL33+BT33+CB33+CJ33=0,IF(E33>0,AN32,0),0),0)","v":0},{"$f":"G33*AN33","v":{"v":0,"d":"0.00"}},{"$f":"IF($B33=1,$AO33,0)","v":{"v":0,"d":"0.00"}},{"$f":"IF($B33=2,$AO33,0)","v":{"v":0,"d":"0.00"}},{"$f":"IF($B33=3,$AO33,0)","v":{"v":0,"d":"0.00"}},{"$f":"IF($B33=4,$AO33,0)","v":{"v":0,"d":"0.00"}},{"$f":"IF($B33=5,$AO33,0)","v":{"v":0,"d":"0.00"}},{"$f":"IF($B33=6,$AO33,0)","v":{"v":0,"d":"0.00"}},{"$f":"IF(AV32>0,IF(H33+P33+X33+AF33+AN33+BD33+BL33+BT33+CB33+CJ33=0,IF(E33>0,AV32,0),0),0)","v":0},{"$f":"G33*AV33","v":{"v":0,"d":"0.00"}},{"$f":"IF($B33=1,$AW33,0)","v":{"v":0,"d":"0.00"}},{"$f":"IF($B33=2,$AW33,0)","v":{"v":0,"d":"0.00"}},{"$f":"IF($B33=3,$AW33,0)","v":{"v":0,"d":"0.00"}},{"$f":"IF($B33=4,$AW33,0)","v":{"v":0,"d":"0.00"}},{"$f":"IF($B33=5,$AW33,0)","v":{"v":0,"d":"0.00"}},{"$f":"IF($B33=6,$AW33,0)","v":{"v":0,"d":"0.00"}},{"$f":"IF(BD32>0,IF(H33+P33+X33+AF33+AN33+AV33+BL33+BT33+CB33+CJ33=0,IF(E33>0,BD32,0),0),0)","v":0},{"$f":"G33*BD33","v":{"v":0,"d":"0.00"}},{"$f":"IF($B33=1,$BE33,0)","v":{"v":0,"d":"0.00"}},{"$f":"IF($B33=2,$BE33,0)","v":{"v":0,"d":"0.00"}},{"$f":"IF($B33=3,$BE33,0)","v":{"v":0,"d":"0.00"}},{"$f":"IF($B33=4,$BE33,0)","v":{"v":0,"d":"0.00"}},{"$f":"IF($B33=5,$BE33,0)","v":{"v":0,"d":"0.00"}},{"$f":"IF($B33=6,$BE33,0)","v":{"v":0,"d":"0.00"}},{"$f":"IF(BL32>0,IF(H33+P33+X33+AF33+AN33+AV33+BD33+BT33+CB33+CJ33=0,IF(E33>0,BL32,0),0),0)","v":0},{"$f":"G33*BL33","v":{"v":0,"d":"0.00"}},{"$f":"IF($B33=1,$BM33,0)","v":{"v":0,"d":"0.00"}},{"$f":"IF($B33=2,$BM33,0)","v":{"v":0,"d":"0.00"}},{"$f":"IF($B33=3,$BM33,0)","v":{"v":0,"d":"0.00"}},{"$f":"IF($B33=4,$BM33,0)","v":{"v":0,"d":"0.00"}},{"$f":"IF($B33=5,$BM33,0)","v":{"v":0,"d":"0.00"}},{"$f":"IF($B33=6,$BM33,0)","v":{"v":0,"d":"0.00"}},{"$f":"IF(BT32>0,IF(H33+P33+X33+AF33+AN33+AV33+BD33+BL33+CB33+CJ33=0,IF(E33>0,BT32,0),0),0)","v":0},{"$f":"G33*BT33","v":{"v":0,"d":"0.00"}},{"$f":"IF($B33=1,$BU33,0)","v":{"v":0,"d":"0.00"}},{"$f":"IF($B33=2,$BU33,0)","v":{"v":0,"d":"0.00"}},{"$f":"IF($B33=3,$BU33,0)","v":{"v":0,"d":"0.00"}},{"$f":"IF($B33=4,$BU33,0)","v":{"v":0,"d":"0.00"}},{"$f":"IF($B33=5,$BU33,0)","v":{"v":0,"d":"0.00"}},{"$f":"IF($B33=6,$BU33,0)","v":{"v":0,"d":"0.00"}},{"$f":"IF(CB32>0,IF(H33+P33+X33+AF33+AN33+AV33+BD33+BL33+BT33+CJ33=0,IF(E33>0,CB32,0),0),0)","v":0},{"$f":"G33*CB33","v":{"v":0,"d":"0.00"}},{"$f":"IF($B33=1,$CC33,0)","v":{"v":0,"d":"0.00"}},{"$f":"IF($B33=2,$CC33,0)","v":{"v":0,"d":"0.00"}},{"$f":"IF($B33=3,$CC33,0)","v":{"v":0,"d":"0.00"}},{"$f":"IF($B33=4,$CC33,0)","v":{"v":0,"d":"0.00"}},{"$f":"IF($B33=5,$CC33,0)","v":{"v":0,"d":"0.00"}},{"$f":"IF($B33=6,$CC33,0)","v":{"v":0,"d":"0.00"}},{"$f":"IF(CJ32>0,IF(H33+P33+X33+AF33+AN33+AV33+BD33+BL33+BT33+CB33=0,IF(E33>0,CJ32,0),0),0)","v":0},{"$f":"G33*CJ33","v":{"v":0,"d":"0.00"}},{"$f":"IF($B33=1,$CK33,0)","v":{"v":0,"d":"0.00"}},{"$f":"IF($B33=2,$CK33,0)","v":{"v":0,"d":"0.00"}},{"$f":"IF($B33=3,$CK33,0)","v":{"v":0,"d":"0.00"}},{"$f":"IF($B33=4,$CK33,0)","v":{"v":0,"d":"0.00"}},{"$f":"IF($B33=5,$CK33,0)","v":{"v":0,"d":"0.00"}},{"$f":"IF($B33=6,$CK33,0)","v":{"v":0,"d":"0.00"}}]
[{"$f":"IF(C33<>C34,C34,\"\")","v":""},{"$f":"IF(C33<>C34,_xlfn.DAYS(C34,C33)+B33,B33)","v":1},{"$f":"IF(D34>0,IF(D34<E33,C33+1,C33),C33)","v":"2009-02-16"},{"$f":"IF((E34+H34+P34+X34+AF34+AN34+AV34+BD34+BL34+BT34+CB34+CJ34)>0,E33,0)","v":"00:00:00"},null,{"$f":"E34-D34","v":"00:00:00"},{"$f":"IF(E34>0,HOUR(F34)+(MINUTE(F34)/60),0)","v":0},{"$f":"IF(H33>0,IF(P34+X34+AF34+AN34+AV34+BD34+BL34+BT34+CB34+CJ34=0,IF(E34>0,H33,0),0),0)","v":0},{"$f":"G34*H34","v":{"v":0,"d":"0.00"}},{"$f":"IF($B34=1,$I34,0)","v":{"v":0,"d":"0.00"}},{"$f":"IF($B34=2,$I34,0)","v":{"v":0,"d":"0.00"}},{"$f":"IF($B34=3,$I34,0)","v":{"v":0,"d":"0.00"}},{"$f":"IF($B34=4,$I34,0)","v":{"v":0,"d":"0.00"}},{"$f":"IF($B34=5,$I34,0)","v":{"v":0,"d":"0.00"}},{"$f":"IF($B34=6,$I34,0)","v":{"v":0,"d":"0.00"}},{"$f":"IF(P33>0,IF(H34+X34+AF34+AN34+AV34+BD34+BL34+BT34+CB34+CJ34=0,IF(E34>0,P33,0),0),0)","v":0},{"$f":"G34*P34","v":{"v":0,"d":"0.00"}},{"$f":"IF(B34=1,Q34,0)","v":{"v":0,"d":"0.00"}},{"$f":"IF(B34=2,Q34,0)","v":{"v":0,"d":"0.00"}},{"$f":"IF(B34=3,Q34,0)","v":{"v":0,"d":"0.00"}},{"$f":"IF(B34=4,Q34,0)","v":{"v":0,"d":"0.00"}},{"$f":"IF(B34=5,Q34,0)","v":{"v":0,"d":"0.00"}},{"$f":"IF(B34=6,Q34,0)","v":{"v":0,"d":"0.00"}},{"$f":"IF(X33>0,IF(H34+P34+AF34+AN34+AV34+BD34+BL34+BT34+CB34+CJ34=0,IF(E34>0,X33,0),0),0)","v":0},{"$f":"G34*X34","v":{"v":0,"d":"0.00"}},{"$f":"IF($B34=1,$Y34,0)","v":{"v":0,"d":"0.00"}},{"$f":"IF($B34=2,$Y34,0)","v":{"v":0,"d":"0.00"}},{"$f":"IF($B34=3,$Y34,0)","v":{"v":0,"d":"0.00"}},{"$f":"IF($B34=4,$Y34,0)","v":{"v":0,"d":"0.00"}},{"$f":"IF($B34=5,$Y34,0)","v":{"v":0,"d":"0.00"}},{"$f":"IF($B34=6,$Y34,0)","v":{"v":0,"d":"0.00"}},{"$f":"IF(AF33>0,IF(H34+P34+X34+AN34+AV34+BD34+BL34+BT34+CB34+CJ34=0,IF(E34>0,AF33,0),0),0)","v":0},{"$f":"G34*AF34","v":{"v":0,"d":"0.00"}},{"$f":"IF($B34=1,$AG34,0)","v":{"v":0,"d":"0.00"}},{"$f":"IF($B34=2,$AG34,0)","v":{"v":0,"d":"0.00"}},{"$f":"IF($B34=3,$AG34,0)","v":{"v":0,"d":"0.00"}},{"$f":"IF($B34=4,$AG34,0)","v":{"v":0,"d":"0.00"}},{"$f":"IF($B34=5,$AG34,0)","v":{"v":0,"d":"0.00"}},{"$f":"IF($B34=6,$AG34,0)","v":{"v":0,"d":"0.00"}},{"$f":"IF(AN33>0,IF(H34+P34+X34+AF34+AV34+BD34+BL34+BT34+CB34+CJ34=0,IF(E34>0,AN33,0),0),0)","v":0},{"$f":"G34*AN34","v":{"v":0,"d":"0.00"}},{"$f":"IF($B34=1,$AO34,0)","v":{"v":0,"d":"0.00"}},{"$f":"IF($B34=2,$AO34,0)","v":{"v":0,"d":"0.00"}},{"$f":"IF($B34=3,$AO34,0)","v":{"v":0,"d":"0.00"}},{"$f":"IF($B34=4,$AO34,0)","v":{"v":0,"d":"0.00"}},{"$f":"IF($B34=5,$AO34,0)","v":{"v":0,"d":"0.00"}},{"$f":"IF($B34=6,$AO34,0)","v":{"v":0,"d":"0.00"}},{"$f":"IF(AV33>0,IF(H34+P34+X34+AF34+AN34+BD34+BL34+BT34+CB34+CJ34=0,IF(E34>0,AV33,0),0),0)","v":0},{"$f":"G34*AV34","v":{"v":0,"d":"0.00"}},{"$f":"IF($B34=1,$AW34,0)","v":{"v":0,"d":"0.00"}},{"$f":"IF($B34=2,$AW34,0)","v":{"v":0,"d":"0.00"}},{"$f":"IF($B34=3,$AW34,0)","v":{"v":0,"d":"0.00"}},{"$f":"IF($B34=4,$AW34,0)","v":{"v":0,"d":"0.00"}},{"$f":"IF($B34=5,$AW34,0)","v":{"v":0,"d":"0.00"}},{"$f":"IF($B34=6,$AW34,0)","v":{"v":0,"d":"0.00"}},{"$f":"IF(BD33>0,IF(H34+P34+X34+AF34+AN34+AV34+BL34+BT34+CB34+CJ34=0,IF(E34>0,BD33,0),0),0)","v":0},{"$f":"G34*BD34","v":{"v":0,"d":"0.00"}},{"$f":"IF($B34=1,$BE34,0)","v":{"v":0,"d":"0.00"}},{"$f":"IF($B34=2,$BE34,0)","v":{"v":0,"d":"0.00"}},{"$f":"IF($B34=3,$BE34,0)","v":{"v":0,"d":"0.00"}},{"$f":"IF($B34=4,$BE34,0)","v":{"v":0,"d":"0.00"}},{"$f":"IF($B34=5,$BE34,0)","v":{"v":0,"d":"0.00"}},{"$f":"IF($B34=6,$BE34,0)","v":{"v":0,"d":"0.00"}},{"$f":"IF(BL33>0,IF(H34+P34+X34+AF34+AN34+AV34+BD34+BT34+CB34+CJ34=0,IF(E34>0,BL33,0),0),0)","v":0},{"$f":"G34*BL34","v":{"v":0,"d":"0.00"}},{"$f":"IF($B34=1,$BM34,0)","v":{"v":0,"d":"0.00"}},{"$f":"IF($B34=2,$BM34,0)","v":{"v":0,"d":"0.00"}},{"$f":"IF($B34=3,$BM34,0)","v":{"v":0,"d":"0.00"}},{"$f":"IF($B34=4,$BM34,0)","v":{"v":0,"d":"0.00"}},{"$f":"IF($B34=5,$BM34,0)","v":{"v":0,"d":"0.00"}},{"$f":"IF($B34=6,$BM34,0)","v":{"v":0,"d":"0.00"}},{"$f":"IF(BT33>0,IF(H34+P34+X34+AF34+AN34+AV34+BD34+BL34+CB34+CJ34=0,IF(E34>0,BT33,0),0),0)","v":0},{"$f":"G34*BT34","v":{"v":0,"d":"0.00"}},{"$f":"IF($B34=1,$BU34,0)","v":{"v":0,"d":"0.00"}},{"$f":"IF($B34=2,$BU34,0)","v":{"v":0,"d":"0.00"}},{"$f":"IF($B34=3,$BU34,0)","v":{"v":0,"d":"0.00"}},{"$f":"IF($B34=4,$BU34,0)","v":{"v":0,"d":"0.00"}},{"$f":"IF($B34=5,$BU34,0)","v":{"v":0,"d":"0.00"}},{"$f":"IF($B34=6,$BU34,0)","v":{"v":0,"d":"0.00"}},{"$f":"IF(CB33>0,IF(H34+P34+X34+AF34+AN34+AV34+BD34+BL34+BT34+CJ34=0,IF(E34>0,CB33,0),0),0)","v":0},{"$f":"G34*CB34","v":{"v":0,"d":"0.00"}},{"$f":"IF($B34=1,$CC34,0)","v":{"v":0,"d":"0.00"}},{"$f":"IF($B34=2,$CC34,0)","v":{"v":0,"d":"0.00"}},{"$f":"IF($B34=3,$CC34,0)","v":{"v":0,"d":"0.00"}},{"$f":"IF($B34=4,$CC34,0)","v":{"v":0,"d":"0.00"}},{"$f":"IF($B34=5,$CC34,0)","v":{"v":0,"d":"0.00"}},{"$f":"IF($B34=6,$CC34,0)","v":{"v":0,"d":"0.00"}},{"$f":"IF(CJ33>0,IF(H34+P34+X34+AF34+AN34+AV34+BD34+BL34+BT34+CB34=0,IF(E34>0,CJ33,0),0),0)","v":0},{"$f":"G34*CJ34","v":{"v":0,"d":"0.00"}},{"$f":"IF($B34=1,$CK34,0)","v":{"v":0,"d":"0.00"}},{"$f":"IF($B34=2,$CK34,0)","v":{"v":0,"d":"0.00"}},{"$f":"IF($B34=3,$CK34,0)","v":{"v":0,"d":"0.00"}},{"$f":"IF($B34=4,$CK34,0)","v":{"v":0,"d":"0.00"}},{"$f":"IF($B34=5,$CK34,0)","v":{"v":0,"d":"0.00"}},{"$f":"IF($B34=6,$CK34,0)","v":{"v":0,"d":"0.00"}}]
[{"$f":"IF(C34<>C35,C35,\"\")","v":""},{"$f":"IF(C34<>C35,_xlfn.DAYS(C35,C34)+B34,B34)","v":1},{"$f":"IF(D35>0,IF(D35<E34,C34+1,C34),C34)","v":"2009-02-16"},{"$f":"IF((E35+H35+P35+X35+AF35+AN35+AV35+BD35+BL35+BT35+CB35+CJ35)>0,E34,0)","v":"00:00:00"},null,{"$f":"E35-D35","v":"00:00:00"},{"$f":"IF(E35>0,HOUR(F35)+(MINUTE(F35)/60),0)","v":0},{"$f":"IF(H34>0,IF(P35+X35+AF35+AN35+AV35+BD35+BL35+BT35+CB35+CJ35=0,IF(E35>0,H34,0),0),0)","v":0},{"$f":"G35*H35","v":{"v":0,"d":"0.00"}},{"$f":"IF($B35=1,$I35,0)","v":{"v":0,"d":"0.00"}},{"$f":"IF($B35=2,$I35,0)","v":{"v":0,"d":"0.00"}},{"$f":"IF($B35=3,$I35,0)","v":{"v":0,"d":"0.00"}},{"$f":"IF($B35=4,$I35,0)","v":{"v":0,"d":"0.00"}},{"$f":"IF($B35=5,$I35,0)","v":{"v":0,"d":"0.00"}},{"$f":"IF($B35=6,$I35,0)","v":{"v":0,"d":"0.00"}},{"$f":"IF(P34>0,IF(H35+X35+AF35+AN35+AV35+BD35+BL35+BT35+CB35+CJ35=0,IF(E35>0,P34,0),0),0)","v":0},{"$f":"G35*P35","v":{"v":0,"d":"0.00"}},{"$f":"IF(B35=1,Q35,0)","v":{"v":0,"d":"0.00"}},{"$f":"IF(B35=2,Q35,0)","v":{"v":0,"d":"0.00"}},{"$f":"IF(B35=3,Q35,0)","v":{"v":0,"d":"0.00"}},{"$f":"IF(B35=4,Q35,0)","v":{"v":0,"d":"0.00"}},{"$f":"IF(B35=5,Q35,0)","v":{"v":0,"d":"0.00"}},{"$f":"IF(B35=6,Q35,0)","v":{"v":0,"d":"0.00"}},{"$f":"IF(X34>0,IF(H35+P35+AF35+AN35+AV35+BD35+BL35+BT35+CB35+CJ35=0,IF(E35>0,X34,0),0),0)","v":0},{"$f":"G35*X35","v":{"v":0,"d":"0.00"}},{"$f":"IF($B35=1,$Y35,0)","v":{"v":0,"d":"0.00"}},{"$f":"IF($B35=2,$Y35,0)","v":{"v":0,"d":"0.00"}},{"$f":"IF($B35=3,$Y35,0)","v":{"v":0,"d":"0.00"}},{"$f":"IF($B35=4,$Y35,0)","v":{"v":0,"d":"0.00"}},{"$f":"IF($B35=5,$Y35,0)","v":{"v":0,"d":"0.00"}},{"$f":"IF($B35=6,$Y35,0)","v":{"v":0,"d":"0.00"}},{"$f":"IF(AF34>0,IF(H35+P35+X35+AN35+AV35+BD35+BL35+BT35+CB35+CJ35=0,IF(E35>0,AF34,0),0),0)","v":0},{"$f":"G35*AF35","v":{"v":0,"d":"0.00"}},{"$f":"IF($B35=1,$AG35,0)","v":{"v":0,"d":"0.00"}},{"$f":"IF($B35=2,$AG35,0)","v":{"v":0,"d":"0.00"}},{"$f":"IF($B35=3,$AG35,0)","v":{"v":0,"d":"0.00"}},{"$f":"IF($B35=4,$AG35,0)","v":{"v":0,"d":"0.00"}},{"$f":"IF($B35=5,$AG35,0)","v":{"v":0,"d":"0.00"}},{"$f":"IF($B35=6,$AG35,0)","v":{"v":0,"d":"0.00"}},{"$f":"IF(AN34>0,IF(H35+P35+X35+AF35+AV35+BD35+BL35+BT35+CB35+CJ35=0,IF(E35>0,AN34,0),0),0)","v":0},{"$f":"G35*AN35","v":{"v":0,"d":"0.00"}},{"$f":"IF($B35=1,$AO35,0)","v":{"v":0,"d":"0.00"}},{"$f":"IF($B35=2,$AO35,0)","v":{"v":0,"d":"0.00"}},{"$f":"IF($B35=3,$AO35,0)","v":{"v":0,"d":"0.00"}},{"$f":"IF($B35=4,$AO35,0)","v":{"v":0,"d":"0.00"}},{"$f":"IF($B35=5,$AO35,0)","v":{"v":0,"d":"0.00"}},{"$f":"IF($B35=6,$AO35,0)","v":{"v":0,"d":"0.00"}},{"$f":"IF(AV34>0,IF(H35+P35+X35+AF35+AN35+BD35+BL35+BT35+CB35+CJ35=0,IF(E35>0,AV34,0),0),0)","v":0},{"$f":"G35*AV35","v":{"v":0,"d":"0.00"}},{"$f":"IF($B35=1,$AW35,0)","v":{"v":0,"d":"0.00"}},{"$f":"IF($B35=2,$AW35,0)","v":{"v":0,"d":"0.00"}},{"$f":"IF($B35=3,$AW35,0)","v":{"v":0,"d":"0.00"}},{"$f":"IF($B35=4,$AW35,0)","v":{"v":0,"d":"0.00"}},{"$f":"IF($B35=5,$AW35,0)","v":{"v":0,"d":"0.00"}},{"$f":"IF($B35=6,$AW35,0)","v":{"v":0,"d":"0.00"}},{"$f":"IF(BD34>0,IF(H35+P35+X35+AF35+AN35+AV35+BL35+BT35+CB35+CJ35=0,IF(E35>0,BD34,0),0),0)","v":0},{"$f":"G35*BD35","v":{"v":0,"d":"0.00"}},{"$f":"IF($B35=1,$BE35,0)","v":{"v":0,"d":"0.00"}},{"$f":"IF($B35=2,$BE35,0)","v":{"v":0,"d":"0.00"}},{"$f":"IF($B35=3,$BE35,0)","v":{"v":0,"d":"0.00"}},{"$f":"IF($B35=4,$BE35,0)","v":{"v":0,"d":"0.00"}},{"$f":"IF($B35=5,$BE35,0)","v":{"v":0,"d":"0.00"}},{"$f":"IF($B35=6,$BE35,0)","v":{"v":0,"d":"0.00"}},{"$f":"IF(BL34>0,IF(H35+P35+X35+AF35+AN35+AV35+BD35+BT35+CB35+CJ35=0,IF(E35>0,BL34,0),0),0)","v":0},{"$f":"G35*BL35","v":{"v":0,"d":"0.00"}},{"$f":"IF($B35=1,$BM35,0)","v":{"v":0,"d":"0.00"}},{"$f":"IF($B35=2,$BM35,0)","v":{"v":0,"d":"0.00"}},{"$f":"IF($B35=3,$BM35,0)","v":{"v":0,"d":"0.00"}},{"$f":"IF($B35=4,$BM35,0)","v":{"v":0,"d":"0.00"}},{"$f":"IF($B35=5,$BM35,0)","v":{"v":0,"d":"0.00"}},{"$f":"IF($B35=6,$BM35,0)","v":{"v":0,"d":"0.00"}},{"$f":"IF(BT34>0,IF(H35+P35+X35+AF35+AN35+AV35+BD35+BL35+CB35+CJ35=0,IF(E35>0,BT34,0),0),0)","v":0},{"$f":"G35*BT35","v":{"v":0,"d":"0.00"}},{"$f":"IF($B35=1,$BU35,0)","v":{"v":0,"d":"0.00"}},{"$f":"IF($B35=2,$BU35,0)","v":{"v":0,"d":"0.00"}},{"$f":"IF($B35=3,$BU35,0)","v":{"v":0,"d":"0.00"}},{"$f":"IF($B35=4,$BU35,0)","v":{"v":0,"d":"0.00"}},{"$f":"IF($B35=5,$BU35,0)","v":{"v":0,"d":"0.00"}},{"$f":"IF($B35=6,$BU35,0)","v":{"v":0,"d":"0.00"}},{"$f":"IF(CB34>0,IF(H35+P35+X35+AF35+AN35+AV35+BD35+BL35+BT35+CJ35=0,IF(E35>0,CB34,0),0),0)","v":0},{"$f":"G35*CB35","v":{"v":0,"d":"0.00"}},{"$f":"IF($B35=1,$CC35,0)","v":{"v":0,"d":"0.00"}},{"$f":"IF($B35=2,$CC35,0)","v":{"v":0,"d":"0.00"}},{"$f":"IF($B35=3,$CC35,0)","v":{"v":0,"d":"0.00"}},{"$f":"IF($B35=4,$CC35,0)","v":{"v":0,"d":"0.00"}},{"$f":"IF($B35=5,$CC35,0)","v":{"v":0,"d":"0.00"}},{"$f":"IF($B35=6,$CC35,0)","v":{"v":0,"d":"0.00"}},{"$f":"IF(CJ34>0,IF(H35+P35+X35+AF35+AN35+AV35+BD35+BL35+BT35+CB35=0,IF(E35>0,CJ34,0),0),0)","v":0},{"$f":"G35*CJ35","v":{"v":0,"d":"0.00"}},{"$f":"IF($B35=1,$CK35,0)","v":{"v":0,"d":"0.00"}},{"$f":"IF($B35=2,$CK35,0)","v":{"v":0,"d":"0.00"}},{"$f":"IF($B35=3,$CK35,0)","v":{"v":0,"d":"0.00"}},{"$f":"IF($B35=4,$CK35,0)","v":{"v":0,"d":"0.00"}},{"$f":"IF($B35=5,$CK35,0)","v":{"v":0,"d":"0.00"}},{"$f":"IF($B35=6,$CK35,0)","v":{"v":0,"d":"0.00"}}]
[{"$f":"IF(C35<>C36,C36,\"\")","v":""},{"$f":"IF(C35<>C36,_xlfn.DAYS(C36,C35)+B35,B35)","v":1},{"$f":"IF(D36>0,IF(D36<E35,C35+1,C35),C35)","v":"2009-02-16"},{"$f":"IF((E36+H36+P36+X36+AF36+AN36+AV36+BD36+BL36+BT36+CB36+CJ36)>0,E35,0)","v":"00:00:00"},null,{"$f":"E36-D36","v":"00:00:00"},{"$f":"IF(E36>0,HOUR(F36)+(MINUTE(F36)/60),0)","v":0},{"$f":"IF(H35>0,IF(P36+X36+AF36+AN36+AV36+BD36+BL36+BT36+CB36+CJ36=0,IF(E36>0,H35,0),0),0)","v":0},{"$f":"G36*H36","v":{"v":0,"d":"0.00"}},{"$f":"IF($B36=1,$I36,0)","v":{"v":0,"d":"0.00"}},{"$f":"IF($B36=2,$I36,0)","v":{"v":0,"d":"0.00"}},{"$f":"IF($B36=3,$I36,0)","v":{"v":0,"d":"0.00"}},{"$f":"IF($B36=4,$I36,0)","v":{"v":0,"d":"0.00"}},{"$f":"IF($B36=5,$I36,0)","v":{"v":0,"d":"0.00"}},{"$f":"IF($B36=6,$I36,0)","v":{"v":0,"d":"0.00"}},{"$f":"IF(P35>0,IF(H36+X36+AF36+AN36+AV36+BD36+BL36+BT36+CB36+CJ36=0,IF(E36>0,P35,0),0),0)","v":0},{"$f":"G36*P36","v":{"v":0,"d":"0.00"}},{"$f":"IF(B36=1,Q36,0)","v":{"v":0,"d":"0.00"}},{"$f":"IF(B36=2,Q36,0)","v":{"v":0,"d":"0.00"}},{"$f":"IF(B36=3,Q36,0)","v":{"v":0,"d":"0.00"}},{"$f":"IF(B36=4,Q36,0)","v":{"v":0,"d":"0.00"}},{"$f":"IF(B36=5,Q36,0)","v":{"v":0,"d":"0.00"}},{"$f":"IF(B36=6,Q36,0)","v":{"v":0,"d":"0.00"}},{"$f":"IF(X35>0,IF(H36+P36+AF36+AN36+AV36+BD36+BL36+BT36+CB36+CJ36=0,IF(E36>0,X35,0),0),0)","v":0},{"$f":"G36*X36","v":{"v":0,"d":"0.00"}},{"$f":"IF($B36=1,$Y36,0)","v":{"v":0,"d":"0.00"}},{"$f":"IF($B36=2,$Y36,0)","v":{"v":0,"d":"0.00"}},{"$f":"IF($B36=3,$Y36,0)","v":{"v":0,"d":"0.00"}},{"$f":"IF($B36=4,$Y36,0)","v":{"v":0,"d":"0.00"}},{"$f":"IF($B36=5,$Y36,0)","v":{"v":0,"d":"0.00"}},{"$f":"IF($B36=6,$Y36,0)","v":{"v":0,"d":"0.00"}},{"$f":"IF(AF35>0,IF(H36+P36+X36+AN36+AV36+BD36+BL36+BT36+CB36+CJ36=0,IF(E36>0,AF35,0),0),0)","v":0},{"$f":"G36*AF36","v":{"v":0,"d":"0.00"}},{"$f":"IF($B36=1,$AG36,0)","v":{"v":0,"d":"0.00"}},{"$f":"IF($B36=2,$AG36,0)","v":{"v":0,"d":"0.00"}},{"$f":"IF($B36=3,$AG36,0)","v":{"v":0,"d":"0.00"}},{"$f":"IF($B36=4,$AG36,0)","v":{"v":0,"d":"0.00"}},{"$f":"IF($B36=5,$AG36,0)","v":{"v":0,"d":"0.00"}},{"$f":"IF($B36=6,$AG36,0)","v":{"v":0,"d":"0.00"}},{"$f":"IF(AN35>0,IF(H36+P36+X36+AF36+AV36+BD36+BL36+BT36+CB36+CJ36=0,IF(E36>0,AN35,0),0),0)","v":0},{"$f":"G36*AN36","v":{"v":0,"d":"0.00"}},{"$f":"IF($B36=1,$AO36,0)","v":{"v":0,"d":"0.00"}},{"$f":"IF($B36=2,$AO36,0)","v":{"v":0,"d":"0.00"}},{"$f":"IF($B36=3,$AO36,0)","v":{"v":0,"d":"0.00"}},{"$f":"IF($B36=4,$AO36,0)","v":{"v":0,"d":"0.00"}},{"$f":"IF($B36=5,$AO36,0)","v":{"v":0,"d":"0.00"}},{"$f":"IF($B36=6,$AO36,0)","v":{"v":0,"d":"0.00"}},{"$f":"IF(AV35>0,IF(H36+P36+X36+AF36+AN36+BD36+BL36+BT36+CB36+CJ36=0,IF(E36>0,AV35,0),0),0)","v":0},{"$f":"G36*AV36","v":{"v":0,"d":"0.00"}},{"$f":"IF($B36=1,$AW36,0)","v":{"v":0,"d":"0.00"}},{"$f":"IF($B36=2,$AW36,0)","v":{"v":0,"d":"0.00"}},{"$f":"IF($B36=3,$AW36,0)","v":{"v":0,"d":"0.00"}},{"$f":"IF($B36=4,$AW36,0)","v":{"v":0,"d":"0.00"}},{"$f":"IF($B36=5,$AW36,0)","v":{"v":0,"d":"0.00"}},{"$f":"IF($B36=6,$AW36,0)","v":{"v":0,"d":"0.00"}},{"$f":"IF(BD35>0,IF(H36+P36+X36+AF36+AN36+AV36+BL36+BT36+CB36+CJ36=0,IF(E36>0,BD35,0),0),0)","v":0},{"$f":"G36*BD36","v":{"v":0,"d":"0.00"}},{"$f":"IF($B36=1,$BE36,0)","v":{"v":0,"d":"0.00"}},{"$f":"IF($B36=2,$BE36,0)","v":{"v":0,"d":"0.00"}},{"$f":"IF($B36=3,$BE36,0)","v":{"v":0,"d":"0.00"}},{"$f":"IF($B36=4,$BE36,0)","v":{"v":0,"d":"0.00"}},{"$f":"IF($B36=5,$BE36,0)","v":{"v":0,"d":"0.00"}},{"$f":"IF($B36=6,$BE36,0)","v":{"v":0,"d":"0.00"}},{"$f":"IF(BL35>0,IF(H36+P36+X36+AF36+AN36+AV36+BD36+BT36+CB36+CJ36=0,IF(E36>0,BL35,0),0),0)","v":0},{"$f":"G36*BL36","v":{"v":0,"d":"0.00"}},{"$f":"IF($B36=1,$BM36,0)","v":{"v":0,"d":"0.00"}},{"$f":"IF($B36=2,$BM36,0)","v":{"v":0,"d":"0.00"}},{"$f":"IF($B36=3,$BM36,0)","v":{"v":0,"d":"0.00"}},{"$f":"IF($B36=4,$BM36,0)","v":{"v":0,"d":"0.00"}},{"$f":"IF($B36=5,$BM36,0)","v":{"v":0,"d":"0.00"}},{"$f":"IF($B36=6,$BM36,0)","v":{"v":0,"d":"0.00"}},{"$f":"IF(BT35>0,IF(H36+P36+X36+AF36+AN36+AV36+BD36+BL36+CB36+CJ36=0,IF(E36>0,BT35,0),0),0)","v":0},{"$f":"G36*BT36","v":{"v":0,"d":"0.00"}},{"$f":"IF($B36=1,$BU36,0)","v":{"v":0,"d":"0.00"}},{"$f":"IF($B36=2,$BU36,0)","v":{"v":0,"d":"0.00"}},{"$f":"IF($B36=3,$BU36,0)","v":{"v":0,"d":"0.00"}},{"$f":"IF($B36=4,$BU36,0)","v":{"v":0,"d":"0.00"}},{"$f":"IF($B36=5,$BU36,0)","v":{"v":0,"d":"0.00"}},{"$f":"IF($B36=6,$BU36,0)","v":{"v":0,"d":"0.00"}},{"$f":"IF(CB35>0,IF(H36+P36+X36+AF36+AN36+AV36+BD36+BL36+BT36+CJ36=0,IF(E36>0,CB35,0),0),0)","v":0},{"$f":"G36*CB36","v":{"v":0,"d":"0.00"}},{"$f":"IF($B36=1,$CC36,0)","v":{"v":0,"d":"0.00"}},{"$f":"IF($B36=2,$CC36,0)","v":{"v":0,"d":"0.00"}},{"$f":"IF($B36=3,$CC36,0)","v":{"v":0,"d":"0.00"}},{"$f":"IF($B36=4,$CC36,0)","v":{"v":0,"d":"0.00"}},{"$f":"IF($B36=5,$CC36,0)","v":{"v":0,"d":"0.00"}},{"$f":"IF($B36=6,$CC36,0)","v":{"v":0,"d":"0.00"}},{"$f":"IF(CJ35>0,IF(H36+P36+X36+AF36+AN36+AV36+BD36+BL36+BT36+CB36=0,IF(E36>0,CJ35,0),0),0)","v":0},{"$f":"G36*CJ36","v":{"v":0,"d":"0.00"}},{"$f":"IF($B36=1,$CK36,0)","v":{"v":0,"d":"0.00"}},{"$f":"IF($B36=2,$CK36,0)","v":{"v":0,"d":"0.00"}},{"$f":"IF($B36=3,$CK36,0)","v":{"v":0,"d":"0.00"}},{"$f":"IF($B36=4,$CK36,0)","v":{"v":0,"d":"0.00"}},{"$f":"IF($B36=5,$CK36,0)","v":{"v":0,"d":"0.00"}},{"$f":"IF($B36=6,$CK36,0)","v":{"v":0,"d":"0.00"}}]
[{"$f":"IF(C36<>C37,C37,\"\")","v":""},{"$f":"IF(C36<>C37,_xlfn.DAYS(C37,C36)+B36,B36)","v":1},{"$f":"IF(D37>0,IF(D37<E36,C36+1,C36),C36)","v":"2009-02-16"},{"$f":"IF((E37+H37+P37+X37+AF37+AN37+AV37+BD37+BL37+BT37+CB37+CJ37)>0,E36,0)","v":"00:00:00"},null,{"$f":"E37-D37","v":"00:00:00"},{"$f":"IF(E37>0,HOUR(F37)+(MINUTE(F37)/60),0)","v":0},{"$f":"IF(H36>0,IF(P37+X37+AF37+AN37+AV37+BD37+BL37+BT37+CB37+CJ37=0,IF(E37>0,H36,0),0),0)","v":0},{"$f":"G37*H37","v":{"v":0,"d":"0.00"}},{"$f":"IF($B37=1,$I37,0)","v":{"v":0,"d":"0.00"}},{"$f":"IF($B37=2,$I37,0)","v":{"v":0,"d":"0.00"}},{"$f":"IF($B37=3,$I37,0)","v":{"v":0,"d":"0.00"}},{"$f":"IF($B37=4,$I37,0)","v":{"v":0,"d":"0.00"}},{"$f":"IF($B37=5,$I37,0)","v":{"v":0,"d":"0.00"}},{"$f":"IF($B37=6,$I37,0)","v":{"v":0,"d":"0.00"}},{"$f":"IF(P36>0,IF(H37+X37+AF37+AN37+AV37+BD37+BL37+BT37+CB37+CJ37=0,IF(E37>0,P36,0),0),0)","v":0},{"$f":"G37*P37","v":{"v":0,"d":"0.00"}},{"$f":"IF(B37=1,Q37,0)","v":{"v":0,"d":"0.00"}},{"$f":"IF(B37=2,Q37,0)","v":{"v":0,"d":"0.00"}},{"$f":"IF(B37=3,Q37,0)","v":{"v":0,"d":"0.00"}},{"$f":"IF(B37=4,Q37,0)","v":{"v":0,"d":"0.00"}},{"$f":"IF(B37=5,Q37,0)","v":{"v":0,"d":"0.00"}},{"$f":"IF(B37=6,Q37,0)","v":{"v":0,"d":"0.00"}},{"$f":"IF(X36>0,IF(H37+P37+AF37+AN37+AV37+BD37+BL37+BT37+CB37+CJ37=0,IF(E37>0,X36,0),0),0)","v":0},{"$f":"G37*X37","v":{"v":0,"d":"0.00"}},{"$f":"IF($B37=1,$Y37,0)","v":{"v":0,"d":"0.00"}},{"$f":"IF($B37=2,$Y37,0)","v":{"v":0,"d":"0.00"}},{"$f":"IF($B37=3,$Y37,0)","v":{"v":0,"d":"0.00"}},{"$f":"IF($B37=4,$Y37,0)","v":{"v":0,"d":"0.00"}},{"$f":"IF($B37=5,$Y37,0)","v":{"v":0,"d":"0.00"}},{"$f":"IF($B37=6,$Y37,0)","v":{"v":0,"d":"0.00"}},{"$f":"IF(AF36>0,IF(H37+P37+X37+AN37+AV37+BD37+BL37+BT37+CB37+CJ37=0,IF(E37>0,AF36,0),0),0)","v":0},{"$f":"G37*AF37","v":{"v":0,"d":"0.00"}},{"$f":"IF($B37=1,$AG37,0)","v":{"v":0,"d":"0.00"}},{"$f":"IF($B37=2,$AG37,0)","v":{"v":0,"d":"0.00"}},{"$f":"IF($B37=3,$AG37,0)","v":{"v":0,"d":"0.00"}},{"$f":"IF($B37=4,$AG37,0)","v":{"v":0,"d":"0.00"}},{"$f":"IF($B37=5,$AG37,0)","v":{"v":0,"d":"0.00"}},{"$f":"IF($B37=6,$AG37,0)","v":{"v":0,"d":"0.00"}},{"$f":"IF(AN36>0,IF(H37+P37+X37+AF37+AV37+BD37+BL37+BT37+CB37+CJ37=0,IF(E37>0,AN36,0),0),0)","v":0},{"$f":"G37*AN37","v":{"v":0,"d":"0.00"}},{"$f":"IF($B37=1,$AO37,0)","v":{"v":0,"d":"0.00"}},{"$f":"IF($B37=2,$AO37,0)","v":{"v":0,"d":"0.00"}},{"$f":"IF($B37=3,$AO37,0)","v":{"v":0,"d":"0.00"}},{"$f":"IF($B37=4,$AO37,0)","v":{"v":0,"d":"0.00"}},{"$f":"IF($B37=5,$AO37,0)","v":{"v":0,"d":"0.00"}},{"$f":"IF($B37=6,$AO37,0)","v":{"v":0,"d":"0.00"}},{"$f":"IF(AV36>0,IF(H37+P37+X37+AF37+AN37+BD37+BL37+BT37+CB37+CJ37=0,IF(E37>0,AV36,0),0),0)","v":0},{"$f":"G37*AV37","v":{"v":0,"d":"0.00"}},{"$f":"IF($B37=1,$AW37,0)","v":{"v":0,"d":"0.00"}},{"$f":"IF($B37=2,$AW37,0)","v":{"v":0,"d":"0.00"}},{"$f":"IF($B37=3,$AW37,0)","v":{"v":0,"d":"0.00"}},{"$f":"IF($B37=4,$AW37,0)","v":{"v":0,"d":"0.00"}},{"$f":"IF($B37=5,$AW37,0)","v":{"v":0,"d":"0.00"}},{"$f":"IF($B37=6,$AW37,0)","v":{"v":0,"d":"0.00"}},{"$f":"IF(BD36>0,IF(H37+P37+X37+AF37+AN37+AV37+BL37+BT37+CB37+CJ37=0,IF(E37>0,BD36,0),0),0)","v":0},{"$f":"G37*BD37","v":{"v":0,"d":"0.00"}},{"$f":"IF($B37=1,$BE37,0)","v":{"v":0,"d":"0.00"}},{"$f":"IF($B37=2,$BE37,0)","v":{"v":0,"d":"0.00"}},{"$f":"IF($B37=3,$BE37,0)","v":{"v":0,"d":"0.00"}},{"$f":"IF($B37=4,$BE37,0)","v":{"v":0,"d":"0.00"}},{"$f":"IF($B37=5,$BE37,0)","v":{"v":0,"d":"0.00"}},{"$f":"IF($B37=6,$BE37,0)","v":{"v":0,"d":"0.00"}},{"$f":"IF(BL36>0,IF(H37+P37+X37+AF37+AN37+AV37+BD37+BT37+CB37+CJ37=0,IF(E37>0,BL36,0),0),0)","v":0},{"$f":"G37*BL37","v":{"v":0,"d":"0.00"}},{"$f":"IF($B37=1,$BM37,0)","v":{"v":0,"d":"0.00"}},{"$f":"IF($B37=2,$BM37,0)","v":{"v":0,"d":"0.00"}},{"$f":"IF($B37=3,$BM37,0)","v":{"v":0,"d":"0.00"}},{"$f":"IF($B37=4,$BM37,0)","v":{"v":0,"d":"0.00"}},{"$f":"IF($B37=5,$BM37,0)","v":{"v":0,"d":"0.00"}},{"$f":"IF($B37=6,$BM37,0)","v":{"v":0,"d":"0.00"}},{"$f":"IF(BT36>0,IF(H37+P37+X37+AF37+AN37+AV37+BD37+BL37+CB37+CJ37=0,IF(E37>0,BT36,0),0),0)","v":0},{"$f":"G37*BT37","v":{"v":0,"d":"0.00"}},{"$f":"IF($B37=1,$BU37,0)","v":{"v":0,"d":"0.00"}},{"$f":"IF($B37=2,$BU37,0)","v":{"v":0,"d":"0.00"}},{"$f":"IF($B37=3,$BU37,0)","v":{"v":0,"d":"0.00"}},{"$f":"IF($B37=4,$BU37,0)","v":{"v":0,"d":"0.00"}},{"$f":"IF($B37=5,$BU37,0)","v":{"v":0,"d":"0.00"}},{"$f":"IF($B37=6,$BU37,0)","v":{"v":0,"d":"0.00"}},{"$f":"IF(CB36>0,IF(H37+P37+X37+AF37+AN37+AV37+BD37+BL37+BT37+CJ37=0,IF(E37>0,CB36,0),0),0)","v":0},{"$f":"G37*CB37","v":{"v":0,"d":"0.00"}},{"$f":"IF($B37=1,$CC37,0)","v":{"v":0,"d":"0.00"}},{"$f":"IF($B37=2,$CC37,0)","v":{"v":0,"d":"0.00"}},{"$f":"IF($B37=3,$CC37,0)","v":{"v":0,"d":"0.00"}},{"$f":"IF($B37=4,$CC37,0)","v":{"v":0,"d":"0.00"}},{"$f":"IF($B37=5,$CC37,0)","v":{"v":0,"d":"0.00"}},{"$f":"IF($B37=6,$CC37,0)","v":{"v":0,"d":"0.00"}},{"$f":"IF(CJ36>0,IF(H37+P37+X37+AF37+AN37+AV37+BD37+BL37+BT37+CB37=0,IF(E37>0,CJ36,0),0),0)","v":0},{"$f":"G37*CJ37","v":{"v":0,"d":"0.00"}},{"$f":"IF($B37=1,$CK37,0)","v":{"v":0,"d":"0.00"}},{"$f":"IF($B37=2,$CK37,0)","v":{"v":0,"d":"0.00"}},{"$f":"IF($B37=3,$CK37,0)","v":{"v":0,"d":"0.00"}},{"$f":"IF($B37=4,$CK37,0)","v":{"v":0,"d":"0.00"}},{"$f":"IF($B37=5,$CK37,0)","v":{"v":0,"d":"0.00"}},{"$f":"IF($B37=6,$CK37,0)","v":{"v":0,"d":"0.00"}}]
[{"$f":"IF(C37<>C38,C38,\"\")","v":""},{"$f":"IF(C37<>C38,_xlfn.DAYS(C38,C37)+B37,B37)","v":1},{"$f":"IF(D38>0,IF(D38<E37,C37+1,C37),C37)","v":"2009-02-16"},{"$f":"IF((E38+H38+P38+X38+AF38+AN38+AV38+BD38+BL38+BT38+CB38+CJ38)>0,E37,0)","v":"00:00:00"},null,{"$f":"E38-D38","v":"00:00:00"},{"$f":"IF(E38>0,HOUR(F38)+(MINUTE(F38)/60),0)","v":0},{"$f":"IF(H37>0,IF(P38+X38+AF38+AN38+AV38+BD38+BL38+BT38+CB38+CJ38=0,IF(E38>0,H37,0),0),0)","v":0},{"$f":"G38*H38","v":{"v":0,"d":"0.00"}},{"$f":"IF($B38=1,$I38,0)","v":{"v":0,"d":"0.00"}},{"$f":"IF($B38=2,$I38,0)","v":{"v":0,"d":"0.00"}},{"$f":"IF($B38=3,$I38,0)","v":{"v":0,"d":"0.00"}},{"$f":"IF($B38=4,$I38,0)","v":{"v":0,"d":"0.00"}},{"$f":"IF($B38=5,$I38,0)","v":{"v":0,"d":"0.00"}},{"$f":"IF($B38=6,$I38,0)","v":{"v":0,"d":"0.00"}},{"$f":"IF(P37>0,IF(H38+X38+AF38+AN38+AV38+BD38+BL38+BT38+CB38+CJ38=0,IF(E38>0,P37,0),0),0)","v":0},{"$f":"G38*P38","v":{"v":0,"d":"0.00"}},{"$f":"IF(B38=1,Q38,0)","v":{"v":0,"d":"0.00"}},{"$f":"IF(B38=2,Q38,0)","v":{"v":0,"d":"0.00"}},{"$f":"IF(B38=3,Q38,0)","v":{"v":0,"d":"0.00"}},{"$f":"IF(B38=4,Q38,0)","v":{"v":0,"d":"0.00"}},{"$f":"IF(B38=5,Q38,0)","v":{"v":0,"d":"0.00"}},{"$f":"IF(B38=6,Q38,0)","v":{"v":0,"d":"0.00"}},{"$f":"IF(X37>0,IF(H38+P38+AF38+AN38+AV38+BD38+BL38+BT38+CB38+CJ38=0,IF(E38>0,X37,0),0),0)","v":0},{"$f":"G38*X38","v":{"v":0,"d":"0.00"}},{"$f":"IF($B38=1,$Y38,0)","v":{"v":0,"d":"0.00"}},{"$f":"IF($B38=2,$Y38,0)","v":{"v":0,"d":"0.00"}},{"$f":"IF($B38=3,$Y38,0)","v":{"v":0,"d":"0.00"}},{"$f":"IF($B38=4,$Y38,0)","v":{"v":0,"d":"0.00"}},{"$f":"IF($B38=5,$Y38,0)","v":{"v":0,"d":"0.00"}},{"$f":"IF($B38=6,$Y38,0)","v":{"v":0,"d":"0.00"}},{"$f":"IF(AF37>0,IF(H38+P38+X38+AN38+AV38+BD38+BL38+BT38+CB38+CJ38=0,IF(E38>0,AF37,0),0),0)","v":0},{"$f":"G38*AF38","v":{"v":0,"d":"0.00"}},{"$f":"IF($B38=1,$AG38,0)","v":{"v":0,"d":"0.00"}},{"$f":"IF($B38=2,$AG38,0)","v":{"v":0,"d":"0.00"}},{"$f":"IF($B38=3,$AG38,0)","v":{"v":0,"d":"0.00"}},{"$f":"IF($B38=4,$AG38,0)","v":{"v":0,"d":"0.00"}},{"$f":"IF($B38=5,$AG38,0)","v":{"v":0,"d":"0.00"}},{"$f":"IF($B38=6,$AG38,0)","v":{"v":0,"d":"0.00"}},{"$f":"IF(AN37>0,IF(H38+P38+X38+AF38+AV38+BD38+BL38+BT38+CB38+CJ38=0,IF(E38>0,AN37,0),0),0)","v":0},{"$f":"G38*AN38","v":{"v":0,"d":"0.00"}},{"$f":"IF($B38=1,$AO38,0)","v":{"v":0,"d":"0.00"}},{"$f":"IF($B38=2,$AO38,0)","v":{"v":0,"d":"0.00"}},{"$f":"IF($B38=3,$AO38,0)","v":{"v":0,"d":"0.00"}},{"$f":"IF($B38=4,$AO38,0)","v":{"v":0,"d":"0.00"}},{"$f":"IF($B38=5,$AO38,0)","v":{"v":0,"d":"0.00"}},{"$f":"IF($B38=6,$AO38,0)","v":{"v":0,"d":"0.00"}},{"$f":"IF(AV37>0,IF(H38+P38+X38+AF38+AN38+BD38+BL38+BT38+CB38+CJ38=0,IF(E38>0,AV37,0),0),0)","v":0},{"$f":"G38*AV38","v":{"v":0,"d":"0.00"}},{"$f":"IF($B38=1,$AW38,0)","v":{"v":0,"d":"0.00"}},{"$f":"IF($B38=2,$AW38,0)","v":{"v":0,"d":"0.00"}},{"$f":"IF($B38=3,$AW38,0)","v":{"v":0,"d":"0.00"}},{"$f":"IF($B38=4,$AW38,0)","v":{"v":0,"d":"0.00"}},{"$f":"IF($B38=5,$AW38,0)","v":{"v":0,"d":"0.00"}},{"$f":"IF($B38=6,$AW38,0)","v":{"v":0,"d":"0.00"}},{"$f":"IF(BD37>0,IF(H38+P38+X38+AF38+AN38+AV38+BL38+BT38+CB38+CJ38=0,IF(E38>0,BD37,0),0),0)","v":0},{"$f":"G38*BD38","v":{"v":0,"d":"0.00"}},{"$f":"IF($B38=1,$BE38,0)","v":{"v":0,"d":"0.00"}},{"$f":"IF($B38=2,$BE38,0)","v":{"v":0,"d":"0.00"}},{"$f":"IF($B38=3,$BE38,0)","v":{"v":0,"d":"0.00"}},{"$f":"IF($B38=4,$BE38,0)","v":{"v":0,"d":"0.00"}},{"$f":"IF($B38=5,$BE38,0)","v":{"v":0,"d":"0.00"}},{"$f":"IF($B38=6,$BE38,0)","v":{"v":0,"d":"0.00"}},{"$f":"IF(BL37>0,IF(H38+P38+X38+AF38+AN38+AV38+BD38+BT38+CB38+CJ38=0,IF(E38>0,BL37,0),0),0)","v":0},{"$f":"G38*BL38","v":{"v":0,"d":"0.00"}},{"$f":"IF($B38=1,$BM38,0)","v":{"v":0,"d":"0.00"}},{"$f":"IF($B38=2,$BM38,0)","v":{"v":0,"d":"0.00"}},{"$f":"IF($B38=3,$BM38,0)","v":{"v":0,"d":"0.00"}},{"$f":"IF($B38=4,$BM38,0)","v":{"v":0,"d":"0.00"}},{"$f":"IF($B38=5,$BM38,0)","v":{"v":0,"d":"0.00"}},{"$f":"IF($B38=6,$BM38,0)","v":{"v":0,"d":"0.00"}},{"$f":"IF(BT37>0,IF(H38+P38+X38+AF38+AN38+AV38+BD38+BL38+CB38+CJ38=0,IF(E38>0,BT37,0),0),0)","v":0},{"$f":"G38*BT38","v":{"v":0,"d":"0.00"}},{"$f":"IF($B38=1,$BU38,0)","v":{"v":0,"d":"0.00"}},{"$f":"IF($B38=2,$BU38,0)","v":{"v":0,"d":"0.00"}},{"$f":"IF($B38=3,$BU38,0)","v":{"v":0,"d":"0.00"}},{"$f":"IF($B38=4,$BU38,0)","v":{"v":0,"d":"0.00"}},{"$f":"IF($B38=5,$BU38,0)","v":{"v":0,"d":"0.00"}},{"$f":"IF($B38=6,$BU38,0)","v":{"v":0,"d":"0.00"}},{"$f":"IF(CB37>0,IF(H38+P38+X38+AF38+AN38+AV38+BD38+BL38+BT38+CJ38=0,IF(E38>0,CB37,0),0),0)","v":0},{"$f":"G38*CB38","v":{"v":0,"d":"0.00"}},{"$f":"IF($B38=1,$CC38,0)","v":{"v":0,"d":"0.00"}},{"$f":"IF($B38=2,$CC38,0)","v":{"v":0,"d":"0.00"}},{"$f":"IF($B38=3,$CC38,0)","v":{"v":0,"d":"0.00"}},{"$f":"IF($B38=4,$CC38,0)","v":{"v":0,"d":"0.00"}},{"$f":"IF($B38=5,$CC38,0)","v":{"v":0,"d":"0.00"}},{"$f":"IF($B38=6,$CC38,0)","v":{"v":0,"d":"0.00"}},{"$f":"IF(CJ37>0,IF(H38+P38+X38+AF38+AN38+AV38+BD38+BL38+BT38+CB38=0,IF(E38>0,CJ37,0),0),0)","v":0},{"$f":"G38*CJ38","v":{"v":0,"d":"0.00"}},{"$f":"IF($B38=1,$CK38,0)","v":{"v":0,"d":"0.00"}},{"$f":"IF($B38=2,$CK38,0)","v":{"v":0,"d":"0.00"}},{"$f":"IF($B38=3,$CK38,0)","v":{"v":0,"d":"0.00"}},{"$f":"IF($B38=4,$CK38,0)","v":{"v":0,"d":"0.00"}},{"$f":"IF($B38=5,$CK38,0)","v":{"v":0,"d":"0.00"}},{"$f":"IF($B38=6,$CK38,0)","v":{"v":0,"d":"0.00"}}]
[{"$f":"IF(C38<>C39,C39,\"\")","v":""},{"$f":"IF(C38<>C39,_xlfn.DAYS(C39,C38)+B38,B38)","v":1},{"$f":"IF(D39>0,IF(D39<E38,C38+1,C38),C38)","v":"2009-02-16"},{"$f":"IF((E39+H39+P39+X39+AF39+AN39+AV39+BD39+BL39+BT39+CB39+CJ39)>0,E38,0)","v":"00:00:00"},null,{"$f":"E39-D39","v":"00:00:00"},{"$f":"IF(E39>0,HOUR(F39)+(MINUTE(F39)/60),0)","v":0},{"$f":"IF(H38>0,IF(P39+X39+AF39+AN39+AV39+BD39+BL39+BT39+CB39+CJ39=0,IF(E39>0,H38,0),0),0)","v":0},{"$f":"G39*H39","v":{"v":0,"d":"0.00"}},{"$f":"IF($B39=1,$I39,0)","v":{"v":0,"d":"0.00"}},{"$f":"IF($B39=2,$I39,0)","v":{"v":0,"d":"0.00"}},{"$f":"IF($B39=3,$I39,0)","v":{"v":0,"d":"0.00"}},{"$f":"IF($B39=4,$I39,0)","v":{"v":0,"d":"0.00"}},{"$f":"IF($B39=5,$I39,0)","v":{"v":0,"d":"0.00"}},{"$f":"IF($B39=6,$I39,0)","v":{"v":0,"d":"0.00"}},{"$f":"IF(P38>0,IF(H39+X39+AF39+AN39+AV39+BD39+BL39+BT39+CB39+CJ39=0,IF(E39>0,P38,0),0),0)","v":0},{"$f":"G39*P39","v":{"v":0,"d":"0.00"}},{"$f":"IF(B39=1,Q39,0)","v":{"v":0,"d":"0.00"}},{"$f":"IF(B39=2,Q39,0)","v":{"v":0,"d":"0.00"}},{"$f":"IF(B39=3,Q39,0)","v":{"v":0,"d":"0.00"}},{"$f":"IF(B39=4,Q39,0)","v":{"v":0,"d":"0.00"}},{"$f":"IF(B39=5,Q39,0)","v":{"v":0,"d":"0.00"}},{"$f":"IF(B39=6,Q39,0)","v":{"v":0,"d":"0.00"}},{"$f":"IF(X38>0,IF(H39+P39+AF39+AN39+AV39+BD39+BL39+BT39+CB39+CJ39=0,IF(E39>0,X38,0),0),0)","v":0},{"$f":"G39*X39","v":{"v":0,"d":"0.00"}},{"$f":"IF($B39=1,$Y39,0)","v":{"v":0,"d":"0.00"}},{"$f":"IF($B39=2,$Y39,0)","v":{"v":0,"d":"0.00"}},{"$f":"IF($B39=3,$Y39,0)","v":{"v":0,"d":"0.00"}},{"$f":"IF($B39=4,$Y39,0)","v":{"v":0,"d":"0.00"}},{"$f":"IF($B39=5,$Y39,0)","v":{"v":0,"d":"0.00"}},{"$f":"IF($B39=6,$Y39,0)","v":{"v":0,"d":"0.00"}},{"$f":"IF(AF38>0,IF(H39+P39+X39+AN39+AV39+BD39+BL39+BT39+CB39+CJ39=0,IF(E39>0,AF38,0),0),0)","v":0},{"$f":"G39*AF39","v":{"v":0,"d":"0.00"}},{"$f":"IF($B39=1,$AG39,0)","v":{"v":0,"d":"0.00"}},{"$f":"IF($B39=2,$AG39,0)","v":{"v":0,"d":"0.00"}},{"$f":"IF($B39=3,$AG39,0)","v":{"v":0,"d":"0.00"}},{"$f":"IF($B39=4,$AG39,0)","v":{"v":0,"d":"0.00"}},{"$f":"IF($B39=5,$AG39,0)","v":{"v":0,"d":"0.00"}},{"$f":"IF($B39=6,$AG39,0)","v":{"v":0,"d":"0.00"}},{"$f":"IF(AN38>0,IF(H39+P39+X39+AF39+AV39+BD39+BL39+BT39+CB39+CJ39=0,IF(E39>0,AN38,0),0),0)","v":0},{"$f":"G39*AN39","v":{"v":0,"d":"0.00"}},{"$f":"IF($B39=1,$AO39,0)","v":{"v":0,"d":"0.00"}},{"$f":"IF($B39=2,$AO39,0)","v":{"v":0,"d":"0.00"}},{"$f":"IF($B39=3,$AO39,0)","v":{"v":0,"d":"0.00"}},{"$f":"IF($B39=4,$AO39,0)","v":{"v":0,"d":"0.00"}},{"$f":"IF($B39=5,$AO39,0)","v":{"v":0,"d":"0.00"}},{"$f":"IF($B39=6,$AO39,0)","v":{"v":0,"d":"0.00"}},{"$f":"IF(AV38>0,IF(H39+P39+X39+AF39+AN39+BD39+BL39+BT39+CB39+CJ39=0,IF(E39>0,AV38,0),0),0)","v":0},{"$f":"G39*AV39","v":{"v":0,"d":"0.00"}},{"$f":"IF($B39=1,$AW39,0)","v":{"v":0,"d":"0.00"}},{"$f":"IF($B39=2,$AW39,0)","v":{"v":0,"d":"0.00"}},{"$f":"IF($B39=3,$AW39,0)","v":{"v":0,"d":"0.00"}},{"$f":"IF($B39=4,$AW39,0)","v":{"v":0,"d":"0.00"}},{"$f":"IF($B39=5,$AW39,0)","v":{"v":0,"d":"0.00"}},{"$f":"IF($B39=6,$AW39,0)","v":{"v":0,"d":"0.00"}},{"$f":"IF(BD38>0,IF(H39+P39+X39+AF39+AN39+AV39+BL39+BT39+CB39+CJ39=0,IF(E39>0,BD38,0),0),0)","v":0},{"$f":"G39*BD39","v":{"v":0,"d":"0.00"}},{"$f":"IF($B39=1,$BE39,0)","v":{"v":0,"d":"0.00"}},{"$f":"IF($B39=2,$BE39,0)","v":{"v":0,"d":"0.00"}},{"$f":"IF($B39=3,$BE39,0)","v":{"v":0,"d":"0.00"}},{"$f":"IF($B39=4,$BE39,0)","v":{"v":0,"d":"0.00"}},{"$f":"IF($B39=5,$BE39,0)","v":{"v":0,"d":"0.00"}},{"$f":"IF($B39=6,$BE39,0)","v":{"v":0,"d":"0.00"}},{"$f":"IF(BL38>0,IF(H39+P39+X39+AF39+AN39+AV39+BD39+BT39+CB39+CJ39=0,IF(E39>0,BL38,0),0),0)","v":0},{"$f":"G39*BL39","v":{"v":0,"d":"0.00"}},{"$f":"IF($B39=1,$BM39,0)","v":{"v":0,"d":"0.00"}},{"$f":"IF($B39=2,$BM39,0)","v":{"v":0,"d":"0.00"}},{"$f":"IF($B39=3,$BM39,0)","v":{"v":0,"d":"0.00"}},{"$f":"IF($B39=4,$BM39,0)","v":{"v":0,"d":"0.00"}},{"$f":"IF($B39=5,$BM39,0)","v":{"v":0,"d":"0.00"}},{"$f":"IF($B39=6,$BM39,0)","v":{"v":0,"d":"0.00"}},{"$f":"IF(BT38>0,IF(H39+P39+X39+AF39+AN39+AV39+BD39+BL39+CB39+CJ39=0,IF(E39>0,BT38,0),0),0)","v":0},{"$f":"G39*BT39","v":{"v":0,"d":"0.00"}},{"$f":"IF($B39=1,$BU39,0)","v":{"v":0,"d":"0.00"}},{"$f":"IF($B39=2,$BU39,0)","v":{"v":0,"d":"0.00"}},{"$f":"IF($B39=3,$BU39,0)","v":{"v":0,"d":"0.00"}},{"$f":"IF($B39=4,$BU39,0)","v":{"v":0,"d":"0.00"}},{"$f":"IF($B39=5,$BU39,0)","v":{"v":0,"d":"0.00"}},{"$f":"IF($B39=6,$BU39,0)","v":{"v":0,"d":"0.00"}},{"$f":"IF(CB38>0,IF(H39+P39+X39+AF39+AN39+AV39+BD39+BL39+BT39+CJ39=0,IF(E39>0,CB38,0),0),0)","v":0},{"$f":"G39*CB39","v":{"v":0,"d":"0.00"}},{"$f":"IF($B39=1,$CC39,0)","v":{"v":0,"d":"0.00"}},{"$f":"IF($B39=2,$CC39,0)","v":{"v":0,"d":"0.00"}},{"$f":"IF($B39=3,$CC39,0)","v":{"v":0,"d":"0.00"}},{"$f":"IF($B39=4,$CC39,0)","v":{"v":0,"d":"0.00"}},{"$f":"IF($B39=5,$CC39,0)","v":{"v":0,"d":"0.00"}},{"$f":"IF($B39=6,$CC39,0)","v":{"v":0,"d":"0.00"}},{"$f":"IF(CJ38>0,IF(H39+P39+X39+AF39+AN39+AV39+BD39+BL39+BT39+CB39=0,IF(E39>0,CJ38,0),0),0)","v":0},{"$f":"G39*CJ39","v":{"v":0,"d":"0.00"}},{"$f":"IF($B39=1,$CK39,0)","v":{"v":0,"d":"0.00"}},{"$f":"IF($B39=2,$CK39,0)","v":{"v":0,"d":"0.00"}},{"$f":"IF($B39=3,$CK39,0)","v":{"v":0,"d":"0.00"}},{"$f":"IF($B39=4,$CK39,0)","v":{"v":0,"d":"0.00"}},{"$f":"IF($B39=5,$CK39,0)","v":{"v":0,"d":"0.00"}},{"$f":"IF($B39=6,$CK39,0)","v":{"v":0,"d":"0.00"}}]
[{"$f":"IF(C39<>C40,C40,\"\")","v":""},{"$f":"IF(C39<>C40,_xlfn.DAYS(C40,C39)+B39,B39)","v":1},{"$f":"IF(D40>0,IF(D40<E39,C39+1,C39),C39)","v":"2009-02-16"},{"$f":"IF((E40+H40+P40+X40+AF40+AN40+AV40+BD40+BL40+BT40+CB40+CJ40)>0,E39,0)","v":"00:00:00"},null,{"$f":"E40-D40","v":"00:00:00"},{"$f":"IF(E40>0,HOUR(F40)+(MINUTE(F40)/60),0)","v":0},{"$f":"IF(H39>0,IF(P40+X40+AF40+AN40+AV40+BD40+BL40+BT40+CB40+CJ40=0,IF(E40>0,H39,0),0),0)","v":0},{"$f":"G40*H40","v":{"v":0,"d":"0.00"}},{"$f":"IF($B40=1,$I40,0)","v":{"v":0,"d":"0.00"}},{"$f":"IF($B40=2,$I40,0)","v":{"v":0,"d":"0.00"}},{"$f":"IF($B40=3,$I40,0)","v":{"v":0,"d":"0.00"}},{"$f":"IF($B40=4,$I40,0)","v":{"v":0,"d":"0.00"}},{"$f":"IF($B40=5,$I40,0)","v":{"v":0,"d":"0.00"}},{"$f":"IF($B40=6,$I40,0)","v":{"v":0,"d":"0.00"}},{"$f":"IF(P39>0,IF(H40+X40+AF40+AN40+AV40+BD40+BL40+BT40+CB40+CJ40=0,IF(E40>0,P39,0),0),0)","v":0},{"$f":"G40*P40","v":{"v":0,"d":"0.00"}},{"$f":"IF(B40=1,Q40,0)","v":{"v":0,"d":"0.00"}},{"$f":"IF(B40=2,Q40,0)","v":{"v":0,"d":"0.00"}},{"$f":"IF(B40=3,Q40,0)","v":{"v":0,"d":"0.00"}},{"$f":"IF(B40=4,Q40,0)","v":{"v":0,"d":"0.00"}},{"$f":"IF(B40=5,Q40,0)","v":{"v":0,"d":"0.00"}},{"$f":"IF(B40=6,Q40,0)","v":{"v":0,"d":"0.00"}},{"$f":"IF(X39>0,IF(H40+P40+AF40+AN40+AV40+BD40+BL40+BT40+CB40+CJ40=0,IF(E40>0,X39,0),0),0)","v":0},{"$f":"G40*X40","v":{"v":0,"d":"0.00"}},{"$f":"IF($B40=1,$Y40,0)","v":{"v":0,"d":"0.00"}},{"$f":"IF($B40=2,$Y40,0)","v":{"v":0,"d":"0.00"}},{"$f":"IF($B40=3,$Y40,0)","v":{"v":0,"d":"0.00"}},{"$f":"IF($B40=4,$Y40,0)","v":{"v":0,"d":"0.00"}},{"$f":"IF($B40=5,$Y40,0)","v":{"v":0,"d":"0.00"}},{"$f":"IF($B40=6,$Y40,0)","v":{"v":0,"d":"0.00"}},{"$f":"IF(AF39>0,IF(H40+P40+X40+AN40+AV40+BD40+BL40+BT40+CB40+CJ40=0,IF(E40>0,AF39,0),0),0)","v":0},{"$f":"G40*AF40","v":{"v":0,"d":"0.00"}},{"$f":"IF($B40=1,$AG40,0)","v":{"v":0,"d":"0.00"}},{"$f":"IF($B40=2,$AG40,0)","v":{"v":0,"d":"0.00"}},{"$f":"IF($B40=3,$AG40,0)","v":{"v":0,"d":"0.00"}},{"$f":"IF($B40=4,$AG40,0)","v":{"v":0,"d":"0.00"}},{"$f":"IF($B40=5,$AG40,0)","v":{"v":0,"d":"0.00"}},{"$f":"IF($B40=6,$AG40,0)","v":{"v":0,"d":"0.00"}},{"$f":"IF(AN39>0,IF(H40+P40+X40+AF40+AV40+BD40+BL40+BT40+CB40+CJ40=0,IF(E40>0,AN39,0),0),0)","v":0},{"$f":"G40*AN40","v":{"v":0,"d":"0.00"}},{"$f":"IF($B40=1,$AO40,0)","v":{"v":0,"d":"0.00"}},{"$f":"IF($B40=2,$AO40,0)","v":{"v":0,"d":"0.00"}},{"$f":"IF($B40=3,$AO40,0)","v":{"v":0,"d":"0.00"}},{"$f":"IF($B40=4,$AO40,0)","v":{"v":0,"d":"0.00"}},{"$f":"IF($B40=5,$AO40,0)","v":{"v":0,"d":"0.00"}},{"$f":"IF($B40=6,$AO40,0)","v":{"v":0,"d":"0.00"}},{"$f":"IF(AV39>0,IF(H40+P40+X40+AF40+AN40+BD40+BL40+BT40+CB40+CJ40=0,IF(E40>0,AV39,0),0),0)","v":0},{"$f":"G40*AV40","v":{"v":0,"d":"0.00"}},{"$f":"IF($B40=1,$AW40,0)","v":{"v":0,"d":"0.00"}},{"$f":"IF($B40=2,$AW40,0)","v":{"v":0,"d":"0.00"}},{"$f":"IF($B40=3,$AW40,0)","v":{"v":0,"d":"0.00"}},{"$f":"IF($B40=4,$AW40,0)","v":{"v":0,"d":"0.00"}},{"$f":"IF($B40=5,$AW40,0)","v":{"v":0,"d":"0.00"}},{"$f":"IF($B40=6,$AW40,0)","v":{"v":0,"d":"0.00"}},{"$f":"IF(BD39>0,IF(H40+P40+X40+AF40+AN40+AV40+BL40+BT40+CB40+CJ40=0,IF(E40>0,BD39,0),0),0)","v":0},{"$f":"G40*BD40","v":{"v":0,"d":"0.00"}},{"$f":"IF($B40=1,$BE40,0)","v":{"v":0,"d":"0.00"}},{"$f":"IF($B40=2,$BE40,0)","v":{"v":0,"d":"0.00"}},{"$f":"IF($B40=3,$BE40,0)","v":{"v":0,"d":"0.00"}},{"$f":"IF($B40=4,$BE40,0)","v":{"v":0,"d":"0.00"}},{"$f":"IF($B40=5,$BE40,0)","v":{"v":0,"d":"0.00"}},{"$f":"IF($B40=6,$BE40,0)","v":{"v":0,"d":"0.00"}},{"$f":"IF(BL39>0,IF(H40+P40+X40+AF40+AN40+AV40+BD40+BT40+CB40+CJ40=0,IF(E40>0,BL39,0),0),0)","v":0},{"$f":"G40*BL40","v":{"v":0,"d":"0.00"}},{"$f":"IF($B40=1,$BM40,0)","v":{"v":0,"d":"0.00"}},{"$f":"IF($B40=2,$BM40,0)","v":{"v":0,"d":"0.00"}},{"$f":"IF($B40=3,$BM40,0)","v":{"v":0,"d":"0.00"}},{"$f":"IF($B40=4,$BM40,0)","v":{"v":0,"d":"0.00"}},{"$f":"IF($B40=5,$BM40,0)","v":{"v":0,"d":"0.00"}},{"$f":"IF($B40=6,$BM40,0)","v":{"v":0,"d":"0.00"}},{"$f":"IF(BT39>0,IF(H40+P40+X40+AF40+AN40+AV40+BD40+BL40+CB40+CJ40=0,IF(E40>0,BT39,0),0),0)","v":0},{"$f":"G40*BT40","v":{"v":0,"d":"0.00"}},{"$f":"IF($B40=1,$BU40,0)","v":{"v":0,"d":"0.00"}},{"$f":"IF($B40=2,$BU40,0)","v":{"v":0,"d":"0.00"}},{"$f":"IF($B40=3,$BU40,0)","v":{"v":0,"d":"0.00"}},{"$f":"IF($B40=4,$BU40,0)","v":{"v":0,"d":"0.00"}},{"$f":"IF($B40=5,$BU40,0)","v":{"v":0,"d":"0.00"}},{"$f":"IF($B40=6,$BU40,0)","v":{"v":0,"d":"0.00"}},{"$f":"IF(CB39>0,IF(H40+P40+X40+AF40+AN40+AV40+BD40+BL40+BT40+CJ40=0,IF(E40>0,CB39,0),0),0)","v":0},{"$f":"G40*CB40","v":{"v":0,"d":"0.00"}},{"$f":"IF($B40=1,$CC40,0)","v":{"v":0,"d":"0.00"}},{"$f":"IF($B40=2,$CC40,0)","v":{"v":0,"d":"0.00"}},{"$f":"IF($B40=3,$CC40,0)","v":{"v":0,"d":"0.00"}},{"$f":"IF($B40=4,$CC40,0)","v":{"v":0,"d":"0.00"}},{"$f":"IF($B40=5,$CC40,0)","v":{"v":0,"d":"0.00"}},{"$f":"IF($B40=6,$CC40,0)","v":{"v":0,"d":"0.00"}},{"$f":"IF(CJ39>0,IF(H40+P40+X40+AF40+AN40+AV40+BD40+BL40+BT40+CB40=0,IF(E40>0,CJ39,0),0),0)","v":0},{"$f":"G40*CJ40","v":{"v":0,"d":"0.00"}},{"$f":"IF($B40=1,$CK40,0)","v":{"v":0,"d":"0.00"}},{"$f":"IF($B40=2,$CK40,0)","v":{"v":0,"d":"0.00"}},{"$f":"IF($B40=3,$CK40,0)","v":{"v":0,"d":"0.00"}},{"$f":"IF($B40=4,$CK40,0)","v":{"v":0,"d":"0.00"}},{"$f":"IF($B40=5,$CK40,0)","v":{"v":0,"d":"0.00"}},{"$f":"IF($B40=6,$CK40,0)","v":{"v":0,"d":"0.00"}}]
[{"$f":"IF(C40<>C41,C41,\"\")","v":""},{"$f":"IF(C40<>C41,_xlfn.DAYS(C41,C40)+B40,B40)","v":1},{"$f":"IF(D41>0,IF(D41<E40,C40+1,C40),C40)","v":"2009-02-16"},{"$f":"IF((E41+H41+P41+X41+AF41+AN41+AV41+BD41+BL41+BT41+CB41+CJ41)>0,E40,0)","v":"00:00:00"},null,{"$f":"E41-D41","v":"00:00:00"},{"$f":"IF(E41>0,HOUR(F41)+(MINUTE(F41)/60),0)","v":0},{"$f":"IF(H40>0,IF(P41+X41+AF41+AN41+AV41+BD41+BL41+BT41+CB41+CJ41=0,IF(E41>0,H40,0),0),0)","v":0},{"$f":"G41*H41","v":{"v":0,"d":"0.00"}},{"$f":"IF($B41=1,$I41,0)","v":{"v":0,"d":"0.00"}},{"$f":"IF($B41=2,$I41,0)","v":{"v":0,"d":"0.00"}},{"$f":"IF($B41=3,$I41,0)","v":{"v":0,"d":"0.00"}},{"$f":"IF($B41=4,$I41,0)","v":{"v":0,"d":"0.00"}},{"$f":"IF($B41=5,$I41,0)","v":{"v":0,"d":"0.00"}},{"$f":"IF($B41=6,$I41,0)","v":{"v":0,"d":"0.00"}},{"$f":"IF(P40>0,IF(H41+X41+AF41+AN41+AV41+BD41+BL41+BT41+CB41+CJ41=0,IF(E41>0,P40,0),0),0)","v":0},{"$f":"G41*P41","v":{"v":0,"d":"0.00"}},{"$f":"IF(B41=1,Q41,0)","v":{"v":0,"d":"0.00"}},{"$f":"IF(B41=2,Q41,0)","v":{"v":0,"d":"0.00"}},{"$f":"IF(B41=3,Q41,0)","v":{"v":0,"d":"0.00"}},{"$f":"IF(B41=4,Q41,0)","v":{"v":0,"d":"0.00"}},{"$f":"IF(B41=5,Q41,0)","v":{"v":0,"d":"0.00"}},{"$f":"IF(B41=6,Q41,0)","v":{"v":0,"d":"0.00"}},{"$f":"IF(X40>0,IF(H41+P41+AF41+AN41+AV41+BD41+BL41+BT41+CB41+CJ41=0,IF(E41>0,X40,0),0),0)","v":0},{"$f":"G41*X41","v":{"v":0,"d":"0.00"}},{"$f":"IF($B41=1,$Y41,0)","v":{"v":0,"d":"0.00"}},{"$f":"IF($B41=2,$Y41,0)","v":{"v":0,"d":"0.00"}},{"$f":"IF($B41=3,$Y41,0)","v":{"v":0,"d":"0.00"}},{"$f":"IF($B41=4,$Y41,0)","v":{"v":0,"d":"0.00"}},{"$f":"IF($B41=5,$Y41,0)","v":{"v":0,"d":"0.00"}},{"$f":"IF($B41=6,$Y41,0)","v":{"v":0,"d":"0.00"}},{"$f":"IF(AF40>0,IF(H41+P41+X41+AN41+AV41+BD41+BL41+BT41+CB41+CJ41=0,IF(E41>0,AF40,0),0),0)","v":0},{"$f":"G41*AF41","v":{"v":0,"d":"0.00"}},{"$f":"IF($B41=1,$AG41,0)","v":{"v":0,"d":"0.00"}},{"$f":"IF($B41=2,$AG41,0)","v":{"v":0,"d":"0.00"}},{"$f":"IF($B41=3,$AG41,0)","v":{"v":0,"d":"0.00"}},{"$f":"IF($B41=4,$AG41,0)","v":{"v":0,"d":"0.00"}},{"$f":"IF($B41=5,$AG41,0)","v":{"v":0,"d":"0.00"}},{"$f":"IF($B41=6,$AG41,0)","v":{"v":0,"d":"0.00"}},{"$f":"IF(AN40>0,IF(H41+P41+X41+AF41+AV41+BD41+BL41+BT41+CB41+CJ41=0,IF(E41>0,AN40,0),0),0)","v":0},{"$f":"G41*AN41","v":{"v":0,"d":"0.00"}},{"$f":"IF($B41=1,$AO41,0)","v":{"v":0,"d":"0.00"}},{"$f":"IF($B41=2,$AO41,0)","v":{"v":0,"d":"0.00"}},{"$f":"IF($B41=3,$AO41,0)","v":{"v":0,"d":"0.00"}},{"$f":"IF($B41=4,$AO41,0)","v":{"v":0,"d":"0.00"}},{"$f":"IF($B41=5,$AO41,0)","v":{"v":0,"d":"0.00"}},{"$f":"IF($B41=6,$AO41,0)","v":{"v":0,"d":"0.00"}},{"$f":"IF(AV40>0,IF(H41+P41+X41+AF41+AN41+BD41+BL41+BT41+CB41+CJ41=0,IF(E41>0,AV40,0),0),0)","v":0},{"$f":"G41*AV41","v":{"v":0,"d":"0.00"}},{"$f":"IF($B41=1,$AW41,0)","v":{"v":0,"d":"0.00"}},{"$f":"IF($B41=2,$AW41,0)","v":{"v":0,"d":"0.00"}},{"$f":"IF($B41=3,$AW41,0)","v":{"v":0,"d":"0.00"}},{"$f":"IF($B41=4,$AW41,0)","v":{"v":0,"d":"0.00"}},{"$f":"IF($B41=5,$AW41,0)","v":{"v":0,"d":"0.00"}},{"$f":"IF($B41=6,$AW41,0)","v":{"v":0,"d":"0.00"}},{"$f":"IF(BD40>0,IF(H41+P41+X41+AF41+AN41+AV41+BL41+BT41+CB41+CJ41=0,IF(E41>0,BD40,0),0),0)","v":0},{"$f":"G41*BD41","v":{"v":0,"d":"0.00"}},{"$f":"IF($B41=1,$BE41,0)","v":{"v":0,"d":"0.00"}},{"$f":"IF($B41=2,$BE41,0)","v":{"v":0,"d":"0.00"}},{"$f":"IF($B41=3,$BE41,0)","v":{"v":0,"d":"0.00"}},{"$f":"IF($B41=4,$BE41,0)","v":{"v":0,"d":"0.00"}},{"$f":"IF($B41=5,$BE41,0)","v":{"v":0,"d":"0.00"}},{"$f":"IF($B41=6,$BE41,0)","v":{"v":0,"d":"0.00"}},{"$f":"IF(BL40>0,IF(H41+P41+X41+AF41+AN41+AV41+BD41+BT41+CB41+CJ41=0,IF(E41>0,BL40,0),0),0)","v":0},{"$f":"G41*BL41","v":{"v":0,"d":"0.00"}},{"$f":"IF($B41=1,$BM41,0)","v":{"v":0,"d":"0.00"}},{"$f":"IF($B41=2,$BM41,0)","v":{"v":0,"d":"0.00"}},{"$f":"IF($B41=3,$BM41,0)","v":{"v":0,"d":"0.00"}},{"$f":"IF($B41=4,$BM41,0)","v":{"v":0,"d":"0.00"}},{"$f":"IF($B41=5,$BM41,0)","v":{"v":0,"d":"0.00"}},{"$f":"IF($B41=6,$BM41,0)","v":{"v":0,"d":"0.00"}},{"$f":"IF(BT40>0,IF(H41+P41+X41+AF41+AN41+AV41+BD41+BL41+CB41+CJ41=0,IF(E41>0,BT40,0),0),0)","v":0},{"$f":"G41*BT41","v":{"v":0,"d":"0.00"}},{"$f":"IF($B41=1,$BU41,0)","v":{"v":0,"d":"0.00"}},{"$f":"IF($B41=2,$BU41,0)","v":{"v":0,"d":"0.00"}},{"$f":"IF($B41=3,$BU41,0)","v":{"v":0,"d":"0.00"}},{"$f":"IF($B41=4,$BU41,0)","v":{"v":0,"d":"0.00"}},{"$f":"IF($B41=5,$BU41,0)","v":{"v":0,"d":"0.00"}},{"$f":"IF($B41=6,$BU41,0)","v":{"v":0,"d":"0.00"}},{"$f":"IF(CB40>0,IF(H41+P41+X41+AF41+AN41+AV41+BD41+BL41+BT41+CJ41=0,IF(E41>0,CB40,0),0),0)","v":0},{"$f":"G41*CB41","v":{"v":0,"d":"0.00"}},{"$f":"IF($B41=1,$CC41,0)","v":{"v":0,"d":"0.00"}},{"$f":"IF($B41=2,$CC41,0)","v":{"v":0,"d":"0.00"}},{"$f":"IF($B41=3,$CC41,0)","v":{"v":0,"d":"0.00"}},{"$f":"IF($B41=4,$CC41,0)","v":{"v":0,"d":"0.00"}},{"$f":"IF($B41=5,$CC41,0)","v":{"v":0,"d":"0.00"}},{"$f":"IF($B41=6,$CC41,0)","v":{"v":0,"d":"0.00"}},{"$f":"IF(CJ40>0,IF(H41+P41+X41+AF41+AN41+AV41+BD41+BL41+BT41+CB41=0,IF(E41>0,CJ40,0),0),0)","v":0},{"$f":"G41*CJ41","v":{"v":0,"d":"0.00"}},{"$f":"IF($B41=1,$CK41,0)","v":{"v":0,"d":"0.00"}},{"$f":"IF($B41=2,$CK41,0)","v":{"v":0,"d":"0.00"}},{"$f":"IF($B41=3,$CK41,0)","v":{"v":0,"d":"0.00"}},{"$f":"IF($B41=4,$CK41,0)","v":{"v":0,"d":"0.00"}},{"$f":"IF($B41=5,$CK41,0)","v":{"v":0,"d":"0.00"}},{"$f":"IF($B41=6,$CK41,0)","v":{"v":0,"d":"0.00"}}]
["Totals",{"$nulls":5},{"$f":"SUM(G5:G41)","v":0},{"$f":"SUM(I5:I41)","v":{"v":0,"d":"0.00"}},null,{"$f":"SUM(J5:J41)","v":{"v":0,"d":"0.00"}},{"$f":"SUM(K5:K41)","v":{"v":0,"d":"0.00"}},{"$f":"SUM(L5:L41)","v":{"v":0,"d":"0.00"}},{"$f":"SUM(M5:M41)","v":{"v":0,"d":"0.00"}},{"$f":"SUM(N5:N41)","v":{"v":0,"d":"0.00"}},{"$f":"SUM(O5:O41)","v":{"v":0,"d":"0.00"}},{"$f":"SUM(Q5:Q41)","v":{"v":0,"d":"0.00"}},null,{"$f":"SUM(R5:R41)","v":{"v":0,"d":"0.00"}},{"$f":"SUM(S5:S41)","v":{"v":0,"d":"0.00"}},{"$f":"SUM(T5:T41)","v":{"v":0,"d":"0.00"}},{"$f":"SUM(U5:U41)","v":{"v":0,"d":"0.00"}},{"$f":"SUM(V5:V41)","v":{"v":0,"d":"0.00"}},{"$f":"SUM(W5:W41)","v":{"v":0,"d":"0.00"}},{"$f":"SUM(Y5:Y41)","v":{"v":0,"d":"0.00"}},null,{"$f":"SUM(Z5:Z41)","v":{"v":0,"d":"0.00"}},{"$f":"SUM(AA5:AA41)","v":{"v":0,"d":"0.00"}},{"$f":"SUM(AB5:AB41)","v":{"v":0,"d":"0.00"}},{"$f":"SUM(AC5:AC41)","v":{"v":0,"d":"0.00"}},{"$f":"SUM(AD5:AD41)","v":{"v":0,"d":"0.00"}},{"$f":"SUM(AE5:AE41)","v":{"v":0,"d":"0.00"}},{"$f":"SUM(AG5:AG41)","v":{"v":0,"d":"0.00"}},null,{"$f":"SUM(AH5:AH41)","v":{"v":0,"d":"0.00"}},{"$f":"SUM(AI5:AI41)","v":{"v":0,"d":"0.00"}},{"$f":"SUM(AJ5:AJ41)","v":{"v":0,"d":"0.00"}},{"$f":"SUM(AK5:AK41)","v":{"v":0,"d":"0.00"}},{"$f":"SUM(AL5:AL41)","v":{"v":0,"d":"0.00"}},{"$f":"SUM(AM5:AM41)","v":{"v":0,"d":"0.00"}},{"$f":"SUM(AO5:AO41)","v":{"v":0,"d":"0.00"}},null,{"$f":"SUM(AP5:AP41)","v":{"v":0,"d":"0.00"}},{"$f":"SUM(AQ5:AQ41)","v":{"v":0,"d":"0.00"}},{"$f":"SUM(AR5:AR41)","v":{"v":0,"d":"0.00"}},{"$f":"SUM(AS5:AS41)","v":{"v":0,"d":"0.00"}},{"$f":"SUM(AT5:AT41)","v":{"v":0,"d":"0.00"}},{"$f":"SUM(AU5:AU41)","v":{"v":0,"d":"0.00"}},{"$f":"SUM(AW5:AW41)","v":{"v":0,"d":"0.00"}},null,{"$f":"SUM(AX5:AX41)","v":{"v":0,"d":"0.00"}},{"$f":"SUM(AY5:AY41)","v":{"v":0,"d":"0.00"}},{"$f":"SUM(AZ5:AZ41)","v":{"v":0,"d":"0.00"}},{"$f":"SUM(BA5:BA41)","v":{"v":0,"d":"0.00"}},{"$f":"SUM(BB5:BB41)","v":{"v":0,"d":"0.00"}},{"$f":"SUM(BC5:BC41)","v":{"v":0,"d":"0.00"}},{"$f":"SUM(BE5:BE41)","v":{"v":0,"d":"0.00"}},null,{"$f":"SUM(BF5:BF41)","v":{"v":0,"d":"0.00"}},{"$f":"SUM(BG5:BG41)","v":{"v":0,"d":"0.00"}},{"$f":"SUM(BH5:BH41)","v":{"v":0,"d":"0.00"}},{"$f":"SUM(BI5:BI41)","v":{"v":0,"d":"0.00"}},{"$f":"SUM(BJ5:BJ41)","v":{"v":0,"d":"0.00"}},{"$f":"SUM(BK5:BK41)","v":{"v":0,"d":"0.00"}},{"$f":"SUM(BM5:BM41)","v":{"v":0,"d":"0.00"}},null,{"$f":"SUM(BN5:BN41)","v":{"v":0,"d":"0.00"}},{"$f":"SUM(BO5:BO41)","v":{"v":0,"d":"0.00"}},{"$f":"SUM(BP5:BP41)","v":{"v":0,"d":"0.00"}},{"$f":"SUM(BQ5:BQ41)","v":{"v":0,"d":"0.00"}},{"$f":"SUM(BR5:BR41)","v":{"v":0,"d":"0.00"}},{"$f":"SUM(BS5:BS41)","v":{"v":0,"d":"0.00"}},{"$f":"SUM(BU5:BU41)","v":{"v":0,"d":"0.00"}},null,{"$f":"SUM(BV5:BV41)","v":{"v":0,"d":"0.00"}},{"$f":"SUM(BW5:BW41)","v":{"v":0,"d":"0.00"}},{"$f":"SUM(BX5:BX41)","v":{"v":0,"d":"0.00"}},{"$f":"SUM(BY5:BY41)","v":{"v":0,"d":"0.00"}},{"$f":"SUM(BZ5:BZ41)","v":{"v":0,"d":"0.00"}},{"$f":"SUM(CA5:CA41)","v":{"v":0,"d":"0.00"}},{"$f":"SUM(CC5:CC41)","v":{"v":0,"d":"0.00"}},null,{"$f":"SUM(CD5:CD41)","v":{"v":0,"d":"0.00"}},{"$f":"SUM(CE5:CE41)","v":{"v":0,"d":"0.00"}},{"$f":"SUM(CF5:CF41)","v":{"v":0,"d":"0.00"}},{"$f":"SUM(CG5:CG41)","v":{"v":0,"d":"0.00"}},{"$f":"SUM(CH5:CH41)","v":{"v":0,"d":"0.00"}},{"$f":"SUM(CI5:CI41)","v":{"v":0,"d":"0.00"}},{"$f":"SUM(CK5:CK41)","v":{"v":0,"d":"0.00"}},null,{"$f":"SUM(CL5:CL41)","v":0},{"$f":"SUM(CM5:CM41)","v":0},{"$f":"SUM(CN5:CN41)","v":0},{"$f":"SUM(CO5:CO41)","v":0},{"$f":"SUM(CP5:CP41)","v":0},{"$f":"SUM(CQ5:CQ41)","v":0}]
[{"$nulls":23},{"$f":"A5","v":"2009-02-16"},{"$nulls":7},{"$f":"X43+1","v":"2009-02-17"},{"$nulls":7},{"$f":"AF43+1","v":"2009-02-18"},{"$nulls":7},{"$f":"AN43+1","v":"2009-02-19"},{"$nulls":7},{"$f":"AV43+1","v":"2009-02-20"}]
[{"$f":"'Week 2'!$A44","v":"T1"},null,null,{"$f":"'Week 2'!$D44","v":"Task 1"},{"$nulls":19},{"$f":"J42","v":0},{"$nulls":7},{"$f":"K42","v":0},{"$nulls":7},{"$f":"L42","v":0},{"$nulls":7},{"$f":"M42","v":0},{"$nulls":7},{"$f":"N42","v":0},{"$nulls":7},{"$f":"O42","v":0},{"$nulls":15},{"$f":"H42","v":0}]
[{"$f":"'Week 2'!$A45","v":2},null,null,{"$f":"'Week 2'!$D45","v":"2"},{"$nulls":19},{"$f":"R42","v":0},{"$nulls":7},{"$f":"S42","v":0},{"$nulls":7},{"$f":"T42","v":0},{"$nulls":7},{"$f":"U42","v":0},{"$nulls":7},{"$f":"V42","v":0},{"$nulls":7},{"$f":"W42","v":0},{"$nulls":15},{"$f":"P42","v":0}]
[{"$f":"'Week 2'!$A46","v":3},null,null,{"$f":"'Week 2'!$D46","v":"3"},{"$nulls":19},{"$f":"Z42","v":0},{"$nulls":7},{"$f":"AA42","v":0},{"$nulls":7},{"$f":"AB42","v":0},{"$nulls":7},{"$f":"AC42","v":0},{"$nulls":7},{"$f":"AD42","v":0},{"$nulls":7},{"$f":"AE42","v":0},{"$nulls":15},{"$f":"X42","v":0}]
[{"$f":"'Week 2'!$A47","v":4},null,null,{"$f":"'Week 2'!$D47","v":"4"},{"$nulls":19},{"$f":"AH42","v":0},{"$nulls":7},{"$f":"AI42","v":0},{"$nulls":7},{"$f":"AJ42","v":0},{"$nulls":7},{"$f":"AK42","v":0},{"$nulls":7},{"$f":"AL42","v":0},{"$nulls":7},{"$f":"AM42","v":0},{"$nulls":15},{"$f":"AF42","v":0}]
[{"$f":"'Week 2'!$A48","v":5},null,null,{"$f":"'Week 2'!$D48","v":"5"},{"$nulls":19},{"$f":"AP42","v":0},{"$nulls":7},{"$f":"AQ42","v":0},{"$nulls":7},{"$f":"AR42","v":0},{"$nulls":7},{"$f":"AS42","v":0},{"$nulls":7},{"$f":"AT42","v":0},{"$nulls":7},{"$f":"AU42","v":0},{"$nulls":15},{"$f":"AN42","v":0}]
[{"$f":"'Week 2'!$A49","v":6},null,null,{"$f":"'Week 2'!$D49","v":"6"},{"$nulls":19},{"$f":"AX42","v":0},{"$nulls":7},{"$f":"AY42","v":0},{"$nulls":7},{"$f":"AZ42","v":0},{"$nulls":7},{"$f":"BA42","v":0},{"$nulls":7},{"$f":"BB42","v":0},{"$nulls":7},{"$f":"BC42","v":0},{"$nulls":15},{"$f":"AV42","v":0}]
[{"$f":"'Week 2'!$A50","v":7},null,null,{"$f":"'Week 2'!$D50","v":7},{"$nulls":19},{"$f":"BF42","v":0},{"$nulls":7},{"$f":"BG42","v":0},{"$nulls":7},{"$f":"BH42","v":0},{"$nulls":7},{"$f":"BI42","v":0},{"$nulls":7},{"$f":"BJ42","v":0},{"$nulls":7},{"$f":"BK42","v":0},{"$nulls":15},{"$f":"BD42","v":0}]
[{"$f":"'Week 2'!$A51","v":8},null,null,{"$f":"'Week 2'!$D51","v":8},{"$nulls":19},{"$f":"BN42","v":0},{"$nulls":7},{"$f":"BO42","v":0},{"$nulls":7},{"$f":"BP42","v":0},{"$nulls":7},{"$f":"BQ42","v":0},{"$nulls":7},{"$f":"BR42","v":0},{"$nulls":7},{"$f":"BS42","v":0},{"$nulls":15},{"$f":"BL42","v":0}]
[{"$f":"'Week 2'!$A52","v":9},null,null,{"$f":"'Week 2'!$D52","v":9},{"$nulls":19},{"$f":"BV42","v":0},{"$nulls":7},{"$f":"BW42","v":0},{"$nulls":7},{"$f":"BX42","v":0},{"$nulls":7},{"$f":"BY42","v":0},{"$nulls":7},{"$f":"BZ42","v":0},{"$nulls":7},{"$f":"CA42","v":0},{"$nulls":15},{"$f":"BT42","v":0}]
[{"$f":"'Week 2'!$A53","v":10},null,null,{"$f":"'Week 2'!$D53","v":10},{"$nulls":19},{"$f":"CD42","v":0},{"$nulls":7},{"$f":"CE42","v":0},{"$nulls":7},{"$f":"CF42","v":0},{"$nulls":7},{"$f":"CG42","v":0},{"$nulls":7},{"$f":"CH42","v":0},{"$nulls":7},{"$f":"CI42","v":0},{"$nulls":15},{"$f":"CB42","v":0}]
[{"$f":"'Week 2'!$A54","v":11},null,null,{"$f":"'Week 2'!$D54","v":11},{"$nulls":19},{"$f":"CL42","v":0},{"$nulls":7},{"$f":"CM42","v":0},{"$nulls":7},{"$f":"CN42","v":0},{"$nulls":7},{"$f":"CO42","v":0},{"$nulls":7},{"$f":"CP42","v":0},{"$nulls":7},{"$f":"CQ42","v":0},{"$nulls":15},{"$f":"CJ42","v":0}]
["Totals",{"$nulls":22},{"$f":"SUM(X44:X54)","v":0},{"$nulls":7},{"$f":"SUM(AF44:AF54)","v":0},{"$nulls":7},{"$f":"SUM(AN44:AN54)","v":0},{"$nulls":7},{"$f":"SUM(AV44:AV54)","v":0},{"$nulls":7},{"$f":"SUM(BD44:BD54)","v":0},{"$nulls":7},{"$f":"SUM(BL44:BL54)","v":0},{"$nulls":15},{"$f":"SUM(CB44:CB54)","v":0}]

{"sheet":"Week 4","index":4,"n_rows":55,"n_cols":95,"rows_kept":55}
[1,2,3,4,5,6,null,{"$f":"CONCATENATE(\"Timesheet for \",'Week 1'!$A$1,\" for period \",TEXT(DAY(A5),\"00\"),\"/\",TEXT(MONTH(A5),\"00\"),\"/\",TEXT(YEAR(A5)-2000,\"00\"),\" to \",TEXT(DAY(A5+6),\"00\"),\"/\",TEXT(MONTH(A5+6),\"00\"),\"/\",TEXT(YEAR(A5+6)-2000,\"00\"))","v":"Timesheet for 'Name in cell A1' for period 23/02/09 to 01/03/09"}]
[]
[{"$nulls":6},"                                           Tasks"]
["Date",null,null,"From","To",null,"Hrs",{"$f":"A44","v":"T1"},{"$nulls":7},{"$f":"A45","v":2},{"$nulls":7},{"$f":"A46","v":3},{"$nulls":7},{"$f":"A47","v":4},{"$nulls":7},{"$f":"A48","v":5},{"$nulls":7},{"$f":"A49","v":6},{"$nulls":7},{"$f":"A50","v":7},{"$nulls":7},{"$f":"A51","v":8},{"$nulls":7},{"$f":"A52","v":9},{"$nulls":7},{"$f":"A53","v":10},{"$nulls":7},{"$f":"A54","v":11}]
[{"$f":"'Week 3'!$A5+7","v":"2009-02-23"},1,{"$f":"A5","v":"2009-02-23"},"10:30:00","10:30:00",{"$f":"E5-D5","v":"00:00:00"},{"$f":"IF(E5>0,HOUR(F5)+(MINUTE(F5)/60),0)","v":0},0,{"$f":"G5*H5","v":{"v":0,"d":"0.00"}},{"$f":"IF($B5=1,$I5,0)","v":{"v":0,"d":"0.00"}},{"$f":"IF($B5=2,$I5,0)","v":{"v":0,"d":"0.00"}},{"$f":"IF($B5=3,$I5,0)","v":{"v":0,"d":"0.00"}},{"$f":"IF($B5=4,$I5,0)","v":{"v":0,"d":"0.00"}},{"$f":"IF($B5=5,$I5,0)","v":{"v":0,"d":"0.00"}},{"$f":"IF($B5=6,$I5,0)","v":{"v":0,"d":"0.00"}},0,{"$f":"G5*P5","v":{"v":0,"d":"0.00"}},{"$f":"IF($B5=1,$Q5,0)","v":{"v":0,"d":"0.00"}},{"$f":"IF($B5=2,$Q5,0)","v":{"v":0,"d":"0.00"}},{"$f":"IF(B5=3,Q5,0)","v":{"v":0,"d":"0.00"}},{"$f":"IF(B5=4,Q5,0)","v":{"v":0,"d":"0.00"}},{"$f":"IF(B5=5,Q5,0)","v":{"v":0,"d":"0.00"}},{"$f":"IF(B5>5,Q5,0)","v":{"v":0,"d":"0.00"}},0,{"$f":"G5*X5","v":{"v":0,"d":"0.00"}},{"$f":"IF($B5=1,$Y5,0)","v":{"v":0,"d":"0.00"}},{"$f":"IF($B5=2,$Y5,0)","v":{"v":0,"d":"0.00"}},{"$f":"IF($B5=3,$Y5,0)","v":{"v":0,"d":"0.00"}},{"$f":"IF($B5=4,$Y5,0)","v":{"v":0,"d":"0.00"}},{"$f":"IF($B5=5,$Y5,0)","v":{"v":0,"d":"0.00"}},{"$f":"IF($B5>5,$Y5,0)","v":{"v":0,"d":"0.00"}},0,{"$f":"G5*AF5","v":{"v":0,"d":"0.00"}},{"$f":"IF($B5=1,$AG5,0)","v":{"v":0,"d":"0.00"}},{"$f":"IF($B5=2,$AG5,0)","v":{"v":0,"d":"0.00"}},{"$f":"IF($B5=3,$AG5,0)","v":{"v":0,"d":"0.00"}},{"$f":"IF($B5=4,$AG5,0)","v":{"v":0,"d":"0.00"}},{"$f":"IF($B5=5,$AG5,0)","v":{"v":0,"d":"0.00"}},{"$f":"IF($B5=6,$AG5,0)","v":{"v":0,"d":"0.00"}},0,{"$f":"G5*AN5","v":{"v":0,"d":"0.00"}},{"$f":"IF($B5=1,$AO5,0)","v":{"v":0,"d":"0.00"}},{"$f":"IF($B5=2,$AO5,0)","v":{"v":0,"d":"0.00"}},{"$f":"IF($B5=3,$AO5,0)","v":{"v":0,"d":"0.00"}},{"$f":"IF($B5=4,$AO5,0)","v":{"v":0,"d":"0.00"}},{"$f":"IF($B5=5,$AO5,0)","v":{"v":0,"d":"0.00"}},{"$f":"IF($B5=6,$AO5,0)","v":{"v":0,"d":"0.00"}},0,{"$f":"G5*AV5","v":{"v":0,"d":"0.00"}},{"$f":"IF($B5=1,$AW5,0)","v":{"v":0,"d":"0.00"}},{"$f":"IF($B5=2,$AW5,0)","v":{"v":0,"d":"0.00"}},{"$f":"IF($B5=3,$AW5,0)","v":{"v":0,"d":"0.00"}},{"$f":"IF($B5=4,$AW5,0)","v":{"v":0,"d":"0.00"}},{"$f":"IF($B5=5,$AW5,0)","v":{"v":0,"d":"0.00"}},{"$f":"IF($B5=6,$AW5,0)","v":{"v":0,"d":"0.00"}},0,{"$f":"G5*BD5","v":{"v":0,"d":"0.00"}},{"$f":"IF($B5=1,$BE5,0)","v":{"v":0,"d":"0.00"}},{"$f":"IF($B5=2,$BE5,0)","v":{"v":0,"d":"0.00"}},{"$f":"IF($B5=3,$BE5,0)","v":{"v":0,"d":"0.00"}},{"$f":"IF($B5=4,$BE5,0)","v":{"v":0,"d":"0.00"}},{"$f":"IF($B5=5,$BE5,0)","v":{"v":0,"d":"0.00"}},{"$f":"IF($B5=6,$BE5,0)","v":{"v":0,"d":"0.00"}},0,{"$f":"G5*BL5","v":{"v":0,"d":"0.00"}},{"$f":"IF($B5=1,$BM5,0)","v":{"v":0,"d":"0.00"}},{"$f":"IF($B5=2,$BM5,0)","v":{"v":0,"d":"0.00"}},{"$f":"IF($B5=3,$BM5,0)","v":{"v":0,"d":"0.00"}},{"$f":"IF($B5=4,$BM5,0)","v":{"v":0,"d":"0.00"}},{"$f":"IF($B5=5,$BM5,0)","v":{"v":0,"d":"0.00"}},{"$f":"IF($B5=6,$BM5,0)","v":{"v":0,"d":"0.00"}},0,{"$f":"G5*BT5","v":{"v":0,"d":"0.00"}},{"$f":"IF($B5=1,$BU5,0)","v":{"v":0,"d":"0.00"}},{"$f":"IF($B5=2,$BU5,0)","v":{"v":0,"d":"0.00"}},{"$f":"IF($B5=3,$BU5,0)","v":{"v":0,"d":"0.00"}},{"$f":"IF($B5=4,$BU5,0)","v":{"v":0,"d":"0.00"}},{"$f":"IF($B5=5,$BU5,0)","v":{"v":0,"d":"0.00"}},{"$f":"IF($B5=6,$BU5,0)","v":{"v":0,"d":"0.00"}},0,{"$f":"G5*CB5","v":{"v":0,"d":"0.00"}},{"$f":"IF($B5=1,$CC5,0)","v":{"v":0,"d":"0.00"}},{"$f":"IF($B5=2,$CC5,0)","v":{"v":0,"d":"0.00"}},{"$f":"IF($B5=3,$CC5,0)","v":{"v":0,"d":"0.00"}},{"$f":"IF($B5=4,$CC5,0)","v":{"v":0,"d":"0.00"}},{"$f":"IF($B5=5,$CC5,0)","v":{"v":0,"d":"0.00"}},{"$f":"IF($B5=6,$CC5,0)","v":{"v":0,"d":"0.00"}},0,{"$f":"G5*CJ5","v":{"v":0,"d":"0.00"}},{"$f":"IF($B5=1,$CK5,0)","v":{"v":0,"d":"0.00"}},{"$f":"IF($B5=2,$CK5,0)","v":{"v":0,"d":"0.00"}},{"$f":"IF($B5=3,$CK5,0)","v":{"v":0,"d":"0.00"}},{"$f":"IF($B5=4,$CK5,0)","v":{"v":0,"d":"0.00"}},{"$f":"IF($B5=5,$CK5,0)","v":{"v":0,"d":"0.00"}},{"$f":"IF($B5=6,$CK5,0)","v":{"v":0,"d":"0.00"}}]
[{"$f":"IF(C5<>C6,C6,\"\")","v":""},{"$f":"IF(C5<>C6,_xlfn.DAYS(C6,C5)+B5,B5)","v":1},{"$f":"IF(D6>0,IF(D6<E5,C5+1,C5),C5)","v":"2009-02-23"},{"$f":"IF((E6+H6+P6+X6+AF6+AN6+AV6+BD6+BL6+BT6+CB6+CJ6)>0,E5,0)","v":"00:00:00"},null,{"$f":"E6-D6","v":"00:00:00"},{"$f":"IF(E6>0,HOUR(F6)+(MINUTE(F6)/60),0)","v":0},{"$f":"IF(H5>0,IF(P6+X6+AF6+AN6+AV6+BD6+BL6+BT6+CB6+CJ6=0,IF(E6>0,H5,0),0),0)","v":0},{"$f":"G6*H6","v":{"v":0,"d":"0.00"}},{"$f":"IF($B6=1,$I6,0)","v":{"v":0,"d":"0.00"}},{"$f":"IF($B6=2,$I6,0)","v":{"v":0,"d":"0.00"}},{"$f":"IF($B6=3,$I6,0)","v":{"v":0,"d":"0.00"}},{"$f":"IF($B6=4,$I6,0)","v":{"v":0,"d":"0.00"}},{"$f":"IF($B6=5,$I6,0)","v":{"v":0,"d":"0.00"}},{"$f":"IF($B6=6,$I6,0)","v":{"v":0,"d":"0.00"}},{"$f":"IF(P5>0,IF(H6+X6+AF6+AN6+AV6+BD6+BL6+BT6+CB6+CJ6=0,IF(E6>0,P5,0),0),0)","v":0},{"$f":"G6*P6","v":{"v":0,"d":"0.00"}},{"$f":"IF(B6=1,Q6,0)","v":{"v":0,"d":"0.00"}},{"$f":"IF(B6=2,Q6,0)","v":{"v":0,"d":"0.00"}},{"$f":"IF(B6=3,Q6,0)","v":{"v":0,"d":"0.00"}},{"$f":"IF(B6=4,Q6,0)","v":{"v":0,"d":"0.00"}},{"$f":"IF(B6=5,Q6,0)","v":{"v":0,"d":"0.00"}},{"$f":"IF(B6=6,Q6,0)","v":{"v":0,"d":"0.00"}},{"$f":"IF(X5>0,IF(H6+P6+AF6+AN6+AV6+BD6+BL6+BT6+CB6+CJ6=0,IF(E6>0,X5,0),0),0)","v":0},{"$f":"G6*X6","v":{"v":0,"d":"0.00"}},{"$f":"IF($B6=1,$Y6,0)","v":{"v":0,"d":"0.00"}},{"$f":"IF($B6=2,$Y6,0)","v":{"v":0,"d":"0.00"}},{"$f":"IF($B6=3,$Y6,0)","v":{"v":0,"d":"0.00"}},{"$f":"IF($B6=4,$Y6,0)","v":{"v":0,"d":"0.00"}},{"$f":"IF($B6=5,$Y6,0)","v":{"v":0,"d":"0.00"}},{"$f":"IF($B6=6,$Y6,0)","v":{"v":0,"d":"0.00"}},{"$f":"IF(AF5>0,IF(H6+P6+X6+AN6+AV6+BD6+BL6+BT6+CB6+CJ6=0,IF(E6>0,AF5,0),0),0)","v":0},{"$f":"G6*AF6","v":{"v":0,"d":"0.00"}},{"$f":"IF($B6=1,$AG6,0)","v":{"v":0,"d":"0.00"}},{"$f":"IF($B6=2,$AG6,0)","v":{"v":0,"d":"0.00"}},{"$f":"IF($B6=3,$AG6,0)","v":{"v":0,"d":"0.00"}},{"$f":"IF($B6=4,$AG6,0)","v":{"v":0,"d":"0.00"}},{"$f":"IF($B6=5,$AG6,0)","v":{"v":0,"d":"0.00"}},{"$f":"IF($B6=6,$AG6,0)","v":{"v":0,"d":"0.00"}},{"$f":"IF(AN5>0,IF(H6+P6+X6+AF6+AV6+BD6+BL6+BT6+CB6+CJ6=0,IF(E6>0,AN5,0),0),0)","v":0},{"$f":"G6*AN6","v":{"v":0,"d":"0.00"}},{"$f":"IF($B6=1,$AO6,0)","v":{"v":0,"d":"0.00"}},{"$f":"IF($B6=2,$AO6,0)","v":{"v":0,"d":"0.00"}},{"$f":"IF($B6=3,$AO6,0)","v":{"v":0,"d":"0.00"}},{"$f":"IF($B6=4,$AO6,0)","v":{"v":0,"d":"0.00"}},{"$f":"IF($B6=5,$AO6,0)","v":{"v":0,"d":"0.00"}},{"$f":"IF($B6=6,$AO6,0)","v":{"v":0,"d":"0.00"}},{"$f":"IF(AV5>0,IF(H6+P6+X6+AF6+AN6+BD6+BL6+BT6+CB6+CJ6=0,IF(E6>0,AV5,0),0),0)","v":0},{"$f":"G6*AV6","v":{"v":0,"d":"0.00"}},{"$f":"IF($B6=1,$AW6,0)","v":{"v":0,"d":"0.00"}},{"$f":"IF($B6=2,$AW6,0)","v":{"v":0,"d":"0.00"}},{"$f":"IF($B6=3,$AW6,0)","v":{"v":0,"d":"0.00"}},{"$f":"IF($B6=4,$AW6,0)","v":{"v":0,"d":"0.00"}},{"$f":"IF($B6=5,$AW6,0)","v":{"v":0,"d":"0.00"}},{"$f":"IF($B6=6,$AW6,0)","v":{"v":0,"d":"0.00"}},{"$f":"IF(BD5>0,IF(H6+P6+X6+AF6+AN6+AV6+BL6+BT6+CB6+CJ6=0,IF(E6>0,BD5,0),0),0)","v":0},{"$f":"G6*BD6","v":{"v":0,"d":"0.00"}},{"$f":"IF($B6=1,$BE6,0)","v":{"v":0,"d":"0.00"}},{"$f":"IF($B6=2,$BE6,0)","v":{"v":0,"d":"0.00"}},{"$f":"IF($B6=3,$BE6,0)","v":{"v":0,"d":"0.00"}},{"$f":"IF($B6=4,$BE6,0)","v":{"v":0,"d":"0.00"}},{"$f":"IF($B6=5,$BE6,0)","v":{"v":0,"d":"0.00"}},{"$f":"IF($B6=6,$BE6,0)","v":{"v":0,"d":"0.00"}},{"$f":"IF(BL5>0,IF(H6+P6+X6+AF6+AN6+AV6+BD6+BT6+CB6+CJ6=0,IF(E6>0,BL5,0),0),0)","v":0},{"$f":"G6*BL6","v":{"v":0,"d":"0.00"}},{"$f":"IF($B6=1,$BM6,0)","v":{"v":0,"d":"0.00"}},{"$f":"IF($B6=2,$BM6,0)","v":{"v":0,"d":"0.00"}},{"$f":"IF($B6=3,$BM6,0)","v":{"v":0,"d":"0.00"}},{"$f":"IF($B6=4,$BM6,0)","v":{"v":0,"d":"0.00"}},{"$f":"IF($B6=5,$BM6,0)","v":{"v":0,"d":"0.00"}},{"$f":"IF($B6=6,$BM6,0)","v":{"v":0,"d":"0.00"}},{"$f":"IF(BT5>0,IF(H6+P6+X6+AF6+AN6+AV6+BD6+BL6+CB6+CJ6=0,IF(E6>0,BT5,0),0),0)","v":0},{"$f":"G6*BT6","v":{"v":0,"d":"0.00"}},{"$f":"IF($B6=1,$BU6,0)","v":{"v":0,"d":"0.00"}},{"$f":"IF($B6=2,$BU6,0)","v":{"v":0,"d":"0.00"}},{"$f":"IF($B6=3,$BU6,0)","v":{"v":0,"d":"0.00"}},{"$f":"IF($B6=4,$BU6,0)","v":{"v":0,"d":"0.00"}},{"$f":"IF($B6=5,$BU6,0)","v":{"v":0,"d":"0.00"}},{"$f":"IF($B6=6,$BU6,0)","v":{"v":0,"d":"0.00"}},{"$f":"IF(CB5>0,IF(H6+P6+X6+AF6+AN6+AV6+BD6+BL6+BT6+CJ6=0,IF(E6>0,CB5,0),0),0)","v":0},{"$f":"G6*CB6","v":{"v":0,"d":"0.00"}},{"$f":"IF($B6=1,$CC6,0)","v":{"v":0,"d":"0.00"}},{"$f":"IF($B6=2,$CC6,0)","v":{"v":0,"d":"0.00"}},{"$f":"IF($B6=3,$CC6,0)","v":{"v":0,"d":"0.00"}},{"$f":"IF($B6=4,$CC6,0)","v":{"v":0,"d":"0.00"}},{"$f":"IF($B6=5,$CC6,0)","v":{"v":0,"d":"0.00"}},{"$f":"IF($B6=6,$CC6,0)","v":{"v":0,"d":"0.00"}},{"$f":"IF(CJ5>0,IF(H6+P6+X6+AF6+AN6+AV6+BD6+BL6+BT6+CB6=0,IF(E6>0,CJ5,0),0),0)","v":0},{"$f":"G6*CJ6","v":{"v":0,"d":"0.00"}},{"$f":"IF($B6=1,$CK6,0)","v":{"v":0,"d":"0.00"}},{"$f":"IF($B6=2,$CK6,0)","v":{"v":0,"d":"0.00"}},{"$f":"IF($B6=3,$CK6,0)","v":{"v":0,"d":"0.00"}},{"$f":"IF($B6=4,$CK6,0)","v":{"v":0,"d":"0.00"}},{"$f":"IF($B6=5,$CK6,0)","v":{"v":0,"d":"0.00"}},{"$f":"IF($B6=6,$CK6,0)","v":{"v":0,"d":"0.00"}}]
[{"$f":"IF(C6<>C7,C7,\"\")","v":""},{"$f":"IF(C6<>C7,_xlfn.DAYS(C7,C6)+B6,B6)","v":1},{"$f":"IF(D7>0,IF(D7<E6,C6+1,C6),C6)","v":"2009-02-23"},{"$f":"IF((E7+H7+P7+X7+AF7+AN7+AV7+BD7+BL7+BT7+CB7+CJ7)>0,E6,0)","v":"00:00:00"},null,{"$f":"E7-D7","v":"00:00:00"},{"$f":"IF(E7>0,HOUR(F7)+(MINUTE(F7)/60),0)","v":0},{"$f":"IF(H6>0,IF(P7+X7+AF7+AN7+AV7+BD7+BL7+BT7+CB7+CJ7=0,IF(E7>0,H6,0),0),0)","v":0},{"$f":"G7*H7","v":{"v":0,"d":"0.00"}},{"$f":"IF($B7=1,$I7,0)","v":{"v":0,"d":"0.00"}},{"$f":"IF($B7=2,$I7,0)","v":{"v":0,"d":"0.00"}},{"$f":"IF($B7=3,$I7,0)","v":{"v":0,"d":"0.00"}},{"$f":"IF($B7=4,$I7,0)","v":{"v":0,"d":"0.00"}},{"$f":"IF($B7=5,$I7,0)","v":{"v":0,"d":"0.00"}},{"$f":"IF($B7=6,$I7,0)","v":{"v":0,"d":"0.00"}},{"$f":"IF(P6>0,IF(H7+X7+AF7+AN7+AV7+BD7+BL7+BT7+CB7+CJ7=0,IF(E7>0,P6,0),0),0)","v":0},{"$f":"G7*P7","v":{"v":0,"d":"0.00"}},{"$f":"IF(B7=1,Q7,0)","v":{"v":0,"d":"0.00"}},{"$f":"IF(B7=2,Q7,0)","v":{"v":0,"d":"0.00"}},{"$f":"IF(B7=3,Q7,0)","v":{"v":0,"d":"0.00"}},{"$f":"IF(B7=4,Q7,0)","v":{"v":0,"d":"0.00"}},{"$f":"IF(B7=5,Q7,0)","v":{"v":0,"d":"0.00"}},{"$f":"IF(B7=6,Q7,0)","v":{"v":0,"d":"0.00"}},{"$f":"IF(X6>0,IF(H7+P7+AF7+AN7+AV7+BD7+BL7+BT7+CB7+CJ7=0,IF(E7>0,X6,0),0),0)","v":0},{"$f":"G7*X7","v":{"v":0,"d":"0.00"}},{"$f":"IF($B7=1,$Y7,0)","v":{"v":0,"d":"0.00"}},{"$f":"IF($B7=2,$Y7,0)","v":{"v":0,"d":"0.00"}},{"$f":"IF($B7=3,$Y7,0)","v":{"v":0,"d":"0.00"}},{"$f":"IF($B7=4,$Y7,0)","v":{"v":0,"d":"0.00"}},{"$f":"IF($B7=5,$Y7,0)","v":{"v":0,"d":"0.00"}},{"$f":"IF($B7=6,$Y7,0)","v":{"v":0,"d":"0.00"}},{"$f":"IF(AF6>0,IF(H7+P7+X7+AN7+AV7+BD7+BL7+BT7+CB7+CJ7=0,IF(E7>0,AF6,0),0),0)","v":0},{"$f":"G7*AF7","v":{"v":0,"d":"0.00"}},{"$f":"IF($B7=1,$AG7,0)","v":{"v":0,"d":"0.00"}},{"$f":"IF($B7=2,$AG7,0)","v":{"v":0,"d":"0.00"}},{"$f":"IF($B7=3,$AG7,0)","v":{"v":0,"d":"0.00"}},{"$f":"IF($B7=4,$AG7,0)","v":{"v":0,"d":"0.00"}},{"$f":"IF($B7=5,$AG7,0)","v":{"v":0,"d":"0.00"}},{"$f":"IF($B7=6,$AG7,0)","v":{"v":0,"d":"0.00"}},{"$f":"IF(AN6>0,IF(H7+P7+X7+AF7+AV7+BD7+BL7+BT7+CB7+CJ7=0,IF(E7>0,AN6,0),0),0)","v":0},{"$f":"G7*AN7","v":{"v":0,"d":"0.00"}},{"$f":"IF($B7=1,$AO7,0)","v":{"v":0,"d":"0.00"}},{"$f":"IF($B7=2,$AO7,0)","v":{"v":0,"d":"0.00"}},{"$f":"IF($B7=3,$AO7,0)","v":{"v":0,"d":"0.00"}},{"$f":"IF($B7=4,$AO7,0)","v":{"v":0,"d":"0.00"}},{"$f":"IF($B7=5,$AO7,0)","v":{"v":0,"d":"0.00"}},{"$f":"IF($B7=6,$AO7,0)","v":{"v":0,"d":"0.00"}},{"$f":"IF(AV6>0,IF(H7+P7+X7+AF7+AN7+BD7+BL7+BT7+CB7+CJ7=0,IF(E7>0,AV6,0),0),0)","v":0},{"$f":"G7*AV7","v":{"v":0,"d":"0.00"}},{"$f":"IF($B7=1,$AW7,0)","v":{"v":0,"d":"0.00"}},{"$f":"IF($B7=2,$AW7,0)","v":{"v":0,"d":"0.00"}},{"$f":"IF($B7=3,$AW7,0)","v":{"v":0,"d":"0.00"}},{"$f":"IF($B7=4,$AW7,0)","v":{"v":0,"d":"0.00"}},{"$f":"IF($B7=5,$AW7,0)","v":{"v":0,"d":"0.00"}},{"$f":"IF($B7=6,$AW7,0)","v":{"v":0,"d":"0.00"}},{"$f":"IF(BD6>0,IF(H7+P7+X7+AF7+AN7+AV7+BL7+BT7+CB7+CJ7=0,IF(E7>0,BD6,0),0),0)","v":0},{"$f":"G7*BD7","v":{"v":0,"d":"0.00"}},{"$f":"IF($B7=1,$BE7,0)","v":{"v":0,"d":"0.00"}},{"$f":"IF($B7=2,$BE7,0)","v":{"v":0,"d":"0.00"}},{"$f":"IF($B7=3,$BE7,0)","v":{"v":0,"d":"0.00"}},{"$f":"IF($B7=4,$BE7,0)","v":{"v":0,"d":"0.00"}},{"$f":"IF($B7=5,$BE7,0)","v":{"v":0,"d":"0.00"}},{"$f":"IF($B7=6,$BE7,0)","v":{"v":0,"d":"0.00"}},{"$f":"IF(BL6>0,IF(H7+P7+X7+AF7+AN7+AV7+BD7+BT7+CB7+CJ7=0,IF(E7>0,BL6,0),0),0)","v":0},{"$f":"G7*BL7","v":{"v":0,"d":"0.00"}},{"$f":"IF($B7=1,$BM7,0)","v":{"v":0,"d":"0.00"}},{"$f":"IF($B7=2,$BM7,0)","v":{"v":0,"d":"0.00"}},{"$f":"IF($B7=3,$BM7,0)","v":{"v":0,"d":"0.00"}},{"$f":"IF($B7=4,$BM7,0)","v":{"v":0,"d":"0.00"}},{"$f":"IF($B7=5,$BM7,0)","v":{"v":0,"d":"0.00"}},{"$f":"IF($B7=6,$BM7,0)","v":{"v":0,"d":"0.00"}},{"$f":"IF(BT6>0,IF(H7+P7+X7+AF7+AN7+AV7+BD7+BL7+CB7+CJ7=0,IF(E7>0,BT6,0),0),0)","v":0},{"$f":"G7*BT7","v":{"v":0,"d":"0.00"}},{"$f":"IF($B7=1,$BU7,0)","v":{"v":0,"d":"0.00"}},{"$f":"IF($B7=2,$BU7,0)","v":{"v":0,"d":"0.00"}},{"$f":"IF($B7=3,$BU7,0)","v":{"v":0,"d":"0.00"}},{"$f":"IF($B7=4,$BU7,0)","v":{"v":0,"d":"0.00"}},{"$f":"IF($B7=5,$BU7,0)","v":{"v":0,"d":"0.00"}},{"$f":"IF($B7=6,$BU7,0)","v":{"v":0,"d":"0.00"}},{"$f":"IF(CB6>0,IF(H7+P7+X7+AF7+AN7+AV7+BD7+BL7+BT7+CJ7=0,IF(E7>0,CB6,0),0),0)","v":0},{"$f":"G7*CB7","v":{"v":0,"d":"0.00"}},{"$f":"IF($B7=1,$CC7,0)","v":{"v":0,"d":"0.00"}},{"$f":"IF($B7=2,$CC7,0)","v":{"v":0,"d":"0.00"}},{"$f":"IF($B7=3,$CC7,0)","v":{"v":0,"d":"0.00"}},{"$f":"IF($B7=4,$CC7,0)","v":{"v":0,"d":"0.00"}},{"$f":"IF($B7=5,$CC7,0)","v":{"v":0,"d":"0.00"}},{"$f":"IF($B7=6,$CC7,0)","v":{"v":0,"d":"0.00"}},{"$f":"IF(CJ6>0,IF(H7+P7+X7+AF7+AN7+AV7+BD7+BL7+BT7+CB7=0,IF(E7>0,CJ6,0),0),0)","v":0},{"$f":"G7*CJ7","v":{"v":0,"d":"0.00"}},{"$f":"IF($B7=1,$CK7,0)","v":{"v":0,"d":"0.00"}},{"$f":"IF($B7=2,$CK7,0)","v":{"v":0,"d":"0.00"}},{"$f":"IF($B7=3,$CK7,0)","v":{"v":0,"d":"0.00"}},{"$f":"IF($B7=4,$CK7,0)","v":{"v":0,"d":"0.00"}},{"$f":"IF($B7=5,$CK7,0)","v":{"v":0,"d":"0.00"}},{"$f":"IF($B7=6,$CK7,0)","v":{"v":0,"d":"0.00"}}]
[{"$f":"IF(C7<>C8,C8,\"\")","v":""},{"$f":"IF(C7<>C8,_xlfn.DAYS(C8,C7)+B7,B7)","v":1},{"$f":"IF(D8>0,IF(D8<E7,C7+1,C7),C7)","v":"2009-02-23"},{"$f":"IF((E8+H8+P8+X8+AF8+AN8+AV8+BD8+BL8+BT8+CB8+CJ8)>0,E7,0)","v":"00:00:00"},null,{"$f":"E8-D8","v":"00:00:00"},{"$f":"IF(E8>0,HOUR(F8)+(MINUTE(F8)/60),0)","v":0},{"$f":"IF(H7>0,IF(P8+X8+AF8+AN8+AV8+BD8+BL8+BT8+CB8+CJ8=0,IF(E8>0,H7,0),0),0)","v":0},{"$f":"G8*H8","v":{"v":0,"d":"0.00"}},{"$f":"IF($B8=1,$I8,0)","v":{"v":0,"d":"0.00"}},{"$f":"IF($B8=2,$I8,0)","v":{"v":0,"d":"0.00"}},{"$f":"IF($B8=3,$I8,0)","v":{"v":0,"d":"0.00"}},{"$f":"IF($B8=4,$I8,0)","v":{"v":0,"d":"0.00"}},{"$f":"IF($B8=5,$I8,0)","v":{"v":0,"d":"0.00"}},{"$f":"IF($B8=6,$I8,0)","v":{"v":0,"d":"0.00"}},{"$f":"IF(P7>0,IF(H8+X8+AF8+AN8+AV8+BD8+BL8+BT8+CB8+CJ8=0,IF(E8>0,P7,0),0),0)","v":0},{"$f":"G8*P8","v":{"v":0,"d":"0.00"}},{"$f":"IF(B8=1,Q8,0)","v":{"v":0,"d":"0.00"}},{"$f":"IF(B8=2,Q8,0)","v":{"v":0,"d":"0.00"}},{"$f":"IF(B8=3,Q8,0)","v":{"v":0,"d":"0.00"}},{"$f":"IF(B8=4,Q8,0)","v":{"v":0,"d":"0.00"}},{"$f":"IF(B8=5,Q8,0)","v":{"v":0,"d":"0.00"}},{"$f":"IF(B8=6,Q8,0)","v":{"v":0,"d":"0.00"}},{"$f":"IF(X7>0,IF(H8+P8+AF8+AN8+AV8+BD8+BL8+BT8+CB8+CJ8=0,IF(E8>0,X7,0),0),0)","v":0},{"$f":"G8*X8","v":{"v":0,"d":"0.00"}},{"$f":"IF($B8=1,$Y8,0)","v":{"v":0,"d":"0.00"}},{"$f":"IF($B8=2,$Y8,0)","v":{"v":0,"d":"0.00"}},{"$f":"IF($B8=3,$Y8,0)","v":{"v":0,"d":"0.00"}},{"$f":"IF($B8=4,$Y8,0)","v":{"v":0,"d":"0.00"}},{"$f":"IF($B8=5,$Y8,0)","v":{"v":0,"d":"0.00"}},{"$f":"IF($B8=6,$Y8,0)","v":{"v":0,"d":"0.00"}},{"$f":"IF(AF7>0,IF(H8+P8+X8+AN8+AV8+BD8+BL8+BT8+CB8+CJ8=0,IF(E8>0,AF7,0),0),0)","v":0},{"$f":"G8*AF8","v":{"v":0,"d":"0.00"}},{"$f":"IF($B8=1,$AG8,0)","v":{"v":0,"d":"0.00"}},{"$f":"IF($B8=2,$AG8,0)","v":{"v":0,"d":"0.00"}},{"$f":"IF($B8=3,$AG8,0)","v":{"v":0,"d":"0.00"}},{"$f":"IF($B8=4,$AG8,0)","v":{"v":0,"d":"0.00"}},{"$f":"IF($B8=5,$AG8,0)","v":{"v":0,"d":"0.00"}},{"$f":"IF($B8=6,$AG8,0)","v":{"v":0,"d":"0.00"}},{"$f":"IF(AN7>0,IF(H8+P8+X8+AF8+AV8+BD8+BL8+BT8+CB8+CJ8=0,IF(E8>0,AN7,0),0),0)","v":0},{"$f":"G8*AN8","v":{"v":0,"d":"0.00"}},{"$f":"IF($B8=1,$AO8,0)","v":{"v":0,"d":"0.00"}},{"$f":"IF($B8=2,$AO8,0)","v":{"v":0,"d":"0.00"}},{"$f":"IF($B8=3,$AO8,0)","v":{"v":0,"d":"0.00"}},{"$f":"IF($B8=4,$AO8,0)","v":{"v":0,"d":"0.00"}},{"$f":"IF($B8=5,$AO8,0)","v":{"v":0,"d":"0.00"}},{"$f":"IF($B8=6,$AO8,0)","v":{"v":0,"d":"0.00"}},{"$f":"IF(AV7>0,IF(H8+P8+X8+AF8+AN8+BD8+BL8+BT8+CB8+CJ8=0,IF(E8>0,AV7,0),0),0)","v":0},{"$f":"G8*AV8","v":{"v":0,"d":"0.00"}},{"$f":"IF($B8=1,$AW8,0)","v":{"v":0,"d":"0.00"}},{"$f":"IF($B8=2,$AW8,0)","v":{"v":0,"d":"0.00"}},{"$f":"IF($B8=3,$AW8,0)","v":{"v":0,"d":"0.00"}},{"$f":"IF($B8=4,$AW8,0)","v":{"v":0,"d":"0.00"}},{"$f":"IF($B8=5,$AW8,0)","v":{"v":0,"d":"0.00"}},{"$f":"IF($B8=6,$AW8,0)","v":{"v":0,"d":"0.00"}},{"$f":"IF(BD7>0,IF(H8+P8+X8+AF8+AN8+AV8+BL8+BT8+CB8+CJ8=0,IF(E8>0,BD7,0),0),0)","v":0},{"$f":"G8*BD8","v":{"v":0,"d":"0.00"}},{"$f":"IF($B8=1,$BE8,0)","v":{"v":0,"d":"0.00"}},{"$f":"IF($B8=2,$BE8,0)","v":{"v":0,"d":"0.00"}},{"$f":"IF($B8=3,$BE8,0)","v":{"v":0,"d":"0.00"}},{"$f":"IF($B8=4,$BE8,0)","v":{"v":0,"d":"0.00"}},{"$f":"IF($B8=5,$BE8,0)","v":{"v":0,"d":"0.00"}},{"$f":"IF($B8=6,$BE8,0)","v":{"v":0,"d":"0.00"}},{"$f":"IF(BL7>0,IF(H8+P8+X8+AF8+AN8+AV8+BD8+BT8+CB8+CJ8=0,IF(E8>0,BL7,0),0),0)","v":0},{"$f":"G8*BL8","v":{"v":0,"d":"0.00"}},{"$f":"IF($B8=1,$BM8,0)","v":{"v":0,"d":"0.00"}},{"$f":"IF($B8=2,$BM8,0)","v":{"v":0,"d":"0.00"}},{"$f":"IF($B8=3,$BM8,0)","v":{"v":0,"d":"0.00"}},{"$f":"IF($B8=4,$BM8,0)","v":{"v":0,"d":"0.00"}},{"$f":"IF($B8=5,$BM8,0)","v":{"v":0,"d":"0.00"}},{"$f":"IF($B8=6,$BM8,0)","v":{"v":0,"d":"0.00"}},{"$f":"IF(BT7>0,IF(H8+P8+X8+AF8+AN8+AV8+BD8+BL8+CB8+CJ8=0,IF(E8>0,BT7,0),0),0)","v":0},{"$f":"G8*BT8","v":{"v":0,"d":"0.00"}},{"$f":"IF($B8=1,$BU8,0)","v":{"v":0,"d":"0.00"}},{"$f":"IF($B8=2,$BU8,0)","v":{"v":0,"d":"0.00"}},{"$f":"IF($B8=3,$BU8,0)","v":{"v":0,"d":"0.00"}},{"$f":"IF($B8=4,$BU8,0)","v":{"v":0,"d":"0.00"}},{"$f":"IF($B8=5,$BU8,0)","v":{"v":0,"d":"0.00"}},{"$f":"IF($B8=6,$BU8,0)","v":{"v":0,"d":"0.00"}},{"$f":"IF(CB7>0,IF(H8+P8+X8+AF8+AN8+AV8+BD8+BL8+BT8+CJ8=0,IF(E8>0,CB7,0),0),0)","v":0},{"$f":"G8*CB8","v":{"v":0,"d":"0.00"}},{"$f":"IF($B8=1,$CC8,0)","v":{"v":0,"d":"0.00"}},{"$f":"IF($B8=2,$CC8,0)","v":{"v":0,"d":"0.00"}},{"$f":"IF($B8=3,$CC8,0)","v":{"v":0,"d":"0.00"}},{"$f":"IF($B8=4,$CC8,0)","v":{"v":0,"d":"0.00"}},{"$f":"IF($B8=5,$CC8,0)","v":{"v":0,"d":"0.00"}},{"$f":"IF($B8=6,$CC8,0)","v":{"v":0,"d":"0.00"}},{"$f":"IF(CJ7>0,IF(H8+P8+X8+AF8+AN8+AV8+BD8+BL8+BT8+CB8=0,IF(E8>0,CJ7,0),0),0)","v":0},{"$f":"G8*CJ8","v":{"v":0,"d":"0.00"}},{"$f":"IF($B8=1,$CK8,0)","v":{"v":0,"d":"0.00"}},{"$f":"IF($B8=2,$CK8,0)","v":{"v":0,"d":"0.00"}},{"$f":"IF($B8=3,$CK8,0)","v":{"v":0,"d":"0.00"}},{"$f":"IF($B8=4,$CK8,0)","v":{"v":0,"d":"0.00"}},{"$f":"IF($B8=5,$CK8,0)","v":{"v":0,"d":"0.00"}},{"$f":"IF($B8=6,$CK8,0)","v":{"v":0,"d":"0.00"}}]
[{"$f":"IF(C8<>C9,C9,\"\")","v":""},{"$f":"IF(C8<>C9,_xlfn.DAYS(C9,C8)+B8,B8)","v":1},{"$f":"IF(D9>0,IF(D9<E8,C8+1,C8),C8)","v":"2009-02-23"},{"$f":"IF((E9+H9+P9+X9+AF9+AN9+AV9+BD9+BL9+BT9+CB9+CJ9)>0,E8,0)","v":"00:00:00"},null,{"$f":"E9-D9","v":"00:00:00"},{"$f":"IF(E9>0,HOUR(F9)+(MINUTE(F9)/60),0)","v":0},{"$f":"IF(H8>0,IF(P9+X9+AF9+AN9+AV9+BD9+BL9+BT9+CB9+CJ9=0,IF(E9>0,H8,0),0),0)","v":0},{"$f":"G9*H9","v":{"v":0,"d":"0.00"}},{"$f":"IF($B9=1,$I9,0)","v":{"v":0,"d":"0.00"}},{"$f":"IF($B9=2,$I9,0)","v":{"v":0,"d":"0.00"}},{"$f":"IF($B9=3,$I9,0)","v":{"v":0,"d":"0.00"}},{"$f":"IF($B9=4,$I9,0)","v":{"v":0,"d":"0.00"}},{"$f":"IF($B9=5,$I9,0)","v":{"v":0,"d":"0.00"}},{"$f":"IF($B9=6,$I9,0)","v":{"v":0,"d":"0.00"}},{"$f":"IF(P8>0,IF(H9+X9+AF9+AN9+AV9+BD9+BL9+BT9+CB9+CJ9=0,IF(E9>0,P8,0),0),0)","v":0},{"$f":"G9*P9","v":{"v":0,"d":"0.00"}},{"$f":"IF(B9=1,Q9,0)","v":{"v":0,"d":"0.00"}},{"$f":"IF(B9=2,Q9,0)","v":{"v":0,"d":"0.00"}},{"$f":"IF(B9=3,Q9,0)","v":{"v":0,"d":"0.00"}},{"$f":"IF(B9=4,Q9,0)","v":{"v":0,"d":"0.00"}},{"$f":"IF(B9=5,Q9,0)","v":{"v":0,"d":"0.00"}},{"$f":"IF(B9=6,Q9,0)","v":{"v":0,"d":"0.00"}},{"$f":"IF(X8>0,IF(H9+P9+AF9+AN9+AV9+BD9+BL9+BT9+CB9+CJ9=0,IF(E9>0,X8,0),0),0)","v":0},{"$f":"G9*X9","v":{"v":0,"d":"0.00"}},{"$f":"IF($B9=1,$Y9,0)","v":{"v":0,"d":"0.00"}},{"$f":"IF($B9=2,$Y9,0)","v":{"v":0,"d":"0.00"}},{"$f":"IF($B9=3,$Y9,0)","v":{"v":0,"d":"0.00"}},{"$f":"IF($B9=4,$Y9,0)","v":{"v":0,"d":"0.00"}},{"$f":"IF($B9=5,$Y9,0)","v":{"v":0,"d":"0.00"}},{"$f":"IF($B9=6,$Y9,0)","v":{"v":0,"d":"0.00"}},{"$f":"IF(AF8>0,IF(H9+P9+X9+AN9+AV9+BD9+BL9+BT9+CB9+CJ9=0,IF(E9>0,AF8,0),0),0)","v":0},{"$f":"G9*AF9","v":{"v":0,"d":"0.00"}},{"$f":"IF($B9=1,$AG9,0)","v":{"v":0,"d":"0.00"}},{"$f":"IF($B9=2,$AG9,0)","v":{"v":0,"d":"0.00"}},{"$f":"IF($B9=3,$AG9,0)","v":{"v":0,"d":"0.00"}},{"$f":"IF($B9=4,$AG9,0)","v":{"v":0,"d":"0.00"}},{"$f":"IF($B9=5,$AG9,0)","v":{"v":0,"d":"0.00"}},{"$f":"IF($B9=6,$AG9,0)","v":{"v":0,"d":"0.00"}},{"$f":"IF(AN8>0,IF(H9+P9+X9+AF9+AV9+BD9+BL9+BT9+CB9+CJ9=0,IF(E9>0,AN8,0),0),0)","v":0},{"$f":"G9*AN9","v":{"v":0,"d":"0.00"}},{"$f":"IF($B9=1,$AO9,0)","v":{"v":0,"d":"0.00"}},{"$f":"IF($B9=2,$AO9,0)","v":{"v":0,"d":"0.00"}},{"$f":"IF($B9=3,$AO9,0)","v":{"v":0,"d":"0.00"}},{"$f":"IF($B9=4,$AO9,0)","v":{"v":0,"d":"0.00"}},{"$f":"IF($B9=5,$AO9,0)","v":{"v":0,"d":"0.00"}},{"$f":"IF($B9=6,$AO9,0)","v":{"v":0,"d":"0.00"}},{"$f":"IF(AV8>0,IF(H9+P9+X9+AF9+AN9+BD9+BL9+BT9+CB9+CJ9=0,IF(E9>0,AV8,0),0),0)","v":0},{"$f":"G9*AV9","v":{"v":0,"d":"0.00"}},{"$f":"IF($B9=1,$AW9,0)","v":{"v":0,"d":"0.00"}},{"$f":"IF($B9=2,$AW9,0)","v":{"v":0,"d":"0.00"}},{"$f":"IF($B9=3,$AW9,0)","v":{"v":0,"d":"0.00"}},{"$f":"IF($B9=4,$AW9,0)","v":{"v":0,"d":"0.00"}},{"$f":"IF($B9=5,$AW9,0)","v":{"v":0,"d":"0.00"}},{"$f":"IF($B9=6,$AW9,0)","v":{"v":0,"d":"0.00"}},{"$f":"IF(BD8>0,IF(H9+P9+X9+AF9+AN9+AV9+BL9+BT9+CB9+CJ9=0,IF(E9>0,BD8,0),0),0)","v":0},{"$f":"G9*BD9","v":{"v":0,"d":"0.00"}},{"$f":"IF($B9=1,$BE9,0)","v":{"v":0,"d":"0.00"}},{"$f":"IF($B9=2,$BE9,0)","v":{"v":0,"d":"0.00"}},{"$f":"IF($B9=3,$BE9,0)","v":{"v":0,"d":"0.00"}},{"$f":"IF($B9=4,$BE9,0)","v":{"v":0,"d":"0.00"}},{"$f":"IF($B9=5,$BE9,0)","v":{"v":0,"d":"0.00"}},{"$f":"IF($B9=6,$BE9,0)","v":{"v":0,"d":"0.00"}},{"$f":"IF(BL8>0,IF(H9+P9+X9+AF9+AN9+AV9+BD9+BT9+CB9+CJ9=0,IF(E9>0,BL8,0),0),0)","v":0},{"$f":"G9*BL9","v":{"v":0,"d":"0.00"}},{"$f":"IF($B9=1,$BM9,0)","v":{"v":0,"d":"0.00"}},{"$f":"IF($B9=2,$BM9,0)","v":{"v":0,"d":"0.00"}},{"$f":"IF($B9=3,$BM9,0)","v":{"v":0,"d":"0.00"}},{"$f":"IF($B9=4,$BM9,0)","v":{"v":0,"d":"0.00"}},{"$f":"IF($B9=5,$BM9,0)","v":{"v":0,"d":"0.00"}},{"$f":"IF($B9=6,$BM9,0)","v":{"v":0,"d":"0.00"}},{"$f":"IF(BT8>0,IF(H9+P9+X9+AF9+AN9+AV9+BD9+BL9+CB9+CJ9=0,IF(E9>0,BT8,0),0),0)","v":0},{"$f":"G9*BT9","v":{"v":0,"d":"0.00"}},{"$f":"IF($B9=1,$BU9,0)","v":{"v":0,"d":"0.00"}},{"$f":"IF($B9=2,$BU9,0)","v":{"v":0,"d":"0.00"}},{"$f":"IF($B9=3,$BU9,0)","v":{"v":0,"d":"0.00"}},{"$f":"IF($B9=4,$BU9,0)","v":{"v":0,"d":"0.00"}},{"$f":"IF($B9=5,$BU9,0)","v":{"v":0,"d":"0.00"}},{"$f":"IF($B9=6,$BU9,0)","v":{"v":0,"d":"0.00"}},{"$f":"IF(CB8>0,IF(H9+P9+X9+AF9+AN9+AV9+BD9+BL9+BT9+CJ9=0,IF(E9>0,CB8,0),0),0)","v":0},{"$f":"G9*CB9","v":{"v":0,"d":"0.00"}},{"$f":"IF($B9=1,$CC9,0)","v":{"v":0,"d":"0.00"}},{"$f":"IF($B9=2,$CC9,0)","v":{"v":0,"d":"0.00"}},{"$f":"IF($B9=3,$CC9,0)","v":{"v":0,"d":"0.00"}},{"$f":"IF($B9=4,$CC9,0)","v":{"v":0,"d":"0.00"}},{"$f":"IF($B9=5,$CC9,0)","v":{"v":0,"d":"0.00"}},{"$f":"IF($B9=6,$CC9,0)","v":{"v":0,"d":"0.00"}},{"$f":"IF(CJ8>0,IF(H9+P9+X9+AF9+AN9+AV9+BD9+BL9+BT9+CB9=0,IF(E9>0,CJ8,0),0),0)","v":0},{"$f":"G9*CJ9","v":{"v":0,"d":"0.00"}},{"$f":"IF($B9=1,$CK9,0)","v":{"v":0,"d":"0.00"}},{"$f":"IF($B9=2,$CK9,0)","v":{"v":0,"d":"0.00"}},{"$f":"IF($B9=3,$CK9,0)","v":{"v":0,"d":"0.00"}},{"$f":"IF($B9=4,$CK9,0)","v":{"v":0,"d":"0.00"}},{"$f":"IF($B9=5,$CK9,0)","v":{"v":0,"d":"0.00"}},{"$f":"IF($B9=6,$CK9,0)","v":{"v":0,"d":"0.00"}}]
[{"$f":"IF(C9<>C10,C10,\"\")","v":""},{"$f":"IF(C9<>C10,_xlfn.DAYS(C10,C9)+B9,B9)","v":1},{"$f":"IF(D10>0,IF(D10<E9,C9+1,C9),C9)","v":"2009-02-23"},{"$f":"IF((E10+H10+P10+X10+AF10+AN10+AV10+BD10+BL10+BT10+CB10+CJ10)>0,E9,0)","v":"00:00:00"},null,{"$f":"E10-D10","v":"00:00:00"},{"$f":"IF(E10>0,HOUR(F10)+(MINUTE(F10)/60),0)","v":0},{"$f":"IF(H9>0,IF(P10+X10+AF10+AN10+AV10+BD10+BL10+BT10+CB10+CJ10=0,IF(E10>0,H9,0),0),0)","v":0},{"$f":"G10*H10","v":{"v":0,"d":"0.00"}},{"$f":"IF($B10=1,$I10,0)","v":{"v":0,"d":"0.00"}},{"$f":"IF($B10=2,$I10,0)","v":{"v":0,"d":"0.00"}},{"$f":"IF($B10=3,$I10,0)","v":{"v":0,"d":"0.00"}},{"$f":"IF($B10=4,$I10,0)","v":{"v":0,"d":"0.00"}},{"$f":"IF($B10=5,$I10,0)","v":{"v":0,"d":"0.00"}},{"$f":"IF($B10=6,$I10,0)","v":{"v":0,"d":"0.00"}},{"$f":"IF(P9>0,IF(H10+X10+AF10+AN10+AV10+BD10+BL10+BT10+CB10+CJ10=0,IF(E10>0,P9,0),0),0)","v":0},{"$f":"G10*P10","v":{"v":0,"d":"0.00"}},{"$f":"IF(B10=1,Q10,0)","v":{"v":0,"d":"0.00"}},{"$f":"IF(B10=2,Q10,0)","v":{"v":0,"d":"0.00"}},{"$f":"IF(B10=3,Q10,0)","v":{"v":0,"d":"0.00"}},{"$f":"IF(B10=4,Q10,0)","v":{"v":0,"d":"0.00"}},{"$f":"IF(B10=5,Q10,0)","v":{"v":0,"d":"0.00"}},{"$f":"IF(B10=6,Q10,0)","v":{"v":0,"d":"0.00"}},{"$f":"IF(X9>0,IF(H10+P10+AF10+AN10+AV10+BD10+BL10+BT10+CB10+CJ10=0,IF(E10>0,X9,0),0),0)","v":0},{"$f":"G10*X10","v":{"v":0,"d":"0.00"}},{"$f":"IF($B10=1,$Y10,0)","v":{"v":0,"d":"0.00"}},{"$f":"IF($B10=2,$Y10,0)","v":{"v":0,"d":"0.00"}},{"$f":"IF($B10=3,$Y10,0)","v":{"v":0,"d":"0.00"}},{"$f":"IF($B10=4,$Y10,0)","v":{"v":0,"d":"0.00"}},{"$f":"IF($B10=5,$Y10,0)","v":{"v":0,"d":"0.00"}},{"$f":"IF($B10=6,$Y10,0)","v":{"v":0,"d":"0.00"}},{"$f":"IF(AF9>0,IF(H10+P10+X10+AN10+AV10+BD10+BL10+BT10+CB10+CJ10=0,IF(E10>0,AF9,0),0),0)","v":0},{"$f":"G10*AF10","v":{"v":0,"d":"0.00"}},{"$f":"IF($B10=1,$AG10,0)","v":{"v":0,"d":"0.00"}},{"$f":"IF($B10=2,$AG10,0)","v":{"v":0,"d":"0.00"}},{"$f":"IF($B10=3,$AG10,0)","v":{"v":0,"d":"0.00"}},{"$f":"IF($B10=4,$AG10,0)","v":{"v":0,"d":"0.00"}},{"$f":"IF($B10=5,$AG10,0)","v":{"v":0,"d":"0.00"}},{"$f":"IF($B10=6,$AG10,0)","v":{"v":0,"d":"0.00"}},{"$f":"IF(AN9>0,IF(H10+P10+X10+AF10+AV10+BD10+BL10+BT10+CB10+CJ10=0,IF(E10>0,AN9,0),0),0)","v":0},{"$f":"G10*AN10","v":{"v":0,"d":"0.00"}},{"$f":"IF($B10=1,$AO10,0)","v":{"v":0,"d":"0.00"}},{"$f":"IF($B10=2,$AO10,0)","v":{"v":0,"d":"0.00"}},{"$f":"IF($B10=3,$AO10,0)","v":{"v":0,"d":"0.00"}},{"$f":"IF($B10=4,$AO10,0)","v":{"v":0,"d":"0.00"}},{"$f":"IF($B10=5,$AO10,0)","v":{"v":0,"d":"0.00"}},{"$f":"IF($B10=6,$AO10,0)","v":{"v":0,"d":"0.00"}},{"$f":"IF(AV9>0,IF(H10+P10+X10+AF10+AN10+BD10+BL10+BT10+CB10+CJ10=0,IF(E10>0,AV9,0),0),0)","v":0},{"$f":"G10*AV10","v":{"v":0,"d":"0.00"}},{"$f":"IF($B10=1,$AW10,0)","v":{"v":0,"d":"0.00"}},{"$f":"IF($B10=2,$AW10,0)","v":{"v":0,"d":"0.00"}},{"$f":"IF($B10=3,$AW10,0)","v":{"v":0,"d":"0.00"}},{"$f":"IF($B10=4,$AW10,0)","v":{"v":0,"d":"0.00"}},{"$f":"IF($B10=5,$AW10,0)","v":{"v":0,"d":"0.00"}},{"$f":"IF($B10=6,$AW10,0)","v":{"v":0,"d":"0.00"}},{"$f":"IF(BD9>0,IF(H10+P10+X10+AF10+AN10+AV10+BL10+BT10+CB10+CJ10=0,IF(E10>0,BD9,0),0),0)","v":0},{"$f":"G10*BD10","v":{"v":0,"d":"0.00"}},{"$f":"IF($B10=1,$BE10,0)","v":{"v":0,"d":"0.00"}},{"$f":"IF($B10=2,$BE10,0)","v":{"v":0,"d":"0.00"}},{"$f":"IF($B10=3,$BE10,0)","v":{"v":0,"d":"0.00"}},{"$f":"IF($B10=4,$BE10,0)","v":{"v":0,"d":"0.00"}},{"$f":"IF($B10=5,$BE10,0)","v":{"v":0,"d":"0.00"}},{"$f":"IF($B10=6,$BE10,0)","v":{"v":0,"d":"0.00"}},{"$f":"IF(BL9>0,IF(H10+P10+X10+AF10+AN10+AV10+BD10+BT10+CB10+CJ10=0,IF(E10>0,BL9,0),0),0)","v":0},{"$f":"G10*BL10","v":{"v":0,"d":"0.00"}},{"$f":"IF($B10=1,$BM10,0)","v":{"v":0,"d":"0.00"}},{"$f":"IF($B10=2,$BM10,0)","v":{"v":0,"d":"0.00"}},{"$f":"IF($B10=3,$BM10,0)","v":{"v":0,"d":"0.00"}},{"$f":"IF($B10=4,$BM10,0)","v":{"v":0,"d":"0.00"}},{"$f":"IF($B10=5,$BM10,0)","v":{"v":0,"d":"0.00"}},{"$f":"IF($B10=6,$BM10,0)","v":{"v":0,"d":"0.00"}},{"$f":"IF(BT9>0,IF(H10+P10+X10+AF10+AN10+AV10+BD10+BL10+CB10+CJ10=0,IF(E10>0,BT9,0),0),0)","v":0},{"$f":"G10*BT10","v":{"v":0,"d":"0.00"}},{"$f":"IF($B10=1,$BU10,0)","v":{"v":0,"d":"0.00"}},{"$f":"IF($B10=2,$BU10,0)","v":{"v":0,"d":"0.00"}},{"$f":"IF($B10=3,$BU10,0)","v":{"v":0,"d":"0.00"}},{"$f":"IF($B10=4,$BU10,0)","v":{"v":0,"d":"0.00"}},{"$f":"IF($B10=5,$BU10,0)","v":{"v":0,"d":"0.00"}},{"$f":"IF($B10=6,$BU10,0)","v":{"v":0,"d":"0.00"}},{"$f":"IF(CB9>0,IF(H10+P10+X10+AF10+AN10+AV10+BD10+BL10+BT10+CJ10=0,IF(E10>0,CB9,0),0),0)","v":0},{"$f":"G10*CB10","v":{"v":0,"d":"0.00"}},{"$f":"IF($B10=1,$CC10,0)","v":{"v":0,"d":"0.00"}},{"$f":"IF($B10=2,$CC10,0)","v":{"v":0,"d":"0.00"}},{"$f":"IF($B10=3,$CC10,0)","v":{"v":0,"d":"0.00"}},{"$f":"IF($B10=4,$CC10,0)","v":{"v":0,"d":"0.00"}},{"$f":"IF($B10=5,$CC10,0)","v":{"v":0,"d":"0.00"}},{"$f":"IF($B10=6,$CC10,0)","v":{"v":0,"d":"0.00"}},{"$f":"IF(CJ9>0,IF(H10+P10+X10+AF10+AN10+AV10+BD10+BL10+BT10+CB10=0,IF(E10>0,CJ9,0),0),0)","v":0},{"$f":"G10*CJ10","v":{"v":0,"d":"0.00"}},{"$f":"IF($B10=1,$CK10,0)","v":{"v":0,"d":"0.00"}},{"$f":"IF($B10=2,$CK10,0)","v":{"v":0,"d":"0.00"}},{"$f":"IF($B10=3,$CK10,0)","v":{"v":0,"d":"0.00"}},{"$f":"IF($B10=4,$CK10,0)","v":{"v":0,"d":"0.00"}},{"$f":"IF($B10=5,$CK10,0)","v":{"v":0,"d":"0.00"}},{"$f":"IF($B10=6,$CK10,0)","v":{"v":0,"d":"0.00"}}]
[{"$f":"IF(C10<>C11,C11,\"\")","v":""},{"$f":"IF(C10<>C11,_xlfn.DAYS(C11,C10)+B10,B10)","v":1},{"$f":"IF(D11>0,IF(D11<E10,C10+1,C10),C10)","v":"2009-02-23"},{"$f":"IF((E11+H11+P11+X11+AF11+AN11+AV11+BD11+BL11+BT11+CB11+CJ11)>0,E10,0)","v":"00:00:00"},null,{"$f":"E11-D11","v":"00:00:00"},{"$f":"IF(E11>0,HOUR(F11)+(MINUTE(F11)/60),0)","v":0},{"$f":"IF(H10>0,IF(P11+X11+AF11+AN11+AV11+BD11+BL11+BT11+CB11+CJ11=0,IF(E11>0,H10,0),0),0)","v":0},{"$f":"G11*H11","v":{"v":0,"d":"0.00"}},{"$f":"IF($B11=1,$I11,0)","v":{"v":0,"d":"0.00"}},{"$f":"IF($B11=2,$I11,0)","v":{"v":0,"d":"0.00"}},{"$f":"IF($B11=3,$I11,0)","v":{"v":0,"d":"0.00"}},{"$f":"IF($B11=4,$I11,0)","v":{"v":0,"d":"0.00"}},{"$f":"IF($B11=5,$I11,0)","v":{"v":0,"d":"0.00"}},{"$f":"IF($B11=6,$I11,0)","v":{"v":0,"d":"0.00"}},{"$f":"IF(P10>0,IF(H11+X11+AF11+AN11+AV11+BD11+BL11+BT11+CB11+CJ11=0,IF(E11>0,P10,0),0),0)","v":0},{"$f":"G11*P11","v":{"v":0,"d":"0.00"}},{"$f":"IF(B11=1,Q11,0)","v":{"v":0,"d":"0.00"}},{"$f":"IF(B11=2,Q11,0)","v":{"v":0,"d":"0.00"}},{"$f":"IF(B11=3,Q11,0)","v":{"v":0,"d":"0.00"}},{"$f":"IF(B11=4,Q11,0)","v":{"v":0,"d":"0.00"}},{"$f":"IF(B11=5,Q11,0)","v":{"v":0,"d":"0.00"}},{"$f":"IF(B11=6,Q11,0)","v":{"v":0,"d":"0.00"}},{"$f":"IF(X10>0,IF(H11+P11+AF11+AN11+AV11+BD11+BL11+BT11+CB11+CJ11=0,IF(E11>0,X10,0),0),0)","v":0},{"$f":"G11*X11","v":{"v":0,"d":"0.00"}},{"$f":"IF($B11=1,$Y11,0)","v":{"v":0,"d":"0.00"}},{"$f":"IF($B11=2,$Y11,0)","v":{"v":0,"d":"0.00"}},{"$f":"IF($B11=3,$Y11,0)","v":{"v":0,"d":"0.00"}},{"$f":"IF($B11=4,$Y11,0)","v":{"v":0,"d":"0.00"}},{"$f":"IF($B11=5,$Y11,0)","v":{"v":0,"d":"0.00"}},{"$f":"IF($B11=6,$Y11,0)","v":{"v":0,"d":"0.00"}},{"$f":"IF(AF10>0,IF(H11+P11+X11+AN11+AV11+BD11+BL11+BT11+CB11+CJ11=0,IF(E11>0,AF10,0),0),0)","v":0},{"$f":"G11*AF11","v":{"v":0,"d":"0.00"}},{"$f":"IF($B11=1,$AG11,0)","v":{"v":0,"d":"0.00"}},{"$f":"IF($B11=2,$AG11,0)","v":{"v":0,"d":"0.00"}},{"$f":"IF($B11=3,$AG11,0)","v":{"v":0,"d":"0.00"}},{"$f":"IF($B11=4,$AG11,0)","v":{"v":0,"d":"0.00"}},{"$f":"IF($B11=5,$AG11,0)","v":{"v":0,"d":"0.00"}},{"$f":"IF($B11=6,$AG11,0)","v":{"v":0,"d":"0.00"}},{"$f":"IF(AN10>0,IF(H11+P11+X11+AF11+AV11+BD11+BL11+BT11+CB11+CJ11=0,IF(E11>0,AN10,0),0),0)","v":0},{"$f":"G11*AN11","v":{"v":0,"d":"0.00"}},{"$f":"IF($B11=1,$AO11,0)","v":{"v":0,"d":"0.00"}},{"$f":"IF($B11=2,$AO11,0)","v":{"v":0,"d":"0.00"}},{"$f":"IF($B11=3,$AO11,0)","v":{"v":0,"d":"0.00"}},{"$f":"IF($B11=4,$AO11,0)","v":{"v":0,"d":"0.00"}},{"$f":"IF($B11=5,$AO11,0)","v":{"v":0,"d":"0.00"}},{"$f":"IF($B11=6,$AO11,0)","v":{"v":0,"d":"0.00"}},{"$f":"IF(AV10>0,IF(H11+P11+X11+AF11+AN11+BD11+BL11+BT11+CB11+CJ11=0,IF(E11>0,AV10,0),0),0)","v":0},{"$f":"G11*AV11","v":{"v":0,"d":"0.00"}},{"$f":"IF($B11=1,$AW11,0)","v":{"v":0,"d":"0.00"}},{"$f":"IF($B11=2,$AW11,0)","v":{"v":0,"d":"0.00"}},{"$f":"IF($B11=3,$AW11,0)","v":{"v":0,"d":"0.00"}},{"$f":"IF($B11=4,$AW11,0)","v":{"v":0,"d":"0.00"}},{"$f":"IF($B11=5,$AW11,0)","v":{"v":0,"d":"0.00"}},{"$f":"IF($B11=6,$AW11,0)","v":{"v":0,"d":"0.00"}},{"$f":"IF(BD10>0,IF(H11+P11+X11+AF11+AN11+AV11+BL11+BT11+CB11+CJ11=0,IF(E11>0,BD10,0),0),0)","v":0},{"$f":"G11*BD11","v":{"v":0,"d":"0.00"}},{"$f":"IF($B11=1,$BE11,0)","v":{"v":0,"d":"0.00"}},{"$f":"IF($B11=2,$BE11,0)","v":{"v":0,"d":"0.00"}},{"$f":"IF($B11=3,$BE11,0)","v":{"v":0,"d":"0.00"}},{"$f":"IF($B11=4,$BE11,0)","v":{"v":0,"d":"0.00"}},{"$f":"IF($B11=5,$BE11,0)","v":{"v":0,"d":"0.00"}},{"$f":"IF($B11=6,$BE11,0)","v":{"v":0,"d":"0.00"}},{"$f":"IF(BL10>0,IF(H11+P11+X11+AF11+AN11+AV11+BD11+BT11+CB11+CJ11=0,IF(E11>0,BL10,0),0),0)","v":0},{"$f":"G11*BL11","v":{"v":0,"d":"0.00"}},{"$f":"IF($B11=1,$BM11,0)","v":{"v":0,"d":"0.00"}},{"$f":"IF($B11=2,$BM11,0)","v":{"v":0,"d":"0.00"}},{"$f":"IF($B11=3,$BM11,0)","v":{"v":0,"d":"0.00"}},{"$f":"IF($B11=4,$BM11,0)","v":{"v":0,"d":"0.00"}},{"$f":"IF($B11=5,$BM11,0)","v":{"v":0,"d":"0.00"}},{"$f":"IF($B11=6,$BM11,0)","v":{"v":0,"d":"0.00"}},{"$f":"IF(BT10>0,IF(H11+P11+X11+AF11+AN11+AV11+BD11+BL11+CB11+CJ11=0,IF(E11>0,BT10,0),0),0)","v":0},{"$f":"G11*BT11","v":{"v":0,"d":"0.00"}},{"$f":"IF($B11=1,$BU11,0)","v":{"v":0,"d":"0.00"}},{"$f":"IF($B11=2,$BU11,0)","v":{"v":0,"d":"0.00"}},{"$f":"IF($B11=3,$BU11,0)","v":{"v":0,"d":"0.00"}},{"$f":"IF($B11=4,$BU11,0)","v":{"v":0,"d":"0.00"}},{"$f":"IF($B11=5,$BU11,0)","v":{"v":0,"d":"0.00"}},{"$f":"IF($B11=6,$BU11,0)","v":{"v":0,"d":"0.00"}},{"$f":"IF(CB10>0,IF(H11+P11+X11+AF11+AN11+AV11+BD11+BL11+BT11+CJ11=0,IF(E11>0,CB10,0),0),0)","v":0},{"$f":"G11*CB11","v":{"v":0,"d":"0.00"}},{"$f":"IF($B11=1,$CC11,0)","v":{"v":0,"d":"0.00"}},{"$f":"IF($B11=2,$CC11,0)","v":{"v":0,"d":"0.00"}},{"$f":"IF($B11=3,$CC11,0)","v":{"v":0,"d":"0.00"}},{"$f":"IF($B11=4,$CC11,0)","v":{"v":0,"d":"0.00"}},{"$f":"IF($B11=5,$CC11,0)","v":{"v":0,"d":"0.00"}},{"$f":"IF($B11=6,$CC11,0)","v":{"v":0,"d":"0.00"}},{"$f":"IF(CJ10>0,IF(H11+P11+X11+AF11+AN11+AV11+BD11+BL11+BT11+CB11=0,IF(E11>0,CJ10,0),0),0)","v":0},{"$f":"G11*CJ11","v":{"v":0,"d":"0.00"}},{"$f":"IF($B11=1,$CK11,0)","v":{"v":0,"d":"0.00"}},{"$f":"IF($B11=2,$CK11,0)","v":{"v":0,"d":"0.00"}},{"$f":"IF($B11=3,$CK11,0)","v":{"v":0,"d":"0.00"}},{"$f":"IF($B11=4,$CK11,0)","v":{"v":0,"d":"0.00"}},{"$f":"IF($B11=5,$CK11,0)","v":{"v":0,"d":"0.00"}},{"$f":"IF($B11=6,$CK11,0)","v":{"v":0,"d":"0.00"}}]
[{"$f":"IF(C11<>C12,C12,\"\")","v":""},{"$f":"IF(C11<>C12,_xlfn.DAYS(C12,C11)+B11,B11)","v":1},{"$f":"IF(D12>0,IF(D12<E11,C11+1,C11),C11)","v":"2009-02-23"},{"$f":"IF((E12+H12+P12+X12+AF12+AN12+AV12+BD12+BL12+BT12+CB12+CJ12)>0,E11,0)","v":"00:00:00"},null,{"$f":"E12-D12","v":"00:00:00"},{"$f":"IF(E12>0,HOUR(F12)+(MINUTE(F12)/60),0)","v":0},{"$f":"IF(H11>0,IF(P12+X12+AF12+AN12+AV12+BD12+BL12+BT12+CB12+CJ12=0,IF(E12>0,H11,0),0),0)","v":0},{"$f":"G12*H12","v":{"v":0,"d":"0.00"}},{"$f":"IF($B12=1,$I12,0)","v":{"v":0,"d":"0.00"}},{"$f":"IF($B12=2,$I12,0)","v":{"v":0,"d":"0.00"}},{"$f":"IF($B12=3,$I12,0)","v":{"v":0,"d":"0.00"}},{"$f":"IF($B12=4,$I12,0)","v":{"v":0,"d":"0.00"}},{"$f":"IF($B12=5,$I12,0)","v":{"v":0,"d":"0.00"}},{"$f":"IF($B12=6,$I12,0)","v":{"v":0,"d":"0.00"}},{"$f":"IF(P11>0,IF(H12+X12+AF12+AN12+AV12+BD12+BL12+BT12+CB12+CJ12=0,IF(E12>0,P11,0),0),0)","v":0},{"$f":"G12*P12","v":{"v":0,"d":"0.00"}},{"$f":"IF(B12=1,Q12,0)","v":{"v":0,"d":"0.00"}},{"$f":"IF(B12=2,Q12,0)","v":{"v":0,"d":"0.00"}},{"$f":"IF(B12=3,Q12,0)","v":{"v":0,"d":"0.00"}},{"$f":"IF(B12=4,Q12,0)","v":{"v":0,"d":"0.00"}},{"$f":"IF(B12=5,Q12,0)","v":{"v":0,"d":"0.00"}},{"$f":"IF(B12=6,Q12,0)","v":{"v":0,"d":"0.00"}},{"$f":"IF(X11>0,IF(H12+P12+AF12+AN12+AV12+BD12+BL12+BT12+CB12+CJ12=0,IF(E12>0,X11,0),0),0)","v":0},{"$f":"G12*X12","v":{"v":0,"d":"0.00"}},{"$f":"IF($B12=1,$Y12,0)","v":{"v":0,"d":"0.00"}},{"$f":"IF($B12=2,$Y12,0)","v":{"v":0,"d":"0.00"}},{"$f":"IF($B12=3,$Y12,0)","v":{"v":0,"d":"0.00"}},{"$f":"IF($B12=4,$Y12,0)","v":{"v":0,"d":"0.00"}},{"$f":"IF($B12=5,$Y12,0)","v":{"v":0,"d":"0.00"}},{"$f":"IF($B12=6,$Y12,0)","v":{"v":0,"d":"0.00"}},{"$f":"IF(AF11>0,IF(H12+P12+X12+AN12+AV12+BD12+BL12+BT12+CB12+CJ12=0,IF(E12>0,AF11,0),0),0)","v":0},{"$f":"G12*AF12","v":{"v":0,"d":"0.00"}},{"$f":"IF($B12=1,$AG12,0)","v":{"v":0,"d":"0.00"}},{"$f":"IF($B12=2,$AG12,0)","v":{"v":0,"d":"0.00"}},{"$f":"IF($B12=3,$AG12,0)","v":{"v":0,"d":"0.00"}},{"$f":"IF($B12=4,$AG12,0)","v":{"v":0,"d":"0.00"}},{"$f":"IF($B12=5,$AG12,0)","v":{"v":0,"d":"0.00"}},{"$f":"IF($B12=6,$AG12,0)","v":{"v":0,"d":"0.00"}},{"$f":"IF(AN11>0,IF(H12+P12+X12+AF12+AV12+BD12+BL12+BT12+CB12+CJ12=0,IF(E12>0,AN11,0),0),0)","v":0},{"$f":"G12*AN12","v":{"v":0,"d":"0.00"}},{"$f":"IF($B12=1,$AO12,0)","v":{"v":0,"d":"0.00"}},{"$f":"IF($B12=2,$AO12,0)","v":{"v":0,"d":"0.00"}},{"$f":"IF($B12=3,$AO12,0)","v":{"v":0,"d":"0.00"}},{"$f":"IF($B12=4,$AO12,0)","v":{"v":0,"d":"0.00"}},{"$f":"IF($B12=5,$AO12,0)","v":{"v":0,"d":"0.00"}},{"$f":"IF($B12=6,$AO12,0)","v":{"v":0,"d":"0.00"}},{"$f":"IF(AV11>0,IF(H12+P12+X12+AF12+AN12+BD12+BL12+BT12+CB12+CJ12=0,IF(E12>0,AV11,0),0),0)","v":0},{"$f":"G12*AV12","v":{"v":0,"d":"0.00"}},{"$f":"IF($B12=1,$AW12,0)","v":{"v":0,"d":"0.00"}},{"$f":"IF($B12=2,$AW12,0)","v":{"v":0,"d":"0.00"}},{"$f":"IF($B12=3,$AW12,0)","v":{"v":0,"d":"0.00"}},{"$f":"IF($B12=4,$AW12,0)","v":{"v":0,"d":"0.00"}},{"$f":"IF($B12=5,$AW12,0)","v":{"v":0,"d":"0.00"}},{"$f":"IF($B12=6,$AW12,0)","v":{"v":0,"d":"0.00"}},{"$f":"IF(BD11>0,IF(H12+P12+X12+AF12+AN12+AV12+BL12+BT12+CB12+CJ12=0,IF(E12>0,BD11,0),0),0)","v":0},{"$f":"G12*BD12","v":{"v":0,"d":"0.00"}},{"$f":"IF($B12=1,$BE12,0)","v":{"v":0,"d":"0.00"}},{"$f":"IF($B12=2,$BE12,0)","v":{"v":0,"d":"0.00"}},{"$f":"IF($B12=3,$BE12,0)","v":{"v":0,"d":"0.00"}},{"$f":"IF($B12=4,$BE12,0)","v":{"v":0,"d":"0.00"}},{"$f":"IF($B12=5,$BE12,0)","v":{"v":0,"d":"0.00"}},{"$f":"IF($B12=6,$BE12,0)","v":{"v":0,"d":"0.00"}},{"$f":"IF(BL11>0,IF(H12+P12+X12+AF12+AN12+AV12+BD12+BT12+CB12+CJ12=0,IF(E12>0,BL11,0),0),0)","v":0},{"$f":"G12*BL12","v":{"v":0,"d":"0.00"}},{"$f":"IF($B12=1,$BM12,0)","v":{"v":0,"d":"0.00"}},{"$f":"IF($B12=2,$BM12,0)","v":{"v":0,"d":"0.00"}},{"$f":"IF($B12=3,$BM12,0)","v":{"v":0,"d":"0.00"}},{"$f":"IF($B12=4,$BM12,0)","v":{"v":0,"d":"0.00"}},{"$f":"IF($B12=5,$BM12,0)","v":{"v":0,"d":"0.00"}},{"$f":"IF($B12=6,$BM12,0)","v":{"v":0,"d":"0.00"}},{"$f":"IF(BT11>0,IF(H12+P12+X12+AF12+AN12+AV12+BD12+BL12+CB12+CJ12=0,IF(E12>0,BT11,0),0),0)","v":0},{"$f":"G12*BT12","v":{"v":0,"d":"0.00"}},{"$f":"IF($B12=1,$BU12,0)","v":{"v":0,"d":"0.00"}},{"$f":"IF($B12=2,$BU12,0)","v":{"v":0,"d":"0.00"}},{"$f":"IF($B12=3,$BU12,0)","v":{"v":0,"d":"0.00"}},{"$f":"IF($B12=4,$BU12,0)","v":{"v":0,"d":"0.00"}},{"$f":"IF($B12=5,$BU12,0)","v":{"v":0,"d":"0.00"}},{"$f":"IF($B12=6,$BU12,0)","v":{"v":0,"d":"0.00"}},{"$f":"IF(CB11>0,IF(H12+P12+X12+AF12+AN12+AV12+BD12+BL12+BT12+CJ12=0,IF(E12>0,CB11,0),0),0)","v":0},{"$f":"G12*CB12","v":{"v":0,"d":"0.00"}},{"$f":"IF($B12=1,$CC12,0)","v":{"v":0,"d":"0.00"}},{"$f":"IF($B12=2,$CC12,0)","v":{"v":0,"d":"0.00"}},{"$f":"IF($B12=3,$CC12,0)","v":{"v":0,"d":"0.00"}},{"$f":"IF($B12=4,$CC12,0)","v":{"v":0,"d":"0.00"}},{"$f":"IF($B12=5,$CC12,0)","v":{"v":0,"d":"0.00"}},{"$f":"IF($B12=6,$CC12,0)","v":{"v":0,"d":"0.00"}},{"$f":"IF(CJ11>0,IF(H12+P12+X12+AF12+AN12+AV12+BD12+BL12+BT12+CB12=0,IF(E12>0,CJ11,0),0),0)","v":0},{"$f":"G12*CJ12","v":{"v":0,"d":"0.00"}},{"$f":"IF($B12=1,$CK12,0)","v":{"v":0,"d":"0.00"}},{"$f":"IF($B12=2,$CK12,0)","v":{"v":0,"d":"0.00"}},{"$f":"IF($B12=3,$CK12,0)","v":{"v":0,"d":"0.00"}},{"$f":"IF($B12=4,$CK12,0)","v":{"v":0,"d":"0.00"}},{"$f":"IF($B12=5,$CK12,0)","v":{"v":0,"d":"0.00"}},{"$f":"IF($B12=6,$CK12,0)","v":{"v":0,"d":"0.00"}}]
[{"$f":"IF(C12<>C13,C13,\"\")","v":""},{"$f":"IF(C12<>C13,_xlfn.DAYS(C13,C12)+B12,B12)","v":1},{"$f":"IF(D13>0,IF(D13<E12,C12+1,C12),C12)","v":"2009-02-23"},{"$f":"IF((E13+H13+P13+X13+AF13+AN13+AV13+BD13+BL13+BT13+CB13+CJ13)>0,E12,0)","v":"00:00:00"},null,{"$f":"E13-D13","v":"00:00:00"},{"$f":"IF(E13>0,HOUR(F13)+(MINUTE(F13)/60),0)","v":0},{"$f":"IF(H12>0,IF(P13+X13+AF13+AN13+AV13+BD13+BL13+BT13+CB13+CJ13=0,IF(E13>0,H12,0),0),0)","v":0},{"$f":"G13*H13","v":{"v":0,"d":"0.00"}},{"$f":"IF($B13=1,$I13,0)","v":{"v":0,"d":"0.00"}},{"$f":"IF($B13=2,$I13,0)","v":{"v":0,"d":"0.00"}},{"$f":"IF($B13=3,$I13,0)","v":{"v":0,"d":"0.00"}},{"$f":"IF($B13=4,$I13,0)","v":{"v":0,"d":"0.00"}},{"$f":"IF($B13=5,$I13,0)","v":{"v":0,"d":"0.00"}},{"$f":"IF($B13=6,$I13,0)","v":{"v":0,"d":"0.00"}},{"$f":"IF(P12>0,IF(H13+X13+AF13+AN13+AV13+BD13+BL13+BT13+CB13+CJ13=0,IF(E13>0,P12,0),0),0)","v":0},{"$f":"G13*P13","v":{"v":0,"d":"0.00"}},{"$f":"IF(B13=1,Q13,0)","v":{"v":0,"d":"0.00"}},{"$f":"IF(B13=2,Q13,0)","v":{"v":0,"d":"0.00"}},{"$f":"IF(B13=3,Q13,0)","v":{"v":0,"d":"0.00"}},{"$f":"IF(B13=4,Q13,0)","v":{"v":0,"d":"0.00"}},{"$f":"IF(B13=5,Q13,0)","v":{"v":0,"d":"0.00"}},{"$f":"IF(B13=6,Q13,0)","v":{"v":0,"d":"0.00"}},{"$f":"IF(X12>0,IF(H13+P13+AF13+AN13+AV13+BD13+BL13+BT13+CB13+CJ13=0,IF(E13>0,X12,0),0),0)","v":0},{"$f":"G13*X13","v":{"v":0,"d":"0.00"}},{"$f":"IF($B13=1,$Y13,0)","v":{"v":0,"d":"0.00"}},{"$f":"IF($B13=2,$Y13,0)","v":{"v":0,"d":"0.00"}},{"$f":"IF($B13=3,$Y13,0)","v":{"v":0,"d":"0.00"}},{"$f":"IF($B13=4,$Y13,0)","v":{"v":0,"d":"0.00"}},{"$f":"IF($B13=5,$Y13,0)","v":{"v":0,"d":"0.00"}},{"$f":"IF($B13=6,$Y13,0)","v":{"v":0,"d":"0.00"}},{"$f":"IF(AF12>0,IF(H13+P13+X13+AN13+AV13+BD13+BL13+BT13+CB13+CJ13=0,IF(E13>0,AF12,0),0),0)","v":0},{"$f":"G13*AF13","v":{"v":0,"d":"0.00"}},{"$f":"IF($B13=1,$AG13,0)","v":{"v":0,"d":"0.00"}},{"$f":"IF($B13=2,$AG13,0)","v":{"v":0,"d":"0.00"}},{"$f":"IF($B13=3,$AG13,0)","v":{"v":0,"d":"0.00"}},{"$f":"IF($B13=4,$AG13,0)","v":{"v":0,"d":"0.00"}},{"$f":"IF($B13=5,$AG13,0)","v":{"v":0,"d":"0.00"}},{"$f":"IF($B13=6,$AG13,0)","v":{"v":0,"d":"0.00"}},{"$f":"IF(AN12>0,IF(H13+P13+X13+AF13+AV13+BD13+BL13+BT13+CB13+CJ13=0,IF(E13>0,AN12,0),0),0)","v":0},{"$f":"G13*AN13","v":{"v":0,"d":"0.00"}},{"$f":"IF($B13=1,$AO13,0)","v":{"v":0,"d":"0.00"}},{"$f":"IF($B13=2,$AO13,0)","v":{"v":0,"d":"0.00"}},{"$f":"IF($B13=3,$AO13,0)","v":{"v":0,"d":"0.00"}},{"$f":"IF($B13=4,$AO13,0)","v":{"v":0,"d":"0.00"}},{"$f":"IF($B13=5,$AO13,0)","v":{"v":0,"d":"0.00"}},{"$f":"IF($B13=6,$AO13,0)","v":{"v":0,"d":"0.00"}},{"$f":"IF(AV12>0,IF(H13+P13+X13+AF13+AN13+BD13+BL13+BT13+CB13+CJ13=0,IF(E13>0,AV12,0),0),0)","v":0},{"$f":"G13*AV13","v":{"v":0,"d":"0.00"}},{"$f":"IF($B13=1,$AW13,0)","v":{"v":0,"d":"0.00"}},{"$f":"IF($B13=2,$AW13,0)","v":{"v":0,"d":"0.00"}},{"$f":"IF($B13=3,$AW13,0)","v":{"v":0,"d":"0.00"}},{"$f":"IF($B13=4,$AW13,0)","v":{"v":0,"d":"0.00"}},{"$f":"IF($B13=5,$AW13,0)","v":{"v":0,"d":"0.00"}},{"$f":"IF($B13=6,$AW13,0)","v":{"v":0,"d":"0.00"}},{"$f":"IF(BD12>0,IF(H13+P13+X13+AF13+AN13+AV13+BL13+BT13+CB13+CJ13=0,IF(E13>0,BD12,0),0),0)","v":0},{"$f":"G13*BD13","v":{"v":0,"d":"0.00"}},{"$f":"IF($B13=1,$BE13,0)","v":{"v":0,"d":"0.00"}},{"$f":"IF($B13=2,$BE13,0)","v":{"v":0,"d":"0.00"}},{"$f":"IF($B13=3,$BE13,0)","v":{"v":0,"d":"0.00"}},{"$f":"IF($B13=4,$BE13,0)","v":{"v":0,"d":"0.00"}},{"$f":"IF($B13=5,$BE13,0)","v":{"v":0,"d":"0.00"}},{"$f":"IF($B13=6,$BE13,0)","v":{"v":0,"d":"0.00"}},{"$f":"IF(BL12>0,IF(H13+P13+X13+AF13+AN13+AV13+BD13+BT13+CB13+CJ13=0,IF(E13>0,BL12,0),0),0)","v":0},{"$f":"G13*BL13","v":{"v":0,"d":"0.00"}},{"$f":"IF($B13=1,$BM13,0)","v":{"v":0,"d":"0.00"}},{"$f":"IF($B13=2,$BM13,0)","v":{"v":0,"d":"0.00"}},{"$f":"IF($B13=3,$BM13,0)","v":{"v":0,"d":"0.00"}},{"$f":"IF($B13=4,$BM13,0)","v":{"v":0,"d":"0.00"}},{"$f":"IF($B13=5,$BM13,0)","v":{"v":0,"d":"0.00"}},{"$f":"IF($B13=6,$BM13,0)","v":{"v":0,"d":"0.00"}},{"$f":"IF(BT12>0,IF(H13+P13+X13+AF13+AN13+AV13+BD13+BL13+CB13+CJ13=0,IF(E13>0,BT12,0),0),0)","v":0},{"$f":"G13*BT13","v":{"v":0,"d":"0.00"}},{"$f":"IF($B13=1,$BU13,0)","v":{"v":0,"d":"0.00"}},{"$f":"IF($B13=2,$BU13,0)","v":{"v":0,"d":"0.00"}},{"$f":"IF($B13=3,$BU13,0)","v":{"v":0,"d":"0.00"}},{"$f":"IF($B13=4,$BU13,0)","v":{"v":0,"d":"0.00"}},{"$f":"IF($B13=5,$BU13,0)","v":{"v":0,"d":"0.00"}},{"$f":"IF($B13=6,$BU13,0)","v":{"v":0,"d":"0.00"}},{"$f":"IF(CB12>0,IF(H13+P13+X13+AF13+AN13+AV13+BD13+BL13+BT13+CJ13=0,IF(E13>0,CB12,0),0),0)","v":0},{"$f":"G13*CB13","v":{"v":0,"d":"0.00"}},{"$f":"IF($B13=1,$CC13,0)","v":{"v":0,"d":"0.00"}},{"$f":"IF($B13=2,$CC13,0)","v":{"v":0,"d":"0.00"}},{"$f":"IF($B13=3,$CC13,0)","v":{"v":0,"d":"0.00"}},{"$f":"IF($B13=4,$CC13,0)","v":{"v":0,"d":"0.00"}},{"$f":"IF($B13=5,$CC13,0)","v":{"v":0,"d":"0.00"}},{"$f":"IF($B13=6,$CC13,0)","v":{"v":0,"d":"0.00"}},{"$f":"IF(CJ12>0,IF(H13+P13+X13+AF13+AN13+AV13+BD13+BL13+BT13+CB13=0,IF(E13>0,CJ12,0),0),0)","v":0},{"$f":"G13*CJ13","v":{"v":0,"d":"0.00"}},{"$f":"IF($B13=1,$CK13,0)","v":{"v":0,"d":"0.00"}},{"$f":"IF($B13=2,$CK13,0)","v":{"v":0,"d":"0.00"}},{"$f":"IF($B13=3,$CK13,0)","v":{"v":0,"d":"0.00"}},{"$f":"IF($B13=4,$CK13,0)","v":{"v":0,"d":"0.00"}},{"$f":"IF($B13=5,$CK13,0)","v":{"v":0,"d":"0.00"}},{"$f":"IF($B13=6,$CK13,0)","v":{"v":0,"d":"0.00"}}]
[{"$f":"IF(C13<>C14,C14,\"\")","v":""},{"$f":"IF(C13<>C14,_xlfn.DAYS(C14,C13)+B13,B13)","v":1},{"$f":"IF(D14>0,IF(D14<E13,C13+1,C13),C13)","v":"2009-02-23"},{"$f":"IF((E14+H14+P14+X14+AF14+AN14+AV14+BD14+BL14+BT14+CB14+CJ14)>0,E13,0)","v":"00:00:00"},null,{"$f":"E14-D14","v":"00:00:00"},{"$f":"IF(E14>0,HOUR(F14)+(MINUTE(F14)/60),0)","v":0},{"$f":"IF(H13>0,IF(P14+X14+AF14+AN14+AV14+BD14+BL14+BT14+CB14+CJ14=0,IF(E14>0,H13,0),0),0)","v":0},{"$f":"G14*H14","v":{"v":0,"d":"0.00"}},{"$f":"IF($B14=1,$I14,0)","v":{"v":0,"d":"0.00"}},{"$f":"IF($B14=2,$I14,0)","v":{"v":0,"d":"0.00"}},{"$f":"IF($B14=3,$I14,0)","v":{"v":0,"d":"0.00"}},{"$f":"IF($B14=4,$I14,0)","v":{"v":0,"d":"0.00"}},{"$f":"IF($B14=5,$I14,0)","v":{"v":0,"d":"0.00"}},{"$f":"IF($B14=6,$I14,0)","v":{"v":0,"d":"0.00"}},{"$f":"IF(P13>0,IF(H14+X14+AF14+AN14+AV14+BD14+BL14+BT14+CB14+CJ14=0,IF(E14>0,P13,0),0),0)","v":0},{"$f":"G14*P14","v":{"v":0,"d":"0.00"}},{"$f":"IF(B14=1,Q14,0)","v":{"v":0,"d":"0.00"}},{"$f":"IF(B14=2,Q14,0)","v":{"v":0,"d":"0.00"}},{"$f":"IF(B14=3,Q14,0)","v":{"v":0,"d":"0.00"}},{"$f":"IF(B14=4,Q14,0)","v":{"v":0,"d":"0.00"}},{"$f":"IF(B14=5,Q14,0)","v":{"v":0,"d":"0.00"}},{"$f":"IF(B14=6,Q14,0)","v":{"v":0,"d":"0.00"}},{"$f":"IF(X13>0,IF(H14+P14+AF14+AN14+AV14+BD14+BL14+BT14+CB14+CJ14=0,IF(E14>0,X13,0),0),0)","v":0},{"$f":"G14*X14","v":{"v":0,"d":"0.00"}},{"$f":"IF($B14=1,$Y14,0)","v":{"v":0,"d":"0.00"}},{"$f":"IF($B14=2,$Y14,0)","v":{"v":0,"d":"0.00"}},{"$f":"IF($B14=3,$Y14,0)","v":{"v":0,"d":"0.00"}},{"$f":"IF($B14=4,$Y14,0)","v":{"v":0,"d":"0.00"}},{"$f":"IF($B14=5,$Y14,0)","v":{"v":0,"d":"0.00"}},{"$f":"IF($B14=6,$Y14,0)","v":{"v":0,"d":"0.00"}},{"$f":"IF(AF13>0,IF(H14+P14+X14+AN14+AV14+BD14+BL14+BT14+CB14+CJ14=0,IF(E14>0,AF13,0),0),0)","v":0},{"$f":"G14*AF14","v":{"v":0,"d":"0.00"}},{"$f":"IF($B14=1,$AG14,0)","v":{"v":0,"d":"0.00"}},{"$f":"IF($B14=2,$AG14,0)","v":{"v":0,"d":"0.00"}},{"$f":"IF($B14=3,$AG14,0)","v":{"v":0,"d":"0.00"}},{"$f":"IF($B14=4,$AG14,0)","v":{"v":0,"d":"0.00"}},{"$f":"IF($B14=5,$AG14,0)","v":{"v":0,"d":"0.00"}},{"$f":"IF($B14=6,$AG14,0)","v":{"v":0,"d":"0.00"}},{"$f":"IF(AN13>0,IF(H14+P14+X14+AF14+AV14+BD14+BL14+BT14+CB14+CJ14=0,IF(E14>0,AN13,0),0),0)","v":0},{"$f":"G14*AN14","v":{"v":0,"d":"0.00"}},{"$f":"IF($B14=1,$AO14,0)","v":{"v":0,"d":"0.00"}},{"$f":"IF($B14=2,$AO14,0)","v":{"v":0,"d":"0.00"}},{"$f":"IF($B14=3,$AO14,0)","v":{"v":0,"d":"0.00"}},{"$f":"IF($B14=4,$AO14,0)","v":{"v":0,"d":"0.00"}},{"$f":"IF($B14=5,$AO14,0)","v":{"v":0,"d":"0.00"}},{"$f":"IF($B14=6,$AO14,0)","v":{"v":0,"d":"0.00"}},{"$f":"IF(AV13>0,IF(H14+P14+X14+AF14+AN14+BD14+BL14+BT14+CB14+CJ14=0,IF(E14>0,AV13,0),0),0)","v":0},{"$f":"G14*AV14","v":{"v":0,"d":"0.00"}},{"$f":"IF($B14=1,$AW14,0)","v":{"v":0,"d":"0.00"}},{"$f":"IF($B14=2,$AW14,0)","v":{"v":0,"d":"0.00"}},{"$f":"IF($B14=3,$AW14,0)","v":{"v":0,"d":"0.00"}},{"$f":"IF($B14=4,$AW14,0)","v":{"v":0,"d":"0.00"}},{"$f":"IF($B14=5,$AW14,0)","v":{"v":0,"d":"0.00"}},{"$f":"IF($B14=6,$AW14,0)","v":{"v":0,"d":"0.00"}},{"$f":"IF(BD13>0,IF(H14+P14+X14+AF14+AN14+AV14+BL14+BT14+CB14+CJ14=0,IF(E14>0,BD13,0),0),0)","v":0},{"$f":"G14*BD14","v":{"v":0,"d":"0.00"}},{"$f":"IF($B14=1,$BE14,0)","v":{"v":0,"d":"0.00"}},{"$f":"IF($B14=2,$BE14,0)","v":{"v":0,"d":"0.00"}},{"$f":"IF($B14=3,$BE14,0)","v":{"v":0,"d":"0.00"}},{"$f":"IF($B14=4,$BE14,0)","v":{"v":0,"d":"0.00"}},{"$f":"IF($B14=5,$BE14,0)","v":{"v":0,"d":"0.00"}},{"$f":"IF($B14=6,$BE14,0)","v":{"v":0,"d":"0.00"}},{"$f":"IF(BL13>0,IF(H14+P14+X14+AF14+AN14+AV14+BD14+BT14+CB14+CJ14=0,IF(E14>0,BL13,0),0),0)","v":0},{"$f":"G14*BL14","v":{"v":0,"d":"0.00"}},{"$f":"IF($B14=1,$BM14,0)","v":{"v":0,"d":"0.00"}},{"$f":"IF($B14=2,$BM14,0)","v":{"v":0,"d":"0.00"}},{"$f":"IF($B14=3,$BM14,0)","v":{"v":0,"d":"0.00"}},{"$f":"IF($B14=4,$BM14,0)","v":{"v":0,"d":"0.00"}},{"$f":"IF($B14=5,$BM14,0)","v":{"v":0,"d":"0.00"}},{"$f":"IF($B14=6,$BM14,0)","v":{"v":0,"d":"0.00"}},{"$f":"IF(BT13>0,IF(H14+P14+X14+AF14+AN14+AV14+BD14+BL14+CB14+CJ14=0,IF(E14>0,BT13,0),0),0)","v":0},{"$f":"G14*BT14","v":{"v":0,"d":"0.00"}},{"$f":"IF($B14=1,$BU14,0)","v":{"v":0,"d":"0.00"}},{"$f":"IF($B14=2,$BU14,0)","v":{"v":0,"d":"0.00"}},{"$f":"IF($B14=3,$BU14,0)","v":{"v":0,"d":"0.00"}},{"$f":"IF($B14=4,$BU14,0)","v":{"v":0,"d":"0.00"}},{"$f":"IF($B14=5,$BU14,0)","v":{"v":0,"d":"0.00"}},{"$f":"IF($B14=6,$BU14,0)","v":{"v":0,"d":"0.00"}},{"$f":"IF(CB13>0,IF(H14+P14+X14+AF14+AN14+AV14+BD14+BL14+BT14+CJ14=0,IF(E14>0,CB13,0),0),0)","v":0},{"$f":"G14*CB14","v":{"v":0,"d":"0.00"}},{"$f":"IF($B14=1,$CC14,0)","v":{"v":0,"d":"0.00"}},{"$f":"IF($B14=2,$CC14,0)","v":{"v":0,"d":"0.00"}},{"$f":"IF($B14=3,$CC14,0)","v":{"v":0,"d":"0.00"}},{"$f":"IF($B14=4,$CC14,0)","v":{"v":0,"d":"0.00"}},{"$f":"IF($B14=5,$CC14,0)","v":{"v":0,"d":"0.00"}},{"$f":"IF($B14=6,$CC14,0)","v":{"v":0,"d":"0.00"}},{"$f":"IF(CJ13>0,IF(H14+P14+X14+AF14+AN14+AV14+BD14+BL14+BT14+CB14=0,IF(E14>0,CJ13,0),0),0)","v":0},{"$f":"G14*CJ14","v":{"v":0,"d":"0.00"}},{"$f":"IF($B14=1,$CK14,0)","v":{"v":0,"d":"0.00"}},{"$f":"IF($B14=2,$CK14,0)","v":{"v":0,"d":"0.00"}},{"$f":"IF($B14=3,$CK14,0)","v":{"v":0,"d":"0.00"}},{"$f":"IF($B14=4,$CK14,0)","v":{"v":0,"d":"0.00"}},{"$f":"IF($B14=5,$CK14,0)","v":{"v":0,"d":"0.00"}},{"$f":"IF($B14=6,$CK14,0)","v":{"v":0,"d":"0.00"}}]
[{"$f":"IF(C14<>C15,C15,\"\")","v":""},{"$f":"IF(C14<>C15,_xlfn.DAYS(C15,C14)+B14,B14)","v":1},{"$f":"IF(D15>0,IF(D15<E14,C14+1,C14),C14)","v":"2009-02-23"},{"$f":"IF((E15+H15+P15+X15+AF15+AN15+AV15+BD15+BL15+BT15+CB15+CJ15)>0,E14,0)","v":"00:00:00"},null,{"$f":"E15-D15","v":"00:00:00"},{"$f":"IF(E15>0,HOUR(F15)+(MINUTE(F15)/60),0)","v":0},{"$f":"IF(H14>0,IF(P15+X15+AF15+AN15+AV15+BD15+BL15+BT15+CB15+CJ15=0,IF(E15>0,H14,0),0),0)","v":0},{"$f":"G15*H15","v":{"v":0,"d":"0.00"}},{"$f":"IF($B15=1,$I15,0)","v":{"v":0,"d":"0.00"}},{"$f":"IF($B15=2,$I15,0)","v":{"v":0,"d":"0.00"}},{"$f":"IF($B15=3,$I15,0)","v":{"v":0,"d":"0.00"}},{"$f":"IF($B15=4,$I15,0)","v":{"v":0,"d":"0.00"}},{"$f":"IF($B15=5,$I15,0)","v":{"v":0,"d":"0.00"}},{"$f":"IF($B15=6,$I15,0)","v":{"v":0,"d":"0.00"}},{"$f":"IF(P14>0,IF(H15+X15+AF15+AN15+AV15+BD15+BL15+BT15+CB15+CJ15=0,IF(E15>0,P14,0),0),0)","v":0},{"$f":"G15*P15","v":{"v":0,"d":"0.00"}},{"$f":"IF(B15=1,Q15,0)","v":{"v":0,"d":"0.00"}},{"$f":"IF(B15=2,Q15,0)","v":{"v":0,"d":"0.00"}},{"$f":"IF(B15=3,Q15,0)","v":{"v":0,"d":"0.00"}},{"$f":"IF(B15=4,Q15,0)","v":{"v":0,"d":"0.00"}},{"$f":"IF(B15=5,Q15,0)","v":{"v":0,"d":"0.00"}},{"$f":"IF(B15=6,Q15,0)","v":{"v":0,"d":"0.00"}},{"$f":"IF(X14>0,IF(H15+P15+AF15+AN15+AV15+BD15+BL15+BT15+CB15+CJ15=0,IF(E15>0,X14,0),0),0)","v":0},{"$f":"G15*X15","v":{"v":0,"d":"0.00"}},{"$f":"IF($B15=1,$Y15,0)","v":{"v":0,"d":"0.00"}},{"$f":"IF($B15=2,$Y15,0)","v":{"v":0,"d":"0.00"}},{"$f":"IF($B15=3,$Y15,0)","v":{"v":0,"d":"0.00"}},{"$f":"IF($B15=4,$Y15,0)","v":{"v":0,"d":"0.00"}},{"$f":"IF($B15=5,$Y15,0)","v":{"v":0,"d":"0.00"}},{"$f":"IF($B15=6,$Y15,0)","v":{"v":0,"d":"0.00"}},{"$f":"IF(AF14>0,IF(H15+P15+X15+AN15+AV15+BD15+BL15+BT15+CB15+CJ15=0,IF(E15>0,AF14,0),0),0)","v":0},{"$f":"G15*AF15","v":{"v":0,"d":"0.00"}},{"$f":"IF($B15=1,$AG15,0)","v":{"v":0,"d":"0.00"}},{"$f":"IF($B15=2,$AG15,0)","v":{"v":0,"d":"0.00"}},{"$f":"IF($B15=3,$AG15,0)","v":{"v":0,"d":"0.00"}},{"$f":"IF($B15=4,$AG15,0)","v":{"v":0,"d":"0.00"}},{"$f":"IF($B15=5,$AG15,0)","v":{"v":0,"d":"0.00"}},{"$f":"IF($B15=6,$AG15,0)","v":{"v":0,"d":"0.00"}},{"$f":"IF(AN14>0,IF(H15+P15+X15+AF15+AV15+BD15+BL15+BT15+CB15+CJ15=0,IF(E15>0,AN14,0),0),0)","v":0},{"$f":"G15*AN15","v":{"v":0,"d":"0.00"}},{"$f":"IF($B15=1,$AO15,0)","v":{"v":0,"d":"0.00"}},{"$f":"IF($B15=2,$AO15,0)","v":{"v":0,"d":"0.00"}},{"$f":"IF($B15=3,$AO15,0)","v":{"v":0,"d":"0.00"}},{"$f":"IF($B15=4,$AO15,0)","v":{"v":0,"d":"0.00"}},{"$f":"IF($B15=5,$AO15,0)","v":{"v":0,"d":"0.00"}},{"$f":"IF($B15=6,$AO15,0)","v":{"v":0,"d":"0.00"}},{"$f":"IF(AV14>0,IF(H15+P15+X15+AF15+AN15+BD15+BL15+BT15+CB15+CJ15=0,IF(E15>0,AV14,0),0),0)","v":0},{"$f":"G15*AV15","v":{"v":0,"d":"0.00"}},{"$f":"IF($B15=1,$AW15,0)","v":{"v":0,"d":"0.00"}},{"$f":"IF($B15=2,$AW15,0)","v":{"v":0,"d":"0.00"}},{"$f":"IF($B15=3,$AW15,0)","v":{"v":0,"d":"0.00"}},{"$f":"IF($B15=4,$AW15,0)","v":{"v":0,"d":"0.00"}},{"$f":"IF($B15=5,$AW15,0)","v":{"v":0,"d":"0.00"}},{"$f":"IF($B15=6,$AW15,0)","v":{"v":0,"d":"0.00"}},{"$f":"IF(BD14>0,IF(H15+P15+X15+AF15+AN15+AV15+BL15+BT15+CB15+CJ15=0,IF(E15>0,BD14,0),0),0)","v":0},{"$f":"G15*BD15","v":{"v":0,"d":"0.00"}},{"$f":"IF($B15=1,$BE15,0)","v":{"v":0,"d":"0.00"}},{"$f":"IF($B15=2,$BE15,0)","v":{"v":0,"d":"0.00"}},{"$f":"IF($B15=3,$BE15,0)","v":{"v":0,"d":"0.00"}},{"$f":"IF($B15=4,$BE15,0)","v":{"v":0,"d":"0.00"}},{"$f":"IF($B15=5,$BE15,0)","v":{"v":0,"d":"0.00"}},{"$f":"IF($B15=6,$BE15,0)","v":{"v":0,"d":"0.00"}},{"$f":"IF(BL14>0,IF(H15+P15+X15+AF15+AN15+AV15+BD15+BT15+CB15+CJ15=0,IF(E15>0,BL14,0),0),0)","v":0},{"$f":"G15*BL15","v":{"v":0,"d":"0.00"}},{"$f":"IF($B15=1,$BM15,0)","v":{"v":0,"d":"0.00"}},{"$f":"IF($B15=2,$BM15,0)","v":{"v":0,"d":"0.00"}},{"$f":"IF($B15=3,$BM15,0)","v":{"v":0,"d":"0.00"}},{"$f":"IF($B15=4,$BM15,0)","v":{"v":0,"d":"0.00"}},{"$f":"IF($B15=5,$BM15,0)","v":{"v":0,"d":"0.00"}},{"$f":"IF($B15=6,$BM15,0)","v":{"v":0,"d":"0.00"}},{"$f":"IF(BT14>0,IF(H15+P15+X15+AF15+AN15+AV15+BD15+BL15+CB15+CJ15=0,IF(E15>0,BT14,0),0),0)","v":0},{"$f":"G15*BT15","v":{"v":0,"d":"0.00"}},{"$f":"IF($B15=1,$BU15,0)","v":{"v":0,"d":"0.00"}},{"$f":"IF($B15=2,$BU15,0)","v":{"v":0,"d":"0.00"}},{"$f":"IF($B15=3,$BU15,0)","v":{"v":0,"d":"0.00"}},{"$f":"IF($B15=4,$BU15,0)","v":{"v":0,"d":"0.00"}},{"$f":"IF($B15=5,$BU15,0)","v":{"v":0,"d":"0.00"}},{"$f":"IF($B15=6,$BU15,0)","v":{"v":0,"d":"0.00"}},{"$f":"IF(CB14>0,IF(H15+P15+X15+AF15+AN15+AV15+BD15+BL15+BT15+CJ15=0,IF(E15>0,CB14,0),0),0)","v":0},{"$f":"G15*CB15","v":{"v":0,"d":"0.00"}},{"$f":"IF($B15=1,$CC15,0)","v":{"v":0,"d":"0.00"}},{"$f":"IF($B15=2,$CC15,0)","v":{"v":0,"d":"0.00"}},{"$f":"IF($B15=3,$CC15,0)","v":{"v":0,"d":"0.00"}},{"$f":"IF($B15=4,$CC15,0)","v":{"v":0,"d":"0.00"}},{"$f":"IF($B15=5,$CC15,0)","v":{"v":0,"d":"0.00"}},{"$f":"IF($B15=6,$CC15,0)","v":{"v":0,"d":"0.00"}},{"$f":"IF(CJ14>0,IF(H15+P15+X15+AF15+AN15+AV15+BD15+BL15+BT15+CB15=0,IF(E15>0,CJ14,0),0),0)","v":0},{"$f":"G15*CJ15","v":{"v":0,"d":"0.00"}},{"$f":"IF($B15=1,$CK15,0)","v":{"v":0,"d":"0.00"}},{"$f":"IF($B15=2,$CK15,0)","v":{"v":0,"d":"0.00"}},{"$f":"IF($B15=3,$CK15,0)","v":{"v":0,"d":"0.00"}},{"$f":"IF($B15=4,$CK15,0)","v":{"v":0,"d":"0.00"}},{"$f":"IF($B15=5,$CK15,0)","v":{"v":0,"d":"0.00"}},{"$f":"IF($B15=6,$CK15,0)","v":{"v":0,"d":"0.00"}}]
[{"$f":"IF(C15<>C16,C16,\"\")","v":""},{"$f":"IF(C15<>C16,_xlfn.DAYS(C16,C15)+B15,B15)","v":1},{"$f":"IF(D16>0,IF(D16<E15,C15+1,C15),C15)","v":"2009-02-23"},{"$f":"IF((E16+H16+P16+X16+AF16+AN16+AV16+BD16+BL16+BT16+CB16+CJ16)>0,E15,0)","v":"00:00:00"},null,{"$f":"E16-D16","v":"00:00:00"},{"$f":"IF(E16>0,HOUR(F16)+(MINUTE(F16)/60),0)","v":0},{"$f":"IF(H15>0,IF(P16+X16+AF16+AN16+AV16+BD16+BL16+BT16+CB16+CJ16=0,IF(E16>0,H15,0),0),0)","v":0},{"$f":"G16*H16","v":{"v":0,"d":"0.00"}},{"$f":"IF($B16=1,$I16,0)","v":{"v":0,"d":"0.00"}},{"$f":"IF($B16=2,$I16,0)","v":{"v":0,"d":"0.00"}},{"$f":"IF($B16=3,$I16,0)","v":{"v":0,"d":"0.00"}},{"$f":"IF($B16=4,$I16,0)","v":{"v":0,"d":"0.00"}},{"$f":"IF($B16=5,$I16,0)","v":{"v":0,"d":"0.00"}},{"$f":"IF($B16=6,$I16,0)","v":{"v":0,"d":"0.00"}},{"$f":"IF(P15>0,IF(H16+X16+AF16+AN16+AV16+BD16+BL16+BT16+CB16+CJ16=0,IF(E16>0,P15,0),0),0)","v":0},{"$f":"G16*P16","v":{"v":0,"d":"0.00"}},{"$f":"IF(B16=1,Q16,0)","v":{"v":0,"d":"0.00"}},{"$f":"IF(B16=2,Q16,0)","v":{"v":0,"d":"0.00"}},{"$f":"IF(B16=3,Q16,0)","v":{"v":0,"d":"0.00"}},{"$f":"IF(B16=4,Q16,0)","v":{"v":0,"d":"0.00"}},{"$f":"IF(B16=5,Q16,0)","v":{"v":0,"d":"0.00"}},{"$f":"IF(B16=6,Q16,0)","v":{"v":0,"d":"0.00"}},{"$f":"IF(X15>0,IF(H16+P16+AF16+AN16+AV16+BD16+BL16+BT16+CB16+CJ16=0,IF(E16>0,X15,0),0),0)","v":0},{"$f":"G16*X16","v":{"v":0,"d":"0.00"}},{"$f":"IF($B16=1,$Y16,0)","v":{"v":0,"d":"0.00"}},{"$f":"IF($B16=2,$Y16,0)","v":{"v":0,"d":"0.00"}},{"$f":"IF($B16=3,$Y16,0)","v":{"v":0,"d":"0.00"}},{"$f":"IF($B16=4,$Y16,0)","v":{"v":0,"d":"0.00"}},{"$f":"IF($B16=5,$Y16,0)","v":{"v":0,"d":"0.00"}},{"$f":"IF($B16=6,$Y16,0)","v":{"v":0,"d":"0.00"}},{"$f":"IF(AF15>0,IF(H16+P16+X16+AN16+AV16+BD16+BL16+BT16+CB16+CJ16=0,IF(E16>0,AF15,0),0),0)","v":0},{"$f":"G16*AF16","v":{"v":0,"d":"0.00"}},{"$f":"IF($B16=1,$AG16,0)","v":{"v":0,"d":"0.00"}},{"$f":"IF($B16=2,$AG16,0)","v":{"v":0,"d":"0.00"}},{"$f":"IF($B16=3,$AG16,0)","v":{"v":0,"d":"0.00"}},{"$f":"IF($B16=4,$AG16,0)","v":{"v":0,"d":"0.00"}},{"$f":"IF($B16=5,$AG16,0)","v":{"v":0,"d":"0.00"}},{"$f":"IF($B16=6,$AG16,0)","v":{"v":0,"d":"0.00"}},{"$f":"IF(AN15>0,IF(H16+P16+X16+AF16+AV16+BD16+BL16+BT16+CB16+CJ16=0,IF(E16>0,AN15,0),0),0)","v":0},{"$f":"G16*AN16","v":{"v":0,"d":"0.00"}},{"$f":"IF($B16=1,$AO16,0)","v":{"v":0,"d":"0.00"}},{"$f":"IF($B16=2,$AO16,0)","v":{"v":0,"d":"0.00"}},{"$f":"IF($B16=3,$AO16,0)","v":{"v":0,"d":"0.00"}},{"$f":"IF($B16=4,$AO16,0)","v":{"v":0,"d":"0.00"}},{"$f":"IF($B16=5,$AO16,0)","v":{"v":0,"d":"0.00"}},{"$f":"IF($B16=6,$AO16,0)","v":{"v":0,"d":"0.00"}},{"$f":"IF(AV15>0,IF(H16+P16+X16+AF16+AN16+BD16+BL16+BT16+CB16+CJ16=0,IF(E16>0,AV15,0),0),0)","v":0},{"$f":"G16*AV16","v":{"v":0,"d":"0.00"}},{"$f":"IF($B16=1,$AW16,0)","v":{"v":0,"d":"0.00"}},{"$f":"IF($B16=2,$AW16,0)","v":{"v":0,"d":"0.00"}},{"$f":"IF($B16=3,$AW16,0)","v":{"v":0,"d":"0.00"}},{"$f":"IF($B16=4,$AW16,0)","v":{"v":0,"d":"0.00"}},{"$f":"IF($B16=5,$AW16,0)","v":{"v":0,"d":"0.00"}},{"$f":"IF($B16=6,$AW16,0)","v":{"v":0,"d":"0.00"}},{"$f":"IF(BD15>0,IF(H16+P16+X16+AF16+AN16+AV16+BL16+BT16+CB16+CJ16=0,IF(E16>0,BD15,0),0),0)","v":0},{"$f":"G16*BD16","v":{"v":0,"d":"0.00"}},{"$f":"IF($B16=1,$BE16,0)","v":{"v":0,"d":"0.00"}},{"$f":"IF($B16=2,$BE16,0)","v":{"v":0,"d":"0.00"}},{"$f":"IF($B16=3,$BE16,0)","v":{"v":0,"d":"0.00"}},{"$f":"IF($B16=4,$BE16,0)","v":{"v":0,"d":"0.00"}},{"$f":"IF($B16=5,$BE16,0)","v":{"v":0,"d":"0.00"}},{"$f":"IF($B16=6,$BE16,0)","v":{"v":0,"d":"0.00"}},{"$f":"IF(BL15>0,IF(H16+P16+X16+AF16+AN16+AV16+BD16+BT16+CB16+CJ16=0,IF(E16>0,BL15,0),0),0)","v":0},{"$f":"G16*BL16","v":{"v":0,"d":"0.00"}},{"$f":"IF($B16=1,$BM16,0)","v":{"v":0,"d":"0.00"}},{"$f":"IF($B16=2,$BM16,0)","v":{"v":0,"d":"0.00"}},{"$f":"IF($B16=3,$BM16,0)","v":{"v":0,"d":"0.00"}},{"$f":"IF($B16=4,$BM16,0)","v":{"v":0,"d":"0.00"}},{"$f":"IF($B16=5,$BM16,0)","v":{"v":0,"d":"0.00"}},{"$f":"IF($B16=6,$BM16,0)","v":{"v":0,"d":"0.00"}},{"$f":"IF(BT15>0,IF(H16+P16+X16+AF16+AN16+AV16+BD16+BL16+CB16+CJ16=0,IF(E16>0,BT15,0),0),0)","v":0},{"$f":"G16*BT16","v":{"v":0,"d":"0.00"}},{"$f":"IF($B16=1,$BU16,0)","v":{"v":0,"d":"0.00"}},{"$f":"IF($B16=2,$BU16,0)","v":{"v":0,"d":"0.00"}},{"$f":"IF($B16=3,$BU16,0)","v":{"v":0,"d":"0.00"}},{"$f":"IF($B16=4,$BU16,0)","v":{"v":0,"d":"0.00"}},{"$f":"IF($B16=5,$BU16,0)","v":{"v":0,"d":"0.00"}},{"$f":"IF($B16=6,$BU16,0)","v":{"v":0,"d":"0.00"}},{"$f":"IF(CB15>0,IF(H16+P16+X16+AF16+AN16+AV16+BD16+BL16+BT16+CJ16=0,IF(E16>0,CB15,0),0),0)","v":0},{"$f":"G16*CB16","v":{"v":0,"d":"0.00"}},{"$f":"IF($B16=1,$CC16,0)","v":{"v":0,"d":"0.00"}},{"$f":"IF($B16=2,$CC16,0)","v":{"v":0,"d":"0.00"}},{"$f":"IF($B16=3,$CC16,0)","v":{"v":0,"d":"0.00"}},{"$f":"IF($B16=4,$CC16,0)","v":{"v":0,"d":"0.00"}},{"$f":"IF($B16=5,$CC16,0)","v":{"v":0,"d":"0.00"}},{"$f":"IF($B16=6,$CC16,0)","v":{"v":0,"d":"0.00"}},{"$f":"IF(CJ15>0,IF(H16+P16+X16+AF16+AN16+AV16+BD16+BL16+BT16+CB16=0,IF(E16>0,CJ15,0),0),0)","v":0},{"$f":"G16*CJ16","v":{"v":0,"d":"0.00"}},{"$f":"IF($B16=1,$CK16,0)","v":{"v":0,"d":"0.00"}},{"$f":"IF($B16=2,$CK16,0)","v":{"v":0,"d":"0.00"}},{"$f":"IF($B16=3,$CK16,0)","v":{"v":0,"d":"0.00"}},{"$f":"IF($B16=4,$CK16,0)","v":{"v":0,"d":"0.00"}},{"$f":"IF($B16=5,$CK16,0)","v":{"v":0,"d":"0.00"}},{"$f":"IF($B16=6,$CK16,0)","v":{"v":0,"d":"0.00"}}]
[{"$f":"IF(C16<>C17,C17,\"\")","v":""},{"$f":"IF(C16<>C17,_xlfn.DAYS(C17,C16)+B16,B16)","v":1},{"$f":"IF(D17>0,IF(D17<E16,C16+1,C16),C16)","v":"2009-02-23"},{"$f":"IF((E17+H17+P17+X17+AF17+AN17+AV17+BD17+BL17+BT17+CB17+CJ17)>0,E16,0)","v":"00:00:00"},null,{"$f":"E17-D17","v":"00:00:00"},{"$f":"IF(E17>0,HOUR(F17)+(MINUTE(F17)/60),0)","v":0},{"$f":"IF(H16>0,IF(P17+X17+AF17+AN17+AV17+BD17+BL17+BT17+CB17+CJ17=0,IF(E17>0,H16,0),0),0)","v":0},{"$f":"G17*H17","v":{"v":0,"d":"0.00"}},{"$f":"IF($B17=1,$I17,0)","v":{"v":0,"d":"0.00"}},{"$f":"IF($B17=2,$I17,0)","v":{"v":0,"d":"0.00"}},{"$f":"IF($B17=3,$I17,0)","v":{"v":0,"d":"0.00"}},{"$f":"IF($B17=4,$I17,0)","v":{"v":0,"d":"0.00"}},{"$f":"IF($B17=5,$I17,0)","v":{"v":0,"d":"0.00"}},{"$f":"IF($B17=6,$I17,0)","v":{"v":0,"d":"0.00"}},{"$f":"IF(P16>0,IF(H17+X17+AF17+AN17+AV17+BD17+BL17+BT17+CB17+CJ17=0,IF(E17>0,P16,0),0),0)","v":0},{"$f":"G17*P17","v":{"v":0,"d":"0.00"}},{"$f":"IF(B17=1,Q17,0)","v":{"v":0,"d":"0.00"}},{"$f":"IF(B17=2,Q17,0)","v":{"v":0,"d":"0.00"}},{"$f":"IF(B17=3,Q17,0)","v":{"v":0,"d":"0.00"}},{"$f":"IF(B17=4,Q17,0)","v":{"v":0,"d":"0.00"}},{"$f":"IF(B17=5,Q17,0)","v":{"v":0,"d":"0.00"}},{"$f":"IF(B17=6,Q17,0)","v":{"v":0,"d":"0.00"}},{"$f":"IF(X16>0,IF(H17+P17+AF17+AN17+AV17+BD17+BL17+BT17+CB17+CJ17=0,IF(E17>0,X16,0),0),0)","v":0},{"$f":"G17*X17","v":{"v":0,"d":"0.00"}},{"$f":"IF($B17=1,$Y17,0)","v":{"v":0,"d":"0.00"}},{"$f":"IF($B17=2,$Y17,0)","v":{"v":0,"d":"0.00"}},{"$f":"IF($B17=3,$Y17,0)","v":{"v":0,"d":"0.00"}},{"$f":"IF($B17=4,$Y17,0)","v":{"v":0,"d":"0.00"}},{"$f":"IF($B17=5,$Y17,0)","v":{"v":0,"d":"0.00"}},{"$f":"IF($B17=6,$Y17,0)","v":{"v":0,"d":"0.00"}},{"$f":"IF(AF16>0,IF(H17+P17+X17+AN17+AV17+BD17+BL17+BT17+CB17+CJ17=0,IF(E17>0,AF16,0),0),0)","v":0},{"$f":"G17*AF17","v":{"v":0,"d":"0.00"}},{"$f":"IF($B17=1,$AG17,0)","v":{"v":0,"d":"0.00"}},{"$f":"IF($B17=2,$AG17,0)","v":{"v":0,"d":"0.00"}},{"$f":"IF($B17=3,$AG17,0)","v":{"v":0,"d":"0.00"}},{"$f":"IF($B17=4,$AG17,0)","v":{"v":0,"d":"0.00"}},{"$f":"IF($B17=5,$AG17,0)","v":{"v":0,"d":"0.00"}},{"$f":"IF($B17=6,$AG17,0)","v":{"v":0,"d":"0.00"}},{"$f":"IF(AN16>0,IF(H17+P17+X17+AF17+AV17+BD17+BL17+BT17+CB17+CJ17=0,IF(E17>0,AN16,0),0),0)","v":0},{"$f":"G17*AN17","v":{"v":0,"d":"0.00"}},{"$f":"IF($B17=1,$AO17,0)","v":{"v":0,"d":"0.00"}},{"$f":"IF($B17=2,$AO17,0)","v":{"v":0,"d":"0.00"}},{"$f":"IF($B17=3,$AO17,0)","v":{"v":0,"d":"0.00"}},{"$f":"IF($B17=4,$AO17,0)","v":{"v":0,"d":"0.00"}},{"$f":"IF($B17=5,$AO17,0)","v":{"v":0,"d":"0.00"}},{"$f":"IF($B17=6,$AO17,0)","v":{"v":0,"d":"0.00"}},{"$f":"IF(AV16>0,IF(H17+P17+X17+AF17+AN17+BD17+BL17+BT17+CB17+CJ17=0,IF(E17>0,AV16,0),0),0)","v":0},{"$f":"G17*AV17","v":{"v":0,"d":"0.00"}},{"$f":"IF($B17=1,$AW17,0)","v":{"v":0,"d":"0.00"}},{"$f":"IF($B17=2,$AW17,0)","v":{"v":0,"d":"0.00"}},{"$f":"IF($B17=3,$AW17,0)","v":{"v":0,"d":"0.00"}},{"$f":"IF($B17=4,$AW17,0)","v":{"v":0,"d":"0.00"}},{"$f":"IF($B17=5,$AW17,0)","v":{"v":0,"d":"0.00"}},{"$f":"IF($B17=6,$AW17,0)","v":{"v":0,"d":"0.00"}},{"$f":"IF(BD16>0,IF(H17+P17+X17+AF17+AN17+AV17+BL17+BT17+CB17+CJ17=0,IF(E17>0,BD16,0),0),0)","v":0},{"$f":"G17*BD17","v":{"v":0,"d":"0.00"}},{"$f":"IF($B17=1,$BE17,0)","v":{"v":0,"d":"0.00"}},{"$f":"IF($B17=2,$BE17,0)","v":{"v":0,"d":"0.00"}},{"$f":"IF($B17=3,$BE17,0)","v":{"v":0,"d":"0.00"}},{"$f":"IF($B17=4,$BE17,0)","v":{"v":0,"d":"0.00"}},{"$f":"IF($B17=5,$BE17,0)","v":{"v":0,"d":"0.00"}},{"$f":"IF($B17=6,$BE17,0)","v":{"v":0,"d":"0.00"}},{"$f":"IF(BL16>0,IF(H17+P17+X17+AF17+AN17+AV17+BD17+BT17+CB17+CJ17=0,IF(E17>0,BL16,0),0),0)","v":0},{"$f":"G17*BL17","v":{"v":0,"d":"0.00"}},{"$f":"IF($B17=1,$BM17,0)","v":{"v":0,"d":"0.00"}},{"$f":"IF($B17=2,$BM17,0)","v":{"v":0,"d":"0.00"}},{"$f":"IF($B17=3,$BM17,0)","v":{"v":0,"d":"0.00"}},{"$f":"IF($B17=4,$BM17,0)","v":{"v":0,"d":"0.00"}},{"$f":"IF($B17=5,$BM17,0)","v":{"v":0,"d":"0.00"}},{"$f":"IF($B17=6,$BM17,0)","v":{"v":0,"d":"0.00"}},{"$f":"IF(BT16>0,IF(H17+P17+X17+AF17+AN17+AV17+BD17+BL17+CB17+CJ17=0,IF(E17>0,BT16,0),0),0)","v":0},{"$f":"G17*BT17","v":{"v":0,"d":"0.00"}},{"$f":"IF($B17=1,$BU17,0)","v":{"v":0,"d":"0.00"}},{"$f":"IF($B17=2,$BU17,0)","v":{"v":0,"d":"0.00"}},{"$f":"IF($B17=3,$BU17,0)","v":{"v":0,"d":"0.00"}},{"$f":"IF($B17=4,$BU17,0)","v":{"v":0,"d":"0.00"}},{"$f":"IF($B17=5,$BU17,0)","v":{"v":0,"d":"0.00"}},{"$f":"IF($B17=6,$BU17,0)","v":{"v":0,"d":"0.00"}},{"$f":"IF(CB16>0,IF(H17+P17+X17+AF17+AN17+AV17+BD17+BL17+BT17+CJ17=0,IF(E17>0,CB16,0),0),0)","v":0},{"$f":"G17*CB17","v":{"v":0,"d":"0.00"}},{"$f":"IF($B17=1,$CC17,0)","v":{"v":0,"d":"0.00"}},{"$f":"IF($B17=2,$CC17,0)","v":{"v":0,"d":"0.00"}},{"$f":"IF($B17=3,$CC17,0)","v":{"v":0,"d":"0.00"}},{"$f":"IF($B17=4,$CC17,0)","v":{"v":0,"d":"0.00"}},{"$f":"IF($B17=5,$CC17,0)","v":{"v":0,"d":"0.00"}},{"$f":"IF($B17=6,$CC17,0)","v":{"v":0,"d":"0.00"}},{"$f":"IF(CJ16>0,IF(H17+P17+X17+AF17+AN17+AV17+BD17+BL17+BT17+CB17=0,IF(E17>0,CJ16,0),0),0)","v":0},{"$f":"G17*CJ17","v":{"v":0,"d":"0.00"}},{"$f":"IF($B17=1,$CK17,0)","v":{"v":0,"d":"0.00"}},{"$f":"IF($B17=2,$CK17,0)","v":{"v":0,"d":"0.00"}},{"$f":"IF($B17=3,$CK17,0)","v":{"v":0,"d":"0.00"}},{"$f":"IF($B17=4,$CK17,0)","v":{"v":0,"d":"0.00"}},{"$f":"IF($B17=5,$CK17,0)","v":{"v":0,"d":"0.00"}},{"$f":"IF($B17=6,$CK17,0)","v":{"v":0,"d":"0.00"}}]
[{"$f":"IF(C17<>C18,C18,\"\")","v":""},{"$f":"IF(C17<>C18,_xlfn.DAYS(C18,C17)+B17,B17)","v":1},{"$f":"IF(D18>0,IF(D18<E17,C17+1,C17),C17)","v":"2009-02-23"},{"$f":"IF((E18+H18+P18+X18+AF18+AN18+AV18+BD18+BL18+BT18+CB18+CJ18)>0,E17,0)","v":"00:00:00"},null,{"$f":"E18-D18","v":"00:00:00"},{"$f":"IF(E18>0,HOUR(F18)+(MINUTE(F18)/60),0)","v":0},{"$f":"IF(H17>0,IF(P18+X18+AF18+AN18+AV18+BD18+BL18+BT18+CB18+CJ18=0,IF(E18>0,H17,0),0),0)","v":0},{"$f":"G18*H18","v":{"v":0,"d":"0.00"}},{"$f":"IF($B18=1,$I18,0)","v":{"v":0,"d":"0.00"}},{"$f":"IF($B18=2,$I18,0)","v":{"v":0,"d":"0.00"}},{"$f":"IF($B18=3,$I18,0)","v":{"v":0,"d":"0.00"}},{"$f":"IF($B18=4,$I18,0)","v":{"v":0,"d":"0.00"}},{"$f":"IF($B18=5,$I18,0)","v":{"v":0,"d":"0.00"}},{"$f":"IF($B18=6,$I18,0)","v":{"v":0,"d":"0.00"}},{"$f":"IF(P17>0,IF(H18+X18+AF18+AN18+AV18+BD18+BL18+BT18+CB18+CJ18=0,IF(E18>0,P17,0),0),0)","v":0},{"$f":"G18*P18","v":{"v":0,"d":"0.00"}},{"$f":"IF(B18=1,Q18,0)","v":{"v":0,"d":"0.00"}},{"$f":"IF(B18=2,Q18,0)","v":{"v":0,"d":"0.00"}},{"$f":"IF(B18=3,Q18,0)","v":{"v":0,"d":"0.00"}},{"$f":"IF(B18=4,Q18,0)","v":{"v":0,"d":"0.00"}},{"$f":"IF(B18=5,Q18,0)","v":{"v":0,"d":"0.00"}},{"$f":"IF(B18=6,Q18,0)","v":{"v":0,"d":"0.00"}},{"$f":"IF(X17>0,IF(H18+P18+AF18+AN18+AV18+BD18+BL18+BT18+CB18+CJ18=0,IF(E18>0,X17,0),0),0)","v":0},{"$f":"G18*X18","v":{"v":0,"d":"0.00"}},{"$f":"IF($B18=1,$Y18,0)","v":{"v":0,"d":"0.00"}},{"$f":"IF($B18=2,$Y18,0)","v":{"v":0,"d":"0.00"}},{"$f":"IF($B18=3,$Y18,0)","v":{"v":0,"d":"0.00"}},{"$f":"IF($B18=4,$Y18,0)","v":{"v":0,"d":"0.00"}},{"$f":"IF($B18=5,$Y18,0)","v":{"v":0,"d":"0.00"}},{"$f":"IF($B18=6,$Y18,0)","v":{"v":0,"d":"0.00"}},{"$f":"IF(AF17>0,IF(H18+P18+X18+AN18+AV18+BD18+BL18+BT18+CB18+CJ18=0,IF(E18>0,AF17,0),0),0)","v":0},{"$f":"G18*AF18","v":{"v":0,"d":"0.00"}},{"$f":"IF($B18=1,$AG18,0)","v":{"v":0,"d":"0.00"}},{"$f":"IF($B18=2,$AG18,0)","v":{"v":0,"d":"0.00"}},{"$f":"IF($B18=3,$AG18,0)","v":{"v":0,"d":"0.00"}},{"$f":"IF($B18=4,$AG18,0)","v":{"v":0,"d":"0.00"}},{"$f":"IF($B18=5,$AG18,0)","v":{"v":0,"d":"0.00"}},{"$f":"IF($B18=6,$AG18,0)","v":{"v":0,"d":"0.00"}},{"$f":"IF(AN17>0,IF(H18+P18+X18+AF18+AV18+BD18+BL18+BT18+CB18+CJ18=0,IF(E18>0,AN17,0),0),0)","v":0},{"$f":"G18*AN18","v":{"v":0,"d":"0.00"}},{"$f":"IF($B18=1,$AO18,0)","v":{"v":0,"d":"0.00"}},{"$f":"IF($B18=2,$AO18,0)","v":{"v":0,"d":"0.00"}},{"$f":"IF($B18=3,$AO18,0)","v":{"v":0,"d":"0.00"}},{"$f":"IF($B18=4,$AO18,0)","v":{"v":0,"d":"0.00"}},{"$f":"IF($B18=5,$AO18,0)","v":{"v":0,"d":"0.00"}},{"$f":"IF($B18=6,$AO18,0)","v":{"v":0,"d":"0.00"}},{"$f":"IF(AV17>0,IF(H18+P18+X18+AF18+AN18+BD18+BL18+BT18+CB18+CJ18=0,IF(E18>0,AV17,0),0),0)","v":0},{"$f":"G18*AV18","v":{"v":0,"d":"0.00"}},{"$f":"IF($B18=1,$AW18,0)","v":{"v":0,"d":"0.00"}},{"$f":"IF($B18=2,$AW18,0)","v":{"v":0,"d":"0.00"}},{"$f":"IF($B18=3,$AW18,0)","v":{"v":0,"d":"0.00"}},{"$f":"IF($B18=4,$AW18,0)","v":{"v":0,"d":"0.00"}},{"$f":"IF($B18=5,$AW18,0)","v":{"v":0,"d":"0.00"}},{"$f":"IF($B18=6,$AW18,0)","v":{"v":0,"d":"0.00"}},{"$f":"IF(BD17>0,IF(H18+P18+X18+AF18+AN18+AV18+BL18+BT18+CB18+CJ18=0,IF(E18>0,BD17,0),0),0)","v":0},{"$f":"G18*BD18","v":{"v":0,"d":"0.00"}},{"$f":"IF($B18=1,$BE18,0)","v":{"v":0,"d":"0.00"}},{"$f":"IF($B18=2,$BE18,0)","v":{"v":0,"d":"0.00"}},{"$f":"IF($B18=3,$BE18,0)","v":{"v":0,"d":"0.00"}},{"$f":"IF($B18=4,$BE18,0)","v":{"v":0,"d":"0.00"}},{"$f":"IF($B18=5,$BE18,0)","v":{"v":0,"d":"0.00"}},{"$f":"IF($B18=6,$BE18,0)","v":{"v":0,"d":"0.00"}},{"$f":"IF(BL17>0,IF(H18+P18+X18+AF18+AN18+AV18+BD18+BT18+CB18+CJ18=0,IF(E18>0,BL17,0),0),0)","v":0},{"$f":"G18*BL18","v":{"v":0,"d":"0.00"}},{"$f":"IF($B18=1,$BM18,0)","v":{"v":0,"d":"0.00"}},{"$f":"IF($B18=2,$BM18,0)","v":{"v":0,"d":"0.00"}},{"$f":"IF($B18=3,$BM18,0)","v":{"v":0,"d":"0.00"}},{"$f":"IF($B18=4,$BM18,0)","v":{"v":0,"d":"0.00"}},{"$f":"IF($B18=5,$BM18,0)","v":{"v":0,"d":"0.00"}},{"$f":"IF($B18=6,$BM18,0)","v":{"v":0,"d":"0.00"}},{"$f":"IF(BT17>0,IF(H18+P18+X18+AF18+AN18+AV18+BD18+BL18+CB18+CJ18=0,IF(E18>0,BT17,0),0),0)","v":0},{"$f":"G18*BT18","v":{"v":0,"d":"0.00"}},{"$f":"IF($B18=1,$BU18,0)","v":{"v":0,"d":"0.00"}},{"$f":"IF($B18=2,$BU18,0)","v":{"v":0,"d":"0.00"}},{"$f":"IF($B18=3,$BU18,0)","v":{"v":0,"d":"0.00"}},{"$f":"IF($B18=4,$BU18,0)","v":{"v":0,"d":"0.00"}},{"$f":"IF($B18=5,$BU18,0)","v":{"v":0,"d":"0.00"}},{"$f":"IF($B18=6,$BU18,0)","v":{"v":0,"d":"0.00"}},{"$f":"IF(CB17>0,IF(H18+P18+X18+AF18+AN18+AV18+BD18+BL18+BT18+CJ18=0,IF(E18>0,CB17,0),0),0)","v":0},{"$f":"G18*CB18","v":{"v":0,"d":"0.00"}},{"$f":"IF($B18=1,$CC18,0)","v":{"v":0,"d":"0.00"}},{"$f":"IF($B18=2,$CC18,0)","v":{"v":0,"d":"0.00"}},{"$f":"IF($B18=3,$CC18,0)","v":{"v":0,"d":"0.00"}},{"$f":"IF($B18=4,$CC18,0)","v":{"v":0,"d":"0.00"}},{"$f":"IF($B18=5,$CC18,0)","v":{"v":0,"d":"0.00"}},{"$f":"IF($B18=6,$CC18,0)","v":{"v":0,"d":"0.00"}},{"$f":"IF(CJ17>0,IF(H18+P18+X18+AF18+AN18+AV18+BD18+BL18+BT18+CB18=0,IF(E18>0,CJ17,0),0),0)","v":0},{"$f":"G18*CJ18","v":{"v":0,"d":"0.00"}},{"$f":"IF($B18=1,$CK18,0)","v":{"v":0,"d":"0.00"}},{"$f":"IF($B18=2,$CK18,0)","v":{"v":0,"d":"0.00"}},{"$f":"IF($B18=3,$CK18,0)","v":{"v":0,"d":"0.00"}},{"$f":"IF($B18=4,$CK18,0)","v":{"v":0,"d":"0.00"}},{"$f":"IF($B18=5,$CK18,0)","v":{"v":0,"d":"0.00"}},{"$f":"IF($B18=6,$CK18,0)","v":{"v":0,"d":"0.00"}}]
[{"$f":"IF(C18<>C19,C19,\"\")","v":""},{"$f":"IF(C18<>C19,_xlfn.DAYS(C19,C18)+B18,B18)","v":1},{"$f":"IF(D19>0,IF(D19<E18,C18+1,C18),C18)","v":"2009-02-23"},{"$f":"IF((E19+H19+P19+X19+AF19+AN19+AV19+BD19+BL19+BT19+CB19+CJ19)>0,E18,0)","v":"00:00:00"},null,{"$f":"E19-D19","v":"00:00:00"},{"$f":"IF(E19>0,HOUR(F19)+(MINUTE(F19)/60),0)","v":0},{"$f":"IF(H18>0,IF(P19+X19+AF19+AN19+AV19+BD19+BL19+BT19+CB19+CJ19=0,IF(E19>0,H18,0),0),0)","v":0},{"$f":"G19*H19","v":{"v":0,"d":"0.00"}},{"$f":"IF($B19=1,$I19,0)","v":{"v":0,"d":"0.00"}},{"$f":"IF($B19=2,$I19,0)","v":{"v":0,"d":"0.00"}},{"$f":"IF($B19=3,$I19,0)","v":{"v":0,"d":"0.00"}},{"$f":"IF($B19=4,$I19,0)","v":{"v":0,"d":"0.00"}},{"$f":"IF($B19=5,$I19,0)","v":{"v":0,"d":"0.00"}},{"$f":"IF($B19=6,$I19,0)","v":{"v":0,"d":"0.00"}},{"$f":"IF(P18>0,IF(H19+X19+AF19+AN19+AV19+BD19+BL19+BT19+CB19+CJ19=0,IF(E19>0,P18,0),0),0)","v":0},{"$f":"G19*P19","v":{"v":0,"d":"0.00"}},{"$f":"IF(B19=1,Q19,0)","v":{"v":0,"d":"0.00"}},{"$f":"IF(B19=2,Q19,0)","v":{"v":0,"d":"0.00"}},{"$f":"IF(B19=3,Q19,0)","v":{"v":0,"d":"0.00"}},{"$f":"IF(B19=4,Q19,0)","v":{"v":0,"d":"0.00"}},{"$f":"IF(B19=5,Q19,0)","v":{"v":0,"d":"0.00"}},{"$f":"IF(B19=6,Q19,0)","v":{"v":0,"d":"0.00"}},{"$f":"IF(X18>0,IF(H19+P19+AF19+AN19+AV19+BD19+BL19+BT19+CB19+CJ19=0,IF(E19>0,X18,0),0),0)","v":0},{"$f":"G19*X19","v":{"v":0,"d":"0.00"}},{"$f":"IF($B19=1,$Y19,0)","v":{"v":0,"d":"0.00"}},{"$f":"IF($B19=2,$Y19,0)","v":{"v":0,"d":"0.00"}},{"$f":"IF($B19=3,$Y19,0)","v":{"v":0,"d":"0.00"}},{"$f":"IF($B19=4,$Y19,0)","v":{"v":0,"d":"0.00"}},{"$f":"IF($B19=5,$Y19,0)","v":{"v":0,"d":"0.00"}},{"$f":"IF($B19=6,$Y19,0)","v":{"v":0,"d":"0.00"}},{"$f":"IF(AF18>0,IF(H19+P19+X19+AN19+AV19+BD19+BL19+BT19+CB19+CJ19=0,IF(E19>0,AF18,0),0),0)","v":0},{"$f":"G19*AF19","v":{"v":0,"d":"0.00"}},{"$f":"IF($B19=1,$AG19,0)","v":{"v":0,"d":"0.00"}},{"$f":"IF($B19=2,$AG19,0)","v":{"v":0,"d":"0.00"}},{"$f":"IF($B19=3,$AG19,0)","v":{"v":0,"d":"0.00"}},{"$f":"IF($B19=4,$AG19,0)","v":{"v":0,"d":"0.00"}},{"$f":"IF($B19=5,$AG19,0)","v":{"v":0,"d":"0.00"}},{"$f":"IF($B19=6,$AG19,0)","v":{"v":0,"d":"0.00"}},{"$f":"IF(AN18>0,IF(H19+P19+X19+AF19+AV19+BD19+BL19+BT19+CB19+CJ19=0,IF(E19>0,AN18,0),0),0)","v":0},{"$f":"G19*AN19","v":{"v":0,"d":"0.00"}},{"$f":"IF($B19=1,$AO19,0)","v":{"v":0,"d":"0.00"}},{"$f":"IF($B19=2,$AO19,0)","v":{"v":0,"d":"0.00"}},{"$f":"IF($B19=3,$AO19,0)","v":{"v":0,"d":"0.00"}},{"$f":"IF($B19=4,$AO19,0)","v":{"v":0,"d":"0.00"}},{"$f":"IF($B19=5,$AO19,0)","v":{"v":0,"d":"0.00"}},{"$f":"IF($B19=6,$AO19,0)","v":{"v":0,"d":"0.00"}},{"$f":"IF(AV18>0,IF(H19+P19+X19+AF19+AN19+BD19+BL19+BT19+CB19+CJ19=0,IF(E19>0,AV18,0),0),0)","v":0},{"$f":"G19*AV19","v":{"v":0,"d":"0.00"}},{"$f":"IF($B19=1,$AW19,0)","v":{"v":0,"d":"0.00"}},{"$f":"IF($B19=2,$AW19,0)","v":{"v":0,"d":"0.00"}},{"$f":"IF($B19=3,$AW19,0)","v":{"v":0,"d":"0.00"}},{"$f":"IF($B19=4,$AW19,0)","v":{"v":0,"d":"0.00"}},{"$f":"IF($B19=5,$AW19,0)","v":{"v":0,"d":"0.00"}},{"$f":"IF($B19=6,$AW19,0)","v":{"v":0,"d":"0.00"}},{"$f":"IF(BD18>0,IF(H19+P19+X19+AF19+AN19+AV19+BL19+BT19+CB19+CJ19=0,IF(E19>0,BD18,0),0),0)","v":0},{"$f":"G19*BD19","v":{"v":0,"d":"0.00"}},{"$f":"IF($B19=1,$BE19,0)","v":{"v":0,"d":"0.00"}},{"$f":"IF($B19=2,$BE19,0)","v":{"v":0,"d":"0.00"}},{"$f":"IF($B19=3,$BE19,0)","v":{"v":0,"d":"0.00"}},{"$f":"IF($B19=4,$BE19,0)","v":{"v":0,"d":"0.00"}},{"$f":"IF($B19=5,$BE19,0)","v":{"v":0,"d":"0.00"}},{"$f":"IF($B19=6,$BE19,0)","v":{"v":0,"d":"0.00"}},{"$f":"IF(BL18>0,IF(H19+P19+X19+AF19+AN19+AV19+BD19+BT19+CB19+CJ19=0,IF(E19>0,BL18,0),0),0)","v":0},{"$f":"G19*BL19","v":{"v":0,"d":"0.00"}},{"$f":"IF($B19=1,$BM19,0)","v":{"v":0,"d":"0.00"}},{"$f":"IF($B19=2,$BM19,0)","v":{"v":0,"d":"0.00"}},{"$f":"IF($B19=3,$BM19,0)","v":{"v":0,"d":"0.00"}},{"$f":"IF($B19=4,$BM19,0)","v":{"v":0,"d":"0.00"}},{"$f":"IF($B19=5,$BM19,0)","v":{"v":0,"d":"0.00"}},{"$f":"IF($B19=6,$BM19,0)","v":{"v":0,"d":"0.00"}},{"$f":"IF(BT18>0,IF(H19+P19+X19+AF19+AN19+AV19+BD19+BL19+CB19+CJ19=0,IF(E19>0,BT18,0),0),0)","v":0},{"$f":"G19*BT19","v":{"v":0,"d":"0.00"}},{"$f":"IF($B19=1,$BU19,0)","v":{"v":0,"d":"0.00"}},{"$f":"IF($B19=2,$BU19,0)","v":{"v":0,"d":"0.00"}},{"$f":"IF($B19=3,$BU19,0)","v":{"v":0,"d":"0.00"}},{"$f":"IF($B19=4,$BU19,0)","v":{"v":0,"d":"0.00"}},{"$f":"IF($B19=5,$BU19,0)","v":{"v":0,"d":"0.00"}},{"$f":"IF($B19=6,$BU19,0)","v":{"v":0,"d":"0.00"}},{"$f":"IF(CB18>0,IF(H19+P19+X19+AF19+AN19+AV19+BD19+BL19+BT19+CJ19=0,IF(E19>0,CB18,0),0),0)","v":0},{"$f":"G19*CB19","v":{"v":0,"d":"0.00"}},{"$f":"IF($B19=1,$CC19,0)","v":{"v":0,"d":"0.00"}},{"$f":"IF($B19=2,$CC19,0)","v":{"v":0,"d":"0.00"}},{"$f":"IF($B19=3,$CC19,0)","v":{"v":0,"d":"0.00"}},{"$f":"IF($B19=4,$CC19,0)","v":{"v":0,"d":"0.00"}},{"$f":"IF($B19=5,$CC19,0)","v":{"v":0,"d":"0.00"}},{"$f":"IF($B19=6,$CC19,0)","v":{"v":0,"d":"0.00"}},{"$f":"IF(CJ18>0,IF(H19+P19+X19+AF19+AN19+AV19+BD19+BL19+BT19+CB19=0,IF(E19>0,CJ18,0),0),0)","v":0},{"$f":"G19*CJ19","v":{"v":0,"d":"0.00"}},{"$f":"IF($B19=1,$CK19,0)","v":{"v":0,"d":"0.00"}},{"$f":"IF($B19=2,$CK19,0)","v":{"v":0,"d":"0.00"}},{"$f":"IF($B19=3,$CK19,0)","v":{"v":0,"d":"0.00"}},{"$f":"IF($B19=4,$CK19,0)","v":{"v":0,"d":"0.00"}},{"$f":"IF($B19=5,$CK19,0)","v":{"v":0,"d":"0.00"}},{"$f":"IF($B19=6,$CK19,0)","v":{"v":0,"d":"0.00"}}]
[{"$f":"IF(C19<>C20,C20,\"\")","v":""},{"$f":"IF(C19<>C20,_xlfn.DAYS(C20,C19)+B19,B19)","v":1},{"$f":"IF(D20>0,IF(D20<E19,C19+1,C19),C19)","v":"2009-02-23"},{"$f":"IF((E20+H20+P20+X20+AF20+AN20+AV20+BD20+BL20+BT20+CB20+CJ20)>0,E19,0)","v":"00:00:00"},null,{"$f":"E20-D20","v":"00:00:00"},{"$f":"IF(E20>0,HOUR(F20)+(MINUTE(F20)/60),0)","v":0},{"$f":"IF(H19>0,IF(P20+X20+AF20+AN20+AV20+BD20+BL20+BT20+CB20+CJ20=0,IF(E20>0,H19,0),0),0)","v":0},{"$f":"G20*H20","v":{"v":0,"d":"0.00"}},{"$f":"IF($B20=1,$I20,0)","v":{"v":0,"d":"0.00"}},{"$f":"IF($B20=2,$I20,0)","v":{"v":0,"d":"0.00"}},{"$f":"IF($B20=3,$I20,0)","v":{"v":0,"d":"0.00"}},{"$f":"IF($B20=4,$I20,0)","v":{"v":0,"d":"0.00"}},{"$f":"IF($B20=5,$I20,0)","v":{"v":0,"d":"0.00"}},{"$f":"IF($B20=6,$I20,0)","v":{"v":0,"d":"0.00"}},{"$f":"IF(P19>0,IF(H20+X20+AF20+AN20+AV20+BD20+BL20+BT20+CB20+CJ20=0,IF(E20>0,P19,0),0),0)","v":0},{"$f":"G20*P20","v":{"v":0,"d":"0.00"}},{"$f":"IF(B20=1,Q20,0)","v":{"v":0,"d":"0.00"}},{"$f":"IF(B20=2,Q20,0)","v":{"v":0,"d":"0.00"}},{"$f":"IF(B20=3,Q20,0)","v":{"v":0,"d":"0.00"}},{"$f":"IF(B20=4,Q20,0)","v":{"v":0,"d":"0.00"}},{"$f":"IF(B20=5,Q20,0)","v":{"v":0,"d":"0.00"}},{"$f":"IF(B20=6,Q20,0)","v":{"v":0,"d":"0.00"}},{"$f":"IF(X19>0,IF(H20+P20+AF20+AN20+AV20+BD20+BL20+BT20+CB20+CJ20=0,IF(E20>0,X19,0),0),0)","v":0},{"$f":"G20*X20","v":{"v":0,"d":"0.00"}},{"$f":"IF($B20=1,$Y20,0)","v":{"v":0,"d":"0.00"}},{"$f":"IF($B20=2,$Y20,0)","v":{"v":0,"d":"0.00"}},{"$f":"IF($B20=3,$Y20,0)","v":{"v":0,"d":"0.00"}},{"$f":"IF($B20=4,$Y20,0)","v":{"v":0,"d":"0.00"}},{"$f":"IF($B20=5,$Y20,0)","v":{"v":0,"d":"0.00"}},{"$f":"IF($B20=6,$Y20,0)","v":{"v":0,"d":"0.00"}},{"$f":"IF(AF19>0,IF(H20+P20+X20+AN20+AV20+BD20+BL20+BT20+CB20+CJ20=0,IF(E20>0,AF19,0),0),0)","v":0},{"$f":"G20*AF20","v":{"v":0,"d":"0.00"}},{"$f":"IF($B20=1,$AG20,0)","v":{"v":0,"d":"0.00"}},{"$f":"IF($B20=2,$AG20,0)","v":{"v":0,"d":"0.00"}},{"$f":"IF($B20=3,$AG20,0)","v":{"v":0,"d":"0.00"}},{"$f":"IF($B20=4,$AG20,0)","v":{"v":0,"d":"0.00"}},{"$f":"IF($B20=5,$AG20,0)","v":{"v":0,"d":"0.00"}},{"$f":"IF($B20=6,$AG20,0)","v":{"v":0,"d":"0.00"}},{"$f":"IF(AN19>0,IF(H20+P20+X20+AF20+AV20+BD20+BL20+BT20+CB20+CJ20=0,IF(E20>0,AN19,0),0),0)","v":0},{"$f":"G20*AN20","v":{"v":0,"d":"0.00"}},{"$f":"IF($B20=1,$AO20,0)","v":{"v":0,"d":"0.00"}},{"$f":"IF($B20=2,$AO20,0)","v":{"v":0,"d":"0.00"}},{"$f":"IF($B20=3,$AO20,0)","v":{"v":0,"d":"0.00"}},{"$f":"IF($B20=4,$AO20,0)","v":{"v":0,"d":"0.00"}},{"$f":"IF($B20=5,$AO20,0)","v":{"v":0,"d":"0.00"}},{"$f":"IF($B20=6,$AO20,0)","v":{"v":0,"d":"0.00"}},{"$f":"IF(AV19>0,IF(H20+P20+X20+AF20+AN20+BD20+BL20+BT20+CB20+CJ20=0,IF(E20>0,AV19,0),0),0)","v":0},{"$f":"G20*AV20","v":{"v":0,"d":"0.00"}},{"$f":"IF($B20=1,$AW20,0)","v":{"v":0,"d":"0.00"}},{"$f":"IF($B20=2,$AW20,0)","v":{"v":0,"d":"0.00"}},{"$f":"IF($B20=3,$AW20,0)","v":{"v":0,"d":"0.00"}},{"$f":"IF($B20=4,$AW20,0)","v":{"v":0,"d":"0.00"}},{"$f":"IF($B20=5,$AW20,0)","v":{"v":0,"d":"0.00"}},{"$f":"IF($B20=6,$AW20,0)","v":{"v":0,"d":"0.00"}},{"$f":"IF(BD19>0,IF(H20+P20+X20+AF20+AN20+AV20+BL20+BT20+CB20+CJ20=0,IF(E20>0,BD19,0),0),0)","v":0},{"$f":"G20*BD20","v":{"v":0,"d":"0.00"}},{"$f":"IF($B20=1,$BE20,0)","v":{"v":0,"d":"0.00"}},{"$f":"IF($B20=2,$BE20,0)","v":{"v":0,"d":"0.00"}},{"$f":"IF($B20=3,$BE20,0)","v":{"v":0,"d":"0.00"}},{"$f":"IF($B20=4,$BE20,0)","v":{"v":0,"d":"0.00"}},{"$f":"IF($B20=5,$BE20,0)","v":{"v":0,"d":"0.00"}},{"$f":"IF($B20=6,$BE20,0)","v":{"v":0,"d":"0.00"}},{"$f":"IF(BL19>0,IF(H20+P20+X20+AF20+AN20+AV20+BD20+BT20+CB20+CJ20=0,IF(E20>0,BL19,0),0),0)","v":0},{"$f":"G20*BL20","v":{"v":0,"d":"0.00"}},{"$f":"IF($B20=1,$BM20,0)","v":{"v":0,"d":"0.00"}},{"$f":"IF($B20=2,$BM20,0)","v":{"v":0,"d":"0.00"}},{"$f":"IF($B20=3,$BM20,0)","v":{"v":0,"d":"0.00"}},{"$f":"IF($B20=4,$BM20,0)","v":{"v":0,"d":"0.00"}},{"$f":"IF($B20=5,$BM20,0)","v":{"v":0,"d":"0.00"}},{"$f":"IF($B20=6,$BM20,0)","v":{"v":0,"d":"0.00"}},{"$f":"IF(BT19>0,IF(H20+P20+X20+AF20+AN20+AV20+BD20+BL20+CB20+CJ20=0,IF(E20>0,BT19,0),0),0)","v":0},{"$f":"G20*BT20","v":{"v":0,"d":"0.00"}},{"$f":"IF($B20=1,$BU20,0)","v":{"v":0,"d":"0.00"}},{"$f":"IF($B20=2,$BU20,0)","v":{"v":0,"d":"0.00"}},{"$f":"IF($B20=3,$BU20,0)","v":{"v":0,"d":"0.00"}},{"$f":"IF($B20=4,$BU20,0)","v":{"v":0,"d":"0.00"}},{"$f":"IF($B20=5,$BU20,0)","v":{"v":0,"d":"0.00"}},{"$f":"IF($B20=6,$BU20,0)","v":{"v":0,"d":"0.00"}},{"$f":"IF(CB19>0,IF(H20+P20+X20+AF20+AN20+AV20+BD20+BL20+BT20+CJ20=0,IF(E20>0,CB19,0),0),0)","v":0},{"$f":"G20*CB20","v":{"v":0,"d":"0.00"}},{"$f":"IF($B20=1,$CC20,0)","v":{"v":0,"d":"0.00"}},{"$f":"IF($B20=2,$CC20,0)","v":{"v":0,"d":"0.00"}},{"$f":"IF($B20=3,$CC20,0)","v":{"v":0,"d":"0.00"}},{"$f":"IF($B20=4,$CC20,0)","v":{"v":0,"d":"0.00"}},{"$f":"IF($B20=5,$CC20,0)","v":{"v":0,"d":"0.00"}},{"$f":"IF($B20=6,$CC20,0)","v":{"v":0,"d":"0.00"}},{"$f":"IF(CJ19>0,IF(H20+P20+X20+AF20+AN20+AV20+BD20+BL20+BT20+CB20=0,IF(E20>0,CJ19,0),0),0)","v":0},{"$f":"G20*CJ20","v":{"v":0,"d":"0.00"}},{"$f":"IF($B20=1,$CK20,0)","v":{"v":0,"d":"0.00"}},{"$f":"IF($B20=2,$CK20,0)","v":{"v":0,"d":"0.00"}},{"$f":"IF($B20=3,$CK20,0)","v":{"v":0,"d":"0.00"}},{"$f":"IF($B20=4,$CK20,0)","v":{"v":0,"d":"0.00"}},{"$f":"IF($B20=5,$CK20,0)","v":{"v":0,"d":"0.00"}},{"$f":"IF($B20=6,$CK20,0)","v":{"v":0,"d":"0.00"}}]
[{"$f":"IF(C20<>C21,C21,\"\")","v":""},{"$f":"IF(C20<>C21,_xlfn.DAYS(C21,C20)+B20,B20)","v":1},{"$f":"IF(D21>0,IF(D21<E20,C20+1,C20),C20)","v":"2009-02-23"},{"$f":"IF((E21+H21+P21+X21+AF21+AN21+AV21+BD21+BL21+BT21+CB21+CJ21)>0,E20,0)","v":"00:00:00"},null,{"$f":"E21-D21","v":"00:00:00"},{"$f":"IF(E21>0,HOUR(F21)+(MINUTE(F21)/60),0)","v":0},{"$f":"IF(H20>0,IF(P21+X21+AF21+AN21+AV21+BD21+BL21+BT21+CB21+CJ21=0,IF(E21>0,H20,0),0),0)","v":0},{"$f":"G21*H21","v":{"v":0,"d":"0.00"}},{"$f":"IF($B21=1,$I21,0)","v":{"v":0,"d":"0.00"}},{"$f":"IF($B21=2,$I21,0)","v":{"v":0,"d":"0.00"}},{"$f":"IF($B21=3,$I21,0)","v":{"v":0,"d":"0.00"}},{"$f":"IF($B21=4,$I21,0)","v":{"v":0,"d":"0.00"}},{"$f":"IF($B21=5,$I21,0)","v":{"v":0,"d":"0.00"}},{"$f":"IF($B21=6,$I21,0)","v":{"v":0,"d":"0.00"}},{"$f":"IF(P20>0,IF(H21+X21+AF21+AN21+AV21+BD21+BL21+BT21+CB21+CJ21=0,IF(E21>0,P20,0),0),0)","v":0},{"$f":"G21*P21","v":{"v":0,"d":"0.00"}},{"$f":"IF(B21=1,Q21,0)","v":{"v":0,"d":"0.00"}},{"$f":"IF(B21=2,Q21,0)","v":{"v":0,"d":"0.00"}},{"$f":"IF(B21=3,Q21,0)","v":{"v":0,"d":"0.00"}},{"$f":"IF(B21=4,Q21,0)","v":{"v":0,"d":"0.00"}},{"$f":"IF(B21=5,Q21,0)","v":{"v":0,"d":"0.00"}},{"$f":"IF(B21=6,Q21,0)","v":{"v":0,"d":"0.00"}},{"$f":"IF(X20>0,IF(H21+P21+AF21+AN21+AV21+BD21+BL21+BT21+CB21+CJ21=0,IF(E21>0,X20,0),0),0)","v":0},{"$f":"G21*X21","v":{"v":0,"d":"0.00"}},{"$f":"IF($B21=1,$Y21,0)","v":{"v":0,"d":"0.00"}},{"$f":"IF($B21=2,$Y21,0)","v":{"v":0,"d":"0.00"}},{"$f":"IF($B21=3,$Y21,0)","v":{"v":0,"d":"0.00"}},{"$f":"IF($B21=4,$Y21,0)","v":{"v":0,"d":"0.00"}},{"$f":"IF($B21=5,$Y21,0)","v":{"v":0,"d":"0.00"}},{"$f":"IF($B21=6,$Y21,0)","v":{"v":0,"d":"0.00"}},{"$f":"IF(AF20>0,IF(H21+P21+X21+AN21+AV21+BD21+BL21+BT21+CB21+CJ21=0,IF(E21>0,AF20,0),0),0)","v":0},{"$f":"G21*AF21","v":{"v":0,"d":"0.00"}},{"$f":"IF($B21=1,$AG21,0)","v":{"v":0,"d":"0.00"}},{"$f":"IF($B21=2,$AG21,0)","v":{"v":0,"d":"0.00"}},{"$f":"IF($B21=3,$AG21,0)","v":{"v":0,"d":"0.00"}},{"$f":"IF($B21=4,$AG21,0)","v":{"v":0,"d":"0.00"}},{"$f":"IF($B21=5,$AG21,0)","v":{"v":0,"d":"0.00"}},{"$f":"IF($B21=6,$AG21,0)","v":{"v":0,"d":"0.00"}},{"$f":"IF(AN20>0,IF(H21+P21+X21+AF21+AV21+BD21+BL21+BT21+CB21+CJ21=0,IF(E21>0,AN20,0),0),0)","v":0},{"$f":"G21*AN21","v":{"v":0,"d":"0.00"}},{"$f":"IF($B21=1,$AO21,0)","v":{"v":0,"d":"0.00"}},{"$f":"IF($B21=2,$AO21,0)","v":{"v":0,"d":"0.00"}},{"$f":"IF($B21=3,$AO21,0)","v":{"v":0,"d":"0.00"}},{"$f":"IF($B21=4,$AO21,0)","v":{"v":0,"d":"0.00"}},{"$f":"IF($B21=5,$AO21,0)","v":{"v":0,"d":"0.00"}},{"$f":"IF($B21=6,$AO21,0)","v":{"v":0,"d":"0.00"}},{"$f":"IF(AV20>0,IF(H21+P21+X21+AF21+AN21+BD21+BL21+BT21+CB21+CJ21=0,IF(E21>0,AV20,0),0),0)","v":0},{"$f":"G21*AV21","v":{"v":0,"d":"0.00"}},{"$f":"IF($B21=1,$AW21,0)","v":{"v":0,"d":"0.00"}},{"$f":"IF($B21=2,$AW21,0)","v":{"v":0,"d":"0.00"}},{"$f":"IF($B21=3,$AW21,0)","v":{"v":0,"d":"0.00"}},{"$f":"IF($B21=4,$AW21,0)","v":{"v":0,"d":"0.00"}},{"$f":"IF($B21=5,$AW21,0)","v":{"v":0,"d":"0.00"}},{"$f":"IF($B21=6,$AW21,0)","v":{"v":0,"d":"0.00"}},{"$f":"IF(BD20>0,IF(H21+P21+X21+AF21+AN21+AV21+BL21+BT21+CB21+CJ21=0,IF(E21>0,BD20,0),0),0)","v":0},{"$f":"G21*BD21","v":{"v":0,"d":"0.00"}},{"$f":"IF($B21=1,$BE21,0)","v":{"v":0,"d":"0.00"}},{"$f":"IF($B21=2,$BE21,0)","v":{"v":0,"d":"0.00"}},{"$f":"IF($B21=3,$BE21,0)","v":{"v":0,"d":"0.00"}},{"$f":"IF($B21=4,$BE21,0)","v":{"v":0,"d":"0.00"}},{"$f":"IF($B21=5,$BE21,0)","v":{"v":0,"d":"0.00"}},{"$f":"IF($B21=6,$BE21,0)","v":{"v":0,"d":"0.00"}},{"$f":"IF(BL20>0,IF(H21+P21+X21+AF21+AN21+AV21+BD21+BT21+CB21+CJ21=0,IF(E21>0,BL20,0),0),0)","v":0},{"$f":"G21*BL21","v":{"v":0,"d":"0.00"}},{"$f":"IF($B21=1,$BM21,0)","v":{"v":0,"d":"0.00"}},{"$f":"IF($B21=2,$BM21,0)","v":{"v":0,"d":"0.00"}},{"$f":"IF($B21=3,$BM21,0)","v":{"v":0,"d":"0.00"}},{"$f":"IF($B21=4,$BM21,0)","v":{"v":0,"d":"0.00"}},{"$f":"IF($B21=5,$BM21,0)","v":{"v":0,"d":"0.00"}},{"$f":"IF($B21=6,$BM21,0)","v":{"v":0,"d":"0.00"}},{"$f":"IF(BT20>0,IF(H21+P21+X21+AF21+AN21+AV21+BD21+BL21+CB21+CJ21=0,IF(E21>0,BT20,0),0),0)","v":0},{"$f":"G21*BT21","v":{"v":0,"d":"0.00"}},{"$f":"IF($B21=1,$BU21,0)","v":{"v":0,"d":"0.00"}},{"$f":"IF($B21=2,$BU21,0)","v":{"v":0,"d":"0.00"}},{"$f":"IF($B21=3,$BU21,0)","v":{"v":0,"d":"0.00"}},{"$f":"IF($B21=4,$BU21,0)","v":{"v":0,"d":"0.00"}},{"$f":"IF($B21=5,$BU21,0)","v":{"v":0,"d":"0.00"}},{"$f":"IF($B21=6,$BU21,0)","v":{"v":0,"d":"0.00"}},{"$f":"IF(CB20>0,IF(H21+P21+X21+AF21+AN21+AV21+BD21+BL21+BT21+CJ21=0,IF(E21>0,CB20,0),0),0)","v":0},{"$f":"G21*CB21","v":{"v":0,"d":"0.00"}},{"$f":"IF($B21=1,$CC21,0)","v":{"v":0,"d":"0.00"}},{"$f":"IF($B21=2,$CC21,0)","v":{"v":0,"d":"0.00"}},{"$f":"IF($B21=3,$CC21,0)","v":{"v":0,"d":"0.00"}},{"$f":"IF($B21=4,$CC21,0)","v":{"v":0,"d":"0.00"}},{"$f":"IF($B21=5,$CC21,0)","v":{"v":0,"d":"0.00"}},{"$f":"IF($B21=6,$CC21,0)","v":{"v":0,"d":"0.00"}},{"$f":"IF(CJ20>0,IF(H21+P21+X21+AF21+AN21+AV21+BD21+BL21+BT21+CB21=0,IF(E21>0,CJ20,0),0),0)","v":0},{"$f":"G21*CJ21","v":{"v":0,"d":"0.00"}},{"$f":"IF($B21=1,$CK21,0)","v":{"v":0,"d":"0.00"}},{"$f":"IF($B21=2,$CK21,0)","v":{"v":0,"d":"0.00"}},{"$f":"IF($B21=3,$CK21,0)","v":{"v":0,"d":"0.00"}},{"$f":"IF($B21=4,$CK21,0)","v":{"v":0,"d":"0.00"}},{"$f":"IF($B21=5,$CK21,0)","v":{"v":0,"d":"0.00"}},{"$f":"IF($B21=6,$CK21,0)","v":{"v":0,"d":"0.00"}}]
[{"$f":"IF(C21<>C22,C22,\"\")","v":""},{"$f":"IF(C21<>C22,_xlfn.DAYS(C22,C21)+B21,B21)","v":1},{"$f":"IF(D22>0,IF(D22<E21,C21+1,C21),C21)","v":"2009-02-23"},{"$f":"IF((E22+H22+P22+X22+AF22+AN22+AV22+BD22+BL22+BT22+CB22+CJ22)>0,E21,0)","v":"00:00:00"},null,{"$f":"E22-D22","v":"00:00:00"},{"$f":"IF(E22>0,HOUR(F22)+(MINUTE(F22)/60),0)","v":0},{"$f":"IF(H21>0,IF(P22+X22+AF22+AN22+AV22+BD22+BL22+BT22+CB22+CJ22=0,IF(E22>0,H21,0),0),0)","v":0},{"$f":"G22*H22","v":{"v":0,"d":"0.00"}},{"$f":"IF($B22=1,$I22,0)","v":{"v":0,"d":"0.00"}},{"$f":"IF($B22=2,$I22,0)","v":{"v":0,"d":"0.00"}},{"$f":"IF($B22=3,$I22,0)","v":{"v":0,"d":"0.00"}},{"$f":"IF($B22=4,$I22,0)","v":{"v":0,"d":"0.00"}},{"$f":"IF($B22=5,$I22,0)","v":{"v":0,"d":"0.00"}},{"$f":"IF($B22=6,$I22,0)","v":{"v":0,"d":"0.00"}},{"$f":"IF(P21>0,IF(H22+X22+AF22+AN22+AV22+BD22+BL22+BT22+CB22+CJ22=0,IF(E22>0,P21,0),0),0)","v":0},{"$f":"G22*P22","v":{"v":0,"d":"0.00"}},{"$f":"IF(B22=1,Q22,0)","v":{"v":0,"d":"0.00"}},{"$f":"IF(B22=2,Q22,0)","v":{"v":0,"d":"0.00"}},{"$f":"IF(B22=3,Q22,0)","v":{"v":0,"d":"0.00"}},{"$f":"IF(B22=4,Q22,0)","v":{"v":0,"d":"0.00"}},{"$f":"IF(B22=5,Q22,0)","v":{"v":0,"d":"0.00"}},{"$f":"IF(B22=6,Q22,0)","v":{"v":0,"d":"0.00"}},{"$f":"IF(X21>0,IF(H22+P22+AF22+AN22+AV22+BD22+BL22+BT22+CB22+CJ22=0,IF(E22>0,X21,0),0),0)","v":0},{"$f":"G22*X22","v":{"v":0,"d":"0.00"}},{"$f":"IF($B22=1,$Y22,0)","v":{"v":0,"d":"0.00"}},{"$f":"IF($B22=2,$Y22,0)","v":{"v":0,"d":"0.00"}},{"$f":"IF($B22=3,$Y22,0)","v":{"v":0,"d":"0.00"}},{"$f":"IF($B22=4,$Y22,0)","v":{"v":0,"d":"0.00"}},{"$f":"IF($B22=5,$Y22,0)","v":{"v":0,"d":"0.00"}},{"$f":"IF($B22=6,$Y22,0)","v":{"v":0,"d":"0.00"}},{"$f":"IF(AF21>0,IF(H22+P22+X22+AN22+AV22+BD22+BL22+BT22+CB22+CJ22=0,IF(E22>0,AF21,0),0),0)","v":0},{"$f":"G22*AF22","v":{"v":0,"d":"0.00"}},{"$f":"IF($B22=1,$AG22,0)","v":{"v":0,"d":"0.00"}},{"$f":"IF($B22=2,$AG22,0)","v":{"v":0,"d":"0.00"}},{"$f":"IF($B22=3,$AG22,0)","v":{"v":0,"d":"0.00"}},{"$f":"IF($B22=4,$AG22,0)","v":{"v":0,"d":"0.00"}},{"$f":"IF($B22=5,$AG22,0)","v":{"v":0,"d":"0.00"}},{"$f":"IF($B22=6,$AG22,0)","v":{"v":0,"d":"0.00"}},{"$f":"IF(AN21>0,IF(H22+P22+X22+AF22+AV22+BD22+BL22+BT22+CB22+CJ22=0,IF(E22>0,AN21,0),0),0)","v":0},{"$f":"G22*AN22","v":{"v":0,"d":"0.00"}},{"$f":"IF($B22=1,$AO22,0)","v":{"v":0,"d":"0.00"}},{"$f":"IF($B22=2,$AO22,0)","v":{"v":0,"d":"0.00"}},{"$f":"IF($B22=3,$AO22,0)","v":{"v":0,"d":"0.00"}},{"$f":"IF($B22=4,$AO22,0)","v":{"v":0,"d":"0.00"}},{"$f":"IF($B22=5,$AO22,0)","v":{"v":0,"d":"0.00"}},{"$f":"IF($B22=6,$AO22,0)","v":{"v":0,"d":"0.00"}},{"$f":"IF(AV21>0,IF(H22+P22+X22+AF22+AN22+BD22+BL22+BT22+CB22+CJ22=0,IF(E22>0,AV21,0),0),0)","v":0},{"$f":"G22*AV22","v":{"v":0,"d":"0.00"}},{"$f":"IF($B22=1,$AW22,0)","v":{"v":0,"d":"0.00"}},{"$f":"IF($B22=2,$AW22,0)","v":{"v":0,"d":"0.00"}},{"$f":"IF($B22=3,$AW22,0)","v":{"v":0,"d":"0.00"}},{"$f":"IF($B22=4,$AW22,0)","v":{"v":0,"d":"0.00"}},{"$f":"IF($B22=5,$AW22,0)","v":{"v":0,"d":"0.00"}},{"$f":"IF($B22=6,$AW22,0)","v":{"v":0,"d":"0.00"}},{"$f":"IF(BD21>0,IF(H22+P22+X22+AF22+AN22+AV22+BL22+BT22+CB22+CJ22=0,IF(E22>0,BD21,0),0),0)","v":0},{"$f":"G22*BD22","v":{"v":0,"d":"0.00"}},{"$f":"IF($B22=1,$BE22,0)","v":{"v":0,"d":"0.00"}},{"$f":"IF($B22=2,$BE22,0)","v":{"v":0,"d":"0.00"}},{"$f":"IF($B22=3,$BE22,0)","v":{"v":0,"d":"0.00"}},{"$f":"IF($B22=4,$BE22,0)","v":{"v":0,"d":"0.00"}},{"$f":"IF($B22=5,$BE22,0)","v":{"v":0,"d":"0.00"}},{"$f":"IF($B22=6,$BE22,0)","v":{"v":0,"d":"0.00"}},{"$f":"IF(BL21>0,IF(H22+P22+X22+AF22+AN22+AV22+BD22+BT22+CB22+CJ22=0,IF(E22>0,BL21,0),0),0)","v":0},{"$f":"G22*BL22","v":{"v":0,"d":"0.00"}},{"$f":"IF($B22=1,$BM22,0)","v":{"v":0,"d":"0.00"}},{"$f":"IF($B22=2,$BM22,0)","v":{"v":0,"d":"0.00"}},{"$f":"IF($B22=3,$BM22,0)","v":{"v":0,"d":"0.00"}},{"$f":"IF($B22=4,$BM22,0)","v":{"v":0,"d":"0.00"}},{"$f":"IF($B22=5,$BM22,0)","v":{"v":0,"d":"0.00"}},{"$f":"IF($B22=6,$BM22,0)","v":{"v":0,"d":"0.00"}},{"$f":"IF(BT21>0,IF(H22+P22+X22+AF22+AN22+AV22+BD22+BL22+CB22+CJ22=0,IF(E22>0,BT21,0),0),0)","v":0},{"$f":"G22*BT22","v":{"v":0,"d":"0.00"}},{"$f":"IF($B22=1,$BU22,0)","v":{"v":0,"d":"0.00"}},{"$f":"IF($B22=2,$BU22,0)","v":{"v":0,"d":"0.00"}},{"$f":"IF($B22=3,$BU22,0)","v":{"v":0,"d":"0.00"}},{"$f":"IF($B22=4,$BU22,0)","v":{"v":0,"d":"0.00"}},{"$f":"IF($B22=5,$BU22,0)","v":{"v":0,"d":"0.00"}},{"$f":"IF($B22=6,$BU22,0)","v":{"v":0,"d":"0.00"}},{"$f":"IF(CB21>0,IF(H22+P22+X22+AF22+AN22+AV22+BD22+BL22+BT22+CJ22=0,IF(E22>0,CB21,0),0),0)","v":0},{"$f":"G22*CB22","v":{"v":0,"d":"0.00"}},{"$f":"IF($B22=1,$CC22,0)","v":{"v":0,"d":"0.00"}},{"$f":"IF($B22=2,$CC22,0)","v":{"v":0,"d":"0.00"}},{"$f":"IF($B22=3,$CC22,0)","v":{"v":0,"d":"0.00"}},{"$f":"IF($B22=4,$CC22,0)","v":{"v":0,"d":"0.00"}},{"$f":"IF($B22=5,$CC22,0)","v":{"v":0,"d":"0.00"}},{"$f":"IF($B22=6,$CC22,0)","v":{"v":0,"d":"0.00"}},{"$f":"IF(CJ21>0,IF(H22+P22+X22+AF22+AN22+AV22+BD22+BL22+BT22+CB22=0,IF(E22>0,CJ21,0),0),0)","v":0},{"$f":"G22*CJ22","v":{"v":0,"d":"0.00"}},{"$f":"IF($B22=1,$CK22,0)","v":{"v":0,"d":"0.00"}},{"$f":"IF($B22=2,$CK22,0)","v":{"v":0,"d":"0.00"}},{"$f":"IF($B22=3,$CK22,0)","v":{"v":0,"d":"0.00"}},{"$f":"IF($B22=4,$CK22,0)","v":{"v":0,"d":"0.00"}},{"$f":"IF($B22=5,$CK22,0)","v":{"v":0,"d":"0.00"}},{"$f":"IF($B22=6,$CK22,0)","v":{"v":0,"d":"0.00"}}]
[{"$f":"IF(C22<>C23,C23,\"\")","v":""},{"$f":"IF(C22<>C23,_xlfn.DAYS(C23,C22)+B22,B22)","v":1},{"$f":"IF(D23>0,IF(D23<E22,C22+1,C22),C22)","v":"2009-02-23"},{"$f":"IF((E23+H23+P23+X23+AF23+AN23+AV23+BD23+BL23+BT23+CB23+CJ23)>0,E22,0)","v":"00:00:00"},null,{"$f":"E23-D23","v":"00:00:00"},{"$f":"IF(E23>0,HOUR(F23)+(MINUTE(F23)/60),0)","v":0},{"$f":"IF(H22>0,IF(P23+X23+AF23+AN23+AV23+BD23+BL23+BT23+CB23+CJ23=0,IF(E23>0,H22,0),0),0)","v":0},{"$f":"G23*H23","v":{"v":0,"d":"0.00"}},{"$f":"IF($B23=1,$I23,0)","v":{"v":0,"d":"0.00"}},{"$f":"IF($B23=2,$I23,0)","v":{"v":0,"d":"0.00"}},{"$f":"IF($B23=3,$I23,0)","v":{"v":0,"d":"0.00"}},{"$f":"IF($B23=4,$I23,0)","v":{"v":0,"d":"0.00"}},{"$f":"IF($B23=5,$I23,0)","v":{"v":0,"d":"0.00"}},{"$f":"IF($B23=6,$I23,0)","v":{"v":0,"d":"0.00"}},{"$f":"IF(P22>0,IF(H23+X23+AF23+AN23+AV23+BD23+BL23+BT23+CB23+CJ23=0,IF(E23>0,P22,0),0),0)","v":0},{"$f":"G23*P23","v":{"v":0,"d":"0.00"}},{"$f":"IF(B23=1,Q23,0)","v":{"v":0,"d":"0.00"}},{"$f":"IF(B23=2,Q23,0)","v":{"v":0,"d":"0.00"}},{"$f":"IF(B23=3,Q23,0)","v":{"v":0,"d":"0.00"}},{"$f":"IF(B23=4,Q23,0)","v":{"v":0,"d":"0.00"}},{"$f":"IF(B23=5,Q23,0)","v":{"v":0,"d":"0.00"}},{"$f":"IF(B23=6,Q23,0)","v":{"v":0,"d":"0.00"}},{"$f":"IF(X22>0,IF(H23+P23+AF23+AN23+AV23+BD23+BL23+BT23+CB23+CJ23=0,IF(E23>0,X22,0),0),0)","v":0},{"$f":"G23*X23","v":{"v":0,"d":"0.00"}},{"$f":"IF($B23=1,$Y23,0)","v":{"v":0,"d":"0.00"}},{"$f":"IF($B23=2,$Y23,0)","v":{"v":0,"d":"0.00"}},{"$f":"IF($B23=3,$Y23,0)","v":{"v":0,"d":"0.00"}},{"$f":"IF($B23=4,$Y23,0)","v":{"v":0,"d":"0.00"}},{"$f":"IF($B23=5,$Y23,0)","v":{"v":0,"d":"0.00"}},{"$f":"IF($B23=6,$Y23,0)","v":{"v":0,"d":"0.00"}},{"$f":"IF(AF22>0,IF(H23+P23+X23+AN23+AV23+BD23+BL23+BT23+CB23+CJ23=0,IF(E23>0,AF22,0),0),0)","v":0},{"$f":"G23*AF23","v":{"v":0,"d":"0.00"}},{"$f":"IF($B23=1,$AG23,0)","v":{"v":0,"d":"0.00"}},{"$f":"IF($B23=2,$AG23,0)","v":{"v":0,"d":"0.00"}},{"$f":"IF($B23=3,$AG23,0)","v":{"v":0,"d":"0.00"}},{"$f":"IF($B23=4,$AG23,0)","v":{"v":0,"d":"0.00"}},{"$f":"IF($B23=5,$AG23,0)","v":{"v":0,"d":"0.00"}},{"$f":"IF($B23=6,$AG23,0)","v":{"v":0,"d":"0.00"}},{"$f":"IF(AN22>0,IF(H23+P23+X23+AF23+AV23+BD23+BL23+BT23+CB23+CJ23=0,IF(E23>0,AN22,0),0),0)","v":0},{"$f":"G23*AN23","v":{"v":0,"d":"0.00"}},{"$f":"IF($B23=1,$AO23,0)","v":{"v":0,"d":"0.00"}},{"$f":"IF($B23=2,$AO23,0)","v":{"v":0,"d":"0.00"}},{"$f":"IF($B23=3,$AO23,0)","v":{"v":0,"d":"0.00"}},{"$f":"IF($B23=4,$AO23,0)","v":{"v":0,"d":"0.00"}},{"$f":"IF($B23=5,$AO23,0)","v":{"v":0,"d":"0.00"}},{"$f":"IF($B23=6,$AO23,0)","v":{"v":0,"d":"0.00"}},{"$f":"IF(AV22>0,IF(H23+P23+X23+AF23+AN23+BD23+BL23+BT23+CB23+CJ23=0,IF(E23>0,AV22,0),0),0)","v":0},{"$f":"G23*AV23","v":{"v":0,"d":"0.00"}},{"$f":"IF($B23=1,$AW23,0)","v":{"v":0,"d":"0.00"}},{"$f":"IF($B23=2,$AW23,0)","v":{"v":0,"d":"0.00"}},{"$f":"IF($B23=3,$AW23,0)","v":{"v":0,"d":"0.00"}},{"$f":"IF($B23=4,$AW23,0)","v":{"v":0,"d":"0.00"}},{"$f":"IF($B23=5,$AW23,0)","v":{"v":0,"d":"0.00"}},{"$f":"IF($B23=6,$AW23,0)","v":{"v":0,"d":"0.00"}},{"$f":"IF(BD22>0,IF(H23+P23+X23+AF23+AN23+AV23+BL23+BT23+CB23+CJ23=0,IF(E23>0,BD22,0),0),0)","v":0},{"$f":"G23*BD23","v":{"v":0,"d":"0.00"}},{"$f":"IF($B23=1,$BE23,0)","v":{"v":0,"d":"0.00"}},{"$f":"IF($B23=2,$BE23,0)","v":{"v":0,"d":"0.00"}},{"$f":"IF($B23=3,$BE23,0)","v":{"v":0,"d":"0.00"}},{"$f":"IF($B23=4,$BE23,0)","v":{"v":0,"d":"0.00"}},{"$f":"IF($B23=5,$BE23,0)","v":{"v":0,"d":"0.00"}},{"$f":"IF($B23=6,$BE23,0)","v":{"v":0,"d":"0.00"}},{"$f":"IF(BL22>0,IF(H23+P23+X23+AF23+AN23+AV23+BD23+BT23+CB23+CJ23=0,IF(E23>0,BL22,0),0),0)","v":0},{"$f":"G23*BL23","v":{"v":0,"d":"0.00"}},{"$f":"IF($B23=1,$BM23,0)","v":{"v":0,"d":"0.00"}},{"$f":"IF($B23=2,$BM23,0)","v":{"v":0,"d":"0.00"}},{"$f":"IF($B23=3,$BM23,0)","v":{"v":0,"d":"0.00"}},{"$f":"IF($B23=4,$BM23,0)","v":{"v":0,"d":"0.00"}},{"$f":"IF($B23=5,$BM23,0)","v":{"v":0,"d":"0.00"}},{"$f":"IF($B23=6,$BM23,0)","v":{"v":0,"d":"0.00"}},{"$f":"IF(BT22>0,IF(H23+P23+X23+AF23+AN23+AV23+BD23+BL23+CB23+CJ23=0,IF(E23>0,BT22,0),0),0)","v":0},{"$f":"G23*BT23","v":{"v":0,"d":"0.00"}},{"$f":"IF($B23=1,$BU23,0)","v":{"v":0,"d":"0.00"}},{"$f":"IF($B23=2,$BU23,0)","v":{"v":0,"d":"0.00"}},{"$f":"IF($B23=3,$BU23,0)","v":{"v":0,"d":"0.00"}},{"$f":"IF($B23=4,$BU23,0)","v":{"v":0,"d":"0.00"}},{"$f":"IF($B23=5,$BU23,0)","v":{"v":0,"d":"0.00"}},{"$f":"IF($B23=6,$BU23,0)","v":{"v":0,"d":"0.00"}},{"$f":"IF(CB22>0,IF(H23+P23+X23+AF23+AN23+AV23+BD23+BL23+BT23+CJ23=0,IF(E23>0,CB22,0),0),0)","v":0},{"$f":"G23*CB23","v":{"v":0,"d":"0.00"}},{"$f":"IF($B23=1,$CC23,0)","v":{"v":0,"d":"0.00"}},{"$f":"IF($B23=2,$CC23,0)","v":{"v":0,"d":"0.00"}},{"$f":"IF($B23=3,$CC23,0)","v":{"v":0,"d":"0.00"}},{"$f":"IF($B23=4,$CC23,0)","v":{"v":0,"d":"0.00"}},{"$f":"IF($B23=5,$CC23,0)","v":{"v":0,"d":"0.00"}},{"$f":"IF($B23=6,$CC23,0)","v":{"v":0,"d":"0.00"}},{"$f":"IF(CJ22>0,IF(H23+P23+X23+AF23+AN23+AV23+BD23+BL23+BT23+CB23=0,IF(E23>0,CJ22,0),0),0)","v":0},{"$f":"G23*CJ23","v":{"v":0,"d":"0.00"}},{"$f":"IF($B23=1,$CK23,0)","v":{"v":0,"d":"0.00"}},{"$f":"IF($B23=2,$CK23,0)","v":{"v":0,"d":"0.00"}},{"$f":"IF($B23=3,$CK23,0)","v":{"v":0,"d":"0.00"}},{"$f":"IF($B23=4,$CK23,0)","v":{"v":0,"d":"0.00"}},{"$f":"IF($B23=5,$CK23,0)","v":{"v":0,"d":"0.00"}},{"$f":"IF($B23=6,$CK23,0)","v":{"v":0,"d":"0.00"}}]
[{"$f":"IF(C23<>C24,C24,\"\")","v":""},{"$f":"IF(C23<>C24,_xlfn.DAYS(C24,C23)+B23,B23)","v":1},{"$f":"IF(D24>0,IF(D24<E23,C23+1,C23),C23)","v":"2009-02-23"},{"$f":"IF((E24+H24+P24+X24+AF24+AN24+AV24+BD24+BL24+BT24+CB24+CJ24)>0,E23,0)","v":"00:00:00"},null,{"$f":"E24-D24","v":"00:00:00"},{"$f":"IF(E24>0,HOUR(F24)+(MINUTE(F24)/60),0)","v":0},{"$f":"IF(H23>0,IF(P24+X24+AF24+AN24+AV24+BD24+BL24+BT24+CB24+CJ24=0,IF(E24>0,H23,0),0),0)","v":0},{"$f":"G24*H24","v":{"v":0,"d":"0.00"}},{"$f":"IF($B24=1,$I24,0)","v":{"v":0,"d":"0.00"}},{"$f":"IF($B24=2,$I24,0)","v":{"v":0,"d":"0.00"}},{"$f":"IF($B24=3,$I24,0)","v":{"v":0,"d":"0.00"}},{"$f":"IF($B24=4,$I24,0)","v":{"v":0,"d":"0.00"}},{"$f":"IF($B24=5,$I24,0)","v":{"v":0,"d":"0.00"}},{"$f":"IF($B24=6,$I24,0)","v":{"v":0,"d":"0.00"}},{"$f":"IF(P23>0,IF(H24+X24+AF24+AN24+AV24+BD24+BL24+BT24+CB24+CJ24=0,IF(E24>0,P23,0),0),0)","v":0},{"$f":"G24*P24","v":{"v":0,"d":"0.00"}},{"$f":"IF(B24=1,Q24,0)","v":{"v":0,"d":"0.00"}},{"$f":"IF(B24=2,Q24,0)","v":{"v":0,"d":"0.00"}},{"$f":"IF(B24=3,Q24,0)","v":{"v":0,"d":"0.00"}},{"$f":"IF(B24=4,Q24,0)","v":{"v":0,"d":"0.00"}},{"$f":"IF(B24=5,Q24,0)","v":{"v":0,"d":"0.00"}},{"$f":"IF(B24=6,Q24,0)","v":{"v":0,"d":"0.00"}},{"$f":"IF(X23>0,IF(H24+P24+AF24+AN24+AV24+BD24+BL24+BT24+CB24+CJ24=0,IF(E24>0,X23,0),0),0)","v":0},{"$f":"G24*X24","v":{"v":0,"d":"0.00"}},{"$f":"IF($B24=1,$Y24,0)","v":{"v":0,"d":"0.00"}},{"$f":"IF($B24=2,$Y24,0)","v":{"v":0,"d":"0.00"}},{"$f":"IF($B24=3,$Y24,0)","v":{"v":0,"d":"0.00"}},{"$f":"IF($B24=4,$Y24,0)","v":{"v":0,"d":"0.00"}},{"$f":"IF($B24=5,$Y24,0)","v":{"v":0,"d":"0.00"}},{"$f":"IF($B24=6,$Y24,0)","v":{"v":0,"d":"0.00"}},{"$f":"IF(AF23>0,IF(H24+P24+X24+AN24+AV24+BD24+BL24+BT24+CB24+CJ24=0,IF(E24>0,AF23,0),0),0)","v":0},{"$f":"G24*AF24","v":{"v":0,"d":"0.00"}},{"$f":"IF($B24=1,$AG24,0)","v":{"v":0,"d":"0.00"}},{"$f":"IF($B24=2,$AG24,0)","v":{"v":0,"d":"0.00"}},{"$f":"IF($B24=3,$AG24,0)","v":{"v":0,"d":"0.00"}},{"$f":"IF($B24=4,$AG24,0)","v":{"v":0,"d":"0.00"}},{"$f":"IF($B24=5,$AG24,0)","v":{"v":0,"d":"0.00"}},{"$f":"IF($B24=6,$AG24,0)","v":{"v":0,"d":"0.00"}},{"$f":"IF(AN23>0,IF(H24+P24+X24+AF24+AV24+BD24+BL24+BT24+CB24+CJ24=0,IF(E24>0,AN23,0),0),0)","v":0},{"$f":"G24*AN24","v":{"v":0,"d":"0.00"}},{"$f":"IF($B24=1,$AO24,0)","v":{"v":0,"d":"0.00"}},{"$f":"IF($B24=2,$AO24,0)","v":{"v":0,"d":"0.00"}},{"$f":"IF($B24=3,$AO24,0)","v":{"v":0,"d":"0.00"}},{"$f":"IF($B24=4,$AO24,0)","v":{"v":0,"d":"0.00"}},{"$f":"IF($B24=5,$AO24,0)","v":{"v":0,"d":"0.00"}},{"$f":"IF($B24=6,$AO24,0)","v":{"v":0,"d":"0.00"}},{"$f":"IF(AV23>0,IF(H24+P24+X24+AF24+AN24+BD24+BL24+BT24+CB24+CJ24=0,IF(E24>0,AV23,0),0),0)","v":0},{"$f":"G24*AV24","v":{"v":0,"d":"0.00"}},{"$f":"IF($B24=1,$AW24,0)","v":{"v":0,"d":"0.00"}},{"$f":"IF($B24=2,$AW24,0)","v":{"v":0,"d":"0.00"}},{"$f":"IF($B24=3,$AW24,0)","v":{"v":0,"d":"0.00"}},{"$f":"IF($B24=4,$AW24,0)","v":{"v":0,"d":"0.00"}},{"$f":"IF($B24=5,$AW24,0)","v":{"v":0,"d":"0.00"}},{"$f":"IF($B24=6,$AW24,0)","v":{"v":0,"d":"0.00"}},{"$f":"IF(BD23>0,IF(H24+P24+X24+AF24+AN24+AV24+BL24+BT24+CB24+CJ24=0,IF(E24>0,BD23,0),0),0)","v":0},{"$f":"G24*BD24","v":{"v":0,"d":"0.00"}},{"$f":"IF($B24=1,$BE24,0)","v":{"v":0,"d":"0.00"}},{"$f":"IF($B24=2,$BE24,0)","v":{"v":0,"d":"0.00"}},{"$f":"IF($B24=3,$BE24,0)","v":{"v":0,"d":"0.00"}},{"$f":"IF($B24=4,$BE24,0)","v":{"v":0,"d":"0.00"}},{"$f":"IF($B24=5,$BE24,0)","v":{"v":0,"d":"0.00"}},{"$f":"IF($B24=6,$BE24,0)","v":{"v":0,"d":"0.00"}},{"$f":"IF(BL23>0,IF(H24+P24+X24+AF24+AN24+AV24+BD24+BT24+CB24+CJ24=0,IF(E24>0,BL23,0),0),0)","v":0},{"$f":"G24*BL24","v":{"v":0,"d":"0.00"}},{"$f":"IF($B24=1,$BM24,0)","v":{"v":0,"d":"0.00"}},{"$f":"IF($B24=2,$BM24,0)","v":{"v":0,"d":"0.00"}},{"$f":"IF($B24=3,$BM24,0)","v":{"v":0,"d":"0.00"}},{"$f":"IF($B24=4,$BM24,0)","v":{"v":0,"d":"0.00"}},{"$f":"IF($B24=5,$BM24,0)","v":{"v":0,"d":"0.00"}},{"$f":"IF($B24=6,$BM24,0)","v":{"v":0,"d":"0.00"}},{"$f":"IF(BT23>0,IF(H24+P24+X24+AF24+AN24+AV24+BD24+BL24+CB24+CJ24=0,IF(E24>0,BT23,0),0),0)","v":0},{"$f":"G24*BT24","v":{"v":0,"d":"0.00"}},{"$f":"IF($B24=1,$BU24,0)","v":{"v":0,"d":"0.00"}},{"$f":"IF($B24=2,$BU24,0)","v":{"v":0,"d":"0.00"}},{"$f":"IF($B24=3,$BU24,0)","v":{"v":0,"d":"0.00"}},{"$f":"IF($B24=4,$BU24,0)","v":{"v":0,"d":"0.00"}},{"$f":"IF($B24=5,$BU24,0)","v":{"v":0,"d":"0.00"}},{"$f":"IF($B24=6,$BU24,0)","v":{"v":0,"d":"0.00"}},{"$f":"IF(CB23>0,IF(H24+P24+X24+AF24+AN24+AV24+BD24+BL24+BT24+CJ24=0,IF(E24>0,CB23,0),0),0)","v":0},{"$f":"G24*CB24","v":{"v":0,"d":"0.00"}},{"$f":"IF($B24=1,$CC24,0)","v":{"v":0,"d":"0.00"}},{"$f":"IF($B24=2,$CC24,0)","v":{"v":0,"d":"0.00"}},{"$f":"IF($B24=3,$CC24,0)","v":{"v":0,"d":"0.00"}},{"$f":"IF($B24=4,$CC24,0)","v":{"v":0,"d":"0.00"}},{"$f":"IF($B24=5,$CC24,0)","v":{"v":0,"d":"0.00"}},{"$f":"IF($B24=6,$CC24,0)","v":{"v":0,"d":"0.00"}},{"$f":"IF(CJ23>0,IF(H24+P24+X24+AF24+AN24+AV24+BD24+BL24+BT24+CB24=0,IF(E24>0,CJ23,0),0),0)","v":0},{"$f":"G24*CJ24","v":{"v":0,"d":"0.00"}},{"$f":"IF($B24=1,$CK24,0)","v":{"v":0,"d":"0.00"}},{"$f":"IF($B24=2,$CK24,0)","v":{"v":0,"d":"0.00"}},{"$f":"IF($B24=3,$CK24,0)","v":{"v":0,"d":"0.00"}},{"$f":"IF($B24=4,$CK24,0)","v":{"v":0,"d":"0.00"}},{"$f":"IF($B24=5,$CK24,0)","v":{"v":0,"d":"0.00"}},{"$f":"IF($B24=6,$CK24,0)","v":{"v":0,"d":"0.00"}}]
[{"$f":"IF(C24<>C25,C25,\"\")","v":""},{"$f":"IF(C24<>C25,_xlfn.DAYS(C25,C24)+B24,B24)","v":1},{"$f":"IF(D25>0,IF(D25<E24,C24+1,C24),C24)","v":"2009-02-23"},{"$f":"IF((E25+H25+P25+X25+AF25+AN25+AV25+BD25+BL25+BT25+CB25+CJ25)>0,E24,0)","v":"00:00:00"},null,{"$f":"E25-D25","v":"00:00:00"},{"$f":"IF(E25>0,HOUR(F25)+(MINUTE(F25)/60),0)","v":0},{"$f":"IF(H24>0,IF(P25+X25+AF25+AN25+AV25+BD25+BL25+BT25+CB25+CJ25=0,IF(E25>0,H24,0),0),0)","v":0},{"$f":"G25*H25","v":{"v":0,"d":"0.00"}},{"$f":"IF($B25=1,$I25,0)","v":{"v":0,"d":"0.00"}},{"$f":"IF($B25=2,$I25,0)","v":{"v":0,"d":"0.00"}},{"$f":"IF($B25=3,$I25,0)","v":{"v":0,"d":"0.00"}},{"$f":"IF($B25=4,$I25,0)","v":{"v":0,"d":"0.00"}},{"$f":"IF($B25=5,$I25,0)","v":{"v":0,"d":"0.00"}},{"$f":"IF($B25=6,$I25,0)","v":{"v":0,"d":"0.00"}},{"$f":"IF(P24>0,IF(H25+X25+AF25+AN25+AV25+BD25+BL25+BT25+CB25+CJ25=0,IF(E25>0,P24,0),0),0)","v":0},{"$f":"G25*P25","v":{"v":0,"d":"0.00"}},{"$f":"IF(B25=1,Q25,0)","v":{"v":0,"d":"0.00"}},{"$f":"IF(B25=2,Q25,0)","v":{"v":0,"d":"0.00"}},{"$f":"IF(B25=3,Q25,0)","v":{"v":0,"d":"0.00"}},{"$f":"IF(B25=4,Q25,0)","v":{"v":0,"d":"0.00"}},{"$f":"IF(B25=5,Q25,0)","v":{"v":0,"d":"0.00"}},{"$f":"IF(B25=6,Q25,0)","v":{"v":0,"d":"0.00"}},{"$f":"IF(X24>0,IF(H25+P25+AF25+AN25+AV25+BD25+BL25+BT25+CB25+CJ25=0,IF(E25>0,X24,0),0),0)","v":0},{"$f":"G25*X25","v":{"v":0,"d":"0.00"}},{"$f":"IF($B25=1,$Y25,0)","v":{"v":0,"d":"0.00"}},{"$f":"IF($B25=2,$Y25,0)","v":{"v":0,"d":"0.00"}},{"$f":"IF($B25=3,$Y25,0)","v":{"v":0,"d":"0.00"}},{"$f":"IF($B25=4,$Y25,0)","v":{"v":0,"d":"0.00"}},{"$f":"IF($B25=5,$Y25,0)","v":{"v":0,"d":"0.00"}},{"$f":"IF($B25=6,$Y25,0)","v":{"v":0,"d":"0.00"}},{"$f":"IF(AF24>0,IF(H25+P25+X25+AN25+AV25+BD25+BL25+BT25+CB25+CJ25=0,IF(E25>0,AF24,0),0),0)","v":0},{"$f":"G25*AF25","v":{"v":0,"d":"0.00"}},{"$f":"IF($B25=1,$AG25,0)","v":{"v":0,"d":"0.00"}},{"$f":"IF($B25=2,$AG25,0)","v":{"v":0,"d":"0.00"}},{"$f":"IF($B25=3,$AG25,0)","v":{"v":0,"d":"0.00"}},{"$f":"IF($B25=4,$AG25,0)","v":{"v":0,"d":"0.00"}},{"$f":"IF($B25=5,$AG25,0)","v":{"v":0,"d":"0.00"}},{"$f":"IF($B25=6,$AG25,0)","v":{"v":0,"d":"0.00"}},{"$f":"IF(AN24>0,IF(H25+P25+X25+AF25+AV25+BD25+BL25+BT25+CB25+CJ25=0,IF(E25>0,AN24,0),0),0)","v":0},{"$f":"G25*AN25","v":{"v":0,"d":"0.00"}},{"$f":"IF($B25=1,$AO25,0)","v":{"v":0,"d":"0.00"}},{"$f":"IF($B25=2,$AO25,0)","v":{"v":0,"d":"0.00"}},{"$f":"IF($B25=3,$AO25,0)","v":{"v":0,"d":"0.00"}},{"$f":"IF($B25=4,$AO25,0)","v":{"v":0,"d":"0.00"}},{"$f":"IF($B25=5,$AO25,0)","v":{"v":0,"d":"0.00"}},{"$f":"IF($B25=6,$AO25,0)","v":{"v":0,"d":"0.00"}},{"$f":"IF(AV24>0,IF(H25+P25+X25+AF25+AN25+BD25+BL25+BT25+CB25+CJ25=0,IF(E25>0,AV24,0),0),0)","v":0},{"$f":"G25*AV25","v":{"v":0,"d":"0.00"}},{"$f":"IF($B25=1,$AW25,0)","v":{"v":0,"d":"0.00"}},{"$f":"IF($B25=2,$AW25,0)","v":{"v":0,"d":"0.00"}},{"$f":"IF($B25=3,$AW25,0)","v":{"v":0,"d":"0.00"}},{"$f":"IF($B25=4,$AW25,0)","v":{"v":0,"d":"0.00"}},{"$f":"IF($B25=5,$AW25,0)","v":{"v":0,"d":"0.00"}},{"$f":"IF($B25=6,$AW25,0)","v":{"v":0,"d":"0.00"}},{"$f":"IF(BD24>0,IF(H25+P25+X25+AF25+AN25+AV25+BL25+BT25+CB25+CJ25=0,IF(E25>0,BD24,0),0),0)","v":0},{"$f":"G25*BD25","v":{"v":0,"d":"0.00"}},{"$f":"IF($B25=1,$BE25,0)","v":{"v":0,"d":"0.00"}},{"$f":"IF($B25=2,$BE25,0)","v":{"v":0,"d":"0.00"}},{"$f":"IF($B25=3,$BE25,0)","v":{"v":0,"d":"0.00"}},{"$f":"IF($B25=4,$BE25,0)","v":{"v":0,"d":"0.00"}},{"$f":"IF($B25=5,$BE25,0)","v":{"v":0,"d":"0.00"}},{"$f":"IF($B25=6,$BE25,0)","v":{"v":0,"d":"0.00"}},{"$f":"IF(BL24>0,IF(H25+P25+X25+AF25+AN25+AV25+BD25+BT25+CB25+CJ25=0,IF(E25>0,BL24,0),0),0)","v":0},{"$f":"G25*BL25","v":{"v":0,"d":"0.00"}},{"$f":"IF($B25=1,$BM25,0)","v":{"v":0,"d":"0.00"}},{"$f":"IF($B25=2,$BM25,0)","v":{"v":0,"d":"0.00"}},{"$f":"IF($B25=3,$BM25,0)","v":{"v":0,"d":"0.00"}},{"$f":"IF($B25=4,$BM25,0)","v":{"v":0,"d":"0.00"}},{"$f":"IF($B25=5,$BM25,0)","v":{"v":0,"d":"0.00"}},{"$f":"IF($B25=6,$BM25,0)","v":{"v":0,"d":"0.00"}},{"$f":"IF(BT24>0,IF(H25+P25+X25+AF25+AN25+AV25+BD25+BL25+CB25+CJ25=0,IF(E25>0,BT24,0),0),0)","v":0},{"$f":"G25*BT25","v":{"v":0,"d":"0.00"}},{"$f":"IF($B25=1,$BU25,0)","v":{"v":0,"d":"0.00"}},{"$f":"IF($B25=2,$BU25,0)","v":{"v":0,"d":"0.00"}},{"$f":"IF($B25=3,$BU25,0)","v":{"v":0,"d":"0.00"}},{"$f":"IF($B25=4,$BU25,0)","v":{"v":0,"d":"0.00"}},{"$f":"IF($B25=5,$BU25,0)","v":{"v":0,"d":"0.00"}},{"$f":"IF($B25=6,$BU25,0)","v":{"v":0,"d":"0.00"}},{"$f":"IF(CB24>0,IF(H25+P25+X25+AF25+AN25+AV25+BD25+BL25+BT25+CJ25=0,IF(E25>0,CB24,0),0),0)","v":0},{"$f":"G25*CB25","v":{"v":0,"d":"0.00"}},{"$f":"IF($B25=1,$CC25,0)","v":{"v":0,"d":"0.00"}},{"$f":"IF($B25=2,$CC25,0)","v":{"v":0,"d":"0.00"}},{"$f":"IF($B25=3,$CC25,0)","v":{"v":0,"d":"0.00"}},{"$f":"IF($B25=4,$CC25,0)","v":{"v":0,"d":"0.00"}},{"$f":"IF($B25=5,$CC25,0)","v":{"v":0,"d":"0.00"}},{"$f":"IF($B25=6,$CC25,0)","v":{"v":0,"d":"0.00"}},{"$f":"IF(CJ24>0,IF(H25+P25+X25+AF25+AN25+AV25+BD25+BL25+BT25+CB25=0,IF(E25>0,CJ24,0),0),0)","v":0},{"$f":"G25*CJ25","v":{"v":0,"d":"0.00"}},{"$f":"IF($B25=1,$CK25,0)","v":{"v":0,"d":"0.00"}},{"$f":"IF($B25=2,$CK25,0)","v":{"v":0,"d":"0.00"}},{"$f":"IF($B25=3,$CK25,0)","v":{"v":0,"d":"0.00"}},{"$f":"IF($B25=4,$CK25,0)","v":{"v":0,"d":"0.00"}},{"$f":"IF($B25=5,$CK25,0)","v":{"v":0,"d":"0.00"}},{"$f":"IF($B25=6,$CK25,0)","v":{"v":0,"d":"0.00"}}]
[{"$f":"IF(C25<>C26,C26,\"\")","v":""},{"$f":"IF(C25<>C26,_xlfn.DAYS(C26,C25)+B25,B25)","v":1},{"$f":"IF(D26>0,IF(D26<E25,C25+1,C25),C25)","v":"2009-02-23"},{"$f":"IF((E26+H26+P26+X26+AF26+AN26+AV26+BD26+BL26+BT26+CB26+CJ26)>0,E25,0)","v":"00:00:00"},null,{"$f":"E26-D26","v":"00:00:00"},{"$f":"IF(E26>0,HOUR(F26)+(MINUTE(F26)/60),0)","v":0},{"$f":"IF(H25>0,IF(P26+X26+AF26+AN26+AV26+BD26+BL26+BT26+CB26+CJ26=0,IF(E26>0,H25,0),0),0)","v":0},{"$f":"G26*H26","v":{"v":0,"d":"0.00"}},{"$f":"IF($B26=1,$I26,0)","v":{"v":0,"d":"0.00"}},{"$f":"IF($B26=2,$I26,0)","v":{"v":0,"d":"0.00"}},{"$f":"IF($B26=3,$I26,0)","v":{"v":0,"d":"0.00"}},{"$f":"IF($B26=4,$I26,0)","v":{"v":0,"d":"0.00"}},{"$f":"IF($B26=5,$I26,0)","v":{"v":0,"d":"0.00"}},{"$f":"IF($B26=6,$I26,0)","v":{"v":0,"d":"0.00"}},{"$f":"IF(P25>0,IF(H26+X26+AF26+AN26+AV26+BD26+BL26+BT26+CB26+CJ26=0,IF(E26>0,P25,0),0),0)","v":0},{"$f":"G26*P26","v":{"v":0,"d":"0.00"}},{"$f":"IF(B26=1,Q26,0)","v":{"v":0,"d":"0.00"}},{"$f":"IF(B26=2,Q26,0)","v":{"v":0,"d":"0.00"}},{"$f":"IF(B26=3,Q26,0)","v":{"v":0,"d":"0.00"}},{"$f":"IF(B26=4,Q26,0)","v":{"v":0,"d":"0.00"}},{"$f":"IF(B26=5,Q26,0)","v":{"v":0,"d":"0.00"}},{"$f":"IF(B26=6,Q26,0)","v":{"v":0,"d":"0.00"}},{"$f":"IF(X25>0,IF(H26+P26+AF26+AN26+AV26+BD26+BL26+BT26+CB26+CJ26=0,IF(E26>0,X25,0),0),0)","v":0},{"$f":"G26*X26","v":{"v":0,"d":"0.00"}},{"$f":"IF($B26=1,$Y26,0)","v":{"v":0,"d":"0.00"}},{"$f":"IF($B26=2,$Y26,0)","v":{"v":0,"d":"0.00"}},{"$f":"IF($B26=3,$Y26,0)","v":{"v":0,"d":"0.00"}},{"$f":"IF($B26=4,$Y26,0)","v":{"v":0,"d":"0.00"}},{"$f":"IF($B26=5,$Y26,0)","v":{"v":0,"d":"0.00"}},{"$f":"IF($B26=6,$Y26,0)","v":{"v":0,"d":"0.00"}},{"$f":"IF(AF25>0,IF(H26+P26+X26+AN26+AV26+BD26+BL26+BT26+CB26+CJ26=0,IF(E26>0,AF25,0),0),0)","v":0},{"$f":"G26*AF26","v":{"v":0,"d":"0.00"}},{"$f":"IF($B26=1,$AG26,0)","v":{"v":0,"d":"0.00"}},{"$f":"IF($B26=2,$AG26,0)","v":{"v":0,"d":"0.00"}},{"$f":"IF($B26=3,$AG26,0)","v":{"v":0,"d":"0.00"}},{"$f":"IF($B26=4,$AG26,0)","v":{"v":0,"d":"0.00"}},{"$f":"IF($B26=5,$AG26,0)","v":{"v":0,"d":"0.00"}},{"$f":"IF($B26=6,$AG26,0)","v":{"v":0,"d":"0.00"}},{"$f":"IF(AN25>0,IF(H26+P26+X26+AF26+AV26+BD26+BL26+BT26+CB26+CJ26=0,IF(E26>0,AN25,0),0),0)","v":0},{"$f":"G26*AN26","v":{"v":0,"d":"0.00"}},{"$f":"IF($B26=1,$AO26,0)","v":{"v":0,"d":"0.00"}},{"$f":"IF($B26=2,$AO26,0)","v":{"v":0,"d":"0.00"}},{"$f":"IF($B26=3,$AO26,0)","v":{"v":0,"d":"0.00"}},{"$f":"IF($B26=4,$AO26,0)","v":{"v":0,"d":"0.00"}},{"$f":"IF($B26=5,$AO26,0)","v":{"v":0,"d":"0.00"}},{"$f":"IF($B26=6,$AO26,0)","v":{"v":0,"d":"0.00"}},{"$f":"IF(AV25>0,IF(H26+P26+X26+AF26+AN26+BD26+BL26+BT26+CB26+CJ26=0,IF(E26>0,AV25,0),0),0)","v":0},{"$f":"G26*AV26","v":{"v":0,"d":"0.00"}},{"$f":"IF($B26=1,$AW26,0)","v":{"v":0,"d":"0.00"}},{"$f":"IF($B26=2,$AW26,0)","v":{"v":0,"d":"0.00"}},{"$f":"IF($B26=3,$AW26,0)","v":{"v":0,"d":"0.00"}},{"$f":"IF($B26=4,$AW26,0)","v":{"v":0,"d":"0.00"}},{"$f":"IF($B26=5,$AW26,0)","v":{"v":0,"d":"0.00"}},{"$f":"IF($B26=6,$AW26,0)","v":{"v":0,"d":"0.00"}},{"$f":"IF(BD25>0,IF(H26+P26+X26+AF26+AN26+AV26+BL26+BT26+CB26+CJ26=0,IF(E26>0,BD25,0),0),0)","v":0},{"$f":"G26*BD26","v":{"v":0,"d":"0.00"}},{"$f":"IF($B26=1,$BE26,0)","v":{"v":0,"d":"0.00"}},{"$f":"IF($B26=2,$BE26,0)","v":{"v":0,"d":"0.00"}},{"$f":"IF($B26=3,$BE26,0)","v":{"v":0,"d":"0.00"}},{"$f":"IF($B26=4,$BE26,0)","v":{"v":0,"d":"0.00"}},{"$f":"IF($B26=5,$BE26,0)","v":{"v":0,"d":"0.00"}},{"$f":"IF($B26=6,$BE26,0)","v":{"v":0,"d":"0.00"}},{"$f":"IF(BL25>0,IF(H26+P26+X26+AF26+AN26+AV26+BD26+BT26+CB26+CJ26=0,IF(E26>0,BL25,0),0),0)","v":0},{"$f":"G26*BL26","v":{"v":0,"d":"0.00"}},{"$f":"IF($B26=1,$BM26,0)","v":{"v":0,"d":"0.00"}},{"$f":"IF($B26=2,$BM26,0)","v":{"v":0,"d":"0.00"}},{"$f":"IF($B26=3,$BM26,0)","v":{"v":0,"d":"0.00"}},{"$f":"IF($B26=4,$BM26,0)","v":{"v":0,"d":"0.00"}},{"$f":"IF($B26=5,$BM26,0)","v":{"v":0,"d":"0.00"}},{"$f":"IF($B26=6,$BM26,0)","v":{"v":0,"d":"0.00"}},{"$f":"IF(BT25>0,IF(H26+P26+X26+AF26+AN26+AV26+BD26+BL26+CB26+CJ26=0,IF(E26>0,BT25,0),0),0)","v":0},{"$f":"G26*BT26","v":{"v":0,"d":"0.00"}},{"$f":"IF($B26=1,$BU26,0)","v":{"v":0,"d":"0.00"}},{"$f":"IF($B26=2,$BU26,0)","v":{"v":0,"d":"0.00"}},{"$f":"IF($B26=3,$BU26,0)","v":{"v":0,"d":"0.00"}},{"$f":"IF($B26=4,$BU26,0)","v":{"v":0,"d":"0.00"}},{"$f":"IF($B26=5,$BU26,0)","v":{"v":0,"d":"0.00"}},{"$f":"IF($B26=6,$BU26,0)","v":{"v":0,"d":"0.00"}},{"$f":"IF(CB25>0,IF(H26+P26+X26+AF26+AN26+AV26+BD26+BL26+BT26+CJ26=0,IF(E26>0,CB25,0),0),0)","v":0},{"$f":"G26*CB26","v":{"v":0,"d":"0.00"}},{"$f":"IF($B26=1,$CC26,0)","v":{"v":0,"d":"0.00"}},{"$f":"IF($B26=2,$CC26,0)","v":{"v":0,"d":"0.00"}},{"$f":"IF($B26=3,$CC26,0)","v":{"v":0,"d":"0.00"}},{"$f":"IF($B26=4,$CC26,0)","v":{"v":0,"d":"0.00"}},{"$f":"IF($B26=5,$CC26,0)","v":{"v":0,"d":"0.00"}},{"$f":"IF($B26=6,$CC26,0)","v":{"v":0,"d":"0.00"}},{"$f":"IF(CJ25>0,IF(H26+P26+X26+AF26+AN26+AV26+BD26+BL26+BT26+CB26=0,IF(E26>0,CJ25,0),0),0)","v":0},{"$f":"G26*CJ26","v":{"v":0,"d":"0.00"}},{"$f":"IF($B26=1,$CK26,0)","v":{"v":0,"d":"0.00"}},{"$f":"IF($B26=2,$CK26,0)","v":{"v":0,"d":"0.00"}},{"$f":"IF($B26=3,$CK26,0)","v":{"v":0,"d":"0.00"}},{"$f":"IF($B26=4,$CK26,0)","v":{"v":0,"d":"0.00"}},{"$f":"IF($B26=5,$CK26,0)","v":{"v":0,"d":"0.00"}},{"$f":"IF($B26=6,$CK26,0)","v":{"v":0,"d":"0.00"}}]
[{"$f":"IF(C26<>C27,C27,\"\")","v":""},{"$f":"IF(C26<>C27,_xlfn.DAYS(C27,C26)+B26,B26)","v":1},{"$f":"IF(D27>0,IF(D27<E26,C26+1,C26),C26)","v":"2009-02-23"},{"$f":"IF((E27+H27+P27+X27+AF27+AN27+AV27+BD27+BL27+BT27+CB27+CJ27)>0,E26,0)","v":"00:00:00"},null,{"$f":"E27-D27","v":"00:00:00"},{"$f":"IF(E27>0,HOUR(F27)+(MINUTE(F27)/60),0)","v":0},{"$f":"IF(H26>0,IF(P27+X27+AF27+AN27+AV27+BD27+BL27+BT27+CB27+CJ27=0,IF(E27>0,H26,0),0),0)","v":0},{"$f":"G27*H27","v":{"v":0,"d":"0.00"}},{"$f":"IF($B27=1,$I27,0)","v":{"v":0,"d":"0.00"}},{"$f":"IF($B27=2,$I27,0)","v":{"v":0,"d":"0.00"}},{"$f":"IF($B27=3,$I27,0)","v":{"v":0,"d":"0.00"}},{"$f":"IF($B27=4,$I27,0)","v":{"v":0,"d":"0.00"}},{"$f":"IF($B27=5,$I27,0)","v":{"v":0,"d":"0.00"}},{"$f":"IF($B27=6,$I27,0)","v":{"v":0,"d":"0.00"}},{"$f":"IF(P26>0,IF(H27+X27+AF27+AN27+AV27+BD27+BL27+BT27+CB27+CJ27=0,IF(E27>0,P26,0),0),0)","v":0},{"$f":"G27*P27","v":{"v":0,"d":"0.00"}},{"$f":"IF(B27=1,Q27,0)","v":{"v":0,"d":"0.00"}},{"$f":"IF(B27=2,Q27,0)","v":{"v":0,"d":"0.00"}},{"$f":"IF(B27=3,Q27,0)","v":{"v":0,"d":"0.00"}},{"$f":"IF(B27=4,Q27,0)","v":{"v":0,"d":"0.00"}},{"$f":"IF(B27=5,Q27,0)","v":{"v":0,"d":"0.00"}},{"$f":"IF(B27=6,Q27,0)","v":{"v":0,"d":"0.00"}},{"$f":"IF(X26>0,IF(H27+P27+AF27+AN27+AV27+BD27+BL27+BT27+CB27+CJ27=0,IF(E27>0,X26,0),0),0)","v":0},{"$f":"G27*X27","v":{"v":0,"d":"0.00"}},{"$f":"IF($B27=1,$Y27,0)","v":{"v":0,"d":"0.00"}},{"$f":"IF($B27=2,$Y27,0)","v":{"v":0,"d":"0.00"}},{"$f":"IF($B27=3,$Y27,0)","v":{"v":0,"d":"0.00"}},{"$f":"IF($B27=4,$Y27,0)","v":{"v":0,"d":"0.00"}},{"$f":"IF($B27=5,$Y27,0)","v":{"v":0,"d":"0.00"}},{"$f":"IF($B27=6,$Y27,0)","v":{"v":0,"d":"0.00"}},{"$f":"IF(AF26>0,IF(H27+P27+X27+AN27+AV27+BD27+BL27+BT27+CB27+CJ27=0,IF(E27>0,AF26,0),0),0)","v":0},{"$f":"G27*AF27","v":{"v":0,"d":"0.00"}},{"$f":"IF($B27=1,$AG27,0)","v":{"v":0,"d":"0.00"}},{"$f":"IF($B27=2,$AG27,0)","v":{"v":0,"d":"0.00"}},{"$f":"IF($B27=3,$AG27,0)","v":{"v":0,"d":"0.00"}},{"$f":"IF($B27=4,$AG27,0)","v":{"v":0,"d":"0.00"}},{"$f":"IF($B27=5,$AG27,0)","v":{"v":0,"d":"0.00"}},{"$f":"IF($B27=6,$AG27,0)","v":{"v":0,"d":"0.00"}},{"$f":"IF(AN26>0,IF(H27+P27+X27+AF27+AV27+BD27+BL27+BT27+CB27+CJ27=0,IF(E27>0,AN26,0),0),0)","v":0},{"$f":"G27*AN27","v":{"v":0,"d":"0.00"}},{"$f":"IF($B27=1,$AO27,0)","v":{"v":0,"d":"0.00"}},{"$f":"IF($B27=2,$AO27,0)","v":{"v":0,"d":"0.00"}},{"$f":"IF($B27=3,$AO27,0)","v":{"v":0,"d":"0.00"}},{"$f":"IF($B27=4,$AO27,0)","v":{"v":0,"d":"0.00"}},{"$f":"IF($B27=5,$AO27,0)","v":{"v":0,"d":"0.00"}},{"$f":"IF($B27=6,$AO27,0)","v":{"v":0,"d":"0.00"}},{"$f":"IF(AV26>0,IF(H27+P27+X27+AF27+AN27+BD27+BL27+BT27+CB27+CJ27=0,IF(E27>0,AV26,0),0),0)","v":0},{"$f":"G27*AV27","v":{"v":0,"d":"0.00"}},{"$f":"IF($B27=1,$AW27,0)","v":{"v":0,"d":"0.00"}},{"$f":"IF($B27=2,$AW27,0)","v":{"v":0,"d":"0.00"}},{"$f":"IF($B27=3,$AW27,0)","v":{"v":0,"d":"0.00"}},{"$f":"IF($B27=4,$AW27,0)","v":{"v":0,"d":"0.00"}},{"$f":"IF($B27=5,$AW27,0)","v":{"v":0,"d":"0.00"}},{"$f":"IF($B27=6,$AW27,0)","v":{"v":0,"d":"0.00"}},{"$f":"IF(BD26>0,IF(H27+P27+X27+AF27+AN27+AV27+BL27+BT27+CB27+CJ27=0,IF(E27>0,BD26,0),0),0)","v":0},{"$f":"G27*BD27","v":{"v":0,"d":"0.00"}},{"$f":"IF($B27=1,$BE27,0)","v":{"v":0,"d":"0.00"}},{"$f":"IF($B27=2,$BE27,0)","v":{"v":0,"d":"0.00"}},{"$f":"IF($B27=3,$BE27,0)","v":{"v":0,"d":"0.00"}},{"$f":"IF($B27=4,$BE27,0)","v":{"v":0,"d":"0.00"}},{"$f":"IF($B27=5,$BE27,0)","v":{"v":0,"d":"0.00"}},{"$f":"IF($B27=6,$BE27,0)","v":{"v":0,"d":"0.00"}},{"$f":"IF(BL26>0,IF(H27+P27+X27+AF27+AN27+AV27+BD27+BT27+CB27+CJ27=0,IF(E27>0,BL26,0),0),0)","v":0},{"$f":"G27*BL27","v":{"v":0,"d":"0.00"}},{"$f":"IF($B27=1,$BM27,0)","v":{"v":0,"d":"0.00"}},{"$f":"IF($B27=2,$BM27,0)","v":{"v":0,"d":"0.00"}},{"$f":"IF($B27=3,$BM27,0)","v":{"v":0,"d":"0.00"}},{"$f":"IF($B27=4,$BM27,0)","v":{"v":0,"d":"0.00"}},{"$f":"IF($B27=5,$BM27,0)","v":{"v":0,"d":"0.00"}},{"$f":"IF($B27=6,$BM27,0)","v":{"v":0,"d":"0.00"}},{"$f":"IF(BT26>0,IF(H27+P27+X27+AF27+AN27+AV27+BD27+BL27+CB27+CJ27=0,IF(E27>0,BT26,0),0),0)","v":0},{"$f":"G27*BT27","v":{"v":0,"d":"0.00"}},{"$f":"IF($B27=1,$BU27,0)","v":{"v":0,"d":"0.00"}},{"$f":"IF($B27=2,$BU27,0)","v":{"v":0,"d":"0.00"}},{"$f":"IF($B27=3,$BU27,0)","v":{"v":0,"d":"0.00"}},{"$f":"IF($B27=4,$BU27,0)","v":{"v":0,"d":"0.00"}},{"$f":"IF($B27=5,$BU27,0)","v":{"v":0,"d":"0.00"}},{"$f":"IF($B27=6,$BU27,0)","v":{"v":0,"d":"0.00"}},{"$f":"IF(CB26>0,IF(H27+P27+X27+AF27+AN27+AV27+BD27+BL27+BT27+CJ27=0,IF(E27>0,CB26,0),0),0)","v":0},{"$f":"G27*CB27","v":{"v":0,"d":"0.00"}},{"$f":"IF($B27=1,$CC27,0)","v":{"v":0,"d":"0.00"}},{"$f":"IF($B27=2,$CC27,0)","v":{"v":0,"d":"0.00"}},{"$f":"IF($B27=3,$CC27,0)","v":{"v":0,"d":"0.00"}},{"$f":"IF($B27=4,$CC27,0)","v":{"v":0,"d":"0.00"}},{"$f":"IF($B27=5,$CC27,0)","v":{"v":0,"d":"0.00"}},{"$f":"IF($B27=6,$CC27,0)","v":{"v":0,"d":"0.00"}},{"$f":"IF(CJ26>0,IF(H27+P27+X27+AF27+AN27+AV27+BD27+BL27+BT27+CB27=0,IF(E27>0,CJ26,0),0),0)","v":0},{"$f":"G27*CJ27","v":{"v":0,"d":"0.00"}},{"$f":"IF($B27=1,$CK27,0)","v":{"v":0,"d":"0.00"}},{"$f":"IF($B27=2,$CK27,0)","v":{"v":0,"d":"0.00"}},{"$f":"IF($B27=3,$CK27,0)","v":{"v":0,"d":"0.00"}},{"$f":"IF($B27=4,$CK27,0)","v":{"v":0,"d":"0.00"}},{"$f":"IF($B27=5,$CK27,0)","v":{"v":0,"d":"0.00"}},{"$f":"IF($B27=6,$CK27,0)","v":{"v":0,"d":"0.00"}}]
[{"$f":"IF(C27<>C28,C28,\"\")","v":""},{"$f":"IF(C27<>C28,_xlfn.DAYS(C28,C27)+B27,B27)","v":1},{"$f":"IF(D28>0,IF(D28<E27,C27+1,C27),C27)","v":"2009-02-23"},{"$f":"IF((E28+H28+P28+X28+AF28+AN28+AV28+BD28+BL28+BT28+CB28+CJ28)>0,E27,0)","v":"00:00:00"},null,{"$f":"E28-D28","v":"00:00:00"},{"$f":"IF(E28>0,HOUR(F28)+(MINUTE(F28)/60),0)","v":0},{"$f":"IF(H27>0,IF(P28+X28+AF28+AN28+AV28+BD28+BL28+BT28+CB28+CJ28=0,IF(E28>0,H27,0),0),0)","v":0},{"$f":"G28*H28","v":{"v":0,"d":"0.00"}},{"$f":"IF($B28=1,$I28,0)","v":{"v":0,"d":"0.00"}},{"$f":"IF($B28=2,$I28,0)","v":{"v":0,"d":"0.00"}},{"$f":"IF($B28=3,$I28,0)","v":{"v":0,"d":"0.00"}},{"$f":"IF($B28=4,$I28,0)","v":{"v":0,"d":"0.00"}},{"$f":"IF($B28=5,$I28,0)","v":{"v":0,"d":"0.00"}},{"$f":"IF($B28=6,$I28,0)","v":{"v":0,"d":"0.00"}},{"$f":"IF(P27>0,IF(H28+X28+AF28+AN28+AV28+BD28+BL28+BT28+CB28+CJ28=0,IF(E28>0,P27,0),0),0)","v":0},{"$f":"G28*P28","v":{"v":0,"d":"0.00"}},{"$f":"IF(B28=1,Q28,0)","v":{"v":0,"d":"0.00"}},{"$f":"IF(B28=2,Q28,0)","v":{"v":0,"d":"0.00"}},{"$f":"IF(B28=3,Q28,0)","v":{"v":0,"d":"0.00"}},{"$f":"IF(B28=4,Q28,0)","v":{"v":0,"d":"0.00"}},{"$f":"IF(B28=5,Q28,0)","v":{"v":0,"d":"0.00"}},{"$f":"IF(B28=6,Q28,0)","v":{"v":0,"d":"0.00"}},{"$f":"IF(X27>0,IF(H28+P28+AF28+AN28+AV28+BD28+BL28+BT28+CB28+CJ28=0,IF(E28>0,X27,0),0),0)","v":0},{"$f":"G28*X28","v":{"v":0,"d":"0.00"}},{"$f":"IF($B28=1,$Y28,0)","v":{"v":0,"d":"0.00"}},{"$f":"IF($B28=2,$Y28,0)","v":{"v":0,"d":"0.00"}},{"$f":"IF($B28=3,$Y28,0)","v":{"v":0,"d":"0.00"}},{"$f":"IF($B28=4,$Y28,0)","v":{"v":0,"d":"0.00"}},{"$f":"IF($B28=5,$Y28,0)","v":{"v":0,"d":"0.00"}},{"$f":"IF($B28=6,$Y28,0)","v":{"v":0,"d":"0.00"}},{"$f":"IF(AF27>0,IF(H28+P28+X28+AN28+AV28+BD28+BL28+BT28+CB28+CJ28=0,IF(E28>0,AF27,0),0),0)","v":0},{"$f":"G28*AF28","v":{"v":0,"d":"0.00"}},{"$f":"IF($B28=1,$AG28,0)","v":{"v":0,"d":"0.00"}},{"$f":"IF($B28=2,$AG28,0)","v":{"v":0,"d":"0.00"}},{"$f":"IF($B28=3,$AG28,0)","v":{"v":0,"d":"0.00"}},{"$f":"IF($B28=4,$AG28,0)","v":{"v":0,"d":"0.00"}},{"$f":"IF($B28=5,$AG28,0)","v":{"v":0,"d":"0.00"}},{"$f":"IF($B28=6,$AG28,0)","v":{"v":0,"d":"0.00"}},{"$f":"IF(AN27>0,IF(H28+P28+X28+AF28+AV28+BD28+BL28+BT28+CB28+CJ28=0,IF(E28>0,AN27,0),0),0)","v":0},{"$f":"G28*AN28","v":{"v":0,"d":"0.00"}},{"$f":"IF($B28=1,$AO28,0)","v":{"v":0,"d":"0.00"}},{"$f":"IF($B28=2,$AO28,0)","v":{"v":0,"d":"0.00"}},{"$f":"IF($B28=3,$AO28,0)","v":{"v":0,"d":"0.00"}},{"$f":"IF($B28=4,$AO28,0)","v":{"v":0,"d":"0.00"}},{"$f":"IF($B28=5,$AO28,0)","v":{"v":0,"d":"0.00"}},{"$f":"IF($B28=6,$AO28,0)","v":{"v":0,"d":"0.00"}},{"$f":"IF(AV27>0,IF(H28+P28+X28+AF28+AN28+BD28+BL28+BT28+CB28+CJ28=0,IF(E28>0,AV27,0),0),0)","v":0},{"$f":"G28*AV28","v":{"v":0,"d":"0.00"}},{"$f":"IF($B28=1,$AW28,0)","v":{"v":0,"d":"0.00"}},{"$f":"IF($B28=2,$AW28,0)","v":{"v":0,"d":"0.00"}},{"$f":"IF($B28=3,$AW28,0)","v":{"v":0,"d":"0.00"}},{"$f":"IF($B28=4,$AW28,0)","v":{"v":0,"d":"0.00"}},{"$f":"IF($B28=5,$AW28,0)","v":{"v":0,"d":"0.00"}},{"$f":"IF($B28=6,$AW28,0)","v":{"v":0,"d":"0.00"}},{"$f":"IF(BD27>0,IF(H28+P28+X28+AF28+AN28+AV28+BL28+BT28+CB28+CJ28=0,IF(E28>0,BD27,0),0),0)","v":0},{"$f":"G28*BD28","v":{"v":0,"d":"0.00"}},{"$f":"IF($B28=1,$BE28,0)","v":{"v":0,"d":"0.00"}},{"$f":"IF($B28=2,$BE28,0)","v":{"v":0,"d":"0.00"}},{"$f":"IF($B28=3,$BE28,0)","v":{"v":0,"d":"0.00"}},{"$f":"IF($B28=4,$BE28,0)","v":{"v":0,"d":"0.00"}},{"$f":"IF($B28=5,$BE28,0)","v":{"v":0,"d":"0.00"}},{"$f":"IF($B28=6,$BE28,0)","v":{"v":0,"d":"0.00"}},{"$f":"IF(BL27>0,IF(H28+P28+X28+AF28+AN28+AV28+BD28+BT28+CB28+CJ28=0,IF(E28>0,BL27,0),0),0)","v":0},{"$f":"G28*BL28","v":{"v":0,"d":"0.00"}},{"$f":"IF($B28=1,$BM28,0)","v":{"v":0,"d":"0.00"}},{"$f":"IF($B28=2,$BM28,0)","v":{"v":0,"d":"0.00"}},{"$f":"IF($B28=3,$BM28,0)","v":{"v":0,"d":"0.00"}},{"$f":"IF($B28=4,$BM28,0)","v":{"v":0,"d":"0.00"}},{"$f":"IF($B28=5,$BM28,0)","v":{"v":0,"d":"0.00"}},{"$f":"IF($B28=6,$BM28,0)","v":{"v":0,"d":"0.00"}},{"$f":"IF(BT27>0,IF(H28+P28+X28+AF28+AN28+AV28+BD28+BL28+CB28+CJ28=0,IF(E28>0,BT27,0),0),0)","v":0},{"$f":"G28*BT28","v":{"v":0,"d":"0.00"}},{"$f":"IF($B28=1,$BU28,0)","v":{"v":0,"d":"0.00"}},{"$f":"IF($B28=2,$BU28,0)","v":{"v":0,"d":"0.00"}},{"$f":"IF($B28=3,$BU28,0)","v":{"v":0,"d":"0.00"}},{"$f":"IF($B28=4,$BU28,0)","v":{"v":0,"d":"0.00"}},{"$f":"IF($B28=5,$BU28,0)","v":{"v":0,"d":"0.00"}},{"$f":"IF($B28=6,$BU28,0)","v":{"v":0,"d":"0.00"}},{"$f":"IF(CB27>0,IF(H28+P28+X28+AF28+AN28+AV28+BD28+BL28+BT28+CJ28=0,IF(E28>0,CB27,0),0),0)","v":0},{"$f":"G28*CB28","v":{"v":0,"d":"0.00"}},{"$f":"IF($B28=1,$CC28,0)","v":{"v":0,"d":"0.00"}},{"$f":"IF($B28=2,$CC28,0)","v":{"v":0,"d":"0.00"}},{"$f":"IF($B28=3,$CC28,0)","v":{"v":0,"d":"0.00"}},{"$f":"IF($B28=4,$CC28,0)","v":{"v":0,"d":"0.00"}},{"$f":"IF($B28=5,$CC28,0)","v":{"v":0,"d":"0.00"}},{"$f":"IF($B28=6,$CC28,0)","v":{"v":0,"d":"0.00"}},{"$f":"IF(CJ27>0,IF(H28+P28+X28+AF28+AN28+AV28+BD28+BL28+BT28+CB28=0,IF(E28>0,CJ27,0),0),0)","v":0},{"$f":"G28*CJ28","v":{"v":0,"d":"0.00"}},{"$f":"IF($B28=1,$CK28,0)","v":{"v":0,"d":"0.00"}},{"$f":"IF($B28=2,$CK28,0)","v":{"v":0,"d":"0.00"}},{"$f":"IF($B28=3,$CK28,0)","v":{"v":0,"d":"0.00"}},{"$f":"IF($B28=4,$CK28,0)","v":{"v":0,"d":"0.00"}},{"$f":"IF($B28=5,$CK28,0)","v":{"v":0,"d":"0.00"}},{"$f":"IF($B28=6,$CK28,0)","v":{"v":0,"d":"0.00"}}]
[{"$f":"IF(C28<>C29,C29,\"\")","v":""},{"$f":"IF(C28<>C29,_xlfn.DAYS(C29,C28)+B28,B28)","v":1},{"$f":"IF(D29>0,IF(D29<E28,C28+1,C28),C28)","v":"2009-02-23"},{"$f":"IF((E29+H29+P29+X29+AF29+AN29+AV29+BD29+BL29+BT29+CB29+CJ29)>0,E28,0)","v":"00:00:00"},null,{"$f":"E29-D29","v":"00:00:00"},{"$f":"IF(E29>0,HOUR(F29)+(MINUTE(F29)/60),0)","v":0},{"$f":"IF(H28>0,IF(P29+X29+AF29+AN29+AV29+BD29+BL29+BT29+CB29+CJ29=0,IF(E29>0,H28,0),0),0)","v":0},{"$f":"G29*H29","v":{"v":0,"d":"0.00"}},{"$f":"IF($B29=1,$I29,0)","v":{"v":0,"d":"0.00"}},{"$f":"IF($B29=2,$I29,0)","v":{"v":0,"d":"0.00"}},{"$f":"IF($B29=3,$I29,0)","v":{"v":0,"d":"0.00"}},{"$f":"IF($B29=4,$I29,0)","v":{"v":0,"d":"0.00"}},{"$f":"IF($B29=5,$I29,0)","v":{"v":0,"d":"0.00"}},{"$f":"IF($B29=6,$I29,0)","v":{"v":0,"d":"0.00"}},{"$f":"IF(P28>0,IF(H29+X29+AF29+AN29+AV29+BD29+BL29+BT29+CB29+CJ29=0,IF(E29>0,P28,0),0),0)","v":0},{"$f":"G29*P29","v":{"v":0,"d":"0.00"}},{"$f":"IF(B29=1,Q29,0)","v":{"v":0,"d":"0.00"}},{"$f":"IF(B29=2,Q29,0)","v":{"v":0,"d":"0.00"}},{"$f":"IF(B29=3,Q29,0)","v":{"v":0,"d":"0.00"}},{"$f":"IF(B29=4,Q29,0)","v":{"v":0,"d":"0.00"}},{"$f":"IF(B29=5,Q29,0)","v":{"v":0,"d":"0.00"}},{"$f":"IF(B29=6,Q29,0)","v":{"v":0,"d":"0.00"}},{"$f":"IF(X28>0,IF(H29+P29+AF29+AN29+AV29+BD29+BL29+BT29+CB29+CJ29=0,IF(E29>0,X28,0),0),0)","v":0},{"$f":"G29*X29","v":{"v":0,"d":"0.00"}},{"$f":"IF($B29=1,$Y29,0)","v":{"v":0,"d":"0.00"}},{"$f":"IF($B29=2,$Y29,0)","v":{"v":0,"d":"0.00"}},{"$f":"IF($B29=3,$Y29,0)","v":{"v":0,"d":"0.00"}},{"$f":"IF($B29=4,$Y29,0)","v":{"v":0,"d":"0.00"}},{"$f":"IF($B29=5,$Y29,0)","v":{"v":0,"d":"0.00"}},{"$f":"IF($B29=6,$Y29,0)","v":{"v":0,"d":"0.00"}},{"$f":"IF(AF28>0,IF(H29+P29+X29+AN29+AV29+BD29+BL29+BT29+CB29+CJ29=0,IF(E29>0,AF28,0),0),0)","v":0},{"$f":"G29*AF29","v":{"v":0,"d":"0.00"}},{"$f":"IF($B29=1,$AG29,0)","v":{"v":0,"d":"0.00"}},{"$f":"IF($B29=2,$AG29,0)","v":{"v":0,"d":"0.00"}},{"$f":"IF($B29=3,$AG29,0)","v":{"v":0,"d":"0.00"}},{"$f":"IF($B29=4,$AG29,0)","v":{"v":0,"d":"0.00"}},{"$f":"IF($B29=5,$AG29,0)","v":{"v":0,"d":"0.00"}},{"$f":"IF($B29=6,$AG29,0)","v":{"v":0,"d":"0.00"}},{"$f":"IF(AN28>0,IF(H29+P29+X29+AF29+AV29+BD29+BL29+BT29+CB29+CJ29=0,IF(E29>0,AN28,0),0),0)","v":0},{"$f":"G29*AN29","v":{"v":0,"d":"0.00"}},{"$f":"IF($B29=1,$AO29,0)","v":{"v":0,"d":"0.00"}},{"$f":"IF($B29=2,$AO29,0)","v":{"v":0,"d":"0.00"}},{"$f":"IF($B29=3,$AO29,0)","v":{"v":0,"d":"0.00"}},{"$f":"IF($B29=4,$AO29,0)","v":{"v":0,"d":"0.00"}},{"$f":"IF($B29=5,$AO29,0)","v":{"v":0,"d":"0.00"}},{"$f":"IF($B29=6,$AO29,0)","v":{"v":0,"d":"0.00"}},{"$f":"IF(AV28>0,IF(H29+P29+X29+AF29+AN29+BD29+BL29+BT29+CB29+CJ29=0,IF(E29>0,AV28,0),0),0)","v":0},{"$f":"G29*AV29","v":{"v":0,"d":"0.00"}},{"$f":"IF($B29=1,$AW29,0)","v":{"v":0,"d":"0.00"}},{"$f":"IF($B29=2,$AW29,0)","v":{"v":0,"d":"0.00"}},{"$f":"IF($B29=3,$AW29,0)","v":{"v":0,"d":"0.00"}},{"$f":"IF($B29=4,$AW29,0)","v":{"v":0,"d":"0.00"}},{"$f":"IF($B29=5,$AW29,0)","v":{"v":0,"d":"0.00"}},{"$f":"IF($B29=6,$AW29,0)","v":{"v":0,"d":"0.00"}},{"$f":"IF(BD28>0,IF(H29+P29+X29+AF29+AN29+AV29+BL29+BT29+CB29+CJ29=0,IF(E29>0,BD28,0),0),0)","v":0},{"$f":"G29*BD29","v":{"v":0,"d":"0.00"}},{"$f":"IF($B29=1,$BE29,0)","v":{"v":0,"d":"0.00"}},{"$f":"IF($B29=2,$BE29,0)","v":{"v":0,"d":"0.00"}},{"$f":"IF($B29=3,$BE29,0)","v":{"v":0,"d":"0.00"}},{"$f":"IF($B29=4,$BE29,0)","v":{"v":0,"d":"0.00"}},{"$f":"IF($B29=5,$BE29,0)","v":{"v":0,"d":"0.00"}},{"$f":"IF($B29=6,$BE29,0)","v":{"v":0,"d":"0.00"}},{"$f":"IF(BL28>0,IF(H29+P29+X29+AF29+AN29+AV29+BD29+BT29+CB29+CJ29=0,IF(E29>0,BL28,0),0),0)","v":0},{"$f":"G29*BL29","v":{"v":0,"d":"0.00"}},{"$f":"IF($B29=1,$BM29,0)","v":{"v":0,"d":"0.00"}},{"$f":"IF($B29=2,$BM29,0)","v":{"v":0,"d":"0.00"}},{"$f":"IF($B29=3,$BM29,0)","v":{"v":0,"d":"0.00"}},{"$f":"IF($B29=4,$BM29,0)","v":{"v":0,"d":"0.00"}},{"$f":"IF($B29=5,$BM29,0)","v":{"v":0,"d":"0.00"}},{"$f":"IF($B29=6,$BM29,0)","v":{"v":0,"d":"0.00"}},{"$f":"IF(BT28>0,IF(H29+P29+X29+AF29+AN29+AV29+BD29+BL29+CB29+CJ29=0,IF(E29>0,BT28,0),0),0)","v":0},{"$f":"G29*BT29","v":{"v":0,"d":"0.00"}},{"$f":"IF($B29=1,$BU29,0)","v":{"v":0,"d":"0.00"}},{"$f":"IF($B29=2,$BU29,0)","v":{"v":0,"d":"0.00"}},{"$f":"IF($B29=3,$BU29,0)","v":{"v":0,"d":"0.00"}},{"$f":"IF($B29=4,$BU29,0)","v":{"v":0,"d":"0.00"}},{"$f":"IF($B29=5,$BU29,0)","v":{"v":0,"d":"0.00"}},{"$f":"IF($B29=6,$BU29,0)","v":{"v":0,"d":"0.00"}},{"$f":"IF(CB28>0,IF(H29+P29+X29+AF29+AN29+AV29+BD29+BL29+BT29+CJ29=0,IF(E29>0,CB28,0),0),0)","v":0},{"$f":"G29*CB29","v":{"v":0,"d":"0.00"}},{"$f":"IF($B29=1,$CC29,0)","v":{"v":0,"d":"0.00"}},{"$f":"IF($B29=2,$CC29,0)","v":{"v":0,"d":"0.00"}},{"$f":"IF($B29=3,$CC29,0)","v":{"v":0,"d":"0.00"}},{"$f":"IF($B29=4,$CC29,0)","v":{"v":0,"d":"0.00"}},{"$f":"IF($B29=5,$CC29,0)","v":{"v":0,"d":"0.00"}},{"$f":"IF($B29=6,$CC29,0)","v":{"v":0,"d":"0.00"}},{"$f":"IF(CJ28>0,IF(H29+P29+X29+AF29+AN29+AV29+BD29+BL29+BT29+CB29=0,IF(E29>0,CJ28,0),0),0)","v":0},{"$f":"G29*CJ29","v":{"v":0,"d":"0.00"}},{"$f":"IF($B29=1,$CK29,0)","v":{"v":0,"d":"0.00"}},{"$f":"IF($B29=2,$CK29,0)","v":{"v":0,"d":"0.00"}},{"$f":"IF($B29=3,$CK29,0)","v":{"v":0,"d":"0.00"}},{"$f":"IF($B29=4,$CK29,0)","v":{"v":0,"d":"0.00"}},{"$f":"IF($B29=5,$CK29,0)","v":{"v":0,"d":"0.00"}},{"$f":"IF($B29=6,$CK29,0)","v":{"v":0,"d":"0.00"}}]
[{"$f":"IF(C29<>C30,C30,\"\")","v":""},{"$f":"IF(C29<>C30,_xlfn.DAYS(C30,C29)+B29,B29)","v":1},{"$f":"IF(D30>0,IF(D30<E29,C29+1,C29),C29)","v":"2009-02-23"},{"$f":"IF((E30+H30+P30+X30+AF30+AN30+AV30+BD30+BL30+BT30+CB30+CJ30)>0,E29,0)","v":"00:00:00"},null,{"$f":"E30-D30","v":"00:00:00"},{"$f":"IF(E30>0,HOUR(F30)+(MINUTE(F30)/60),0)","v":0},{"$f":"IF(H29>0,IF(P30+X30+AF30+AN30+AV30+BD30+BL30+BT30+CB30+CJ30=0,IF(E30>0,H29,0),0),0)","v":0},{"$f":"G30*H30","v":{"v":0,"d":"0.00"}},{"$f":"IF($B30=1,$I30,0)","v":{"v":0,"d":"0.00"}},{"$f":"IF($B30=2,$I30,0)","v":{"v":0,"d":"0.00"}},{"$f":"IF($B30=3,$I30,0)","v":{"v":0,"d":"0.00"}},{"$f":"IF($B30=4,$I30,0)","v":{"v":0,"d":"0.00"}},{"$f":"IF($B30=5,$I30,0)","v":{"v":0,"d":"0.00"}},{"$f":"IF($B30=6,$I30,0)","v":{"v":0,"d":"0.00"}},{"$f":"IF(P29>0,IF(H30+X30+AF30+AN30+AV30+BD30+BL30+BT30+CB30+CJ30=0,IF(E30>0,P29,0),0),0)","v":0},{"$f":"G30*P30","v":{"v":0,"d":"0.00"}},{"$f":"IF(B30=1,Q30,0)","v":{"v":0,"d":"0.00"}},{"$f":"IF(B30=2,Q30,0)","v":{"v":0,"d":"0.00"}},{"$f":"IF(B30=3,Q30,0)","v":{"v":0,"d":"0.00"}},{"$f":"IF(B30=4,Q30,0)","v":{"v":0,"d":"0.00"}},{"$f":"IF(B30=5,Q30,0)","v":{"v":0,"d":"0.00"}},{"$f":"IF(B30=6,Q30,0)","v":{"v":0,"d":"0.00"}},{"$f":"IF(X29>0,IF(H30+P30+AF30+AN30+AV30+BD30+BL30+BT30+CB30+CJ30=0,IF(E30>0,X29,0),0),0)","v":0},{"$f":"G30*X30","v":{"v":0,"d":"0.00"}},{"$f":"IF($B30=1,$Y30,0)","v":{"v":0,"d":"0.00"}},{"$f":"IF($B30=2,$Y30,0)","v":{"v":0,"d":"0.00"}},{"$f":"IF($B30=3,$Y30,0)","v":{"v":0,"d":"0.00"}},{"$f":"IF($B30=4,$Y30,0)","v":{"v":0,"d":"0.00"}},{"$f":"IF($B30=5,$Y30,0)","v":{"v":0,"d":"0.00"}},{"$f":"IF($B30=6,$Y30,0)","v":{"v":0,"d":"0.00"}},{"$f":"IF(AF29>0,IF(H30+P30+X30+AN30+AV30+BD30+BL30+BT30+CB30+CJ30=0,IF(E30>0,AF29,0),0),0)","v":0},{"$f":"G30*AF30","v":{"v":0,"d":"0.00"}},{"$f":"IF($B30=1,$AG30,0)","v":{"v":0,"d":"0.00"}},{"$f":"IF($B30=2,$AG30,0)","v":{"v":0,"d":"0.00"}},{"$f":"IF($B30=3,$AG30,0)","v":{"v":0,"d":"0.00"}},{"$f":"IF($B30=4,$AG30,0)","v":{"v":0,"d":"0.00"}},{"$f":"IF($B30=5,$AG30,0)","v":{"v":0,"d":"0.00"}},{"$f":"IF($B30=6,$AG30,0)","v":{"v":0,"d":"0.00"}},{"$f":"IF(AN29>0,IF(H30+P30+X30+AF30+AV30+BD30+BL30+BT30+CB30+CJ30=0,IF(E30>0,AN29,0),0),0)","v":0},{"$f":"G30*AN30","v":{"v":0,"d":"0.00"}},{"$f":"IF($B30=1,$AO30,0)","v":{"v":0,"d":"0.00"}},{"$f":"IF($B30=2,$AO30,0)","v":{"v":0,"d":"0.00"}},{"$f":"IF($B30=3,$AO30,0)","v":{"v":0,"d":"0.00"}},{"$f":"IF($B30=4,$AO30,0)","v":{"v":0,"d":"0.00"}},{"$f":"IF($B30=5,$AO30,0)","v":{"v":0,"d":"0.00"}},{"$f":"IF($B30=6,$AO30,0)","v":{"v":0,"d":"0.00"}},{"$f":"IF(AV29>0,IF(H30+P30+X30+AF30+AN30+BD30+BL30+BT30+CB30+CJ30=0,IF(E30>0,AV29,0),0),0)","v":0},{"$f":"G30*AV30","v":{"v":0,"d":"0.00"}},{"$f":"IF($B30=1,$AW30,0)","v":{"v":0,"d":"0.00"}},{"$f":"IF($B30=2,$AW30,0)","v":{"v":0,"d":"0.00"}},{"$f":"IF($B30=3,$AW30,0)","v":{"v":0,"d":"0.00"}},{"$f":"IF($B30=4,$AW30,0)","v":{"v":0,"d":"0.00"}},{"$f":"IF($B30=5,$AW30,0)","v":{"v":0,"d":"0.00"}},{"$f":"IF($B30=6,$AW30,0)","v":{"v":0,"d":"0.00"}},{"$f":"IF(BD29>0,IF(H30+P30+X30+AF30+AN30+AV30+BL30+BT30+CB30+CJ30=0,IF(E30>0,BD29,0),0),0)","v":0},{"$f":"G30*BD30","v":{"v":0,"d":"0.00"}},{"$f":"IF($B30=1,$BE30,0)","v":{"v":0,"d":"0.00"}},{"$f":"IF($B30=2,$BE30,0)","v":{"v":0,"d":"0.00"}},{"$f":"IF($B30=3,$BE30,0)","v":{"v":0,"d":"0.00"}},{"$f":"IF($B30=4,$BE30,0)","v":{"v":0,"d":"0.00"}},{"$f":"IF($B30=5,$BE30,0)","v":{"v":0,"d":"0.00"}},{"$f":"IF($B30=6,$BE30,0)","v":{"v":0,"d":"0.00"}},{"$f":"IF(BL29>0,IF(H30+P30+X30+AF30+AN30+AV30+BD30+BT30+CB30+CJ30=0,IF(E30>0,BL29,0),0),0)","v":0},{"$f":"G30*BL30","v":{"v":0,"d":"0.00"}},{"$f":"IF($B30=1,$BM30,0)","v":{"v":0,"d":"0.00"}},{"$f":"IF($B30=2,$BM30,0)","v":{"v":0,"d":"0.00"}},{"$f":"IF($B30=3,$BM30,0)","v":{"v":0,"d":"0.00"}},{"$f":"IF($B30=4,$BM30,0)","v":{"v":0,"d":"0.00"}},{"$f":"IF($B30=5,$BM30,0)","v":{"v":0,"d":"0.00"}},{"$f":"IF($B30=6,$BM30,0)","v":{"v":0,"d":"0.00"}},{"$f":"IF(BT29>0,IF(H30+P30+X30+AF30+AN30+AV30+BD30+BL30+CB30+CJ30=0,IF(E30>0,BT29,0),0),0)","v":0},{"$f":"G30*BT30","v":{"v":0,"d":"0.00"}},{"$f":"IF($B30=1,$BU30,0)","v":{"v":0,"d":"0.00"}},{"$f":"IF($B30=2,$BU30,0)","v":{"v":0,"d":"0.00"}},{"$f":"IF($B30=3,$BU30,0)","v":{"v":0,"d":"0.00"}},{"$f":"IF($B30=4,$BU30,0)","v":{"v":0,"d":"0.00"}},{"$f":"IF($B30=5,$BU30,0)","v":{"v":0,"d":"0.00"}},{"$f":"IF($B30=6,$BU30,0)","v":{"v":0,"d":"0.00"}},{"$f":"IF(CB29>0,IF(H30+P30+X30+AF30+AN30+AV30+BD30+BL30+BT30+CJ30=0,IF(E30>0,CB29,0),0),0)","v":0},{"$f":"G30*CB30","v":{"v":0,"d":"0.00"}},{"$f":"IF($B30=1,$CC30,0)","v":{"v":0,"d":"0.00"}},{"$f":"IF($B30=2,$CC30,0)","v":{"v":0,"d":"0.00"}},{"$f":"IF($B30=3,$CC30,0)","v":{"v":0,"d":"0.00"}},{"$f":"IF($B30=4,$CC30,0)","v":{"v":0,"d":"0.00"}},{"$f":"IF($B30=5,$CC30,0)","v":{"v":0,"d":"0.00"}},{"$f":"IF($B30=6,$CC30,0)","v":{"v":0,"d":"0.00"}},{"$f":"IF(CJ29>0,IF(H30+P30+X30+AF30+AN30+AV30+BD30+BL30+BT30+CB30=0,IF(E30>0,CJ29,0),0),0)","v":0},{"$f":"G30*CJ30","v":{"v":0,"d":"0.00"}},{"$f":"IF($B30=1,$CK30,0)","v":{"v":0,"d":"0.00"}},{"$f":"IF($B30=2,$CK30,0)","v":{"v":0,"d":"0.00"}},{"$f":"IF($B30=3,$CK30,0)","v":{"v":0,"d":"0.00"}},{"$f":"IF($B30=4,$CK30,0)","v":{"v":0,"d":"0.00"}},{"$f":"IF($B30=5,$CK30,0)","v":{"v":0,"d":"0.00"}},{"$f":"IF($B30=6,$CK30,0)","v":{"v":0,"d":"0.00"}}]
[{"$f":"IF(C30<>C31,C31,\"\")","v":""},{"$f":"IF(C30<>C31,_xlfn.DAYS(C31,C30)+B30,B30)","v":1},{"$f":"IF(D31>0,IF(D31<E30,C30+1,C30),C30)","v":"2009-02-23"},{"$f":"IF((E31+H31+P31+X31+AF31+AN31+AV31+BD31+BL31+BT31+CB31+CJ31)>0,E30,0)","v":"00:00:00"},null,{"$f":"E31-D31","v":"00:00:00"},{"$f":"IF(E31>0,HOUR(F31)+(MINUTE(F31)/60),0)","v":0},{"$f":"IF(H30>0,IF(P31+X31+AF31+AN31+AV31+BD31+BL31+BT31+CB31+CJ31=0,IF(E31>0,H30,0),0),0)","v":0},{"$f":"G31*H31","v":{"v":0,"d":"0.00"}},{"$f":"IF($B31=1,$I31,0)","v":{"v":0,"d":"0.00"}},{"$f":"IF($B31=2,$I31,0)","v":{"v":0,"d":"0.00"}},{"$f":"IF($B31=3,$I31,0)","v":{"v":0,"d":"0.00"}},{"$f":"IF($B31=4,$I31,0)","v":{"v":0,"d":"0.00"}},{"$f":"IF($B31=5,$I31,0)","v":{"v":0,"d":"0.00"}},{"$f":"IF($B31=6,$I31,0)","v":{"v":0,"d":"0.00"}},{"$f":"IF(P30>0,IF(H31+X31+AF31+AN31+AV31+BD31+BL31+BT31+CB31+CJ31=0,IF(E31>0,P30,0),0),0)","v":0},{"$f":"G31*P31","v":{"v":0,"d":"0.00"}},{"$f":"IF(B31=1,Q31,0)","v":{"v":0,"d":"0.00"}},{"$f":"IF(B31=2,Q31,0)","v":{"v":0,"d":"0.00"}},{"$f":"IF(B31=3,Q31,0)","v":{"v":0,"d":"0.00"}},{"$f":"IF(B31=4,Q31,0)","v":{"v":0,"d":"0.00"}},{"$f":"IF(B31=5,Q31,0)","v":{"v":0,"d":"0.00"}},{"$f":"IF(B31=6,Q31,0)","v":{"v":0,"d":"0.00"}},{"$f":"IF(X30>0,IF(H31+P31+AF31+AN31+AV31+BD31+BL31+BT31+CB31+CJ31=0,IF(E31>0,X30,0),0),0)","v":0},{"$f":"G31*X31","v":{"v":0,"d":"0.00"}},{"$f":"IF($B31=1,$Y31,0)","v":{"v":0,"d":"0.00"}},{"$f":"IF($B31=2,$Y31,0)","v":{"v":0,"d":"0.00"}},{"$f":"IF($B31=3,$Y31,0)","v":{"v":0,"d":"0.00"}},{"$f":"IF($B31=4,$Y31,0)","v":{"v":0,"d":"0.00"}},{"$f":"IF($B31=5,$Y31,0)","v":{"v":0,"d":"0.00"}},{"$f":"IF($B31=6,$Y31,0)","v":{"v":0,"d":"0.00"}},{"$f":"IF(AF30>0,IF(H31+P31+X31+AN31+AV31+BD31+BL31+BT31+CB31+CJ31=0,IF(E31>0,AF30,0),0),0)","v":0},{"$f":"G31*AF31","v":{"v":0,"d":"0.00"}},{"$f":"IF($B31=1,$AG31,0)","v":{"v":0,"d":"0.00"}},{"$f":"IF($B31=2,$AG31,0)","v":{"v":0,"d":"0.00"}},{"$f":"IF($B31=3,$AG31,0)","v":{"v":0,"d":"0.00"}},{"$f":"IF($B31=4,$AG31,0)","v":{"v":0,"d":"0.00"}},{"$f":"IF($B31=5,$AG31,0)","v":{"v":0,"d":"0.00"}},{"$f":"IF($B31=6,$AG31,0)","v":{"v":0,"d":"0.00"}},{"$f":"IF(AN30>0,IF(H31+P31+X31+AF31+AV31+BD31+BL31+BT31+CB31+CJ31=0,IF(E31>0,AN30,0),0),0)","v":0},{"$f":"G31*AN31","v":{"v":0,"d":"0.00"}},{"$f":"IF($B31=1,$AO31,0)","v":{"v":0,"d":"0.00"}},{"$f":"IF($B31=2,$AO31,0)","v":{"v":0,"d":"0.00"}},{"$f":"IF($B31=3,$AO31,0)","v":{"v":0,"d":"0.00"}},{"$f":"IF($B31=4,$AO31,0)","v":{"v":0,"d":"0.00"}},{"$f":"IF($B31=5,$AO31,0)","v":{"v":0,"d":"0.00"}},{"$f":"IF($B31=6,$AO31,0)","v":{"v":0,"d":"0.00"}},{"$f":"IF(AV30>0,IF(H31+P31+X31+AF31+AN31+BD31+BL31+BT31+CB31+CJ31=0,IF(E31>0,AV30,0),0),0)","v":0},{"$f":"G31*AV31","v":{"v":0,"d":"0.00"}},{"$f":"IF($B31=1,$AW31,0)","v":{"v":0,"d":"0.00"}},{"$f":"IF($B31=2,$AW31,0)","v":{"v":0,"d":"0.00"}},{"$f":"IF($B31=3,$AW31,0)","v":{"v":0,"d":"0.00"}},{"$f":"IF($B31=4,$AW31,0)","v":{"v":0,"d":"0.00"}},{"$f":"IF($B31=5,$AW31,0)","v":{"v":0,"d":"0.00"}},{"$f":"IF($B31=6,$AW31,0)","v":{"v":0,"d":"0.00"}},{"$f":"IF(BD30>0,IF(H31+P31+X31+AF31+AN31+AV31+BL31+BT31+CB31+CJ31=0,IF(E31>0,BD30,0),0),0)","v":0},{"$f":"G31*BD31","v":{"v":0,"d":"0.00"}},{"$f":"IF($B31=1,$BE31,0)","v":{"v":0,"d":"0.00"}},{"$f":"IF($B31=2,$BE31,0)","v":{"v":0,"d":"0.00"}},{"$f":"IF($B31=3,$BE31,0)","v":{"v":0,"d":"0.00"}},{"$f":"IF($B31=4,$BE31,0)","v":{"v":0,"d":"0.00"}},{"$f":"IF($B31=5,$BE31,0)","v":{"v":0,"d":"0.00"}},{"$f":"IF($B31=6,$BE31,0)","v":{"v":0,"d":"0.00"}},{"$f":"IF(BL30>0,IF(H31+P31+X31+AF31+AN31+AV31+BD31+BT31+CB31+CJ31=0,IF(E31>0,BL30,0),0),0)","v":0},{"$f":"G31*BL31","v":{"v":0,"d":"0.00"}},{"$f":"IF($B31=1,$BM31,0)","v":{"v":0,"d":"0.00"}},{"$f":"IF($B31=2,$BM31,0)","v":{"v":0,"d":"0.00"}},{"$f":"IF($B31=3,$BM31,0)","v":{"v":0,"d":"0.00"}},{"$f":"IF($B31=4,$BM31,0)","v":{"v":0,"d":"0.00"}},{"$f":"IF($B31=5,$BM31,0)","v":{"v":0,"d":"0.00"}},{"$f":"IF($B31=6,$BM31,0)","v":{"v":0,"d":"0.00"}},{"$f":"IF(BT30>0,IF(H31+P31+X31+AF31+AN31+AV31+BD31+BL31+CB31+CJ31=0,IF(E31>0,BT30,0),0),0)","v":0},{"$f":"G31*BT31","v":{"v":0,"d":"0.00"}},{"$f":"IF($B31=1,$BU31,0)","v":{"v":0,"d":"0.00"}},{"$f":"IF($B31=2,$BU31,0)","v":{"v":0,"d":"0.00"}},{"$f":"IF($B31=3,$BU31,0)","v":{"v":0,"d":"0.00"}},{"$f":"IF($B31=4,$BU31,0)","v":{"v":0,"d":"0.00"}},{"$f":"IF($B31=5,$BU31,0)","v":{"v":0,"d":"0.00"}},{"$f":"IF($B31=6,$BU31,0)","v":{"v":0,"d":"0.00"}},{"$f":"IF(CB30>0,IF(H31+P31+X31+AF31+AN31+AV31+BD31+BL31+BT31+CJ31=0,IF(E31>0,CB30,0),0),0)","v":0},{"$f":"G31*CB31","v":{"v":0,"d":"0.00"}},{"$f":"IF($B31=1,$CC31,0)","v":{"v":0,"d":"0.00"}},{"$f":"IF($B31=2,$CC31,0)","v":{"v":0,"d":"0.00"}},{"$f":"IF($B31=3,$CC31,0)","v":{"v":0,"d":"0.00"}},{"$f":"IF($B31=4,$CC31,0)","v":{"v":0,"d":"0.00"}},{"$f":"IF($B31=5,$CC31,0)","v":{"v":0,"d":"0.00"}},{"$f":"IF($B31=6,$CC31,0)","v":{"v":0,"d":"0.00"}},{"$f":"IF(CJ30>0,IF(H31+P31+X31+AF31+AN31+AV31+BD31+BL31+BT31+CB31=0,IF(E31>0,CJ30,0),0),0)","v":0},{"$f":"G31*CJ31","v":{"v":0,"d":"0.00"}},{"$f":"IF($B31=1,$CK31,0)","v":{"v":0,"d":"0.00"}},{"$f":"IF($B31=2,$CK31,0)","v":{"v":0,"d":"0.00"}},{"$f":"IF($B31=3,$CK31,0)","v":{"v":0,"d":"0.00"}},{"$f":"IF($B31=4,$CK31,0)","v":{"v":0,"d":"0.00"}},{"$f":"IF($B31=5,$CK31,0)","v":{"v":0,"d":"0.00"}},{"$f":"IF($B31=6,$CK31,0)","v":{"v":0,"d":"0.00"}}]
[{"$f":"IF(C31<>C32,C32,\"\")","v":""},{"$f":"IF(C31<>C32,_xlfn.DAYS(C32,C31)+B31,B31)","v":1},{"$f":"IF(D32>0,IF(D32<E31,C31+1,C31),C31)","v":"2009-02-23"},{"$f":"IF((E32+H32+P32+X32+AF32+AN32+AV32+BD32+BL32+BT32+CB32+CJ32)>0,E31,0)","v":"00:00:00"},null,{"$f":"E32-D32","v":"00:00:00"},{"$f":"IF(E32>0,HOUR(F32)+(MINUTE(F32)/60),0)","v":0},{"$f":"IF(H31>0,IF(P32+X32+AF32+AN32+AV32+BD32+BL32+BT32+CB32+CJ32=0,IF(E32>0,H31,0),0),0)","v":0},{"$f":"G32*H32","v":{"v":0,"d":"0.00"}},{"$f":"IF($B32=1,$I32,0)","v":{"v":0,"d":"0.00"}},{"$f":"IF($B32=2,$I32,0)","v":{"v":0,"d":"0.00"}},{"$f":"IF($B32=3,$I32,0)","v":{"v":0,"d":"0.00"}},{"$f":"IF($B32=4,$I32,0)","v":{"v":0,"d":"0.00"}},{"$f":"IF($B32=5,$I32,0)","v":{"v":0,"d":"0.00"}},{"$f":"IF($B32=6,$I32,0)","v":{"v":0,"d":"0.00"}},{"$f":"IF(P31>0,IF(H32+X32+AF32+AN32+AV32+BD32+BL32+BT32+CB32+CJ32=0,IF(E32>0,P31,0),0),0)","v":0},{"$f":"G32*P32","v":{"v":0,"d":"0.00"}},{"$f":"IF(B32=1,Q32,0)","v":{"v":0,"d":"0.00"}},{"$f":"IF(B32=2,Q32,0)","v":{"v":0,"d":"0.00"}},{"$f":"IF(B32=3,Q32,0)","v":{"v":0,"d":"0.00"}},{"$f":"IF(B32=4,Q32,0)","v":{"v":0,"d":"0.00"}},{"$f":"IF(B32=5,Q32,0)","v":{"v":0,"d":"0.00"}},{"$f":"IF(B32=6,Q32,0)","v":{"v":0,"d":"0.00"}},{"$f":"IF(X31>0,IF(H32+P32+AF32+AN32+AV32+BD32+BL32+BT32+CB32+CJ32=0,IF(E32>0,X31,0),0),0)","v":0},{"$f":"G32*X32","v":{"v":0,"d":"0.00"}},{"$f":"IF($B32=1,$Y32,0)","v":{"v":0,"d":"0.00"}},{"$f":"IF($B32=2,$Y32,0)","v":{"v":0,"d":"0.00"}},{"$f":"IF($B32=3,$Y32,0)","v":{"v":0,"d":"0.00"}},{"$f":"IF($B32=4,$Y32,0)","v":{"v":0,"d":"0.00"}},{"$f":"IF($B32=5,$Y32,0)","v":{"v":0,"d":"0.00"}},{"$f":"IF($B32=6,$Y32,0)","v":{"v":0,"d":"0.00"}},{"$f":"IF(AF31>0,IF(H32+P32+X32+AN32+AV32+BD32+BL32+BT32+CB32+CJ32=0,IF(E32>0,AF31,0),0),0)","v":0},{"$f":"G32*AF32","v":{"v":0,"d":"0.00"}},{"$f":"IF($B32=1,$AG32,0)","v":{"v":0,"d":"0.00"}},{"$f":"IF($B32=2,$AG32,0)","v":{"v":0,"d":"0.00"}},{"$f":"IF($B32=3,$AG32,0)","v":{"v":0,"d":"0.00"}},{"$f":"IF($B32=4,$AG32,0)","v":{"v":0,"d":"0.00"}},{"$f":"IF($B32=5,$AG32,0)","v":{"v":0,"d":"0.00"}},{"$f":"IF($B32=6,$AG32,0)","v":{"v":0,"d":"0.00"}},{"$f":"IF(AN31>0,IF(H32+P32+X32+AF32+AV32+BD32+BL32+BT32+CB32+CJ32=0,IF(E32>0,AN31,0),0),0)","v":0},{"$f":"G32*AN32","v":{"v":0,"d":"0.00"}},{"$f":"IF($B32=1,$AO32,0)","v":{"v":0,"d":"0.00"}},{"$f":"IF($B32=2,$AO32,0)","v":{"v":0,"d":"0.00"}},{"$f":"IF($B32=3,$AO32,0)","v":{"v":0,"d":"0.00"}},{"$f":"IF($B32=4,$AO32,0)","v":{"v":0,"d":"0.00"}},{"$f":"IF($B32=5,$AO32,0)","v":{"v":0,"d":"0.00"}},{"$f":"IF($B32=6,$AO32,0)","v":{"v":0,"d":"0.00"}},{"$f":"IF(AV31>0,IF(H32+P32+X32+AF32+AN32+BD32+BL32+BT32+CB32+CJ32=0,IF(E32>0,AV31,0),0),0)","v":0},{"$f":"G32*AV32","v":{"v":0,"d":"0.00"}},{"$f":"IF($B32=1,$AW32,0)","v":{"v":0,"d":"0.00"}},{"$f":"IF($B32=2,$AW32,0)","v":{"v":0,"d":"0.00"}},{"$f":"IF($B32=3,$AW32,0)","v":{"v":0,"d":"0.00"}},{"$f":"IF($B32=4,$AW32,0)","v":{"v":0,"d":"0.00"}},{"$f":"IF($B32=5,$AW32,0)","v":{"v":0,"d":"0.00"}},{"$f":"IF($B32=6,$AW32,0)","v":{"v":0,"d":"0.00"}},{"$f":"IF(BD31>0,IF(H32+P32+X32+AF32+AN32+AV32+BL32+BT32+CB32+CJ32=0,IF(E32>0,BD31,0),0),0)","v":0},{"$f":"G32*BD32","v":{"v":0,"d":"0.00"}},{"$f":"IF($B32=1,$BE32,0)","v":{"v":0,"d":"0.00"}},{"$f":"IF($B32=2,$BE32,0)","v":{"v":0,"d":"0.00"}},{"$f":"IF($B32=3,$BE32,0)","v":{"v":0,"d":"0.00"}},{"$f":"IF($B32=4,$BE32,0)","v":{"v":0,"d":"0.00"}},{"$f":"IF($B32=5,$BE32,0)","v":{"v":0,"d":"0.00"}},{"$f":"IF($B32=6,$BE32,0)","v":{"v":0,"d":"0.00"}},{"$f":"IF(BL31>0,IF(H32+P32+X32+AF32+AN32+AV32+BD32+BT32+CB32+CJ32=0,IF(E32>0,BL31,0),0),0)","v":0},{"$f":"G32*BL32","v":{"v":0,"d":"0.00"}},{"$f":"IF($B32=1,$BM32,0)","v":{"v":0,"d":"0.00"}},{"$f":"IF($B32=2,$BM32,0)","v":{"v":0,"d":"0.00"}},{"$f":"IF($B32=3,$BM32,0)","v":{"v":0,"d":"0.00"}},{"$f":"IF($B32=4,$BM32,0)","v":{"v":0,"d":"0.00"}},{"$f":"IF($B32=5,$BM32,0)","v":{"v":0,"d":"0.00"}},{"$f":"IF($B32=6,$BM32,0)","v":{"v":0,"d":"0.00"}},{"$f":"IF(BT31>0,IF(H32+P32+X32+AF32+AN32+AV32+BD32+BL32+CB32+CJ32=0,IF(E32>0,BT31,0),0),0)","v":0},{"$f":"G32*BT32","v":{"v":0,"d":"0.00"}},{"$f":"IF($B32=1,$BU32,0)","v":{"v":0,"d":"0.00"}},{"$f":"IF($B32=2,$BU32,0)","v":{"v":0,"d":"0.00"}},{"$f":"IF($B32=3,$BU32,0)","v":{"v":0,"d":"0.00"}},{"$f":"IF($B32=4,$BU32,0)","v":{"v":0,"d":"0.00"}},{"$f":"IF($B32=5,$BU32,0)","v":{"v":0,"d":"0.00"}},{"$f":"IF($B32=6,$BU32,0)","v":{"v":0,"d":"0.00"}},{"$f":"IF(CB31>0,IF(H32+P32+X32+AF32+AN32+AV32+BD32+BL32+BT32+CJ32=0,IF(E32>0,CB31,0),0),0)","v":0},{"$f":"G32*CB32","v":{"v":0,"d":"0.00"}},{"$f":"IF($B32=1,$CC32,0)","v":{"v":0,"d":"0.00"}},{"$f":"IF($B32=2,$CC32,0)","v":{"v":0,"d":"0.00"}},{"$f":"IF($B32=3,$CC32,0)","v":{"v":0,"d":"0.00"}},{"$f":"IF($B32=4,$CC32,0)","v":{"v":0,"d":"0.00"}},{"$f":"IF($B32=5,$CC32,0)","v":{"v":0,"d":"0.00"}},{"$f":"IF($B32=6,$CC32,0)","v":{"v":0,"d":"0.00"}},{"$f":"IF(CJ31>0,IF(H32+P32+X32+AF32+AN32+AV32+BD32+BL32+BT32+CB32=0,IF(E32>0,CJ31,0),0),0)","v":0},{"$f":"G32*CJ32","v":{"v":0,"d":"0.00"}},{"$f":"IF($B32=1,$CK32,0)","v":{"v":0,"d":"0.00"}},{"$f":"IF($B32=2,$CK32,0)","v":{"v":0,"d":"0.00"}},{"$f":"IF($B32=3,$CK32,0)","v":{"v":0,"d":"0.00"}},{"$f":"IF($B32=4,$CK32,0)","v":{"v":0,"d":"0.00"}},{"$f":"IF($B32=5,$CK32,0)","v":{"v":0,"d":"0.00"}},{"$f":"IF($B32=6,$CK32,0)","v":{"v":0,"d":"0.00"}}]
[{"$f":"IF(C32<>C33,C33,\"\")","v":""},{"$f":"IF(C32<>C33,_xlfn.DAYS(C33,C32)+B32,B32)","v":1},{"$f":"IF(D33>0,IF(D33<E32,C32+1,C32),C32)","v":"2009-02-23"},{"$f":"IF((E33+H33+P33+X33+AF33+AN33+AV33+BD33+BL33+BT33+CB33+CJ33)>0,E32,0)","v":"00:00:00"},null,{"$f":"E33-D33","v":"00:00:00"},{"$f":"IF(E33>0,HOUR(F33)+(MINUTE(F33)/60),0)","v":0},{"$f":"IF(H32>0,IF(P33+X33+AF33+AN33+AV33+BD33+BL33+BT33+CB33+CJ33=0,IF(E33>0,H32,0),0),0)","v":0},{"$f":"G33*H33","v":{"v":0,"d":"0.00"}},{"$f":"IF($B33=1,$I33,0)","v":{"v":0,"d":"0.00"}},{"$f":"IF($B33=2,$I33,0)","v":{"v":0,"d":"0.00"}},{"$f":"IF($B33=3,$I33,0)","v":{"v":0,"d":"0.00"}},{"$f":"IF($B33=4,$I33,0)","v":{"v":0,"d":"0.00"}},{"$f":"IF($B33=5,$I33,0)","v":{"v":0,"d":"0.00"}},{"$f":"IF($B33=6,$I33,0)","v":{"v":0,"d":"0.00"}},{"$f":"IF(P32>0,IF(H33+X33+AF33+AN33+AV33+BD33+BL33+BT33+CB33+CJ33=0,IF(E33>0,P32,0),0),0)","v":0},{"$f":"G33*P33","v":{"v":0,"d":"0.00"}},{"$f":"IF(B33=1,Q33,0)","v":{"v":0,"d":"0.00"}},{"$f":"IF(B33=2,Q33,0)","v":{"v":0,"d":"0.00"}},{"$f":"IF(B33=3,Q33,0)","v":{"v":0,"d":"0.00"}},{"$f":"IF(B33=4,Q33,0)","v":{"v":0,"d":"0.00"}},{"$f":"IF(B33=5,Q33,0)","v":{"v":0,"d":"0.00"}},{"$f":"IF(B33=6,Q33,0)","v":{"v":0,"d":"0.00"}},{"$f":"IF(X32>0,IF(H33+P33+AF33+AN33+AV33+BD33+BL33+BT33+CB33+CJ33=0,IF(E33>0,X32,0),0),0)","v":0},{"$f":"G33*X33","v":{"v":0,"d":"0.00"}},{"$f":"IF($B33=1,$Y33,0)","v":{"v":0,"d":"0.00"}},{"$f":"IF($B33=2,$Y33,0)","v":{"v":0,"d":"0.00"}},{"$f":"IF($B33=3,$Y33,0)","v":{"v":0,"d":"0.00"}},{"$f":"IF($B33=4,$Y33,0)","v":{"v":0,"d":"0.00"}},{"$f":"IF($B33=5,$Y33,0)","v":{"v":0,"d":"0.00"}},{"$f":"IF($B33=6,$Y33,0)","v":{"v":0,"d":"0.00"}},{"$f":"IF(AF32>0,IF(H33+P33+X33+AN33+AV33+BD33+BL33+BT33+CB33+CJ33=0,IF(E33>0,AF32,0),0),0)","v":0},{"$f":"G33*AF33","v":{"v":0,"d":"0.00"}},{"$f":"IF($B33=1,$AG33,0)","v":{"v":0,"d":"0.00"}},{"$f":"IF($B33=2,$AG33,0)","v":{"v":0,"d":"0.00"}},{"$f":"IF($B33=3,$AG33,0)","v":{"v":0,"d":"0.00"}},{"$f":"IF($B33=4,$AG33,0)","v":{"v":0,"d":"0.00"}},{"$f":"IF($B33=5,$AG33,0)","v":{"v":0,"d":"0.00"}},{"$f":"IF($B33=6,$AG33,0)","v":{"v":0,"d":"0.00"}},{"$f":"IF(AN32>0,IF(H33+P33+X33+AF33+AV33+BD33+BL33+BT33+CB33+CJ33=0,IF(E33>0,AN32,0),0),0)","v":0},{"$f":"G33*AN33","v":{"v":0,"d":"0.00"}},{"$f":"IF($B33=1,$AO33,0)","v":{"v":0,"d":"0.00"}},{"$f":"IF($B33=2,$AO33,0)","v":{"v":0,"d":"0.00"}},{"$f":"IF($B33=3,$AO33,0)","v":{"v":0,"d":"0.00"}},{"$f":"IF($B33=4,$AO33,0)","v":{"v":0,"d":"0.00"}},{"$f":"IF($B33=5,$AO33,0)","v":{"v":0,"d":"0.00"}},{"$f":"IF($B33=6,$AO33,0)","v":{"v":0,"d":"0.00"}},{"$f":"IF(AV32>0,IF(H33+P33+X33+AF33+AN33+BD33+BL33+BT33+CB33+CJ33=0,IF(E33>0,AV32,0),0),0)","v":0},{"$f":"G33*AV33","v":{"v":0,"d":"0.00"}},{"$f":"IF($B33=1,$AW33,0)","v":{"v":0,"d":"0.00"}},{"$f":"IF($B33=2,$AW33,0)","v":{"v":0,"d":"0.00"}},{"$f":"IF($B33=3,$AW33,0)","v":{"v":0,"d":"0.00"}},{"$f":"IF($B33=4,$AW33,0)","v":{"v":0,"d":"0.00"}},{"$f":"IF($B33=5,$AW33,0)","v":{"v":0,"d":"0.00"}},{"$f":"IF($B33=6,$AW33,0)","v":{"v":0,"d":"0.00"}},{"$f":"IF(BD32>0,IF(H33+P33+X33+AF33+AN33+AV33+BL33+BT33+CB33+CJ33=0,IF(E33>0,BD32,0),0),0)","v":0},{"$f":"G33*BD33","v":{"v":0,"d":"0.00"}},{"$f":"IF($B33=1,$BE33,0)","v":{"v":0,"d":"0.00"}},{"$f":"IF($B33=2,$BE33,0)","v":{"v":0,"d":"0.00"}},{"$f":"IF($B33=3,$BE33,0)","v":{"v":0,"d":"0.00"}},{"$f":"IF($B33=4,$BE33,0)","v":{"v":0,"d":"0.00"}},{"$f":"IF($B33=5,$BE33,0)","v":{"v":0,"d":"0.00"}},{"$f":"IF($B33=6,$BE33,0)","v":{"v":0,"d":"0.00"}},{"$f":"IF(BL32>0,IF(H33+P33+X33+AF33+AN33+AV33+BD33+BT33+CB33+CJ33=0,IF(E33>0,BL32,0),0),0)","v":0},{"$f":"G33*BL33","v":{"v":0,"d":"0.00"}},{"$f":"IF($B33=1,$BM33,0)","v":{"v":0,"d":"0.00"}},{"$f":"IF($B33=2,$BM33,0)","v":{"v":0,"d":"0.00"}},{"$f":"IF($B33=3,$BM33,0)","v":{"v":0,"d":"0.00"}},{"$f":"IF($B33=4,$BM33,0)","v":{"v":0,"d":"0.00"}},{"$f":"IF($B33=5,$BM33,0)","v":{"v":0,"d":"0.00"}},{"$f":"IF($B33=6,$BM33,0)","v":{"v":0,"d":"0.00"}},{"$f":"IF(BT32>0,IF(H33+P33+X33+AF33+AN33+AV33+BD33+BL33+CB33+CJ33=0,IF(E33>0,BT32,0),0),0)","v":0},{"$f":"G33*BT33","v":{"v":0,"d":"0.00"}},{"$f":"IF($B33=1,$BU33,0)","v":{"v":0,"d":"0.00"}},{"$f":"IF($B33=2,$BU33,0)","v":{"v":0,"d":"0.00"}},{"$f":"IF($B33=3,$BU33,0)","v":{"v":0,"d":"0.00"}},{"$f":"IF($B33=4,$BU33,0)","v":{"v":0,"d":"0.00"}},{"$f":"IF($B33=5,$BU33,0)","v":{"v":0,"d":"0.00"}},{"$f":"IF($B33=6,$BU33,0)","v":{"v":0,"d":"0.00"}},{"$f":"IF(CB32>0,IF(H33+P33+X33+AF33+AN33+AV33+BD33+BL33+BT33+CJ33=0,IF(E33>0,CB32,0),0),0)","v":0},{"$f":"G33*CB33","v":{"v":0,"d":"0.00"}},{"$f":"IF($B33=1,$CC33,0)","v":{"v":0,"d":"0.00"}},{"$f":"IF($B33=2,$CC33,0)","v":{"v":0,"d":"0.00"}},{"$f":"IF($B33=3,$CC33,0)","v":{"v":0,"d":"0.00"}},{"$f":"IF($B33=4,$CC33,0)","v":{"v":0,"d":"0.00"}},{"$f":"IF($B33=5,$CC33,0)","v":{"v":0,"d":"0.00"}},{"$f":"IF($B33=6,$CC33,0)","v":{"v":0,"d":"0.00"}},{"$f":"IF(CJ32>0,IF(H33+P33+X33+AF33+AN33+AV33+BD33+BL33+BT33+CB33=0,IF(E33>0,CJ32,0),0),0)","v":0},{"$f":"G33*CJ33","v":{"v":0,"d":"0.00"}},{"$f":"IF($B33=1,$CK33,0)","v":{"v":0,"d":"0.00"}},{"$f":"IF($B33=2,$CK33,0)","v":{"v":0,"d":"0.00"}},{"$f":"IF($B33=3,$CK33,0)","v":{"v":0,"d":"0.00"}},{"$f":"IF($B33=4,$CK33,0)","v":{"v":0,"d":"0.00"}},{"$f":"IF($B33=5,$CK33,0)","v":{"v":0,"d":"0.00"}},{"$f":"IF($B33=6,$CK33,0)","v":{"v":0,"d":"0.00"}}]
[{"$f":"IF(C33<>C34,C34,\"\")","v":""},{"$f":"IF(C33<>C34,_xlfn.DAYS(C34,C33)+B33,B33)","v":1},{"$f":"IF(D34>0,IF(D34<E33,C33+1,C33),C33)","v":"2009-02-23"},{"$f":"IF((E34+H34+P34+X34+AF34+AN34+AV34+BD34+BL34+BT34+CB34+CJ34)>0,E33,0)","v":"00:00:00"},null,{"$f":"E34-D34","v":"00:00:00"},{"$f":"IF(E34>0,HOUR(F34)+(MINUTE(F34)/60),0)","v":0},{"$f":"IF(H33>0,IF(P34+X34+AF34+AN34+AV34+BD34+BL34+BT34+CB34+CJ34=0,IF(E34>0,H33,0),0),0)","v":0},{"$f":"G34*H34","v":{"v":0,"d":"0.00"}},{"$f":"IF($B34=1,$I34,0)","v":{"v":0,"d":"0.00"}},{"$f":"IF($B34=2,$I34,0)","v":{"v":0,"d":"0.00"}},{"$f":"IF($B34=3,$I34,0)","v":{"v":0,"d":"0.00"}},{"$f":"IF($B34=4,$I34,0)","v":{"v":0,"d":"0.00"}},{"$f":"IF($B34=5,$I34,0)","v":{"v":0,"d":"0.00"}},{"$f":"IF($B34=6,$I34,0)","v":{"v":0,"d":"0.00"}},{"$f":"IF(P33>0,IF(H34+X34+AF34+AN34+AV34+BD34+BL34+BT34+CB34+CJ34=0,IF(E34>0,P33,0),0),0)","v":0},{"$f":"G34*P34","v":{"v":0,"d":"0.00"}},{"$f":"IF(B34=1,Q34,0)","v":{"v":0,"d":"0.00"}},{"$f":"IF(B34=2,Q34,0)","v":{"v":0,"d":"0.00"}},{"$f":"IF(B34=3,Q34,0)","v":{"v":0,"d":"0.00"}},{"$f":"IF(B34=4,Q34,0)","v":{"v":0,"d":"0.00"}},{"$f":"IF(B34=5,Q34,0)","v":{"v":0,"d":"0.00"}},{"$f":"IF(B34=6,Q34,0)","v":{"v":0,"d":"0.00"}},{"$f":"IF(X33>0,IF(H34+P34+AF34+AN34+AV34+BD34+BL34+BT34+CB34+CJ34=0,IF(E34>0,X33,0),0),0)","v":0},{"$f":"G34*X34","v":{"v":0,"d":"0.00"}},{"$f":"IF($B34=1,$Y34,0)","v":{"v":0,"d":"0.00"}},{"$f":"IF($B34=2,$Y34,0)","v":{"v":0,"d":"0.00"}},{"$f":"IF($B34=3,$Y34,0)","v":{"v":0,"d":"0.00"}},{"$f":"IF($B34=4,$Y34,0)","v":{"v":0,"d":"0.00"}},{"$f":"IF($B34=5,$Y34,0)","v":{"v":0,"d":"0.00"}},{"$f":"IF($B34=6,$Y34,0)","v":{"v":0,"d":"0.00"}},{"$f":"IF(AF33>0,IF(H34+P34+X34+AN34+AV34+BD34+BL34+BT34+CB34+CJ34=0,IF(E34>0,AF33,0),0),0)","v":0},{"$f":"G34*AF34","v":{"v":0,"d":"0.00"}},{"$f":"IF($B34=1,$AG34,0)","v":{"v":0,"d":"0.00"}},{"$f":"IF($B34=2,$AG34,0)","v":{"v":0,"d":"0.00"}},{"$f":"IF($B34=3,$AG34,0)","v":{"v":0,"d":"0.00"}},{"$f":"IF($B34=4,$AG34,0)","v":{"v":0,"d":"0.00"}},{"$f":"IF($B34=5,$AG34,0)","v":{"v":0,"d":"0.00"}},{"$f":"IF($B34=6,$AG34,0)","v":{"v":0,"d":"0.00"}},{"$f":"IF(AN33>0,IF(H34+P34+X34+AF34+AV34+BD34+BL34+BT34+CB34+CJ34=0,IF(E34>0,AN33,0),0),0)","v":0},{"$f":"G34*AN34","v":{"v":0,"d":"0.00"}},{"$f":"IF($B34=1,$AO34,0)","v":{"v":0,"d":"0.00"}},{"$f":"IF($B34=2,$AO34,0)","v":{"v":0,"d":"0.00"}},{"$f":"IF($B34=3,$AO34,0)","v":{"v":0,"d":"0.00"}},{"$f":"IF($B34=4,$AO34,0)","v":{"v":0,"d":"0.00"}},{"$f":"IF($B34=5,$AO34,0)","v":{"v":0,"d":"0.00"}},{"$f":"IF($B34=6,$AO34,0)","v":{"v":0,"d":"0.00"}},{"$f":"IF(AV33>0,IF(H34+P34+X34+AF34+AN34+BD34+BL34+BT34+CB34+CJ34=0,IF(E34>0,AV33,0),0),0)","v":0},{"$f":"G34*AV34","v":{"v":0,"d":"0.00"}},{"$f":"IF($B34=1,$AW34,0)","v":{"v":0,"d":"0.00"}},{"$f":"IF($B34=2,$AW34,0)","v":{"v":0,"d":"0.00"}},{"$f":"IF($B34=3,$AW34,0)","v":{"v":0,"d":"0.00"}},{"$f":"IF($B34=4,$AW34,0)","v":{"v":0,"d":"0.00"}},{"$f":"IF($B34=5,$AW34,0)","v":{"v":0,"d":"0.00"}},{"$f":"IF($B34=6,$AW34,0)","v":{"v":0,"d":"0.00"}},{"$f":"IF(BD33>0,IF(H34+P34+X34+AF34+AN34+AV34+BL34+BT34+CB34+CJ34=0,IF(E34>0,BD33,0),0),0)","v":0},{"$f":"G34*BD34","v":{"v":0,"d":"0.00"}},{"$f":"IF($B34=1,$BE34,0)","v":{"v":0,"d":"0.00"}},{"$f":"IF($B34=2,$BE34,0)","v":{"v":0,"d":"0.00"}},{"$f":"IF($B34=3,$BE34,0)","v":{"v":0,"d":"0.00"}},{"$f":"IF($B34=4,$BE34,0)","v":{"v":0,"d":"0.00"}},{"$f":"IF($B34=5,$BE34,0)","v":{"v":0,"d":"0.00"}},{"$f":"IF($B34=6,$BE34,0)","v":{"v":0,"d":"0.00"}},{"$f":"IF(BL33>0,IF(H34+P34+X34+AF34+AN34+AV34+BD34+BT34+CB34+CJ34=0,IF(E34>0,BL33,0),0),0)","v":0},{"$f":"G34*BL34","v":{"v":0,"d":"0.00"}},{"$f":"IF($B34=1,$BM34,0)","v":{"v":0,"d":"0.00"}},{"$f":"IF($B34=2,$BM34,0)","v":{"v":0,"d":"0.00"}},{"$f":"IF($B34=3,$BM34,0)","v":{"v":0,"d":"0.00"}},{"$f":"IF($B34=4,$BM34,0)","v":{"v":0,"d":"0.00"}},{"$f":"IF($B34=5,$BM34,0)","v":{"v":0,"d":"0.00"}},{"$f":"IF($B34=6,$BM34,0)","v":{"v":0,"d":"0.00"}},{"$f":"IF(BT33>0,IF(H34+P34+X34+AF34+AN34+AV34+BD34+BL34+CB34+CJ34=0,IF(E34>0,BT33,0),0),0)","v":0},{"$f":"G34*BT34","v":{"v":0,"d":"0.00"}},{"$f":"IF($B34=1,$BU34,0)","v":{"v":0,"d":"0.00"}},{"$f":"IF($B34=2,$BU34,0)","v":{"v":0,"d":"0.00"}},{"$f":"IF($B34=3,$BU34,0)","v":{"v":0,"d":"0.00"}},{"$f":"IF($B34=4,$BU34,0)","v":{"v":0,"d":"0.00"}},{"$f":"IF($B34=5,$BU34,0)","v":{"v":0,"d":"0.00"}},{"$f":"IF($B34=6,$BU34,0)","v":{"v":0,"d":"0.00"}},{"$f":"IF(CB33>0,IF(H34+P34+X34+AF34+AN34+AV34+BD34+BL34+BT34+CJ34=0,IF(E34>0,CB33,0),0),0)","v":0},{"$f":"G34*CB34","v":{"v":0,"d":"0.00"}},{"$f":"IF($B34=1,$CC34,0)","v":{"v":0,"d":"0.00"}},{"$f":"IF($B34=2,$CC34,0)","v":{"v":0,"d":"0.00"}},{"$f":"IF($B34=3,$CC34,0)","v":{"v":0,"d":"0.00"}},{"$f":"IF($B34=4,$CC34,0)","v":{"v":0,"d":"0.00"}},{"$f":"IF($B34=5,$CC34,0)","v":{"v":0,"d":"0.00"}},{"$f":"IF($B34=6,$CC34,0)","v":{"v":0,"d":"0.00"}},{"$f":"IF(CJ33>0,IF(H34+P34+X34+AF34+AN34+AV34+BD34+BL34+BT34+CB34=0,IF(E34>0,CJ33,0),0),0)","v":0},{"$f":"G34*CJ34","v":{"v":0,"d":"0.00"}},{"$f":"IF($B34=1,$CK34,0)","v":{"v":0,"d":"0.00"}},{"$f":"IF($B34=2,$CK34,0)","v":{"v":0,"d":"0.00"}},{"$f":"IF($B34=3,$CK34,0)","v":{"v":0,"d":"0.00"}},{"$f":"IF($B34=4,$CK34,0)","v":{"v":0,"d":"0.00"}},{"$f":"IF($B34=5,$CK34,0)","v":{"v":0,"d":"0.00"}},{"$f":"IF($B34=6,$CK34,0)","v":{"v":0,"d":"0.00"}}]
[{"$f":"IF(C34<>C35,C35,\"\")","v":""},{"$f":"IF(C34<>C35,_xlfn.DAYS(C35,C34)+B34,B34)","v":1},{"$f":"IF(D35>0,IF(D35<E34,C34+1,C34),C34)","v":"2009-02-23"},{"$f":"IF((E35+H35+P35+X35+AF35+AN35+AV35+BD35+BL35+BT35+CB35+CJ35)>0,E34,0)","v":"00:00:00"},null,{"$f":"E35-D35","v":"00:00:00"},{"$f":"IF(E35>0,HOUR(F35)+(MINUTE(F35)/60),0)","v":0},{"$f":"IF(H34>0,IF(P35+X35+AF35+AN35+AV35+BD35+BL35+BT35+CB35+CJ35=0,IF(E35>0,H34,0),0),0)","v":0},{"$f":"G35*H35","v":{"v":0,"d":"0.00"}},{"$f":"IF($B35=1,$I35,0)","v":{"v":0,"d":"0.00"}},{"$f":"IF($B35=2,$I35,0)","v":{"v":0,"d":"0.00"}},{"$f":"IF($B35=3,$I35,0)","v":{"v":0,"d":"0.00"}},{"$f":"IF($B35=4,$I35,0)","v":{"v":0,"d":"0.00"}},{"$f":"IF($B35=5,$I35,0)","v":{"v":0,"d":"0.00"}},{"$f":"IF($B35=6,$I35,0)","v":{"v":0,"d":"0.00"}},{"$f":"IF(P34>0,IF(H35+X35+AF35+AN35+AV35+BD35+BL35+BT35+CB35+CJ35=0,IF(E35>0,P34,0),0),0)","v":0},{"$f":"G35*P35","v":{"v":0,"d":"0.00"}},{"$f":"IF(B35=1,Q35,0)","v":{"v":0,"d":"0.00"}},{"$f":"IF(B35=2,Q35,0)","v":{"v":0,"d":"0.00"}},{"$f":"IF(B35=3,Q35,0)","v":{"v":0,"d":"0.00"}},{"$f":"IF(B35=4,Q35,0)","v":{"v":0,"d":"0.00"}},{"$f":"IF(B35=5,Q35,0)","v":{"v":0,"d":"0.00"}},{"$f":"IF(B35=6,Q35,0)","v":{"v":0,"d":"0.00"}},{"$f":"IF(X34>0,IF(H35+P35+AF35+AN35+AV35+BD35+BL35+BT35+CB35+CJ35=0,IF(E35>0,X34,0),0),0)","v":0},{"$f":"G35*X35","v":{"v":0,"d":"0.00"}},{"$f":"IF($B35=1,$Y35,0)","v":{"v":0,"d":"0.00"}},{"$f":"IF($B35=2,$Y35,0)","v":{"v":0,"d":"0.00"}},{"$f":"IF($B35=3,$Y35,0)","v":{"v":0,"d":"0.00"}},{"$f":"IF($B35=4,$Y35,0)","v":{"v":0,"d":"0.00"}},{"$f":"IF($B35=5,$Y35,0)","v":{"v":0,"d":"0.00"}},{"$f":"IF($B35=6,$Y35,0)","v":{"v":0,"d":"0.00"}},{"$f":"IF(AF34>0,IF(H35+P35+X35+AN35+AV35+BD35+BL35+BT35+CB35+CJ35=0,IF(E35>0,AF34,0),0),0)","v":0},{"$f":"G35*AF35","v":{"v":0,"d":"0.00"}},{"$f":"IF($B35=1,$AG35,0)","v":{"v":0,"d":"0.00"}},{"$f":"IF($B35=2,$AG35,0)","v":{"v":0,"d":"0.00"}},{"$f":"IF($B35=3,$AG35,0)","v":{"v":0,"d":"0.00"}},{"$f":"IF($B35=4,$AG35,0)","v":{"v":0,"d":"0.00"}},{"$f":"IF($B35=5,$AG35,0)","v":{"v":0,"d":"0.00"}},{"$f":"IF($B35=6,$AG35,0)","v":{"v":0,"d":"0.00"}},{"$f":"IF(AN34>0,IF(H35+P35+X35+AF35+AV35+BD35+BL35+BT35+CB35+CJ35=0,IF(E35>0,AN34,0),0),0)","v":0},{"$f":"G35*AN35","v":{"v":0,"d":"0.00"}},{"$f":"IF($B35=1,$AO35,0)","v":{"v":0,"d":"0.00"}},{"$f":"IF($B35=2,$AO35,0)","v":{"v":0,"d":"0.00"}},{"$f":"IF($B35=3,$AO35,0)","v":{"v":0,"d":"0.00"}},{"$f":"IF($B35=4,$AO35,0)","v":{"v":0,"d":"0.00"}},{"$f":"IF($B35=5,$AO35,0)","v":{"v":0,"d":"0.00"}},{"$f":"IF($B35=6,$AO35,0)","v":{"v":0,"d":"0.00"}},{"$f":"IF(AV34>0,IF(H35+P35+X35+AF35+AN35+BD35+BL35+BT35+CB35+CJ35=0,IF(E35>0,AV34,0),0),0)","v":0},{"$f":"G35*AV35","v":{"v":0,"d":"0.00"}},{"$f":"IF($B35=1,$AW35,0)","v":{"v":0,"d":"0.00"}},{"$f":"IF($B35=2,$AW35,0)","v":{"v":0,"d":"0.00"}},{"$f":"IF($B35=3,$AW35,0)","v":{"v":0,"d":"0.00"}},{"$f":"IF($B35=4,$AW35,0)","v":{"v":0,"d":"0.00"}},{"$f":"IF($B35=5,$AW35,0)","v":{"v":0,"d":"0.00"}},{"$f":"IF($B35=6,$AW35,0)","v":{"v":0,"d":"0.00"}},{"$f":"IF(BD34>0,IF(H35+P35+X35+AF35+AN35+AV35+BL35+BT35+CB35+CJ35=0,IF(E35>0,BD34,0),0),0)","v":0},{"$f":"G35*BD35","v":{"v":0,"d":"0.00"}},{"$f":"IF($B35=1,$BE35,0)","v":{"v":0,"d":"0.00"}},{"$f":"IF($B35=2,$BE35,0)","v":{"v":0,"d":"0.00"}},{"$f":"IF($B35=3,$BE35,0)","v":{"v":0,"d":"0.00"}},{"$f":"IF($B35=4,$BE35,0)","v":{"v":0,"d":"0.00"}},{"$f":"IF($B35=5,$BE35,0)","v":{"v":0,"d":"0.00"}},{"$f":"IF($B35=6,$BE35,0)","v":{"v":0,"d":"0.00"}},{"$f":"IF(BL34>0,IF(H35+P35+X35+AF35+AN35+AV35+BD35+BT35+CB35+CJ35=0,IF(E35>0,BL34,0),0),0)","v":0},{"$f":"G35*BL35","v":{"v":0,"d":"0.00"}},{"$f":"IF($B35=1,$BM35,0)","v":{"v":0,"d":"0.00"}},{"$f":"IF($B35=2,$BM35,0)","v":{"v":0,"d":"0.00"}},{"$f":"IF($B35=3,$BM35,0)","v":{"v":0,"d":"0.00"}},{"$f":"IF($B35=4,$BM35,0)","v":{"v":0,"d":"0.00"}},{"$f":"IF($B35=5,$BM35,0)","v":{"v":0,"d":"0.00"}},{"$f":"IF($B35=6,$BM35,0)","v":{"v":0,"d":"0.00"}},{"$f":"IF(BT34>0,IF(H35+P35+X35+AF35+AN35+AV35+BD35+BL35+CB35+CJ35=0,IF(E35>0,BT34,0),0),0)","v":0},{"$f":"G35*BT35","v":{"v":0,"d":"0.00"}},{"$f":"IF($B35=1,$BU35,0)","v":{"v":0,"d":"0.00"}},{"$f":"IF($B35=2,$BU35,0)","v":{"v":0,"d":"0.00"}},{"$f":"IF($B35=3,$BU35,0)","v":{"v":0,"d":"0.00"}},{"$f":"IF($B35=4,$BU35,0)","v":{"v":0,"d":"0.00"}},{"$f":"IF($B35=5,$BU35,0)","v":{"v":0,"d":"0.00"}},{"$f":"IF($B35=6,$BU35,0)","v":{"v":0,"d":"0.00"}},{"$f":"IF(CB34>0,IF(H35+P35+X35+AF35+AN35+AV35+BD35+BL35+BT35+CJ35=0,IF(E35>0,CB34,0),0),0)","v":0},{"$f":"G35*CB35","v":{"v":0,"d":"0.00"}},{"$f":"IF($B35=1,$CC35,0)","v":{"v":0,"d":"0.00"}},{"$f":"IF($B35=2,$CC35,0)","v":{"v":0,"d":"0.00"}},{"$f":"IF($B35=3,$CC35,0)","v":{"v":0,"d":"0.00"}},{"$f":"IF($B35=4,$CC35,0)","v":{"v":0,"d":"0.00"}},{"$f":"IF($B35=5,$CC35,0)","v":{"v":0,"d":"0.00"}},{"$f":"IF($B35=6,$CC35,0)","v":{"v":0,"d":"0.00"}},{"$f":"IF(CJ34>0,IF(H35+P35+X35+AF35+AN35+AV35+BD35+BL35+BT35+CB35=0,IF(E35>0,CJ34,0),0),0)","v":0},{"$f":"G35*CJ35","v":{"v":0,"d":"0.00"}},{"$f":"IF($B35=1,$CK35,0)","v":{"v":0,"d":"0.00"}},{"$f":"IF($B35=2,$CK35,0)","v":{"v":0,"d":"0.00"}},{"$f":"IF($B35=3,$CK35,0)","v":{"v":0,"d":"0.00"}},{"$f":"IF($B35=4,$CK35,0)","v":{"v":0,"d":"0.00"}},{"$f":"IF($B35=5,$CK35,0)","v":{"v":0,"d":"0.00"}},{"$f":"IF($B35=6,$CK35,0)","v":{"v":0,"d":"0.00"}}]
[{"$f":"IF(C35<>C36,C36,\"\")","v":""},{"$f":"IF(C35<>C36,_xlfn.DAYS(C36,C35)+B35,B35)","v":1},{"$f":"IF(D36>0,IF(D36<E35,C35+1,C35),C35)","v":"2009-02-23"},{"$f":"IF((E36+H36+P36+X36+AF36+AN36+AV36+BD36+BL36+BT36+CB36+CJ36)>0,E35,0)","v":"00:00:00"},null,{"$f":"E36-D36","v":"00:00:00"},{"$f":"IF(E36>0,HOUR(F36)+(MINUTE(F36)/60),0)","v":0},{"$f":"IF(H35>0,IF(P36+X36+AF36+AN36+AV36+BD36+BL36+BT36+CB36+CJ36=0,IF(E36>0,H35,0),0),0)","v":0},{"$f":"G36*H36","v":{"v":0,"d":"0.00"}},{"$f":"IF($B36=1,$I36,0)","v":{"v":0,"d":"0.00"}},{"$f":"IF($B36=2,$I36,0)","v":{"v":0,"d":"0.00"}},{"$f":"IF($B36=3,$I36,0)","v":{"v":0,"d":"0.00"}},{"$f":"IF($B36=4,$I36,0)","v":{"v":0,"d":"0.00"}},{"$f":"IF($B36=5,$I36,0)","v":{"v":0,"d":"0.00"}},{"$f":"IF($B36=6,$I36,0)","v":{"v":0,"d":"0.00"}},{"$f":"IF(P35>0,IF(H36+X36+AF36+AN36+AV36+BD36+BL36+BT36+CB36+CJ36=0,IF(E36>0,P35,0),0),0)","v":0},{"$f":"G36*P36","v":{"v":0,"d":"0.00"}},{"$f":"IF(B36=1,Q36,0)","v":{"v":0,"d":"0.00"}},{"$f":"IF(B36=2,Q36,0)","v":{"v":0,"d":"0.00"}},{"$f":"IF(B36=3,Q36,0)","v":{"v":0,"d":"0.00"}},{"$f":"IF(B36=4,Q36,0)","v":{"v":0,"d":"0.00"}},{"$f":"IF(B36=5,Q36,0)","v":{"v":0,"d":"0.00"}},{"$f":"IF(B36=6,Q36,0)","v":{"v":0,"d":"0.00"}},{"$f":"IF(X35>0,IF(H36+P36+AF36+AN36+AV36+BD36+BL36+BT36+CB36+CJ36=0,IF(E36>0,X35,0),0),0)","v":0},{"$f":"G36*X36","v":{"v":0,"d":"0.00"}},{"$f":"IF($B36=1,$Y36,0)","v":{"v":0,"d":"0.00"}},{"$f":"IF($B36=2,$Y36,0)","v":{"v":0,"d":"0.00"}},{"$f":"IF($B36=3,$Y36,0)","v":{"v":0,"d":"0.00"}},{"$f":"IF($B36=4,$Y36,0)","v":{"v":0,"d":"0.00"}},{"$f":"IF($B36=5,$Y36,0)","v":{"v":0,"d":"0.00"}},{"$f":"IF($B36=6,$Y36,0)","v":{"v":0,"d":"0.00"}},{"$f":"IF(AF35>0,IF(H36+P36+X36+AN36+AV36+BD36+BL36+BT36+CB36+CJ36=0,IF(E36>0,AF35,0),0),0)","v":0},{"$f":"G36*AF36","v":{"v":0,"d":"0.00"}},{"$f":"IF($B36=1,$AG36,0)","v":{"v":0,"d":"0.00"}},{"$f":"IF($B36=2,$AG36,0)","v":{"v":0,"d":"0.00"}},{"$f":"IF($B36=3,$AG36,0)","v":{"v":0,"d":"0.00"}},{"$f":"IF($B36=4,$AG36,0)","v":{"v":0,"d":"0.00"}},{"$f":"IF($B36=5,$AG36,0)","v":{"v":0,"d":"0.00"}},{"$f":"IF($B36=6,$AG36,0)","v":{"v":0,"d":"0.00"}},{"$f":"IF(AN35>0,IF(H36+P36+X36+AF36+AV36+BD36+BL36+BT36+CB36+CJ36=0,IF(E36>0,AN35,0),0),0)","v":0},{"$f":"G36*AN36","v":{"v":0,"d":"0.00"}},{"$f":"IF($B36=1,$AO36,0)","v":{"v":0,"d":"0.00"}},{"$f":"IF($B36=2,$AO36,0)","v":{"v":0,"d":"0.00"}},{"$f":"IF($B36=3,$AO36,0)","v":{"v":0,"d":"0.00"}},{"$f":"IF($B36=4,$AO36,0)","v":{"v":0,"d":"0.00"}},{"$f":"IF($B36=5,$AO36,0)","v":{"v":0,"d":"0.00"}},{"$f":"IF($B36=6,$AO36,0)","v":{"v":0,"d":"0.00"}},{"$f":"IF(AV35>0,IF(H36+P36+X36+AF36+AN36+BD36+BL36+BT36+CB36+CJ36=0,IF(E36>0,AV35,0),0),0)","v":0},{"$f":"G36*AV36","v":{"v":0,"d":"0.00"}},{"$f":"IF($B36=1,$AW36,0)","v":{"v":0,"d":"0.00"}},{"$f":"IF($B36=2,$AW36,0)","v":{"v":0,"d":"0.00"}},{"$f":"IF($B36=3,$AW36,0)","v":{"v":0,"d":"0.00"}},{"$f":"IF($B36=4,$AW36,0)","v":{"v":0,"d":"0.00"}},{"$f":"IF($B36=5,$AW36,0)","v":{"v":0,"d":"0.00"}},{"$f":"IF($B36=6,$AW36,0)","v":{"v":0,"d":"0.00"}},{"$f":"IF(BD35>0,IF(H36+P36+X36+AF36+AN36+AV36+BL36+BT36+CB36+CJ36=0,IF(E36>0,BD35,0),0),0)","v":0},{"$f":"G36*BD36","v":{"v":0,"d":"0.00"}},{"$f":"IF($B36=1,$BE36,0)","v":{"v":0,"d":"0.00"}},{"$f":"IF($B36=2,$BE36,0)","v":{"v":0,"d":"0.00"}},{"$f":"IF($B36=3,$BE36,0)","v":{"v":0,"d":"0.00"}},{"$f":"IF($B36=4,$BE36,0)","v":{"v":0,"d":"0.00"}},{"$f":"IF($B36=5,$BE36,0)","v":{"v":0,"d":"0.00"}},{"$f":"IF($B36=6,$BE36,0)","v":{"v":0,"d":"0.00"}},{"$f":"IF(BL35>0,IF(H36+P36+X36+AF36+AN36+AV36+BD36+BT36+CB36+CJ36=0,IF(E36>0,BL35,0),0),0)","v":0},{"$f":"G36*BL36","v":{"v":0,"d":"0.00"}},{"$f":"IF($B36=1,$BM36,0)","v":{"v":0,"d":"0.00"}},{"$f":"IF($B36=2,$BM36,0)","v":{"v":0,"d":"0.00"}},{"$f":"IF($B36=3,$BM36,0)","v":{"v":0,"d":"0.00"}},{"$f":"IF($B36=4,$BM36,0)","v":{"v":0,"d":"0.00"}},{"$f":"IF($B36=5,$BM36,0)","v":{"v":0,"d":"0.00"}},{"$f":"IF($B36=6,$BM36,0)","v":{"v":0,"d":"0.00"}},{"$f":"IF(BT35>0,IF(H36+P36+X36+AF36+AN36+AV36+BD36+BL36+CB36+CJ36=0,IF(E36>0,BT35,0),0),0)","v":0},{"$f":"G36*BT36","v":{"v":0,"d":"0.00"}},{"$f":"IF($B36=1,$BU36,0)","v":{"v":0,"d":"0.00"}},{"$f":"IF($B36=2,$BU36,0)","v":{"v":0,"d":"0.00"}},{"$f":"IF($B36=3,$BU36,0)","v":{"v":0,"d":"0.00"}},{"$f":"IF($B36=4,$BU36,0)","v":{"v":0,"d":"0.00"}},{"$f":"IF($B36=5,$BU36,0)","v":{"v":0,"d":"0.00"}},{"$f":"IF($B36=6,$BU36,0)","v":{"v":0,"d":"0.00"}},{"$f":"IF(CB35>0,IF(H36+P36+X36+AF36+AN36+AV36+BD36+BL36+BT36+CJ36=0,IF(E36>0,CB35,0),0),0)","v":0},{"$f":"G36*CB36","v":{"v":0,"d":"0.00"}},{"$f":"IF($B36=1,$CC36,0)","v":{"v":0,"d":"0.00"}},{"$f":"IF($B36=2,$CC36,0)","v":{"v":0,"d":"0.00"}},{"$f":"IF($B36=3,$CC36,0)","v":{"v":0,"d":"0.00"}},{"$f":"IF($B36=4,$CC36,0)","v":{"v":0,"d":"0.00"}},{"$f":"IF($B36=5,$CC36,0)","v":{"v":0,"d":"0.00"}},{"$f":"IF($B36=6,$CC36,0)","v":{"v":0,"d":"0.00"}},{"$f":"IF(CJ35>0,IF(H36+P36+X36+AF36+AN36+AV36+BD36+BL36+BT36+CB36=0,IF(E36>0,CJ35,0),0),0)","v":0},{"$f":"G36*CJ36","v":{"v":0,"d":"0.00"}},{"$f":"IF($B36=1,$CK36,0)","v":{"v":0,"d":"0.00"}},{"$f":"IF($B36=2,$CK36,0)","v":{"v":0,"d":"0.00"}},{"$f":"IF($B36=3,$CK36,0)","v":{"v":0,"d":"0.00"}},{"$f":"IF($B36=4,$CK36,0)","v":{"v":0,"d":"0.00"}},{"$f":"IF($B36=5,$CK36,0)","v":{"v":0,"d":"0.00"}},{"$f":"IF($B36=6,$CK36,0)","v":{"v":0,"d":"0.00"}}]
[{"$f":"IF(C36<>C37,C37,\"\")","v":""},{"$f":"IF(C36<>C37,_xlfn.DAYS(C37,C36)+B36,B36)","v":1},{"$f":"IF(D37>0,IF(D37<E36,C36+1,C36),C36)","v":"2009-02-23"},{"$f":"IF((E37+H37+P37+X37+AF37+AN37+AV37+BD37+BL37+BT37+CB37+CJ37)>0,E36,0)","v":"00:00:00"},null,{"$f":"E37-D37","v":"00:00:00"},{"$f":"IF(E37>0,HOUR(F37)+(MINUTE(F37)/60),0)","v":0},{"$f":"IF(H36>0,IF(P37+X37+AF37+AN37+AV37+BD37+BL37+BT37+CB37+CJ37=0,IF(E37>0,H36,0),0),0)","v":0},{"$f":"G37*H37","v":{"v":0,"d":"0.00"}},{"$f":"IF($B37=1,$I37,0)","v":{"v":0,"d":"0.00"}},{"$f":"IF($B37=2,$I37,0)","v":{"v":0,"d":"0.00"}},{"$f":"IF($B37=3,$I37,0)","v":{"v":0,"d":"0.00"}},{"$f":"IF($B37=4,$I37,0)","v":{"v":0,"d":"0.00"}},{"$f":"IF($B37=5,$I37,0)","v":{"v":0,"d":"0.00"}},{"$f":"IF($B37=6,$I37,0)","v":{"v":0,"d":"0.00"}},{"$f":"IF(P36>0,IF(H37+X37+AF37+AN37+AV37+BD37+BL37+BT37+CB37+CJ37=0,IF(E37>0,P36,0),0),0)","v":0},{"$f":"G37*P37","v":{"v":0,"d":"0.00"}},{"$f":"IF(B37=1,Q37,0)","v":{"v":0,"d":"0.00"}},{"$f":"IF(B37=2,Q37,0)","v":{"v":0,"d":"0.00"}},{"$f":"IF(B37=3,Q37,0)","v":{"v":0,"d":"0.00"}},{"$f":"IF(B37=4,Q37,0)","v":{"v":0,"d":"0.00"}},{"$f":"IF(B37=5,Q37,0)","v":{"v":0,"d":"0.00"}},{"$f":"IF(B37=6,Q37,0)","v":{"v":0,"d":"0.00"}},{"$f":"IF(X36>0,IF(H37+P37+AF37+AN37+AV37+BD37+BL37+BT37+CB37+CJ37=0,IF(E37>0,X36,0),0),0)","v":0},{"$f":"G37*X37","v":{"v":0,"d":"0.00"}},{"$f":"IF($B37=1,$Y37,0)","v":{"v":0,"d":"0.00"}},{"$f":"IF($B37=2,$Y37,0)","v":{"v":0,"d":"0.00"}},{"$f":"IF($B37=3,$Y37,0)","v":{"v":0,"d":"0.00"}},{"$f":"IF($B37=4,$Y37,0)","v":{"v":0,"d":"0.00"}},{"$f":"IF($B37=5,$Y37,0)","v":{"v":0,"d":"0.00"}},{"$f":"IF($B37=6,$Y37,0)","v":{"v":0,"d":"0.00"}},{"$f":"IF(AF36>0,IF(H37+P37+X37+AN37+AV37+BD37+BL37+BT37+CB37+CJ37=0,IF(E37>0,AF36,0),0),0)","v":0},{"$f":"G37*AF37","v":{"v":0,"d":"0.00"}},{"$f":"IF($B37=1,$AG37,0)","v":{"v":0,"d":"0.00"}},{"$f":"IF($B37=2,$AG37,0)","v":{"v":0,"d":"0.00"}},{"$f":"IF($B37=3,$AG37,0)","v":{"v":0,"d":"0.00"}},{"$f":"IF($B37=4,$AG37,0)","v":{"v":0,"d":"0.00"}},{"$f":"IF($B37=5,$AG37,0)","v":{"v":0,"d":"0.00"}},{"$f":"IF($B37=6,$AG37,0)","v":{"v":0,"d":"0.00"}},{"$f":"IF(AN36>0,IF(H37+P37+X37+AF37+AV37+BD37+BL37+BT37+CB37+CJ37=0,IF(E37>0,AN36,0),0),0)","v":0},{"$f":"G37*AN37","v":{"v":0,"d":"0.00"}},{"$f":"IF($B37=1,$AO37,0)","v":{"v":0,"d":"0.00"}},{"$f":"IF($B37=2,$AO37,0)","v":{"v":0,"d":"0.00"}},{"$f":"IF($B37=3,$AO37,0)","v":{"v":0,"d":"0.00"}},{"$f":"IF($B37=4,$AO37,0)","v":{"v":0,"d":"0.00"}},{"$f":"IF($B37=5,$AO37,0)","v":{"v":0,"d":"0.00"}},{"$f":"IF($B37=6,$AO37,0)","v":{"v":0,"d":"0.00"}},{"$f":"IF(AV36>0,IF(H37+P37+X37+AF37+AN37+BD37+BL37+BT37+CB37+CJ37=0,IF(E37>0,AV36,0),0),0)","v":0},{"$f":"G37*AV37","v":{"v":0,"d":"0.00"}},{"$f":"IF($B37=1,$AW37,0)","v":{"v":0,"d":"0.00"}},{"$f":"IF($B37=2,$AW37,0)","v":{"v":0,"d":"0.00"}},{"$f":"IF($B37=3,$AW37,0)","v":{"v":0,"d":"0.00"}},{"$f":"IF($B37=4,$AW37,0)","v":{"v":0,"d":"0.00"}},{"$f":"IF($B37=5,$AW37,0)","v":{"v":0,"d":"0.00"}},{"$f":"IF($B37=6,$AW37,0)","v":{"v":0,"d":"0.00"}},{"$f":"IF(BD36>0,IF(H37+P37+X37+AF37+AN37+AV37+BL37+BT37+CB37+CJ37=0,IF(E37>0,BD36,0),0),0)","v":0},{"$f":"G37*BD37","v":{"v":0,"d":"0.00"}},{"$f":"IF($B37=1,$BE37,0)","v":{"v":0,"d":"0.00"}},{"$f":"IF($B37=2,$BE37,0)","v":{"v":0,"d":"0.00"}},{"$f":"IF($B37=3,$BE37,0)","v":{"v":0,"d":"0.00"}},{"$f":"IF($B37=4,$BE37,0)","v":{"v":0,"d":"0.00"}},{"$f":"IF($B37=5,$BE37,0)","v":{"v":0,"d":"0.00"}},{"$f":"IF($B37=6,$BE37,0)","v":{"v":0,"d":"0.00"}},{"$f":"IF(BL36>0,IF(H37+P37+X37+AF37+AN37+AV37+BD37+BT37+CB37+CJ37=0,IF(E37>0,BL36,0),0),0)","v":0},{"$f":"G37*BL37","v":{"v":0,"d":"0.00"}},{"$f":"IF($B37=1,$BM37,0)","v":{"v":0,"d":"0.00"}},{"$f":"IF($B37=2,$BM37,0)","v":{"v":0,"d":"0.00"}},{"$f":"IF($B37=3,$BM37,0)","v":{"v":0,"d":"0.00"}},{"$f":"IF($B37=4,$BM37,0)","v":{"v":0,"d":"0.00"}},{"$f":"IF($B37=5,$BM37,0)","v":{"v":0,"d":"0.00"}},{"$f":"IF($B37=6,$BM37,0)","v":{"v":0,"d":"0.00"}},{"$f":"IF(BT36>0,IF(H37+P37+X37+AF37+AN37+AV37+BD37+BL37+CB37+CJ37=0,IF(E37>0,BT36,0),0),0)","v":0},{"$f":"G37*BT37","v":{"v":0,"d":"0.00"}},{"$f":"IF($B37=1,$BU37,0)","v":{"v":0,"d":"0.00"}},{"$f":"IF($B37=2,$BU37,0)","v":{"v":0,"d":"0.00"}},{"$f":"IF($B37=3,$BU37,0)","v":{"v":0,"d":"0.00"}},{"$f":"IF($B37=4,$BU37,0)","v":{"v":0,"d":"0.00"}},{"$f":"IF($B37=5,$BU37,0)","v":{"v":0,"d":"0.00"}},{"$f":"IF($B37=6,$BU37,0)","v":{"v":0,"d":"0.00"}},{"$f":"IF(CB36>0,IF(H37+P37+X37+AF37+AN37+AV37+BD37+BL37+BT37+CJ37=0,IF(E37>0,CB36,0),0),0)","v":0},{"$f":"G37*CB37","v":{"v":0,"d":"0.00"}},{"$f":"IF($B37=1,$CC37,0)","v":{"v":0,"d":"0.00"}},{"$f":"IF($B37=2,$CC37,0)","v":{"v":0,"d":"0.00"}},{"$f":"IF($B37=3,$CC37,0)","v":{"v":0,"d":"0.00"}},{"$f":"IF($B37=4,$CC37,0)","v":{"v":0,"d":"0.00"}},{"$f":"IF($B37=5,$CC37,0)","v":{"v":0,"d":"0.00"}},{"$f":"IF($B37=6,$CC37,0)","v":{"v":0,"d":"0.00"}},{"$f":"IF(CJ36>0,IF(H37+P37+X37+AF37+AN37+AV37+BD37+BL37+BT37+CB37=0,IF(E37>0,CJ36,0),0),0)","v":0},{"$f":"G37*CJ37","v":{"v":0,"d":"0.00"}},{"$f":"IF($B37=1,$CK37,0)","v":{"v":0,"d":"0.00"}},{"$f":"IF($B37=2,$CK37,0)","v":{"v":0,"d":"0.00"}},{"$f":"IF($B37=3,$CK37,0)","v":{"v":0,"d":"0.00"}},{"$f":"IF($B37=4,$CK37,0)","v":{"v":0,"d":"0.00"}},{"$f":"IF($B37=5,$CK37,0)","v":{"v":0,"d":"0.00"}},{"$f":"IF($B37=6,$CK37,0)","v":{"v":0,"d":"0.00"}}]
[{"$f":"IF(C37<>C38,C38,\"\")","v":""},{"$f":"IF(C37<>C38,_xlfn.DAYS(C38,C37)+B37,B37)","v":1},{"$f":"IF(D38>0,IF(D38<E37,C37+1,C37),C37)","v":"2009-02-23"},{"$f":"IF((E38+H38+P38+X38+AF38+AN38+AV38+BD38+BL38+BT38+CB38+CJ38)>0,E37,0)","v":"00:00:00"},null,{"$f":"E38-D38","v":"00:00:00"},{"$f":"IF(E38>0,HOUR(F38)+(MINUTE(F38)/60),0)","v":0},{"$f":"IF(H37>0,IF(P38+X38+AF38+AN38+AV38+BD38+BL38+BT38+CB38+CJ38=0,IF(E38>0,H37,0),0),0)","v":0},{"$f":"G38*H38","v":{"v":0,"d":"0.00"}},{"$f":"IF($B38=1,$I38,0)","v":{"v":0,"d":"0.00"}},{"$f":"IF($B38=2,$I38,0)","v":{"v":0,"d":"0.00"}},{"$f":"IF($B38=3,$I38,0)","v":{"v":0,"d":"0.00"}},{"$f":"IF($B38=4,$I38,0)","v":{"v":0,"d":"0.00"}},{"$f":"IF($B38=5,$I38,0)","v":{"v":0,"d":"0.00"}},{"$f":"IF($B38=6,$I38,0)","v":{"v":0,"d":"0.00"}},{"$f":"IF(P37>0,IF(H38+X38+AF38+AN38+AV38+BD38+BL38+BT38+CB38+CJ38=0,IF(E38>0,P37,0),0),0)","v":0},{"$f":"G38*P38","v":{"v":0,"d":"0.00"}},{"$f":"IF(B38=1,Q38,0)","v":{"v":0,"d":"0.00"}},{"$f":"IF(B38=2,Q38,0)","v":{"v":0,"d":"0.00"}},{"$f":"IF(B38=3,Q38,0)","v":{"v":0,"d":"0.00"}},{"$f":"IF(B38=4,Q38,0)","v":{"v":0,"d":"0.00"}},{"$f":"IF(B38=5,Q38,0)","v":{"v":0,"d":"0.00"}},{"$f":"IF(B38=6,Q38,0)","v":{"v":0,"d":"0.00"}},{"$f":"IF(X37>0,IF(H38+P38+AF38+AN38+AV38+BD38+BL38+BT38+CB38+CJ38=0,IF(E38>0,X37,0),0),0)","v":0},{"$f":"G38*X38","v":{"v":0,"d":"0.00"}},{"$f":"IF($B38=1,$Y38,0)","v":{"v":0,"d":"0.00"}},{"$f":"IF($B38=2,$Y38,0)","v":{"v":0,"d":"0.00"}},{"$f":"IF($B38=3,$Y38,0)","v":{"v":0,"d":"0.00"}},{"$f":"IF($B38=4,$Y38,0)","v":{"v":0,"d":"0.00"}},{"$f":"IF($B38=5,$Y38,0)","v":{"v":0,"d":"0.00"}},{"$f":"IF($B38=6,$Y38,0)","v":{"v":0,"d":"0.00"}},{"$f":"IF(AF37>0,IF(H38+P38+X38+AN38+AV38+BD38+BL38+BT38+CB38+CJ38=0,IF(E38>0,AF37,0),0),0)","v":0},{"$f":"G38*AF38","v":{"v":0,"d":"0.00"}},{"$f":"IF($B38=1,$AG38,0)","v":{"v":0,"d":"0.00"}},{"$f":"IF($B38=2,$AG38,0)","v":{"v":0,"d":"0.00"}},{"$f":"IF($B38=3,$AG38,0)","v":{"v":0,"d":"0.00"}},{"$f":"IF($B38=4,$AG38,0)","v":{"v":0,"d":"0.00"}},{"$f":"IF($B38=5,$AG38,0)","v":{"v":0,"d":"0.00"}},{"$f":"IF($B38=6,$AG38,0)","v":{"v":0,"d":"0.00"}},{"$f":"IF(AN37>0,IF(H38+P38+X38+AF38+AV38+BD38+BL38+BT38+CB38+CJ38=0,IF(E38>0,AN37,0),0),0)","v":0},{"$f":"G38*AN38","v":{"v":0,"d":"0.00"}},{"$f":"IF($B38=1,$AO38,0)","v":{"v":0,"d":"0.00"}},{"$f":"IF($B38=2,$AO38,0)","v":{"v":0,"d":"0.00"}},{"$f":"IF($B38=3,$AO38,0)","v":{"v":0,"d":"0.00"}},{"$f":"IF($B38=4,$AO38,0)","v":{"v":0,"d":"0.00"}},{"$f":"IF($B38=5,$AO38,0)","v":{"v":0,"d":"0.00"}},{"$f":"IF($B38=6,$AO38,0)","v":{"v":0,"d":"0.00"}},{"$f":"IF(AV37>0,IF(H38+P38+X38+AF38+AN38+BD38+BL38+BT38+CB38+CJ38=0,IF(E38>0,AV37,0),0),0)","v":0},{"$f":"G38*AV38","v":{"v":0,"d":"0.00"}},{"$f":"IF($B38=1,$AW38,0)","v":{"v":0,"d":"0.00"}},{"$f":"IF($B38=2,$AW38,0)","v":{"v":0,"d":"0.00"}},{"$f":"IF($B38=3,$AW38,0)","v":{"v":0,"d":"0.00"}},{"$f":"IF($B38=4,$AW38,0)","v":{"v":0,"d":"0.00"}},{"$f":"IF($B38=5,$AW38,0)","v":{"v":0,"d":"0.00"}},{"$f":"IF($B38=6,$AW38,0)","v":{"v":0,"d":"0.00"}},{"$f":"IF(BD37>0,IF(H38+P38+X38+AF38+AN38+AV38+BL38+BT38+CB38+CJ38=0,IF(E38>0,BD37,0),0),0)","v":0},{"$f":"G38*BD38","v":{"v":0,"d":"0.00"}},{"$f":"IF($B38=1,$BE38,0)","v":{"v":0,"d":"0.00"}},{"$f":"IF($B38=2,$BE38,0)","v":{"v":0,"d":"0.00"}},{"$f":"IF($B38=3,$BE38,0)","v":{"v":0,"d":"0.00"}},{"$f":"IF($B38=4,$BE38,0)","v":{"v":0,"d":"0.00"}},{"$f":"IF($B38=5,$BE38,0)","v":{"v":0,"d":"0.00"}},{"$f":"IF($B38=6,$BE38,0)","v":{"v":0,"d":"0.00"}},{"$f":"IF(BL37>0,IF(H38+P38+X38+AF38+AN38+AV38+BD38+BT38+CB38+CJ38=0,IF(E38>0,BL37,0),0),0)","v":0},{"$f":"G38*BL38","v":{"v":0,"d":"0.00"}},{"$f":"IF($B38=1,$BM38,0)","v":{"v":0,"d":"0.00"}},{"$f":"IF($B38=2,$BM38,0)","v":{"v":0,"d":"0.00"}},{"$f":"IF($B38=3,$BM38,0)","v":{"v":0,"d":"0.00"}},{"$f":"IF($B38=4,$BM38,0)","v":{"v":0,"d":"0.00"}},{"$f":"IF($B38=5,$BM38,0)","v":{"v":0,"d":"0.00"}},{"$f":"IF($B38=6,$BM38,0)","v":{"v":0,"d":"0.00"}},{"$f":"IF(BT37>0,IF(H38+P38+X38+AF38+AN38+AV38+BD38+BL38+CB38+CJ38=0,IF(E38>0,BT37,0),0),0)","v":0},{"$f":"G38*BT38","v":{"v":0,"d":"0.00"}},{"$f":"IF($B38=1,$BU38,0)","v":{"v":0,"d":"0.00"}},{"$f":"IF($B38=2,$BU38,0)","v":{"v":0,"d":"0.00"}},{"$f":"IF($B38=3,$BU38,0)","v":{"v":0,"d":"0.00"}},{"$f":"IF($B38=4,$BU38,0)","v":{"v":0,"d":"0.00"}},{"$f":"IF($B38=5,$BU38,0)","v":{"v":0,"d":"0.00"}},{"$f":"IF($B38=6,$BU38,0)","v":{"v":0,"d":"0.00"}},{"$f":"IF(CB37>0,IF(H38+P38+X38+AF38+AN38+AV38+BD38+BL38+BT38+CJ38=0,IF(E38>0,CB37,0),0),0)","v":0},{"$f":"G38*CB38","v":{"v":0,"d":"0.00"}},{"$f":"IF($B38=1,$CC38,0)","v":{"v":0,"d":"0.00"}},{"$f":"IF($B38=2,$CC38,0)","v":{"v":0,"d":"0.00"}},{"$f":"IF($B38=3,$CC38,0)","v":{"v":0,"d":"0.00"}},{"$f":"IF($B38=4,$CC38,0)","v":{"v":0,"d":"0.00"}},{"$f":"IF($B38=5,$CC38,0)","v":{"v":0,"d":"0.00"}},{"$f":"IF($B38=6,$CC38,0)","v":{"v":0,"d":"0.00"}},{"$f":"IF(CJ37>0,IF(H38+P38+X38+AF38+AN38+AV38+BD38+BL38+BT38+CB38=0,IF(E38>0,CJ37,0),0),0)","v":0},{"$f":"G38*CJ38","v":{"v":0,"d":"0.00"}},{"$f":"IF($B38=1,$CK38,0)","v":{"v":0,"d":"0.00"}},{"$f":"IF($B38=2,$CK38,0)","v":{"v":0,"d":"0.00"}},{"$f":"IF($B38=3,$CK38,0)","v":{"v":0,"d":"0.00"}},{"$f":"IF($B38=4,$CK38,0)","v":{"v":0,"d":"0.00"}},{"$f":"IF($B38=5,$CK38,0)","v":{"v":0,"d":"0.00"}},{"$f":"IF($B38=6,$CK38,0)","v":{"v":0,"d":"0.00"}}]
[{"$f":"IF(C38<>C39,C39,\"\")","v":""},{"$f":"IF(C38<>C39,_xlfn.DAYS(C39,C38)+B38,B38)","v":1},{"$f":"IF(D39>0,IF(D39<E38,C38+1,C38),C38)","v":"2009-02-23"},{"$f":"IF((E39+H39+P39+X39+AF39+AN39+AV39+BD39+BL39+BT39+CB39+CJ39)>0,E38,0)","v":"00:00:00"},null,{"$f":"E39-D39","v":"00:00:00"},{"$f":"IF(E39>0,HOUR(F39)+(MINUTE(F39)/60),0)","v":0},{"$f":"IF(H38>0,IF(P39+X39+AF39+AN39+AV39+BD39+BL39+BT39+CB39+CJ39=0,IF(E39>0,H38,0),0),0)","v":0},{"$f":"G39*H39","v":{"v":0,"d":"0.00"}},{"$f":"IF($B39=1,$I39,0)","v":{"v":0,"d":"0.00"}},{"$f":"IF($B39=2,$I39,0)","v":{"v":0,"d":"0.00"}},{"$f":"IF($B39=3,$I39,0)","v":{"v":0,"d":"0.00"}},{"$f":"IF($B39=4,$I39,0)","v":{"v":0,"d":"0.00"}},{"$f":"IF($B39=5,$I39,0)","v":{"v":0,"d":"0.00"}},{"$f":"IF($B39=6,$I39,0)","v":{"v":0,"d":"0.00"}},{"$f":"IF(P38>0,IF(H39+X39+AF39+AN39+AV39+BD39+BL39+BT39+CB39+CJ39=0,IF(E39>0,P38,0),0),0)","v":0},{"$f":"G39*P39","v":{"v":0,"d":"0.00"}},{"$f":"IF(B39=1,Q39,0)","v":{"v":0,"d":"0.00"}},{"$f":"IF(B39=2,Q39,0)","v":{"v":0,"d":"0.00"}},{"$f":"IF(B39=3,Q39,0)","v":{"v":0,"d":"0.00"}},{"$f":"IF(B39=4,Q39,0)","v":{"v":0,"d":"0.00"}},{"$f":"IF(B39=5,Q39,0)","v":{"v":0,"d":"0.00"}},{"$f":"IF(B39=6,Q39,0)","v":{"v":0,"d":"0.00"}},{"$f":"IF(X38>0,IF(H39+P39+AF39+AN39+AV39+BD39+BL39+BT39+CB39+CJ39=0,IF(E39>0,X38,0),0),0)","v":0},{"$f":"G39*X39","v":{"v":0,"d":"0.00"}},{"$f":"IF($B39=1,$Y39,0)","v":{"v":0,"d":"0.00"}},{"$f":"IF($B39=2,$Y39,0)","v":{"v":0,"d":"0.00"}},{"$f":"IF($B39=3,$Y39,0)","v":{"v":0,"d":"0.00"}},{"$f":"IF($B39=4,$Y39,0)","v":{"v":0,"d":"0.00"}},{"$f":"IF($B39=5,$Y39,0)","v":{"v":0,"d":"0.00"}},{"$f":"IF($B39=6,$Y39,0)","v":{"v":0,"d":"0.00"}},{"$f":"IF(AF38>0,IF(H39+P39+X39+AN39+AV39+BD39+BL39+BT39+CB39+CJ39=0,IF(E39>0,AF38,0),0),0)","v":0},{"$f":"G39*AF39","v":{"v":0,"d":"0.00"}},{"$f":"IF($B39=1,$AG39,0)","v":{"v":0,"d":"0.00"}},{"$f":"IF($B39=2,$AG39,0)","v":{"v":0,"d":"0.00"}},{"$f":"IF($B39=3,$AG39,0)","v":{"v":0,"d":"0.00"}},{"$f":"IF($B39=4,$AG39,0)","v":{"v":0,"d":"0.00"}},{"$f":"IF($B39=5,$AG39,0)","v":{"v":0,"d":"0.00"}},{"$f":"IF($B39=6,$AG39,0)","v":{"v":0,"d":"0.00"}},{"$f":"IF(AN38>0,IF(H39+P39+X39+AF39+AV39+BD39+BL39+BT39+CB39+CJ39=0,IF(E39>0,AN38,0),0),0)","v":0},{"$f":"G39*AN39","v":{"v":0,"d":"0.00"}},{"$f":"IF($B39=1,$AO39,0)","v":{"v":0,"d":"0.00"}},{"$f":"IF($B39=2,$AO39,0)","v":{"v":0,"d":"0.00"}},{"$f":"IF($B39=3,$AO39,0)","v":{"v":0,"d":"0.00"}},{"$f":"IF($B39=4,$AO39,0)","v":{"v":0,"d":"0.00"}},{"$f":"IF($B39=5,$AO39,0)","v":{"v":0,"d":"0.00"}},{"$f":"IF($B39=6,$AO39,0)","v":{"v":0,"d":"0.00"}},{"$f":"IF(AV38>0,IF(H39+P39+X39+AF39+AN39+BD39+BL39+BT39+CB39+CJ39=0,IF(E39>0,AV38,0),0),0)","v":0},{"$f":"G39*AV39","v":{"v":0,"d":"0.00"}},{"$f":"IF($B39=1,$AW39,0)","v":{"v":0,"d":"0.00"}},{"$f":"IF($B39=2,$AW39,0)","v":{"v":0,"d":"0.00"}},{"$f":"IF($B39=3,$AW39,0)","v":{"v":0,"d":"0.00"}},{"$f":"IF($B39=4,$AW39,0)","v":{"v":0,"d":"0.00"}},{"$f":"IF($B39=5,$AW39,0)","v":{"v":0,"d":"0.00"}},{"$f":"IF($B39=6,$AW39,0)","v":{"v":0,"d":"0.00"}},{"$f":"IF(BD38>0,IF(H39+P39+X39+AF39+AN39+AV39+BL39+BT39+CB39+CJ39=0,IF(E39>0,BD38,0),0),0)","v":0},{"$f":"G39*BD39","v":{"v":0,"d":"0.00"}},{"$f":"IF($B39=1,$BE39,0)","v":{"v":0,"d":"0.00"}},{"$f":"IF($B39=2,$BE39,0)","v":{"v":0,"d":"0.00"}},{"$f":"IF($B39=3,$BE39,0)","v":{"v":0,"d":"0.00"}},{"$f":"IF($B39=4,$BE39,0)","v":{"v":0,"d":"0.00"}},{"$f":"IF($B39=5,$BE39,0)","v":{"v":0,"d":"0.00"}},{"$f":"IF($B39=6,$BE39,0)","v":{"v":0,"d":"0.00"}},{"$f":"IF(BL38>0,IF(H39+P39+X39+AF39+AN39+AV39+BD39+BT39+CB39+CJ39=0,IF(E39>0,BL38,0),0),0)","v":0},{"$f":"G39*BL39","v":{"v":0,"d":"0.00"}},{"$f":"IF($B39=1,$BM39,0)","v":{"v":0,"d":"0.00"}},{"$f":"IF($B39=2,$BM39,0)","v":{"v":0,"d":"0.00"}},{"$f":"IF($B39=3,$BM39,0)","v":{"v":0,"d":"0.00"}},{"$f":"IF($B39=4,$BM39,0)","v":{"v":0,"d":"0.00"}},{"$f":"IF($B39=5,$BM39,0)","v":{"v":0,"d":"0.00"}},{"$f":"IF($B39=6,$BM39,0)","v":{"v":0,"d":"0.00"}},{"$f":"IF(BT38>0,IF(H39+P39+X39+AF39+AN39+AV39+BD39+BL39+CB39+CJ39=0,IF(E39>0,BT38,0),0),0)","v":0},{"$f":"G39*BT39","v":{"v":0,"d":"0.00"}},{"$f":"IF($B39=1,$BU39,0)","v":{"v":0,"d":"0.00"}},{"$f":"IF($B39=2,$BU39,0)","v":{"v":0,"d":"0.00"}},{"$f":"IF($B39=3,$BU39,0)","v":{"v":0,"d":"0.00"}},{"$f":"IF($B39=4,$BU39,0)","v":{"v":0,"d":"0.00"}},{"$f":"IF($B39=5,$BU39,0)","v":{"v":0,"d":"0.00"}},{"$f":"IF($B39=6,$BU39,0)","v":{"v":0,"d":"0.00"}},{"$f":"IF(CB38>0,IF(H39+P39+X39+AF39+AN39+AV39+BD39+BL39+BT39+CJ39=0,IF(E39>0,CB38,0),0),0)","v":0},{"$f":"G39*CB39","v":{"v":0,"d":"0.00"}},{"$f":"IF($B39=1,$CC39,0)","v":{"v":0,"d":"0.00"}},{"$f":"IF($B39=2,$CC39,0)","v":{"v":0,"d":"0.00"}},{"$f":"IF($B39=3,$CC39,0)","v":{"v":0,"d":"0.00"}},{"$f":"IF($B39=4,$CC39,0)","v":{"v":0,"d":"0.00"}},{"$f":"IF($B39=5,$CC39,0)","v":{"v":0,"d":"0.00"}},{"$f":"IF($B39=6,$CC39,0)","v":{"v":0,"d":"0.00"}},{"$f":"IF(CJ38>0,IF(H39+P39+X39+AF39+AN39+AV39+BD39+BL39+BT39+CB39=0,IF(E39>0,CJ38,0),0),0)","v":0},{"$f":"G39*CJ39","v":{"v":0,"d":"0.00"}},{"$f":"IF($B39=1,$CK39,0)","v":{"v":0,"d":"0.00"}},{"$f":"IF($B39=2,$CK39,0)","v":{"v":0,"d":"0.00"}},{"$f":"IF($B39=3,$CK39,0)","v":{"v":0,"d":"0.00"}},{"$f":"IF($B39=4,$CK39,0)","v":{"v":0,"d":"0.00"}},{"$f":"IF($B39=5,$CK39,0)","v":{"v":0,"d":"0.00"}},{"$f":"IF($B39=6,$CK39,0)","v":{"v":0,"d":"0.00"}}]
[{"$f":"IF(C39<>C40,C40,\"\")","v":""},{"$f":"IF(C39<>C40,_xlfn.DAYS(C40,C39)+B39,B39)","v":1},{"$f":"IF(D40>0,IF(D40<E39,C39+1,C39),C39)","v":"2009-02-23"},{"$f":"IF((E40+H40+P40+X40+AF40+AN40+AV40+BD40+BL40+BT40+CB40+CJ40)>0,E39,0)","v":"00:00:00"},null,{"$f":"E40-D40","v":"00:00:00"},{"$f":"IF(E40>0,HOUR(F40)+(MINUTE(F40)/60),0)","v":0},{"$f":"IF(H39>0,IF(P40+X40+AF40+AN40+AV40+BD40+BL40+BT40+CB40+CJ40=0,IF(E40>0,H39,0),0),0)","v":0},{"$f":"G40*H40","v":{"v":0,"d":"0.00"}},{"$f":"IF($B40=1,$I40,0)","v":{"v":0,"d":"0.00"}},{"$f":"IF($B40=2,$I40,0)","v":{"v":0,"d":"0.00"}},{"$f":"IF($B40=3,$I40,0)","v":{"v":0,"d":"0.00"}},{"$f":"IF($B40=4,$I40,0)","v":{"v":0,"d":"0.00"}},{"$f":"IF($B40=5,$I40,0)","v":{"v":0,"d":"0.00"}},{"$f":"IF($B40=6,$I40,0)","v":{"v":0,"d":"0.00"}},{"$f":"IF(P39>0,IF(H40+X40+AF40+AN40+AV40+BD40+BL40+BT40+CB40+CJ40=0,IF(E40>0,P39,0),0),0)","v":0},{"$f":"G40*P40","v":{"v":0,"d":"0.00"}},{"$f":"IF(B40=1,Q40,0)","v":{"v":0,"d":"0.00"}},{"$f":"IF(B40=2,Q40,0)","v":{"v":0,"d":"0.00"}},{"$f":"IF(B40=3,Q40,0)","v":{"v":0,"d":"0.00"}},{"$f":"IF(B40=4,Q40,0)","v":{"v":0,"d":"0.00"}},{"$f":"IF(B40=5,Q40,0)","v":{"v":0,"d":"0.00"}},{"$f":"IF(B40=6,Q40,0)","v":{"v":0,"d":"0.00"}},{"$f":"IF(X39>0,IF(H40+P40+AF40+AN40+AV40+BD40+BL40+BT40+CB40+CJ40=0,IF(E40>0,X39,0),0),0)","v":0},{"$f":"G40*X40","v":{"v":0,"d":"0.00"}},{"$f":"IF($B40=1,$Y40,0)","v":{"v":0,"d":"0.00"}},{"$f":"IF($B40=2,$Y40,0)","v":{"v":0,"d":"0.00"}},{"$f":"IF($B40=3,$Y40,0)","v":{"v":0,"d":"0.00"}},{"$f":"IF($B40=4,$Y40,0)","v":{"v":0,"d":"0.00"}},{"$f":"IF($B40=5,$Y40,0)","v":{"v":0,"d":"0.00"}},{"$f":"IF($B40=6,$Y40,0)","v":{"v":0,"d":"0.00"}},{"$f":"IF(AF39>0,IF(H40+P40+X40+AN40+AV40+BD40+BL40+BT40+CB40+CJ40=0,IF(E40>0,AF39,0),0),0)","v":0},{"$f":"G40*AF40","v":{"v":0,"d":"0.00"}},{"$f":"IF($B40=1,$AG40,0)","v":{"v":0,"d":"0.00"}},{"$f":"IF($B40=2,$AG40,0)","v":{"v":0,"d":"0.00"}},{"$f":"IF($B40=3,$AG40,0)","v":{"v":0,"d":"0.00"}},{"$f":"IF($B40=4,$AG40,0)","v":{"v":0,"d":"0.00"}},{"$f":"IF($B40=5,$AG40,0)","v":{"v":0,"d":"0.00"}},{"$f":"IF($B40=6,$AG40,0)","v":{"v":0,"d":"0.00"}},{"$f":"IF(AN39>0,IF(H40+P40+X40+AF40+AV40+BD40+BL40+BT40+CB40+CJ40=0,IF(E40>0,AN39,0),0),0)","v":0},{"$f":"G40*AN40","v":{"v":0,"d":"0.00"}},{"$f":"IF($B40=1,$AO40,0)","v":{"v":0,"d":"0.00"}},{"$f":"IF($B40=2,$AO40,0)","v":{"v":0,"d":"0.00"}},{"$f":"IF($B40=3,$AO40,0)","v":{"v":0,"d":"0.00"}},{"$f":"IF($B40=4,$AO40,0)","v":{"v":0,"d":"0.00"}},{"$f":"IF($B40=5,$AO40,0)","v":{"v":0,"d":"0.00"}},{"$f":"IF($B40=6,$AO40,0)","v":{"v":0,"d":"0.00"}},{"$f":"IF(AV39>0,IF(H40+P40+X40+AF40+AN40+BD40+BL40+BT40+CB40+CJ40=0,IF(E40>0,AV39,0),0),0)","v":0},{"$f":"G40*AV40","v":{"v":0,"d":"0.00"}},{"$f":"IF($B40=1,$AW40,0)","v":{"v":0,"d":"0.00"}},{"$f":"IF($B40=2,$AW40,0)","v":{"v":0,"d":"0.00"}},{"$f":"IF($B40=3,$AW40,0)","v":{"v":0,"d":"0.00"}},{"$f":"IF($B40=4,$AW40,0)","v":{"v":0,"d":"0.00"}},{"$f":"IF($B40=5,$AW40,0)","v":{"v":0,"d":"0.00"}},{"$f":"IF($B40=6,$AW40,0)","v":{"v":0,"d":"0.00"}},{"$f":"IF(BD39>0,IF(H40+P40+X40+AF40+AN40+AV40+BL40+BT40+CB40+CJ40=0,IF(E40>0,BD39,0),0),0)","v":0},{"$f":"G40*BD40","v":{"v":0,"d":"0.00"}},{"$f":"IF($B40=1,$BE40,0)","v":{"v":0,"d":"0.00"}},{"$f":"IF($B40=2,$BE40,0)","v":{"v":0,"d":"0.00"}},{"$f":"IF($B40=3,$BE40,0)","v":{"v":0,"d":"0.00"}},{"$f":"IF($B40=4,$BE40,0)","v":{"v":0,"d":"0.00"}},{"$f":"IF($B40=5,$BE40,0)","v":{"v":0,"d":"0.00"}},{"$f":"IF($B40=6,$BE40,0)","v":{"v":0,"d":"0.00"}},{"$f":"IF(BL39>0,IF(H40+P40+X40+AF40+AN40+AV40+BD40+BT40+CB40+CJ40=0,IF(E40>0,BL39,0),0),0)","v":0},{"$f":"G40*BL40","v":{"v":0,"d":"0.00"}},{"$f":"IF($B40=1,$BM40,0)","v":{"v":0,"d":"0.00"}},{"$f":"IF($B40=2,$BM40,0)","v":{"v":0,"d":"0.00"}},{"$f":"IF($B40=3,$BM40,0)","v":{"v":0,"d":"0.00"}},{"$f":"IF($B40=4,$BM40,0)","v":{"v":0,"d":"0.00"}},{"$f":"IF($B40=5,$BM40,0)","v":{"v":0,"d":"0.00"}},{"$f":"IF($B40=6,$BM40,0)","v":{"v":0,"d":"0.00"}},{"$f":"IF(BT39>0,IF(H40+P40+X40+AF40+AN40+AV40+BD40+BL40+CB40+CJ40=0,IF(E40>0,BT39,0),0),0)","v":0},{"$f":"G40*BT40","v":{"v":0,"d":"0.00"}},{"$f":"IF($B40=1,$BU40,0)","v":{"v":0,"d":"0.00"}},{"$f":"IF($B40=2,$BU40,0)","v":{"v":0,"d":"0.00"}},{"$f":"IF($B40=3,$BU40,0)","v":{"v":0,"d":"0.00"}},{"$f":"IF($B40=4,$BU40,0)","v":{"v":0,"d":"0.00"}},{"$f":"IF($B40=5,$BU40,0)","v":{"v":0,"d":"0.00"}},{"$f":"IF($B40=6,$BU40,0)","v":{"v":0,"d":"0.00"}},{"$f":"IF(CB39>0,IF(H40+P40+X40+AF40+AN40+AV40+BD40+BL40+BT40+CJ40=0,IF(E40>0,CB39,0),0),0)","v":0},{"$f":"G40*CB40","v":{"v":0,"d":"0.00"}},{"$f":"IF($B40=1,$CC40,0)","v":{"v":0,"d":"0.00"}},{"$f":"IF($B40=2,$CC40,0)","v":{"v":0,"d":"0.00"}},{"$f":"IF($B40=3,$CC40,0)","v":{"v":0,"d":"0.00"}},{"$f":"IF($B40=4,$CC40,0)","v":{"v":0,"d":"0.00"}},{"$f":"IF($B40=5,$CC40,0)","v":{"v":0,"d":"0.00"}},{"$f":"IF($B40=6,$CC40,0)","v":{"v":0,"d":"0.00"}},{"$f":"IF(CJ39>0,IF(H40+P40+X40+AF40+AN40+AV40+BD40+BL40+BT40+CB40=0,IF(E40>0,CJ39,0),0),0)","v":0},{"$f":"G40*CJ40","v":{"v":0,"d":"0.00"}},{"$f":"IF($B40=1,$CK40,0)","v":{"v":0,"d":"0.00"}},{"$f":"IF($B40=2,$CK40,0)","v":{"v":0,"d":"0.00"}},{"$f":"IF($B40=3,$CK40,0)","v":{"v":0,"d":"0.00"}},{"$f":"IF($B40=4,$CK40,0)","v":{"v":0,"d":"0.00"}},{"$f":"IF($B40=5,$CK40,0)","v":{"v":0,"d":"0.00"}},{"$f":"IF($B40=6,$CK40,0)","v":{"v":0,"d":"0.00"}}]
[{"$f":"IF(C40<>C41,C41,\"\")","v":""},{"$f":"IF(C40<>C41,_xlfn.DAYS(C41,C40)+B40,B40)","v":1},{"$f":"IF(D41>0,IF(D41<E40,C40+1,C40),C40)","v":"2009-02-23"},{"$f":"IF((E41+H41+P41+X41+AF41+AN41+AV41+BD41+BL41+BT41+CB41+CJ41)>0,E40,0)","v":"00:00:00"},null,{"$f":"E41-D41","v":"00:00:00"},{"$f":"IF(E41>0,HOUR(F41)+(MINUTE(F41)/60),0)","v":0},{"$f":"IF(H40>0,IF(P41+X41+AF41+AN41+AV41+BD41+BL41+BT41+CB41+CJ41=0,IF(E41>0,H40,0),0),0)","v":0},{"$f":"G41*H41","v":{"v":0,"d":"0.00"}},{"$f":"IF($B41=1,$I41,0)","v":{"v":0,"d":"0.00"}},{"$f":"IF($B41=2,$I41,0)","v":{"v":0,"d":"0.00"}},{"$f":"IF($B41=3,$I41,0)","v":{"v":0,"d":"0.00"}},{"$f":"IF($B41=4,$I41,0)","v":{"v":0,"d":"0.00"}},{"$f":"IF($B41=5,$I41,0)","v":{"v":0,"d":"0.00"}},{"$f":"IF($B41=6,$I41,0)","v":{"v":0,"d":"0.00"}},{"$f":"IF(P40>0,IF(H41+X41+AF41+AN41+AV41+BD41+BL41+BT41+CB41+CJ41=0,IF(E41>0,P40,0),0),0)","v":0},{"$f":"G41*P41","v":{"v":0,"d":"0.00"}},{"$f":"IF(B41=1,Q41,0)","v":{"v":0,"d":"0.00"}},{"$f":"IF(B41=2,Q41,0)","v":{"v":0,"d":"0.00"}},{"$f":"IF(B41=3,Q41,0)","v":{"v":0,"d":"0.00"}},{"$f":"IF(B41=4,Q41,0)","v":{"v":0,"d":"0.00"}},{"$f":"IF(B41=5,Q41,0)","v":{"v":0,"d":"0.00"}},{"$f":"IF(B41=6,Q41,0)","v":{"v":0,"d":"0.00"}},{"$f":"IF(X40>0,IF(H41+P41+AF41+AN41+AV41+BD41+BL41+BT41+CB41+CJ41=0,IF(E41>0,X40,0),0),0)","v":0},{"$f":"G41*X41","v":{"v":0,"d":"0.00"}},{"$f":"IF($B41=1,$Y41,0)","v":{"v":0,"d":"0.00"}},{"$f":"IF($B41=2,$Y41,0)","v":{"v":0,"d":"0.00"}},{"$f":"IF($B41=3,$Y41,0)","v":{"v":0,"d":"0.00"}},{"$f":"IF($B41=4,$Y41,0)","v":{"v":0,"d":"0.00"}},{"$f":"IF($B41=5,$Y41,0)","v":{"v":0,"d":"0.00"}},{"$f":"IF($B41=6,$Y41,0)","v":{"v":0,"d":"0.00"}},{"$f":"IF(AF40>0,IF(H41+P41+X41+AN41+AV41+BD41+BL41+BT41+CB41+CJ41=0,IF(E41>0,AF40,0),0),0)","v":0},{"$f":"G41*AF41","v":{"v":0,"d":"0.00"}},{"$f":"IF($B41=1,$AG41,0)","v":{"v":0,"d":"0.00"}},{"$f":"IF($B41=2,$AG41,0)","v":{"v":0,"d":"0.00"}},{"$f":"IF($B41=3,$AG41,0)","v":{"v":0,"d":"0.00"}},{"$f":"IF($B41=4,$AG41,0)","v":{"v":0,"d":"0.00"}},{"$f":"IF($B41=5,$AG41,0)","v":{"v":0,"d":"0.00"}},{"$f":"IF($B41=6,$AG41,0)","v":{"v":0,"d":"0.00"}},{"$f":"IF(AN40>0,IF(H41+P41+X41+AF41+AV41+BD41+BL41+BT41+CB41+CJ41=0,IF(E41>0,AN40,0),0),0)","v":0},{"$f":"G41*AN41","v":{"v":0,"d":"0.00"}},{"$f":"IF($B41=1,$AO41,0)","v":{"v":0,"d":"0.00"}},{"$f":"IF($B41=2,$AO41,0)","v":{"v":0,"d":"0.00"}},{"$f":"IF($B41=3,$AO41,0)","v":{"v":0,"d":"0.00"}},{"$f":"IF($B41=4,$AO41,0)","v":{"v":0,"d":"0.00"}},{"$f":"IF($B41=5,$AO41,0)","v":{"v":0,"d":"0.00"}},{"$f":"IF($B41=6,$AO41,0)","v":{"v":0,"d":"0.00"}},{"$f":"IF(AV40>0,IF(H41+P41+X41+AF41+AN41+BD41+BL41+BT41+CB41+CJ41=0,IF(E41>0,AV40,0),0),0)","v":0},{"$f":"G41*AV41","v":{"v":0,"d":"0.00"}},{"$f":"IF($B41=1,$AW41,0)","v":{"v":0,"d":"0.00"}},{"$f":"IF($B41=2,$AW41,0)","v":{"v":0,"d":"0.00"}},{"$f":"IF($B41=3,$AW41,0)","v":{"v":0,"d":"0.00"}},{"$f":"IF($B41=4,$AW41,0)","v":{"v":0,"d":"0.00"}},{"$f":"IF($B41=5,$AW41,0)","v":{"v":0,"d":"0.00"}},{"$f":"IF($B41=6,$AW41,0)","v":{"v":0,"d":"0.00"}},{"$f":"IF(BD40>0,IF(H41+P41+X41+AF41+AN41+AV41+BL41+BT41+CB41+CJ41=0,IF(E41>0,BD40,0),0),0)","v":0},{"$f":"G41*BD41","v":{"v":0,"d":"0.00"}},{"$f":"IF($B41=1,$BE41,0)","v":{"v":0,"d":"0.00"}},{"$f":"IF($B41=2,$BE41,0)","v":{"v":0,"d":"0.00"}},{"$f":"IF($B41=3,$BE41,0)","v":{"v":0,"d":"0.00"}},{"$f":"IF($B41=4,$BE41,0)","v":{"v":0,"d":"0.00"}},{"$f":"IF($B41=5,$BE41,0)","v":{"v":0,"d":"0.00"}},{"$f":"IF($B41=6,$BE41,0)","v":{"v":0,"d":"0.00"}},{"$f":"IF(BL40>0,IF(H41+P41+X41+AF41+AN41+AV41+BD41+BT41+CB41+CJ41=0,IF(E41>0,BL40,0),0),0)","v":0},{"$f":"G41*BL41","v":{"v":0,"d":"0.00"}},{"$f":"IF($B41=1,$BM41,0)","v":{"v":0,"d":"0.00"}},{"$f":"IF($B41=2,$BM41,0)","v":{"v":0,"d":"0.00"}},{"$f":"IF($B41=3,$BM41,0)","v":{"v":0,"d":"0.00"}},{"$f":"IF($B41=4,$BM41,0)","v":{"v":0,"d":"0.00"}},{"$f":"IF($B41=5,$BM41,0)","v":{"v":0,"d":"0.00"}},{"$f":"IF($B41=6,$BM41,0)","v":{"v":0,"d":"0.00"}},{"$f":"IF(BT40>0,IF(H41+P41+X41+AF41+AN41+AV41+BD41+BL41+CB41+CJ41=0,IF(E41>0,BT40,0),0),0)","v":0},{"$f":"G41*BT41","v":{"v":0,"d":"0.00"}},{"$f":"IF($B41=1,$BU41,0)","v":{"v":0,"d":"0.00"}},{"$f":"IF($B41=2,$BU41,0)","v":{"v":0,"d":"0.00"}},{"$f":"IF($B41=3,$BU41,0)","v":{"v":0,"d":"0.00"}},{"$f":"IF($B41=4,$BU41,0)","v":{"v":0,"d":"0.00"}},{"$f":"IF($B41=5,$BU41,0)","v":{"v":0,"d":"0.00"}},{"$f":"IF($B41=6,$BU41,0)","v":{"v":0,"d":"0.00"}},{"$f":"IF(CB40>0,IF(H41+P41+X41+AF41+AN41+AV41+BD41+BL41+BT41+CJ41=0,IF(E41>0,CB40,0),0),0)","v":0},{"$f":"G41*CB41","v":{"v":0,"d":"0.00"}},{"$f":"IF($B41=1,$CC41,0)","v":{"v":0,"d":"0.00"}},{"$f":"IF($B41=2,$CC41,0)","v":{"v":0,"d":"0.00"}},{"$f":"IF($B41=3,$CC41,0)","v":{"v":0,"d":"0.00"}},{"$f":"IF($B41=4,$CC41,0)","v":{"v":0,"d":"0.00"}},{"$f":"IF($B41=5,$CC41,0)","v":{"v":0,"d":"0.00"}},{"$f":"IF($B41=6,$CC41,0)","v":{"v":0,"d":"0.00"}},{"$f":"IF(CJ40>0,IF(H41+P41+X41+AF41+AN41+AV41+BD41+BL41+BT41+CB41=0,IF(E41>0,CJ40,0),0),0)","v":0},{"$f":"G41*CJ41","v":{"v":0,"d":"0.00"}},{"$f":"IF($B41=1,$CK41,0)","v":{"v":0,"d":"0.00"}},{"$f":"IF($B41=2,$CK41,0)","v":{"v":0,"d":"0.00"}},{"$f":"IF($B41=3,$CK41,0)","v":{"v":0,"d":"0.00"}},{"$f":"IF($B41=4,$CK41,0)","v":{"v":0,"d":"0.00"}},{"$f":"IF($B41=5,$CK41,0)","v":{"v":0,"d":"0.00"}},{"$f":"IF($B41=6,$CK41,0)","v":{"v":0,"d":"0.00"}}]
["Totals",{"$nulls":5},{"$f":"SUM(G5:G41)","v":0},{"$f":"SUM(I5:I41)","v":{"v":0,"d":"0.00"}},null,{"$f":"SUM(J5:J41)","v":{"v":0,"d":"0.00"}},{"$f":"SUM(K5:K41)","v":{"v":0,"d":"0.00"}},{"$f":"SUM(L5:L41)","v":{"v":0,"d":"0.00"}},{"$f":"SUM(M5:M41)","v":{"v":0,"d":"0.00"}},{"$f":"SUM(N5:N41)","v":{"v":0,"d":"0.00"}},{"$f":"SUM(O5:O41)","v":{"v":0,"d":"0.00"}},{"$f":"SUM(Q5:Q41)","v":{"v":0,"d":"0.00"}},null,{"$f":"SUM(R5:R41)","v":{"v":0,"d":"0.00"}},{"$f":"SUM(S5:S41)","v":{"v":0,"d":"0.00"}},{"$f":"SUM(T5:T41)","v":{"v":0,"d":"0.00"}},{"$f":"SUM(U5:U41)","v":{"v":0,"d":"0.00"}},{"$f":"SUM(V5:V41)","v":{"v":0,"d":"0.00"}},{"$f":"SUM(W5:W41)","v":{"v":0,"d":"0.00"}},{"$f":"SUM(Y5:Y41)","v":{"v":0,"d":"0.00"}},null,{"$f":"SUM(Z5:Z41)","v":{"v":0,"d":"0.00"}},{"$f":"SUM(AA5:AA41)","v":{"v":0,"d":"0.00"}},{"$f":"SUM(AB5:AB41)","v":{"v":0,"d":"0.00"}},{"$f":"SUM(AC5:AC41)","v":{"v":0,"d":"0.00"}},{"$f":"SUM(AD5:AD41)","v":{"v":0,"d":"0.00"}},{"$f":"SUM(AE5:AE41)","v":{"v":0,"d":"0.00"}},{"$f":"SUM(AG5:AG41)","v":{"v":0,"d":"0.00"}},null,{"$f":"SUM(AH5:AH41)","v":{"v":0,"d":"0.00"}},{"$f":"SUM(AI5:AI41)","v":{"v":0,"d":"0.00"}},{"$f":"SUM(AJ5:AJ41)","v":{"v":0,"d":"0.00"}},{"$f":"SUM(AK5:AK41)","v":{"v":0,"d":"0.00"}},{"$f":"SUM(AL5:AL41)","v":{"v":0,"d":"0.00"}},{"$f":"SUM(AM5:AM41)","v":{"v":0,"d":"0.00"}},{"$f":"SUM(AO5:AO41)","v":{"v":0,"d":"0.00"}},null,{"$f":"SUM(AP5:AP41)","v":{"v":0,"d":"0.00"}},{"$f":"SUM(AQ5:AQ41)","v":{"v":0,"d":"0.00"}},{"$f":"SUM(AR5:AR41)","v":{"v":0,"d":"0.00"}},{"$f":"SUM(AS5:AS41)","v":{"v":0,"d":"0.00"}},{"$f":"SUM(AT5:AT41)","v":{"v":0,"d":"0.00"}},{"$f":"SUM(AU5:AU41)","v":{"v":0,"d":"0.00"}},{"$f":"SUM(AW5:AW41)","v":{"v":0,"d":"0.00"}},null,{"$f":"SUM(AX5:AX41)","v":{"v":0,"d":"0.00"}},{"$f":"SUM(AY5:AY41)","v":{"v":0,"d":"0.00"}},{"$f":"SUM(AZ5:AZ41)","v":{"v":0,"d":"0.00"}},{"$f":"SUM(BA5:BA41)","v":{"v":0,"d":"0.00"}},{"$f":"SUM(BB5:BB41)","v":{"v":0,"d":"0.00"}},{"$f":"SUM(BC5:BC41)","v":{"v":0,"d":"0.00"}},{"$f":"SUM(BE5:BE41)","v":{"v":0,"d":"0.00"}},null,{"$f":"SUM(BF5:BF41)","v":{"v":0,"d":"0.00"}},{"$f":"SUM(BG5:BG41)","v":{"v":0,"d":"0.00"}},{"$f":"SUM(BH5:BH41)","v":{"v":0,"d":"0.00"}},{"$f":"SUM(BI5:BI41)","v":{"v":0,"d":"0.00"}},{"$f":"SUM(BJ5:BJ41)","v":{"v":0,"d":"0.00"}},{"$f":"SUM(BK5:BK41)","v":{"v":0,"d":"0.00"}},{"$f":"SUM(BM5:BM41)","v":{"v":0,"d":"0.00"}},null,{"$f":"SUM(BN5:BN41)","v":{"v":0,"d":"0.00"}},{"$f":"SUM(BO5:BO41)","v":{"v":0,"d":"0.00"}},{"$f":"SUM(BP5:BP41)","v":{"v":0,"d":"0.00"}},{"$f":"SUM(BQ5:BQ41)","v":{"v":0,"d":"0.00"}},{"$f":"SUM(BR5:BR41)","v":{"v":0,"d":"0.00"}},{"$f":"SUM(BS5:BS41)","v":{"v":0,"d":"0.00"}},{"$f":"SUM(BU5:BU41)","v":{"v":0,"d":"0.00"}},null,{"$f":"SUM(BV5:BV41)","v":{"v":0,"d":"0.00"}},{"$f":"SUM(BW5:BW41)","v":{"v":0,"d":"0.00"}},{"$f":"SUM(BX5:BX41)","v":{"v":0,"d":"0.00"}},{"$f":"SUM(BY5:BY41)","v":{"v":0,"d":"0.00"}},{"$f":"SUM(BZ5:BZ41)","v":{"v":0,"d":"0.00"}},{"$f":"SUM(CA5:CA41)","v":{"v":0,"d":"0.00"}},{"$f":"SUM(CC5:CC41)","v":{"v":0,"d":"0.00"}},null,{"$f":"SUM(CD5:CD41)","v":{"v":0,"d":"0.00"}},{"$f":"SUM(CE5:CE41)","v":{"v":0,"d":"0.00"}},{"$f":"SUM(CF5:CF41)","v":{"v":0,"d":"0.00"}},{"$f":"SUM(CG5:CG41)","v":{"v":0,"d":"0.00"}},{"$f":"SUM(CH5:CH41)","v":{"v":0,"d":"0.00"}},{"$f":"SUM(CI5:CI41)","v":{"v":0,"d":"0.00"}},{"$f":"SUM(CK5:CK41)","v":{"v":0,"d":"0.00"}},null,{"$f":"SUM(CL5:CL41)","v":0},{"$f":"SUM(CM5:CM41)","v":0},{"$f":"SUM(CN5:CN41)","v":0},{"$f":"SUM(CO5:CO41)","v":0},{"$f":"SUM(CP5:CP41)","v":0},{"$f":"SUM(CQ5:CQ41)","v":0}]
[{"$nulls":23},{"$f":"A5","v":"2009-02-23"},{"$nulls":7},{"$f":"X43+1","v":"2009-02-24"},{"$nulls":7},{"$f":"AF43+1","v":"2009-02-25"},{"$nulls":7},{"$f":"AN43+1","v":"2009-02-26"},{"$nulls":7},{"$f":"AV43+1","v":"2009-02-27"}]
[{"$f":"'Week 3'!$A44","v":"T1"},null,null,{"$f":"'Week 3'!$D44","v":"Task 1"},{"$nulls":19},{"$f":"J42","v":0},{"$nulls":7},{"$f":"K42","v":0},{"$nulls":7},{"$f":"L42","v":0},{"$nulls":7},{"$f":"M42","v":0},{"$nulls":7},{"$f":"N42","v":0},{"$nulls":7},{"$f":"O42","v":0},{"$nulls":15},{"$f":"H42","v":0}]
[{"$f":"'Week 3'!$A45","v":2},null,null,{"$f":"'Week 3'!$D45","v":"2"},{"$nulls":19},{"$f":"R42","v":0},{"$nulls":7},{"$f":"S42","v":0},{"$nulls":7},{"$f":"T42","v":0},{"$nulls":7},{"$f":"U42","v":0},{"$nulls":7},{"$f":"V42","v":0},{"$nulls":7},{"$f":"W42","v":0},{"$nulls":15},{"$f":"P42","v":0}]
[{"$f":"'Week 3'!$A46","v":3},null,null,{"$f":"'Week 3'!$D46","v":"3"},{"$nulls":19},{"$f":"Z42","v":0},{"$nulls":7},{"$f":"AA42","v":0},{"$nulls":7},{"$f":"AB42","v":0},{"$nulls":7},{"$f":"AC42","v":0},{"$nulls":7},{"$f":"AD42","v":0},{"$nulls":7},{"$f":"AE42","v":0},{"$nulls":15},{"$f":"X42","v":0}]
[{"$f":"'Week 3'!$A47","v":4},null,null,{"$f":"'Week 3'!$D47","v":"4"},{"$nulls":19},{"$f":"AH42","v":0},{"$nulls":7},{"$f":"AI42","v":0},{"$nulls":7},{"$f":"AJ42","v":0},{"$nulls":7},{"$f":"AK42","v":0},{"$nulls":7},{"$f":"AL42","v":0},{"$nulls":7},{"$f":"AM42","v":0},{"$nulls":15},{"$f":"AF42","v":0}]
[{"$f":"'Week 3'!$A48","v":5},null,null,{"$f":"'Week 3'!$D48","v":"5"},{"$nulls":19},{"$f":"AP42","v":0},{"$nulls":7},{"$f":"AQ42","v":0},{"$nulls":7},{"$f":"AR42","v":0},{"$nulls":7},{"$f":"AS42","v":0},{"$nulls":7},{"$f":"AT42","v":0},{"$nulls":7},{"$f":"AU42","v":0},{"$nulls":15},{"$f":"AN42","v":0}]
[{"$f":"'Week 3'!$A49","v":6},null,null,{"$f":"'Week 3'!$D49","v":"6"},{"$nulls":19},{"$f":"AX42","v":0},{"$nulls":7},{"$f":"AY42","v":0},{"$nulls":7},{"$f":"AZ42","v":0},{"$nulls":7},{"$f":"BA42","v":0},{"$nulls":7},{"$f":"BB42","v":0},{"$nulls":7},{"$f":"BC42","v":0},{"$nulls":15},{"$f":"AV42","v":0}]
[{"$f":"'Week 3'!$A50","v":7},null,null,{"$f":"'Week 3'!$D50","v":7},{"$nulls":19},{"$f":"BF42","v":0},{"$nulls":7},{"$f":"BG42","v":0},{"$nulls":7},{"$f":"BH42","v":0},{"$nulls":7},{"$f":"BI42","v":0},{"$nulls":7},{"$f":"BJ42","v":0},{"$nulls":7},{"$f":"BK42","v":0},{"$nulls":15},{"$f":"BD42","v":0}]
[{"$f":"'Week 3'!$A51","v":8},null,null,{"$f":"'Week 3'!$D51","v":8},{"$nulls":19},{"$f":"BN42","v":0},{"$nulls":7},{"$f":"BO42","v":0},{"$nulls":7},{"$f":"BP42","v":0},{"$nulls":7},{"$f":"BQ42","v":0},{"$nulls":7},{"$f":"BR42","v":0},{"$nulls":7},{"$f":"BS42","v":0},{"$nulls":15},{"$f":"BL42","v":0}]
[{"$f":"'Week 3'!$A52","v":9},null,null,{"$f":"'Week 3'!$D52","v":9},{"$nulls":19},{"$f":"BV42","v":0},{"$nulls":7},{"$f":"BW42","v":0},{"$nulls":7},{"$f":"BX42","v":0},{"$nulls":7},{"$f":"BY42","v":0},{"$nulls":7},{"$f":"BZ42","v":0},{"$nulls":7},{"$f":"CA42","v":0},{"$nulls":15},{"$f":"BT42","v":0}]
[{"$f":"'Week 3'!$A53","v":10},null,null,{"$f":"'Week 3'!$D53","v":10},{"$nulls":19},{"$f":"CD42","v":0},{"$nulls":7},{"$f":"CE42","v":0},{"$nulls":7},{"$f":"CF42","v":0},{"$nulls":7},{"$f":"CG42","v":0},{"$nulls":7},{"$f":"CH42","v":0},{"$nulls":7},{"$f":"CI42","v":0},{"$nulls":15},{"$f":"CB42","v":0}]
[{"$f":"'Week 3'!$A54","v":11},null,null,{"$f":"'Week 3'!$D54","v":11},{"$nulls":19},{"$f":"CL42","v":0},{"$nulls":7},{"$f":"CM42","v":0},{"$nulls":7},{"$f":"CN42","v":0},{"$nulls":7},{"$f":"CO42","v":0},{"$nulls":7},{"$f":"CP42","v":0},{"$nulls":7},{"$f":"CQ42","v":0},{"$nulls":15},{"$f":"CJ42","v":0}]
["Totals",{"$nulls":22},{"$f":"SUM(X44:X54)","v":0},{"$nulls":7},{"$f":"SUM(AF44:AF54)","v":0},{"$nulls":7},{"$f":"SUM(AN44:AN54)","v":0},{"$nulls":7},{"$f":"SUM(AV44:AV54)","v":0},{"$nulls":7},{"$f":"SUM(BD44:BD54)","v":0},{"$nulls":7},{"$f":"SUM(BL44:BL54)","v":0},{"$nulls":15},{"$f":"SUM(CB44:CB54)","v":0}]

{"sheet":"Week 5","index":5,"n_rows":55,"n_cols":95,"rows_kept":55}
[1,2,3,4,5,6,null,{"$f":"CONCATENATE(\"Timesheet for \",'Week 1'!$A$1,\" for period \",TEXT(DAY(A5),\"00\"),\"/\",TEXT(MONTH(A5),\"00\"),\"/\",TEXT(YEAR(A5)-2000,\"00\"),\" to \",TEXT(DAY(A5+6),\"00\"),\"/\",TEXT(MONTH(A5+6),\"00\"),\"/\",TEXT(YEAR(A5+6)-2000,\"00\"))","v":"Timesheet for 'Name in cell A1' for period 02/03/09 to 08/03/09"}]
[]
[{"$nulls":6},"                                           Tasks"]
["Date",null,null,"From","To",null,"Hrs",{"$f":"A44","v":"T1"},{"$nulls":7},{"$f":"A45","v":2},{"$nulls":7},{"$f":"A46","v":3},{"$nulls":7},{"$f":"A47","v":4},{"$nulls":7},{"$f":"A48","v":5},{"$nulls":7},{"$f":"A49","v":6},{"$nulls":7},{"$f":"A50","v":7},{"$nulls":7},{"$f":"A51","v":8},{"$nulls":7},{"$f":"A52","v":9},{"$nulls":7},{"$f":"A53","v":10},{"$nulls":7},{"$f":"A54","v":11}]
[{"$f":"'Week 4'!$A5+7","v":"2009-03-02"},1,{"$f":"A5","v":"2009-03-02"},"10:30:00","10:30:00",{"$f":"E5-D5","v":"00:00:00"},{"$f":"IF(E5>0,HOUR(F5)+(MINUTE(F5)/60),0)","v":0},0,{"$f":"G5*H5","v":{"v":0,"d":"0.00"}},{"$f":"IF($B5=1,$I5,0)","v":{"v":0,"d":"0.00"}},{"$f":"IF($B5=2,$I5,0)","v":{"v":0,"d":"0.00"}},{"$f":"IF($B5=3,$I5,0)","v":{"v":0,"d":"0.00"}},{"$f":"IF($B5=4,$I5,0)","v":{"v":0,"d":"0.00"}},{"$f":"IF($B5=5,$I5,0)","v":{"v":0,"d":"0.00"}},{"$f":"IF($B5=6,$I5,0)","v":{"v":0,"d":"0.00"}},0,{"$f":"G5*P5","v":{"v":0,"d":"0.00"}},{"$f":"IF($B5=1,$Q5,0)","v":{"v":0,"d":"0.00"}},{"$f":"IF($B5=2,$Q5,0)","v":{"v":0,"d":"0.00"}},{"$f":"IF(B5=3,Q5,0)","v":{"v":0,"d":"0.00"}},{"$f":"IF(B5=4,Q5,0)","v":{"v":0,"d":"0.00"}},{"$f":"IF(B5=5,Q5,0)","v":{"v":0,"d":"0.00"}},{"$f":"IF(B5=6,Q5,0)","v":{"v":0,"d":"0.00"}},0,{"$f":"G5*X5","v":{"v":0,"d":"0.00"}},{"$f":"IF($B5=1,$Y5,0)","v":{"v":0,"d":"0.00"}},{"$f":"IF($B5=2,$Y5,0)","v":{"v":0,"d":"0.00"}},{"$f":"IF($B5=3,$Y5,0)","v":{"v":0,"d":"0.00"}},{"$f":"IF($B5=4,$Y5,0)","v":{"v":0,"d":"0.00"}},{"$f":"IF($B5=5,$Y5,0)","v":{"v":0,"d":"0.00"}},{"$f":"IF($B5=6,$Y5,0)","v":{"v":0,"d":"0.00"}},0,{"$f":"G5*AF5","v":{"v":0,"d":"0.00"}},{"$f":"IF($B5=1,$AG5,0)","v":{"v":0,"d":"0.00"}},{"$f":"IF($B5=2,$AG5,0)","v":{"v":0,"d":"0.00"}},{"$f":"IF($B5=3,$AG5,0)","v":{"v":0,"d":"0.00"}},{"$f":"IF($B5=4,$AG5,0)","v":{"v":0,"d":"0.00"}},{"$f":"IF($B5=5,$AG5,0)","v":{"v":0,"d":"0.00"}},{"$f":"IF($B5=6,$AG5,0)","v":{"v":0,"d":"0.00"}},0,{"$f":"G5*AN5","v":{"v":0,"d":"0.00"}},{"$f":"IF($B5=1,$AO5,0)","v":{"v":0,"d":"0.00"}},{"$f":"IF($B5=2,$AO5,0)","v":{"v":0,"d":"0.00"}},{"$f":"IF($B5=3,$AO5,0)","v":{"v":0,"d":"0.00"}},{"$f":"IF($B5=4,$AO5,0)","v":{"v":0,"d":"0.00"}},{"$f":"IF($B5=5,$AO5,0)","v":{"v":0,"d":"0.00"}},{"$f":"IF($B5=6,$AO5,0)","v":{"v":0,"d":"0.00"}},0,{"$f":"G5*AV5","v":{"v":0,"d":"0.00"}},{"$f":"IF($B5=1,$AW5,0)","v":{"v":0,"d":"0.00"}},{"$f":"IF($B5=2,$AW5,0)","v":{"v":0,"d":"0.00"}},{"$f":"IF($B5=3,$AW5,0)","v":{"v":0,"d":"0.00"}},{"$f":"IF($B5=4,$AW5,0)","v":{"v":0,"d":"0.00"}},{"$f":"IF($B5=5,$AW5,0)","v":{"v":0,"d":"0.00"}},{"$f":"IF($B5=6,$AW5,0)","v":{"v":0,"d":"0.00"}},0,{"$f":"G5*BD5","v":{"v":0,"d":"0.00"}},{"$f":"IF($B5=1,$BE5,0)","v":{"v":0,"d":"0.00"}},{"$f":"IF($B5=2,$BE5,0)","v":{"v":0,"d":"0.00"}},{"$f":"IF($B5=3,$BE5,0)","v":{"v":0,"d":"0.00"}},{"$f":"IF($B5=4,$BE5,0)","v":{"v":0,"d":"0.00"}},{"$f":"IF($B5=5,$BE5,0)","v":{"v":0,"d":"0.00"}},{"$f":"IF($B5=6,$BE5,0)","v":{"v":0,"d":"0.00"}},0,{"$f":"G5*BL5","v":{"v":0,"d":"0.00"}},{"$f":"IF($B5=1,$BM5,0)","v":{"v":0,"d":"0.00"}},{"$f":"IF($B5=2,$BM5,0)","v":{"v":0,"d":"0.00"}},{"$f":"IF($B5=3,$BM5,0)","v":{"v":0,"d":"0.00"}},{"$f":"IF($B5=4,$BM5,0)","v":{"v":0,"d":"0.00"}},{"$f":"IF($B5=5,$BM5,0)","v":{"v":0,"d":"0.00"}},{"$f":"IF($B5=6,$BM5,0)","v":{"v":0,"d":"0.00"}},0,{"$f":"G5*BT5","v":{"v":0,"d":"0.00"}},{"$f":"IF($B5=1,$BU5,0)","v":{"v":0,"d":"0.00"}},{"$f":"IF($B5=2,$BU5,0)","v":{"v":0,"d":"0.00"}},{"$f":"IF($B5=3,$BU5,0)","v":{"v":0,"d":"0.00"}},{"$f":"IF($B5=4,$BU5,0)","v":{"v":0,"d":"0.00"}},{"$f":"IF($B5=5,$BU5,0)","v":{"v":0,"d":"0.00"}},{"$f":"IF($B5=6,$BU5,0)","v":{"v":0,"d":"0.00"}},0,{"$f":"G5*CB5","v":{"v":0,"d":"0.00"}},{"$f":"IF($B5=1,$CC5,0)","v":{"v":0,"d":"0.00"}},{"$f":"IF($B5=2,$CC5,0)","v":{"v":0,"d":"0.00"}},{"$f":"IF($B5=3,$CC5,0)","v":{"v":0,"d":"0.00"}},{"$f":"IF($B5=4,$CC5,0)","v":{"v":0,"d":"0.00"}},{"$f":"IF($B5=5,$CC5,0)","v":{"v":0,"d":"0.00"}},{"$f":"IF($B5=6,$CC5,0)","v":{"v":0,"d":"0.00"}},0,{"$f":"G5*CJ5","v":{"v":0,"d":"0.00"}},{"$f":"IF($B5=1,$CK5,0)","v":{"v":0,"d":"0.00"}},{"$f":"IF($B5=2,$CK5,0)","v":{"v":0,"d":"0.00"}},{"$f":"IF($B5=3,$CK5,0)","v":{"v":0,"d":"0.00"}},{"$f":"IF($B5=4,$CK5,0)","v":{"v":0,"d":"0.00"}},{"$f":"IF($B5=5,$CK5,0)","v":{"v":0,"d":"0.00"}},{"$f":"IF($B5=6,$CK5,0)","v":{"v":0,"d":"0.00"}}]
[{"$f":"IF(C5<>C6,C6,\"\")","v":""},{"$f":"IF(C5<>C6,_xlfn.DAYS(C6,C5)+B5,B5)","v":1},{"$f":"IF(D6>0,IF(D6<E5,C5+1,C5),C5)","v":"2009-03-02"},{"$f":"IF((E6+H6+P6+X6+AF6+AN6+AV6+BD6+BL6+BT6+CB6+CJ6)>0,E5,0)","v":"00:00:00"},null,{"$f":"E6-D6","v":"00:00:00"},{"$f":"IF(E6>0,HOUR(F6)+(MINUTE(F6)/60),0)","v":0},{"$f":"IF(H5>0,IF(P6+X6+AF6+AN6+AV6+BD6+BL6+BT6+CB6+CJ6=0,IF(E6>0,H5,0),0),0)","v":0},{"$f":"G6*H6","v":{"v":0,"d":"0.00"}},{"$f":"IF($B6=1,$I6,0)","v":{"v":0,"d":"0.00"}},{"$f":"IF($B6=2,$I6,0)","v":{"v":0,"d":"0.00"}},{"$f":"IF($B6=3,$I6,0)","v":{"v":0,"d":"0.00"}},{"$f":"IF($B6=4,$I6,0)","v":{"v":0,"d":"0.00"}},{"$f":"IF($B6=5,$I6,0)","v":{"v":0,"d":"0.00"}},{"$f":"IF($B6=6,$I6,0)","v":{"v":0,"d":"0.00"}},{"$f":"IF(P5>0,IF(H6+X6+AF6+AN6+AV6+BD6+BL6+BT6+CB6+CJ6=0,IF(E6>0,P5,0),0),0)","v":0},{"$f":"G6*P6","v":{"v":0,"d":"0.00"}},{"$f":"IF(B6=1,Q6,0)","v":{"v":0,"d":"0.00"}},{"$f":"IF(B6=2,Q6,0)","v":{"v":0,"d":"0.00"}},{"$f":"IF(B6=3,Q6,0)","v":{"v":0,"d":"0.00"}},{"$f":"IF(B6=4,Q6,0)","v":{"v":0,"d":"0.00"}},{"$f":"IF(B6=5,Q6,0)","v":{"v":0,"d":"0.00"}},{"$f":"IF(B6=6,Q6,0)","v":{"v":0,"d":"0.00"}},{"$f":"IF(X5>0,IF(H6+P6+AF6+AN6+AV6+BD6+BL6+BT6+CB6+CJ6=0,IF(E6>0,X5,0),0),0)","v":0},{"$f":"G6*X6","v":{"v":0,"d":"0.00"}},{"$f":"IF($B6=1,$Y6,0)","v":{"v":0,"d":"0.00"}},{"$f":"IF($B6=2,$Y6,0)","v":{"v":0,"d":"0.00"}},{"$f":"IF($B6=3,$Y6,0)","v":{"v":0,"d":"0.00"}},{"$f":"IF($B6=4,$Y6,0)","v":{"v":0,"d":"0.00"}},{"$f":"IF($B6=5,$Y6,0)","v":{"v":0,"d":"0.00"}},{"$f":"IF($B6=6,$Y6,0)","v":{"v":0,"d":"0.00"}},{"$f":"IF(AF5>0,IF(H6+P6+X6+AN6+AV6+BD6+BL6+BT6+CB6+CJ6=0,IF(E6>0,AF5,0),0),0)","v":0},{"$f":"G6*AF6","v":{"v":0,"d":"0.00"}},{"$f":"IF($B6=1,$AG6,0)","v":{"v":0,"d":"0.00"}},{"$f":"IF($B6=2,$AG6,0)","v":{"v":0,"d":"0.00"}},{"$f":"IF($B6=3,$AG6,0)","v":{"v":0,"d":"0.00"}},{"$f":"IF($B6=4,$AG6,0)","v":{"v":0,"d":"0.00"}},{"$f":"IF($B6=5,$AG6,0)","v":{"v":0,"d":"0.00"}},{"$f":"IF($B6=6,$AG6,0)","v":{"v":0,"d":"0.00"}},{"$f":"IF(AN5>0,IF(H6+P6+X6+AF6+AV6+BD6+BL6+BT6+CB6+CJ6=0,IF(E6>0,AN5,0),0),0)","v":0},{"$f":"G6*AN6","v":{"v":0,"d":"0.00"}},{"$f":"IF($B6=1,$AO6,0)","v":{"v":0,"d":"0.00"}},{"$f":"IF($B6=2,$AO6,0)","v":{"v":0,"d":"0.00"}},{"$f":"IF($B6=3,$AO6,0)","v":{"v":0,"d":"0.00"}},{"$f":"IF($B6=4,$AO6,0)","v":{"v":0,"d":"0.00"}},{"$f":"IF($B6=5,$AO6,0)","v":{"v":0,"d":"0.00"}},{"$f":"IF($B6=6,$AO6,0)","v":{"v":0,"d":"0.00"}},{"$f":"IF(AV5>0,IF(H6+P6+X6+AF6+AN6+BD6+BL6+BT6+CB6+CJ6=0,IF(E6>0,AV5,0),0),0)","v":0},{"$f":"G6*AV6","v":{"v":0,"d":"0.00"}},{"$f":"IF($B6=1,$AW6,0)","v":{"v":0,"d":"0.00"}},{"$f":"IF($B6=2,$AW6,0)","v":{"v":0,"d":"0.00"}},{"$f":"IF($B6=3,$AW6,0)","v":{"v":0,"d":"0.00"}},{"$f":"IF($B6=4,$AW6,0)","v":{"v":0,"d":"0.00"}},{"$f":"IF($B6=5,$AW6,0)","v":{"v":0,"d":"0.00"}},{"$f":"IF($B6=6,$AW6,0)","v":{"v":0,"d":"0.00"}},{"$f":"IF(BD5>0,IF(H6+P6+X6+AF6+AN6+AV6+BL6+BT6+CB6+CJ6=0,IF(E6>0,BD5,0),0),0)","v":0},{"$f":"G6*BD6","v":{"v":0,"d":"0.00"}},{"$f":"IF($B6=1,$BE6,0)","v":{"v":0,"d":"0.00"}},{"$f":"IF($B6=2,$BE6,0)","v":{"v":0,"d":"0.00"}},{"$f":"IF($B6=3,$BE6,0)","v":{"v":0,"d":"0.00"}},{"$f":"IF($B6=4,$BE6,0)","v":{"v":0,"d":"0.00"}},{"$f":"IF($B6=5,$BE6,0)","v":{"v":0,"d":"0.00"}},{"$f":"IF($B6=6,$BE6,0)","v":{"v":0,"d":"0.00"}},{"$f":"IF(BL5>0,IF(H6+P6+X6+AF6+AN6+AV6+BD6+BT6+CB6+CJ6=0,IF(E6>0,BL5,0),0),0)","v":0},{"$f":"G6*BL6","v":{"v":0,"d":"0.00"}},{"$f":"IF($B6=1,$BM6,0)","v":{"v":0,"d":"0.00"}},{"$f":"IF($B6=2,$BM6,0)","v":{"v":0,"d":"0.00"}},{"$f":"IF($B6=3,$BM6,0)","v":{"v":0,"d":"0.00"}},{"$f":"IF($B6=4,$BM6,0)","v":{"v":0,"d":"0.00"}},{"$f":"IF($B6=5,$BM6,0)","v":{"v":0,"d":"0.00"}},{"$f":"IF($B6=6,$BM6,0)","v":{"v":0,"d":"0.00"}},{"$f":"IF(BT5>0,IF(H6+P6+X6+AF6+AN6+AV6+BD6+BL6+CB6+CJ6=0,IF(E6>0,BT5,0),0),0)","v":0},{"$f":"G6*BT6","v":{"v":0,"d":"0.00"}},{"$f":"IF($B6=1,$BU6,0)","v":{"v":0,"d":"0.00"}},{"$f":"IF($B6=2,$BU6,0)","v":{"v":0,"d":"0.00"}},{"$f":"IF($B6=3,$BU6,0)","v":{"v":0,"d":"0.00"}},{"$f":"IF($B6=4,$BU6,0)","v":{"v":0,"d":"0.00"}},{"$f":"IF($B6=5,$BU6,0)","v":{"v":0,"d":"0.00"}},{"$f":"IF($B6=6,$BU6,0)","v":{"v":0,"d":"0.00"}},{"$f":"IF(CB5>0,IF(H6+P6+X6+AF6+AN6+AV6+BD6+BL6+BT6+CJ6=0,IF(E6>0,CB5,0),0),0)","v":0},{"$f":"G6*CB6","v":{"v":0,"d":"0.00"}},{"$f":"IF($B6=1,$CC6,0)","v":{"v":0,"d":"0.00"}},{"$f":"IF($B6=2,$CC6,0)","v":{"v":0,"d":"0.00"}},{"$f":"IF($B6=3,$CC6,0)","v":{"v":0,"d":"0.00"}},{"$f":"IF($B6=4,$CC6,0)","v":{"v":0,"d":"0.00"}},{"$f":"IF($B6=5,$CC6,0)","v":{"v":0,"d":"0.00"}},{"$f":"IF($B6=6,$CC6,0)","v":{"v":0,"d":"0.00"}},{"$f":"IF(CJ5>0,IF(H6+P6+X6+AF6+AN6+AV6+BD6+BL6+BT6+CB6=0,IF(E6>0,CJ5,0),0),0)","v":0},{"$f":"G6*CJ6","v":{"v":0,"d":"0.00"}},{"$f":"IF($B6=1,$CK6,0)","v":{"v":0,"d":"0.00"}},{"$f":"IF($B6=2,$CK6,0)","v":{"v":0,"d":"0.00"}},{"$f":"IF($B6=3,$CK6,0)","v":{"v":0,"d":"0.00"}},{"$f":"IF($B6=4,$CK6,0)","v":{"v":0,"d":"0.00"}},{"$f":"IF($B6=5,$CK6,0)","v":{"v":0,"d":"0.00"}},{"$f":"IF($B6=6,$CK6,0)","v":{"v":0,"d":"0.00"}}]
[{"$f":"IF(C6<>C7,C7,\"\")","v":""},{"$f":"IF(C6<>C7,_xlfn.DAYS(C7,C6)+B6,B6)","v":1},{"$f":"IF(D7>0,IF(D7<E6,C6+1,C6),C6)","v":"2009-03-02"},{"$f":"IF((E7+H7+P7+X7+AF7+AN7+AV7+BD7+BL7+BT7+CB7+CJ7)>0,E6,0)","v":"00:00:00"},null,{"$f":"E7-D7","v":"00:00:00"},{"$f":"IF(E7>0,HOUR(F7)+(MINUTE(F7)/60),0)","v":0},{"$f":"IF(H6>0,IF(P7+X7+AF7+AN7+AV7+BD7+BL7+BT7+CB7+CJ7=0,IF(E7>0,H6,0),0),0)","v":0},{"$f":"G7*H7","v":{"v":0,"d":"0.00"}},{"$f":"IF($B7=1,$I7,0)","v":{"v":0,"d":"0.00"}},{"$f":"IF($B7=2,$I7,0)","v":{"v":0,"d":"0.00"}},{"$f":"IF($B7=3,$I7,0)","v":{"v":0,"d":"0.00"}},{"$f":"IF($B7=4,$I7,0)","v":{"v":0,"d":"0.00"}},{"$f":"IF($B7=5,$I7,0)","v":{"v":0,"d":"0.00"}},{"$f":"IF($B7=6,$I7,0)","v":{"v":0,"d":"0.00"}},{"$f":"IF(P6>0,IF(H7+X7+AF7+AN7+AV7+BD7+BL7+BT7+CB7+CJ7=0,IF(E7>0,P6,0),0),0)","v":0},{"$f":"G7*P7","v":{"v":0,"d":"0.00"}},{"$f":"IF(B7=1,Q7,0)","v":{"v":0,"d":"0.00"}},{"$f":"IF(B7=2,Q7,0)","v":{"v":0,"d":"0.00"}},{"$f":"IF(B7=3,Q7,0)","v":{"v":0,"d":"0.00"}},{"$f":"IF(B7=4,Q7,0)","v":{"v":0,"d":"0.00"}},{"$f":"IF(B7=5,Q7,0)","v":{"v":0,"d":"0.00"}},{"$f":"IF(B7=6,Q7,0)","v":{"v":0,"d":"0.00"}},{"$f":"IF(X6>0,IF(H7+P7+AF7+AN7+AV7+BD7+BL7+BT7+CB7+CJ7=0,IF(E7>0,X6,0),0),0)","v":0},{"$f":"G7*X7","v":{"v":0,"d":"0.00"}},{"$f":"IF($B7=1,$Y7,0)","v":{"v":0,"d":"0.00"}},{"$f":"IF($B7=2,$Y7,0)","v":{"v":0,"d":"0.00"}},{"$f":"IF($B7=3,$Y7,0)","v":{"v":0,"d":"0.00"}},{"$f":"IF($B7=4,$Y7,0)","v":{"v":0,"d":"0.00"}},{"$f":"IF($B7=5,$Y7,0)","v":{"v":0,"d":"0.00"}},{"$f":"IF($B7=6,$Y7,0)","v":{"v":0,"d":"0.00"}},{"$f":"IF(AF6>0,IF(H7+P7+X7+AN7+AV7+BD7+BL7+BT7+CB7+CJ7=0,IF(E7>0,AF6,0),0),0)","v":0},{"$f":"G7*AF7","v":{"v":0,"d":"0.00"}},{"$f":"IF($B7=1,$AG7,0)","v":{"v":0,"d":"0.00"}},{"$f":"IF($B7=2,$AG7,0)","v":{"v":0,"d":"0.00"}},{"$f":"IF($B7=3,$AG7,0)","v":{"v":0,"d":"0.00"}},{"$f":"IF($B7=4,$AG7,0)","v":{"v":0,"d":"0.00"}},{"$f":"IF($B7=5,$AG7,0)","v":{"v":0,"d":"0.00"}},{"$f":"IF($B7=6,$AG7,0)","v":{"v":0,"d":"0.00"}},{"$f":"IF(AN6>0,IF(H7+P7+X7+AF7+AV7+BD7+BL7+BT7+CB7+CJ7=0,IF(E7>0,AN6,0),0),0)","v":0},{"$f":"G7*AN7","v":{"v":0,"d":"0.00"}},{"$f":"IF($B7=1,$AO7,0)","v":{"v":0,"d":"0.00"}},{"$f":"IF($B7=2,$AO7,0)","v":{"v":0,"d":"0.00"}},{"$f":"IF($B7=3,$AO7,0)","v":{"v":0,"d":"0.00"}},{"$f":"IF($B7=4,$AO7,0)","v":{"v":0,"d":"0.00"}},{"$f":"IF($B7=5,$AO7,0)","v":{"v":0,"d":"0.00"}},{"$f":"IF($B7=6,$AO7,0)","v":{"v":0,"d":"0.00"}},{"$f":"IF(AV6>0,IF(H7+P7+X7+AF7+AN7+BD7+BL7+BT7+CB7+CJ7=0,IF(E7>0,AV6,0),0),0)","v":0},{"$f":"G7*AV7","v":{"v":0,"d":"0.00"}},{"$f":"IF($B7=1,$AW7,0)","v":{"v":0,"d":"0.00"}},{"$f":"IF($B7=2,$AW7,0)","v":{"v":0,"d":"0.00"}},{"$f":"IF($B7=3,$AW7,0)","v":{"v":0,"d":"0.00"}},{"$f":"IF($B7=4,$AW7,0)","v":{"v":0,"d":"0.00"}},{"$f":"IF($B7=5,$AW7,0)","v":{"v":0,"d":"0.00"}},{"$f":"IF($B7=6,$AW7,0)","v":{"v":0,"d":"0.00"}},{"$f":"IF(BD6>0,IF(H7+P7+X7+AF7+AN7+AV7+BL7+BT7+CB7+CJ7=0,IF(E7>0,BD6,0),0),0)","v":0},{"$f":"G7*BD7","v":{"v":0,"d":"0.00"}},{"$f":"IF($B7=1,$BE7,0)","v":{"v":0,"d":"0.00"}},{"$f":"IF($B7=2,$BE7,0)","v":{"v":0,"d":"0.00"}},{"$f":"IF($B7=3,$BE7,0)","v":{"v":0,"d":"0.00"}},{"$f":"IF($B7=4,$BE7,0)","v":{"v":0,"d":"0.00"}},{"$f":"IF($B7=5,$BE7,0)","v":{"v":0,"d":"0.00"}},{"$f":"IF($B7=6,$BE7,0)","v":{"v":0,"d":"0.00"}},{"$f":"IF(BL6>0,IF(H7+P7+X7+AF7+AN7+AV7+BD7+BT7+CB7+CJ7=0,IF(E7>0,BL6,0),0),0)","v":0},{"$f":"G7*BL7","v":{"v":0,"d":"0.00"}},{"$f":"IF($B7=1,$BM7,0)","v":{"v":0,"d":"0.00"}},{"$f":"IF($B7=2,$BM7,0)","v":{"v":0,"d":"0.00"}},{"$f":"IF($B7=3,$BM7,0)","v":{"v":0,"d":"0.00"}},{"$f":"IF($B7=4,$BM7,0)","v":{"v":0,"d":"0.00"}},{"$f":"IF($B7=5,$BM7,0)","v":{"v":0,"d":"0.00"}},{"$f":"IF($B7=6,$BM7,0)","v":{"v":0,"d":"0.00"}},{"$f":"IF(BT6>0,IF(H7+P7+X7+AF7+AN7+AV7+BD7+BL7+CB7+CJ7=0,IF(E7>0,BT6,0),0),0)","v":0},{"$f":"G7*BT7","v":{"v":0,"d":"0.00"}},{"$f":"IF($B7=1,$BU7,0)","v":{"v":0,"d":"0.00"}},{"$f":"IF($B7=2,$BU7,0)","v":{"v":0,"d":"0.00"}},{"$f":"IF($B7=3,$BU7,0)","v":{"v":0,"d":"0.00"}},{"$f":"IF($B7=4,$BU7,0)","v":{"v":0,"d":"0.00"}},{"$f":"IF($B7=5,$BU7,0)","v":{"v":0,"d":"0.00"}},{"$f":"IF($B7=6,$BU7,0)","v":{"v":0,"d":"0.00"}},{"$f":"IF(CB6>0,IF(H7+P7+X7+AF7+AN7+AV7+BD7+BL7+BT7+CJ7=0,IF(E7>0,CB6,0),0),0)","v":0},{"$f":"G7*CB7","v":{"v":0,"d":"0.00"}},{"$f":"IF($B7=1,$CC7,0)","v":{"v":0,"d":"0.00"}},{"$f":"IF($B7=2,$CC7,0)","v":{"v":0,"d":"0.00"}},{"$f":"IF($B7=3,$CC7,0)","v":{"v":0,"d":"0.00"}},{"$f":"IF($B7=4,$CC7,0)","v":{"v":0,"d":"0.00"}},{"$f":"IF($B7=5,$CC7,0)","v":{"v":0,"d":"0.00"}},{"$f":"IF($B7=6,$CC7,0)","v":{"v":0,"d":"0.00"}},{"$f":"IF(CJ6>0,IF(H7+P7+X7+AF7+AN7+AV7+BD7+BL7+BT7+CB7=0,IF(E7>0,CJ6,0),0),0)","v":0},{"$f":"G7*CJ7","v":{"v":0,"d":"0.00"}},{"$f":"IF($B7=1,$CK7,0)","v":{"v":0,"d":"0.00"}},{"$f":"IF($B7=2,$CK7,0)","v":{"v":0,"d":"0.00"}},{"$f":"IF($B7=3,$CK7,0)","v":{"v":0,"d":"0.00"}},{"$f":"IF($B7=4,$CK7,0)","v":{"v":0,"d":"0.00"}},{"$f":"IF($B7=5,$CK7,0)","v":{"v":0,"d":"0.00"}},{"$f":"IF($B7=6,$CK7,0)","v":{"v":0,"d":"0.00"}}]
[{"$f":"IF(C7<>C8,C8,\"\")","v":""},{"$f":"IF(C7<>C8,_xlfn.DAYS(C8,C7)+B7,B7)","v":1},{"$f":"IF(D8>0,IF(D8<E7,C7+1,C7),C7)","v":"2009-03-02"},{"$f":"IF((E8+H8+P8+X8+AF8+AN8+AV8+BD8+BL8+BT8+CB8+CJ8)>0,E7,0)","v":"00:00:00"},null,{"$f":"E8-D8","v":"00:00:00"},{"$f":"IF(E8>0,HOUR(F8)+(MINUTE(F8)/60),0)","v":0},{"$f":"IF(H7>0,IF(P8+X8+AF8+AN8+AV8+BD8+BL8+BT8+CB8+CJ8=0,IF(E8>0,H7,0),0),0)","v":0},{"$f":"G8*H8","v":{"v":0,"d":"0.00"}},{"$f":"IF($B8=1,$I8,0)","v":{"v":0,"d":"0.00"}},{"$f":"IF($B8=2,$I8,0)","v":{"v":0,"d":"0.00"}},{"$f":"IF($B8=3,$I8,0)","v":{"v":0,"d":"0.00"}},{"$f":"IF($B8=4,$I8,0)","v":{"v":0,"d":"0.00"}},{"$f":"IF($B8=5,$I8,0)","v":{"v":0,"d":"0.00"}},{"$f":"IF($B8=6,$I8,0)","v":{"v":0,"d":"0.00"}},{"$f":"IF(P7>0,IF(H8+X8+AF8+AN8+AV8+BD8+BL8+BT8+CB8+CJ8=0,IF(E8>0,P7,0),0),0)","v":0},{"$f":"G8*P8","v":{"v":0,"d":"0.00"}},{"$f":"IF(B8=1,Q8,0)","v":{"v":0,"d":"0.00"}},{"$f":"IF(B8=2,Q8,0)","v":{"v":0,"d":"0.00"}},{"$f":"IF(B8=3,Q8,0)","v":{"v":0,"d":"0.00"}},{"$f":"IF(B8=4,Q8,0)","v":{"v":0,"d":"0.00"}},{"$f":"IF(B8=5,Q8,0)","v":{"v":0,"d":"0.00"}},{"$f":"IF(B8=6,Q8,0)","v":{"v":0,"d":"0.00"}},{"$f":"IF(X7>0,IF(H8+P8+AF8+AN8+AV8+BD8+BL8+BT8+CB8+CJ8=0,IF(E8>0,X7,0),0),0)","v":0},{"$f":"G8*X8","v":{"v":0,"d":"0.00"}},{"$f":"IF($B8=1,$Y8,0)","v":{"v":0,"d":"0.00"}},{"$f":"IF($B8=2,$Y8,0)","v":{"v":0,"d":"0.00"}},{"$f":"IF($B8=3,$Y8,0)","v":{"v":0,"d":"0.00"}},{"$f":"IF($B8=4,$Y8,0)","v":{"v":0,"d":"0.00"}},{"$f":"IF($B8=5,$Y8,0)","v":{"v":0,"d":"0.00"}},{"$f":"IF($B8=6,$Y8,0)","v":{"v":0,"d":"0.00"}},{"$f":"IF(AF7>0,IF(H8+P8+X8+AN8+AV8+BD8+BL8+BT8+CB8+CJ8=0,IF(E8>0,AF7,0),0),0)","v":0},{"$f":"G8*AF8","v":{"v":0,"d":"0.00"}},{"$f":"IF($B8=1,$AG8,0)","v":{"v":0,"d":"0.00"}},{"$f":"IF($B8=2,$AG8,0)","v":{"v":0,"d":"0.00"}},{"$f":"IF($B8=3,$AG8,0)","v":{"v":0,"d":"0.00"}},{"$f":"IF($B8=4,$AG8,0)","v":{"v":0,"d":"0.00"}},{"$f":"IF($B8=5,$AG8,0)","v":{"v":0,"d":"0.00"}},{"$f":"IF($B8=6,$AG8,0)","v":{"v":0,"d":"0.00"}},{"$f":"IF(AN7>0,IF(H8+P8+X8+AF8+AV8+BD8+BL8+BT8+CB8+CJ8=0,IF(E8>0,AN7,0),0),0)","v":0},{"$f":"G8*AN8","v":{"v":0,"d":"0.00"}},{"$f":"IF($B8=1,$AO8,0)","v":{"v":0,"d":"0.00"}},{"$f":"IF($B8=2,$AO8,0)","v":{"v":0,"d":"0.00"}},{"$f":"IF($B8=3,$AO8,0)","v":{"v":0,"d":"0.00"}},{"$f":"IF($B8=4,$AO8,0)","v":{"v":0,"d":"0.00"}},{"$f":"IF($B8=5,$AO8,0)","v":{"v":0,"d":"0.00"}},{"$f":"IF($B8=6,$AO8,0)","v":{"v":0,"d":"0.00"}},{"$f":"IF(AV7>0,IF(H8+P8+X8+AF8+AN8+BD8+BL8+BT8+CB8+CJ8=0,IF(E8>0,AV7,0),0),0)","v":0},{"$f":"G8*AV8","v":{"v":0,"d":"0.00"}},{"$f":"IF($B8=1,$AW8,0)","v":{"v":0,"d":"0.00"}},{"$f":"IF($B8=2,$AW8,0)","v":{"v":0,"d":"0.00"}},{"$f":"IF($B8=3,$AW8,0)","v":{"v":0,"d":"0.00"}},{"$f":"IF($B8=4,$AW8,0)","v":{"v":0,"d":"0.00"}},{"$f":"IF($B8=5,$AW8,0)","v":{"v":0,"d":"0.00"}},{"$f":"IF($B8=6,$AW8,0)","v":{"v":0,"d":"0.00"}},{"$f":"IF(BD7>0,IF(H8+P8+X8+AF8+AN8+AV8+BL8+BT8+CB8+CJ8=0,IF(E8>0,BD7,0),0),0)","v":0},{"$f":"G8*BD8","v":{"v":0,"d":"0.00"}},{"$f":"IF($B8=1,$BE8,0)","v":{"v":0,"d":"0.00"}},{"$f":"IF($B8=2,$BE8,0)","v":{"v":0,"d":"0.00"}},{"$f":"IF($B8=3,$BE8,0)","v":{"v":0,"d":"0.00"}},{"$f":"IF($B8=4,$BE8,0)","v":{"v":0,"d":"0.00"}},{"$f":"IF($B8=5,$BE8,0)","v":{"v":0,"d":"0.00"}},{"$f":"IF($B8=6,$BE8,0)","v":{"v":0,"d":"0.00"}},{"$f":"IF(BL7>0,IF(H8+P8+X8+AF8+AN8+AV8+BD8+BT8+CB8+CJ8=0,IF(E8>0,BL7,0),0),0)","v":0},{"$f":"G8*BL8","v":{"v":0,"d":"0.00"}},{"$f":"IF($B8=1,$BM8,0)","v":{"v":0,"d":"0.00"}},{"$f":"IF($B8=2,$BM8,0)","v":{"v":0,"d":"0.00"}},{"$f":"IF($B8=3,$BM8,0)","v":{"v":0,"d":"0.00"}},{"$f":"IF($B8=4,$BM8,0)","v":{"v":0,"d":"0.00"}},{"$f":"IF($B8=5,$BM8,0)","v":{"v":0,"d":"0.00"}},{"$f":"IF($B8=6,$BM8,0)","v":{"v":0,"d":"0.00"}},{"$f":"IF(BT7>0,IF(H8+P8+X8+AF8+AN8+AV8+BD8+BL8+CB8+CJ8=0,IF(E8>0,BT7,0),0),0)","v":0},{"$f":"G8*BT8","v":{"v":0,"d":"0.00"}},{"$f":"IF($B8=1,$BU8,0)","v":{"v":0,"d":"0.00"}},{"$f":"IF($B8=2,$BU8,0)","v":{"v":0,"d":"0.00"}},{"$f":"IF($B8=3,$BU8,0)","v":{"v":0,"d":"0.00"}},{"$f":"IF($B8=4,$BU8,0)","v":{"v":0,"d":"0.00"}},{"$f":"IF($B8=5,$BU8,0)","v":{"v":0,"d":"0.00"}},{"$f":"IF($B8=6,$BU8,0)","v":{"v":0,"d":"0.00"}},{"$f":"IF(CB7>0,IF(H8+P8+X8+AF8+AN8+AV8+BD8+BL8+BT8+CJ8=0,IF(E8>0,CB7,0),0),0)","v":0},{"$f":"G8*CB8","v":{"v":0,"d":"0.00"}},{"$f":"IF($B8=1,$CC8,0)","v":{"v":0,"d":"0.00"}},{"$f":"IF($B8=2,$CC8,0)","v":{"v":0,"d":"0.00"}},{"$f":"IF($B8=3,$CC8,0)","v":{"v":0,"d":"0.00"}},{"$f":"IF($B8=4,$CC8,0)","v":{"v":0,"d":"0.00"}},{"$f":"IF($B8=5,$CC8,0)","v":{"v":0,"d":"0.00"}},{"$f":"IF($B8=6,$CC8,0)","v":{"v":0,"d":"0.00"}},{"$f":"IF(CJ7>0,IF(H8+P8+X8+AF8+AN8+AV8+BD8+BL8+BT8+CB8=0,IF(E8>0,CJ7,0),0),0)","v":0},{"$f":"G8*CJ8","v":{"v":0,"d":"0.00"}},{"$f":"IF($B8=1,$CK8,0)","v":{"v":0,"d":"0.00"}},{"$f":"IF($B8=2,$CK8,0)","v":{"v":0,"d":"0.00"}},{"$f":"IF($B8=3,$CK8,0)","v":{"v":0,"d":"0.00"}},{"$f":"IF($B8=4,$CK8,0)","v":{"v":0,"d":"0.00"}},{"$f":"IF($B8=5,$CK8,0)","v":{"v":0,"d":"0.00"}},{"$f":"IF($B8=6,$CK8,0)","v":{"v":0,"d":"0.00"}}]
[{"$f":"IF(C8<>C9,C9,\"\")","v":""},{"$f":"IF(C8<>C9,_xlfn.DAYS(C9,C8)+B8,B8)","v":1},{"$f":"IF(D9>0,IF(D9<E8,C8+1,C8),C8)","v":"2009-03-02"},{"$f":"IF((E9+H9+P9+X9+AF9+AN9+AV9+BD9+BL9+BT9+CB9+CJ9)>0,E8,0)","v":"00:00:00"},null,{"$f":"E9-D9","v":"00:00:00"},{"$f":"IF(E9>0,HOUR(F9)+(MINUTE(F9)/60),0)","v":0},{"$f":"IF(H8>0,IF(P9+X9+AF9+AN9+AV9+BD9+BL9+BT9+CB9+CJ9=0,IF(E9>0,H8,0),0),0)","v":0},{"$f":"G9*H9","v":{"v":0,"d":"0.00"}},{"$f":"IF($B9=1,$I9,0)","v":{"v":0,"d":"0.00"}},{"$f":"IF($B9=2,$I9,0)","v":{"v":0,"d":"0.00"}},{"$f":"IF($B9=3,$I9,0)","v":{"v":0,"d":"0.00"}},{"$f":"IF($B9=4,$I9,0)","v":{"v":0,"d":"0.00"}},{"$f":"IF($B9=5,$I9,0)","v":{"v":0,"d":"0.00"}},{"$f":"IF($B9=6,$I9,0)","v":{"v":0,"d":"0.00"}},{"$f":"IF(P8>0,IF(H9+X9+AF9+AN9+AV9+BD9+BL9+BT9+CB9+CJ9=0,IF(E9>0,P8,0),0),0)","v":0},{"$f":"G9*P9","v":{"v":0,"d":"0.00"}},{"$f":"IF(B9=1,Q9,0)","v":{"v":0,"d":"0.00"}},{"$f":"IF(B9=2,Q9,0)","v":{"v":0,"d":"0.00"}},{"$f":"IF(B9=3,Q9,0)","v":{"v":0,"d":"0.00"}},{"$f":"IF(B9=4,Q9,0)","v":{"v":0,"d":"0.00"}},{"$f":"IF(B9=5,Q9,0)","v":{"v":0,"d":"0.00"}},{"$f":"IF(B9=6,Q9,0)","v":{"v":0,"d":"0.00"}},{"$f":"IF(X8>0,IF(H9+P9+AF9+AN9+AV9+BD9+BL9+BT9+CB9+CJ9=0,IF(E9>0,X8,0),0),0)","v":0},{"$f":"G9*X9","v":{"v":0,"d":"0.00"}},{"$f":"IF($B9=1,$Y9,0)","v":{"v":0,"d":"0.00"}},{"$f":"IF($B9=2,$Y9,0)","v":{"v":0,"d":"0.00"}},{"$f":"IF($B9=3,$Y9,0)","v":{"v":0,"d":"0.00"}},{"$f":"IF($B9=4,$Y9,0)","v":{"v":0,"d":"0.00"}},{"$f":"IF($B9=5,$Y9,0)","v":{"v":0,"d":"0.00"}},{"$f":"IF($B9=6,$Y9,0)","v":{"v":0,"d":"0.00"}},{"$f":"IF(AF8>0,IF(H9+P9+X9+AN9+AV9+BD9+BL9+BT9+CB9+CJ9=0,IF(E9>0,AF8,0),0),0)","v":0},{"$f":"G9*AF9","v":{"v":0,"d":"0.00"}},{"$f":"IF($B9=1,$AG9,0)","v":{"v":0,"d":"0.00"}},{"$f":"IF($B9=2,$AG9,0)","v":{"v":0,"d":"0.00"}},{"$f":"IF($B9=3,$AG9,0)","v":{"v":0,"d":"0.00"}},{"$f":"IF($B9=4,$AG9,0)","v":{"v":0,"d":"0.00"}},{"$f":"IF($B9=5,$AG9,0)","v":{"v":0,"d":"0.00"}},{"$f":"IF($B9=6,$AG9,0)","v":{"v":0,"d":"0.00"}},{"$f":"IF(AN8>0,IF(H9+P9+X9+AF9+AV9+BD9+BL9+BT9+CB9+CJ9=0,IF(E9>0,AN8,0),0),0)","v":0},{"$f":"G9*AN9","v":{"v":0,"d":"0.00"}},{"$f":"IF($B9=1,$AO9,0)","v":{"v":0,"d":"0.00"}},{"$f":"IF($B9=2,$AO9,0)","v":{"v":0,"d":"0.00"}},{"$f":"IF($B9=3,$AO9,0)","v":{"v":0,"d":"0.00"}},{"$f":"IF($B9=4,$AO9,0)","v":{"v":0,"d":"0.00"}},{"$f":"IF($B9=5,$AO9,0)","v":{"v":0,"d":"0.00"}},{"$f":"IF($B9=6,$AO9,0)","v":{"v":0,"d":"0.00"}},{"$f":"IF(AV8>0,IF(H9+P9+X9+AF9+AN9+BD9+BL9+BT9+CB9+CJ9=0,IF(E9>0,AV8,0),0),0)","v":0},{"$f":"G9*AV9","v":{"v":0,"d":"0.00"}},{"$f":"IF($B9=1,$AW9,0)","v":{"v":0,"d":"0.00"}},{"$f":"IF($B9=2,$AW9,0)","v":{"v":0,"d":"0.00"}},{"$f":"IF($B9=3,$AW9,0)","v":{"v":0,"d":"0.00"}},{"$f":"IF($B9=4,$AW9,0)","v":{"v":0,"d":"0.00"}},{"$f":"IF($B9=5,$AW9,0)","v":{"v":0,"d":"0.00"}},{"$f":"IF($B9=6,$AW9,0)","v":{"v":0,"d":"0.00"}},{"$f":"IF(BD8>0,IF(H9+P9+X9+AF9+AN9+AV9+BL9+BT9+CB9+CJ9=0,IF(E9>0,BD8,0),0),0)","v":0},{"$f":"G9*BD9","v":{"v":0,"d":"0.00"}},{"$f":"IF($B9=1,$BE9,0)","v":{"v":0,"d":"0.00"}},{"$f":"IF($B9=2,$BE9,0)","v":{"v":0,"d":"0.00"}},{"$f":"IF($B9=3,$BE9,0)","v":{"v":0,"d":"0.00"}},{"$f":"IF($B9=4,$BE9,0)","v":{"v":0,"d":"0.00"}},{"$f":"IF($B9=5,$BE9,0)","v":{"v":0,"d":"0.00"}},{"$f":"IF($B9=6,$BE9,0)","v":{"v":0,"d":"0.00"}},{"$f":"IF(BL8>0,IF(H9+P9+X9+AF9+AN9+AV9+BD9+BT9+CB9+CJ9=0,IF(E9>0,BL8,0),0),0)","v":0},{"$f":"G9*BL9","v":{"v":0,"d":"0.00"}},{"$f":"IF($B9=1,$BM9,0)","v":{"v":0,"d":"0.00"}},{"$f":"IF($B9=2,$BM9,0)","v":{"v":0,"d":"0.00"}},{"$f":"IF($B9=3,$BM9,0)","v":{"v":0,"d":"0.00"}},{"$f":"IF($B9=4,$BM9,0)","v":{"v":0,"d":"0.00"}},{"$f":"IF($B9=5,$BM9,0)","v":{"v":0,"d":"0.00"}},{"$f":"IF($B9=6,$BM9,0)","v":{"v":0,"d":"0.00"}},{"$f":"IF(BT8>0,IF(H9+P9+X9+AF9+AN9+AV9+BD9+BL9+CB9+CJ9=0,IF(E9>0,BT8,0),0),0)","v":0},{"$f":"G9*BT9","v":{"v":0,"d":"0.00"}},{"$f":"IF($B9=1,$BU9,0)","v":{"v":0,"d":"0.00"}},{"$f":"IF($B9=2,$BU9,0)","v":{"v":0,"d":"0.00"}},{"$f":"IF($B9=3,$BU9,0)","v":{"v":0,"d":"0.00"}},{"$f":"IF($B9=4,$BU9,0)","v":{"v":0,"d":"0.00"}},{"$f":"IF($B9=5,$BU9,0)","v":{"v":0,"d":"0.00"}},{"$f":"IF($B9=6,$BU9,0)","v":{"v":0,"d":"0.00"}},{"$f":"IF(CB8>0,IF(H9+P9+X9+AF9+AN9+AV9+BD9+BL9+BT9+CJ9=0,IF(E9>0,CB8,0),0),0)","v":0},{"$f":"G9*CB9","v":{"v":0,"d":"0.00"}},{"$f":"IF($B9=1,$CC9,0)","v":{"v":0,"d":"0.00"}},{"$f":"IF($B9=2,$CC9,0)","v":{"v":0,"d":"0.00"}},{"$f":"IF($B9=3,$CC9,0)","v":{"v":0,"d":"0.00"}},{"$f":"IF($B9=4,$CC9,0)","v":{"v":0,"d":"0.00"}},{"$f":"IF($B9=5,$CC9,0)","v":{"v":0,"d":"0.00"}},{"$f":"IF($B9=6,$CC9,0)","v":{"v":0,"d":"0.00"}},{"$f":"IF(CJ8>0,IF(H9+P9+X9+AF9+AN9+AV9+BD9+BL9+BT9+CB9=0,IF(E9>0,CJ8,0),0),0)","v":0},{"$f":"G9*CJ9","v":{"v":0,"d":"0.00"}},{"$f":"IF($B9=1,$CK9,0)","v":{"v":0,"d":"0.00"}},{"$f":"IF($B9=2,$CK9,0)","v":{"v":0,"d":"0.00"}},{"$f":"IF($B9=3,$CK9,0)","v":{"v":0,"d":"0.00"}},{"$f":"IF($B9=4,$CK9,0)","v":{"v":0,"d":"0.00"}},{"$f":"IF($B9=5,$CK9,0)","v":{"v":0,"d":"0.00"}},{"$f":"IF($B9=6,$CK9,0)","v":{"v":0,"d":"0.00"}}]
[{"$f":"IF(C9<>C10,C10,\"\")","v":""},{"$f":"IF(C9<>C10,_xlfn.DAYS(C10,C9)+B9,B9)","v":1},{"$f":"IF(D10>0,IF(D10<E9,C9+1,C9),C9)","v":"2009-03-02"},{"$f":"IF((E10+H10+P10+X10+AF10+AN10+AV10+BD10+BL10+BT10+CB10+CJ10)>0,E9,0)","v":"00:00:00"},null,{"$f":"E10-D10","v":"00:00:00"},{"$f":"IF(E10>0,HOUR(F10)+(MINUTE(F10)/60),0)","v":0},{"$f":"IF(H9>0,IF(P10+X10+AF10+AN10+AV10+BD10+BL10+BT10+CB10+CJ10=0,IF(E10>0,H9,0),0),0)","v":0},{"$f":"G10*H10","v":{"v":0,"d":"0.00"}},{"$f":"IF($B10=1,$I10,0)","v":{"v":0,"d":"0.00"}},{"$f":"IF($B10=2,$I10,0)","v":{"v":0,"d":"0.00"}},{"$f":"IF($B10=3,$I10,0)","v":{"v":0,"d":"0.00"}},{"$f":"IF($B10=4,$I10,0)","v":{"v":0,"d":"0.00"}},{"$f":"IF($B10=5,$I10,0)","v":{"v":0,"d":"0.00"}},{"$f":"IF($B10=6,$I10,0)","v":{"v":0,"d":"0.00"}},{"$f":"IF(P9>0,IF(H10+X10+AF10+AN10+AV10+BD10+BL10+BT10+CB10+CJ10=0,IF(E10>0,P9,0),0),0)","v":0},{"$f":"G10*P10","v":{"v":0,"d":"0.00"}},{"$f":"IF(B10=1,Q10,0)","v":{"v":0,"d":"0.00"}},{"$f":"IF(B10=2,Q10,0)","v":{"v":0,"d":"0.00"}},{"$f":"IF(B10=3,Q10,0)","v":{"v":0,"d":"0.00"}},{"$f":"IF(B10=4,Q10,0)","v":{"v":0,"d":"0.00"}},{"$f":"IF(B10=5,Q10,0)","v":{"v":0,"d":"0.00"}},{"$f":"IF(B10=6,Q10,0)","v":{"v":0,"d":"0.00"}},{"$f":"IF(X9>0,IF(H10+P10+AF10+AN10+AV10+BD10+BL10+BT10+CB10+CJ10=0,IF(E10>0,X9,0),0),0)","v":0},{"$f":"G10*X10","v":{"v":0,"d":"0.00"}},{"$f":"IF($B10=1,$Y10,0)","v":{"v":0,"d":"0.00"}},{"$f":"IF($B10=2,$Y10,0)","v":{"v":0,"d":"0.00"}},{"$f":"IF($B10=3,$Y10,0)","v":{"v":0,"d":"0.00"}},{"$f":"IF($B10=4,$Y10,0)","v":{"v":0,"d":"0.00"}},{"$f":"IF($B10=5,$Y10,0)","v":{"v":0,"d":"0.00"}},{"$f":"IF($B10=6,$Y10,0)","v":{"v":0,"d":"0.00"}},{"$f":"IF(AF9>0,IF(H10+P10+X10+AN10+AV10+BD10+BL10+BT10+CB10+CJ10=0,IF(E10>0,AF9,0),0),0)","v":0},{"$f":"G10*AF10","v":{"v":0,"d":"0.00"}},{"$f":"IF($B10=1,$AG10,0)","v":{"v":0,"d":"0.00"}},{"$f":"IF($B10=2,$AG10,0)","v":{"v":0,"d":"0.00"}},{"$f":"IF($B10=3,$AG10,0)","v":{"v":0,"d":"0.00"}},{"$f":"IF($B10=4,$AG10,0)","v":{"v":0,"d":"0.00"}},{"$f":"IF($B10=5,$AG10,0)","v":{"v":0,"d":"0.00"}},{"$f":"IF($B10=6,$AG10,0)","v":{"v":0,"d":"0.00"}},{"$f":"IF(AN9>0,IF(H10+P10+X10+AF10+AV10+BD10+BL10+BT10+CB10+CJ10=0,IF(E10>0,AN9,0),0),0)","v":0},{"$f":"G10*AN10","v":{"v":0,"d":"0.00"}},{"$f":"IF($B10=1,$AO10,0)","v":{"v":0,"d":"0.00"}},{"$f":"IF($B10=2,$AO10,0)","v":{"v":0,"d":"0.00"}},{"$f":"IF($B10=3,$AO10,0)","v":{"v":0,"d":"0.00"}},{"$f":"IF($B10=4,$AO10,0)","v":{"v":0,"d":"0.00"}},{"$f":"IF($B10=5,$AO10,0)","v":{"v":0,"d":"0.00"}},{"$f":"IF($B10=6,$AO10,0)","v":{"v":0,"d":"0.00"}},{"$f":"IF(AV9>0,IF(H10+P10+X10+AF10+AN10+BD10+BL10+BT10+CB10+CJ10=0,IF(E10>0,AV9,0),0),0)","v":0},{"$f":"G10*AV10","v":{"v":0,"d":"0.00"}},{"$f":"IF($B10=1,$AW10,0)","v":{"v":0,"d":"0.00"}},{"$f":"IF($B10=2,$AW10,0)","v":{"v":0,"d":"0.00"}},{"$f":"IF($B10=3,$AW10,0)","v":{"v":0,"d":"0.00"}},{"$f":"IF($B10=4,$AW10,0)","v":{"v":0,"d":"0.00"}},{"$f":"IF($B10=5,$AW10,0)","v":{"v":0,"d":"0.00"}},{"$f":"IF($B10=6,$AW10,0)","v":{"v":0,"d":"0.00"}},{"$f":"IF(BD9>0,IF(H10+P10+X10+AF10+AN10+AV10+BL10+BT10+CB10+CJ10=0,IF(E10>0,BD9,0),0),0)","v":0},{"$f":"G10*BD10","v":{"v":0,"d":"0.00"}},{"$f":"IF($B10=1,$BE10,0)","v":{"v":0,"d":"0.00"}},{"$f":"IF($B10=2,$BE10,0)","v":{"v":0,"d":"0.00"}},{"$f":"IF($B10=3,$BE10,0)","v":{"v":0,"d":"0.00"}},{"$f":"IF($B10=4,$BE10,0)","v":{"v":0,"d":"0.00"}},{"$f":"IF($B10=5,$BE10,0)","v":{"v":0,"d":"0.00"}},{"$f":"IF($B10=6,$BE10,0)","v":{"v":0,"d":"0.00"}},{"$f":"IF(BL9>0,IF(H10+P10+X10+AF10+AN10+AV10+BD10+BT10+CB10+CJ10=0,IF(E10>0,BL9,0),0),0)","v":0},{"$f":"G10*BL10","v":{"v":0,"d":"0.00"}},{"$f":"IF($B10=1,$BM10,0)","v":{"v":0,"d":"0.00"}},{"$f":"IF($B10=2,$BM10,0)","v":{"v":0,"d":"0.00"}},{"$f":"IF($B10=3,$BM10,0)","v":{"v":0,"d":"0.00"}},{"$f":"IF($B10=4,$BM10,0)","v":{"v":0,"d":"0.00"}},{"$f":"IF($B10=5,$BM10,0)","v":{"v":0,"d":"0.00"}},{"$f":"IF($B10=6,$BM10,0)","v":{"v":0,"d":"0.00"}},{"$f":"IF(BT9>0,IF(H10+P10+X10+AF10+AN10+AV10+BD10+BL10+CB10+CJ10=0,IF(E10>0,BT9,0),0),0)","v":0},{"$f":"G10*BT10","v":{"v":0,"d":"0.00"}},{"$f":"IF($B10=1,$BU10,0)","v":{"v":0,"d":"0.00"}},{"$f":"IF($B10=2,$BU10,0)","v":{"v":0,"d":"0.00"}},{"$f":"IF($B10=3,$BU10,0)","v":{"v":0,"d":"0.00"}},{"$f":"IF($B10=4,$BU10,0)","v":{"v":0,"d":"0.00"}},{"$f":"IF($B10=5,$BU10,0)","v":{"v":0,"d":"0.00"}},{"$f":"IF($B10=6,$BU10,0)","v":{"v":0,"d":"0.00"}},{"$f":"IF(CB9>0,IF(H10+P10+X10+AF10+AN10+AV10+BD10+BL10+BT10+CJ10=0,IF(E10>0,CB9,0),0),0)","v":0},{"$f":"G10*CB10","v":{"v":0,"d":"0.00"}},{"$f":"IF($B10=1,$CC10,0)","v":{"v":0,"d":"0.00"}},{"$f":"IF($B10=2,$CC10,0)","v":{"v":0,"d":"0.00"}},{"$f":"IF($B10=3,$CC10,0)","v":{"v":0,"d":"0.00"}},{"$f":"IF($B10=4,$CC10,0)","v":{"v":0,"d":"0.00"}},{"$f":"IF($B10=5,$CC10,0)","v":{"v":0,"d":"0.00"}},{"$f":"IF($B10=6,$CC10,0)","v":{"v":0,"d":"0.00"}},{"$f":"IF(CJ9>0,IF(H10+P10+X10+AF10+AN10+AV10+BD10+BL10+BT10+CB10=0,IF(E10>0,CJ9,0),0),0)","v":0},{"$f":"G10*CJ10","v":{"v":0,"d":"0.00"}},{"$f":"IF($B10=1,$CK10,0)","v":{"v":0,"d":"0.00"}},{"$f":"IF($B10=2,$CK10,0)","v":{"v":0,"d":"0.00"}},{"$f":"IF($B10=3,$CK10,0)","v":{"v":0,"d":"0.00"}},{"$f":"IF($B10=4,$CK10,0)","v":{"v":0,"d":"0.00"}},{"$f":"IF($B10=5,$CK10,0)","v":{"v":0,"d":"0.00"}},{"$f":"IF($B10=6,$CK10,0)","v":{"v":0,"d":"0.00"}}]
[{"$f":"IF(C10<>C11,C11,\"\")","v":""},{"$f":"IF(C10<>C11,_xlfn.DAYS(C11,C10)+B10,B10)","v":1},{"$f":"IF(D11>0,IF(D11<E10,C10+1,C10),C10)","v":"2009-03-02"},{"$f":"IF((E11+H11+P11+X11+AF11+AN11+AV11+BD11+BL11+BT11+CB11+CJ11)>0,E10,0)","v":"00:00:00"},null,{"$f":"E11-D11","v":"00:00:00"},{"$f":"IF(E11>0,HOUR(F11)+(MINUTE(F11)/60),0)","v":0},{"$f":"IF(H10>0,IF(P11+X11+AF11+AN11+AV11+BD11+BL11+BT11+CB11+CJ11=0,IF(E11>0,H10,0),0),0)","v":0},{"$f":"G11*H11","v":{"v":0,"d":"0.00"}},{"$f":"IF($B11=1,$I11,0)","v":{"v":0,"d":"0.00"}},{"$f":"IF($B11=2,$I11,0)","v":{"v":0,"d":"0.00"}},{"$f":"IF($B11=3,$I11,0)","v":{"v":0,"d":"0.00"}},{"$f":"IF($B11=4,$I11,0)","v":{"v":0,"d":"0.00"}},{"$f":"IF($B11=5,$I11,0)","v":{"v":0,"d":"0.00"}},{"$f":"IF($B11=6,$I11,0)","v":{"v":0,"d":"0.00"}},{"$f":"IF(P10>0,IF(H11+X11+AF11+AN11+AV11+BD11+BL11+BT11+CB11+CJ11=0,IF(E11>0,P10,0),0),0)","v":0},{"$f":"G11*P11","v":{"v":0,"d":"0.00"}},{"$f":"IF(B11=1,Q11,0)","v":{"v":0,"d":"0.00"}},{"$f":"IF(B11=2,Q11,0)","v":{"v":0,"d":"0.00"}},{"$f":"IF(B11=3,Q11,0)","v":{"v":0,"d":"0.00"}},{"$f":"IF(B11=4,Q11,0)","v":{"v":0,"d":"0.00"}},{"$f":"IF(B11=5,Q11,0)","v":{"v":0,"d":"0.00"}},{"$f":"IF(B11=6,Q11,0)","v":{"v":0,"d":"0.00"}},{"$f":"IF(X10>0,IF(H11+P11+AF11+AN11+AV11+BD11+BL11+BT11+CB11+CJ11=0,IF(E11>0,X10,0),0),0)","v":0},{"$f":"G11*X11","v":{"v":0,"d":"0.00"}},{"$f":"IF($B11=1,$Y11,0)","v":{"v":0,"d":"0.00"}},{"$f":"IF($B11=2,$Y11,0)","v":{"v":0,"d":"0.00"}},{"$f":"IF($B11=3,$Y11,0)","v":{"v":0,"d":"0.00"}},{"$f":"IF($B11=4,$Y11,0)","v":{"v":0,"d":"0.00"}},{"$f":"IF($B11=5,$Y11,0)","v":{"v":0,"d":"0.00"}},{"$f":"IF($B11=6,$Y11,0)","v":{"v":0,"d":"0.00"}},{"$f":"IF(AF10>0,IF(H11+P11+X11+AN11+AV11+BD11+BL11+BT11+CB11+CJ11=0,IF(E11>0,AF10,0),0),0)","v":0},{"$f":"G11*AF11","v":{"v":0,"d":"0.00"}},{"$f":"IF($B11=1,$AG11,0)","v":{"v":0,"d":"0.00"}},{"$f":"IF($B11=2,$AG11,0)","v":{"v":0,"d":"0.00"}},{"$f":"IF($B11=3,$AG11,0)","v":{"v":0,"d":"0.00"}},{"$f":"IF($B11=4,$AG11,0)","v":{"v":0,"d":"0.00"}},{"$f":"IF($B11=5,$AG11,0)","v":{"v":0,"d":"0.00"}},{"$f":"IF($B11=6,$AG11,0)","v":{"v":0,"d":"0.00"}},{"$f":"IF(AN10>0,IF(H11+P11+X11+AF11+AV11+BD11+BL11+BT11+CB11+CJ11=0,IF(E11>0,AN10,0),0),0)","v":0},{"$f":"G11*AN11","v":{"v":0,"d":"0.00"}},{"$f":"IF($B11=1,$AO11,0)","v":{"v":0,"d":"0.00"}},{"$f":"IF($B11=2,$AO11,0)","v":{"v":0,"d":"0.00"}},{"$f":"IF($B11=3,$AO11,0)","v":{"v":0,"d":"0.00"}},{"$f":"IF($B11=4,$AO11,0)","v":{"v":0,"d":"0.00"}},{"$f":"IF($B11=5,$AO11,0)","v":{"v":0,"d":"0.00"}},{"$f":"IF($B11=6,$AO11,0)","v":{"v":0,"d":"0.00"}},{"$f":"IF(AV10>0,IF(H11+P11+X11+AF11+AN11+BD11+BL11+BT11+CB11+CJ11=0,IF(E11>0,AV10,0),0),0)","v":0},{"$f":"G11*AV11","v":{"v":0,"d":"0.00"}},{"$f":"IF($B11=1,$AW11,0)","v":{"v":0,"d":"0.00"}},{"$f":"IF($B11=2,$AW11,0)","v":{"v":0,"d":"0.00"}},{"$f":"IF($B11=3,$AW11,0)","v":{"v":0,"d":"0.00"}},{"$f":"IF($B11=4,$AW11,0)","v":{"v":0,"d":"0.00"}},{"$f":"IF($B11=5,$AW11,0)","v":{"v":0,"d":"0.00"}},{"$f":"IF($B11=6,$AW11,0)","v":{"v":0,"d":"0.00"}},{"$f":"IF(BD10>0,IF(H11+P11+X11+AF11+AN11+AV11+BL11+BT11+CB11+CJ11=0,IF(E11>0,BD10,0),0),0)","v":0},{"$f":"G11*BD11","v":{"v":0,"d":"0.00"}},{"$f":"IF($B11=1,$BE11,0)","v":{"v":0,"d":"0.00"}},{"$f":"IF($B11=2,$BE11,0)","v":{"v":0,"d":"0.00"}},{"$f":"IF($B11=3,$BE11,0)","v":{"v":0,"d":"0.00"}},{"$f":"IF($B11=4,$BE11,0)","v":{"v":0,"d":"0.00"}},{"$f":"IF($B11=5,$BE11,0)","v":{"v":0,"d":"0.00"}},{"$f":"IF($B11=6,$BE11,0)","v":{"v":0,"d":"0.00"}},{"$f":"IF(BL10>0,IF(H11+P11+X11+AF11+AN11+AV11+BD11+BT11+CB11+CJ11=0,IF(E11>0,BL10,0),0),0)","v":0},{"$f":"G11*BL11","v":{"v":0,"d":"0.00"}},{"$f":"IF($B11=1,$BM11,0)","v":{"v":0,"d":"0.00"}},{"$f":"IF($B11=2,$BM11,0)","v":{"v":0,"d":"0.00"}},{"$f":"IF($B11=3,$BM11,0)","v":{"v":0,"d":"0.00"}},{"$f":"IF($B11=4,$BM11,0)","v":{"v":0,"d":"0.00"}},{"$f":"IF($B11=5,$BM11,0)","v":{"v":0,"d":"0.00"}},{"$f":"IF($B11=6,$BM11,0)","v":{"v":0,"d":"0.00"}},{"$f":"IF(BT10>0,IF(H11+P11+X11+AF11+AN11+AV11+BD11+BL11+CB11+CJ11=0,IF(E11>0,BT10,0),0),0)","v":0},{"$f":"G11*BT11","v":{"v":0,"d":"0.00"}},{"$f":"IF($B11=1,$BU11,0)","v":{"v":0,"d":"0.00"}},{"$f":"IF($B11=2,$BU11,0)","v":{"v":0,"d":"0.00"}},{"$f":"IF($B11=3,$BU11,0)","v":{"v":0,"d":"0.00"}},{"$f":"IF($B11=4,$BU11,0)","v":{"v":0,"d":"0.00"}},{"$f":"IF($B11=5,$BU11,0)","v":{"v":0,"d":"0.00"}},{"$f":"IF($B11=6,$BU11,0)","v":{"v":0,"d":"0.00"}},{"$f":"IF(CB10>0,IF(H11+P11+X11+AF11+AN11+AV11+BD11+BL11+BT11+CJ11=0,IF(E11>0,CB10,0),0),0)","v":0},{"$f":"G11*CB11","v":{"v":0,"d":"0.00"}},{"$f":"IF($B11=1,$CC11,0)","v":{"v":0,"d":"0.00"}},{"$f":"IF($B11=2,$CC11,0)","v":{"v":0,"d":"0.00"}},{"$f":"IF($B11=3,$CC11,0)","v":{"v":0,"d":"0.00"}},{"$f":"IF($B11=4,$CC11,0)","v":{"v":0,"d":"0.00"}},{"$f":"IF($B11=5,$CC11,0)","v":{"v":0,"d":"0.00"}},{"$f":"IF($B11=6,$CC11,0)","v":{"v":0,"d":"0.00"}},{"$f":"IF(CJ10>0,IF(H11+P11+X11+AF11+AN11+AV11+BD11+BL11+BT11+CB11=0,IF(E11>0,CJ10,0),0),0)","v":0},{"$f":"G11*CJ11","v":{"v":0,"d":"0.00"}},{"$f":"IF($B11=1,$CK11,0)","v":{"v":0,"d":"0.00"}},{"$f":"IF($B11=2,$CK11,0)","v":{"v":0,"d":"0.00"}},{"$f":"IF($B11=3,$CK11,0)","v":{"v":0,"d":"0.00"}},{"$f":"IF($B11=4,$CK11,0)","v":{"v":0,"d":"0.00"}},{"$f":"IF($B11=5,$CK11,0)","v":{"v":0,"d":"0.00"}},{"$f":"IF($B11=6,$CK11,0)","v":{"v":0,"d":"0.00"}}]
[{"$f":"IF(C11<>C12,C12,\"\")","v":""},{"$f":"IF(C11<>C12,_xlfn.DAYS(C12,C11)+B11,B11)","v":1},{"$f":"IF(D12>0,IF(D12<E11,C11+1,C11),C11)","v":"2009-03-02"},{"$f":"IF((E12+H12+P12+X12+AF12+AN12+AV12+BD12+BL12+BT12+CB12+CJ12)>0,E11,0)","v":"00:00:00"},null,{"$f":"E12-D12","v":"00:00:00"},{"$f":"IF(E12>0,HOUR(F12)+(MINUTE(F12)/60),0)","v":0},{"$f":"IF(H11>0,IF(P12+X12+AF12+AN12+AV12+BD12+BL12+BT12+CB12+CJ12=0,IF(E12>0,H11,0),0),0)","v":0},{"$f":"G12*H12","v":{"v":0,"d":"0.00"}},{"$f":"IF($B12=1,$I12,0)","v":{"v":0,"d":"0.00"}},{"$f":"IF($B12=2,$I12,0)","v":{"v":0,"d":"0.00"}},{"$f":"IF($B12=3,$I12,0)","v":{"v":0,"d":"0.00"}},{"$f":"IF($B12=4,$I12,0)","v":{"v":0,"d":"0.00"}},{"$f":"IF($B12=5,$I12,0)","v":{"v":0,"d":"0.00"}},{"$f":"IF($B12=6,$I12,0)","v":{"v":0,"d":"0.00"}},{"$f":"IF(P11>0,IF(H12+X12+AF12+AN12+AV12+BD12+BL12+BT12+CB12+CJ12=0,IF(E12>0,P11,0),0),0)","v":0},{"$f":"G12*P12","v":{"v":0,"d":"0.00"}},{"$f":"IF(B12=1,Q12,0)","v":{"v":0,"d":"0.00"}},{"$f":"IF(B12=2,Q12,0)","v":{"v":0,"d":"0.00"}},{"$f":"IF(B12=3,Q12,0)","v":{"v":0,"d":"0.00"}},{"$f":"IF(B12=4,Q12,0)","v":{"v":0,"d":"0.00"}},{"$f":"IF(B12=5,Q12,0)","v":{"v":0,"d":"0.00"}},{"$f":"IF(B12=6,Q12,0)","v":{"v":0,"d":"0.00"}},{"$f":"IF(X11>0,IF(H12+P12+AF12+AN12+AV12+BD12+BL12+BT12+CB12+CJ12=0,IF(E12>0,X11,0),0),0)","v":0},{"$f":"G12*X12","v":{"v":0,"d":"0.00"}},{"$f":"IF($B12=1,$Y12,0)","v":{"v":0,"d":"0.00"}},{"$f":"IF($B12=2,$Y12,0)","v":{"v":0,"d":"0.00"}},{"$f":"IF($B12=3,$Y12,0)","v":{"v":0,"d":"0.00"}},{"$f":"IF($B12=4,$Y12,0)","v":{"v":0,"d":"0.00"}},{"$f":"IF($B12=5,$Y12,0)","v":{"v":0,"d":"0.00"}},{"$f":"IF($B12=6,$Y12,0)","v":{"v":0,"d":"0.00"}},{"$f":"IF(AF11>0,IF(H12+P12+X12+AN12+AV12+BD12+BL12+BT12+CB12+CJ12=0,IF(E12>0,AF11,0),0),0)","v":0},{"$f":"G12*AF12","v":{"v":0,"d":"0.00"}},{"$f":"IF($B12=1,$AG12,0)","v":{"v":0,"d":"0.00"}},{"$f":"IF($B12=2,$AG12,0)","v":{"v":0,"d":"0.00"}},{"$f":"IF($B12=3,$AG12,0)","v":{"v":0,"d":"0.00"}},{"$f":"IF($B12=4,$AG12,0)","v":{"v":0,"d":"0.00"}},{"$f":"IF($B12=5,$AG12,0)","v":{"v":0,"d":"0.00"}},{"$f":"IF($B12=6,$AG12,0)","v":{"v":0,"d":"0.00"}},{"$f":"IF(AN11>0,IF(H12+P12+X12+AF12+AV12+BD12+BL12+BT12+CB12+CJ12=0,IF(E12>0,AN11,0),0),0)","v":0},{"$f":"G12*AN12","v":{"v":0,"d":"0.00"}},{"$f":"IF($B12=1,$AO12,0)","v":{"v":0,"d":"0.00"}},{"$f":"IF($B12=2,$AO12,0)","v":{"v":0,"d":"0.00"}},{"$f":"IF($B12=3,$AO12,0)","v":{"v":0,"d":"0.00"}},{"$f":"IF($B12=4,$AO12,0)","v":{"v":0,"d":"0.00"}},{"$f":"IF($B12=5,$AO12,0)","v":{"v":0,"d":"0.00"}},{"$f":"IF($B12=6,$AO12,0)","v":{"v":0,"d":"0.00"}},{"$f":"IF(AV11>0,IF(H12+P12+X12+AF12+AN12+BD12+BL12+BT12+CB12+CJ12=0,IF(E12>0,AV11,0),0),0)","v":0},{"$f":"G12*AV12","v":{"v":0,"d":"0.00"}},{"$f":"IF($B12=1,$AW12,0)","v":{"v":0,"d":"0.00"}},{"$f":"IF($B12=2,$AW12,0)","v":{"v":0,"d":"0.00"}},{"$f":"IF($B12=3,$AW12,0)","v":{"v":0,"d":"0.00"}},{"$f":"IF($B12=4,$AW12,0)","v":{"v":0,"d":"0.00"}},{"$f":"IF($B12=5,$AW12,0)","v":{"v":0,"d":"0.00"}},{"$f":"IF($B12=6,$AW12,0)","v":{"v":0,"d":"0.00"}},{"$f":"IF(BD11>0,IF(H12+P12+X12+AF12+AN12+AV12+BL12+BT12+CB12+CJ12=0,IF(E12>0,BD11,0),0),0)","v":0},{"$f":"G12*BD12","v":{"v":0,"d":"0.00"}},{"$f":"IF($B12=1,$BE12,0)","v":{"v":0,"d":"0.00"}},{"$f":"IF($B12=2,$BE12,0)","v":{"v":0,"d":"0.00"}},{"$f":"IF($B12=3,$BE12,0)","v":{"v":0,"d":"0.00"}},{"$f":"IF($B12=4,$BE12,0)","v":{"v":0,"d":"0.00"}},{"$f":"IF($B12=5,$BE12,0)","v":{"v":0,"d":"0.00"}},{"$f":"IF($B12=6,$BE12,0)","v":{"v":0,"d":"0.00"}},{"$f":"IF(BL11>0,IF(H12+P12+X12+AF12+AN12+AV12+BD12+BT12+CB12+CJ12=0,IF(E12>0,BL11,0),0),0)","v":0},{"$f":"G12*BL12","v":{"v":0,"d":"0.00"}},{"$f":"IF($B12=1,$BM12,0)","v":{"v":0,"d":"0.00"}},{"$f":"IF($B12=2,$BM12,0)","v":{"v":0,"d":"0.00"}},{"$f":"IF($B12=3,$BM12,0)","v":{"v":0,"d":"0.00"}},{"$f":"IF($B12=4,$BM12,0)","v":{"v":0,"d":"0.00"}},{"$f":"IF($B12=5,$BM12,0)","v":{"v":0,"d":"0.00"}},{"$f":"IF($B12=6,$BM12,0)","v":{"v":0,"d":"0.00"}},{"$f":"IF(BT11>0,IF(H12+P12+X12+AF12+AN12+AV12+BD12+BL12+CB12+CJ12=0,IF(E12>0,BT11,0),0),0)","v":0},{"$f":"G12*BT12","v":{"v":0,"d":"0.00"}},{"$f":"IF($B12=1,$BU12,0)","v":{"v":0,"d":"0.00"}},{"$f":"IF($B12=2,$BU12,0)","v":{"v":0,"d":"0.00"}},{"$f":"IF($B12=3,$BU12,0)","v":{"v":0,"d":"0.00"}},{"$f":"IF($B12=4,$BU12,0)","v":{"v":0,"d":"0.00"}},{"$f":"IF($B12=5,$BU12,0)","v":{"v":0,"d":"0.00"}},{"$f":"IF($B12=6,$BU12,0)","v":{"v":0,"d":"0.00"}},{"$f":"IF(CB11>0,IF(H12+P12+X12+AF12+AN12+AV12+BD12+BL12+BT12+CJ12=0,IF(E12>0,CB11,0),0),0)","v":0},{"$f":"G12*CB12","v":{"v":0,"d":"0.00"}},{"$f":"IF($B12=1,$CC12,0)","v":{"v":0,"d":"0.00"}},{"$f":"IF($B12=2,$CC12,0)","v":{"v":0,"d":"0.00"}},{"$f":"IF($B12=3,$CC12,0)","v":{"v":0,"d":"0.00"}},{"$f":"IF($B12=4,$CC12,0)","v":{"v":0,"d":"0.00"}},{"$f":"IF($B12=5,$CC12,0)","v":{"v":0,"d":"0.00"}},{"$f":"IF($B12=6,$CC12,0)","v":{"v":0,"d":"0.00"}},{"$f":"IF(CJ11>0,IF(H12+P12+X12+AF12+AN12+AV12+BD12+BL12+BT12+CB12=0,IF(E12>0,CJ11,0),0),0)","v":0},{"$f":"G12*CJ12","v":{"v":0,"d":"0.00"}},{"$f":"IF($B12=1,$CK12,0)","v":{"v":0,"d":"0.00"}},{"$f":"IF($B12=2,$CK12,0)","v":{"v":0,"d":"0.00"}},{"$f":"IF($B12=3,$CK12,0)","v":{"v":0,"d":"0.00"}},{"$f":"IF($B12=4,$CK12,0)","v":{"v":0,"d":"0.00"}},{"$f":"IF($B12=5,$CK12,0)","v":{"v":0,"d":"0.00"}},{"$f":"IF($B12=6,$CK12,0)","v":{"v":0,"d":"0.00"}}]
[{"$f":"IF(C12<>C13,C13,\"\")","v":""},{"$f":"IF(C12<>C13,_xlfn.DAYS(C13,C12)+B12,B12)","v":1},{"$f":"IF(D13>0,IF(D13<E12,C12+1,C12),C12)","v":"2009-03-02"},{"$f":"IF((E13+H13+P13+X13+AF13+AN13+AV13+BD13+BL13+BT13+CB13+CJ13)>0,E12,0)","v":"00:00:00"},null,{"$f":"E13-D13","v":"00:00:00"},{"$f":"IF(E13>0,HOUR(F13)+(MINUTE(F13)/60),0)","v":0},{"$f":"IF(H12>0,IF(P13+X13+AF13+AN13+AV13+BD13+BL13+BT13+CB13+CJ13=0,IF(E13>0,H12,0),0),0)","v":0},{"$f":"G13*H13","v":{"v":0,"d":"0.00"}},{"$f":"IF($B13=1,$I13,0)","v":{"v":0,"d":"0.00"}},{"$f":"IF($B13=2,$I13,0)","v":{"v":0,"d":"0.00"}},{"$f":"IF($B13=3,$I13,0)","v":{"v":0,"d":"0.00"}},{"$f":"IF($B13=4,$I13,0)","v":{"v":0,"d":"0.00"}},{"$f":"IF($B13=5,$I13,0)","v":{"v":0,"d":"0.00"}},{"$f":"IF($B13=6,$I13,0)","v":{"v":0,"d":"0.00"}},{"$f":"IF(P12>0,IF(H13+X13+AF13+AN13+AV13+BD13+BL13+BT13+CB13+CJ13=0,IF(E13>0,P12,0),0),0)","v":0},{"$f":"G13*P13","v":{"v":0,"d":"0.00"}},{"$f":"IF(B13=1,Q13,0)","v":{"v":0,"d":"0.00"}},{"$f":"IF(B13=2,Q13,0)","v":{"v":0,"d":"0.00"}},{"$f":"IF(B13=3,Q13,0)","v":{"v":0,"d":"0.00"}},{"$f":"IF(B13=4,Q13,0)","v":{"v":0,"d":"0.00"}},{"$f":"IF(B13=5,Q13,0)","v":{"v":0,"d":"0.00"}},{"$f":"IF(B13=6,Q13,0)","v":{"v":0,"d":"0.00"}},{"$f":"IF(X12>0,IF(H13+P13+AF13+AN13+AV13+BD13+BL13+BT13+CB13+CJ13=0,IF(E13>0,X12,0),0),0)","v":0},{"$f":"G13*X13","v":{"v":0,"d":"0.00"}},{"$f":"IF($B13=1,$Y13,0)","v":{"v":0,"d":"0.00"}},{"$f":"IF($B13=2,$Y13,0)","v":{"v":0,"d":"0.00"}},{"$f":"IF($B13=3,$Y13,0)","v":{"v":0,"d":"0.00"}},{"$f":"IF($B13=4,$Y13,0)","v":{"v":0,"d":"0.00"}},{"$f":"IF($B13=5,$Y13,0)","v":{"v":0,"d":"0.00"}},{"$f":"IF($B13=6,$Y13,0)","v":{"v":0,"d":"0.00"}},{"$f":"IF(AF12>0,IF(H13+P13+X13+AN13+AV13+BD13+BL13+BT13+CB13+CJ13=0,IF(E13>0,AF12,0),0),0)","v":0},{"$f":"G13*AF13","v":{"v":0,"d":"0.00"}},{"$f":"IF($B13=1,$AG13,0)","v":{"v":0,"d":"0.00"}},{"$f":"IF($B13=2,$AG13,0)","v":{"v":0,"d":"0.00"}},{"$f":"IF($B13=3,$AG13,0)","v":{"v":0,"d":"0.00"}},{"$f":"IF($B13=4,$AG13,0)","v":{"v":0,"d":"0.00"}},{"$f":"IF($B13=5,$AG13,0)","v":{"v":0,"d":"0.00"}},{"$f":"IF($B13=6,$AG13,0)","v":{"v":0,"d":"0.00"}},{"$f":"IF(AN12>0,IF(H13+P13+X13+AF13+AV13+BD13+BL13+BT13+CB13+CJ13=0,IF(E13>0,AN12,0),0),0)","v":0},{"$f":"G13*AN13","v":{"v":0,"d":"0.00"}},{"$f":"IF($B13=1,$AO13,0)","v":{"v":0,"d":"0.00"}},{"$f":"IF($B13=2,$AO13,0)","v":{"v":0,"d":"0.00"}},{"$f":"IF($B13=3,$AO13,0)","v":{"v":0,"d":"0.00"}},{"$f":"IF($B13=4,$AO13,0)","v":{"v":0,"d":"0.00"}},{"$f":"IF($B13=5,$AO13,0)","v":{"v":0,"d":"0.00"}},{"$f":"IF($B13=6,$AO13,0)","v":{"v":0,"d":"0.00"}},{"$f":"IF(AV12>0,IF(H13+P13+X13+AF13+AN13+BD13+BL13+BT13+CB13+CJ13=0,IF(E13>0,AV12,0),0),0)","v":0},{"$f":"G13*AV13","v":{"v":0,"d":"0.00"}},{"$f":"IF($B13=1,$AW13,0)","v":{"v":0,"d":"0.00"}},{"$f":"IF($B13=2,$AW13,0)","v":{"v":0,"d":"0.00"}},{"$f":"IF($B13=3,$AW13,0)","v":{"v":0,"d":"0.00"}},{"$f":"IF($B13=4,$AW13,0)","v":{"v":0,"d":"0.00"}},{"$f":"IF($B13=5,$AW13,0)","v":{"v":0,"d":"0.00"}},{"$f":"IF($B13=6,$AW13,0)","v":{"v":0,"d":"0.00"}},{"$f":"IF(BD12>0,IF(H13+P13+X13+AF13+AN13+AV13+BL13+BT13+CB13+CJ13=0,IF(E13>0,BD12,0),0),0)","v":0},{"$f":"G13*BD13","v":{"v":0,"d":"0.00"}},{"$f":"IF($B13=1,$BE13,0)","v":{"v":0,"d":"0.00"}},{"$f":"IF($B13=2,$BE13,0)","v":{"v":0,"d":"0.00"}},{"$f":"IF($B13=3,$BE13,0)","v":{"v":0,"d":"0.00"}},{"$f":"IF($B13=4,$BE13,0)","v":{"v":0,"d":"0.00"}},{"$f":"IF($B13=5,$BE13,0)","v":{"v":0,"d":"0.00"}},{"$f":"IF($B13=6,$BE13,0)","v":{"v":0,"d":"0.00"}},{"$f":"IF(BL12>0,IF(H13+P13+X13+AF13+AN13+AV13+BD13+BT13+CB13+CJ13=0,IF(E13>0,BL12,0),0),0)","v":0},{"$f":"G13*BL13","v":{"v":0,"d":"0.00"}},{"$f":"IF($B13=1,$BM13,0)","v":{"v":0,"d":"0.00"}},{"$f":"IF($B13=2,$BM13,0)","v":{"v":0,"d":"0.00"}},{"$f":"IF($B13=3,$BM13,0)","v":{"v":0,"d":"0.00"}},{"$f":"IF($B13=4,$BM13,0)","v":{"v":0,"d":"0.00"}},{"$f":"IF($B13=5,$BM13,0)","v":{"v":0,"d":"0.00"}},{"$f":"IF($B13=6,$BM13,0)","v":{"v":0,"d":"0.00"}},{"$f":"IF(BT12>0,IF(H13+P13+X13+AF13+AN13+AV13+BD13+BL13+CB13+CJ13=0,IF(E13>0,BT12,0),0),0)","v":0},{"$f":"G13*BT13","v":{"v":0,"d":"0.00"}},{"$f":"IF($B13=1,$BU13,0)","v":{"v":0,"d":"0.00"}},{"$f":"IF($B13=2,$BU13,0)","v":{"v":0,"d":"0.00"}},{"$f":"IF($B13=3,$BU13,0)","v":{"v":0,"d":"0.00"}},{"$f":"IF($B13=4,$BU13,0)","v":{"v":0,"d":"0.00"}},{"$f":"IF($B13=5,$BU13,0)","v":{"v":0,"d":"0.00"}},{"$f":"IF($B13=6,$BU13,0)","v":{"v":0,"d":"0.00"}},{"$f":"IF(CB12>0,IF(H13+P13+X13+AF13+AN13+AV13+BD13+BL13+BT13+CJ13=0,IF(E13>0,CB12,0),0),0)","v":0},{"$f":"G13*CB13","v":{"v":0,"d":"0.00"}},{"$f":"IF($B13=1,$CC13,0)","v":{"v":0,"d":"0.00"}},{"$f":"IF($B13=2,$CC13,0)","v":{"v":0,"d":"0.00"}},{"$f":"IF($B13=3,$CC13,0)","v":{"v":0,"d":"0.00"}},{"$f":"IF($B13=4,$CC13,0)","v":{"v":0,"d":"0.00"}},{"$f":"IF($B13=5,$CC13,0)","v":{"v":0,"d":"0.00"}},{"$f":"IF($B13=6,$CC13,0)","v":{"v":0,"d":"0.00"}},{"$f":"IF(CJ12>0,IF(H13+P13+X13+AF13+AN13+AV13+BD13+BL13+BT13+CB13=0,IF(E13>0,CJ12,0),0),0)","v":0},{"$f":"G13*CJ13","v":{"v":0,"d":"0.00"}},{"$f":"IF($B13=1,$CK13,0)","v":{"v":0,"d":"0.00"}},{"$f":"IF($B13=2,$CK13,0)","v":{"v":0,"d":"0.00"}},{"$f":"IF($B13=3,$CK13,0)","v":{"v":0,"d":"0.00"}},{"$f":"IF($B13=4,$CK13,0)","v":{"v":0,"d":"0.00"}},{"$f":"IF($B13=5,$CK13,0)","v":{"v":0,"d":"0.00"}},{"$f":"IF($B13=6,$CK13,0)","v":{"v":0,"d":"0.00"}}]
[{"$f":"IF(C13<>C14,C14,\"\")","v":""},{"$f":"IF(C13<>C14,_xlfn.DAYS(C14,C13)+B13,B13)","v":1},{"$f":"IF(D14>0,IF(D14<E13,C13+1,C13),C13)","v":"2009-03-02"},{"$f":"IF((E14+H14+P14+X14+AF14+AN14+AV14+BD14+BL14+BT14+CB14+CJ14)>0,E13,0)","v":"00:00:00"},null,{"$f":"E14-D14","v":"00:00:00"},{"$f":"IF(E14>0,HOUR(F14)+(MINUTE(F14)/60),0)","v":0},{"$f":"IF(H13>0,IF(P14+X14+AF14+AN14+AV14+BD14+BL14+BT14+CB14+CJ14=0,IF(E14>0,H13,0),0),0)","v":0},{"$f":"G14*H14","v":{"v":0,"d":"0.00"}},{"$f":"IF($B14=1,$I14,0)","v":{"v":0,"d":"0.00"}},{"$f":"IF($B14=2,$I14,0)","v":{"v":0,"d":"0.00"}},{"$f":"IF($B14=3,$I14,0)","v":{"v":0,"d":"0.00"}},{"$f":"IF($B14=4,$I14,0)","v":{"v":0,"d":"0.00"}},{"$f":"IF($B14=5,$I14,0)","v":{"v":0,"d":"0.00"}},{"$f":"IF($B14=6,$I14,0)","v":{"v":0,"d":"0.00"}},{"$f":"IF(P13>0,IF(H14+X14+AF14+AN14+AV14+BD14+BL14+BT14+CB14+CJ14=0,IF(E14>0,P13,0),0),0)","v":0},{"$f":"G14*P14","v":{"v":0,"d":"0.00"}},{"$f":"IF(B14=1,Q14,0)","v":{"v":0,"d":"0.00"}},{"$f":"IF(B14=2,Q14,0)","v":{"v":0,"d":"0.00"}},{"$f":"IF(B14=3,Q14,0)","v":{"v":0,"d":"0.00"}},{"$f":"IF(B14=4,Q14,0)","v":{"v":0,"d":"0.00"}},{"$f":"IF(B14=5,Q14,0)","v":{"v":0,"d":"0.00"}},{"$f":"IF(B14=6,Q14,0)","v":{"v":0,"d":"0.00"}},{"$f":"IF(X13>0,IF(H14+P14+AF14+AN14+AV14+BD14+BL14+BT14+CB14+CJ14=0,IF(E14>0,X13,0),0),0)","v":0},{"$f":"G14*X14","v":{"v":0,"d":"0.00"}},{"$f":"IF($B14=1,$Y14,0)","v":{"v":0,"d":"0.00"}},{"$f":"IF($B14=2,$Y14,0)","v":{"v":0,"d":"0.00"}},{"$f":"IF($B14=3,$Y14,0)","v":{"v":0,"d":"0.00"}},{"$f":"IF($B14=4,$Y14,0)","v":{"v":0,"d":"0.00"}},{"$f":"IF($B14=5,$Y14,0)","v":{"v":0,"d":"0.00"}},{"$f":"IF($B14=6,$Y14,0)","v":{"v":0,"d":"0.00"}},{"$f":"IF(AF13>0,IF(H14+P14+X14+AN14+AV14+BD14+BL14+BT14+CB14+CJ14=0,IF(E14>0,AF13,0),0),0)","v":0},{"$f":"G14*AF14","v":{"v":0,"d":"0.00"}},{"$f":"IF($B14=1,$AG14,0)","v":{"v":0,"d":"0.00"}},{"$f":"IF($B14=2,$AG14,0)","v":{"v":0,"d":"0.00"}},{"$f":"IF($B14=3,$AG14,0)","v":{"v":0,"d":"0.00"}},{"$f":"IF($B14=4,$AG14,0)","v":{"v":0,"d":"0.00"}},{"$f":"IF($B14=5,$AG14,0)","v":{"v":0,"d":"0.00"}},{"$f":"IF($B14=6,$AG14,0)","v":{"v":0,"d":"0.00"}},{"$f":"IF(AN13>0,IF(H14+P14+X14+AF14+AV14+BD14+BL14+BT14+CB14+CJ14=0,IF(E14>0,AN13,0),0),0)","v":0},{"$f":"G14*AN14","v":{"v":0,"d":"0.00"}},{"$f":"IF($B14=1,$AO14,0)","v":{"v":0,"d":"0.00"}},{"$f":"IF($B14=2,$AO14,0)","v":{"v":0,"d":"0.00"}},{"$f":"IF($B14=3,$AO14,0)","v":{"v":0,"d":"0.00"}},{"$f":"IF($B14=4,$AO14,0)","v":{"v":0,"d":"0.00"}},{"$f":"IF($B14=5,$AO14,0)","v":{"v":0,"d":"0.00"}},{"$f":"IF($B14=6,$AO14,0)","v":{"v":0,"d":"0.00"}},{"$f":"IF(AV13>0,IF(H14+P14+X14+AF14+AN14+BD14+BL14+BT14+CB14+CJ14=0,IF(E14>0,AV13,0),0),0)","v":0},{"$f":"G14*AV14","v":{"v":0,"d":"0.00"}},{"$f":"IF($B14=1,$AW14,0)","v":{"v":0,"d":"0.00"}},{"$f":"IF($B14=2,$AW14,0)","v":{"v":0,"d":"0.00"}},{"$f":"IF($B14=3,$AW14,0)","v":{"v":0,"d":"0.00"}},{"$f":"IF($B14=4,$AW14,0)","v":{"v":0,"d":"0.00"}},{"$f":"IF($B14=5,$AW14,0)","v":{"v":0,"d":"0.00"}},{"$f":"IF($B14=6,$AW14,0)","v":{"v":0,"d":"0.00"}},{"$f":"IF(BD13>0,IF(H14+P14+X14+AF14+AN14+AV14+BL14+BT14+CB14+CJ14=0,IF(E14>0,BD13,0),0),0)","v":0},{"$f":"G14*BD14","v":{"v":0,"d":"0.00"}},{"$f":"IF($B14=1,$BE14,0)","v":{"v":0,"d":"0.00"}},{"$f":"IF($B14=2,$BE14,0)","v":{"v":0,"d":"0.00"}},{"$f":"IF($B14=3,$BE14,0)","v":{"v":0,"d":"0.00"}},{"$f":"IF($B14=4,$BE14,0)","v":{"v":0,"d":"0.00"}},{"$f":"IF($B14=5,$BE14,0)","v":{"v":0,"d":"0.00"}},{"$f":"IF($B14=6,$BE14,0)","v":{"v":0,"d":"0.00"}},{"$f":"IF(BL13>0,IF(H14+P14+X14+AF14+AN14+AV14+BD14+BT14+CB14+CJ14=0,IF(E14>0,BL13,0),0),0)","v":0},{"$f":"G14*BL14","v":{"v":0,"d":"0.00"}},{"$f":"IF($B14=1,$BM14,0)","v":{"v":0,"d":"0.00"}},{"$f":"IF($B14=2,$BM14,0)","v":{"v":0,"d":"0.00"}},{"$f":"IF($B14=3,$BM14,0)","v":{"v":0,"d":"0.00"}},{"$f":"IF($B14=4,$BM14,0)","v":{"v":0,"d":"0.00"}},{"$f":"IF($B14=5,$BM14,0)","v":{"v":0,"d":"0.00"}},{"$f":"IF($B14=6,$BM14,0)","v":{"v":0,"d":"0.00"}},{"$f":"IF(BT13>0,IF(H14+P14+X14+AF14+AN14+AV14+BD14+BL14+CB14+CJ14=0,IF(E14>0,BT13,0),0),0)","v":0},{"$f":"G14*BT14","v":{"v":0,"d":"0.00"}},{"$f":"IF($B14=1,$BU14,0)","v":{"v":0,"d":"0.00"}},{"$f":"IF($B14=2,$BU14,0)","v":{"v":0,"d":"0.00"}},{"$f":"IF($B14=3,$BU14,0)","v":{"v":0,"d":"0.00"}},{"$f":"IF($B14=4,$BU14,0)","v":{"v":0,"d":"0.00"}},{"$f":"IF($B14=5,$BU14,0)","v":{"v":0,"d":"0.00"}},{"$f":"IF($B14=6,$BU14,0)","v":{"v":0,"d":"0.00"}},{"$f":"IF(CB13>0,IF(H14+P14+X14+AF14+AN14+AV14+BD14+BL14+BT14+CJ14=0,IF(E14>0,CB13,0),0),0)","v":0},{"$f":"G14*CB14","v":{"v":0,"d":"0.00"}},{"$f":"IF($B14=1,$CC14,0)","v":{"v":0,"d":"0.00"}},{"$f":"IF($B14=2,$CC14,0)","v":{"v":0,"d":"0.00"}},{"$f":"IF($B14=3,$CC14,0)","v":{"v":0,"d":"0.00"}},{"$f":"IF($B14=4,$CC14,0)","v":{"v":0,"d":"0.00"}},{"$f":"IF($B14=5,$CC14,0)","v":{"v":0,"d":"0.00"}},{"$f":"IF($B14=6,$CC14,0)","v":{"v":0,"d":"0.00"}},{"$f":"IF(CJ13>0,IF(H14+P14+X14+AF14+AN14+AV14+BD14+BL14+BT14+CB14=0,IF(E14>0,CJ13,0),0),0)","v":0},{"$f":"G14*CJ14","v":{"v":0,"d":"0.00"}},{"$f":"IF($B14=1,$CK14,0)","v":{"v":0,"d":"0.00"}},{"$f":"IF($B14=2,$CK14,0)","v":{"v":0,"d":"0.00"}},{"$f":"IF($B14=3,$CK14,0)","v":{"v":0,"d":"0.00"}},{"$f":"IF($B14=4,$CK14,0)","v":{"v":0,"d":"0.00"}},{"$f":"IF($B14=5,$CK14,0)","v":{"v":0,"d":"0.00"}},{"$f":"IF($B14=6,$CK14,0)","v":{"v":0,"d":"0.00"}}]
[{"$f":"IF(C14<>C15,C15,\"\")","v":""},{"$f":"IF(C14<>C15,_xlfn.DAYS(C15,C14)+B14,B14)","v":1},{"$f":"IF(D15>0,IF(D15<E14,C14+1,C14),C14)","v":"2009-03-02"},{"$f":"IF((E15+H15+P15+X15+AF15+AN15+AV15+BD15+BL15+BT15+CB15+CJ15)>0,E14,0)","v":"00:00:00"},null,{"$f":"E15-D15","v":"00:00:00"},{"$f":"IF(E15>0,HOUR(F15)+(MINUTE(F15)/60),0)","v":0},{"$f":"IF(H14>0,IF(P15+X15+AF15+AN15+AV15+BD15+BL15+BT15+CB15+CJ15=0,IF(E15>0,H14,0),0),0)","v":0},{"$f":"G15*H15","v":{"v":0,"d":"0.00"}},{"$f":"IF($B15=1,$I15,0)","v":{"v":0,"d":"0.00"}},{"$f":"IF($B15=2,$I15,0)","v":{"v":0,"d":"0.00"}},{"$f":"IF($B15=3,$I15,0)","v":{"v":0,"d":"0.00"}},{"$f":"IF($B15=4,$I15,0)","v":{"v":0,"d":"0.00"}},{"$f":"IF($B15=5,$I15,0)","v":{"v":0,"d":"0.00"}},{"$f":"IF($B15=6,$I15,0)","v":{"v":0,"d":"0.00"}},{"$f":"IF(P14>0,IF(H15+X15+AF15+AN15+AV15+BD15+BL15+BT15+CB15+CJ15=0,IF(E15>0,P14,0),0),0)","v":0},{"$f":"G15*P15","v":{"v":0,"d":"0.00"}},{"$f":"IF(B15=1,Q15,0)","v":{"v":0,"d":"0.00"}},{"$f":"IF(B15=2,Q15,0)","v":{"v":0,"d":"0.00"}},{"$f":"IF(B15=3,Q15,0)","v":{"v":0,"d":"0.00"}},{"$f":"IF(B15=4,Q15,0)","v":{"v":0,"d":"0.00"}},{"$f":"IF(B15=5,Q15,0)","v":{"v":0,"d":"0.00"}},{"$f":"IF(B15=6,Q15,0)","v":{"v":0,"d":"0.00"}},{"$f":"IF(X14>0,IF(H15+P15+AF15+AN15+AV15+BD15+BL15+BT15+CB15+CJ15=0,IF(E15>0,X14,0),0),0)","v":0},{"$f":"G15*X15","v":{"v":0,"d":"0.00"}},{"$f":"IF($B15=1,$Y15,0)","v":{"v":0,"d":"0.00"}},{"$f":"IF($B15=2,$Y15,0)","v":{"v":0,"d":"0.00"}},{"$f":"IF($B15=3,$Y15,0)","v":{"v":0,"d":"0.00"}},{"$f":"IF($B15=4,$Y15,0)","v":{"v":0,"d":"0.00"}},{"$f":"IF($B15=5,$Y15,0)","v":{"v":0,"d":"0.00"}},{"$f":"IF($B15=6,$Y15,0)","v":{"v":0,"d":"0.00"}},{"$f":"IF(AF14>0,IF(H15+P15+X15+AN15+AV15+BD15+BL15+BT15+CB15+CJ15=0,IF(E15>0,AF14,0),0),0)","v":0},{"$f":"G15*AF15","v":{"v":0,"d":"0.00"}},{"$f":"IF($B15=1,$AG15,0)","v":{"v":0,"d":"0.00"}},{"$f":"IF($B15=2,$AG15,0)","v":{"v":0,"d":"0.00"}},{"$f":"IF($B15=3,$AG15,0)","v":{"v":0,"d":"0.00"}},{"$f":"IF($B15=4,$AG15,0)","v":{"v":0,"d":"0.00"}},{"$f":"IF($B15=5,$AG15,0)","v":{"v":0,"d":"0.00"}},{"$f":"IF($B15=6,$AG15,0)","v":{"v":0,"d":"0.00"}},{"$f":"IF(AN14>0,IF(H15+P15+X15+AF15+AV15+BD15+BL15+BT15+CB15+CJ15=0,IF(E15>0,AN14,0),0),0)","v":0},{"$f":"G15*AN15","v":{"v":0,"d":"0.00"}},{"$f":"IF($B15=1,$AO15,0)","v":{"v":0,"d":"0.00"}},{"$f":"IF($B15=2,$AO15,0)","v":{"v":0,"d":"0.00"}},{"$f":"IF($B15=3,$AO15,0)","v":{"v":0,"d":"0.00"}},{"$f":"IF($B15=4,$AO15,0)","v":{"v":0,"d":"0.00"}},{"$f":"IF($B15=5,$AO15,0)","v":{"v":0,"d":"0.00"}},{"$f":"IF($B15=6,$AO15,0)","v":{"v":0,"d":"0.00"}},{"$f":"IF(AV14>0,IF(H15+P15+X15+AF15+AN15+BD15+BL15+BT15+CB15+CJ15=0,IF(E15>0,AV14,0),0),0)","v":0},{"$f":"G15*AV15","v":{"v":0,"d":"0.00"}},{"$f":"IF($B15=1,$AW15,0)","v":{"v":0,"d":"0.00"}},{"$f":"IF($B15=2,$AW15,0)","v":{"v":0,"d":"0.00"}},{"$f":"IF($B15=3,$AW15,0)","v":{"v":0,"d":"0.00"}},{"$f":"IF($B15=4,$AW15,0)","v":{"v":0,"d":"0.00"}},{"$f":"IF($B15=5,$AW15,0)","v":{"v":0,"d":"0.00"}},{"$f":"IF($B15=6,$AW15,0)","v":{"v":0,"d":"0.00"}},{"$f":"IF(BD14>0,IF(H15+P15+X15+AF15+AN15+AV15+BL15+BT15+CB15+CJ15=0,IF(E15>0,BD14,0),0),0)","v":0},{"$f":"G15*BD15","v":{"v":0,"d":"0.00"}},{"$f":"IF($B15=1,$BE15,0)","v":{"v":0,"d":"0.00"}},{"$f":"IF($B15=2,$BE15,0)","v":{"v":0,"d":"0.00"}},{"$f":"IF($B15=3,$BE15,0)","v":{"v":0,"d":"0.00"}},{"$f":"IF($B15=4,$BE15,0)","v":{"v":0,"d":"0.00"}},{"$f":"IF($B15=5,$BE15,0)","v":{"v":0,"d":"0.00"}},{"$f":"IF($B15=6,$BE15,0)","v":{"v":0,"d":"0.00"}},{"$f":"IF(BL14>0,IF(H15+P15+X15+AF15+AN15+AV15+BD15+BT15+CB15+CJ15=0,IF(E15>0,BL14,0),0),0)","v":0},{"$f":"G15*BL15","v":{"v":0,"d":"0.00"}},{"$f":"IF($B15=1,$BM15,0)","v":{"v":0,"d":"0.00"}},{"$f":"IF($B15=2,$BM15,0)","v":{"v":0,"d":"0.00"}},{"$f":"IF($B15=3,$BM15,0)","v":{"v":0,"d":"0.00"}},{"$f":"IF($B15=4,$BM15,0)","v":{"v":0,"d":"0.00"}},{"$f":"IF($B15=5,$BM15,0)","v":{"v":0,"d":"0.00"}},{"$f":"IF($B15=6,$BM15,0)","v":{"v":0,"d":"0.00"}},{"$f":"IF(BT14>0,IF(H15+P15+X15+AF15+AN15+AV15+BD15+BL15+CB15+CJ15=0,IF(E15>0,BT14,0),0),0)","v":0},{"$f":"G15*BT15","v":{"v":0,"d":"0.00"}},{"$f":"IF($B15=1,$BU15,0)","v":{"v":0,"d":"0.00"}},{"$f":"IF($B15=2,$BU15,0)","v":{"v":0,"d":"0.00"}},{"$f":"IF($B15=3,$BU15,0)","v":{"v":0,"d":"0.00"}},{"$f":"IF($B15=4,$BU15,0)","v":{"v":0,"d":"0.00"}},{"$f":"IF($B15=5,$BU15,0)","v":{"v":0,"d":"0.00"}},{"$f":"IF($B15=6,$BU15,0)","v":{"v":0,"d":"0.00"}},{"$f":"IF(CB14>0,IF(H15+P15+X15+AF15+AN15+AV15+BD15+BL15+BT15+CJ15=0,IF(E15>0,CB14,0),0),0)","v":0},{"$f":"G15*CB15","v":{"v":0,"d":"0.00"}},{"$f":"IF($B15=1,$CC15,0)","v":{"v":0,"d":"0.00"}},{"$f":"IF($B15=2,$CC15,0)","v":{"v":0,"d":"0.00"}},{"$f":"IF($B15=3,$CC15,0)","v":{"v":0,"d":"0.00"}},{"$f":"IF($B15=4,$CC15,0)","v":{"v":0,"d":"0.00"}},{"$f":"IF($B15=5,$CC15,0)","v":{"v":0,"d":"0.00"}},{"$f":"IF($B15=6,$CC15,0)","v":{"v":0,"d":"0.00"}},{"$f":"IF(CJ14>0,IF(H15+P15+X15+AF15+AN15+AV15+BD15+BL15+BT15+CB15=0,IF(E15>0,CJ14,0),0),0)","v":0},{"$f":"G15*CJ15","v":{"v":0,"d":"0.00"}},{"$f":"IF($B15=1,$CK15,0)","v":{"v":0,"d":"0.00"}},{"$f":"IF($B15=2,$CK15,0)","v":{"v":0,"d":"0.00"}},{"$f":"IF($B15=3,$CK15,0)","v":{"v":0,"d":"0.00"}},{"$f":"IF($B15=4,$CK15,0)","v":{"v":0,"d":"0.00"}},{"$f":"IF($B15=5,$CK15,0)","v":{"v":0,"d":"0.00"}},{"$f":"IF($B15=6,$CK15,0)","v":{"v":0,"d":"0.00"}}]
[{"$f":"IF(C15<>C16,C16,\"\")","v":""},{"$f":"IF(C15<>C16,_xlfn.DAYS(C16,C15)+B15,B15)","v":1},{"$f":"IF(D16>0,IF(D16<E15,C15+1,C15),C15)","v":"2009-03-02"},{"$f":"IF((E16+H16+P16+X16+AF16+AN16+AV16+BD16+BL16+BT16+CB16+CJ16)>0,E15,0)","v":"00:00:00"},null,{"$f":"E16-D16","v":"00:00:00"},{"$f":"IF(E16>0,HOUR(F16)+(MINUTE(F16)/60),0)","v":0},{"$f":"IF(H15>0,IF(P16+X16+AF16+AN16+AV16+BD16+BL16+BT16+CB16+CJ16=0,IF(E16>0,H15,0),0),0)","v":0},{"$f":"G16*H16","v":{"v":0,"d":"0.00"}},{"$f":"IF($B16=1,$I16,0)","v":{"v":0,"d":"0.00"}},{"$f":"IF($B16=2,$I16,0)","v":{"v":0,"d":"0.00"}},{"$f":"IF($B16=3,$I16,0)","v":{"v":0,"d":"0.00"}},{"$f":"IF($B16=4,$I16,0)","v":{"v":0,"d":"0.00"}},{"$f":"IF($B16=5,$I16,0)","v":{"v":0,"d":"0.00"}},{"$f":"IF($B16=6,$I16,0)","v":{"v":0,"d":"0.00"}},{"$f":"IF(P15>0,IF(H16+X16+AF16+AN16+AV16+BD16+BL16+BT16+CB16+CJ16=0,IF(E16>0,P15,0),0),0)","v":0},{"$f":"G16*P16","v":{"v":0,"d":"0.00"}},{"$f":"IF(B16=1,Q16,0)","v":{"v":0,"d":"0.00"}},{"$f":"IF(B16=2,Q16,0)","v":{"v":0,"d":"0.00"}},{"$f":"IF(B16=3,Q16,0)","v":{"v":0,"d":"0.00"}},{"$f":"IF(B16=4,Q16,0)","v":{"v":0,"d":"0.00"}},{"$f":"IF(B16=5,Q16,0)","v":{"v":0,"d":"0.00"}},{"$f":"IF(B16=6,Q16,0)","v":{"v":0,"d":"0.00"}},{"$f":"IF(X15>0,IF(H16+P16+AF16+AN16+AV16+BD16+BL16+BT16+CB16+CJ16=0,IF(E16>0,X15,0),0),0)","v":0},{"$f":"G16*X16","v":{"v":0,"d":"0.00"}},{"$f":"IF($B16=1,$Y16,0)","v":{"v":0,"d":"0.00"}},{"$f":"IF($B16=2,$Y16,0)","v":{"v":0,"d":"0.00"}},{"$f":"IF($B16=3,$Y16,0)","v":{"v":0,"d":"0.00"}},{"$f":"IF($B16=4,$Y16,0)","v":{"v":0,"d":"0.00"}},{"$f":"IF($B16=5,$Y16,0)","v":{"v":0,"d":"0.00"}},{"$f":"IF($B16=6,$Y16,0)","v":{"v":0,"d":"0.00"}},{"$f":"IF(AF15>0,IF(H16+P16+X16+AN16+AV16+BD16+BL16+BT16+CB16+CJ16=0,IF(E16>0,AF15,0),0),0)","v":0},{"$f":"G16*AF16","v":{"v":0,"d":"0.00"}},{"$f":"IF($B16=1,$AG16,0)","v":{"v":0,"d":"0.00"}},{"$f":"IF($B16=2,$AG16,0)","v":{"v":0,"d":"0.00"}},{"$f":"IF($B16=3,$AG16,0)","v":{"v":0,"d":"0.00"}},{"$f":"IF($B16=4,$AG16,0)","v":{"v":0,"d":"0.00"}},{"$f":"IF($B16=5,$AG16,0)","v":{"v":0,"d":"0.00"}},{"$f":"IF($B16=6,$AG16,0)","v":{"v":0,"d":"0.00"}},{"$f":"IF(AN15>0,IF(H16+P16+X16+AF16+AV16+BD16+BL16+BT16+CB16+CJ16=0,IF(E16>0,AN15,0),0),0)","v":0},{"$f":"G16*AN16","v":{"v":0,"d":"0.00"}},{"$f":"IF($B16=1,$AO16,0)","v":{"v":0,"d":"0.00"}},{"$f":"IF($B16=2,$AO16,0)","v":{"v":0,"d":"0.00"}},{"$f":"IF($B16=3,$AO16,0)","v":{"v":0,"d":"0.00"}},{"$f":"IF($B16=4,$AO16,0)","v":{"v":0,"d":"0.00"}},{"$f":"IF($B16=5,$AO16,0)","v":{"v":0,"d":"0.00"}},{"$f":"IF($B16=6,$AO16,0)","v":{"v":0,"d":"0.00"}},{"$f":"IF(AV15>0,IF(H16+P16+X16+AF16+AN16+BD16+BL16+BT16+CB16+CJ16=0,IF(E16>0,AV15,0),0),0)","v":0},{"$f":"G16*AV16","v":{"v":0,"d":"0.00"}},{"$f":"IF($B16=1,$AW16,0)","v":{"v":0,"d":"0.00"}},{"$f":"IF($B16=2,$AW16,0)","v":{"v":0,"d":"0.00"}},{"$f":"IF($B16=3,$AW16,0)","v":{"v":0,"d":"0.00"}},{"$f":"IF($B16=4,$AW16,0)","v":{"v":0,"d":"0.00"}},{"$f":"IF($B16=5,$AW16,0)","v":{"v":0,"d":"0.00"}},{"$f":"IF($B16=6,$AW16,0)","v":{"v":0,"d":"0.00"}},{"$f":"IF(BD15>0,IF(H16+P16+X16+AF16+AN16+AV16+BL16+BT16+CB16+CJ16=0,IF(E16>0,BD15,0),0),0)","v":0},{"$f":"G16*BD16","v":{"v":0,"d":"0.00"}},{"$f":"IF($B16=1,$BE16,0)","v":{"v":0,"d":"0.00"}},{"$f":"IF($B16=2,$BE16,0)","v":{"v":0,"d":"0.00"}},{"$f":"IF($B16=3,$BE16,0)","v":{"v":0,"d":"0.00"}},{"$f":"IF($B16=4,$BE16,0)","v":{"v":0,"d":"0.00"}},{"$f":"IF($B16=5,$BE16,0)","v":{"v":0,"d":"0.00"}},{"$f":"IF($B16=6,$BE16,0)","v":{"v":0,"d":"0.00"}},{"$f":"IF(BL15>0,IF(H16+P16+X16+AF16+AN16+AV16+BD16+BT16+CB16+CJ16=0,IF(E16>0,BL15,0),0),0)","v":0},{"$f":"G16*BL16","v":{"v":0,"d":"0.00"}},{"$f":"IF($B16=1,$BM16,0)","v":{"v":0,"d":"0.00"}},{"$f":"IF($B16=2,$BM16,0)","v":{"v":0,"d":"0.00"}},{"$f":"IF($B16=3,$BM16,0)","v":{"v":0,"d":"0.00"}},{"$f":"IF($B16=4,$BM16,0)","v":{"v":0,"d":"0.00"}},{"$f":"IF($B16=5,$BM16,0)","v":{"v":0,"d":"0.00"}},{"$f":"IF($B16=6,$BM16,0)","v":{"v":0,"d":"0.00"}},{"$f":"IF(BT15>0,IF(H16+P16+X16+AF16+AN16+AV16+BD16+BL16+CB16+CJ16=0,IF(E16>0,BT15,0),0),0)","v":0},{"$f":"G16*BT16","v":{"v":0,"d":"0.00"}},{"$f":"IF($B16=1,$BU16,0)","v":{"v":0,"d":"0.00"}},{"$f":"IF($B16=2,$BU16,0)","v":{"v":0,"d":"0.00"}},{"$f":"IF($B16=3,$BU16,0)","v":{"v":0,"d":"0.00"}},{"$f":"IF($B16=4,$BU16,0)","v":{"v":0,"d":"0.00"}},{"$f":"IF($B16=5,$BU16,0)","v":{"v":0,"d":"0.00"}},{"$f":"IF($B16=6,$BU16,0)","v":{"v":0,"d":"0.00"}},{"$f":"IF(CB15>0,IF(H16+P16+X16+AF16+AN16+AV16+BD16+BL16+BT16+CJ16=0,IF(E16>0,CB15,0),0),0)","v":0},{"$f":"G16*CB16","v":{"v":0,"d":"0.00"}},{"$f":"IF($B16=1,$CC16,0)","v":{"v":0,"d":"0.00"}},{"$f":"IF($B16=2,$CC16,0)","v":{"v":0,"d":"0.00"}},{"$f":"IF($B16=3,$CC16,0)","v":{"v":0,"d":"0.00"}},{"$f":"IF($B16=4,$CC16,0)","v":{"v":0,"d":"0.00"}},{"$f":"IF($B16=5,$CC16,0)","v":{"v":0,"d":"0.00"}},{"$f":"IF($B16=6,$CC16,0)","v":{"v":0,"d":"0.00"}},{"$f":"IF(CJ15>0,IF(H16+P16+X16+AF16+AN16+AV16+BD16+BL16+BT16+CB16=0,IF(E16>0,CJ15,0),0),0)","v":0},{"$f":"G16*CJ16","v":{"v":0,"d":"0.00"}},{"$f":"IF($B16=1,$CK16,0)","v":{"v":0,"d":"0.00"}},{"$f":"IF($B16=2,$CK16,0)","v":{"v":0,"d":"0.00"}},{"$f":"IF($B16=3,$CK16,0)","v":{"v":0,"d":"0.00"}},{"$f":"IF($B16=4,$CK16,0)","v":{"v":0,"d":"0.00"}},{"$f":"IF($B16=5,$CK16,0)","v":{"v":0,"d":"0.00"}},{"$f":"IF($B16=6,$CK16,0)","v":{"v":0,"d":"0.00"}}]
[{"$f":"IF(C16<>C17,C17,\"\")","v":""},{"$f":"IF(C16<>C17,_xlfn.DAYS(C17,C16)+B16,B16)","v":1},{"$f":"IF(D17>0,IF(D17<E16,C16+1,C16),C16)","v":"2009-03-02"},{"$f":"IF((E17+H17+P17+X17+AF17+AN17+AV17+BD17+BL17+BT17+CB17+CJ17)>0,E16,0)","v":"00:00:00"},null,{"$f":"E17-D17","v":"00:00:00"},{"$f":"IF(E17>0,HOUR(F17)+(MINUTE(F17)/60),0)","v":0},{"$f":"IF(H16>0,IF(P17+X17+AF17+AN17+AV17+BD17+BL17+BT17+CB17+CJ17=0,IF(E17>0,H16,0),0),0)","v":0},{"$f":"G17*H17","v":{"v":0,"d":"0.00"}},{"$f":"IF($B17=1,$I17,0)","v":{"v":0,"d":"0.00"}},{"$f":"IF($B17=2,$I17,0)","v":{"v":0,"d":"0.00"}},{"$f":"IF($B17=3,$I17,0)","v":{"v":0,"d":"0.00"}},{"$f":"IF($B17=4,$I17,0)","v":{"v":0,"d":"0.00"}},{"$f":"IF($B17=5,$I17,0)","v":{"v":0,"d":"0.00"}},{"$f":"IF($B17=6,$I17,0)","v":{"v":0,"d":"0.00"}},{"$f":"IF(P16>0,IF(H17+X17+AF17+AN17+AV17+BD17+BL17+BT17+CB17+CJ17=0,IF(E17>0,P16,0),0),0)","v":0},{"$f":"G17*P17","v":{"v":0,"d":"0.00"}},{"$f":"IF(B17=1,Q17,0)","v":{"v":0,"d":"0.00"}},{"$f":"IF(B17=2,Q17,0)","v":{"v":0,"d":"0.00"}},{"$f":"IF(B17=3,Q17,0)","v":{"v":0,"d":"0.00"}},{"$f":"IF(B17=4,Q17,0)","v":{"v":0,"d":"0.00"}},{"$f":"IF(B17=5,Q17,0)","v":{"v":0,"d":"0.00"}},{"$f":"IF(B17=6,Q17,0)","v":{"v":0,"d":"0.00"}},{"$f":"IF(X16>0,IF(H17+P17+AF17+AN17+AV17+BD17+BL17+BT17+CB17+CJ17=0,IF(E17>0,X16,0),0),0)","v":0},{"$f":"G17*X17","v":{"v":0,"d":"0.00"}},{"$f":"IF($B17=1,$Y17,0)","v":{"v":0,"d":"0.00"}},{"$f":"IF($B17=2,$Y17,0)","v":{"v":0,"d":"0.00"}},{"$f":"IF($B17=3,$Y17,0)","v":{"v":0,"d":"0.00"}},{"$f":"IF($B17=4,$Y17,0)","v":{"v":0,"d":"0.00"}},{"$f":"IF($B17=5,$Y17,0)","v":{"v":0,"d":"0.00"}},{"$f":"IF($B17=6,$Y17,0)","v":{"v":0,"d":"0.00"}},{"$f":"IF(AF16>0,IF(H17+P17+X17+AN17+AV17+BD17+BL17+BT17+CB17+CJ17=0,IF(E17>0,AF16,0),0),0)","v":0},{"$f":"G17*AF17","v":{"v":0,"d":"0.00"}},{"$f":"IF($B17=1,$AG17,0)","v":{"v":0,"d":"0.00"}},{"$f":"IF($B17=2,$AG17,0)","v":{"v":0,"d":"0.00"}},{"$f":"IF($B17=3,$AG17,0)","v":{"v":0,"d":"0.00"}},{"$f":"IF($B17=4,$AG17,0)","v":{"v":0,"d":"0.00"}},{"$f":"IF($B17=5,$AG17,0)","v":{"v":0,"d":"0.00"}},{"$f":"IF($B17=6,$AG17,0)","v":{"v":0,"d":"0.00"}},{"$f":"IF(AN16>0,IF(H17+P17+X17+AF17+AV17+BD17+BL17+BT17+CB17+CJ17=0,IF(E17>0,AN16,0),0),0)","v":0},{"$f":"G17*AN17","v":{"v":0,"d":"0.00"}},{"$f":"IF($B17=1,$AO17,0)","v":{"v":0,"d":"0.00"}},{"$f":"IF($B17=2,$AO17,0)","v":{"v":0,"d":"0.00"}},{"$f":"IF($B17=3,$AO17,0)","v":{"v":0,"d":"0.00"}},{"$f":"IF($B17=4,$AO17,0)","v":{"v":0,"d":"0.00"}},{"$f":"IF($B17=5,$AO17,0)","v":{"v":0,"d":"0.00"}},{"$f":"IF($B17=6,$AO17,0)","v":{"v":0,"d":"0.00"}},{"$f":"IF(AV16>0,IF(H17+P17+X17+AF17+AN17+BD17+BL17+BT17+CB17+CJ17=0,IF(E17>0,AV16,0),0),0)","v":0},{"$f":"G17*AV17","v":{"v":0,"d":"0.00"}},{"$f":"IF($B17=1,$AW17,0)","v":{"v":0,"d":"0.00"}},{"$f":"IF($B17=2,$AW17,0)","v":{"v":0,"d":"0.00"}},{"$f":"IF($B17=3,$AW17,0)","v":{"v":0,"d":"0.00"}},{"$f":"IF($B17=4,$AW17,0)","v":{"v":0,"d":"0.00"}},{"$f":"IF($B17=5,$AW17,0)","v":{"v":0,"d":"0.00"}},{"$f":"IF($B17=6,$AW17,0)","v":{"v":0,"d":"0.00"}},{"$f":"IF(BD16>0,IF(H17+P17+X17+AF17+AN17+AV17+BL17+BT17+CB17+CJ17=0,IF(E17>0,BD16,0),0),0)","v":0},{"$f":"G17*BD17","v":{"v":0,"d":"0.00"}},{"$f":"IF($B17=1,$BE17,0)","v":{"v":0,"d":"0.00"}},{"$f":"IF($B17=2,$BE17,0)","v":{"v":0,"d":"0.00"}},{"$f":"IF($B17=3,$BE17,0)","v":{"v":0,"d":"0.00"}},{"$f":"IF($B17=4,$BE17,0)","v":{"v":0,"d":"0.00"}},{"$f":"IF($B17=5,$BE17,0)","v":{"v":0,"d":"0.00"}},{"$f":"IF($B17=6,$BE17,0)","v":{"v":0,"d":"0.00"}},{"$f":"IF(BL16>0,IF(H17+P17+X17+AF17+AN17+AV17+BD17+BT17+CB17+CJ17=0,IF(E17>0,BL16,0),0),0)","v":0},{"$f":"G17*BL17","v":{"v":0,"d":"0.00"}},{"$f":"IF($B17=1,$BM17,0)","v":{"v":0,"d":"0.00"}},{"$f":"IF($B17=2,$BM17,0)","v":{"v":0,"d":"0.00"}},{"$f":"IF($B17=3,$BM17,0)","v":{"v":0,"d":"0.00"}},{"$f":"IF($B17=4,$BM17,0)","v":{"v":0,"d":"0.00"}},{"$f":"IF($B17=5,$BM17,0)","v":{"v":0,"d":"0.00"}},{"$f":"IF($B17=6,$BM17,0)","v":{"v":0,"d":"0.00"}},{"$f":"IF(BT16>0,IF(H17+P17+X17+AF17+AN17+AV17+BD17+BL17+CB17+CJ17=0,IF(E17>0,BT16,0),0),0)","v":0},{"$f":"G17*BT17","v":{"v":0,"d":"0.00"}},{"$f":"IF($B17=1,$BU17,0)","v":{"v":0,"d":"0.00"}},{"$f":"IF($B17=2,$BU17,0)","v":{"v":0,"d":"0.00"}},{"$f":"IF($B17=3,$BU17,0)","v":{"v":0,"d":"0.00"}},{"$f":"IF($B17=4,$BU17,0)","v":{"v":0,"d":"0.00"}},{"$f":"IF($B17=5,$BU17,0)","v":{"v":0,"d":"0.00"}},{"$f":"IF($B17=6,$BU17,0)","v":{"v":0,"d":"0.00"}},{"$f":"IF(CB16>0,IF(H17+P17+X17+AF17+AN17+AV17+BD17+BL17+BT17+CJ17=0,IF(E17>0,CB16,0),0),0)","v":0},{"$f":"G17*CB17","v":{"v":0,"d":"0.00"}},{"$f":"IF($B17=1,$CC17,0)","v":{"v":0,"d":"0.00"}},{"$f":"IF($B17=2,$CC17,0)","v":{"v":0,"d":"0.00"}},{"$f":"IF($B17=3,$CC17,0)","v":{"v":0,"d":"0.00"}},{"$f":"IF($B17=4,$CC17,0)","v":{"v":0,"d":"0.00"}},{"$f":"IF($B17=5,$CC17,0)","v":{"v":0,"d":"0.00"}},{"$f":"IF($B17=6,$CC17,0)","v":{"v":0,"d":"0.00"}},{"$f":"IF(CJ16>0,IF(H17+P17+X17+AF17+AN17+AV17+BD17+BL17+BT17+CB17=0,IF(E17>0,CJ16,0),0),0)","v":0},{"$f":"G17*CJ17","v":{"v":0,"d":"0.00"}},{"$f":"IF($B17=1,$CK17,0)","v":{"v":0,"d":"0.00"}},{"$f":"IF($B17=2,$CK17,0)","v":{"v":0,"d":"0.00"}},{"$f":"IF($B17=3,$CK17,0)","v":{"v":0,"d":"0.00"}},{"$f":"IF($B17=4,$CK17,0)","v":{"v":0,"d":"0.00"}},{"$f":"IF($B17=5,$CK17,0)","v":{"v":0,"d":"0.00"}},{"$f":"IF($B17=6,$CK17,0)","v":{"v":0,"d":"0.00"}}]
[{"$f":"IF(C17<>C18,C18,\"\")","v":""},{"$f":"IF(C17<>C18,_xlfn.DAYS(C18,C17)+B17,B17)","v":1},{"$f":"IF(D18>0,IF(D18<E17,C17+1,C17),C17)","v":"2009-03-02"},{"$f":"IF((E18+H18+P18+X18+AF18+AN18+AV18+BD18+BL18+BT18+CB18+CJ18)>0,E17,0)","v":"00:00:00"},null,{"$f":"E18-D18","v":"00:00:00"},{"$f":"IF(E18>0,HOUR(F18)+(MINUTE(F18)/60),0)","v":0},{"$f":"IF(H17>0,IF(P18+X18+AF18+AN18+AV18+BD18+BL18+BT18+CB18+CJ18=0,IF(E18>0,H17,0),0),0)","v":0},{"$f":"G18*H18","v":{"v":0,"d":"0.00"}},{"$f":"IF($B18=1,$I18,0)","v":{"v":0,"d":"0.00"}},{"$f":"IF($B18=2,$I18,0)","v":{"v":0,"d":"0.00"}},{"$f":"IF($B18=3,$I18,0)","v":{"v":0,"d":"0.00"}},{"$f":"IF($B18=4,$I18,0)","v":{"v":0,"d":"0.00"}},{"$f":"IF($B18=5,$I18,0)","v":{"v":0,"d":"0.00"}},{"$f":"IF($B18=6,$I18,0)","v":{"v":0,"d":"0.00"}},{"$f":"IF(P17>0,IF(H18+X18+AF18+AN18+AV18+BD18+BL18+BT18+CB18+CJ18=0,IF(E18>0,P17,0),0),0)","v":0},{"$f":"G18*P18","v":{"v":0,"d":"0.00"}},{"$f":"IF(B18=1,Q18,0)","v":{"v":0,"d":"0.00"}},{"$f":"IF(B18=2,Q18,0)","v":{"v":0,"d":"0.00"}},{"$f":"IF(B18=3,Q18,0)","v":{"v":0,"d":"0.00"}},{"$f":"IF(B18=4,Q18,0)","v":{"v":0,"d":"0.00"}},{"$f":"IF(B18=5,Q18,0)","v":{"v":0,"d":"0.00"}},{"$f":"IF(B18=6,Q18,0)","v":{"v":0,"d":"0.00"}},{"$f":"IF(X17>0,IF(H18+P18+AF18+AN18+AV18+BD18+BL18+BT18+CB18+CJ18=0,IF(E18>0,X17,0),0),0)","v":0},{"$f":"G18*X18","v":{"v":0,"d":"0.00"}},{"$f":"IF($B18=1,$Y18,0)","v":{"v":0,"d":"0.00"}},{"$f":"IF($B18=2,$Y18,0)","v":{"v":0,"d":"0.00"}},{"$f":"IF($B18=3,$Y18,0)","v":{"v":0,"d":"0.00"}},{"$f":"IF($B18=4,$Y18,0)","v":{"v":0,"d":"0.00"}},{"$f":"IF($B18=5,$Y18,0)","v":{"v":0,"d":"0.00"}},{"$f":"IF($B18=6,$Y18,0)","v":{"v":0,"d":"0.00"}},{"$f":"IF(AF17>0,IF(H18+P18+X18+AN18+AV18+BD18+BL18+BT18+CB18+CJ18=0,IF(E18>0,AF17,0),0),0)","v":0},{"$f":"G18*AF18","v":{"v":0,"d":"0.00"}},{"$f":"IF($B18=1,$AG18,0)","v":{"v":0,"d":"0.00"}},{"$f":"IF($B18=2,$AG18,0)","v":{"v":0,"d":"0.00"}},{"$f":"IF($B18=3,$AG18,0)","v":{"v":0,"d":"0.00"}},{"$f":"IF($B18=4,$AG18,0)","v":{"v":0,"d":"0.00"}},{"$f":"IF($B18=5,$AG18,0)","v":{"v":0,"d":"0.00"}},{"$f":"IF($B18=6,$AG18,0)","v":{"v":0,"d":"0.00"}},{"$f":"IF(AN17>0,IF(H18+P18+X18+AF18+AV18+BD18+BL18+BT18+CB18+CJ18=0,IF(E18>0,AN17,0),0),0)","v":0},{"$f":"G18*AN18","v":{"v":0,"d":"0.00"}},{"$f":"IF($B18=1,$AO18,0)","v":{"v":0,"d":"0.00"}},{"$f":"IF($B18=2,$AO18,0)","v":{"v":0,"d":"0.00"}},{"$f":"IF($B18=3,$AO18,0)","v":{"v":0,"d":"0.00"}},{"$f":"IF($B18=4,$AO18,0)","v":{"v":0,"d":"0.00"}},{"$f":"IF($B18=5,$AO18,0)","v":{"v":0,"d":"0.00"}},{"$f":"IF($B18=6,$AO18,0)","v":{"v":0,"d":"0.00"}},{"$f":"IF(AV17>0,IF(H18+P18+X18+AF18+AN18+BD18+BL18+BT18+CB18+CJ18=0,IF(E18>0,AV17,0),0),0)","v":0},{"$f":"G18*AV18","v":{"v":0,"d":"0.00"}},{"$f":"IF($B18=1,$AW18,0)","v":{"v":0,"d":"0.00"}},{"$f":"IF($B18=2,$AW18,0)","v":{"v":0,"d":"0.00"}},{"$f":"IF($B18=3,$AW18,0)","v":{"v":0,"d":"0.00"}},{"$f":"IF($B18=4,$AW18,0)","v":{"v":0,"d":"0.00"}},{"$f":"IF($B18=5,$AW18,0)","v":{"v":0,"d":"0.00"}},{"$f":"IF($B18=6,$AW18,0)","v":{"v":0,"d":"0.00"}},{"$f":"IF(BD17>0,IF(H18+P18+X18+AF18+AN18+AV18+BL18+BT18+CB18+CJ18=0,IF(E18>0,BD17,0),0),0)","v":0},{"$f":"G18*BD18","v":{"v":0,"d":"0.00"}},{"$f":"IF($B18=1,$BE18,0)","v":{"v":0,"d":"0.00"}},{"$f":"IF($B18=2,$BE18,0)","v":{"v":0,"d":"0.00"}},{"$f":"IF($B18=3,$BE18,0)","v":{"v":0,"d":"0.00"}},{"$f":"IF($B18=4,$BE18,0)","v":{"v":0,"d":"0.00"}},{"$f":"IF($B18=5,$BE18,0)","v":{"v":0,"d":"0.00"}},{"$f":"IF($B18=6,$BE18,0)","v":{"v":0,"d":"0.00"}},{"$f":"IF(BL17>0,IF(H18+P18+X18+AF18+AN18+AV18+BD18+BT18+CB18+CJ18=0,IF(E18>0,BL17,0),0),0)","v":0},{"$f":"G18*BL18","v":{"v":0,"d":"0.00"}},{"$f":"IF($B18=1,$BM18,0)","v":{"v":0,"d":"0.00"}},{"$f":"IF($B18=2,$BM18,0)","v":{"v":0,"d":"0.00"}},{"$f":"IF($B18=3,$BM18,0)","v":{"v":0,"d":"0.00"}},{"$f":"IF($B18=4,$BM18,0)","v":{"v":0,"d":"0.00"}},{"$f":"IF($B18=5,$BM18,0)","v":{"v":0,"d":"0.00"}},{"$f":"IF($B18=6,$BM18,0)","v":{"v":0,"d":"0.00"}},{"$f":"IF(BT17>0,IF(H18+P18+X18+AF18+AN18+AV18+BD18+BL18+CB18+CJ18=0,IF(E18>0,BT17,0),0),0)","v":0},{"$f":"G18*BT18","v":{"v":0,"d":"0.00"}},{"$f":"IF($B18=1,$BU18,0)","v":{"v":0,"d":"0.00"}},{"$f":"IF($B18=2,$BU18,0)","v":{"v":0,"d":"0.00"}},{"$f":"IF($B18=3,$BU18,0)","v":{"v":0,"d":"0.00"}},{"$f":"IF($B18=4,$BU18,0)","v":{"v":0,"d":"0.00"}},{"$f":"IF($B18=5,$BU18,0)","v":{"v":0,"d":"0.00"}},{"$f":"IF($B18=6,$BU18,0)","v":{"v":0,"d":"0.00"}},{"$f":"IF(CB17>0,IF(H18+P18+X18+AF18+AN18+AV18+BD18+BL18+BT18+CJ18=0,IF(E18>0,CB17,0),0),0)","v":0},{"$f":"G18*CB18","v":{"v":0,"d":"0.00"}},{"$f":"IF($B18=1,$CC18,0)","v":{"v":0,"d":"0.00"}},{"$f":"IF($B18=2,$CC18,0)","v":{"v":0,"d":"0.00"}},{"$f":"IF($B18=3,$CC18,0)","v":{"v":0,"d":"0.00"}},{"$f":"IF($B18=4,$CC18,0)","v":{"v":0,"d":"0.00"}},{"$f":"IF($B18=5,$CC18,0)","v":{"v":0,"d":"0.00"}},{"$f":"IF($B18=6,$CC18,0)","v":{"v":0,"d":"0.00"}},{"$f":"IF(CJ17>0,IF(H18+P18+X18+AF18+AN18+AV18+BD18+BL18+BT18+CB18=0,IF(E18>0,CJ17,0),0),0)","v":0},{"$f":"G18*CJ18","v":{"v":0,"d":"0.00"}},{"$f":"IF($B18=1,$CK18,0)","v":{"v":0,"d":"0.00"}},{"$f":"IF($B18=2,$CK18,0)","v":{"v":0,"d":"0.00"}},{"$f":"IF($B18=3,$CK18,0)","v":{"v":0,"d":"0.00"}},{"$f":"IF($B18=4,$CK18,0)","v":{"v":0,"d":"0.00"}},{"$f":"IF($B18=5,$CK18,0)","v":{"v":0,"d":"0.00"}},{"$f":"IF($B18=6,$CK18,0)","v":{"v":0,"d":"0.00"}}]
[{"$f":"IF(C18<>C19,C19,\"\")","v":""},{"$f":"IF(C18<>C19,_xlfn.DAYS(C19,C18)+B18,B18)","v":1},{"$f":"IF(D19>0,IF(D19<E18,C18+1,C18),C18)","v":"2009-03-02"},{"$f":"IF((E19+H19+P19+X19+AF19+AN19+AV19+BD19+BL19+BT19+CB19+CJ19)>0,E18,0)","v":"00:00:00"},null,{"$f":"E19-D19","v":"00:00:00"},{"$f":"IF(E19>0,HOUR(F19)+(MINUTE(F19)/60),0)","v":0},{"$f":"IF(H18>0,IF(P19+X19+AF19+AN19+AV19+BD19+BL19+BT19+CB19+CJ19=0,IF(E19>0,H18,0),0),0)","v":0},{"$f":"G19*H19","v":{"v":0,"d":"0.00"}},{"$f":"IF($B19=1,$I19,0)","v":{"v":0,"d":"0.00"}},{"$f":"IF($B19=2,$I19,0)","v":{"v":0,"d":"0.00"}},{"$f":"IF($B19=3,$I19,0)","v":{"v":0,"d":"0.00"}},{"$f":"IF($B19=4,$I19,0)","v":{"v":0,"d":"0.00"}},{"$f":"IF($B19=5,$I19,0)","v":{"v":0,"d":"0.00"}},{"$f":"IF($B19=6,$I19,0)","v":{"v":0,"d":"0.00"}},{"$f":"IF(P18>0,IF(H19+X19+AF19+AN19+AV19+BD19+BL19+BT19+CB19+CJ19=0,IF(E19>0,P18,0),0),0)","v":0},{"$f":"G19*P19","v":{"v":0,"d":"0.00"}},{"$f":"IF(B19=1,Q19,0)","v":{"v":0,"d":"0.00"}},{"$f":"IF(B19=2,Q19,0)","v":{"v":0,"d":"0.00"}},{"$f":"IF(B19=3,Q19,0)","v":{"v":0,"d":"0.00"}},{"$f":"IF(B19=4,Q19,0)","v":{"v":0,"d":"0.00"}},{"$f":"IF(B19=5,Q19,0)","v":{"v":0,"d":"0.00"}},{"$f":"IF(B19=6,Q19,0)","v":{"v":0,"d":"0.00"}},{"$f":"IF(X18>0,IF(H19+P19+AF19+AN19+AV19+BD19+BL19+BT19+CB19+CJ19=0,IF(E19>0,X18,0),0),0)","v":0},{"$f":"G19*X19","v":{"v":0,"d":"0.00"}},{"$f":"IF($B19=1,$Y19,0)","v":{"v":0,"d":"0.00"}},{"$f":"IF($B19=2,$Y19,0)","v":{"v":0,"d":"0.00"}},{"$f":"IF($B19=3,$Y19,0)","v":{"v":0,"d":"0.00"}},{"$f":"IF($B19=4,$Y19,0)","v":{"v":0,"d":"0.00"}},{"$f":"IF($B19=5,$Y19,0)","v":{"v":0,"d":"0.00"}},{"$f":"IF($B19=6,$Y19,0)","v":{"v":0,"d":"0.00"}},{"$f":"IF(AF18>0,IF(H19+P19+X19+AN19+AV19+BD19+BL19+BT19+CB19+CJ19=0,IF(E19>0,AF18,0),0),0)","v":0},{"$f":"G19*AF19","v":{"v":0,"d":"0.00"}},{"$f":"IF($B19=1,$AG19,0)","v":{"v":0,"d":"0.00"}},{"$f":"IF($B19=2,$AG19,0)","v":{"v":0,"d":"0.00"}},{"$f":"IF($B19=3,$AG19,0)","v":{"v":0,"d":"0.00"}},{"$f":"IF($B19=4,$AG19,0)","v":{"v":0,"d":"0.00"}},{"$f":"IF($B19=5,$AG19,0)","v":{"v":0,"d":"0.00"}},{"$f":"IF($B19=6,$AG19,0)","v":{"v":0,"d":"0.00"}},{"$f":"IF(AN18>0,IF(H19+P19+X19+AF19+AV19+BD19+BL19+BT19+CB19+CJ19=0,IF(E19>0,AN18,0),0),0)","v":0},{"$f":"G19*AN19","v":{"v":0,"d":"0.00"}},{"$f":"IF($B19=1,$AO19,0)","v":{"v":0,"d":"0.00"}},{"$f":"IF($B19=2,$AO19,0)","v":{"v":0,"d":"0.00"}},{"$f":"IF($B19=3,$AO19,0)","v":{"v":0,"d":"0.00"}},{"$f":"IF($B19=4,$AO19,0)","v":{"v":0,"d":"0.00"}},{"$f":"IF($B19=5,$AO19,0)","v":{"v":0,"d":"0.00"}},{"$f":"IF($B19=6,$AO19,0)","v":{"v":0,"d":"0.00"}},{"$f":"IF(AV18>0,IF(H19+P19+X19+AF19+AN19+BD19+BL19+BT19+CB19+CJ19=0,IF(E19>0,AV18,0),0),0)","v":0},{"$f":"G19*AV19","v":{"v":0,"d":"0.00"}},{"$f":"IF($B19=1,$AW19,0)","v":{"v":0,"d":"0.00"}},{"$f":"IF($B19=2,$AW19,0)","v":{"v":0,"d":"0.00"}},{"$f":"IF($B19=3,$AW19,0)","v":{"v":0,"d":"0.00"}},{"$f":"IF($B19=4,$AW19,0)","v":{"v":0,"d":"0.00"}},{"$f":"IF($B19=5,$AW19,0)","v":{"v":0,"d":"0.00"}},{"$f":"IF($B19=6,$AW19,0)","v":{"v":0,"d":"0.00"}},{"$f":"IF(BD18>0,IF(H19+P19+X19+AF19+AN19+AV19+BL19+BT19+CB19+CJ19=0,IF(E19>0,BD18,0),0),0)","v":0},{"$f":"G19*BD19","v":{"v":0,"d":"0.00"}},{"$f":"IF($B19=1,$BE19,0)","v":{"v":0,"d":"0.00"}},{"$f":"IF($B19=2,$BE19,0)","v":{"v":0,"d":"0.00"}},{"$f":"IF($B19=3,$BE19,0)","v":{"v":0,"d":"0.00"}},{"$f":"IF($B19=4,$BE19,0)","v":{"v":0,"d":"0.00"}},{"$f":"IF($B19=5,$BE19,0)","v":{"v":0,"d":"0.00"}},{"$f":"IF($B19=6,$BE19,0)","v":{"v":0,"d":"0.00"}},{"$f":"IF(BL18>0,IF(H19+P19+X19+AF19+AN19+AV19+BD19+BT19+CB19+CJ19=0,IF(E19>0,BL18,0),0),0)","v":0},{"$f":"G19*BL19","v":{"v":0,"d":"0.00"}},{"$f":"IF($B19=1,$BM19,0)","v":{"v":0,"d":"0.00"}},{"$f":"IF($B19=2,$BM19,0)","v":{"v":0,"d":"0.00"}},{"$f":"IF($B19=3,$BM19,0)","v":{"v":0,"d":"0.00"}},{"$f":"IF($B19=4,$BM19,0)","v":{"v":0,"d":"0.00"}},{"$f":"IF($B19=5,$BM19,0)","v":{"v":0,"d":"0.00"}},{"$f":"IF($B19=6,$BM19,0)","v":{"v":0,"d":"0.00"}},{"$f":"IF(BT18>0,IF(H19+P19+X19+AF19+AN19+AV19+BD19+BL19+CB19+CJ19=0,IF(E19>0,BT18,0),0),0)","v":0},{"$f":"G19*BT19","v":{"v":0,"d":"0.00"}},{"$f":"IF($B19=1,$BU19,0)","v":{"v":0,"d":"0.00"}},{"$f":"IF($B19=2,$BU19,0)","v":{"v":0,"d":"0.00"}},{"$f":"IF($B19=3,$BU19,0)","v":{"v":0,"d":"0.00"}},{"$f":"IF($B19=4,$BU19,0)","v":{"v":0,"d":"0.00"}},{"$f":"IF($B19=5,$BU19,0)","v":{"v":0,"d":"0.00"}},{"$f":"IF($B19=6,$BU19,0)","v":{"v":0,"d":"0.00"}},{"$f":"IF(CB18>0,IF(H19+P19+X19+AF19+AN19+AV19+BD19+BL19+BT19+CJ19=0,IF(E19>0,CB18,0),0),0)","v":0},{"$f":"G19*CB19","v":{"v":0,"d":"0.00"}},{"$f":"IF($B19=1,$CC19,0)","v":{"v":0,"d":"0.00"}},{"$f":"IF($B19=2,$CC19,0)","v":{"v":0,"d":"0.00"}},{"$f":"IF($B19=3,$CC19,0)","v":{"v":0,"d":"0.00"}},{"$f":"IF($B19=4,$CC19,0)","v":{"v":0,"d":"0.00"}},{"$f":"IF($B19=5,$CC19,0)","v":{"v":0,"d":"0.00"}},{"$f":"IF($B19=6,$CC19,0)","v":{"v":0,"d":"0.00"}},{"$f":"IF(CJ18>0,IF(H19+P19+X19+AF19+AN19+AV19+BD19+BL19+BT19+CB19=0,IF(E19>0,CJ18,0),0),0)","v":0},{"$f":"G19*CJ19","v":{"v":0,"d":"0.00"}},{"$f":"IF($B19=1,$CK19,0)","v":{"v":0,"d":"0.00"}},{"$f":"IF($B19=2,$CK19,0)","v":{"v":0,"d":"0.00"}},{"$f":"IF($B19=3,$CK19,0)","v":{"v":0,"d":"0.00"}},{"$f":"IF($B19=4,$CK19,0)","v":{"v":0,"d":"0.00"}},{"$f":"IF($B19=5,$CK19,0)","v":{"v":0,"d":"0.00"}},{"$f":"IF($B19=6,$CK19,0)","v":{"v":0,"d":"0.00"}}]
[{"$f":"IF(C19<>C20,C20,\"\")","v":""},{"$f":"IF(C19<>C20,_xlfn.DAYS(C20,C19)+B19,B19)","v":1},{"$f":"IF(D20>0,IF(D20<E19,C19+1,C19),C19)","v":"2009-03-02"},{"$f":"IF((E20+H20+P20+X20+AF20+AN20+AV20+BD20+BL20+BT20+CB20+CJ20)>0,E19,0)","v":"00:00:00"},null,{"$f":"E20-D20","v":"00:00:00"},{"$f":"IF(E20>0,HOUR(F20)+(MINUTE(F20)/60),0)","v":0},{"$f":"IF(H19>0,IF(P20+X20+AF20+AN20+AV20+BD20+BL20+BT20+CB20+CJ20=0,IF(E20>0,H19,0),0),0)","v":0},{"$f":"G20*H20","v":{"v":0,"d":"0.00"}},{"$f":"IF($B20=1,$I20,0)","v":{"v":0,"d":"0.00"}},{"$f":"IF($B20=2,$I20,0)","v":{"v":0,"d":"0.00"}},{"$f":"IF($B20=3,$I20,0)","v":{"v":0,"d":"0.00"}},{"$f":"IF($B20=4,$I20,0)","v":{"v":0,"d":"0.00"}},{"$f":"IF($B20=5,$I20,0)","v":{"v":0,"d":"0.00"}},{"$f":"IF($B20=6,$I20,0)","v":{"v":0,"d":"0.00"}},{"$f":"IF(P19>0,IF(H20+X20+AF20+AN20+AV20+BD20+BL20+BT20+CB20+CJ20=0,IF(E20>0,P19,0),0),0)","v":0},{"$f":"G20*P20","v":{"v":0,"d":"0.00"}},{"$f":"IF(B20=1,Q20,0)","v":{"v":0,"d":"0.00"}},{"$f":"IF(B20=2,Q20,0)","v":{"v":0,"d":"0.00"}},{"$f":"IF(B20=3,Q20,0)","v":{"v":0,"d":"0.00"}},{"$f":"IF(B20=4,Q20,0)","v":{"v":0,"d":"0.00"}},{"$f":"IF(B20=5,Q20,0)","v":{"v":0,"d":"0.00"}},{"$f":"IF(B20=6,Q20,0)","v":{"v":0,"d":"0.00"}},{"$f":"IF(X19>0,IF(H20+P20+AF20+AN20+AV20+BD20+BL20+BT20+CB20+CJ20=0,IF(E20>0,X19,0),0),0)","v":0},{"$f":"G20*X20","v":{"v":0,"d":"0.00"}},{"$f":"IF($B20=1,$Y20,0)","v":{"v":0,"d":"0.00"}},{"$f":"IF($B20=2,$Y20,0)","v":{"v":0,"d":"0.00"}},{"$f":"IF($B20=3,$Y20,0)","v":{"v":0,"d":"0.00"}},{"$f":"IF($B20=4,$Y20,0)","v":{"v":0,"d":"0.00"}},{"$f":"IF($B20=5,$Y20,0)","v":{"v":0,"d":"0.00"}},{"$f":"IF($B20=6,$Y20,0)","v":{"v":0,"d":"0.00"}},{"$f":"IF(AF19>0,IF(H20+P20+X20+AN20+AV20+BD20+BL20+BT20+CB20+CJ20=0,IF(E20>0,AF19,0),0),0)","v":0},{"$f":"G20*AF20","v":{"v":0,"d":"0.00"}},{"$f":"IF($B20=1,$AG20,0)","v":{"v":0,"d":"0.00"}},{"$f":"IF($B20=2,$AG20,0)","v":{"v":0,"d":"0.00"}},{"$f":"IF($B20=3,$AG20,0)","v":{"v":0,"d":"0.00"}},{"$f":"IF($B20=4,$AG20,0)","v":{"v":0,"d":"0.00"}},{"$f":"IF($B20=5,$AG20,0)","v":{"v":0,"d":"0.00"}},{"$f":"IF($B20=6,$AG20,0)","v":{"v":0,"d":"0.00"}},{"$f":"IF(AN19>0,IF(H20+P20+X20+AF20+AV20+BD20+BL20+BT20+CB20+CJ20=0,IF(E20>0,AN19,0),0),0)","v":0},{"$f":"G20*AN20","v":{"v":0,"d":"0.00"}},{"$f":"IF($B20=1,$AO20,0)","v":{"v":0,"d":"0.00"}},{"$f":"IF($B20=2,$AO20,0)","v":{"v":0,"d":"0.00"}},{"$f":"IF($B20=3,$AO20,0)","v":{"v":0,"d":"0.00"}},{"$f":"IF($B20=4,$AO20,0)","v":{"v":0,"d":"0.00"}},{"$f":"IF($B20=5,$AO20,0)","v":{"v":0,"d":"0.00"}},{"$f":"IF($B20=6,$AO20,0)","v":{"v":0,"d":"0.00"}},{"$f":"IF(AV19>0,IF(H20+P20+X20+AF20+AN20+BD20+BL20+BT20+CB20+CJ20=0,IF(E20>0,AV19,0),0),0)","v":0},{"$f":"G20*AV20","v":{"v":0,"d":"0.00"}},{"$f":"IF($B20=1,$AW20,0)","v":{"v":0,"d":"0.00"}},{"$f":"IF($B20=2,$AW20,0)","v":{"v":0,"d":"0.00"}},{"$f":"IF($B20=3,$AW20,0)","v":{"v":0,"d":"0.00"}},{"$f":"IF($B20=4,$AW20,0)","v":{"v":0,"d":"0.00"}},{"$f":"IF($B20=5,$AW20,0)","v":{"v":0,"d":"0.00"}},{"$f":"IF($B20=6,$AW20,0)","v":{"v":0,"d":"0.00"}},{"$f":"IF(BD19>0,IF(H20+P20+X20+AF20+AN20+AV20+BL20+BT20+CB20+CJ20=0,IF(E20>0,BD19,0),0),0)","v":0},{"$f":"G20*BD20","v":{"v":0,"d":"0.00"}},{"$f":"IF($B20=1,$BE20,0)","v":{"v":0,"d":"0.00"}},{"$f":"IF($B20=2,$BE20,0)","v":{"v":0,"d":"0.00"}},{"$f":"IF($B20=3,$BE20,0)","v":{"v":0,"d":"0.00"}},{"$f":"IF($B20=4,$BE20,0)","v":{"v":0,"d":"0.00"}},{"$f":"IF($B20=5,$BE20,0)","v":{"v":0,"d":"0.00"}},{"$f":"IF($B20=6,$BE20,0)","v":{"v":0,"d":"0.00"}},{"$f":"IF(BL19>0,IF(H20+P20+X20+AF20+AN20+AV20+BD20+BT20+CB20+CJ20=0,IF(E20>0,BL19,0),0),0)","v":0},{"$f":"G20*BL20","v":{"v":0,"d":"0.00"}},{"$f":"IF($B20=1,$BM20,0)","v":{"v":0,"d":"0.00"}},{"$f":"IF($B20=2,$BM20,0)","v":{"v":0,"d":"0.00"}},{"$f":"IF($B20=3,$BM20,0)","v":{"v":0,"d":"0.00"}},{"$f":"IF($B20=4,$BM20,0)","v":{"v":0,"d":"0.00"}},{"$f":"IF($B20=5,$BM20,0)","v":{"v":0,"d":"0.00"}},{"$f":"IF($B20=6,$BM20,0)","v":{"v":0,"d":"0.00"}},{"$f":"IF(BT19>0,IF(H20+P20+X20+AF20+AN20+AV20+BD20+BL20+CB20+CJ20=0,IF(E20>0,BT19,0),0),0)","v":0},{"$f":"G20*BT20","v":{"v":0,"d":"0.00"}},{"$f":"IF($B20=1,$BU20,0)","v":{"v":0,"d":"0.00"}},{"$f":"IF($B20=2,$BU20,0)","v":{"v":0,"d":"0.00"}},{"$f":"IF($B20=3,$BU20,0)","v":{"v":0,"d":"0.00"}},{"$f":"IF($B20=4,$BU20,0)","v":{"v":0,"d":"0.00"}},{"$f":"IF($B20=5,$BU20,0)","v":{"v":0,"d":"0.00"}},{"$f":"IF($B20=6,$BU20,0)","v":{"v":0,"d":"0.00"}},{"$f":"IF(CB19>0,IF(H20+P20+X20+AF20+AN20+AV20+BD20+BL20+BT20+CJ20=0,IF(E20>0,CB19,0),0),0)","v":0},{"$f":"G20*CB20","v":{"v":0,"d":"0.00"}},{"$f":"IF($B20=1,$CC20,0)","v":{"v":0,"d":"0.00"}},{"$f":"IF($B20=2,$CC20,0)","v":{"v":0,"d":"0.00"}},{"$f":"IF($B20=3,$CC20,0)","v":{"v":0,"d":"0.00"}},{"$f":"IF($B20=4,$CC20,0)","v":{"v":0,"d":"0.00"}},{"$f":"IF($B20=5,$CC20,0)","v":{"v":0,"d":"0.00"}},{"$f":"IF($B20=6,$CC20,0)","v":{"v":0,"d":"0.00"}},{"$f":"IF(CJ19>0,IF(H20+P20+X20+AF20+AN20+AV20+BD20+BL20+BT20+CB20=0,IF(E20>0,CJ19,0),0),0)","v":0},{"$f":"G20*CJ20","v":{"v":0,"d":"0.00"}},{"$f":"IF($B20=1,$CK20,0)","v":{"v":0,"d":"0.00"}},{"$f":"IF($B20=2,$CK20,0)","v":{"v":0,"d":"0.00"}},{"$f":"IF($B20=3,$CK20,0)","v":{"v":0,"d":"0.00"}},{"$f":"IF($B20=4,$CK20,0)","v":{"v":0,"d":"0.00"}},{"$f":"IF($B20=5,$CK20,0)","v":{"v":0,"d":"0.00"}},{"$f":"IF($B20=6,$CK20,0)","v":{"v":0,"d":"0.00"}}]
[{"$f":"IF(C20<>C21,C21,\"\")","v":""},{"$f":"IF(C20<>C21,_xlfn.DAYS(C21,C20)+B20,B20)","v":1},{"$f":"IF(D21>0,IF(D21<E20,C20+1,C20),C20)","v":"2009-03-02"},{"$f":"IF((E21+H21+P21+X21+AF21+AN21+AV21+BD21+BL21+BT21+CB21+CJ21)>0,E20,0)","v":"00:00:00"},null,{"$f":"E21-D21","v":"00:00:00"},{"$f":"IF(E21>0,HOUR(F21)+(MINUTE(F21)/60),0)","v":0},{"$f":"IF(H20>0,IF(P21+X21+AF21+AN21+AV21+BD21+BL21+BT21+CB21+CJ21=0,IF(E21>0,H20,0),0),0)","v":0},{"$f":"G21*H21","v":{"v":0,"d":"0.00"}},{"$f":"IF($B21=1,$I21,0)","v":{"v":0,"d":"0.00"}},{"$f":"IF($B21=2,$I21,0)","v":{"v":0,"d":"0.00"}},{"$f":"IF($B21=3,$I21,0)","v":{"v":0,"d":"0.00"}},{"$f":"IF($B21=4,$I21,0)","v":{"v":0,"d":"0.00"}},{"$f":"IF($B21=5,$I21,0)","v":{"v":0,"d":"0.00"}},{"$f":"IF($B21=6,$I21,0)","v":{"v":0,"d":"0.00"}},{"$f":"IF(P20>0,IF(H21+X21+AF21+AN21+AV21+BD21+BL21+BT21+CB21+CJ21=0,IF(E21>0,P20,0),0),0)","v":0},{"$f":"G21*P21","v":{"v":0,"d":"0.00"}},{"$f":"IF(B21=1,Q21,0)","v":{"v":0,"d":"0.00"}},{"$f":"IF(B21=2,Q21,0)","v":{"v":0,"d":"0.00"}},{"$f":"IF(B21=3,Q21,0)","v":{"v":0,"d":"0.00"}},{"$f":"IF(B21=4,Q21,0)","v":{"v":0,"d":"0.00"}},{"$f":"IF(B21=5,Q21,0)","v":{"v":0,"d":"0.00"}},{"$f":"IF(B21=6,Q21,0)","v":{"v":0,"d":"0.00"}},{"$f":"IF(X20>0,IF(H21+P21+AF21+AN21+AV21+BD21+BL21+BT21+CB21+CJ21=0,IF(E21>0,X20,0),0),0)","v":0},{"$f":"G21*X21","v":{"v":0,"d":"0.00"}},{"$f":"IF($B21=1,$Y21,0)","v":{"v":0,"d":"0.00"}},{"$f":"IF($B21=2,$Y21,0)","v":{"v":0,"d":"0.00"}},{"$f":"IF($B21=3,$Y21,0)","v":{"v":0,"d":"0.00"}},{"$f":"IF($B21=4,$Y21,0)","v":{"v":0,"d":"0.00"}},{"$f":"IF($B21=5,$Y21,0)","v":{"v":0,"d":"0.00"}},{"$f":"IF($B21=6,$Y21,0)","v":{"v":0,"d":"0.00"}},{"$f":"IF(AF20>0,IF(H21+P21+X21+AN21+AV21+BD21+BL21+BT21+CB21+CJ21=0,IF(E21>0,AF20,0),0),0)","v":0},{"$f":"G21*AF21","v":{"v":0,"d":"0.00"}},{"$f":"IF($B21=1,$AG21,0)","v":{"v":0,"d":"0.00"}},{"$f":"IF($B21=2,$AG21,0)","v":{"v":0,"d":"0.00"}},{"$f":"IF($B21=3,$AG21,0)","v":{"v":0,"d":"0.00"}},{"$f":"IF($B21=4,$AG21,0)","v":{"v":0,"d":"0.00"}},{"$f":"IF($B21=5,$AG21,0)","v":{"v":0,"d":"0.00"}},{"$f":"IF($B21=6,$AG21,0)","v":{"v":0,"d":"0.00"}},{"$f":"IF(AN20>0,IF(H21+P21+X21+AF21+AV21+BD21+BL21+BT21+CB21+CJ21=0,IF(E21>0,AN20,0),0),0)","v":0},{"$f":"G21*AN21","v":{"v":0,"d":"0.00"}},{"$f":"IF($B21=1,$AO21,0)","v":{"v":0,"d":"0.00"}},{"$f":"IF($B21=2,$AO21,0)","v":{"v":0,"d":"0.00"}},{"$f":"IF($B21=3,$AO21,0)","v":{"v":0,"d":"0.00"}},{"$f":"IF($B21=4,$AO21,0)","v":{"v":0,"d":"0.00"}},{"$f":"IF($B21=5,$AO21,0)","v":{"v":0,"d":"0.00"}},{"$f":"IF($B21=6,$AO21,0)","v":{"v":0,"d":"0.00"}},{"$f":"IF(AV20>0,IF(H21+P21+X21+AF21+AN21+BD21+BL21+BT21+CB21+CJ21=0,IF(E21>0,AV20,0),0),0)","v":0},{"$f":"G21*AV21","v":{"v":0,"d":"0.00"}},{"$f":"IF($B21=1,$AW21,0)","v":{"v":0,"d":"0.00"}},{"$f":"IF($B21=2,$AW21,0)","v":{"v":0,"d":"0.00"}},{"$f":"IF($B21=3,$AW21,0)","v":{"v":0,"d":"0.00"}},{"$f":"IF($B21=4,$AW21,0)","v":{"v":0,"d":"0.00"}},{"$f":"IF($B21=5,$AW21,0)","v":{"v":0,"d":"0.00"}},{"$f":"IF($B21=6,$AW21,0)","v":{"v":0,"d":"0.00"}},{"$f":"IF(BD20>0,IF(H21+P21+X21+AF21+AN21+AV21+BL21+BT21+CB21+CJ21=0,IF(E21>0,BD20,0),0),0)","v":0},{"$f":"G21*BD21","v":{"v":0,"d":"0.00"}},{"$f":"IF($B21=1,$BE21,0)","v":{"v":0,"d":"0.00"}},{"$f":"IF($B21=2,$BE21,0)","v":{"v":0,"d":"0.00"}},{"$f":"IF($B21=3,$BE21,0)","v":{"v":0,"d":"0.00"}},{"$f":"IF($B21=4,$BE21,0)","v":{"v":0,"d":"0.00"}},{"$f":"IF($B21=5,$BE21,0)","v":{"v":0,"d":"0.00"}},{"$f":"IF($B21=6,$BE21,0)","v":{"v":0,"d":"0.00"}},{"$f":"IF(BL20>0,IF(H21+P21+X21+AF21+AN21+AV21+BD21+BT21+CB21+CJ21=0,IF(E21>0,BL20,0),0),0)","v":0},{"$f":"G21*BL21","v":{"v":0,"d":"0.00"}},{"$f":"IF($B21=1,$BM21,0)","v":{"v":0,"d":"0.00"}},{"$f":"IF($B21=2,$BM21,0)","v":{"v":0,"d":"0.00"}},{"$f":"IF($B21=3,$BM21,0)","v":{"v":0,"d":"0.00"}},{"$f":"IF($B21=4,$BM21,0)","v":{"v":0,"d":"0.00"}},{"$f":"IF($B21=5,$BM21,0)","v":{"v":0,"d":"0.00"}},{"$f":"IF($B21=6,$BM21,0)","v":{"v":0,"d":"0.00"}},{"$f":"IF(BT20>0,IF(H21+P21+X21+AF21+AN21+AV21+BD21+BL21+CB21+CJ21=0,IF(E21>0,BT20,0),0),0)","v":0},{"$f":"G21*BT21","v":{"v":0,"d":"0.00"}},{"$f":"IF($B21=1,$BU21,0)","v":{"v":0,"d":"0.00"}},{"$f":"IF($B21=2,$BU21,0)","v":{"v":0,"d":"0.00"}},{"$f":"IF($B21=3,$BU21,0)","v":{"v":0,"d":"0.00"}},{"$f":"IF($B21=4,$BU21,0)","v":{"v":0,"d":"0.00"}},{"$f":"IF($B21=5,$BU21,0)","v":{"v":0,"d":"0.00"}},{"$f":"IF($B21=6,$BU21,0)","v":{"v":0,"d":"0.00"}},{"$f":"IF(CB20>0,IF(H21+P21+X21+AF21+AN21+AV21+BD21+BL21+BT21+CJ21=0,IF(E21>0,CB20,0),0),0)","v":0},{"$f":"G21*CB21","v":{"v":0,"d":"0.00"}},{"$f":"IF($B21=1,$CC21,0)","v":{"v":0,"d":"0.00"}},{"$f":"IF($B21=2,$CC21,0)","v":{"v":0,"d":"0.00"}},{"$f":"IF($B21=3,$CC21,0)","v":{"v":0,"d":"0.00"}},{"$f":"IF($B21=4,$CC21,0)","v":{"v":0,"d":"0.00"}},{"$f":"IF($B21=5,$CC21,0)","v":{"v":0,"d":"0.00"}},{"$f":"IF($B21=6,$CC21,0)","v":{"v":0,"d":"0.00"}},{"$f":"IF(CJ20>0,IF(H21+P21+X21+AF21+AN21+AV21+BD21+BL21+BT21+CB21=0,IF(E21>0,CJ20,0),0),0)","v":0},{"$f":"G21*CJ21","v":{"v":0,"d":"0.00"}},{"$f":"IF($B21=1,$CK21,0)","v":{"v":0,"d":"0.00"}},{"$f":"IF($B21=2,$CK21,0)","v":{"v":0,"d":"0.00"}},{"$f":"IF($B21=3,$CK21,0)","v":{"v":0,"d":"0.00"}},{"$f":"IF($B21=4,$CK21,0)","v":{"v":0,"d":"0.00"}},{"$f":"IF($B21=5,$CK21,0)","v":{"v":0,"d":"0.00"}},{"$f":"IF($B21=6,$CK21,0)","v":{"v":0,"d":"0.00"}}]
[{"$f":"IF(C21<>C22,C22,\"\")","v":""},{"$f":"IF(C21<>C22,_xlfn.DAYS(C22,C21)+B21,B21)","v":1},{"$f":"IF(D22>0,IF(D22<E21,C21+1,C21),C21)","v":"2009-03-02"},{"$f":"IF((E22+H22+P22+X22+AF22+AN22+AV22+BD22+BL22+BT22+CB22+CJ22)>0,E21,0)","v":"00:00:00"},null,{"$f":"E22-D22","v":"00:00:00"},{"$f":"IF(E22>0,HOUR(F22)+(MINUTE(F22)/60),0)","v":0},{"$f":"IF(H21>0,IF(P22+X22+AF22+AN22+AV22+BD22+BL22+BT22+CB22+CJ22=0,IF(E22>0,H21,0),0),0)","v":0},{"$f":"G22*H22","v":{"v":0,"d":"0.00"}},{"$f":"IF($B22=1,$I22,0)","v":{"v":0,"d":"0.00"}},{"$f":"IF($B22=2,$I22,0)","v":{"v":0,"d":"0.00"}},{"$f":"IF($B22=3,$I22,0)","v":{"v":0,"d":"0.00"}},{"$f":"IF($B22=4,$I22,0)","v":{"v":0,"d":"0.00"}},{"$f":"IF($B22=5,$I22,0)","v":{"v":0,"d":"0.00"}},{"$f":"IF($B22=6,$I22,0)","v":{"v":0,"d":"0.00"}},{"$f":"IF(P21>0,IF(H22+X22+AF22+AN22+AV22+BD22+BL22+BT22+CB22+CJ22=0,IF(E22>0,P21,0),0),0)","v":0},{"$f":"G22*P22","v":{"v":0,"d":"0.00"}},{"$f":"IF(B22=1,Q22,0)","v":{"v":0,"d":"0.00"}},{"$f":"IF(B22=2,Q22,0)","v":{"v":0,"d":"0.00"}},{"$f":"IF(B22=3,Q22,0)","v":{"v":0,"d":"0.00"}},{"$f":"IF(B22=4,Q22,0)","v":{"v":0,"d":"0.00"}},{"$f":"IF(B22=5,Q22,0)","v":{"v":0,"d":"0.00"}},{"$f":"IF(B22=6,Q22,0)","v":{"v":0,"d":"0.00"}},{"$f":"IF(X21>0,IF(H22+P22+AF22+AN22+AV22+BD22+BL22+BT22+CB22+CJ22=0,IF(E22>0,X21,0),0),0)","v":0},{"$f":"G22*X22","v":{"v":0,"d":"0.00"}},{"$f":"IF($B22=1,$Y22,0)","v":{"v":0,"d":"0.00"}},{"$f":"IF($B22=2,$Y22,0)","v":{"v":0,"d":"0.00"}},{"$f":"IF($B22=3,$Y22,0)","v":{"v":0,"d":"0.00"}},{"$f":"IF($B22=4,$Y22,0)","v":{"v":0,"d":"0.00"}},{"$f":"IF($B22=5,$Y22,0)","v":{"v":0,"d":"0.00"}},{"$f":"IF($B22=6,$Y22,0)","v":{"v":0,"d":"0.00"}},{"$f":"IF(AF21>0,IF(H22+P22+X22+AN22+AV22+BD22+BL22+BT22+CB22+CJ22=0,IF(E22>0,AF21,0),0),0)","v":0},{"$f":"G22*AF22","v":{"v":0,"d":"0.00"}},{"$f":"IF($B22=1,$AG22,0)","v":{"v":0,"d":"0.00"}},{"$f":"IF($B22=2,$AG22,0)","v":{"v":0,"d":"0.00"}},{"$f":"IF($B22=3,$AG22,0)","v":{"v":0,"d":"0.00"}},{"$f":"IF($B22=4,$AG22,0)","v":{"v":0,"d":"0.00"}},{"$f":"IF($B22=5,$AG22,0)","v":{"v":0,"d":"0.00"}},{"$f":"IF($B22=6,$AG22,0)","v":{"v":0,"d":"0.00"}},{"$f":"IF(AN21>0,IF(H22+P22+X22+AF22+AV22+BD22+BL22+BT22+CB22+CJ22=0,IF(E22>0,AN21,0),0),0)","v":0},{"$f":"G22*AN22","v":{"v":0,"d":"0.00"}},{"$f":"IF($B22=1,$AO22,0)","v":{"v":0,"d":"0.00"}},{"$f":"IF($B22=2,$AO22,0)","v":{"v":0,"d":"0.00"}},{"$f":"IF($B22=3,$AO22,0)","v":{"v":0,"d":"0.00"}},{"$f":"IF($B22=4,$AO22,0)","v":{"v":0,"d":"0.00"}},{"$f":"IF($B22=5,$AO22,0)","v":{"v":0,"d":"0.00"}},{"$f":"IF($B22=6,$AO22,0)","v":{"v":0,"d":"0.00"}},{"$f":"IF(AV21>0,IF(H22+P22+X22+AF22+AN22+BD22+BL22+BT22+CB22+CJ22=0,IF(E22>0,AV21,0),0),0)","v":0},{"$f":"G22*AV22","v":{"v":0,"d":"0.00"}},{"$f":"IF($B22=1,$AW22,0)","v":{"v":0,"d":"0.00"}},{"$f":"IF($B22=2,$AW22,0)","v":{"v":0,"d":"0.00"}},{"$f":"IF($B22=3,$AW22,0)","v":{"v":0,"d":"0.00"}},{"$f":"IF($B22=4,$AW22,0)","v":{"v":0,"d":"0.00"}},{"$f":"IF($B22=5,$AW22,0)","v":{"v":0,"d":"0.00"}},{"$f":"IF($B22=6,$AW22,0)","v":{"v":0,"d":"0.00"}},{"$f":"IF(BD21>0,IF(H22+P22+X22+AF22+AN22+AV22+BL22+BT22+CB22+CJ22=0,IF(E22>0,BD21,0),0),0)","v":0},{"$f":"G22*BD22","v":{"v":0,"d":"0.00"}},{"$f":"IF($B22=1,$BE22,0)","v":{"v":0,"d":"0.00"}},{"$f":"IF($B22=2,$BE22,0)","v":{"v":0,"d":"0.00"}},{"$f":"IF($B22=3,$BE22,0)","v":{"v":0,"d":"0.00"}},{"$f":"IF($B22=4,$BE22,0)","v":{"v":0,"d":"0.00"}},{"$f":"IF($B22=5,$BE22,0)","v":{"v":0,"d":"0.00"}},{"$f":"IF($B22=6,$BE22,0)","v":{"v":0,"d":"0.00"}},{"$f":"IF(BL21>0,IF(H22+P22+X22+AF22+AN22+AV22+BD22+BT22+CB22+CJ22=0,IF(E22>0,BL21,0),0),0)","v":0},{"$f":"G22*BL22","v":{"v":0,"d":"0.00"}},{"$f":"IF($B22=1,$BM22,0)","v":{"v":0,"d":"0.00"}},{"$f":"IF($B22=2,$BM22,0)","v":{"v":0,"d":"0.00"}},{"$f":"IF($B22=3,$BM22,0)","v":{"v":0,"d":"0.00"}},{"$f":"IF($B22=4,$BM22,0)","v":{"v":0,"d":"0.00"}},{"$f":"IF($B22=5,$BM22,0)","v":{"v":0,"d":"0.00"}},{"$f":"IF($B22=6,$BM22,0)","v":{"v":0,"d":"0.00"}},{"$f":"IF(BT21>0,IF(H22+P22+X22+AF22+AN22+AV22+BD22+BL22+CB22+CJ22=0,IF(E22>0,BT21,0),0),0)","v":0},{"$f":"G22*BT22","v":{"v":0,"d":"0.00"}},{"$f":"IF($B22=1,$BU22,0)","v":{"v":0,"d":"0.00"}},{"$f":"IF($B22=2,$BU22,0)","v":{"v":0,"d":"0.00"}},{"$f":"IF($B22=3,$BU22,0)","v":{"v":0,"d":"0.00"}},{"$f":"IF($B22=4,$BU22,0)","v":{"v":0,"d":"0.00"}},{"$f":"IF($B22=5,$BU22,0)","v":{"v":0,"d":"0.00"}},{"$f":"IF($B22=6,$BU22,0)","v":{"v":0,"d":"0.00"}},{"$f":"IF(CB21>0,IF(H22+P22+X22+AF22+AN22+AV22+BD22+BL22+BT22+CJ22=0,IF(E22>0,CB21,0),0),0)","v":0},{"$f":"G22*CB22","v":{"v":0,"d":"0.00"}},{"$f":"IF($B22=1,$CC22,0)","v":{"v":0,"d":"0.00"}},{"$f":"IF($B22=2,$CC22,0)","v":{"v":0,"d":"0.00"}},{"$f":"IF($B22=3,$CC22,0)","v":{"v":0,"d":"0.00"}},{"$f":"IF($B22=4,$CC22,0)","v":{"v":0,"d":"0.00"}},{"$f":"IF($B22=5,$CC22,0)","v":{"v":0,"d":"0.00"}},{"$f":"IF($B22=6,$CC22,0)","v":{"v":0,"d":"0.00"}},{"$f":"IF(CJ21>0,IF(H22+P22+X22+AF22+AN22+AV22+BD22+BL22+BT22+CB22=0,IF(E22>0,CJ21,0),0),0)","v":0},{"$f":"G22*CJ22","v":{"v":0,"d":"0.00"}},{"$f":"IF($B22=1,$CK22,0)","v":{"v":0,"d":"0.00"}},{"$f":"IF($B22=2,$CK22,0)","v":{"v":0,"d":"0.00"}},{"$f":"IF($B22=3,$CK22,0)","v":{"v":0,"d":"0.00"}},{"$f":"IF($B22=4,$CK22,0)","v":{"v":0,"d":"0.00"}},{"$f":"IF($B22=5,$CK22,0)","v":{"v":0,"d":"0.00"}},{"$f":"IF($B22=6,$CK22,0)","v":{"v":0,"d":"0.00"}}]
[{"$f":"IF(C22<>C23,C23,\"\")","v":""},{"$f":"IF(C22<>C23,_xlfn.DAYS(C23,C22)+B22,B22)","v":1},{"$f":"IF(D23>0,IF(D23<E22,C22+1,C22),C22)","v":"2009-03-02"},{"$f":"IF((E23+H23+P23+X23+AF23+AN23+AV23+BD23+BL23+BT23+CB23+CJ23)>0,E22,0)","v":"00:00:00"},null,{"$f":"E23-D23","v":"00:00:00"},{"$f":"IF(E23>0,HOUR(F23)+(MINUTE(F23)/60),0)","v":0},{"$f":"IF(H22>0,IF(P23+X23+AF23+AN23+AV23+BD23+BL23+BT23+CB23+CJ23=0,IF(E23>0,H22,0),0),0)","v":0},{"$f":"G23*H23","v":{"v":0,"d":"0.00"}},{"$f":"IF($B23=1,$I23,0)","v":{"v":0,"d":"0.00"}},{"$f":"IF($B23=2,$I23,0)","v":{"v":0,"d":"0.00"}},{"$f":"IF($B23=3,$I23,0)","v":{"v":0,"d":"0.00"}},{"$f":"IF($B23=4,$I23,0)","v":{"v":0,"d":"0.00"}},{"$f":"IF($B23=5,$I23,0)","v":{"v":0,"d":"0.00"}},{"$f":"IF($B23=6,$I23,0)","v":{"v":0,"d":"0.00"}},{"$f":"IF(P22>0,IF(H23+X23+AF23+AN23+AV23+BD23+BL23+BT23+CB23+CJ23=0,IF(E23>0,P22,0),0),0)","v":0},{"$f":"G23*P23","v":{"v":0,"d":"0.00"}},{"$f":"IF(B23=1,Q23,0)","v":{"v":0,"d":"0.00"}},{"$f":"IF(B23=2,Q23,0)","v":{"v":0,"d":"0.00"}},{"$f":"IF(B23=3,Q23,0)","v":{"v":0,"d":"0.00"}},{"$f":"IF(B23=4,Q23,0)","v":{"v":0,"d":"0.00"}},{"$f":"IF(B23=5,Q23,0)","v":{"v":0,"d":"0.00"}},{"$f":"IF(B23=6,Q23,0)","v":{"v":0,"d":"0.00"}},{"$f":"IF(X22>0,IF(H23+P23+AF23+AN23+AV23+BD23+BL23+BT23+CB23+CJ23=0,IF(E23>0,X22,0),0),0)","v":0},{"$f":"G23*X23","v":{"v":0,"d":"0.00"}},{"$f":"IF($B23=1,$Y23,0)","v":{"v":0,"d":"0.00"}},{"$f":"IF($B23=2,$Y23,0)","v":{"v":0,"d":"0.00"}},{"$f":"IF($B23=3,$Y23,0)","v":{"v":0,"d":"0.00"}},{"$f":"IF($B23=4,$Y23,0)","v":{"v":0,"d":"0.00"}},{"$f":"IF($B23=5,$Y23,0)","v":{"v":0,"d":"0.00"}},{"$f":"IF($B23=6,$Y23,0)","v":{"v":0,"d":"0.00"}},{"$f":"IF(AF22>0,IF(H23+P23+X23+AN23+AV23+BD23+BL23+BT23+CB23+CJ23=0,IF(E23>0,AF22,0),0),0)","v":0},{"$f":"G23*AF23","v":{"v":0,"d":"0.00"}},{"$f":"IF($B23=1,$AG23,0)","v":{"v":0,"d":"0.00"}},{"$f":"IF($B23=2,$AG23,0)","v":{"v":0,"d":"0.00"}},{"$f":"IF($B23=3,$AG23,0)","v":{"v":0,"d":"0.00"}},{"$f":"IF($B23=4,$AG23,0)","v":{"v":0,"d":"0.00"}},{"$f":"IF($B23=5,$AG23,0)","v":{"v":0,"d":"0.00"}},{"$f":"IF($B23=6,$AG23,0)","v":{"v":0,"d":"0.00"}},{"$f":"IF(AN22>0,IF(H23+P23+X23+AF23+AV23+BD23+BL23+BT23+CB23+CJ23=0,IF(E23>0,AN22,0),0),0)","v":0},{"$f":"G23*AN23","v":{"v":0,"d":"0.00"}},{"$f":"IF($B23=1,$AO23,0)","v":{"v":0,"d":"0.00"}},{"$f":"IF($B23=2,$AO23,0)","v":{"v":0,"d":"0.00"}},{"$f":"IF($B23=3,$AO23,0)","v":{"v":0,"d":"0.00"}},{"$f":"IF($B23=4,$AO23,0)","v":{"v":0,"d":"0.00"}},{"$f":"IF($B23=5,$AO23,0)","v":{"v":0,"d":"0.00"}},{"$f":"IF($B23=6,$AO23,0)","v":{"v":0,"d":"0.00"}},{"$f":"IF(AV22>0,IF(H23+P23+X23+AF23+AN23+BD23+BL23+BT23+CB23+CJ23=0,IF(E23>0,AV22,0),0),0)","v":0},{"$f":"G23*AV23","v":{"v":0,"d":"0.00"}},{"$f":"IF($B23=1,$AW23,0)","v":{"v":0,"d":"0.00"}},{"$f":"IF($B23=2,$AW23,0)","v":{"v":0,"d":"0.00"}},{"$f":"IF($B23=3,$AW23,0)","v":{"v":0,"d":"0.00"}},{"$f":"IF($B23=4,$AW23,0)","v":{"v":0,"d":"0.00"}},{"$f":"IF($B23=5,$AW23,0)","v":{"v":0,"d":"0.00"}},{"$f":"IF($B23=6,$AW23,0)","v":{"v":0,"d":"0.00"}},{"$f":"IF(BD22>0,IF(H23+P23+X23+AF23+AN23+AV23+BL23+BT23+CB23+CJ23=0,IF(E23>0,BD22,0),0),0)","v":0},{"$f":"G23*BD23","v":{"v":0,"d":"0.00"}},{"$f":"IF($B23=1,$BE23,0)","v":{"v":0,"d":"0.00"}},{"$f":"IF($B23=2,$BE23,0)","v":{"v":0,"d":"0.00"}},{"$f":"IF($B23=3,$BE23,0)","v":{"v":0,"d":"0.00"}},{"$f":"IF($B23=4,$BE23,0)","v":{"v":0,"d":"0.00"}},{"$f":"IF($B23=5,$BE23,0)","v":{"v":0,"d":"0.00"}},{"$f":"IF($B23=6,$BE23,0)","v":{"v":0,"d":"0.00"}},{"$f":"IF(BL22>0,IF(H23+P23+X23+AF23+AN23+AV23+BD23+BT23+CB23+CJ23=0,IF(E23>0,BL22,0),0),0)","v":0},{"$f":"G23*BL23","v":{"v":0,"d":"0.00"}},{"$f":"IF($B23=1,$BM23,0)","v":{"v":0,"d":"0.00"}},{"$f":"IF($B23=2,$BM23,0)","v":{"v":0,"d":"0.00"}},{"$f":"IF($B23=3,$BM23,0)","v":{"v":0,"d":"0.00"}},{"$f":"IF($B23=4,$BM23,0)","v":{"v":0,"d":"0.00"}},{"$f":"IF($B23=5,$BM23,0)","v":{"v":0,"d":"0.00"}},{"$f":"IF($B23=6,$BM23,0)","v":{"v":0,"d":"0.00"}},{"$f":"IF(BT22>0,IF(H23+P23+X23+AF23+AN23+AV23+BD23+BL23+CB23+CJ23=0,IF(E23>0,BT22,0),0),0)","v":0},{"$f":"G23*BT23","v":{"v":0,"d":"0.00"}},{"$f":"IF($B23=1,$BU23,0)","v":{"v":0,"d":"0.00"}},{"$f":"IF($B23=2,$BU23,0)","v":{"v":0,"d":"0.00"}},{"$f":"IF($B23=3,$BU23,0)","v":{"v":0,"d":"0.00"}},{"$f":"IF($B23=4,$BU23,0)","v":{"v":0,"d":"0.00"}},{"$f":"IF($B23=5,$BU23,0)","v":{"v":0,"d":"0.00"}},{"$f":"IF($B23=6,$BU23,0)","v":{"v":0,"d":"0.00"}},{"$f":"IF(CB22>0,IF(H23+P23+X23+AF23+AN23+AV23+BD23+BL23+BT23+CJ23=0,IF(E23>0,CB22,0),0),0)","v":0},{"$f":"G23*CB23","v":{"v":0,"d":"0.00"}},{"$f":"IF($B23=1,$CC23,0)","v":{"v":0,"d":"0.00"}},{"$f":"IF($B23=2,$CC23,0)","v":{"v":0,"d":"0.00"}},{"$f":"IF($B23=3,$CC23,0)","v":{"v":0,"d":"0.00"}},{"$f":"IF($B23=4,$CC23,0)","v":{"v":0,"d":"0.00"}},{"$f":"IF($B23=5,$CC23,0)","v":{"v":0,"d":"0.00"}},{"$f":"IF($B23=6,$CC23,0)","v":{"v":0,"d":"0.00"}},{"$f":"IF(CJ22>0,IF(H23+P23+X23+AF23+AN23+AV23+BD23+BL23+BT23+CB23=0,IF(E23>0,CJ22,0),0),0)","v":0},{"$f":"G23*CJ23","v":{"v":0,"d":"0.00"}},{"$f":"IF($B23=1,$CK23,0)","v":{"v":0,"d":"0.00"}},{"$f":"IF($B23=2,$CK23,0)","v":{"v":0,"d":"0.00"}},{"$f":"IF($B23=3,$CK23,0)","v":{"v":0,"d":"0.00"}},{"$f":"IF($B23=4,$CK23,0)","v":{"v":0,"d":"0.00"}},{"$f":"IF($B23=5,$CK23,0)","v":{"v":0,"d":"0.00"}},{"$f":"IF($B23=6,$CK23,0)","v":{"v":0,"d":"0.00"}}]
[{"$f":"IF(C23<>C24,C24,\"\")","v":""},{"$f":"IF(C23<>C24,_xlfn.DAYS(C24,C23)+B23,B23)","v":1},{"$f":"IF(D24>0,IF(D24<E23,C23+1,C23),C23)","v":"2009-03-02"},{"$f":"IF((E24+H24+P24+X24+AF24+AN24+AV24+BD24+BL24+BT24+CB24+CJ24)>0,E23,0)","v":"00:00:00"},null,{"$f":"E24-D24","v":"00:00:00"},{"$f":"IF(E24>0,HOUR(F24)+(MINUTE(F24)/60),0)","v":0},{"$f":"IF(H23>0,IF(P24+X24+AF24+AN24+AV24+BD24+BL24+BT24+CB24+CJ24=0,IF(E24>0,H23,0),0),0)","v":0},{"$f":"G24*H24","v":{"v":0,"d":"0.00"}},{"$f":"IF($B24=1,$I24,0)","v":{"v":0,"d":"0.00"}},{"$f":"IF($B24=2,$I24,0)","v":{"v":0,"d":"0.00"}},{"$f":"IF($B24=3,$I24,0)","v":{"v":0,"d":"0.00"}},{"$f":"IF($B24=4,$I24,0)","v":{"v":0,"d":"0.00"}},{"$f":"IF($B24=5,$I24,0)","v":{"v":0,"d":"0.00"}},{"$f":"IF($B24=6,$I24,0)","v":{"v":0,"d":"0.00"}},{"$f":"IF(P23>0,IF(H24+X24+AF24+AN24+AV24+BD24+BL24+BT24+CB24+CJ24=0,IF(E24>0,P23,0),0),0)","v":0},{"$f":"G24*P24","v":{"v":0,"d":"0.00"}},{"$f":"IF(B24=1,Q24,0)","v":{"v":0,"d":"0.00"}},{"$f":"IF(B24=2,Q24,0)","v":{"v":0,"d":"0.00"}},{"$f":"IF(B24=3,Q24,0)","v":{"v":0,"d":"0.00"}},{"$f":"IF(B24=4,Q24,0)","v":{"v":0,"d":"0.00"}},{"$f":"IF(B24=5,Q24,0)","v":{"v":0,"d":"0.00"}},{"$f":"IF(B24=6,Q24,0)","v":{"v":0,"d":"0.00"}},{"$f":"IF(X23>0,IF(H24+P24+AF24+AN24+AV24+BD24+BL24+BT24+CB24+CJ24=0,IF(E24>0,X23,0),0),0)","v":0},{"$f":"G24*X24","v":{"v":0,"d":"0.00"}},{"$f":"IF($B24=1,$Y24,0)","v":{"v":0,"d":"0.00"}},{"$f":"IF($B24=2,$Y24,0)","v":{"v":0,"d":"0.00"}},{"$f":"IF($B24=3,$Y24,0)","v":{"v":0,"d":"0.00"}},{"$f":"IF($B24=4,$Y24,0)","v":{"v":0,"d":"0.00"}},{"$f":"IF($B24=5,$Y24,0)","v":{"v":0,"d":"0.00"}},{"$f":"IF($B24=6,$Y24,0)","v":{"v":0,"d":"0.00"}},{"$f":"IF(AF23>0,IF(H24+P24+X24+AN24+AV24+BD24+BL24+BT24+CB24+CJ24=0,IF(E24>0,AF23,0),0),0)","v":0},{"$f":"G24*AF24","v":{"v":0,"d":"0.00"}},{"$f":"IF($B24=1,$AG24,0)","v":{"v":0,"d":"0.00"}},{"$f":"IF($B24=2,$AG24,0)","v":{"v":0,"d":"0.00"}},{"$f":"IF($B24=3,$AG24,0)","v":{"v":0,"d":"0.00"}},{"$f":"IF($B24=4,$AG24,0)","v":{"v":0,"d":"0.00"}},{"$f":"IF($B24=5,$AG24,0)","v":{"v":0,"d":"0.00"}},{"$f":"IF($B24=6,$AG24,0)","v":{"v":0,"d":"0.00"}},{"$f":"IF(AN23>0,IF(H24+P24+X24+AF24+AV24+BD24+BL24+BT24+CB24+CJ24=0,IF(E24>0,AN23,0),0),0)","v":0},{"$f":"G24*AN24","v":{"v":0,"d":"0.00"}},{"$f":"IF($B24=1,$AO24,0)","v":{"v":0,"d":"0.00"}},{"$f":"IF($B24=2,$AO24,0)","v":{"v":0,"d":"0.00"}},{"$f":"IF($B24=3,$AO24,0)","v":{"v":0,"d":"0.00"}},{"$f":"IF($B24=4,$AO24,0)","v":{"v":0,"d":"0.00"}},{"$f":"IF($B24=5,$AO24,0)","v":{"v":0,"d":"0.00"}},{"$f":"IF($B24=6,$AO24,0)","v":{"v":0,"d":"0.00"}},{"$f":"IF(AV23>0,IF(H24+P24+X24+AF24+AN24+BD24+BL24+BT24+CB24+CJ24=0,IF(E24>0,AV23,0),0),0)","v":0},{"$f":"G24*AV24","v":{"v":0,"d":"0.00"}},{"$f":"IF($B24=1,$AW24,0)","v":{"v":0,"d":"0.00"}},{"$f":"IF($B24=2,$AW24,0)","v":{"v":0,"d":"0.00"}},{"$f":"IF($B24=3,$AW24,0)","v":{"v":0,"d":"0.00"}},{"$f":"IF($B24=4,$AW24,0)","v":{"v":0,"d":"0.00"}},{"$f":"IF($B24=5,$AW24,0)","v":{"v":0,"d":"0.00"}},{"$f":"IF($B24=6,$AW24,0)","v":{"v":0,"d":"0.00"}},{"$f":"IF(BD23>0,IF(H24+P24+X24+AF24+AN24+AV24+BL24+BT24+CB24+CJ24=0,IF(E24>0,BD23,0),0),0)","v":0},{"$f":"G24*BD24","v":{"v":0,"d":"0.00"}},{"$f":"IF($B24=1,$BE24,0)","v":{"v":0,"d":"0.00"}},{"$f":"IF($B24=2,$BE24,0)","v":{"v":0,"d":"0.00"}},{"$f":"IF($B24=3,$BE24,0)","v":{"v":0,"d":"0.00"}},{"$f":"IF($B24=4,$BE24,0)","v":{"v":0,"d":"0.00"}},{"$f":"IF($B24=5,$BE24,0)","v":{"v":0,"d":"0.00"}},{"$f":"IF($B24=6,$BE24,0)","v":{"v":0,"d":"0.00"}},{"$f":"IF(BL23>0,IF(H24+P24+X24+AF24+AN24+AV24+BD24+BT24+CB24+CJ24=0,IF(E24>0,BL23,0),0),0)","v":0},{"$f":"G24*BL24","v":{"v":0,"d":"0.00"}},{"$f":"IF($B24=1,$BM24,0)","v":{"v":0,"d":"0.00"}},{"$f":"IF($B24=2,$BM24,0)","v":{"v":0,"d":"0.00"}},{"$f":"IF($B24=3,$BM24,0)","v":{"v":0,"d":"0.00"}},{"$f":"IF($B24=4,$BM24,0)","v":{"v":0,"d":"0.00"}},{"$f":"IF($B24=5,$BM24,0)","v":{"v":0,"d":"0.00"}},{"$f":"IF($B24=6,$BM24,0)","v":{"v":0,"d":"0.00"}},{"$f":"IF(BT23>0,IF(H24+P24+X24+AF24+AN24+AV24+BD24+BL24+CB24+CJ24=0,IF(E24>0,BT23,0),0),0)","v":0},{"$f":"G24*BT24","v":{"v":0,"d":"0.00"}},{"$f":"IF($B24=1,$BU24,0)","v":{"v":0,"d":"0.00"}},{"$f":"IF($B24=2,$BU24,0)","v":{"v":0,"d":"0.00"}},{"$f":"IF($B24=3,$BU24,0)","v":{"v":0,"d":"0.00"}},{"$f":"IF($B24=4,$BU24,0)","v":{"v":0,"d":"0.00"}},{"$f":"IF($B24=5,$BU24,0)","v":{"v":0,"d":"0.00"}},{"$f":"IF($B24=6,$BU24,0)","v":{"v":0,"d":"0.00"}},{"$f":"IF(CB23>0,IF(H24+P24+X24+AF24+AN24+AV24+BD24+BL24+BT24+CJ24=0,IF(E24>0,CB23,0),0),0)","v":0},{"$f":"G24*CB24","v":{"v":0,"d":"0.00"}},{"$f":"IF($B24=1,$CC24,0)","v":{"v":0,"d":"0.00"}},{"$f":"IF($B24=2,$CC24,0)","v":{"v":0,"d":"0.00"}},{"$f":"IF($B24=3,$CC24,0)","v":{"v":0,"d":"0.00"}},{"$f":"IF($B24=4,$CC24,0)","v":{"v":0,"d":"0.00"}},{"$f":"IF($B24=5,$CC24,0)","v":{"v":0,"d":"0.00"}},{"$f":"IF($B24=6,$CC24,0)","v":{"v":0,"d":"0.00"}},{"$f":"IF(CJ23>0,IF(H24+P24+X24+AF24+AN24+AV24+BD24+BL24+BT24+CB24=0,IF(E24>0,CJ23,0),0),0)","v":0},{"$f":"G24*CJ24","v":{"v":0,"d":"0.00"}},{"$f":"IF($B24=1,$CK24,0)","v":{"v":0,"d":"0.00"}},{"$f":"IF($B24=2,$CK24,0)","v":{"v":0,"d":"0.00"}},{"$f":"IF($B24=3,$CK24,0)","v":{"v":0,"d":"0.00"}},{"$f":"IF($B24=4,$CK24,0)","v":{"v":0,"d":"0.00"}},{"$f":"IF($B24=5,$CK24,0)","v":{"v":0,"d":"0.00"}},{"$f":"IF($B24=6,$CK24,0)","v":{"v":0,"d":"0.00"}}]
[{"$f":"IF(C24<>C25,C25,\"\")","v":""},{"$f":"IF(C24<>C25,_xlfn.DAYS(C25,C24)+B24,B24)","v":1},{"$f":"IF(D25>0,IF(D25<E24,C24+1,C24),C24)","v":"2009-03-02"},{"$f":"IF((E25+H25+P25+X25+AF25+AN25+AV25+BD25+BL25+BT25+CB25+CJ25)>0,E24,0)","v":"00:00:00"},null,{"$f":"E25-D25","v":"00:00:00"},{"$f":"IF(E25>0,HOUR(F25)+(MINUTE(F25)/60),0)","v":0},{"$f":"IF(H24>0,IF(P25+X25+AF25+AN25+AV25+BD25+BL25+BT25+CB25+CJ25=0,IF(E25>0,H24,0),0),0)","v":0},{"$f":"G25*H25","v":{"v":0,"d":"0.00"}},{"$f":"IF($B25=1,$I25,0)","v":{"v":0,"d":"0.00"}},{"$f":"IF($B25=2,$I25,0)","v":{"v":0,"d":"0.00"}},{"$f":"IF($B25=3,$I25,0)","v":{"v":0,"d":"0.00"}},{"$f":"IF($B25=4,$I25,0)","v":{"v":0,"d":"0.00"}},{"$f":"IF($B25=5,$I25,0)","v":{"v":0,"d":"0.00"}},{"$f":"IF($B25=6,$I25,0)","v":{"v":0,"d":"0.00"}},{"$f":"IF(P24>0,IF(H25+X25+AF25+AN25+AV25+BD25+BL25+BT25+CB25+CJ25=0,IF(E25>0,P24,0),0),0)","v":0},{"$f":"G25*P25","v":{"v":0,"d":"0.00"}},{"$f":"IF(B25=1,Q25,0)","v":{"v":0,"d":"0.00"}},{"$f":"IF(B25=2,Q25,0)","v":{"v":0,"d":"0.00"}},{"$f":"IF(B25=3,Q25,0)","v":{"v":0,"d":"0.00"}},{"$f":"IF(B25=4,Q25,0)","v":{"v":0,"d":"0.00"}},{"$f":"IF(B25=5,Q25,0)","v":{"v":0,"d":"0.00"}},{"$f":"IF(B25=6,Q25,0)","v":{"v":0,"d":"0.00"}},{"$f":"IF(X24>0,IF(H25+P25+AF25+AN25+AV25+BD25+BL25+BT25+CB25+CJ25=0,IF(E25>0,X24,0),0),0)","v":0},{"$f":"G25*X25","v":{"v":0,"d":"0.00"}},{"$f":"IF($B25=1,$Y25,0)","v":{"v":0,"d":"0.00"}},{"$f":"IF($B25=2,$Y25,0)","v":{"v":0,"d":"0.00"}},{"$f":"IF($B25=3,$Y25,0)","v":{"v":0,"d":"0.00"}},{"$f":"IF($B25=4,$Y25,0)","v":{"v":0,"d":"0.00"}},{"$f":"IF($B25=5,$Y25,0)","v":{"v":0,"d":"0.00"}},{"$f":"IF($B25=6,$Y25,0)","v":{"v":0,"d":"0.00"}},{"$f":"IF(AF24>0,IF(H25+P25+X25+AN25+AV25+BD25+BL25+BT25+CB25+CJ25=0,IF(E25>0,AF24,0),0),0)","v":0},{"$f":"G25*AF25","v":{"v":0,"d":"0.00"}},{"$f":"IF($B25=1,$AG25,0)","v":{"v":0,"d":"0.00"}},{"$f":"IF($B25=2,$AG25,0)","v":{"v":0,"d":"0.00"}},{"$f":"IF($B25=3,$AG25,0)","v":{"v":0,"d":"0.00"}},{"$f":"IF($B25=4,$AG25,0)","v":{"v":0,"d":"0.00"}},{"$f":"IF($B25=5,$AG25,0)","v":{"v":0,"d":"0.00"}},{"$f":"IF($B25=6,$AG25,0)","v":{"v":0,"d":"0.00"}},{"$f":"IF(AN24>0,IF(H25+P25+X25+AF25+AV25+BD25+BL25+BT25+CB25+CJ25=0,IF(E25>0,AN24,0),0),0)","v":0},{"$f":"G25*AN25","v":{"v":0,"d":"0.00"}},{"$f":"IF($B25=1,$AO25,0)","v":{"v":0,"d":"0.00"}},{"$f":"IF($B25=2,$AO25,0)","v":{"v":0,"d":"0.00"}},{"$f":"IF($B25=3,$AO25,0)","v":{"v":0,"d":"0.00"}},{"$f":"IF($B25=4,$AO25,0)","v":{"v":0,"d":"0.00"}},{"$f":"IF($B25=5,$AO25,0)","v":{"v":0,"d":"0.00"}},{"$f":"IF($B25=6,$AO25,0)","v":{"v":0,"d":"0.00"}},{"$f":"IF(AV24>0,IF(H25+P25+X25+AF25+AN25+BD25+BL25+BT25+CB25+CJ25=0,IF(E25>0,AV24,0),0),0)","v":0},{"$f":"G25*AV25","v":{"v":0,"d":"0.00"}},{"$f":"IF($B25=1,$AW25,0)","v":{"v":0,"d":"0.00"}},{"$f":"IF($B25=2,$AW25,0)","v":{"v":0,"d":"0.00"}},{"$f":"IF($B25=3,$AW25,0)","v":{"v":0,"d":"0.00"}},{"$f":"IF($B25=4,$AW25,0)","v":{"v":0,"d":"0.00"}},{"$f":"IF($B25=5,$AW25,0)","v":{"v":0,"d":"0.00"}},{"$f":"IF($B25=6,$AW25,0)","v":{"v":0,"d":"0.00"}},{"$f":"IF(BD24>0,IF(H25+P25+X25+AF25+AN25+AV25+BL25+BT25+CB25+CJ25=0,IF(E25>0,BD24,0),0),0)","v":0},{"$f":"G25*BD25","v":{"v":0,"d":"0.00"}},{"$f":"IF($B25=1,$BE25,0)","v":{"v":0,"d":"0.00"}},{"$f":"IF($B25=2,$BE25,0)","v":{"v":0,"d":"0.00"}},{"$f":"IF($B25=3,$BE25,0)","v":{"v":0,"d":"0.00"}},{"$f":"IF($B25=4,$BE25,0)","v":{"v":0,"d":"0.00"}},{"$f":"IF($B25=5,$BE25,0)","v":{"v":0,"d":"0.00"}},{"$f":"IF($B25=6,$BE25,0)","v":{"v":0,"d":"0.00"}},{"$f":"IF(BL24>0,IF(H25+P25+X25+AF25+AN25+AV25+BD25+BT25+CB25+CJ25=0,IF(E25>0,BL24,0),0),0)","v":0},{"$f":"G25*BL25","v":{"v":0,"d":"0.00"}},{"$f":"IF($B25=1,$BM25,0)","v":{"v":0,"d":"0.00"}},{"$f":"IF($B25=2,$BM25,0)","v":{"v":0,"d":"0.00"}},{"$f":"IF($B25=3,$BM25,0)","v":{"v":0,"d":"0.00"}},{"$f":"IF($B25=4,$BM25,0)","v":{"v":0,"d":"0.00"}},{"$f":"IF($B25=5,$BM25,0)","v":{"v":0,"d":"0.00"}},{"$f":"IF($B25=6,$BM25,0)","v":{"v":0,"d":"0.00"}},{"$f":"IF(BT24>0,IF(H25+P25+X25+AF25+AN25+AV25+BD25+BL25+CB25+CJ25=0,IF(E25>0,BT24,0),0),0)","v":0},{"$f":"G25*BT25","v":{"v":0,"d":"0.00"}},{"$f":"IF($B25=1,$BU25,0)","v":{"v":0,"d":"0.00"}},{"$f":"IF($B25=2,$BU25,0)","v":{"v":0,"d":"0.00"}},{"$f":"IF($B25=3,$BU25,0)","v":{"v":0,"d":"0.00"}},{"$f":"IF($B25=4,$BU25,0)","v":{"v":0,"d":"0.00"}},{"$f":"IF($B25=5,$BU25,0)","v":{"v":0,"d":"0.00"}},{"$f":"IF($B25=6,$BU25,0)","v":{"v":0,"d":"0.00"}},{"$f":"IF(CB24>0,IF(H25+P25+X25+AF25+AN25+AV25+BD25+BL25+BT25+CJ25=0,IF(E25>0,CB24,0),0),0)","v":0},{"$f":"G25*CB25","v":{"v":0,"d":"0.00"}},{"$f":"IF($B25=1,$CC25,0)","v":{"v":0,"d":"0.00"}},{"$f":"IF($B25=2,$CC25,0)","v":{"v":0,"d":"0.00"}},{"$f":"IF($B25=3,$CC25,0)","v":{"v":0,"d":"0.00"}},{"$f":"IF($B25=4,$CC25,0)","v":{"v":0,"d":"0.00"}},{"$f":"IF($B25=5,$CC25,0)","v":{"v":0,"d":"0.00"}},{"$f":"IF($B25=6,$CC25,0)","v":{"v":0,"d":"0.00"}},{"$f":"IF(CJ24>0,IF(H25+P25+X25+AF25+AN25+AV25+BD25+BL25+BT25+CB25=0,IF(E25>0,CJ24,0),0),0)","v":0},{"$f":"G25*CJ25","v":{"v":0,"d":"0.00"}},{"$f":"IF($B25=1,$CK25,0)","v":{"v":0,"d":"0.00"}},{"$f":"IF($B25=2,$CK25,0)","v":{"v":0,"d":"0.00"}},{"$f":"IF($B25=3,$CK25,0)","v":{"v":0,"d":"0.00"}},{"$f":"IF($B25=4,$CK25,0)","v":{"v":0,"d":"0.00"}},{"$f":"IF($B25=5,$CK25,0)","v":{"v":0,"d":"0.00"}},{"$f":"IF($B25=6,$CK25,0)","v":{"v":0,"d":"0.00"}}]
[{"$f":"IF(C25<>C26,C26,\"\")","v":""},{"$f":"IF(C25<>C26,_xlfn.DAYS(C26,C25)+B25,B25)","v":1},{"$f":"IF(D26>0,IF(D26<E25,C25+1,C25),C25)","v":"2009-03-02"},{"$f":"IF((E26+H26+P26+X26+AF26+AN26+AV26+BD26+BL26+BT26+CB26+CJ26)>0,E25,0)","v":"00:00:00"},null,{"$f":"E26-D26","v":"00:00:00"},{"$f":"IF(E26>0,HOUR(F26)+(MINUTE(F26)/60),0)","v":0},{"$f":"IF(H25>0,IF(P26+X26+AF26+AN26+AV26+BD26+BL26+BT26+CB26+CJ26=0,IF(E26>0,H25,0),0),0)","v":0},{"$f":"G26*H26","v":{"v":0,"d":"0.00"}},{"$f":"IF($B26=1,$I26,0)","v":{"v":0,"d":"0.00"}},{"$f":"IF($B26=2,$I26,0)","v":{"v":0,"d":"0.00"}},{"$f":"IF($B26=3,$I26,0)","v":{"v":0,"d":"0.00"}},{"$f":"IF($B26=4,$I26,0)","v":{"v":0,"d":"0.00"}},{"$f":"IF($B26=5,$I26,0)","v":{"v":0,"d":"0.00"}},{"$f":"IF($B26=6,$I26,0)","v":{"v":0,"d":"0.00"}},{"$f":"IF(P25>0,IF(H26+X26+AF26+AN26+AV26+BD26+BL26+BT26+CB26+CJ26=0,IF(E26>0,P25,0),0),0)","v":0},{"$f":"G26*P26","v":{"v":0,"d":"0.00"}},{"$f":"IF(B26=1,Q26,0)","v":{"v":0,"d":"0.00"}},{"$f":"IF(B26=2,Q26,0)","v":{"v":0,"d":"0.00"}},{"$f":"IF(B26=3,Q26,0)","v":{"v":0,"d":"0.00"}},{"$f":"IF(B26=4,Q26,0)","v":{"v":0,"d":"0.00"}},{"$f":"IF(B26=5,Q26,0)","v":{"v":0,"d":"0.00"}},{"$f":"IF(B26=6,Q26,0)","v":{"v":0,"d":"0.00"}},{"$f":"IF(X25>0,IF(H26+P26+AF26+AN26+AV26+BD26+BL26+BT26+CB26+CJ26=0,IF(E26>0,X25,0),0),0)","v":0},{"$f":"G26*X26","v":{"v":0,"d":"0.00"}},{"$f":"IF($B26=1,$Y26,0)","v":{"v":0,"d":"0.00"}},{"$f":"IF($B26=2,$Y26,0)","v":{"v":0,"d":"0.00"}},{"$f":"IF($B26=3,$Y26,0)","v":{"v":0,"d":"0.00"}},{"$f":"IF($B26=4,$Y26,0)","v":{"v":0,"d":"0.00"}},{"$f":"IF($B26=5,$Y26,0)","v":{"v":0,"d":"0.00"}},{"$f":"IF($B26=6,$Y26,0)","v":{"v":0,"d":"0.00"}},{"$f":"IF(AF25>0,IF(H26+P26+X26+AN26+AV26+BD26+BL26+BT26+CB26+CJ26=0,IF(E26>0,AF25,0),0),0)","v":0},{"$f":"G26*AF26","v":{"v":0,"d":"0.00"}},{"$f":"IF($B26=1,$AG26,0)","v":{"v":0,"d":"0.00"}},{"$f":"IF($B26=2,$AG26,0)","v":{"v":0,"d":"0.00"}},{"$f":"IF($B26=3,$AG26,0)","v":{"v":0,"d":"0.00"}},{"$f":"IF($B26=4,$AG26,0)","v":{"v":0,"d":"0.00"}},{"$f":"IF($B26=5,$AG26,0)","v":{"v":0,"d":"0.00"}},{"$f":"IF($B26=6,$AG26,0)","v":{"v":0,"d":"0.00"}},{"$f":"IF(AN25>0,IF(H26+P26+X26+AF26+AV26+BD26+BL26+BT26+CB26+CJ26=0,IF(E26>0,AN25,0),0),0)","v":0},{"$f":"G26*AN26","v":{"v":0,"d":"0.00"}},{"$f":"IF($B26=1,$AO26,0)","v":{"v":0,"d":"0.00"}},{"$f":"IF($B26=2,$AO26,0)","v":{"v":0,"d":"0.00"}},{"$f":"IF($B26=3,$AO26,0)","v":{"v":0,"d":"0.00"}},{"$f":"IF($B26=4,$AO26,0)","v":{"v":0,"d":"0.00"}},{"$f":"IF($B26=5,$AO26,0)","v":{"v":0,"d":"0.00"}},{"$f":"IF($B26=6,$AO26,0)","v":{"v":0,"d":"0.00"}},{"$f":"IF(AV25>0,IF(H26+P26+X26+AF26+AN26+BD26+BL26+BT26+CB26+CJ26=0,IF(E26>0,AV25,0),0),0)","v":0},{"$f":"G26*AV26","v":{"v":0,"d":"0.00"}},{"$f":"IF($B26=1,$AW26,0)","v":{"v":0,"d":"0.00"}},{"$f":"IF($B26=2,$AW26,0)","v":{"v":0,"d":"0.00"}},{"$f":"IF($B26=3,$AW26,0)","v":{"v":0,"d":"0.00"}},{"$f":"IF($B26=4,$AW26,0)","v":{"v":0,"d":"0.00"}},{"$f":"IF($B26=5,$AW26,0)","v":{"v":0,"d":"0.00"}},{"$f":"IF($B26=6,$AW26,0)","v":{"v":0,"d":"0.00"}},{"$f":"IF(BD25>0,IF(H26+P26+X26+AF26+AN26+AV26+BL26+BT26+CB26+CJ26=0,IF(E26>0,BD25,0),0),0)","v":0},{"$f":"G26*BD26","v":{"v":0,"d":"0.00"}},{"$f":"IF($B26=1,$BE26,0)","v":{"v":0,"d":"0.00"}},{"$f":"IF($B26=2,$BE26,0)","v":{"v":0,"d":"0.00"}},{"$f":"IF($B26=3,$BE26,0)","v":{"v":0,"d":"0.00"}},{"$f":"IF($B26=4,$BE26,0)","v":{"v":0,"d":"0.00"}},{"$f":"IF($B26=5,$BE26,0)","v":{"v":0,"d":"0.00"}},{"$f":"IF($B26=6,$BE26,0)","v":{"v":0,"d":"0.00"}},{"$f":"IF(BL25>0,IF(H26+P26+X26+AF26+AN26+AV26+BD26+BT26+CB26+CJ26=0,IF(E26>0,BL25,0),0),0)","v":0},{"$f":"G26*BL26","v":{"v":0,"d":"0.00"}},{"$f":"IF($B26=1,$BM26,0)","v":{"v":0,"d":"0.00"}},{"$f":"IF($B26=2,$BM26,0)","v":{"v":0,"d":"0.00"}},{"$f":"IF($B26=3,$BM26,0)","v":{"v":0,"d":"0.00"}},{"$f":"IF($B26=4,$BM26,0)","v":{"v":0,"d":"0.00"}},{"$f":"IF($B26=5,$BM26,0)","v":{"v":0,"d":"0.00"}},{"$f":"IF($B26=6,$BM26,0)","v":{"v":0,"d":"0.00"}},{"$f":"IF(BT25>0,IF(H26+P26+X26+AF26+AN26+AV26+BD26+BL26+CB26+CJ26=0,IF(E26>0,BT25,0),0),0)","v":0},{"$f":"G26*BT26","v":{"v":0,"d":"0.00"}},{"$f":"IF($B26=1,$BU26,0)","v":{"v":0,"d":"0.00"}},{"$f":"IF($B26=2,$BU26,0)","v":{"v":0,"d":"0.00"}},{"$f":"IF($B26=3,$BU26,0)","v":{"v":0,"d":"0.00"}},{"$f":"IF($B26=4,$BU26,0)","v":{"v":0,"d":"0.00"}},{"$f":"IF($B26=5,$BU26,0)","v":{"v":0,"d":"0.00"}},{"$f":"IF($B26=6,$BU26,0)","v":{"v":0,"d":"0.00"}},{"$f":"IF(CB25>0,IF(H26+P26+X26+AF26+AN26+AV26+BD26+BL26+BT26+CJ26=0,IF(E26>0,CB25,0),0),0)","v":0},{"$f":"G26*CB26","v":{"v":0,"d":"0.00"}},{"$f":"IF($B26=1,$CC26,0)","v":{"v":0,"d":"0.00"}},{"$f":"IF($B26=2,$CC26,0)","v":{"v":0,"d":"0.00"}},{"$f":"IF($B26=3,$CC26,0)","v":{"v":0,"d":"0.00"}},{"$f":"IF($B26=4,$CC26,0)","v":{"v":0,"d":"0.00"}},{"$f":"IF($B26=5,$CC26,0)","v":{"v":0,"d":"0.00"}},{"$f":"IF($B26=6,$CC26,0)","v":{"v":0,"d":"0.00"}},{"$f":"IF(CJ25>0,IF(H26+P26+X26+AF26+AN26+AV26+BD26+BL26+BT26+CB26=0,IF(E26>0,CJ25,0),0),0)","v":0},{"$f":"G26*CJ26","v":{"v":0,"d":"0.00"}},{"$f":"IF($B26=1,$CK26,0)","v":{"v":0,"d":"0.00"}},{"$f":"IF($B26=2,$CK26,0)","v":{"v":0,"d":"0.00"}},{"$f":"IF($B26=3,$CK26,0)","v":{"v":0,"d":"0.00"}},{"$f":"IF($B26=4,$CK26,0)","v":{"v":0,"d":"0.00"}},{"$f":"IF($B26=5,$CK26,0)","v":{"v":0,"d":"0.00"}},{"$f":"IF($B26=6,$CK26,0)","v":{"v":0,"d":"0.00"}}]
[{"$f":"IF(C26<>C27,C27,\"\")","v":""},{"$f":"IF(C26<>C27,_xlfn.DAYS(C27,C26)+B26,B26)","v":1},{"$f":"IF(D27>0,IF(D27<E26,C26+1,C26),C26)","v":"2009-03-02"},{"$f":"IF((E27+H27+P27+X27+AF27+AN27+AV27+BD27+BL27+BT27+CB27+CJ27)>0,E26,0)","v":"00:00:00"},null,{"$f":"E27-D27","v":"00:00:00"},{"$f":"IF(E27>0,HOUR(F27)+(MINUTE(F27)/60),0)","v":0},{"$f":"IF(H26>0,IF(P27+X27+AF27+AN27+AV27+BD27+BL27+BT27+CB27+CJ27=0,IF(E27>0,H26,0),0),0)","v":0},{"$f":"G27*H27","v":{"v":0,"d":"0.00"}},{"$f":"IF($B27=1,$I27,0)","v":{"v":0,"d":"0.00"}},{"$f":"IF($B27=2,$I27,0)","v":{"v":0,"d":"0.00"}},{"$f":"IF($B27=3,$I27,0)","v":{"v":0,"d":"0.00"}},{"$f":"IF($B27=4,$I27,0)","v":{"v":0,"d":"0.00"}},{"$f":"IF($B27=5,$I27,0)","v":{"v":0,"d":"0.00"}},{"$f":"IF($B27=6,$I27,0)","v":{"v":0,"d":"0.00"}},{"$f":"IF(P26>0,IF(H27+X27+AF27+AN27+AV27+BD27+BL27+BT27+CB27+CJ27=0,IF(E27>0,P26,0),0),0)","v":0},{"$f":"G27*P27","v":{"v":0,"d":"0.00"}},{"$f":"IF(B27=1,Q27,0)","v":{"v":0,"d":"0.00"}},{"$f":"IF(B27=2,Q27,0)","v":{"v":0,"d":"0.00"}},{"$f":"IF(B27=3,Q27,0)","v":{"v":0,"d":"0.00"}},{"$f":"IF(B27=4,Q27,0)","v":{"v":0,"d":"0.00"}},{"$f":"IF(B27=5,Q27,0)","v":{"v":0,"d":"0.00"}},{"$f":"IF(B27=6,Q27,0)","v":{"v":0,"d":"0.00"}},{"$f":"IF(X26>0,IF(H27+P27+AF27+AN27+AV27+BD27+BL27+BT27+CB27+CJ27=0,IF(E27>0,X26,0),0),0)","v":0},{"$f":"G27*X27","v":{"v":0,"d":"0.00"}},{"$f":"IF($B27=1,$Y27,0)","v":{"v":0,"d":"0.00"}},{"$f":"IF($B27=2,$Y27,0)","v":{"v":0,"d":"0.00"}},{"$f":"IF($B27=3,$Y27,0)","v":{"v":0,"d":"0.00"}},{"$f":"IF($B27=4,$Y27,0)","v":{"v":0,"d":"0.00"}},{"$f":"IF($B27=5,$Y27,0)","v":{"v":0,"d":"0.00"}},{"$f":"IF($B27=6,$Y27,0)","v":{"v":0,"d":"0.00"}},{"$f":"IF(AF26>0,IF(H27+P27+X27+AN27+AV27+BD27+BL27+BT27+CB27+CJ27=0,IF(E27>0,AF26,0),0),0)","v":0},{"$f":"G27*AF27","v":{"v":0,"d":"0.00"}},{"$f":"IF($B27=1,$AG27,0)","v":{"v":0,"d":"0.00"}},{"$f":"IF($B27=2,$AG27,0)","v":{"v":0,"d":"0.00"}},{"$f":"IF($B27=3,$AG27,0)","v":{"v":0,"d":"0.00"}},{"$f":"IF($B27=4,$AG27,0)","v":{"v":0,"d":"0.00"}},{"$f":"IF($B27=5,$AG27,0)","v":{"v":0,"d":"0.00"}},{"$f":"IF($B27=6,$AG27,0)","v":{"v":0,"d":"0.00"}},{"$f":"IF(AN26>0,IF(H27+P27+X27+AF27+AV27+BD27+BL27+BT27+CB27+CJ27=0,IF(E27>0,AN26,0),0),0)","v":0},{"$f":"G27*AN27","v":{"v":0,"d":"0.00"}},{"$f":"IF($B27=1,$AO27,0)","v":{"v":0,"d":"0.00"}},{"$f":"IF($B27=2,$AO27,0)","v":{"v":0,"d":"0.00"}},{"$f":"IF($B27=3,$AO27,0)","v":{"v":0,"d":"0.00"}},{"$f":"IF($B27=4,$AO27,0)","v":{"v":0,"d":"0.00"}},{"$f":"IF($B27=5,$AO27,0)","v":{"v":0,"d":"0.00"}},{"$f":"IF($B27=6,$AO27,0)","v":{"v":0,"d":"0.00"}},{"$f":"IF(AV26>0,IF(H27+P27+X27+AF27+AN27+BD27+BL27+BT27+CB27+CJ27=0,IF(E27>0,AV26,0),0),0)","v":0},{"$f":"G27*AV27","v":{"v":0,"d":"0.00"}},{"$f":"IF($B27=1,$AW27,0)","v":{"v":0,"d":"0.00"}},{"$f":"IF($B27=2,$AW27,0)","v":{"v":0,"d":"0.00"}},{"$f":"IF($B27=3,$AW27,0)","v":{"v":0,"d":"0.00"}},{"$f":"IF($B27=4,$AW27,0)","v":{"v":0,"d":"0.00"}},{"$f":"IF($B27=5,$AW27,0)","v":{"v":0,"d":"0.00"}},{"$f":"IF($B27=6,$AW27,0)","v":{"v":0,"d":"0.00"}},{"$f":"IF(BD26>0,IF(H27+P27+X27+AF27+AN27+AV27+BL27+BT27+CB27+CJ27=0,IF(E27>0,BD26,0),0),0)","v":0},{"$f":"G27*BD27","v":{"v":0,"d":"0.00"}},{"$f":"IF($B27=1,$BE27,0)","v":{"v":0,"d":"0.00"}},{"$f":"IF($B27=2,$BE27,0)","v":{"v":0,"d":"0.00"}},{"$f":"IF($B27=3,$BE27,0)","v":{"v":0,"d":"0.00"}},{"$f":"IF($B27=4,$BE27,0)","v":{"v":0,"d":"0.00"}},{"$f":"IF($B27=5,$BE27,0)","v":{"v":0,"d":"0.00"}},{"$f":"IF($B27=6,$BE27,0)","v":{"v":0,"d":"0.00"}},{"$f":"IF(BL26>0,IF(H27+P27+X27+AF27+AN27+AV27+BD27+BT27+CB27+CJ27=0,IF(E27>0,BL26,0),0),0)","v":0},{"$f":"G27*BL27","v":{"v":0,"d":"0.00"}},{"$f":"IF($B27=1,$BM27,0)","v":{"v":0,"d":"0.00"}},{"$f":"IF($B27=2,$BM27,0)","v":{"v":0,"d":"0.00"}},{"$f":"IF($B27=3,$BM27,0)","v":{"v":0,"d":"0.00"}},{"$f":"IF($B27=4,$BM27,0)","v":{"v":0,"d":"0.00"}},{"$f":"IF($B27=5,$BM27,0)","v":{"v":0,"d":"0.00"}},{"$f":"IF($B27=6,$BM27,0)","v":{"v":0,"d":"0.00"}},{"$f":"IF(BT26>0,IF(H27+P27+X27+AF27+AN27+AV27+BD27+BL27+CB27+CJ27=0,IF(E27>0,BT26,0),0),0)","v":0},{"$f":"G27*BT27","v":{"v":0,"d":"0.00"}},{"$f":"IF($B27=1,$BU27,0)","v":{"v":0,"d":"0.00"}},{"$f":"IF($B27=2,$BU27,0)","v":{"v":0,"d":"0.00"}},{"$f":"IF($B27=3,$BU27,0)","v":{"v":0,"d":"0.00"}},{"$f":"IF($B27=4,$BU27,0)","v":{"v":0,"d":"0.00"}},{"$f":"IF($B27=5,$BU27,0)","v":{"v":0,"d":"0.00"}},{"$f":"IF($B27=6,$BU27,0)","v":{"v":0,"d":"0.00"}},{"$f":"IF(CB26>0,IF(H27+P27+X27+AF27+AN27+AV27+BD27+BL27+BT27+CJ27=0,IF(E27>0,CB26,0),0),0)","v":0},{"$f":"G27*CB27","v":{"v":0,"d":"0.00"}},{"$f":"IF($B27=1,$CC27,0)","v":{"v":0,"d":"0.00"}},{"$f":"IF($B27=2,$CC27,0)","v":{"v":0,"d":"0.00"}},{"$f":"IF($B27=3,$CC27,0)","v":{"v":0,"d":"0.00"}},{"$f":"IF($B27=4,$CC27,0)","v":{"v":0,"d":"0.00"}},{"$f":"IF($B27=5,$CC27,0)","v":{"v":0,"d":"0.00"}},{"$f":"IF($B27=6,$CC27,0)","v":{"v":0,"d":"0.00"}},{"$f":"IF(CJ26>0,IF(H27+P27+X27+AF27+AN27+AV27+BD27+BL27+BT27+CB27=0,IF(E27>0,CJ26,0),0),0)","v":0},{"$f":"G27*CJ27","v":{"v":0,"d":"0.00"}},{"$f":"IF($B27=1,$CK27,0)","v":{"v":0,"d":"0.00"}},{"$f":"IF($B27=2,$CK27,0)","v":{"v":0,"d":"0.00"}},{"$f":"IF($B27=3,$CK27,0)","v":{"v":0,"d":"0.00"}},{"$f":"IF($B27=4,$CK27,0)","v":{"v":0,"d":"0.00"}},{"$f":"IF($B27=5,$CK27,0)","v":{"v":0,"d":"0.00"}},{"$f":"IF($B27=6,$CK27,0)","v":{"v":0,"d":"0.00"}}]
[{"$f":"IF(C27<>C28,C28,\"\")","v":""},{"$f":"IF(C27<>C28,_xlfn.DAYS(C28,C27)+B27,B27)","v":1},{"$f":"IF(D28>0,IF(D28<E27,C27+1,C27),C27)","v":"2009-03-02"},{"$f":"IF((E28+H28+P28+X28+AF28+AN28+AV28+BD28+BL28+BT28+CB28+CJ28)>0,E27,0)","v":"00:00:00"},null,{"$f":"E28-D28","v":"00:00:00"},{"$f":"IF(E28>0,HOUR(F28)+(MINUTE(F28)/60),0)","v":0},{"$f":"IF(H27>0,IF(P28+X28+AF28+AN28+AV28+BD28+BL28+BT28+CB28+CJ28=0,IF(E28>0,H27,0),0),0)","v":0},{"$f":"G28*H28","v":{"v":0,"d":"0.00"}},{"$f":"IF($B28=1,$I28,0)","v":{"v":0,"d":"0.00"}},{"$f":"IF($B28=2,$I28,0)","v":{"v":0,"d":"0.00"}},{"$f":"IF($B28=3,$I28,0)","v":{"v":0,"d":"0.00"}},{"$f":"IF($B28=4,$I28,0)","v":{"v":0,"d":"0.00"}},{"$f":"IF($B28=5,$I28,0)","v":{"v":0,"d":"0.00"}},{"$f":"IF($B28=6,$I28,0)","v":{"v":0,"d":"0.00"}},{"$f":"IF(P27>0,IF(H28+X28+AF28+AN28+AV28+BD28+BL28+BT28+CB28+CJ28=0,IF(E28>0,P27,0),0),0)","v":0},{"$f":"G28*P28","v":{"v":0,"d":"0.00"}},{"$f":"IF(B28=1,Q28,0)","v":{"v":0,"d":"0.00"}},{"$f":"IF(B28=2,Q28,0)","v":{"v":0,"d":"0.00"}},{"$f":"IF(B28=3,Q28,0)","v":{"v":0,"d":"0.00"}},{"$f":"IF(B28=4,Q28,0)","v":{"v":0,"d":"0.00"}},{"$f":"IF(B28=5,Q28,0)","v":{"v":0,"d":"0.00"}},{"$f":"IF(B28=6,Q28,0)","v":{"v":0,"d":"0.00"}},{"$f":"IF(X27>0,IF(H28+P28+AF28+AN28+AV28+BD28+BL28+BT28+CB28+CJ28=0,IF(E28>0,X27,0),0),0)","v":0},{"$f":"G28*X28","v":{"v":0,"d":"0.00"}},{"$f":"IF($B28=1,$Y28,0)","v":{"v":0,"d":"0.00"}},{"$f":"IF($B28=2,$Y28,0)","v":{"v":0,"d":"0.00"}},{"$f":"IF($B28=3,$Y28,0)","v":{"v":0,"d":"0.00"}},{"$f":"IF($B28=4,$Y28,0)","v":{"v":0,"d":"0.00"}},{"$f":"IF($B28=5,$Y28,0)","v":{"v":0,"d":"0.00"}},{"$f":"IF($B28=6,$Y28,0)","v":{"v":0,"d":"0.00"}},{"$f":"IF(AF27>0,IF(H28+P28+X28+AN28+AV28+BD28+BL28+BT28+CB28+CJ28=0,IF(E28>0,AF27,0),0),0)","v":0},{"$f":"G28*AF28","v":{"v":0,"d":"0.00"}},{"$f":"IF($B28=1,$AG28,0)","v":{"v":0,"d":"0.00"}},{"$f":"IF($B28=2,$AG28,0)","v":{"v":0,"d":"0.00"}},{"$f":"IF($B28=3,$AG28,0)","v":{"v":0,"d":"0.00"}},{"$f":"IF($B28=4,$AG28,0)","v":{"v":0,"d":"0.00"}},{"$f":"IF($B28=5,$AG28,0)","v":{"v":0,"d":"0.00"}},{"$f":"IF($B28=6,$AG28,0)","v":{"v":0,"d":"0.00"}},{"$f":"IF(AN27>0,IF(H28+P28+X28+AF28+AV28+BD28+BL28+BT28+CB28+CJ28=0,IF(E28>0,AN27,0),0),0)","v":0},{"$f":"G28*AN28","v":{"v":0,"d":"0.00"}},{"$f":"IF($B28=1,$AO28,0)","v":{"v":0,"d":"0.00"}},{"$f":"IF($B28=2,$AO28,0)","v":{"v":0,"d":"0.00"}},{"$f":"IF($B28=3,$AO28,0)","v":{"v":0,"d":"0.00"}},{"$f":"IF($B28=4,$AO28,0)","v":{"v":0,"d":"0.00"}},{"$f":"IF($B28=5,$AO28,0)","v":{"v":0,"d":"0.00"}},{"$f":"IF($B28=6,$AO28,0)","v":{"v":0,"d":"0.00"}},{"$f":"IF(AV27>0,IF(H28+P28+X28+AF28+AN28+BD28+BL28+BT28+CB28+CJ28=0,IF(E28>0,AV27,0),0),0)","v":0},{"$f":"G28*AV28","v":{"v":0,"d":"0.00"}},{"$f":"IF($B28=1,$AW28,0)","v":{"v":0,"d":"0.00"}},{"$f":"IF($B28=2,$AW28,0)","v":{"v":0,"d":"0.00"}},{"$f":"IF($B28=3,$AW28,0)","v":{"v":0,"d":"0.00"}},{"$f":"IF($B28=4,$AW28,0)","v":{"v":0,"d":"0.00"}},{"$f":"IF($B28=5,$AW28,0)","v":{"v":0,"d":"0.00"}},{"$f":"IF($B28=6,$AW28,0)","v":{"v":0,"d":"0.00"}},{"$f":"IF(BD27>0,IF(H28+P28+X28+AF28+AN28+AV28+BL28+BT28+CB28+CJ28=0,IF(E28>0,BD27,0),0),0)","v":0},{"$f":"G28*BD28","v":{"v":0,"d":"0.00"}},{"$f":"IF($B28=1,$BE28,0)","v":{"v":0,"d":"0.00"}},{"$f":"IF($B28=2,$BE28,0)","v":{"v":0,"d":"0.00"}},{"$f":"IF($B28=3,$BE28,0)","v":{"v":0,"d":"0.00"}},{"$f":"IF($B28=4,$BE28,0)","v":{"v":0,"d":"0.00"}},{"$f":"IF($B28=5,$BE28,0)","v":{"v":0,"d":"0.00"}},{"$f":"IF($B28=6,$BE28,0)","v":{"v":0,"d":"0.00"}},{"$f":"IF(BL27>0,IF(H28+P28+X28+AF28+AN28+AV28+BD28+BT28+CB28+CJ28=0,IF(E28>0,BL27,0),0),0)","v":0},{"$f":"G28*BL28","v":{"v":0,"d":"0.00"}},{"$f":"IF($B28=1,$BM28,0)","v":{"v":0,"d":"0.00"}},{"$f":"IF($B28=2,$BM28,0)","v":{"v":0,"d":"0.00"}},{"$f":"IF($B28=3,$BM28,0)","v":{"v":0,"d":"0.00"}},{"$f":"IF($B28=4,$BM28,0)","v":{"v":0,"d":"0.00"}},{"$f":"IF($B28=5,$BM28,0)","v":{"v":0,"d":"0.00"}},{"$f":"IF($B28=6,$BM28,0)","v":{"v":0,"d":"0.00"}},{"$f":"IF(BT27>0,IF(H28+P28+X28+AF28+AN28+AV28+BD28+BL28+CB28+CJ28=0,IF(E28>0,BT27,0),0),0)","v":0},{"$f":"G28*BT28","v":{"v":0,"d":"0.00"}},{"$f":"IF($B28=1,$BU28,0)","v":{"v":0,"d":"0.00"}},{"$f":"IF($B28=2,$BU28,0)","v":{"v":0,"d":"0.00"}},{"$f":"IF($B28=3,$BU28,0)","v":{"v":0,"d":"0.00"}},{"$f":"IF($B28=4,$BU28,0)","v":{"v":0,"d":"0.00"}},{"$f":"IF($B28=5,$BU28,0)","v":{"v":0,"d":"0.00"}},{"$f":"IF($B28=6,$BU28,0)","v":{"v":0,"d":"0.00"}},{"$f":"IF(CB27>0,IF(H28+P28+X28+AF28+AN28+AV28+BD28+BL28+BT28+CJ28=0,IF(E28>0,CB27,0),0),0)","v":0},{"$f":"G28*CB28","v":{"v":0,"d":"0.00"}},{"$f":"IF($B28=1,$CC28,0)","v":{"v":0,"d":"0.00"}},{"$f":"IF($B28=2,$CC28,0)","v":{"v":0,"d":"0.00"}},{"$f":"IF($B28=3,$CC28,0)","v":{"v":0,"d":"0.00"}},{"$f":"IF($B28=4,$CC28,0)","v":{"v":0,"d":"0.00"}},{"$f":"IF($B28=5,$CC28,0)","v":{"v":0,"d":"0.00"}},{"$f":"IF($B28=6,$CC28,0)","v":{"v":0,"d":"0.00"}},{"$f":"IF(CJ27>0,IF(H28+P28+X28+AF28+AN28+AV28+BD28+BL28+BT28+CB28=0,IF(E28>0,CJ27,0),0),0)","v":0},{"$f":"G28*CJ28","v":{"v":0,"d":"0.00"}},{"$f":"IF($B28=1,$CK28,0)","v":{"v":0,"d":"0.00"}},{"$f":"IF($B28=2,$CK28,0)","v":{"v":0,"d":"0.00"}},{"$f":"IF($B28=3,$CK28,0)","v":{"v":0,"d":"0.00"}},{"$f":"IF($B28=4,$CK28,0)","v":{"v":0,"d":"0.00"}},{"$f":"IF($B28=5,$CK28,0)","v":{"v":0,"d":"0.00"}},{"$f":"IF($B28=6,$CK28,0)","v":{"v":0,"d":"0.00"}}]
[{"$f":"IF(C28<>C29,C29,\"\")","v":""},{"$f":"IF(C28<>C29,_xlfn.DAYS(C29,C28)+B28,B28)","v":1},{"$f":"IF(D29>0,IF(D29<E28,C28+1,C28),C28)","v":"2009-03-02"},{"$f":"IF((E29+H29+P29+X29+AF29+AN29+AV29+BD29+BL29+BT29+CB29+CJ29)>0,E28,0)","v":"00:00:00"},null,{"$f":"E29-D29","v":"00:00:00"},{"$f":"IF(E29>0,HOUR(F29)+(MINUTE(F29)/60),0)","v":0},{"$f":"IF(H28>0,IF(P29+X29+AF29+AN29+AV29+BD29+BL29+BT29+CB29+CJ29=0,IF(E29>0,H28,0),0),0)","v":0},{"$f":"G29*H29","v":{"v":0,"d":"0.00"}},{"$f":"IF($B29=1,$I29,0)","v":{"v":0,"d":"0.00"}},{"$f":"IF($B29=2,$I29,0)","v":{"v":0,"d":"0.00"}},{"$f":"IF($B29=3,$I29,0)","v":{"v":0,"d":"0.00"}},{"$f":"IF($B29=4,$I29,0)","v":{"v":0,"d":"0.00"}},{"$f":"IF($B29=5,$I29,0)","v":{"v":0,"d":"0.00"}},{"$f":"IF($B29=6,$I29,0)","v":{"v":0,"d":"0.00"}},{"$f":"IF(P28>0,IF(H29+X29+AF29+AN29+AV29+BD29+BL29+BT29+CB29+CJ29=0,IF(E29>0,P28,0),0),0)","v":0},{"$f":"G29*P29","v":{"v":0,"d":"0.00"}},{"$f":"IF(B29=1,Q29,0)","v":{"v":0,"d":"0.00"}},{"$f":"IF(B29=2,Q29,0)","v":{"v":0,"d":"0.00"}},{"$f":"IF(B29=3,Q29,0)","v":{"v":0,"d":"0.00"}},{"$f":"IF(B29=4,Q29,0)","v":{"v":0,"d":"0.00"}},{"$f":"IF(B29=5,Q29,0)","v":{"v":0,"d":"0.00"}},{"$f":"IF(B29=6,Q29,0)","v":{"v":0,"d":"0.00"}},{"$f":"IF(X28>0,IF(H29+P29+AF29+AN29+AV29+BD29+BL29+BT29+CB29+CJ29=0,IF(E29>0,X28,0),0),0)","v":0},{"$f":"G29*X29","v":{"v":0,"d":"0.00"}},{"$f":"IF($B29=1,$Y29,0)","v":{"v":0,"d":"0.00"}},{"$f":"IF($B29=2,$Y29,0)","v":{"v":0,"d":"0.00"}},{"$f":"IF($B29=3,$Y29,0)","v":{"v":0,"d":"0.00"}},{"$f":"IF($B29=4,$Y29,0)","v":{"v":0,"d":"0.00"}},{"$f":"IF($B29=5,$Y29,0)","v":{"v":0,"d":"0.00"}},{"$f":"IF($B29=6,$Y29,0)","v":{"v":0,"d":"0.00"}},{"$f":"IF(AF28>0,IF(H29+P29+X29+AN29+AV29+BD29+BL29+BT29+CB29+CJ29=0,IF(E29>0,AF28,0),0),0)","v":0},{"$f":"G29*AF29","v":{"v":0,"d":"0.00"}},{"$f":"IF($B29=1,$AG29,0)","v":{"v":0,"d":"0.00"}},{"$f":"IF($B29=2,$AG29,0)","v":{"v":0,"d":"0.00"}},{"$f":"IF($B29=3,$AG29,0)","v":{"v":0,"d":"0.00"}},{"$f":"IF($B29=4,$AG29,0)","v":{"v":0,"d":"0.00"}},{"$f":"IF($B29=5,$AG29,0)","v":{"v":0,"d":"0.00"}},{"$f":"IF($B29=6,$AG29,0)","v":{"v":0,"d":"0.00"}},{"$f":"IF(AN28>0,IF(H29+P29+X29+AF29+AV29+BD29+BL29+BT29+CB29+CJ29=0,IF(E29>0,AN28,0),0),0)","v":0},{"$f":"G29*AN29","v":{"v":0,"d":"0.00"}},{"$f":"IF($B29=1,$AO29,0)","v":{"v":0,"d":"0.00"}},{"$f":"IF($B29=2,$AO29,0)","v":{"v":0,"d":"0.00"}},{"$f":"IF($B29=3,$AO29,0)","v":{"v":0,"d":"0.00"}},{"$f":"IF($B29=4,$AO29,0)","v":{"v":0,"d":"0.00"}},{"$f":"IF($B29=5,$AO29,0)","v":{"v":0,"d":"0.00"}},{"$f":"IF($B29=6,$AO29,0)","v":{"v":0,"d":"0.00"}},{"$f":"IF(AV28>0,IF(H29+P29+X29+AF29+AN29+BD29+BL29+BT29+CB29+CJ29=0,IF(E29>0,AV28,0),0),0)","v":0},{"$f":"G29*AV29","v":{"v":0,"d":"0.00"}},{"$f":"IF($B29=1,$AW29,0)","v":{"v":0,"d":"0.00"}},{"$f":"IF($B29=2,$AW29,0)","v":{"v":0,"d":"0.00"}},{"$f":"IF($B29=3,$AW29,0)","v":{"v":0,"d":"0.00"}},{"$f":"IF($B29=4,$AW29,0)","v":{"v":0,"d":"0.00"}},{"$f":"IF($B29=5,$AW29,0)","v":{"v":0,"d":"0.00"}},{"$f":"IF($B29=6,$AW29,0)","v":{"v":0,"d":"0.00"}},{"$f":"IF(BD28>0,IF(H29+P29+X29+AF29+AN29+AV29+BL29+BT29+CB29+CJ29=0,IF(E29>0,BD28,0),0),0)","v":0},{"$f":"G29*BD29","v":{"v":0,"d":"0.00"}},{"$f":"IF($B29=1,$BE29,0)","v":{"v":0,"d":"0.00"}},{"$f":"IF($B29=2,$BE29,0)","v":{"v":0,"d":"0.00"}},{"$f":"IF($B29=3,$BE29,0)","v":{"v":0,"d":"0.00"}},{"$f":"IF($B29=4,$BE29,0)","v":{"v":0,"d":"0.00"}},{"$f":"IF($B29=5,$BE29,0)","v":{"v":0,"d":"0.00"}},{"$f":"IF($B29=6,$BE29,0)","v":{"v":0,"d":"0.00"}},{"$f":"IF(BL28>0,IF(H29+P29+X29+AF29+AN29+AV29+BD29+BT29+CB29+CJ29=0,IF(E29>0,BL28,0),0),0)","v":0},{"$f":"G29*BL29","v":{"v":0,"d":"0.00"}},{"$f":"IF($B29=1,$BM29,0)","v":{"v":0,"d":"0.00"}},{"$f":"IF($B29=2,$BM29,0)","v":{"v":0,"d":"0.00"}},{"$f":"IF($B29=3,$BM29,0)","v":{"v":0,"d":"0.00"}},{"$f":"IF($B29=4,$BM29,0)","v":{"v":0,"d":"0.00"}},{"$f":"IF($B29=5,$BM29,0)","v":{"v":0,"d":"0.00"}},{"$f":"IF($B29=6,$BM29,0)","v":{"v":0,"d":"0.00"}},{"$f":"IF(BT28>0,IF(H29+P29+X29+AF29+AN29+AV29+BD29+BL29+CB29+CJ29=0,IF(E29>0,BT28,0),0),0)","v":0},{"$f":"G29*BT29","v":{"v":0,"d":"0.00"}},{"$f":"IF($B29=1,$BU29,0)","v":{"v":0,"d":"0.00"}},{"$f":"IF($B29=2,$BU29,0)","v":{"v":0,"d":"0.00"}},{"$f":"IF($B29=3,$BU29,0)","v":{"v":0,"d":"0.00"}},{"$f":"IF($B29=4,$BU29,0)","v":{"v":0,"d":"0.00"}},{"$f":"IF($B29=5,$BU29,0)","v":{"v":0,"d":"0.00"}},{"$f":"IF($B29=6,$BU29,0)","v":{"v":0,"d":"0.00"}},{"$f":"IF(CB28>0,IF(H29+P29+X29+AF29+AN29+AV29+BD29+BL29+BT29+CJ29=0,IF(E29>0,CB28,0),0),0)","v":0},{"$f":"G29*CB29","v":{"v":0,"d":"0.00"}},{"$f":"IF($B29=1,$CC29,0)","v":{"v":0,"d":"0.00"}},{"$f":"IF($B29=2,$CC29,0)","v":{"v":0,"d":"0.00"}},{"$f":"IF($B29=3,$CC29,0)","v":{"v":0,"d":"0.00"}},{"$f":"IF($B29=4,$CC29,0)","v":{"v":0,"d":"0.00"}},{"$f":"IF($B29=5,$CC29,0)","v":{"v":0,"d":"0.00"}},{"$f":"IF($B29=6,$CC29,0)","v":{"v":0,"d":"0.00"}},{"$f":"IF(CJ28>0,IF(H29+P29+X29+AF29+AN29+AV29+BD29+BL29+BT29+CB29=0,IF(E29>0,CJ28,0),0),0)","v":0},{"$f":"G29*CJ29","v":{"v":0,"d":"0.00"}},{"$f":"IF($B29=1,$CK29,0)","v":{"v":0,"d":"0.00"}},{"$f":"IF($B29=2,$CK29,0)","v":{"v":0,"d":"0.00"}},{"$f":"IF($B29=3,$CK29,0)","v":{"v":0,"d":"0.00"}},{"$f":"IF($B29=4,$CK29,0)","v":{"v":0,"d":"0.00"}},{"$f":"IF($B29=5,$CK29,0)","v":{"v":0,"d":"0.00"}},{"$f":"IF($B29=6,$CK29,0)","v":{"v":0,"d":"0.00"}}]
[{"$f":"IF(C29<>C30,C30,\"\")","v":""},{"$f":"IF(C29<>C30,_xlfn.DAYS(C30,C29)+B29,B29)","v":1},{"$f":"IF(D30>0,IF(D30<E29,C29+1,C29),C29)","v":"2009-03-02"},{"$f":"IF((E30+H30+P30+X30+AF30+AN30+AV30+BD30+BL30+BT30+CB30+CJ30)>0,E29,0)","v":"00:00:00"},null,{"$f":"E30-D30","v":"00:00:00"},{"$f":"IF(E30>0,HOUR(F30)+(MINUTE(F30)/60),0)","v":0},{"$f":"IF(H29>0,IF(P30+X30+AF30+AN30+AV30+BD30+BL30+BT30+CB30+CJ30=0,IF(E30>0,H29,0),0),0)","v":0},{"$f":"G30*H30","v":{"v":0,"d":"0.00"}},{"$f":"IF($B30=1,$I30,0)","v":{"v":0,"d":"0.00"}},{"$f":"IF($B30=2,$I30,0)","v":{"v":0,"d":"0.00"}},{"$f":"IF($B30=3,$I30,0)","v":{"v":0,"d":"0.00"}},{"$f":"IF($B30=4,$I30,0)","v":{"v":0,"d":"0.00"}},{"$f":"IF($B30=5,$I30,0)","v":{"v":0,"d":"0.00"}},{"$f":"IF($B30=6,$I30,0)","v":{"v":0,"d":"0.00"}},{"$f":"IF(P29>0,IF(H30+X30+AF30+AN30+AV30+BD30+BL30+BT30+CB30+CJ30=0,IF(E30>0,P29,0),0),0)","v":0},{"$f":"G30*P30","v":{"v":0,"d":"0.00"}},{"$f":"IF(B30=1,Q30,0)","v":{"v":0,"d":"0.00"}},{"$f":"IF(B30=2,Q30,0)","v":{"v":0,"d":"0.00"}},{"$f":"IF(B30=3,Q30,0)","v":{"v":0,"d":"0.00"}},{"$f":"IF(B30=4,Q30,0)","v":{"v":0,"d":"0.00"}},{"$f":"IF(B30=5,Q30,0)","v":{"v":0,"d":"0.00"}},{"$f":"IF(B30=6,Q30,0)","v":{"v":0,"d":"0.00"}},{"$f":"IF(X29>0,IF(H30+P30+AF30+AN30+AV30+BD30+BL30+BT30+CB30+CJ30=0,IF(E30>0,X29,0),0),0)","v":0},{"$f":"G30*X30","v":{"v":0,"d":"0.00"}},{"$f":"IF($B30=1,$Y30,0)","v":{"v":0,"d":"0.00"}},{"$f":"IF($B30=2,$Y30,0)","v":{"v":0,"d":"0.00"}},{"$f":"IF($B30=3,$Y30,0)","v":{"v":0,"d":"0.00"}},{"$f":"IF($B30=4,$Y30,0)","v":{"v":0,"d":"0.00"}},{"$f":"IF($B30=5,$Y30,0)","v":{"v":0,"d":"0.00"}},{"$f":"IF($B30=6,$Y30,0)","v":{"v":0,"d":"0.00"}},{"$f":"IF(AF29>0,IF(H30+P30+X30+AN30+AV30+BD30+BL30+BT30+CB30+CJ30=0,IF(E30>0,AF29,0),0),0)","v":0},{"$f":"G30*AF30","v":{"v":0,"d":"0.00"}},{"$f":"IF($B30=1,$AG30,0)","v":{"v":0,"d":"0.00"}},{"$f":"IF($B30=2,$AG30,0)","v":{"v":0,"d":"0.00"}},{"$f":"IF($B30=3,$AG30,0)","v":{"v":0,"d":"0.00"}},{"$f":"IF($B30=4,$AG30,0)","v":{"v":0,"d":"0.00"}},{"$f":"IF($B30=5,$AG30,0)","v":{"v":0,"d":"0.00"}},{"$f":"IF($B30=6,$AG30,0)","v":{"v":0,"d":"0.00"}},{"$f":"IF(AN29>0,IF(H30+P30+X30+AF30+AV30+BD30+BL30+BT30+CB30+CJ30=0,IF(E30>0,AN29,0),0),0)","v":0},{"$f":"G30*AN30","v":{"v":0,"d":"0.00"}},{"$f":"IF($B30=1,$AO30,0)","v":{"v":0,"d":"0.00"}},{"$f":"IF($B30=2,$AO30,0)","v":{"v":0,"d":"0.00"}},{"$f":"IF($B30=3,$AO30,0)","v":{"v":0,"d":"0.00"}},{"$f":"IF($B30=4,$AO30,0)","v":{"v":0,"d":"0.00"}},{"$f":"IF($B30=5,$AO30,0)","v":{"v":0,"d":"0.00"}},{"$f":"IF($B30=6,$AO30,0)","v":{"v":0,"d":"0.00"}},{"$f":"IF(AV29>0,IF(H30+P30+X30+AF30+AN30+BD30+BL30+BT30+CB30+CJ30=0,IF(E30>0,AV29,0),0),0)","v":0},{"$f":"G30*AV30","v":{"v":0,"d":"0.00"}},{"$f":"IF($B30=1,$AW30,0)","v":{"v":0,"d":"0.00"}},{"$f":"IF($B30=2,$AW30,0)","v":{"v":0,"d":"0.00"}},{"$f":"IF($B30=3,$AW30,0)","v":{"v":0,"d":"0.00"}},{"$f":"IF($B30=4,$AW30,0)","v":{"v":0,"d":"0.00"}},{"$f":"IF($B30=5,$AW30,0)","v":{"v":0,"d":"0.00"}},{"$f":"IF($B30=6,$AW30,0)","v":{"v":0,"d":"0.00"}},{"$f":"IF(BD29>0,IF(H30+P30+X30+AF30+AN30+AV30+BL30+BT30+CB30+CJ30=0,IF(E30>0,BD29,0),0),0)","v":0},{"$f":"G30*BD30","v":{"v":0,"d":"0.00"}},{"$f":"IF($B30=1,$BE30,0)","v":{"v":0,"d":"0.00"}},{"$f":"IF($B30=2,$BE30,0)","v":{"v":0,"d":"0.00"}},{"$f":"IF($B30=3,$BE30,0)","v":{"v":0,"d":"0.00"}},{"$f":"IF($B30=4,$BE30,0)","v":{"v":0,"d":"0.00"}},{"$f":"IF($B30=5,$BE30,0)","v":{"v":0,"d":"0.00"}},{"$f":"IF($B30=6,$BE30,0)","v":{"v":0,"d":"0.00"}},{"$f":"IF(BL29>0,IF(H30+P30+X30+AF30+AN30+AV30+BD30+BT30+CB30+CJ30=0,IF(E30>0,BL29,0),0),0)","v":0},{"$f":"G30*BL30","v":{"v":0,"d":"0.00"}},{"$f":"IF($B30=1,$BM30,0)","v":{"v":0,"d":"0.00"}},{"$f":"IF($B30=2,$BM30,0)","v":{"v":0,"d":"0.00"}},{"$f":"IF($B30=3,$BM30,0)","v":{"v":0,"d":"0.00"}},{"$f":"IF($B30=4,$BM30,0)","v":{"v":0,"d":"0.00"}},{"$f":"IF($B30=5,$BM30,0)","v":{"v":0,"d":"0.00"}},{"$f":"IF($B30=6,$BM30,0)","v":{"v":0,"d":"0.00"}},{"$f":"IF(BT29>0,IF(H30+P30+X30+AF30+AN30+AV30+BD30+BL30+CB30+CJ30=0,IF(E30>0,BT29,0),0),0)","v":0},{"$f":"G30*BT30","v":{"v":0,"d":"0.00"}},{"$f":"IF($B30=1,$BU30,0)","v":{"v":0,"d":"0.00"}},{"$f":"IF($B30=2,$BU30,0)","v":{"v":0,"d":"0.00"}},{"$f":"IF($B30=3,$BU30,0)","v":{"v":0,"d":"0.00"}},{"$f":"IF($B30=4,$BU30,0)","v":{"v":0,"d":"0.00"}},{"$f":"IF($B30=5,$BU30,0)","v":{"v":0,"d":"0.00"}},{"$f":"IF($B30=6,$BU30,0)","v":{"v":0,"d":"0.00"}},{"$f":"IF(CB29>0,IF(H30+P30+X30+AF30+AN30+AV30+BD30+BL30+BT30+CJ30=0,IF(E30>0,CB29,0),0),0)","v":0},{"$f":"G30*CB30","v":{"v":0,"d":"0.00"}},{"$f":"IF($B30=1,$CC30,0)","v":{"v":0,"d":"0.00"}},{"$f":"IF($B30=2,$CC30,0)","v":{"v":0,"d":"0.00"}},{"$f":"IF($B30=3,$CC30,0)","v":{"v":0,"d":"0.00"}},{"$f":"IF($B30=4,$CC30,0)","v":{"v":0,"d":"0.00"}},{"$f":"IF($B30=5,$CC30,0)","v":{"v":0,"d":"0.00"}},{"$f":"IF($B30=6,$CC30,0)","v":{"v":0,"d":"0.00"}},{"$f":"IF(CJ29>0,IF(H30+P30+X30+AF30+AN30+AV30+BD30+BL30+BT30+CB30=0,IF(E30>0,CJ29,0),0),0)","v":0},{"$f":"G30*CJ30","v":{"v":0,"d":"0.00"}},{"$f":"IF($B30=1,$CK30,0)","v":{"v":0,"d":"0.00"}},{"$f":"IF($B30=2,$CK30,0)","v":{"v":0,"d":"0.00"}},{"$f":"IF($B30=3,$CK30,0)","v":{"v":0,"d":"0.00"}},{"$f":"IF($B30=4,$CK30,0)","v":{"v":0,"d":"0.00"}},{"$f":"IF($B30=5,$CK30,0)","v":{"v":0,"d":"0.00"}},{"$f":"IF($B30=6,$CK30,0)","v":{"v":0,"d":"0.00"}}]
[{"$f":"IF(C30<>C31,C31,\"\")","v":""},{"$f":"IF(C30<>C31,_xlfn.DAYS(C31,C30)+B30,B30)","v":1},{"$f":"IF(D31>0,IF(D31<E30,C30+1,C30),C30)","v":"2009-03-02"},{"$f":"IF((E31+H31+P31+X31+AF31+AN31+AV31+BD31+BL31+BT31+CB31+CJ31)>0,E30,0)","v":"00:00:00"},null,{"$f":"E31-D31","v":"00:00:00"},{"$f":"IF(E31>0,HOUR(F31)+(MINUTE(F31)/60),0)","v":0},{"$f":"IF(H30>0,IF(P31+X31+AF31+AN31+AV31+BD31+BL31+BT31+CB31+CJ31=0,IF(E31>0,H30,0),0),0)","v":0},{"$f":"G31*H31","v":{"v":0,"d":"0.00"}},{"$f":"IF($B31=1,$I31,0)","v":{"v":0,"d":"0.00"}},{"$f":"IF($B31=2,$I31,0)","v":{"v":0,"d":"0.00"}},{"$f":"IF($B31=3,$I31,0)","v":{"v":0,"d":"0.00"}},{"$f":"IF($B31=4,$I31,0)","v":{"v":0,"d":"0.00"}},{"$f":"IF($B31=5,$I31,0)","v":{"v":0,"d":"0.00"}},{"$f":"IF($B31=6,$I31,0)","v":{"v":0,"d":"0.00"}},{"$f":"IF(P30>0,IF(H31+X31+AF31+AN31+AV31+BD31+BL31+BT31+CB31+CJ31=0,IF(E31>0,P30,0),0),0)","v":0},{"$f":"G31*P31","v":{"v":0,"d":"0.00"}},{"$f":"IF(B31=1,Q31,0)","v":{"v":0,"d":"0.00"}},{"$f":"IF(B31=2,Q31,0)","v":{"v":0,"d":"0.00"}},{"$f":"IF(B31=3,Q31,0)","v":{"v":0,"d":"0.00"}},{"$f":"IF(B31=4,Q31,0)","v":{"v":0,"d":"0.00"}},{"$f":"IF(B31=5,Q31,0)","v":{"v":0,"d":"0.00"}},{"$f":"IF(B31=6,Q31,0)","v":{"v":0,"d":"0.00"}},{"$f":"IF(X30>0,IF(H31+P31+AF31+AN31+AV31+BD31+BL31+BT31+CB31+CJ31=0,IF(E31>0,X30,0),0),0)","v":0},{"$f":"G31*X31","v":{"v":0,"d":"0.00"}},{"$f":"IF($B31=1,$Y31,0)","v":{"v":0,"d":"0.00"}},{"$f":"IF($B31=2,$Y31,0)","v":{"v":0,"d":"0.00"}},{"$f":"IF($B31=3,$Y31,0)","v":{"v":0,"d":"0.00"}},{"$f":"IF($B31=4,$Y31,0)","v":{"v":0,"d":"0.00"}},{"$f":"IF($B31=5,$Y31,0)","v":{"v":0,"d":"0.00"}},{"$f":"IF($B31=6,$Y31,0)","v":{"v":0,"d":"0.00"}},{"$f":"IF(AF30>0,IF(H31+P31+X31+AN31+AV31+BD31+BL31+BT31+CB31+CJ31=0,IF(E31>0,AF30,0),0),0)","v":0},{"$f":"G31*AF31","v":{"v":0,"d":"0.00"}},{"$f":"IF($B31=1,$AG31,0)","v":{"v":0,"d":"0.00"}},{"$f":"IF($B31=2,$AG31,0)","v":{"v":0,"d":"0.00"}},{"$f":"IF($B31=3,$AG31,0)","v":{"v":0,"d":"0.00"}},{"$f":"IF($B31=4,$AG31,0)","v":{"v":0,"d":"0.00"}},{"$f":"IF($B31=5,$AG31,0)","v":{"v":0,"d":"0.00"}},{"$f":"IF($B31=6,$AG31,0)","v":{"v":0,"d":"0.00"}},{"$f":"IF(AN30>0,IF(H31+P31+X31+AF31+AV31+BD31+BL31+BT31+CB31+CJ31=0,IF(E31>0,AN30,0),0),0)","v":0},{"$f":"G31*AN31","v":{"v":0,"d":"0.00"}},{"$f":"IF($B31=1,$AO31,0)","v":{"v":0,"d":"0.00"}},{"$f":"IF($B31=2,$AO31,0)","v":{"v":0,"d":"0.00"}},{"$f":"IF($B31=3,$AO31,0)","v":{"v":0,"d":"0.00"}},{"$f":"IF($B31=4,$AO31,0)","v":{"v":0,"d":"0.00"}},{"$f":"IF($B31=5,$AO31,0)","v":{"v":0,"d":"0.00"}},{"$f":"IF($B31=6,$AO31,0)","v":{"v":0,"d":"0.00"}},{"$f":"IF(AV30>0,IF(H31+P31+X31+AF31+AN31+BD31+BL31+BT31+CB31+CJ31=0,IF(E31>0,AV30,0),0),0)","v":0},{"$f":"G31*AV31","v":{"v":0,"d":"0.00"}},{"$f":"IF($B31=1,$AW31,0)","v":{"v":0,"d":"0.00"}},{"$f":"IF($B31=2,$AW31,0)","v":{"v":0,"d":"0.00"}},{"$f":"IF($B31=3,$AW31,0)","v":{"v":0,"d":"0.00"}},{"$f":"IF($B31=4,$AW31,0)","v":{"v":0,"d":"0.00"}},{"$f":"IF($B31=5,$AW31,0)","v":{"v":0,"d":"0.00"}},{"$f":"IF($B31=6,$AW31,0)","v":{"v":0,"d":"0.00"}},{"$f":"IF(BD30>0,IF(H31+P31+X31+AF31+AN31+AV31+BL31+BT31+CB31+CJ31=0,IF(E31>0,BD30,0),0),0)","v":0},{"$f":"G31*BD31","v":{"v":0,"d":"0.00"}},{"$f":"IF($B31=1,$BE31,0)","v":{"v":0,"d":"0.00"}},{"$f":"IF($B31=2,$BE31,0)","v":{"v":0,"d":"0.00"}},{"$f":"IF($B31=3,$BE31,0)","v":{"v":0,"d":"0.00"}},{"$f":"IF($B31=4,$BE31,0)","v":{"v":0,"d":"0.00"}},{"$f":"IF($B31=5,$BE31,0)","v":{"v":0,"d":"0.00"}},{"$f":"IF($B31=6,$BE31,0)","v":{"v":0,"d":"0.00"}},{"$f":"IF(BL30>0,IF(H31+P31+X31+AF31+AN31+AV31+BD31+BT31+CB31+CJ31=0,IF(E31>0,BL30,0),0),0)","v":0},{"$f":"G31*BL31","v":{"v":0,"d":"0.00"}},{"$f":"IF($B31=1,$BM31,0)","v":{"v":0,"d":"0.00"}},{"$f":"IF($B31=2,$BM31,0)","v":{"v":0,"d":"0.00"}},{"$f":"IF($B31=3,$BM31,0)","v":{"v":0,"d":"0.00"}},{"$f":"IF($B31=4,$BM31,0)","v":{"v":0,"d":"0.00"}},{"$f":"IF($B31=5,$BM31,0)","v":{"v":0,"d":"0.00"}},{"$f":"IF($B31=6,$BM31,0)","v":{"v":0,"d":"0.00"}},{"$f":"IF(BT30>0,IF(H31+P31+X31+AF31+AN31+AV31+BD31+BL31+CB31+CJ31=0,IF(E31>0,BT30,0),0),0)","v":0},{"$f":"G31*BT31","v":{"v":0,"d":"0.00"}},{"$f":"IF($B31=1,$BU31,0)","v":{"v":0,"d":"0.00"}},{"$f":"IF($B31=2,$BU31,0)","v":{"v":0,"d":"0.00"}},{"$f":"IF($B31=3,$BU31,0)","v":{"v":0,"d":"0.00"}},{"$f":"IF($B31=4,$BU31,0)","v":{"v":0,"d":"0.00"}},{"$f":"IF($B31=5,$BU31,0)","v":{"v":0,"d":"0.00"}},{"$f":"IF($B31=6,$BU31,0)","v":{"v":0,"d":"0.00"}},{"$f":"IF(CB30>0,IF(H31+P31+X31+AF31+AN31+AV31+BD31+BL31+BT31+CJ31=0,IF(E31>0,CB30,0),0),0)","v":0},{"$f":"G31*CB31","v":{"v":0,"d":"0.00"}},{"$f":"IF($B31=1,$CC31,0)","v":{"v":0,"d":"0.00"}},{"$f":"IF($B31=2,$CC31,0)","v":{"v":0,"d":"0.00"}},{"$f":"IF($B31=3,$CC31,0)","v":{"v":0,"d":"0.00"}},{"$f":"IF($B31=4,$CC31,0)","v":{"v":0,"d":"0.00"}},{"$f":"IF($B31=5,$CC31,0)","v":{"v":0,"d":"0.00"}},{"$f":"IF($B31=6,$CC31,0)","v":{"v":0,"d":"0.00"}},{"$f":"IF(CJ30>0,IF(H31+P31+X31+AF31+AN31+AV31+BD31+BL31+BT31+CB31=0,IF(E31>0,CJ30,0),0),0)","v":0},{"$f":"G31*CJ31","v":{"v":0,"d":"0.00"}},{"$f":"IF($B31=1,$CK31,0)","v":{"v":0,"d":"0.00"}},{"$f":"IF($B31=2,$CK31,0)","v":{"v":0,"d":"0.00"}},{"$f":"IF($B31=3,$CK31,0)","v":{"v":0,"d":"0.00"}},{"$f":"IF($B31=4,$CK31,0)","v":{"v":0,"d":"0.00"}},{"$f":"IF($B31=5,$CK31,0)","v":{"v":0,"d":"0.00"}},{"$f":"IF($B31=6,$CK31,0)","v":{"v":0,"d":"0.00"}}]
[{"$f":"IF(C31<>C32,C32,\"\")","v":""},{"$f":"IF(C31<>C32,_xlfn.DAYS(C32,C31)+B31,B31)","v":1},{"$f":"IF(D32>0,IF(D32<E31,C31+1,C31),C31)","v":"2009-03-02"},{"$f":"IF((E32+H32+P32+X32+AF32+AN32+AV32+BD32+BL32+BT32+CB32+CJ32)>0,E31,0)","v":"00:00:00"},null,{"$f":"E32-D32","v":"00:00:00"},{"$f":"IF(E32>0,HOUR(F32)+(MINUTE(F32)/60),0)","v":0},{"$f":"IF(H31>0,IF(P32+X32+AF32+AN32+AV32+BD32+BL32+BT32+CB32+CJ32=0,IF(E32>0,H31,0),0),0)","v":0},{"$f":"G32*H32","v":{"v":0,"d":"0.00"}},{"$f":"IF($B32=1,$I32,0)","v":{"v":0,"d":"0.00"}},{"$f":"IF($B32=2,$I32,0)","v":{"v":0,"d":"0.00"}},{"$f":"IF($B32=3,$I32,0)","v":{"v":0,"d":"0.00"}},{"$f":"IF($B32=4,$I32,0)","v":{"v":0,"d":"0.00"}},{"$f":"IF($B32=5,$I32,0)","v":{"v":0,"d":"0.00"}},{"$f":"IF($B32=6,$I32,0)","v":{"v":0,"d":"0.00"}},{"$f":"IF(P31>0,IF(H32+X32+AF32+AN32+AV32+BD32+BL32+BT32+CB32+CJ32=0,IF(E32>0,P31,0),0),0)","v":0},{"$f":"G32*P32","v":{"v":0,"d":"0.00"}},{"$f":"IF(B32=1,Q32,0)","v":{"v":0,"d":"0.00"}},{"$f":"IF(B32=2,Q32,0)","v":{"v":0,"d":"0.00"}},{"$f":"IF(B32=3,Q32,0)","v":{"v":0,"d":"0.00"}},{"$f":"IF(B32=4,Q32,0)","v":{"v":0,"d":"0.00"}},{"$f":"IF(B32=5,Q32,0)","v":{"v":0,"d":"0.00"}},{"$f":"IF(B32=6,Q32,0)","v":{"v":0,"d":"0.00"}},{"$f":"IF(X31>0,IF(H32+P32+AF32+AN32+AV32+BD32+BL32+BT32+CB32+CJ32=0,IF(E32>0,X31,0),0),0)","v":0},{"$f":"G32*X32","v":{"v":0,"d":"0.00"}},{"$f":"IF($B32=1,$Y32,0)","v":{"v":0,"d":"0.00"}},{"$f":"IF($B32=2,$Y32,0)","v":{"v":0,"d":"0.00"}},{"$f":"IF($B32=3,$Y32,0)","v":{"v":0,"d":"0.00"}},{"$f":"IF($B32=4,$Y32,0)","v":{"v":0,"d":"0.00"}},{"$f":"IF($B32=5,$Y32,0)","v":{"v":0,"d":"0.00"}},{"$f":"IF($B32=6,$Y32,0)","v":{"v":0,"d":"0.00"}},{"$f":"IF(AF31>0,IF(H32+P32+X32+AN32+AV32+BD32+BL32+BT32+CB32+CJ32=0,IF(E32>0,AF31,0),0),0)","v":0},{"$f":"G32*AF32","v":{"v":0,"d":"0.00"}},{"$f":"IF($B32=1,$AG32,0)","v":{"v":0,"d":"0.00"}},{"$f":"IF($B32=2,$AG32,0)","v":{"v":0,"d":"0.00"}},{"$f":"IF($B32=3,$AG32,0)","v":{"v":0,"d":"0.00"}},{"$f":"IF($B32=4,$AG32,0)","v":{"v":0,"d":"0.00"}},{"$f":"IF($B32=5,$AG32,0)","v":{"v":0,"d":"0.00"}},{"$f":"IF($B32=6,$AG32,0)","v":{"v":0,"d":"0.00"}},{"$f":"IF(AN31>0,IF(H32+P32+X32+AF32+AV32+BD32+BL32+BT32+CB32+CJ32=0,IF(E32>0,AN31,0),0),0)","v":0},{"$f":"G32*AN32","v":{"v":0,"d":"0.00"}},{"$f":"IF($B32=1,$AO32,0)","v":{"v":0,"d":"0.00"}},{"$f":"IF($B32=2,$AO32,0)","v":{"v":0,"d":"0.00"}},{"$f":"IF($B32=3,$AO32,0)","v":{"v":0,"d":"0.00"}},{"$f":"IF($B32=4,$AO32,0)","v":{"v":0,"d":"0.00"}},{"$f":"IF($B32=5,$AO32,0)","v":{"v":0,"d":"0.00"}},{"$f":"IF($B32=6,$AO32,0)","v":{"v":0,"d":"0.00"}},{"$f":"IF(AV31>0,IF(H32+P32+X32+AF32+AN32+BD32+BL32+BT32+CB32+CJ32=0,IF(E32>0,AV31,0),0),0)","v":0},{"$f":"G32*AV32","v":{"v":0,"d":"0.00"}},{"$f":"IF($B32=1,$AW32,0)","v":{"v":0,"d":"0.00"}},{"$f":"IF($B32=2,$AW32,0)","v":{"v":0,"d":"0.00"}},{"$f":"IF($B32=3,$AW32,0)","v":{"v":0,"d":"0.00"}},{"$f":"IF($B32=4,$AW32,0)","v":{"v":0,"d":"0.00"}},{"$f":"IF($B32=5,$AW32,0)","v":{"v":0,"d":"0.00"}},{"$f":"IF($B32=6,$AW32,0)","v":{"v":0,"d":"0.00"}},{"$f":"IF(BD31>0,IF(H32+P32+X32+AF32+AN32+AV32+BL32+BT32+CB32+CJ32=0,IF(E32>0,BD31,0),0),0)","v":0},{"$f":"G32*BD32","v":{"v":0,"d":"0.00"}},{"$f":"IF($B32=1,$BE32,0)","v":{"v":0,"d":"0.00"}},{"$f":"IF($B32=2,$BE32,0)","v":{"v":0,"d":"0.00"}},{"$f":"IF($B32=3,$BE32,0)","v":{"v":0,"d":"0.00"}},{"$f":"IF($B32=4,$BE32,0)","v":{"v":0,"d":"0.00"}},{"$f":"IF($B32=5,$BE32,0)","v":{"v":0,"d":"0.00"}},{"$f":"IF($B32=6,$BE32,0)","v":{"v":0,"d":"0.00"}},{"$f":"IF(BL31>0,IF(H32+P32+X32+AF32+AN32+AV32+BD32+BT32+CB32+CJ32=0,IF(E32>0,BL31,0),0),0)","v":0},{"$f":"G32*BL32","v":{"v":0,"d":"0.00"}},{"$f":"IF($B32=1,$BM32,0)","v":{"v":0,"d":"0.00"}},{"$f":"IF($B32=2,$BM32,0)","v":{"v":0,"d":"0.00"}},{"$f":"IF($B32=3,$BM32,0)","v":{"v":0,"d":"0.00"}},{"$f":"IF($B32=4,$BM32,0)","v":{"v":0,"d":"0.00"}},{"$f":"IF($B32=5,$BM32,0)","v":{"v":0,"d":"0.00"}},{"$f":"IF($B32=6,$BM32,0)","v":{"v":0,"d":"0.00"}},{"$f":"IF(BT31>0,IF(H32+P32+X32+AF32+AN32+AV32+BD32+BL32+CB32+CJ32=0,IF(E32>0,BT31,0),0),0)","v":0},{"$f":"G32*BT32","v":{"v":0,"d":"0.00"}},{"$f":"IF($B32=1,$BU32,0)","v":{"v":0,"d":"0.00"}},{"$f":"IF($B32=2,$BU32,0)","v":{"v":0,"d":"0.00"}},{"$f":"IF($B32=3,$BU32,0)","v":{"v":0,"d":"0.00"}},{"$f":"IF($B32=4,$BU32,0)","v":{"v":0,"d":"0.00"}},{"$f":"IF($B32=5,$BU32,0)","v":{"v":0,"d":"0.00"}},{"$f":"IF($B32=6,$BU32,0)","v":{"v":0,"d":"0.00"}},{"$f":"IF(CB31>0,IF(H32+P32+X32+AF32+AN32+AV32+BD32+BL32+BT32+CJ32=0,IF(E32>0,CB31,0),0),0)","v":0},{"$f":"G32*CB32","v":{"v":0,"d":"0.00"}},{"$f":"IF($B32=1,$CC32,0)","v":{"v":0,"d":"0.00"}},{"$f":"IF($B32=2,$CC32,0)","v":{"v":0,"d":"0.00"}},{"$f":"IF($B32=3,$CC32,0)","v":{"v":0,"d":"0.00"}},{"$f":"IF($B32=4,$CC32,0)","v":{"v":0,"d":"0.00"}},{"$f":"IF($B32=5,$CC32,0)","v":{"v":0,"d":"0.00"}},{"$f":"IF($B32=6,$CC32,0)","v":{"v":0,"d":"0.00"}},{"$f":"IF(CJ31>0,IF(H32+P32+X32+AF32+AN32+AV32+BD32+BL32+BT32+CB32=0,IF(E32>0,CJ31,0),0),0)","v":0},{"$f":"G32*CJ32","v":{"v":0,"d":"0.00"}},{"$f":"IF($B32=1,$CK32,0)","v":{"v":0,"d":"0.00"}},{"$f":"IF($B32=2,$CK32,0)","v":{"v":0,"d":"0.00"}},{"$f":"IF($B32=3,$CK32,0)","v":{"v":0,"d":"0.00"}},{"$f":"IF($B32=4,$CK32,0)","v":{"v":0,"d":"0.00"}},{"$f":"IF($B32=5,$CK32,0)","v":{"v":0,"d":"0.00"}},{"$f":"IF($B32=6,$CK32,0)","v":{"v":0,"d":"0.00"}}]
[{"$f":"IF(C32<>C33,C33,\"\")","v":""},{"$f":"IF(C32<>C33,_xlfn.DAYS(C33,C32)+B32,B32)","v":1},{"$f":"IF(D33>0,IF(D33<E32,C32+1,C32),C32)","v":"2009-03-02"},{"$f":"IF((E33+H33+P33+X33+AF33+AN33+AV33+BD33+BL33+BT33+CB33+CJ33)>0,E32,0)","v":"00:00:00"},null,{"$f":"E33-D33","v":"00:00:00"},{"$f":"IF(E33>0,HOUR(F33)+(MINUTE(F33)/60),0)","v":0},{"$f":"IF(H32>0,IF(P33+X33+AF33+AN33+AV33+BD33+BL33+BT33+CB33+CJ33=0,IF(E33>0,H32,0),0),0)","v":0},{"$f":"G33*H33","v":{"v":0,"d":"0.00"}},{"$f":"IF($B33=1,$I33,0)","v":{"v":0,"d":"0.00"}},{"$f":"IF($B33=2,$I33,0)","v":{"v":0,"d":"0.00"}},{"$f":"IF($B33=3,$I33,0)","v":{"v":0,"d":"0.00"}},{"$f":"IF($B33=4,$I33,0)","v":{"v":0,"d":"0.00"}},{"$f":"IF($B33=5,$I33,0)","v":{"v":0,"d":"0.00"}},{"$f":"IF($B33=6,$I33,0)","v":{"v":0,"d":"0.00"}},{"$f":"IF(P32>0,IF(H33+X33+AF33+AN33+AV33+BD33+BL33+BT33+CB33+CJ33=0,IF(E33>0,P32,0),0),0)","v":0},{"$f":"G33*P33","v":{"v":0,"d":"0.00"}},{"$f":"IF(B33=1,Q33,0)","v":{"v":0,"d":"0.00"}},{"$f":"IF(B33=2,Q33,0)","v":{"v":0,"d":"0.00"}},{"$f":"IF(B33=3,Q33,0)","v":{"v":0,"d":"0.00"}},{"$f":"IF(B33=4,Q33,0)","v":{"v":0,"d":"0.00"}},{"$f":"IF(B33=5,Q33,0)","v":{"v":0,"d":"0.00"}},{"$f":"IF(B33=6,Q33,0)","v":{"v":0,"d":"0.00"}},{"$f":"IF(X32>0,IF(H33+P33+AF33+AN33+AV33+BD33+BL33+BT33+CB33+CJ33=0,IF(E33>0,X32,0),0),0)","v":0},{"$f":"G33*X33","v":{"v":0,"d":"0.00"}},{"$f":"IF($B33=1,$Y33,0)","v":{"v":0,"d":"0.00"}},{"$f":"IF($B33=2,$Y33,0)","v":{"v":0,"d":"0.00"}},{"$f":"IF($B33=3,$Y33,0)","v":{"v":0,"d":"0.00"}},{"$f":"IF($B33=4,$Y33,0)","v":{"v":0,"d":"0.00"}},{"$f":"IF($B33=5,$Y33,0)","v":{"v":0,"d":"0.00"}},{"$f":"IF($B33=6,$Y33,0)","v":{"v":0,"d":"0.00"}},{"$f":"IF(AF32>0,IF(H33+P33+X33+AN33+AV33+BD33+BL33+BT33+CB33+CJ33=0,IF(E33>0,AF32,0),0),0)","v":0},{"$f":"G33*AF33","v":{"v":0,"d":"0.00"}},{"$f":"IF($B33=1,$AG33,0)","v":{"v":0,"d":"0.00"}},{"$f":"IF($B33=2,$AG33,0)","v":{"v":0,"d":"0.00"}},{"$f":"IF($B33=3,$AG33,0)","v":{"v":0,"d":"0.00"}},{"$f":"IF($B33=4,$AG33,0)","v":{"v":0,"d":"0.00"}},{"$f":"IF($B33=5,$AG33,0)","v":{"v":0,"d":"0.00"}},{"$f":"IF($B33=6,$AG33,0)","v":{"v":0,"d":"0.00"}},{"$f":"IF(AN32>0,IF(H33+P33+X33+AF33+AV33+BD33+BL33+BT33+CB33+CJ33=0,IF(E33>0,AN32,0),0),0)","v":0},{"$f":"G33*AN33","v":{"v":0,"d":"0.00"}},{"$f":"IF($B33=1,$AO33,0)","v":{"v":0,"d":"0.00"}},{"$f":"IF($B33=2,$AO33,0)","v":{"v":0,"d":"0.00"}},{"$f":"IF($B33=3,$AO33,0)","v":{"v":0,"d":"0.00"}},{"$f":"IF($B33=4,$AO33,0)","v":{"v":0,"d":"0.00"}},{"$f":"IF($B33=5,$AO33,0)","v":{"v":0,"d":"0.00"}},{"$f":"IF($B33=6,$AO33,0)","v":{"v":0,"d":"0.00"}},{"$f":"IF(AV32>0,IF(H33+P33+X33+AF33+AN33+BD33+BL33+BT33+CB33+CJ33=0,IF(E33>0,AV32,0),0),0)","v":0},{"$f":"G33*AV33","v":{"v":0,"d":"0.00"}},{"$f":"IF($B33=1,$AW33,0)","v":{"v":0,"d":"0.00"}},{"$f":"IF($B33=2,$AW33,0)","v":{"v":0,"d":"0.00"}},{"$f":"IF($B33=3,$AW33,0)","v":{"v":0,"d":"0.00"}},{"$f":"IF($B33=4,$AW33,0)","v":{"v":0,"d":"0.00"}},{"$f":"IF($B33=5,$AW33,0)","v":{"v":0,"d":"0.00"}},{"$f":"IF($B33=6,$AW33,0)","v":{"v":0,"d":"0.00"}},{"$f":"IF(BD32>0,IF(H33+P33+X33+AF33+AN33+AV33+BL33+BT33+CB33+CJ33=0,IF(E33>0,BD32,0),0),0)","v":0},{"$f":"G33*BD33","v":{"v":0,"d":"0.00"}},{"$f":"IF($B33=1,$BE33,0)","v":{"v":0,"d":"0.00"}},{"$f":"IF($B33=2,$BE33,0)","v":{"v":0,"d":"0.00"}},{"$f":"IF($B33=3,$BE33,0)","v":{"v":0,"d":"0.00"}},{"$f":"IF($B33=4,$BE33,0)","v":{"v":0,"d":"0.00"}},{"$f":"IF($B33=5,$BE33,0)","v":{"v":0,"d":"0.00"}},{"$f":"IF($B33=6,$BE33,0)","v":{"v":0,"d":"0.00"}},{"$f":"IF(BL32>0,IF(H33+P33+X33+AF33+AN33+AV33+BD33+BT33+CB33+CJ33=0,IF(E33>0,BL32,0),0),0)","v":0},{"$f":"G33*BL33","v":{"v":0,"d":"0.00"}},{"$f":"IF($B33=1,$BM33,0)","v":{"v":0,"d":"0.00"}},{"$f":"IF($B33=2,$BM33,0)","v":{"v":0,"d":"0.00"}},{"$f":"IF($B33=3,$BM33,0)","v":{"v":0,"d":"0.00"}},{"$f":"IF($B33=4,$BM33,0)","v":{"v":0,"d":"0.00"}},{"$f":"IF($B33=5,$BM33,0)","v":{"v":0,"d":"0.00"}},{"$f":"IF($B33=6,$BM33,0)","v":{"v":0,"d":"0.00"}},{"$f":"IF(BT32>0,IF(H33+P33+X33+AF33+AN33+AV33+BD33+BL33+CB33+CJ33=0,IF(E33>0,BT32,0),0),0)","v":0},{"$f":"G33*BT33","v":{"v":0,"d":"0.00"}},{"$f":"IF($B33=1,$BU33,0)","v":{"v":0,"d":"0.00"}},{"$f":"IF($B33=2,$BU33,0)","v":{"v":0,"d":"0.00"}},{"$f":"IF($B33=3,$BU33,0)","v":{"v":0,"d":"0.00"}},{"$f":"IF($B33=4,$BU33,0)","v":{"v":0,"d":"0.00"}},{"$f":"IF($B33=5,$BU33,0)","v":{"v":0,"d":"0.00"}},{"$f":"IF($B33=6,$BU33,0)","v":{"v":0,"d":"0.00"}},{"$f":"IF(CB32>0,IF(H33+P33+X33+AF33+AN33+AV33+BD33+BL33+BT33+CJ33=0,IF(E33>0,CB32,0),0),0)","v":0},{"$f":"G33*CB33","v":{"v":0,"d":"0.00"}},{"$f":"IF($B33=1,$CC33,0)","v":{"v":0,"d":"0.00"}},{"$f":"IF($B33=2,$CC33,0)","v":{"v":0,"d":"0.00"}},{"$f":"IF($B33=3,$CC33,0)","v":{"v":0,"d":"0.00"}},{"$f":"IF($B33=4,$CC33,0)","v":{"v":0,"d":"0.00"}},{"$f":"IF($B33=5,$CC33,0)","v":{"v":0,"d":"0.00"}},{"$f":"IF($B33=6,$CC33,0)","v":{"v":0,"d":"0.00"}},{"$f":"IF(CJ32>0,IF(H33+P33+X33+AF33+AN33+AV33+BD33+BL33+BT33+CB33=0,IF(E33>0,CJ32,0),0),0)","v":0},{"$f":"G33*CJ33","v":{"v":0,"d":"0.00"}},{"$f":"IF($B33=1,$CK33,0)","v":{"v":0,"d":"0.00"}},{"$f":"IF($B33=2,$CK33,0)","v":{"v":0,"d":"0.00"}},{"$f":"IF($B33=3,$CK33,0)","v":{"v":0,"d":"0.00"}},{"$f":"IF($B33=4,$CK33,0)","v":{"v":0,"d":"0.00"}},{"$f":"IF($B33=5,$CK33,0)","v":{"v":0,"d":"0.00"}},{"$f":"IF($B33=6,$CK33,0)","v":{"v":0,"d":"0.00"}}]
[{"$f":"IF(C33<>C34,C34,\"\")","v":""},{"$f":"IF(C33<>C34,_xlfn.DAYS(C34,C33)+B33,B33)","v":1},{"$f":"IF(D34>0,IF(D34<E33,C33+1,C33),C33)","v":"2009-03-02"},{"$f":"IF((E34+H34+P34+X34+AF34+AN34+AV34+BD34+BL34+BT34+CB34+CJ34)>0,E33,0)","v":"00:00:00"},null,{"$f":"E34-D34","v":"00:00:00"},{"$f":"IF(E34>0,HOUR(F34)+(MINUTE(F34)/60),0)","v":0},{"$f":"IF(H33>0,IF(P34+X34+AF34+AN34+AV34+BD34+BL34+BT34+CB34+CJ34=0,IF(E34>0,H33,0),0),0)","v":0},{"$f":"G34*H34","v":{"v":0,"d":"0.00"}},{"$f":"IF($B34=1,$I34,0)","v":{"v":0,"d":"0.00"}},{"$f":"IF($B34=2,$I34,0)","v":{"v":0,"d":"0.00"}},{"$f":"IF($B34=3,$I34,0)","v":{"v":0,"d":"0.00"}},{"$f":"IF($B34=4,$I34,0)","v":{"v":0,"d":"0.00"}},{"$f":"IF($B34=5,$I34,0)","v":{"v":0,"d":"0.00"}},{"$f":"IF($B34=6,$I34,0)","v":{"v":0,"d":"0.00"}},{"$f":"IF(P33>0,IF(H34+X34+AF34+AN34+AV34+BD34+BL34+BT34+CB34+CJ34=0,IF(E34>0,P33,0),0),0)","v":0},{"$f":"G34*P34","v":{"v":0,"d":"0.00"}},{"$f":"IF(B34=1,Q34,0)","v":{"v":0,"d":"0.00"}},{"$f":"IF(B34=2,Q34,0)","v":{"v":0,"d":"0.00"}},{"$f":"IF(B34=3,Q34,0)","v":{"v":0,"d":"0.00"}},{"$f":"IF(B34=4,Q34,0)","v":{"v":0,"d":"0.00"}},{"$f":"IF(B34=5,Q34,0)","v":{"v":0,"d":"0.00"}},{"$f":"IF(B34=6,Q34,0)","v":{"v":0,"d":"0.00"}},{"$f":"IF(X33>0,IF(H34+P34+AF34+AN34+AV34+BD34+BL34+BT34+CB34+CJ34=0,IF(E34>0,X33,0),0),0)","v":0},{"$f":"G34*X34","v":{"v":0,"d":"0.00"}},{"$f":"IF($B34=1,$Y34,0)","v":{"v":0,"d":"0.00"}},{"$f":"IF($B34=2,$Y34,0)","v":{"v":0,"d":"0.00"}},{"$f":"IF($B34=3,$Y34,0)","v":{"v":0,"d":"0.00"}},{"$f":"IF($B34=4,$Y34,0)","v":{"v":0,"d":"0.00"}},{"$f":"IF($B34=5,$Y34,0)","v":{"v":0,"d":"0.00"}},{"$f":"IF($B34=6,$Y34,0)","v":{"v":0,"d":"0.00"}},{"$f":"IF(AF33>0,IF(H34+P34+X34+AN34+AV34+BD34+BL34+BT34+CB34+CJ34=0,IF(E34>0,AF33,0),0),0)","v":0},{"$f":"G34*AF34","v":{"v":0,"d":"0.00"}},{"$f":"IF($B34=1,$AG34,0)","v":{"v":0,"d":"0.00"}},{"$f":"IF($B34=2,$AG34,0)","v":{"v":0,"d":"0.00"}},{"$f":"IF($B34=3,$AG34,0)","v":{"v":0,"d":"0.00"}},{"$f":"IF($B34=4,$AG34,0)","v":{"v":0,"d":"0.00"}},{"$f":"IF($B34=5,$AG34,0)","v":{"v":0,"d":"0.00"}},{"$f":"IF($B34=6,$AG34,0)","v":{"v":0,"d":"0.00"}},{"$f":"IF(AN33>0,IF(H34+P34+X34+AF34+AV34+BD34+BL34+BT34+CB34+CJ34=0,IF(E34>0,AN33,0),0),0)","v":0},{"$f":"G34*AN34","v":{"v":0,"d":"0.00"}},{"$f":"IF($B34=1,$AO34,0)","v":{"v":0,"d":"0.00"}},{"$f":"IF($B34=2,$AO34,0)","v":{"v":0,"d":"0.00"}},{"$f":"IF($B34=3,$AO34,0)","v":{"v":0,"d":"0.00"}},{"$f":"IF($B34=4,$AO34,0)","v":{"v":0,"d":"0.00"}},{"$f":"IF($B34=5,$AO34,0)","v":{"v":0,"d":"0.00"}},{"$f":"IF($B34=6,$AO34,0)","v":{"v":0,"d":"0.00"}},{"$f":"IF(AV33>0,IF(H34+P34+X34+AF34+AN34+BD34+BL34+BT34+CB34+CJ34=0,IF(E34>0,AV33,0),0),0)","v":0},{"$f":"G34*AV34","v":{"v":0,"d":"0.00"}},{"$f":"IF($B34=1,$AW34,0)","v":{"v":0,"d":"0.00"}},{"$f":"IF($B34=2,$AW34,0)","v":{"v":0,"d":"0.00"}},{"$f":"IF($B34=3,$AW34,0)","v":{"v":0,"d":"0.00"}},{"$f":"IF($B34=4,$AW34,0)","v":{"v":0,"d":"0.00"}},{"$f":"IF($B34=5,$AW34,0)","v":{"v":0,"d":"0.00"}},{"$f":"IF($B34=6,$AW34,0)","v":{"v":0,"d":"0.00"}},{"$f":"IF(BD33>0,IF(H34+P34+X34+AF34+AN34+AV34+BL34+BT34+CB34+CJ34=0,IF(E34>0,BD33,0),0),0)","v":0},{"$f":"G34*BD34","v":{"v":0,"d":"0.00"}},{"$f":"IF($B34=1,$BE34,0)","v":{"v":0,"d":"0.00"}},{"$f":"IF($B34=2,$BE34,0)","v":{"v":0,"d":"0.00"}},{"$f":"IF($B34=3,$BE34,0)","v":{"v":0,"d":"0.00"}},{"$f":"IF($B34=4,$BE34,0)","v":{"v":0,"d":"0.00"}},{"$f":"IF($B34=5,$BE34,0)","v":{"v":0,"d":"0.00"}},{"$f":"IF($B34=6,$BE34,0)","v":{"v":0,"d":"0.00"}},{"$f":"IF(BL33>0,IF(H34+P34+X34+AF34+AN34+AV34+BD34+BT34+CB34+CJ34=0,IF(E34>0,BL33,0),0),0)","v":0},{"$f":"G34*BL34","v":{"v":0,"d":"0.00"}},{"$f":"IF($B34=1,$BM34,0)","v":{"v":0,"d":"0.00"}},{"$f":"IF($B34=2,$BM34,0)","v":{"v":0,"d":"0.00"}},{"$f":"IF($B34=3,$BM34,0)","v":{"v":0,"d":"0.00"}},{"$f":"IF($B34=4,$BM34,0)","v":{"v":0,"d":"0.00"}},{"$f":"IF($B34=5,$BM34,0)","v":{"v":0,"d":"0.00"}},{"$f":"IF($B34=6,$BM34,0)","v":{"v":0,"d":"0.00"}},{"$f":"IF(BT33>0,IF(H34+P34+X34+AF34+AN34+AV34+BD34+BL34+CB34+CJ34=0,IF(E34>0,BT33,0),0),0)","v":0},{"$f":"G34*BT34","v":{"v":0,"d":"0.00"}},{"$f":"IF($B34=1,$BU34,0)","v":{"v":0,"d":"0.00"}},{"$f":"IF($B34=2,$BU34,0)","v":{"v":0,"d":"0.00"}},{"$f":"IF($B34=3,$BU34,0)","v":{"v":0,"d":"0.00"}},{"$f":"IF($B34=4,$BU34,0)","v":{"v":0,"d":"0.00"}},{"$f":"IF($B34=5,$BU34,0)","v":{"v":0,"d":"0.00"}},{"$f":"IF($B34=6,$BU34,0)","v":{"v":0,"d":"0.00"}},{"$f":"IF(CB33>0,IF(H34+P34+X34+AF34+AN34+AV34+BD34+BL34+BT34+CJ34=0,IF(E34>0,CB33,0),0),0)","v":0},{"$f":"G34*CB34","v":{"v":0,"d":"0.00"}},{"$f":"IF($B34=1,$CC34,0)","v":{"v":0,"d":"0.00"}},{"$f":"IF($B34=2,$CC34,0)","v":{"v":0,"d":"0.00"}},{"$f":"IF($B34=3,$CC34,0)","v":{"v":0,"d":"0.00"}},{"$f":"IF($B34=4,$CC34,0)","v":{"v":0,"d":"0.00"}},{"$f":"IF($B34=5,$CC34,0)","v":{"v":0,"d":"0.00"}},{"$f":"IF($B34=6,$CC34,0)","v":{"v":0,"d":"0.00"}},{"$f":"IF(CJ33>0,IF(H34+P34+X34+AF34+AN34+AV34+BD34+BL34+BT34+CB34=0,IF(E34>0,CJ33,0),0),0)","v":0},{"$f":"G34*CJ34","v":{"v":0,"d":"0.00"}},{"$f":"IF($B34=1,$CK34,0)","v":{"v":0,"d":"0.00"}},{"$f":"IF($B34=2,$CK34,0)","v":{"v":0,"d":"0.00"}},{"$f":"IF($B34=3,$CK34,0)","v":{"v":0,"d":"0.00"}},{"$f":"IF($B34=4,$CK34,0)","v":{"v":0,"d":"0.00"}},{"$f":"IF($B34=5,$CK34,0)","v":{"v":0,"d":"0.00"}},{"$f":"IF($B34=6,$CK34,0)","v":{"v":0,"d":"0.00"}}]
[{"$f":"IF(C34<>C35,C35,\"\")","v":""},{"$f":"IF(C34<>C35,_xlfn.DAYS(C35,C34)+B34,B34)","v":1},{"$f":"IF(D35>0,IF(D35<E34,C34+1,C34),C34)","v":"2009-03-02"},{"$f":"IF((E35+H35+P35+X35+AF35+AN35+AV35+BD35+BL35+BT35+CB35+CJ35)>0,E34,0)","v":"00:00:00"},null,{"$f":"E35-D35","v":"00:00:00"},{"$f":"IF(E35>0,HOUR(F35)+(MINUTE(F35)/60),0)","v":0},{"$f":"IF(H34>0,IF(P35+X35+AF35+AN35+AV35+BD35+BL35+BT35+CB35+CJ35=0,IF(E35>0,H34,0),0),0)","v":0},{"$f":"G35*H35","v":{"v":0,"d":"0.00"}},{"$f":"IF($B35=1,$I35,0)","v":{"v":0,"d":"0.00"}},{"$f":"IF($B35=2,$I35,0)","v":{"v":0,"d":"0.00"}},{"$f":"IF($B35=3,$I35,0)","v":{"v":0,"d":"0.00"}},{"$f":"IF($B35=4,$I35,0)","v":{"v":0,"d":"0.00"}},{"$f":"IF($B35=5,$I35,0)","v":{"v":0,"d":"0.00"}},{"$f":"IF($B35=6,$I35,0)","v":{"v":0,"d":"0.00"}},{"$f":"IF(P34>0,IF(H35+X35+AF35+AN35+AV35+BD35+BL35+BT35+CB35+CJ35=0,IF(E35>0,P34,0),0),0)","v":0},{"$f":"G35*P35","v":{"v":0,"d":"0.00"}},{"$f":"IF(B35=1,Q35,0)","v":{"v":0,"d":"0.00"}},{"$f":"IF(B35=2,Q35,0)","v":{"v":0,"d":"0.00"}},{"$f":"IF(B35=3,Q35,0)","v":{"v":0,"d":"0.00"}},{"$f":"IF(B35=4,Q35,0)","v":{"v":0,"d":"0.00"}},{"$f":"IF(B35=5,Q35,0)","v":{"v":0,"d":"0.00"}},{"$f":"IF(B35=6,Q35,0)","v":{"v":0,"d":"0.00"}},{"$f":"IF(X34>0,IF(H35+P35+AF35+AN35+AV35+BD35+BL35+BT35+CB35+CJ35=0,IF(E35>0,X34,0),0),0)","v":0},{"$f":"G35*X35","v":{"v":0,"d":"0.00"}},{"$f":"IF($B35=1,$Y35,0)","v":{"v":0,"d":"0.00"}},{"$f":"IF($B35=2,$Y35,0)","v":{"v":0,"d":"0.00"}},{"$f":"IF($B35=3,$Y35,0)","v":{"v":0,"d":"0.00"}},{"$f":"IF($B35=4,$Y35,0)","v":{"v":0,"d":"0.00"}},{"$f":"IF($B35=5,$Y35,0)","v":{"v":0,"d":"0.00"}},{"$f":"IF($B35=6,$Y35,0)","v":{"v":0,"d":"0.00"}},{"$f":"IF(AF34>0,IF(H35+P35+X35+AN35+AV35+BD35+BL35+BT35+CB35+CJ35=0,IF(E35>0,AF34,0),0),0)","v":0},{"$f":"G35*AF35","v":{"v":0,"d":"0.00"}},{"$f":"IF($B35=1,$AG35,0)","v":{"v":0,"d":"0.00"}},{"$f":"IF($B35=2,$AG35,0)","v":{"v":0,"d":"0.00"}},{"$f":"IF($B35=3,$AG35,0)","v":{"v":0,"d":"0.00"}},{"$f":"IF($B35=4,$AG35,0)","v":{"v":0,"d":"0.00"}},{"$f":"IF($B35=5,$AG35,0)","v":{"v":0,"d":"0.00"}},{"$f":"IF($B35=6,$AG35,0)","v":{"v":0,"d":"0.00"}},{"$f":"IF(AN34>0,IF(H35+P35+X35+AF35+AV35+BD35+BL35+BT35+CB35+CJ35=0,IF(E35>0,AN34,0),0),0)","v":0},{"$f":"G35*AN35","v":{"v":0,"d":"0.00"}},{"$f":"IF($B35=1,$AO35,0)","v":{"v":0,"d":"0.00"}},{"$f":"IF($B35=2,$AO35,0)","v":{"v":0,"d":"0.00"}},{"$f":"IF($B35=3,$AO35,0)","v":{"v":0,"d":"0.00"}},{"$f":"IF($B35=4,$AO35,0)","v":{"v":0,"d":"0.00"}},{"$f":"IF($B35=5,$AO35,0)","v":{"v":0,"d":"0.00"}},{"$f":"IF($B35=6,$AO35,0)","v":{"v":0,"d":"0.00"}},{"$f":"IF(AV34>0,IF(H35+P35+X35+AF35+AN35+BD35+BL35+BT35+CB35+CJ35=0,IF(E35>0,AV34,0),0),0)","v":0},{"$f":"G35*AV35","v":{"v":0,"d":"0.00"}},{"$f":"IF($B35=1,$AW35,0)","v":{"v":0,"d":"0.00"}},{"$f":"IF($B35=2,$AW35,0)","v":{"v":0,"d":"0.00"}},{"$f":"IF($B35=3,$AW35,0)","v":{"v":0,"d":"0.00"}},{"$f":"IF($B35=4,$AW35,0)","v":{"v":0,"d":"0.00"}},{"$f":"IF($B35=5,$AW35,0)","v":{"v":0,"d":"0.00"}},{"$f":"IF($B35=6,$AW35,0)","v":{"v":0,"d":"0.00"}},{"$f":"IF(BD34>0,IF(H35+P35+X35+AF35+AN35+AV35+BL35+BT35+CB35+CJ35=0,IF(E35>0,BD34,0),0),0)","v":0},{"$f":"G35*BD35","v":{"v":0,"d":"0.00"}},{"$f":"IF($B35=1,$BE35,0)","v":{"v":0,"d":"0.00"}},{"$f":"IF($B35=2,$BE35,0)","v":{"v":0,"d":"0.00"}},{"$f":"IF($B35=3,$BE35,0)","v":{"v":0,"d":"0.00"}},{"$f":"IF($B35=4,$BE35,0)","v":{"v":0,"d":"0.00"}},{"$f":"IF($B35=5,$BE35,0)","v":{"v":0,"d":"0.00"}},{"$f":"IF($B35=6,$BE35,0)","v":{"v":0,"d":"0.00"}},{"$f":"IF(BL34>0,IF(H35+P35+X35+AF35+AN35+AV35+BD35+BT35+CB35+CJ35=0,IF(E35>0,BL34,0),0),0)","v":0},{"$f":"G35*BL35","v":{"v":0,"d":"0.00"}},{"$f":"IF($B35=1,$BM35,0)","v":{"v":0,"d":"0.00"}},{"$f":"IF($B35=2,$BM35,0)","v":{"v":0,"d":"0.00"}},{"$f":"IF($B35=3,$BM35,0)","v":{"v":0,"d":"0.00"}},{"$f":"IF($B35=4,$BM35,0)","v":{"v":0,"d":"0.00"}},{"$f":"IF($B35=5,$BM35,0)","v":{"v":0,"d":"0.00"}},{"$f":"IF($B35=6,$BM35,0)","v":{"v":0,"d":"0.00"}},{"$f":"IF(BT34>0,IF(H35+P35+X35+AF35+AN35+AV35+BD35+BL35+CB35+CJ35=0,IF(E35>0,BT34,0),0),0)","v":0},{"$f":"G35*BT35","v":{"v":0,"d":"0.00"}},{"$f":"IF($B35=1,$BU35,0)","v":{"v":0,"d":"0.00"}},{"$f":"IF($B35=2,$BU35,0)","v":{"v":0,"d":"0.00"}},{"$f":"IF($B35=3,$BU35,0)","v":{"v":0,"d":"0.00"}},{"$f":"IF($B35=4,$BU35,0)","v":{"v":0,"d":"0.00"}},{"$f":"IF($B35=5,$BU35,0)","v":{"v":0,"d":"0.00"}},{"$f":"IF($B35=6,$BU35,0)","v":{"v":0,"d":"0.00"}},{"$f":"IF(CB34>0,IF(H35+P35+X35+AF35+AN35+AV35+BD35+BL35+BT35+CJ35=0,IF(E35>0,CB34,0),0),0)","v":0},{"$f":"G35*CB35","v":{"v":0,"d":"0.00"}},{"$f":"IF($B35=1,$CC35,0)","v":{"v":0,"d":"0.00"}},{"$f":"IF($B35=2,$CC35,0)","v":{"v":0,"d":"0.00"}},{"$f":"IF($B35=3,$CC35,0)","v":{"v":0,"d":"0.00"}},{"$f":"IF($B35=4,$CC35,0)","v":{"v":0,"d":"0.00"}},{"$f":"IF($B35=5,$CC35,0)","v":{"v":0,"d":"0.00"}},{"$f":"IF($B35=6,$CC35,0)","v":{"v":0,"d":"0.00"}},{"$f":"IF(CJ34>0,IF(H35+P35+X35+AF35+AN35+AV35+BD35+BL35+BT35+CB35=0,IF(E35>0,CJ34,0),0),0)","v":0},{"$f":"G35*CJ35","v":{"v":0,"d":"0.00"}},{"$f":"IF($B35=1,$CK35,0)","v":{"v":0,"d":"0.00"}},{"$f":"IF($B35=2,$CK35,0)","v":{"v":0,"d":"0.00"}},{"$f":"IF($B35=3,$CK35,0)","v":{"v":0,"d":"0.00"}},{"$f":"IF($B35=4,$CK35,0)","v":{"v":0,"d":"0.00"}},{"$f":"IF($B35=5,$CK35,0)","v":{"v":0,"d":"0.00"}},{"$f":"IF($B35=6,$CK35,0)","v":{"v":0,"d":"0.00"}}]
[{"$f":"IF(C35<>C36,C36,\"\")","v":""},{"$f":"IF(C35<>C36,_xlfn.DAYS(C36,C35)+B35,B35)","v":1},{"$f":"IF(D36>0,IF(D36<E35,C35+1,C35),C35)","v":"2009-03-02"},{"$f":"IF((E36+H36+P36+X36+AF36+AN36+AV36+BD36+BL36+BT36+CB36+CJ36)>0,E35,0)","v":"00:00:00"},null,{"$f":"E36-D36","v":"00:00:00"},{"$f":"IF(E36>0,HOUR(F36)+(MINUTE(F36)/60),0)","v":0},{"$f":"IF(H35>0,IF(P36+X36+AF36+AN36+AV36+BD36+BL36+BT36+CB36+CJ36=0,IF(E36>0,H35,0),0),0)","v":0},{"$f":"G36*H36","v":{"v":0,"d":"0.00"}},{"$f":"IF($B36=1,$I36,0)","v":{"v":0,"d":"0.00"}},{"$f":"IF($B36=2,$I36,0)","v":{"v":0,"d":"0.00"}},{"$f":"IF($B36=3,$I36,0)","v":{"v":0,"d":"0.00"}},{"$f":"IF($B36=4,$I36,0)","v":{"v":0,"d":"0.00"}},{"$f":"IF($B36=5,$I36,0)","v":{"v":0,"d":"0.00"}},{"$f":"IF($B36=6,$I36,0)","v":{"v":0,"d":"0.00"}},{"$f":"IF(P35>0,IF(H36+X36+AF36+AN36+AV36+BD36+BL36+BT36+CB36+CJ36=0,IF(E36>0,P35,0),0),0)","v":0},{"$f":"G36*P36","v":{"v":0,"d":"0.00"}},{"$f":"IF(B36=1,Q36,0)","v":{"v":0,"d":"0.00"}},{"$f":"IF(B36=2,Q36,0)","v":{"v":0,"d":"0.00"}},{"$f":"IF(B36=3,Q36,0)","v":{"v":0,"d":"0.00"}},{"$f":"IF(B36=4,Q36,0)","v":{"v":0,"d":"0.00"}},{"$f":"IF(B36=5,Q36,0)","v":{"v":0,"d":"0.00"}},{"$f":"IF(B36=6,Q36,0)","v":{"v":0,"d":"0.00"}},{"$f":"IF(X35>0,IF(H36+P36+AF36+AN36+AV36+BD36+BL36+BT36+CB36+CJ36=0,IF(E36>0,X35,0),0),0)","v":0},{"$f":"G36*X36","v":{"v":0,"d":"0.00"}},{"$f":"IF($B36=1,$Y36,0)","v":{"v":0,"d":"0.00"}},{"$f":"IF($B36=2,$Y36,0)","v":{"v":0,"d":"0.00"}},{"$f":"IF($B36=3,$Y36,0)","v":{"v":0,"d":"0.00"}},{"$f":"IF($B36=4,$Y36,0)","v":{"v":0,"d":"0.00"}},{"$f":"IF($B36=5,$Y36,0)","v":{"v":0,"d":"0.00"}},{"$f":"IF($B36=6,$Y36,0)","v":{"v":0,"d":"0.00"}},{"$f":"IF(AF35>0,IF(H36+P36+X36+AN36+AV36+BD36+BL36+BT36+CB36+CJ36=0,IF(E36>0,AF35,0),0),0)","v":0},{"$f":"G36*AF36","v":{"v":0,"d":"0.00"}},{"$f":"IF($B36=1,$AG36,0)","v":{"v":0,"d":"0.00"}},{"$f":"IF($B36=2,$AG36,0)","v":{"v":0,"d":"0.00"}},{"$f":"IF($B36=3,$AG36,0)","v":{"v":0,"d":"0.00"}},{"$f":"IF($B36=4,$AG36,0)","v":{"v":0,"d":"0.00"}},{"$f":"IF($B36=5,$AG36,0)","v":{"v":0,"d":"0.00"}},{"$f":"IF($B36=6,$AG36,0)","v":{"v":0,"d":"0.00"}},{"$f":"IF(AN35>0,IF(H36+P36+X36+AF36+AV36+BD36+BL36+BT36+CB36+CJ36=0,IF(E36>0,AN35,0),0),0)","v":0},{"$f":"G36*AN36","v":{"v":0,"d":"0.00"}},{"$f":"IF($B36=1,$AO36,0)","v":{"v":0,"d":"0.00"}},{"$f":"IF($B36=2,$AO36,0)","v":{"v":0,"d":"0.00"}},{"$f":"IF($B36=3,$AO36,0)","v":{"v":0,"d":"0.00"}},{"$f":"IF($B36=4,$AO36,0)","v":{"v":0,"d":"0.00"}},{"$f":"IF($B36=5,$AO36,0)","v":{"v":0,"d":"0.00"}},{"$f":"IF($B36=6,$AO36,0)","v":{"v":0,"d":"0.00"}},{"$f":"IF(AV35>0,IF(H36+P36+X36+AF36+AN36+BD36+BL36+BT36+CB36+CJ36=0,IF(E36>0,AV35,0),0),0)","v":0},{"$f":"G36*AV36","v":{"v":0,"d":"0.00"}},{"$f":"IF($B36=1,$AW36,0)","v":{"v":0,"d":"0.00"}},{"$f":"IF($B36=2,$AW36,0)","v":{"v":0,"d":"0.00"}},{"$f":"IF($B36=3,$AW36,0)","v":{"v":0,"d":"0.00"}},{"$f":"IF($B36=4,$AW36,0)","v":{"v":0,"d":"0.00"}},{"$f":"IF($B36=5,$AW36,0)","v":{"v":0,"d":"0.00"}},{"$f":"IF($B36=6,$AW36,0)","v":{"v":0,"d":"0.00"}},{"$f":"IF(BD35>0,IF(H36+P36+X36+AF36+AN36+AV36+BL36+BT36+CB36+CJ36=0,IF(E36>0,BD35,0),0),0)","v":0},{"$f":"G36*BD36","v":{"v":0,"d":"0.00"}},{"$f":"IF($B36=1,$BE36,0)","v":{"v":0,"d":"0.00"}},{"$f":"IF($B36=2,$BE36,0)","v":{"v":0,"d":"0.00"}},{"$f":"IF($B36=3,$BE36,0)","v":{"v":0,"d":"0.00"}},{"$f":"IF($B36=4,$BE36,0)","v":{"v":0,"d":"0.00"}},{"$f":"IF($B36=5,$BE36,0)","v":{"v":0,"d":"0.00"}},{"$f":"IF($B36=6,$BE36,0)","v":{"v":0,"d":"0.00"}},{"$f":"IF(BL35>0,IF(H36+P36+X36+AF36+AN36+AV36+BD36+BT36+CB36+CJ36=0,IF(E36>0,BL35,0),0),0)","v":0},{"$f":"G36*BL36","v":{"v":0,"d":"0.00"}},{"$f":"IF($B36=1,$BM36,0)","v":{"v":0,"d":"0.00"}},{"$f":"IF($B36=2,$BM36,0)","v":{"v":0,"d":"0.00"}},{"$f":"IF($B36=3,$BM36,0)","v":{"v":0,"d":"0.00"}},{"$f":"IF($B36=4,$BM36,0)","v":{"v":0,"d":"0.00"}},{"$f":"IF($B36=5,$BM36,0)","v":{"v":0,"d":"0.00"}},{"$f":"IF($B36=6,$BM36,0)","v":{"v":0,"d":"0.00"}},{"$f":"IF(BT35>0,IF(H36+P36+X36+AF36+AN36+AV36+BD36+BL36+CB36+CJ36=0,IF(E36>0,BT35,0),0),0)","v":0},{"$f":"G36*BT36","v":{"v":0,"d":"0.00"}},{"$f":"IF($B36=1,$BU36,0)","v":{"v":0,"d":"0.00"}},{"$f":"IF($B36=2,$BU36,0)","v":{"v":0,"d":"0.00"}},{"$f":"IF($B36=3,$BU36,0)","v":{"v":0,"d":"0.00"}},{"$f":"IF($B36=4,$BU36,0)","v":{"v":0,"d":"0.00"}},{"$f":"IF($B36=5,$BU36,0)","v":{"v":0,"d":"0.00"}},{"$f":"IF($B36=6,$BU36,0)","v":{"v":0,"d":"0.00"}},{"$f":"IF(CB35>0,IF(H36+P36+X36+AF36+AN36+AV36+BD36+BL36+BT36+CJ36=0,IF(E36>0,CB35,0),0),0)","v":0},{"$f":"G36*CB36","v":{"v":0,"d":"0.00"}},{"$f":"IF($B36=1,$CC36,0)","v":{"v":0,"d":"0.00"}},{"$f":"IF($B36=2,$CC36,0)","v":{"v":0,"d":"0.00"}},{"$f":"IF($B36=3,$CC36,0)","v":{"v":0,"d":"0.00"}},{"$f":"IF($B36=4,$CC36,0)","v":{"v":0,"d":"0.00"}},{"$f":"IF($B36=5,$CC36,0)","v":{"v":0,"d":"0.00"}},{"$f":"IF($B36=6,$CC36,0)","v":{"v":0,"d":"0.00"}},{"$f":"IF(CJ35>0,IF(H36+P36+X36+AF36+AN36+AV36+BD36+BL36+BT36+CB36=0,IF(E36>0,CJ35,0),0),0)","v":0},{"$f":"G36*CJ36","v":{"v":0,"d":"0.00"}},{"$f":"IF($B36=1,$CK36,0)","v":{"v":0,"d":"0.00"}},{"$f":"IF($B36=2,$CK36,0)","v":{"v":0,"d":"0.00"}},{"$f":"IF($B36=3,$CK36,0)","v":{"v":0,"d":"0.00"}},{"$f":"IF($B36=4,$CK36,0)","v":{"v":0,"d":"0.00"}},{"$f":"IF($B36=5,$CK36,0)","v":{"v":0,"d":"0.00"}},{"$f":"IF($B36=6,$CK36,0)","v":{"v":0,"d":"0.00"}}]
[{"$f":"IF(C36<>C37,C37,\"\")","v":""},{"$f":"IF(C36<>C37,_xlfn.DAYS(C37,C36)+B36,B36)","v":1},{"$f":"IF(D37>0,IF(D37<E36,C36+1,C36),C36)","v":"2009-03-02"},{"$f":"IF((E37+H37+P37+X37+AF37+AN37+AV37+BD37+BL37+BT37+CB37+CJ37)>0,E36,0)","v":"00:00:00"},null,{"$f":"E37-D37","v":"00:00:00"},{"$f":"IF(E37>0,HOUR(F37)+(MINUTE(F37)/60),0)","v":0},{"$f":"IF(H36>0,IF(P37+X37+AF37+AN37+AV37+BD37+BL37+BT37+CB37+CJ37=0,IF(E37>0,H36,0),0),0)","v":0},{"$f":"G37*H37","v":{"v":0,"d":"0.00"}},{"$f":"IF($B37=1,$I37,0)","v":{"v":0,"d":"0.00"}},{"$f":"IF($B37=2,$I37,0)","v":{"v":0,"d":"0.00"}},{"$f":"IF($B37=3,$I37,0)","v":{"v":0,"d":"0.00"}},{"$f":"IF($B37=4,$I37,0)","v":{"v":0,"d":"0.00"}},{"$f":"IF($B37=5,$I37,0)","v":{"v":0,"d":"0.00"}},{"$f":"IF($B37=6,$I37,0)","v":{"v":0,"d":"0.00"}},{"$f":"IF(P36>0,IF(H37+X37+AF37+AN37+AV37+BD37+BL37+BT37+CB37+CJ37=0,IF(E37>0,P36,0),0),0)","v":0},{"$f":"G37*P37","v":{"v":0,"d":"0.00"}},{"$f":"IF(B37=1,Q37,0)","v":{"v":0,"d":"0.00"}},{"$f":"IF(B37=2,Q37,0)","v":{"v":0,"d":"0.00"}},{"$f":"IF(B37=3,Q37,0)","v":{"v":0,"d":"0.00"}},{"$f":"IF(B37=4,Q37,0)","v":{"v":0,"d":"0.00"}},{"$f":"IF(B37=5,Q37,0)","v":{"v":0,"d":"0.00"}},{"$f":"IF(B37=6,Q37,0)","v":{"v":0,"d":"0.00"}},{"$f":"IF(X36>0,IF(H37+P37+AF37+AN37+AV37+BD37+BL37+BT37+CB37+CJ37=0,IF(E37>0,X36,0),0),0)","v":0},{"$f":"G37*X37","v":{"v":0,"d":"0.00"}},{"$f":"IF($B37=1,$Y37,0)","v":{"v":0,"d":"0.00"}},{"$f":"IF($B37=2,$Y37,0)","v":{"v":0,"d":"0.00"}},{"$f":"IF($B37=3,$Y37,0)","v":{"v":0,"d":"0.00"}},{"$f":"IF($B37=4,$Y37,0)","v":{"v":0,"d":"0.00"}},{"$f":"IF($B37=5,$Y37,0)","v":{"v":0,"d":"0.00"}},{"$f":"IF($B37=6,$Y37,0)","v":{"v":0,"d":"0.00"}},{"$f":"IF(AF36>0,IF(H37+P37+X37+AN37+AV37+BD37+BL37+BT37+CB37+CJ37=0,IF(E37>0,AF36,0),0),0)","v":0},{"$f":"G37*AF37","v":{"v":0,"d":"0.00"}},{"$f":"IF($B37=1,$AG37,0)","v":{"v":0,"d":"0.00"}},{"$f":"IF($B37=2,$AG37,0)","v":{"v":0,"d":"0.00"}},{"$f":"IF($B37=3,$AG37,0)","v":{"v":0,"d":"0.00"}},{"$f":"IF($B37=4,$AG37,0)","v":{"v":0,"d":"0.00"}},{"$f":"IF($B37=5,$AG37,0)","v":{"v":0,"d":"0.00"}},{"$f":"IF($B37=6,$AG37,0)","v":{"v":0,"d":"0.00"}},{"$f":"IF(AN36>0,IF(H37+P37+X37+AF37+AV37+BD37+BL37+BT37+CB37+CJ37=0,IF(E37>0,AN36,0),0),0)","v":0},{"$f":"G37*AN37","v":{"v":0,"d":"0.00"}},{"$f":"IF($B37=1,$AO37,0)","v":{"v":0,"d":"0.00"}},{"$f":"IF($B37=2,$AO37,0)","v":{"v":0,"d":"0.00"}},{"$f":"IF($B37=3,$AO37,0)","v":{"v":0,"d":"0.00"}},{"$f":"IF($B37=4,$AO37,0)","v":{"v":0,"d":"0.00"}},{"$f":"IF($B37=5,$AO37,0)","v":{"v":0,"d":"0.00"}},{"$f":"IF($B37=6,$AO37,0)","v":{"v":0,"d":"0.00"}},{"$f":"IF(AV36>0,IF(H37+P37+X37+AF37+AN37+BD37+BL37+BT37+CB37+CJ37=0,IF(E37>0,AV36,0),0),0)","v":0},{"$f":"G37*AV37","v":{"v":0,"d":"0.00"}},{"$f":"IF($B37=1,$AW37,0)","v":{"v":0,"d":"0.00"}},{"$f":"IF($B37=2,$AW37,0)","v":{"v":0,"d":"0.00"}},{"$f":"IF($B37=3,$AW37,0)","v":{"v":0,"d":"0.00"}},{"$f":"IF($B37=4,$AW37,0)","v":{"v":0,"d":"0.00"}},{"$f":"IF($B37=5,$AW37,0)","v":{"v":0,"d":"0.00"}},{"$f":"IF($B37=6,$AW37,0)","v":{"v":0,"d":"0.00"}},{"$f":"IF(BD36>0,IF(H37+P37+X37+AF37+AN37+AV37+BL37+BT37+CB37+CJ37=0,IF(E37>0,BD36,0),0),0)","v":0},{"$f":"G37*BD37","v":{"v":0,"d":"0.00"}},{"$f":"IF($B37=1,$BE37,0)","v":{"v":0,"d":"0.00"}},{"$f":"IF($B37=2,$BE37,0)","v":{"v":0,"d":"0.00"}},{"$f":"IF($B37=3,$BE37,0)","v":{"v":0,"d":"0.00"}},{"$f":"IF($B37=4,$BE37,0)","v":{"v":0,"d":"0.00"}},{"$f":"IF($B37=5,$BE37,0)","v":{"v":0,"d":"0.00"}},{"$f":"IF($B37=6,$BE37,0)","v":{"v":0,"d":"0.00"}},{"$f":"IF(BL36>0,IF(H37+P37+X37+AF37+AN37+AV37+BD37+BT37+CB37+CJ37=0,IF(E37>0,BL36,0),0),0)","v":0},{"$f":"G37*BL37","v":{"v":0,"d":"0.00"}},{"$f":"IF($B37=1,$BM37,0)","v":{"v":0,"d":"0.00"}},{"$f":"IF($B37=2,$BM37,0)","v":{"v":0,"d":"0.00"}},{"$f":"IF($B37=3,$BM37,0)","v":{"v":0,"d":"0.00"}},{"$f":"IF($B37=4,$BM37,0)","v":{"v":0,"d":"0.00"}},{"$f":"IF($B37=5,$BM37,0)","v":{"v":0,"d":"0.00"}},{"$f":"IF($B37=6,$BM37,0)","v":{"v":0,"d":"0.00"}},{"$f":"IF(BT36>0,IF(H37+P37+X37+AF37+AN37+AV37+BD37+BL37+CB37+CJ37=0,IF(E37>0,BT36,0),0),0)","v":0},{"$f":"G37*BT37","v":{"v":0,"d":"0.00"}},{"$f":"IF($B37=1,$BU37,0)","v":{"v":0,"d":"0.00"}},{"$f":"IF($B37=2,$BU37,0)","v":{"v":0,"d":"0.00"}},{"$f":"IF($B37=3,$BU37,0)","v":{"v":0,"d":"0.00"}},{"$f":"IF($B37=4,$BU37,0)","v":{"v":0,"d":"0.00"}},{"$f":"IF($B37=5,$BU37,0)","v":{"v":0,"d":"0.00"}},{"$f":"IF($B37=6,$BU37,0)","v":{"v":0,"d":"0.00"}},{"$f":"IF(CB36>0,IF(H37+P37+X37+AF37+AN37+AV37+BD37+BL37+BT37+CJ37=0,IF(E37>0,CB36,0),0),0)","v":0},{"$f":"G37*CB37","v":{"v":0,"d":"0.00"}},{"$f":"IF($B37=1,$CC37,0)","v":{"v":0,"d":"0.00"}},{"$f":"IF($B37=2,$CC37,0)","v":{"v":0,"d":"0.00"}},{"$f":"IF($B37=3,$CC37,0)","v":{"v":0,"d":"0.00"}},{"$f":"IF($B37=4,$CC37,0)","v":{"v":0,"d":"0.00"}},{"$f":"IF($B37=5,$CC37,0)","v":{"v":0,"d":"0.00"}},{"$f":"IF($B37=6,$CC37,0)","v":{"v":0,"d":"0.00"}},{"$f":"IF(CJ36>0,IF(H37+P37+X37+AF37+AN37+AV37+BD37+BL37+BT37+CB37=0,IF(E37>0,CJ36,0),0),0)","v":0},{"$f":"G37*CJ37","v":{"v":0,"d":"0.00"}},{"$f":"IF($B37=1,$CK37,0)","v":{"v":0,"d":"0.00"}},{"$f":"IF($B37=2,$CK37,0)","v":{"v":0,"d":"0.00"}},{"$f":"IF($B37=3,$CK37,0)","v":{"v":0,"d":"0.00"}},{"$f":"IF($B37=4,$CK37,0)","v":{"v":0,"d":"0.00"}},{"$f":"IF($B37=5,$CK37,0)","v":{"v":0,"d":"0.00"}},{"$f":"IF($B37=6,$CK37,0)","v":{"v":0,"d":"0.00"}}]
[{"$f":"IF(C37<>C38,C38,\"\")","v":""},{"$f":"IF(C37<>C38,_xlfn.DAYS(C38,C37)+B37,B37)","v":1},{"$f":"IF(D38>0,IF(D38<E37,C37+1,C37),C37)","v":"2009-03-02"},{"$f":"IF((E38+H38+P38+X38+AF38+AN38+AV38+BD38+BL38+BT38+CB38+CJ38)>0,E37,0)","v":"00:00:00"},null,{"$f":"E38-D38","v":"00:00:00"},{"$f":"IF(E38>0,HOUR(F38)+(MINUTE(F38)/60),0)","v":0},{"$f":"IF(H37>0,IF(P38+X38+AF38+AN38+AV38+BD38+BL38+BT38+CB38+CJ38=0,IF(E38>0,H37,0),0),0)","v":0},{"$f":"G38*H38","v":{"v":0,"d":"0.00"}},{"$f":"IF($B38=1,$I38,0)","v":{"v":0,"d":"0.00"}},{"$f":"IF($B38=2,$I38,0)","v":{"v":0,"d":"0.00"}},{"$f":"IF($B38=3,$I38,0)","v":{"v":0,"d":"0.00"}},{"$f":"IF($B38=4,$I38,0)","v":{"v":0,"d":"0.00"}},{"$f":"IF($B38=5,$I38,0)","v":{"v":0,"d":"0.00"}},{"$f":"IF($B38=6,$I38,0)","v":{"v":0,"d":"0.00"}},{"$f":"IF(P37>0,IF(H38+X38+AF38+AN38+AV38+BD38+BL38+BT38+CB38+CJ38=0,IF(E38>0,P37,0),0),0)","v":0},{"$f":"G38*P38","v":{"v":0,"d":"0.00"}},{"$f":"IF(B38=1,Q38,0)","v":{"v":0,"d":"0.00"}},{"$f":"IF(B38=2,Q38,0)","v":{"v":0,"d":"0.00"}},{"$f":"IF(B38=3,Q38,0)","v":{"v":0,"d":"0.00"}},{"$f":"IF(B38=4,Q38,0)","v":{"v":0,"d":"0.00"}},{"$f":"IF(B38=5,Q38,0)","v":{"v":0,"d":"0.00"}},{"$f":"IF(B38=6,Q38,0)","v":{"v":0,"d":"0.00"}},{"$f":"IF(X37>0,IF(H38+P38+AF38+AN38+AV38+BD38+BL38+BT38+CB38+CJ38=0,IF(E38>0,X37,0),0),0)","v":0},{"$f":"G38*X38","v":{"v":0,"d":"0.00"}},{"$f":"IF($B38=1,$Y38,0)","v":{"v":0,"d":"0.00"}},{"$f":"IF($B38=2,$Y38,0)","v":{"v":0,"d":"0.00"}},{"$f":"IF($B38=3,$Y38,0)","v":{"v":0,"d":"0.00"}},{"$f":"IF($B38=4,$Y38,0)","v":{"v":0,"d":"0.00"}},{"$f":"IF($B38=5,$Y38,0)","v":{"v":0,"d":"0.00"}},{"$f":"IF($B38=6,$Y38,0)","v":{"v":0,"d":"0.00"}},{"$f":"IF(AF37>0,IF(H38+P38+X38+AN38+AV38+BD38+BL38+BT38+CB38+CJ38=0,IF(E38>0,AF37,0),0),0)","v":0},{"$f":"G38*AF38","v":{"v":0,"d":"0.00"}},{"$f":"IF($B38=1,$AG38,0)","v":{"v":0,"d":"0.00"}},{"$f":"IF($B38=2,$AG38,0)","v":{"v":0,"d":"0.00"}},{"$f":"IF($B38=3,$AG38,0)","v":{"v":0,"d":"0.00"}},{"$f":"IF($B38=4,$AG38,0)","v":{"v":0,"d":"0.00"}},{"$f":"IF($B38=5,$AG38,0)","v":{"v":0,"d":"0.00"}},{"$f":"IF($B38=6,$AG38,0)","v":{"v":0,"d":"0.00"}},{"$f":"IF(AN37>0,IF(H38+P38+X38+AF38+AV38+BD38+BL38+BT38+CB38+CJ38=0,IF(E38>0,AN37,0),0),0)","v":0},{"$f":"G38*AN38","v":{"v":0,"d":"0.00"}},{"$f":"IF($B38=1,$AO38,0)","v":{"v":0,"d":"0.00"}},{"$f":"IF($B38=2,$AO38,0)","v":{"v":0,"d":"0.00"}},{"$f":"IF($B38=3,$AO38,0)","v":{"v":0,"d":"0.00"}},{"$f":"IF($B38=4,$AO38,0)","v":{"v":0,"d":"0.00"}},{"$f":"IF($B38=5,$AO38,0)","v":{"v":0,"d":"0.00"}},{"$f":"IF($B38=6,$AO38,0)","v":{"v":0,"d":"0.00"}},{"$f":"IF(AV37>0,IF(H38+P38+X38+AF38+AN38+BD38+BL38+BT38+CB38+CJ38=0,IF(E38>0,AV37,0),0),0)","v":0},{"$f":"G38*AV38","v":{"v":0,"d":"0.00"}},{"$f":"IF($B38=1,$AW38,0)","v":{"v":0,"d":"0.00"}},{"$f":"IF($B38=2,$AW38,0)","v":{"v":0,"d":"0.00"}},{"$f":"IF($B38=3,$AW38,0)","v":{"v":0,"d":"0.00"}},{"$f":"IF($B38=4,$AW38,0)","v":{"v":0,"d":"0.00"}},{"$f":"IF($B38=5,$AW38,0)","v":{"v":0,"d":"0.00"}},{"$f":"IF($B38=6,$AW38,0)","v":{"v":0,"d":"0.00"}},{"$f":"IF(BD37>0,IF(H38+P38+X38+AF38+AN38+AV38+BL38+BT38+CB38+CJ38=0,IF(E38>0,BD37,0),0),0)","v":0},{"$f":"G38*BD38","v":{"v":0,"d":"0.00"}},{"$f":"IF($B38=1,$BE38,0)","v":{"v":0,"d":"0.00"}},{"$f":"IF($B38=2,$BE38,0)","v":{"v":0,"d":"0.00"}},{"$f":"IF($B38=3,$BE38,0)","v":{"v":0,"d":"0.00"}},{"$f":"IF($B38=4,$BE38,0)","v":{"v":0,"d":"0.00"}},{"$f":"IF($B38=5,$BE38,0)","v":{"v":0,"d":"0.00"}},{"$f":"IF($B38=6,$BE38,0)","v":{"v":0,"d":"0.00"}},{"$f":"IF(BL37>0,IF(H38+P38+X38+AF38+AN38+AV38+BD38+BT38+CB38+CJ38=0,IF(E38>0,BL37,0),0),0)","v":0},{"$f":"G38*BL38","v":{"v":0,"d":"0.00"}},{"$f":"IF($B38=1,$BM38,0)","v":{"v":0,"d":"0.00"}},{"$f":"IF($B38=2,$BM38,0)","v":{"v":0,"d":"0.00"}},{"$f":"IF($B38=3,$BM38,0)","v":{"v":0,"d":"0.00"}},{"$f":"IF($B38=4,$BM38,0)","v":{"v":0,"d":"0.00"}},{"$f":"IF($B38=5,$BM38,0)","v":{"v":0,"d":"0.00"}},{"$f":"IF($B38=6,$BM38,0)","v":{"v":0,"d":"0.00"}},{"$f":"IF(BT37>0,IF(H38+P38+X38+AF38+AN38+AV38+BD38+BL38+CB38+CJ38=0,IF(E38>0,BT37,0),0),0)","v":0},{"$f":"G38*BT38","v":{"v":0,"d":"0.00"}},{"$f":"IF($B38=1,$BU38,0)","v":{"v":0,"d":"0.00"}},{"$f":"IF($B38=2,$BU38,0)","v":{"v":0,"d":"0.00"}},{"$f":"IF($B38=3,$BU38,0)","v":{"v":0,"d":"0.00"}},{"$f":"IF($B38=4,$BU38,0)","v":{"v":0,"d":"0.00"}},{"$f":"IF($B38=5,$BU38,0)","v":{"v":0,"d":"0.00"}},{"$f":"IF($B38=6,$BU38,0)","v":{"v":0,"d":"0.00"}},{"$f":"IF(CB37>0,IF(H38+P38+X38+AF38+AN38+AV38+BD38+BL38+BT38+CJ38=0,IF(E38>0,CB37,0),0),0)","v":0},{"$f":"G38*CB38","v":{"v":0,"d":"0.00"}},{"$f":"IF($B38=1,$CC38,0)","v":{"v":0,"d":"0.00"}},{"$f":"IF($B38=2,$CC38,0)","v":{"v":0,"d":"0.00"}},{"$f":"IF($B38=3,$CC38,0)","v":{"v":0,"d":"0.00"}},{"$f":"IF($B38=4,$CC38,0)","v":{"v":0,"d":"0.00"}},{"$f":"IF($B38=5,$CC38,0)","v":{"v":0,"d":"0.00"}},{"$f":"IF($B38=6,$CC38,0)","v":{"v":0,"d":"0.00"}},{"$f":"IF(CJ37>0,IF(H38+P38+X38+AF38+AN38+AV38+BD38+BL38+BT38+CB38=0,IF(E38>0,CJ37,0),0),0)","v":0},{"$f":"G38*CJ38","v":{"v":0,"d":"0.00"}},{"$f":"IF($B38=1,$CK38,0)","v":{"v":0,"d":"0.00"}},{"$f":"IF($B38=2,$CK38,0)","v":{"v":0,"d":"0.00"}},{"$f":"IF($B38=3,$CK38,0)","v":{"v":0,"d":"0.00"}},{"$f":"IF($B38=4,$CK38,0)","v":{"v":0,"d":"0.00"}},{"$f":"IF($B38=5,$CK38,0)","v":{"v":0,"d":"0.00"}},{"$f":"IF($B38=6,$CK38,0)","v":{"v":0,"d":"0.00"}}]
[{"$f":"IF(C38<>C39,C39,\"\")","v":""},{"$f":"IF(C38<>C39,_xlfn.DAYS(C39,C38)+B38,B38)","v":1},{"$f":"IF(D39>0,IF(D39<E38,C38+1,C38),C38)","v":"2009-03-02"},{"$f":"IF((E39+H39+P39+X39+AF39+AN39+AV39+BD39+BL39+BT39+CB39+CJ39)>0,E38,0)","v":"00:00:00"},null,{"$f":"E39-D39","v":"00:00:00"},{"$f":"IF(E39>0,HOUR(F39)+(MINUTE(F39)/60),0)","v":0},{"$f":"IF(H38>0,IF(P39+X39+AF39+AN39+AV39+BD39+BL39+BT39+CB39+CJ39=0,IF(E39>0,H38,0),0),0)","v":0},{"$f":"G39*H39","v":{"v":0,"d":"0.00"}},{"$f":"IF($B39=1,$I39,0)","v":{"v":0,"d":"0.00"}},{"$f":"IF($B39=2,$I39,0)","v":{"v":0,"d":"0.00"}},{"$f":"IF($B39=3,$I39,0)","v":{"v":0,"d":"0.00"}},{"$f":"IF($B39=4,$I39,0)","v":{"v":0,"d":"0.00"}},{"$f":"IF($B39=5,$I39,0)","v":{"v":0,"d":"0.00"}},{"$f":"IF($B39=6,$I39,0)","v":{"v":0,"d":"0.00"}},{"$f":"IF(P38>0,IF(H39+X39+AF39+AN39+AV39+BD39+BL39+BT39+CB39+CJ39=0,IF(E39>0,P38,0),0),0)","v":0},{"$f":"G39*P39","v":{"v":0,"d":"0.00"}},{"$f":"IF(B39=1,Q39,0)","v":{"v":0,"d":"0.00"}},{"$f":"IF(B39=2,Q39,0)","v":{"v":0,"d":"0.00"}},{"$f":"IF(B39=3,Q39,0)","v":{"v":0,"d":"0.00"}},{"$f":"IF(B39=4,Q39,0)","v":{"v":0,"d":"0.00"}},{"$f":"IF(B39=5,Q39,0)","v":{"v":0,"d":"0.00"}},{"$f":"IF(B39=6,Q39,0)","v":{"v":0,"d":"0.00"}},{"$f":"IF(X38>0,IF(H39+P39+AF39+AN39+AV39+BD39+BL39+BT39+CB39+CJ39=0,IF(E39>0,X38,0),0),0)","v":0},{"$f":"G39*X39","v":{"v":0,"d":"0.00"}},{"$f":"IF($B39=1,$Y39,0)","v":{"v":0,"d":"0.00"}},{"$f":"IF($B39=2,$Y39,0)","v":{"v":0,"d":"0.00"}},{"$f":"IF($B39=3,$Y39,0)","v":{"v":0,"d":"0.00"}},{"$f":"IF($B39=4,$Y39,0)","v":{"v":0,"d":"0.00"}},{"$f":"IF($B39=5,$Y39,0)","v":{"v":0,"d":"0.00"}},{"$f":"IF($B39=6,$Y39,0)","v":{"v":0,"d":"0.00"}},{"$f":"IF(AF38>0,IF(H39+P39+X39+AN39+AV39+BD39+BL39+BT39+CB39+CJ39=0,IF(E39>0,AF38,0),0),0)","v":0},{"$f":"G39*AF39","v":{"v":0,"d":"0.00"}},{"$f":"IF($B39=1,$AG39,0)","v":{"v":0,"d":"0.00"}},{"$f":"IF($B39=2,$AG39,0)","v":{"v":0,"d":"0.00"}},{"$f":"IF($B39=3,$AG39,0)","v":{"v":0,"d":"0.00"}},{"$f":"IF($B39=4,$AG39,0)","v":{"v":0,"d":"0.00"}},{"$f":"IF($B39=5,$AG39,0)","v":{"v":0,"d":"0.00"}},{"$f":"IF($B39=6,$AG39,0)","v":{"v":0,"d":"0.00"}},{"$f":"IF(AN38>0,IF(H39+P39+X39+AF39+AV39+BD39+BL39+BT39+CB39+CJ39=0,IF(E39>0,AN38,0),0),0)","v":0},{"$f":"G39*AN39","v":{"v":0,"d":"0.00"}},{"$f":"IF($B39=1,$AO39,0)","v":{"v":0,"d":"0.00"}},{"$f":"IF($B39=2,$AO39,0)","v":{"v":0,"d":"0.00"}},{"$f":"IF($B39=3,$AO39,0)","v":{"v":0,"d":"0.00"}},{"$f":"IF($B39=4,$AO39,0)","v":{"v":0,"d":"0.00"}},{"$f":"IF($B39=5,$AO39,0)","v":{"v":0,"d":"0.00"}},{"$f":"IF($B39=6,$AO39,0)","v":{"v":0,"d":"0.00"}},{"$f":"IF(AV38>0,IF(H39+P39+X39+AF39+AN39+BD39+BL39+BT39+CB39+CJ39=0,IF(E39>0,AV38,0),0),0)","v":0},{"$f":"G39*AV39","v":{"v":0,"d":"0.00"}},{"$f":"IF($B39=1,$AW39,0)","v":{"v":0,"d":"0.00"}},{"$f":"IF($B39=2,$AW39,0)","v":{"v":0,"d":"0.00"}},{"$f":"IF($B39=3,$AW39,0)","v":{"v":0,"d":"0.00"}},{"$f":"IF($B39=4,$AW39,0)","v":{"v":0,"d":"0.00"}},{"$f":"IF($B39=5,$AW39,0)","v":{"v":0,"d":"0.00"}},{"$f":"IF($B39=6,$AW39,0)","v":{"v":0,"d":"0.00"}},{"$f":"IF(BD38>0,IF(H39+P39+X39+AF39+AN39+AV39+BL39+BT39+CB39+CJ39=0,IF(E39>0,BD38,0),0),0)","v":0},{"$f":"G39*BD39","v":{"v":0,"d":"0.00"}},{"$f":"IF($B39=1,$BE39,0)","v":{"v":0,"d":"0.00"}},{"$f":"IF($B39=2,$BE39,0)","v":{"v":0,"d":"0.00"}},{"$f":"IF($B39=3,$BE39,0)","v":{"v":0,"d":"0.00"}},{"$f":"IF($B39=4,$BE39,0)","v":{"v":0,"d":"0.00"}},{"$f":"IF($B39=5,$BE39,0)","v":{"v":0,"d":"0.00"}},{"$f":"IF($B39=6,$BE39,0)","v":{"v":0,"d":"0.00"}},{"$f":"IF(BL38>0,IF(H39+P39+X39+AF39+AN39+AV39+BD39+BT39+CB39+CJ39=0,IF(E39>0,BL38,0),0),0)","v":0},{"$f":"G39*BL39","v":{"v":0,"d":"0.00"}},{"$f":"IF($B39=1,$BM39,0)","v":{"v":0,"d":"0.00"}},{"$f":"IF($B39=2,$BM39,0)","v":{"v":0,"d":"0.00"}},{"$f":"IF($B39=3,$BM39,0)","v":{"v":0,"d":"0.00"}},{"$f":"IF($B39=4,$BM39,0)","v":{"v":0,"d":"0.00"}},{"$f":"IF($B39=5,$BM39,0)","v":{"v":0,"d":"0.00"}},{"$f":"IF($B39=6,$BM39,0)","v":{"v":0,"d":"0.00"}},{"$f":"IF(BT38>0,IF(H39+P39+X39+AF39+AN39+AV39+BD39+BL39+CB39+CJ39=0,IF(E39>0,BT38,0),0),0)","v":0},{"$f":"G39*BT39","v":{"v":0,"d":"0.00"}},{"$f":"IF($B39=1,$BU39,0)","v":{"v":0,"d":"0.00"}},{"$f":"IF($B39=2,$BU39,0)","v":{"v":0,"d":"0.00"}},{"$f":"IF($B39=3,$BU39,0)","v":{"v":0,"d":"0.00"}},{"$f":"IF($B39=4,$BU39,0)","v":{"v":0,"d":"0.00"}},{"$f":"IF($B39=5,$BU39,0)","v":{"v":0,"d":"0.00"}},{"$f":"IF($B39=6,$BU39,0)","v":{"v":0,"d":"0.00"}},{"$f":"IF(CB38>0,IF(H39+P39+X39+AF39+AN39+AV39+BD39+BL39+BT39+CJ39=0,IF(E39>0,CB38,0),0),0)","v":0},{"$f":"G39*CB39","v":{"v":0,"d":"0.00"}},{"$f":"IF($B39=1,$CC39,0)","v":{"v":0,"d":"0.00"}},{"$f":"IF($B39=2,$CC39,0)","v":{"v":0,"d":"0.00"}},{"$f":"IF($B39=3,$CC39,0)","v":{"v":0,"d":"0.00"}},{"$f":"IF($B39=4,$CC39,0)","v":{"v":0,"d":"0.00"}},{"$f":"IF($B39=5,$CC39,0)","v":{"v":0,"d":"0.00"}},{"$f":"IF($B39=6,$CC39,0)","v":{"v":0,"d":"0.00"}},{"$f":"IF(CJ38>0,IF(H39+P39+X39+AF39+AN39+AV39+BD39+BL39+BT39+CB39=0,IF(E39>0,CJ38,0),0),0)","v":0},{"$f":"G39*CJ39","v":{"v":0,"d":"0.00"}},{"$f":"IF($B39=1,$CK39,0)","v":{"v":0,"d":"0.00"}},{"$f":"IF($B39=2,$CK39,0)","v":{"v":0,"d":"0.00"}},{"$f":"IF($B39=3,$CK39,0)","v":{"v":0,"d":"0.00"}},{"$f":"IF($B39=4,$CK39,0)","v":{"v":0,"d":"0.00"}},{"$f":"IF($B39=5,$CK39,0)","v":{"v":0,"d":"0.00"}},{"$f":"IF($B39=6,$CK39,0)","v":{"v":0,"d":"0.00"}}]
[{"$f":"IF(C39<>C40,C40,\"\")","v":""},{"$f":"IF(C39<>C40,_xlfn.DAYS(C40,C39)+B39,B39)","v":1},{"$f":"IF(D40>0,IF(D40<E39,C39+1,C39),C39)","v":"2009-03-02"},{"$f":"IF((E40+H40+P40+X40+AF40+AN40+AV40+BD40+BL40+BT40+CB40+CJ40)>0,E39,0)","v":"00:00:00"},null,{"$f":"E40-D40","v":"00:00:00"},{"$f":"IF(E40>0,HOUR(F40)+(MINUTE(F40)/60),0)","v":0},{"$f":"IF(H39>0,IF(P40+X40+AF40+AN40+AV40+BD40+BL40+BT40+CB40+CJ40=0,IF(E40>0,H39,0),0),0)","v":0},{"$f":"G40*H40","v":{"v":0,"d":"0.00"}},{"$f":"IF($B40=1,$I40,0)","v":{"v":0,"d":"0.00"}},{"$f":"IF($B40=2,$I40,0)","v":{"v":0,"d":"0.00"}},{"$f":"IF($B40=3,$I40,0)","v":{"v":0,"d":"0.00"}},{"$f":"IF($B40=4,$I40,0)","v":{"v":0,"d":"0.00"}},{"$f":"IF($B40=5,$I40,0)","v":{"v":0,"d":"0.00"}},{"$f":"IF($B40=6,$I40,0)","v":{"v":0,"d":"0.00"}},{"$f":"IF(P39>0,IF(H40+X40+AF40+AN40+AV40+BD40+BL40+BT40+CB40+CJ40=0,IF(E40>0,P39,0),0),0)","v":0},{"$f":"G40*P40","v":{"v":0,"d":"0.00"}},{"$f":"IF(B40=1,Q40,0)","v":{"v":0,"d":"0.00"}},{"$f":"IF(B40=2,Q40,0)","v":{"v":0,"d":"0.00"}},{"$f":"IF(B40=3,Q40,0)","v":{"v":0,"d":"0.00"}},{"$f":"IF(B40=4,Q40,0)","v":{"v":0,"d":"0.00"}},{"$f":"IF(B40=5,Q40,0)","v":{"v":0,"d":"0.00"}},{"$f":"IF(B40=6,Q40,0)","v":{"v":0,"d":"0.00"}},{"$f":"IF(X39>0,IF(H40+P40+AF40+AN40+AV40+BD40+BL40+BT40+CB40+CJ40=0,IF(E40>0,X39,0),0),0)","v":0},{"$f":"G40*X40","v":{"v":0,"d":"0.00"}},{"$f":"IF($B40=1,$Y40,0)","v":{"v":0,"d":"0.00"}},{"$f":"IF($B40=2,$Y40,0)","v":{"v":0,"d":"0.00"}},{"$f":"IF($B40=3,$Y40,0)","v":{"v":0,"d":"0.00"}},{"$f":"IF($B40=4,$Y40,0)","v":{"v":0,"d":"0.00"}},{"$f":"IF($B40=5,$Y40,0)","v":{"v":0,"d":"0.00"}},{"$f":"IF($B40=6,$Y40,0)","v":{"v":0,"d":"0.00"}},{"$f":"IF(AF39>0,IF(H40+P40+X40+AN40+AV40+BD40+BL40+BT40+CB40+CJ40=0,IF(E40>0,AF39,0),0),0)","v":0},{"$f":"G40*AF40","v":{"v":0,"d":"0.00"}},{"$f":"IF($B40=1,$AG40,0)","v":{"v":0,"d":"0.00"}},{"$f":"IF($B40=2,$AG40,0)","v":{"v":0,"d":"0.00"}},{"$f":"IF($B40=3,$AG40,0)","v":{"v":0,"d":"0.00"}},{"$f":"IF($B40=4,$AG40,0)","v":{"v":0,"d":"0.00"}},{"$f":"IF($B40=5,$AG40,0)","v":{"v":0,"d":"0.00"}},{"$f":"IF($B40=6,$AG40,0)","v":{"v":0,"d":"0.00"}},{"$f":"IF(AN39>0,IF(H40+P40+X40+AF40+AV40+BD40+BL40+BT40+CB40+CJ40=0,IF(E40>0,AN39,0),0),0)","v":0},{"$f":"G40*AN40","v":{"v":0,"d":"0.00"}},{"$f":"IF($B40=1,$AO40,0)","v":{"v":0,"d":"0.00"}},{"$f":"IF($B40=2,$AO40,0)","v":{"v":0,"d":"0.00"}},{"$f":"IF($B40=3,$AO40,0)","v":{"v":0,"d":"0.00"}},{"$f":"IF($B40=4,$AO40,0)","v":{"v":0,"d":"0.00"}},{"$f":"IF($B40=5,$AO40,0)","v":{"v":0,"d":"0.00"}},{"$f":"IF($B40=6,$AO40,0)","v":{"v":0,"d":"0.00"}},{"$f":"IF(AV39>0,IF(H40+P40+X40+AF40+AN40+BD40+BL40+BT40+CB40+CJ40=0,IF(E40>0,AV39,0),0),0)","v":0},{"$f":"G40*AV40","v":{"v":0,"d":"0.00"}},{"$f":"IF($B40=1,$AW40,0)","v":{"v":0,"d":"0.00"}},{"$f":"IF($B40=2,$AW40,0)","v":{"v":0,"d":"0.00"}},{"$f":"IF($B40=3,$AW40,0)","v":{"v":0,"d":"0.00"}},{"$f":"IF($B40=4,$AW40,0)","v":{"v":0,"d":"0.00"}},{"$f":"IF($B40=5,$AW40,0)","v":{"v":0,"d":"0.00"}},{"$f":"IF($B40=6,$AW40,0)","v":{"v":0,"d":"0.00"}},{"$f":"IF(BD39>0,IF(H40+P40+X40+AF40+AN40+AV40+BL40+BT40+CB40+CJ40=0,IF(E40>0,BD39,0),0),0)","v":0},{"$f":"G40*BD40","v":{"v":0,"d":"0.00"}},{"$f":"IF($B40=1,$BE40,0)","v":{"v":0,"d":"0.00"}},{"$f":"IF($B40=2,$BE40,0)","v":{"v":0,"d":"0.00"}},{"$f":"IF($B40=3,$BE40,0)","v":{"v":0,"d":"0.00"}},{"$f":"IF($B40=4,$BE40,0)","v":{"v":0,"d":"0.00"}},{"$f":"IF($B40=5,$BE40,0)","v":{"v":0,"d":"0.00"}},{"$f":"IF($B40=6,$BE40,0)","v":{"v":0,"d":"0.00"}},{"$f":"IF(BL39>0,IF(H40+P40+X40+AF40+AN40+AV40+BD40+BT40+CB40+CJ40=0,IF(E40>0,BL39,0),0),0)","v":0},{"$f":"G40*BL40","v":{"v":0,"d":"0.00"}},{"$f":"IF($B40=1,$BM40,0)","v":{"v":0,"d":"0.00"}},{"$f":"IF($B40=2,$BM40,0)","v":{"v":0,"d":"0.00"}},{"$f":"IF($B40=3,$BM40,0)","v":{"v":0,"d":"0.00"}},{"$f":"IF($B40=4,$BM40,0)","v":{"v":0,"d":"0.00"}},{"$f":"IF($B40=5,$BM40,0)","v":{"v":0,"d":"0.00"}},{"$f":"IF($B40=6,$BM40,0)","v":{"v":0,"d":"0.00"}},{"$f":"IF(BT39>0,IF(H40+P40+X40+AF40+AN40+AV40+BD40+BL40+CB40+CJ40=0,IF(E40>0,BT39,0),0),0)","v":0},{"$f":"G40*BT40","v":{"v":0,"d":"0.00"}},{"$f":"IF($B40=1,$BU40,0)","v":{"v":0,"d":"0.00"}},{"$f":"IF($B40=2,$BU40,0)","v":{"v":0,"d":"0.00"}},{"$f":"IF($B40=3,$BU40,0)","v":{"v":0,"d":"0.00"}},{"$f":"IF($B40=4,$BU40,0)","v":{"v":0,"d":"0.00"}},{"$f":"IF($B40=5,$BU40,0)","v":{"v":0,"d":"0.00"}},{"$f":"IF($B40=6,$BU40,0)","v":{"v":0,"d":"0.00"}},{"$f":"IF(CB39>0,IF(H40+P40+X40+AF40+AN40+AV40+BD40+BL40+BT40+CJ40=0,IF(E40>0,CB39,0),0),0)","v":0},{"$f":"G40*CB40","v":{"v":0,"d":"0.00"}},{"$f":"IF($B40=1,$CC40,0)","v":{"v":0,"d":"0.00"}},{"$f":"IF($B40=2,$CC40,0)","v":{"v":0,"d":"0.00"}},{"$f":"IF($B40=3,$CC40,0)","v":{"v":0,"d":"0.00"}},{"$f":"IF($B40=4,$CC40,0)","v":{"v":0,"d":"0.00"}},{"$f":"IF($B40=5,$CC40,0)","v":{"v":0,"d":"0.00"}},{"$f":"IF($B40=6,$CC40,0)","v":{"v":0,"d":"0.00"}},{"$f":"IF(CJ39>0,IF(H40+P40+X40+AF40+AN40+AV40+BD40+BL40+BT40+CB40=0,IF(E40>0,CJ39,0),0),0)","v":0},{"$f":"G40*CJ40","v":{"v":0,"d":"0.00"}},{"$f":"IF($B40=1,$CK40,0)","v":{"v":0,"d":"0.00"}},{"$f":"IF($B40=2,$CK40,0)","v":{"v":0,"d":"0.00"}},{"$f":"IF($B40=3,$CK40,0)","v":{"v":0,"d":"0.00"}},{"$f":"IF($B40=4,$CK40,0)","v":{"v":0,"d":"0.00"}},{"$f":"IF($B40=5,$CK40,0)","v":{"v":0,"d":"0.00"}},{"$f":"IF($B40=6,$CK40,0)","v":{"v":0,"d":"0.00"}}]
[{"$f":"IF(C40<>C41,C41,\"\")","v":""},{"$f":"IF(C40<>C41,_xlfn.DAYS(C41,C40)+B40,B40)","v":1},{"$f":"IF(D41>0,IF(D41<E40,C40+1,C40),C40)","v":"2009-03-02"},{"$f":"IF((E41+H41+P41+X41+AF41+AN41+AV41+BD41+BL41+BT41+CB41+CJ41)>0,E40,0)","v":"00:00:00"},null,{"$f":"E41-D41","v":"00:00:00"},{"$f":"IF(E41>0,HOUR(F41)+(MINUTE(F41)/60),0)","v":0},{"$f":"IF(H40>0,IF(P41+X41+AF41+AN41+AV41+BD41+BL41+BT41+CB41+CJ41=0,IF(E41>0,H40,0),0),0)","v":0},{"$f":"G41*H41","v":{"v":0,"d":"0.00"}},{"$f":"IF($B41=1,$I41,0)","v":{"v":0,"d":"0.00"}},{"$f":"IF($B41=2,$I41,0)","v":{"v":0,"d":"0.00"}},{"$f":"IF($B41=3,$I41,0)","v":{"v":0,"d":"0.00"}},{"$f":"IF($B41=4,$I41,0)","v":{"v":0,"d":"0.00"}},{"$f":"IF($B41=5,$I41,0)","v":{"v":0,"d":"0.00"}},{"$f":"IF($B41=6,$I41,0)","v":{"v":0,"d":"0.00"}},{"$f":"IF(P40>0,IF(H41+X41+AF41+AN41+AV41+BD41+BL41+BT41+CB41+CJ41=0,IF(E41>0,P40,0),0),0)","v":0},{"$f":"G41*P41","v":{"v":0,"d":"0.00"}},{"$f":"IF(B41=1,Q41,0)","v":{"v":0,"d":"0.00"}},{"$f":"IF(B41=2,Q41,0)","v":{"v":0,"d":"0.00"}},{"$f":"IF(B41=3,Q41,0)","v":{"v":0,"d":"0.00"}},{"$f":"IF(B41=4,Q41,0)","v":{"v":0,"d":"0.00"}},{"$f":"IF(B41=5,Q41,0)","v":{"v":0,"d":"0.00"}},{"$f":"IF(B41=6,Q41,0)","v":{"v":0,"d":"0.00"}},{"$f":"IF(X40>0,IF(H41+P41+AF41+AN41+AV41+BD41+BL41+BT41+CB41+CJ41=0,IF(E41>0,X40,0),0),0)","v":0},{"$f":"G41*X41","v":{"v":0,"d":"0.00"}},{"$f":"IF($B41=1,$Y41,0)","v":{"v":0,"d":"0.00"}},{"$f":"IF($B41=2,$Y41,0)","v":{"v":0,"d":"0.00"}},{"$f":"IF($B41=3,$Y41,0)","v":{"v":0,"d":"0.00"}},{"$f":"IF($B41=4,$Y41,0)","v":{"v":0,"d":"0.00"}},{"$f":"IF($B41=5,$Y41,0)","v":{"v":0,"d":"0.00"}},{"$f":"IF($B41=6,$Y41,0)","v":{"v":0,"d":"0.00"}},{"$f":"IF(AF40>0,IF(H41+P41+X41+AN41+AV41+BD41+BL41+BT41+CB41+CJ41=0,IF(E41>0,AF40,0),0),0)","v":0},{"$f":"G41*AF41","v":{"v":0,"d":"0.00"}},{"$f":"IF($B41=1,$AG41,0)","v":{"v":0,"d":"0.00"}},{"$f":"IF($B41=2,$AG41,0)","v":{"v":0,"d":"0.00"}},{"$f":"IF($B41=3,$AG41,0)","v":{"v":0,"d":"0.00"}},{"$f":"IF($B41=4,$AG41,0)","v":{"v":0,"d":"0.00"}},{"$f":"IF($B41=5,$AG41,0)","v":{"v":0,"d":"0.00"}},{"$f":"IF($B41=6,$AG41,0)","v":{"v":0,"d":"0.00"}},{"$f":"IF(AN40>0,IF(H41+P41+X41+AF41+AV41+BD41+BL41+BT41+CB41+CJ41=0,IF(E41>0,AN40,0),0),0)","v":0},{"$f":"G41*AN41","v":{"v":0,"d":"0.00"}},{"$f":"IF($B41=1,$AO41,0)","v":{"v":0,"d":"0.00"}},{"$f":"IF($B41=2,$AO41,0)","v":{"v":0,"d":"0.00"}},{"$f":"IF($B41=3,$AO41,0)","v":{"v":0,"d":"0.00"}},{"$f":"IF($B41=4,$AO41,0)","v":{"v":0,"d":"0.00"}},{"$f":"IF($B41=5,$AO41,0)","v":{"v":0,"d":"0.00"}},{"$f":"IF($B41=6,$AO41,0)","v":{"v":0,"d":"0.00"}},{"$f":"IF(AV40>0,IF(H41+P41+X41+AF41+AN41+BD41+BL41+BT41+CB41+CJ41=0,IF(E41>0,AV40,0),0),0)","v":0},{"$f":"G41*AV41","v":{"v":0,"d":"0.00"}},{"$f":"IF($B41=1,$AW41,0)","v":{"v":0,"d":"0.00"}},{"$f":"IF($B41=2,$AW41,0)","v":{"v":0,"d":"0.00"}},{"$f":"IF($B41=3,$AW41,0)","v":{"v":0,"d":"0.00"}},{"$f":"IF($B41=4,$AW41,0)","v":{"v":0,"d":"0.00"}},{"$f":"IF($B41=5,$AW41,0)","v":{"v":0,"d":"0.00"}},{"$f":"IF($B41=6,$AW41,0)","v":{"v":0,"d":"0.00"}},{"$f":"IF(BD40>0,IF(H41+P41+X41+AF41+AN41+AV41+BL41+BT41+CB41+CJ41=0,IF(E41>0,BD40,0),0),0)","v":0},{"$f":"G41*BD41","v":{"v":0,"d":"0.00"}},{"$f":"IF($B41=1,$BE41,0)","v":{"v":0,"d":"0.00"}},{"$f":"IF($B41=2,$BE41,0)","v":{"v":0,"d":"0.00"}},{"$f":"IF($B41=3,$BE41,0)","v":{"v":0,"d":"0.00"}},{"$f":"IF($B41=4,$BE41,0)","v":{"v":0,"d":"0.00"}},{"$f":"IF($B41=5,$BE41,0)","v":{"v":0,"d":"0.00"}},{"$f":"IF($B41=6,$BE41,0)","v":{"v":0,"d":"0.00"}},{"$f":"IF(BL40>0,IF(H41+P41+X41+AF41+AN41+AV41+BD41+BT41+CB41+CJ41=0,IF(E41>0,BL40,0),0),0)","v":0},{"$f":"G41*BL41","v":{"v":0,"d":"0.00"}},{"$f":"IF($B41=1,$BM41,0)","v":{"v":0,"d":"0.00"}},{"$f":"IF($B41=2,$BM41,0)","v":{"v":0,"d":"0.00"}},{"$f":"IF($B41=3,$BM41,0)","v":{"v":0,"d":"0.00"}},{"$f":"IF($B41=4,$BM41,0)","v":{"v":0,"d":"0.00"}},{"$f":"IF($B41=5,$BM41,0)","v":{"v":0,"d":"0.00"}},{"$f":"IF($B41=6,$BM41,0)","v":{"v":0,"d":"0.00"}},{"$f":"IF(BT40>0,IF(H41+P41+X41+AF41+AN41+AV41+BD41+BL41+CB41+CJ41=0,IF(E41>0,BT40,0),0),0)","v":0},{"$f":"G41*BT41","v":{"v":0,"d":"0.00"}},{"$f":"IF($B41=1,$BU41,0)","v":{"v":0,"d":"0.00"}},{"$f":"IF($B41=2,$BU41,0)","v":{"v":0,"d":"0.00"}},{"$f":"IF($B41=3,$BU41,0)","v":{"v":0,"d":"0.00"}},{"$f":"IF($B41=4,$BU41,0)","v":{"v":0,"d":"0.00"}},{"$f":"IF($B41=5,$BU41,0)","v":{"v":0,"d":"0.00"}},{"$f":"IF($B41=6,$BU41,0)","v":{"v":0,"d":"0.00"}},{"$f":"IF(CB40>0,IF(H41+P41+X41+AF41+AN41+AV41+BD41+BL41+BT41+CJ41=0,IF(E41>0,CB40,0),0),0)","v":0},{"$f":"G41*CB41","v":{"v":0,"d":"0.00"}},{"$f":"IF($B41=1,$CC41,0)","v":{"v":0,"d":"0.00"}},{"$f":"IF($B41=2,$CC41,0)","v":{"v":0,"d":"0.00"}},{"$f":"IF($B41=3,$CC41,0)","v":{"v":0,"d":"0.00"}},{"$f":"IF($B41=4,$CC41,0)","v":{"v":0,"d":"0.00"}},{"$f":"IF($B41=5,$CC41,0)","v":{"v":0,"d":"0.00"}},{"$f":"IF($B41=6,$CC41,0)","v":{"v":0,"d":"0.00"}},{"$f":"IF(CJ40>0,IF(H41+P41+X41+AF41+AN41+AV41+BD41+BL41+BT41+CB41=0,IF(E41>0,CJ40,0),0),0)","v":0},{"$f":"G41*CJ41","v":{"v":0,"d":"0.00"}},{"$f":"IF($B41=1,$CK41,0)","v":{"v":0,"d":"0.00"}},{"$f":"IF($B41=2,$CK41,0)","v":{"v":0,"d":"0.00"}},{"$f":"IF($B41=3,$CK41,0)","v":{"v":0,"d":"0.00"}},{"$f":"IF($B41=4,$CK41,0)","v":{"v":0,"d":"0.00"}},{"$f":"IF($B41=5,$CK41,0)","v":{"v":0,"d":"0.00"}},{"$f":"IF($B41=6,$CK41,0)","v":{"v":0,"d":"0.00"}}]
["Totals",{"$nulls":5},{"$f":"SUM(G5:G41)","v":0},{"$f":"SUM(I5:I41)","v":{"v":0,"d":"0.00"}},null,{"$f":"SUM(J5:J41)","v":{"v":0,"d":"0.00"}},{"$f":"SUM(K5:K41)","v":{"v":0,"d":"0.00"}},{"$f":"SUM(L5:L41)","v":{"v":0,"d":"0.00"}},{"$f":"SUM(M5:M41)","v":{"v":0,"d":"0.00"}},{"$f":"SUM(N5:N41)","v":{"v":0,"d":"0.00"}},{"$f":"SUM(O5:O41)","v":{"v":0,"d":"0.00"}},{"$f":"SUM(Q5:Q41)","v":{"v":0,"d":"0.00"}},null,{"$f":"SUM(R5:R41)","v":{"v":0,"d":"0.00"}},{"$f":"SUM(S5:S41)","v":{"v":0,"d":"0.00"}},{"$f":"SUM(T5:T41)","v":{"v":0,"d":"0.00"}},{"$f":"SUM(U5:U41)","v":{"v":0,"d":"0.00"}},{"$f":"SUM(V5:V41)","v":{"v":0,"d":"0.00"}},{"$f":"SUM(W5:W41)","v":{"v":0,"d":"0.00"}},{"$f":"SUM(Y5:Y41)","v":{"v":0,"d":"0.00"}},null,{"$f":"SUM(Z5:Z41)","v":{"v":0,"d":"0.00"}},{"$f":"SUM(AA5:AA41)","v":{"v":0,"d":"0.00"}},{"$f":"SUM(AB5:AB41)","v":{"v":0,"d":"0.00"}},{"$f":"SUM(AC5:AC41)","v":{"v":0,"d":"0.00"}},{"$f":"SUM(AD5:AD41)","v":{"v":0,"d":"0.00"}},{"$f":"SUM(AE5:AE41)","v":{"v":0,"d":"0.00"}},{"$f":"SUM(AG5:AG41)","v":{"v":0,"d":"0.00"}},null,{"$f":"SUM(AH5:AH41)","v":{"v":0,"d":"0.00"}},{"$f":"SUM(AI5:AI41)","v":{"v":0,"d":"0.00"}},{"$f":"SUM(AJ5:AJ41)","v":{"v":0,"d":"0.00"}},{"$f":"SUM(AK5:AK41)","v":{"v":0,"d":"0.00"}},{"$f":"SUM(AL5:AL41)","v":{"v":0,"d":"0.00"}},{"$f":"SUM(AM5:AM41)","v":{"v":0,"d":"0.00"}},{"$f":"SUM(AO5:AO41)","v":{"v":0,"d":"0.00"}},null,{"$f":"SUM(AP5:AP41)","v":{"v":0,"d":"0.00"}},{"$f":"SUM(AQ5:AQ41)","v":{"v":0,"d":"0.00"}},{"$f":"SUM(AR5:AR41)","v":{"v":0,"d":"0.00"}},{"$f":"SUM(AS5:AS41)","v":{"v":0,"d":"0.00"}},{"$f":"SUM(AT5:AT41)","v":{"v":0,"d":"0.00"}},{"$f":"SUM(AU5:AU41)","v":{"v":0,"d":"0.00"}},{"$f":"SUM(AW5:AW41)","v":{"v":0,"d":"0.00"}},null,{"$f":"SUM(AX5:AX41)","v":{"v":0,"d":"0.00"}},{"$f":"SUM(AY5:AY41)","v":{"v":0,"d":"0.00"}},{"$f":"SUM(AZ5:AZ41)","v":{"v":0,"d":"0.00"}},{"$f":"SUM(BA5:BA41)","v":{"v":0,"d":"0.00"}},{"$f":"SUM(BB5:BB41)","v":{"v":0,"d":"0.00"}},{"$f":"SUM(BC5:BC41)","v":{"v":0,"d":"0.00"}},{"$f":"SUM(BE5:BE41)","v":{"v":0,"d":"0.00"}},null,{"$f":"SUM(BF5:BF41)","v":{"v":0,"d":"0.00"}},{"$f":"SUM(BG5:BG41)","v":{"v":0,"d":"0.00"}},{"$f":"SUM(BH5:BH41)","v":{"v":0,"d":"0.00"}},{"$f":"SUM(BI5:BI41)","v":{"v":0,"d":"0.00"}},{"$f":"SUM(BJ5:BJ41)","v":{"v":0,"d":"0.00"}},{"$f":"SUM(BK5:BK41)","v":{"v":0,"d":"0.00"}},{"$f":"SUM(BM5:BM41)","v":{"v":0,"d":"0.00"}},null,{"$f":"SUM(BN5:BN41)","v":{"v":0,"d":"0.00"}},{"$f":"SUM(BO5:BO41)","v":{"v":0,"d":"0.00"}},{"$f":"SUM(BP5:BP41)","v":{"v":0,"d":"0.00"}},{"$f":"SUM(BQ5:BQ41)","v":{"v":0,"d":"0.00"}},{"$f":"SUM(BR5:BR41)","v":{"v":0,"d":"0.00"}},{"$f":"SUM(BS5:BS41)","v":{"v":0,"d":"0.00"}},{"$f":"SUM(BU5:BU41)","v":{"v":0,"d":"0.00"}},null,{"$f":"SUM(BV5:BV41)","v":{"v":0,"d":"0.00"}},{"$f":"SUM(BW5:BW41)","v":{"v":0,"d":"0.00"}},{"$f":"SUM(BX5:BX41)","v":{"v":0,"d":"0.00"}},{"$f":"SUM(BY5:BY41)","v":{"v":0,"d":"0.00"}},{"$f":"SUM(BZ5:BZ41)","v":{"v":0,"d":"0.00"}},{"$f":"SUM(CA5:CA41)","v":{"v":0,"d":"0.00"}},{"$f":"SUM(CC5:CC41)","v":{"v":0,"d":"0.00"}},null,{"$f":"SUM(CD5:CD41)","v":{"v":0,"d":"0.00"}},{"$f":"SUM(CE5:CE41)","v":{"v":0,"d":"0.00"}},{"$f":"SUM(CF5:CF41)","v":{"v":0,"d":"0.00"}},{"$f":"SUM(CG5:CG41)","v":{"v":0,"d":"0.00"}},{"$f":"SUM(CH5:CH41)","v":{"v":0,"d":"0.00"}},{"$f":"SUM(CI5:CI41)","v":{"v":0,"d":"0.00"}},{"$f":"SUM(CK5:CK41)","v":{"v":0,"d":"0.00"}},null,{"$f":"SUM(CL5:CL41)","v":0},{"$f":"SUM(CM5:CM41)","v":0},{"$f":"SUM(CN5:CN41)","v":0},{"$f":"SUM(CO5:CO41)","v":0},{"$f":"SUM(CP5:CP41)","v":0},{"$f":"SUM(CQ5:CQ41)","v":0}]
[{"$nulls":23},{"$f":"A5","v":"2009-03-02"},{"$nulls":7},{"$f":"X43+1","v":"2009-03-03"},{"$nulls":7},{"$f":"AF43+1","v":"2009-03-04"},{"$nulls":7},{"$f":"AN43+1","v":"2009-03-05"},{"$nulls":7},{"$f":"AV43+1","v":"2009-03-06"}]
[{"$f":"'Week 4'!$A44","v":"T1"},null,null,{"$f":"'Week 4'!$D44","v":"Task 1"},{"$nulls":19},{"$f":"J42","v":0},{"$nulls":7},{"$f":"K42","v":0},{"$nulls":7},{"$f":"L42","v":0},{"$nulls":7},{"$f":"M42","v":0},{"$nulls":7},{"$f":"N42","v":0},{"$nulls":7},{"$f":"O42","v":0},{"$nulls":15},{"$f":"H42","v":0}]
[{"$f":"'Week 4'!$A45","v":2},null,null,{"$f":"'Week 4'!$D45","v":"2"},{"$nulls":19},{"$f":"R42","v":0},{"$nulls":7},{"$f":"S42","v":0},{"$nulls":7},{"$f":"T42","v":0},{"$nulls":7},{"$f":"U42","v":0},{"$nulls":7},{"$f":"V42","v":0},{"$nulls":7},{"$f":"W42","v":0},{"$nulls":15},{"$f":"P42","v":0}]
[{"$f":"'Week 4'!$A46","v":3},null,null,{"$f":"'Week 4'!$D46","v":"3"},{"$nulls":19},{"$f":"Z42","v":0},{"$nulls":7},{"$f":"AA42","v":0},{"$nulls":7},{"$f":"AB42","v":0},{"$nulls":7},{"$f":"AC42","v":0},{"$nulls":7},{"$f":"AD42","v":0},{"$nulls":7},{"$f":"AE42","v":0},{"$nulls":15},{"$f":"X42","v":0}]
[{"$f":"'Week 4'!$A47","v":4},null,null,{"$f":"'Week 4'!$D47","v":"4"},{"$nulls":19},{"$f":"AH42","v":0},{"$nulls":7},{"$f":"AI42","v":0},{"$nulls":7},{"$f":"AJ42","v":0},{"$nulls":7},{"$f":"AK42","v":0},{"$nulls":7},{"$f":"AL42","v":0},{"$nulls":7},{"$f":"AM42","v":0},{"$nulls":15},{"$f":"AF42","v":0}]
[{"$f":"'Week 4'!$A48","v":5},null,null,{"$f":"'Week 4'!$D48","v":"5"},{"$nulls":19},{"$f":"AP42","v":0},{"$nulls":7},{"$f":"AQ42","v":0},{"$nulls":7},{"$f":"AR42","v":0},{"$nulls":7},{"$f":"AS42","v":0},{"$nulls":7},{"$f":"AT42","v":0},{"$nulls":7},{"$f":"AU42","v":0},{"$nulls":15},{"$f":"AN42","v":0}]
[{"$f":"'Week 4'!$A49","v":6},null,null,{"$f":"'Week 4'!$D49","v":"6"},{"$nulls":19},{"$f":"AX42","v":0},{"$nulls":7},{"$f":"AY42","v":0},{"$nulls":7},{"$f":"AZ42","v":0},{"$nulls":7},{"$f":"BA42","v":0},{"$nulls":7},{"$f":"BB42","v":0},{"$nulls":7},{"$f":"BC42","v":0},{"$nulls":15},{"$f":"AV42","v":0}]
[{"$f":"'Week 4'!$A50","v":7},null,null,{"$f":"'Week 4'!$D50","v":7},{"$nulls":19},{"$f":"BF42","v":0},{"$nulls":7},{"$f":"BG42","v":0},{"$nulls":7},{"$f":"BH42","v":0},{"$nulls":7},{"$f":"BI42","v":0},{"$nulls":7},{"$f":"BJ42","v":0},{"$nulls":7},{"$f":"BK42","v":0},{"$nulls":15},{"$f":"BD42","v":0}]
[{"$f":"'Week 4'!$A51","v":8},null,null,{"$f":"'Week 4'!$D51","v":8},{"$nulls":19},{"$f":"BN42","v":0},{"$nulls":7},{"$f":"BO42","v":0},{"$nulls":7},{"$f":"BP42","v":0},{"$nulls":7},{"$f":"BQ42","v":0},{"$nulls":7},{"$f":"BR42","v":0},{"$nulls":7},{"$f":"BS42","v":0},{"$nulls":15},{"$f":"BL42","v":0}]
[{"$f":"'Week 4'!$A52","v":9},null,null,{"$f":"'Week 4'!$D52","v":9},{"$nulls":19},{"$f":"BV42","v":0},{"$nulls":7},{"$f":"BW42","v":0},{"$nulls":7},{"$f":"BX42","v":0},{"$nulls":7},{"$f":"BY42","v":0},{"$nulls":7},{"$f":"BZ42","v":0},{"$nulls":7},{"$f":"CA42","v":0},{"$nulls":15},{"$f":"BT42","v":0}]
[{"$f":"'Week 4'!$A53","v":10},null,null,{"$f":"'Week 4'!$D53","v":10},{"$nulls":19},{"$f":"CD42","v":0},{"$nulls":7},{"$f":"CE42","v":0},{"$nulls":7},{"$f":"CF42","v":0},{"$nulls":7},{"$f":"CG42","v":0},{"$nulls":7},{"$f":"CH42","v":0},{"$nulls":7},{"$f":"CI42","v":0},{"$nulls":15},{"$f":"CB42","v":0}]
[{"$f":"'Week 4'!$A54","v":11},null,null,{"$f":"'Week 4'!$D54","v":11},{"$nulls":19},{"$f":"CL42","v":0},{"$nulls":7},{"$f":"CM42","v":0},{"$nulls":7},{"$f":"CN42","v":0},{"$nulls":7},{"$f":"CO42","v":0},{"$nulls":7},{"$f":"CP42","v":0},{"$nulls":7},{"$f":"CQ42","v":0},{"$nulls":15},{"$f":"CJ42","v":0}]
["Totals",{"$nulls":22},{"$f":"SUM(X44:X54)","v":0},{"$nulls":7},{"$f":"SUM(AF44:AF54)","v":0},{"$nulls":7},{"$f":"SUM(AN44:AN54)","v":0},{"$nulls":7},{"$f":"SUM(AV44:AV54)","v":0},{"$nulls":7},{"$f":"SUM(BD44:BD54)","v":0},{"$nulls":23},{"$f":"SUM(CB44:CB54)","v":0}]

{"sheet":"Week 6","index":6,"n_rows":55,"n_cols":95,"rows_kept":55}
[1,2,3,4,5,6,null,{"$f":"CONCATENATE(\"Timesheet for \",'Week 2'!$A$1,\" for period \",TEXT(DAY(A5),\"00\"),\"/\",TEXT(MONTH(A5),\"00\"),\"/\",TEXT(YEAR(A5)-2000,\"00\"),\" to \",TEXT(DAY(A5+6),\"00\"),\"/\",TEXT(MONTH(A5+6),\"00\"),\"/\",TEXT(YEAR(A5+6)-2000,\"00\"))","v":"Timesheet for 1 for period 09/03/09 to 15/03/09"}]
[]
[{"$nulls":6},"                                           Tasks"]
["Date",null,null,"From","To",null,"Hrs",{"$f":"A44","v":"T1"},{"$nulls":7},{"$f":"A45","v":2},{"$nulls":7},{"$f":"A46","v":3},{"$nulls":7},{"$f":"A47","v":4},{"$nulls":7},{"$f":"A48","v":5},{"$nulls":7},{"$f":"A49","v":6},{"$nulls":7},{"$f":"A50","v":7},{"$nulls":7},{"$f":"A51","v":8},{"$nulls":7},{"$f":"A52","v":9},{"$nulls":7},{"$f":"A53","v":10},{"$nulls":7},{"$f":"A54","v":11}]
[{"$f":"'Week 5'!$A5+7","v":"2009-03-09"},1,{"$f":"A5","v":"2009-03-09"},"10:30:00","10:30:00",{"$f":"E5-D5","v":"00:00:00"},{"$f":"IF(E5>0,HOUR(F5)+(MINUTE(F5)/60),0)","v":0},0,{"$f":"G5*H5","v":{"v":0,"d":"0.00"}},{"$f":"IF($B5=1,$I5,0)","v":{"v":0,"d":"0.00"}},{"$f":"IF($B5=2,$I5,0)","v":{"v":0,"d":"0.00"}},{"$f":"IF($B5=3,$I5,0)","v":{"v":0,"d":"0.00"}},{"$f":"IF($B5=4,$I5,0)","v":{"v":0,"d":"0.00"}},{"$f":"IF($B5=5,$I5,0)","v":{"v":0,"d":"0.00"}},{"$f":"IF($B5=6,$I5,0)","v":{"v":0,"d":"0.00"}},0,{"$f":"G5*P5","v":{"v":0,"d":"0.00"}},{"$f":"IF($B5=1,$Q5,0)","v":{"v":0,"d":"0.00"}},{"$f":"IF($B5=2,$Q5,0)","v":{"v":0,"d":"0.00"}},{"$f":"IF(B5=3,Q5,0)","v":{"v":0,"d":"0.00"}},{"$f":"IF(B5=4,Q5,0)","v":{"v":0,"d":"0.00"}},{"$f":"IF(B5=5,Q5,0)","v":{"v":0,"d":"0.00"}},{"$f":"IF(B5=6,Q5,0)","v":{"v":0,"d":"0.00"}},0,{"$f":"G5*X5","v":{"v":0,"d":"0.00"}},{"$f":"IF($B5=1,$Y5,0)","v":{"v":0,"d":"0.00"}},{"$f":"IF($B5=2,$Y5,0)","v":{"v":0,"d":"0.00"}},{"$f":"IF($B5=3,$Y5,0)","v":{"v":0,"d":"0.00"}},{"$f":"IF($B5=4,$Y5,0)","v":{"v":0,"d":"0.00"}},{"$f":"IF($B5=5,$Y5,0)","v":{"v":0,"d":"0.00"}},{"$f":"IF($B5=6,$Y5,0)","v":{"v":0,"d":"0.00"}},0,{"$f":"G5*AF5","v":{"v":0,"d":"0.00"}},{"$f":"IF($B5=1,$AG5,0)","v":{"v":0,"d":"0.00"}},{"$f":"IF($B5=2,$AG5,0)","v":{"v":0,"d":"0.00"}},{"$f":"IF($B5=3,$AG5,0)","v":{"v":0,"d":"0.00"}},{"$f":"IF($B5=4,$AG5,0)","v":{"v":0,"d":"0.00"}},{"$f":"IF($B5=5,$AG5,0)","v":{"v":0,"d":"0.00"}},{"$f":"IF($B5=6,$AG5,0)","v":{"v":0,"d":"0.00"}},0,{"$f":"G5*AN5","v":{"v":0,"d":"0.00"}},{"$f":"IF($B5=1,$AO5,0)","v":{"v":0,"d":"0.00"}},{"$f":"IF($B5=2,$AO5,0)","v":{"v":0,"d":"0.00"}},{"$f":"IF($B5=3,$AO5,0)","v":{"v":0,"d":"0.00"}},{"$f":"IF($B5=4,$AO5,0)","v":{"v":0,"d":"0.00"}},{"$f":"IF($B5=5,$AO5,0)","v":{"v":0,"d":"0.00"}},{"$f":"IF($B5=6,$AO5,0)","v":{"v":0,"d":"0.00"}},0,{"$f":"G5*AV5","v":{"v":0,"d":"0.00"}},{"$f":"IF($B5=1,$AW5,0)","v":{"v":0,"d":"0.00"}},{"$f":"IF($B5=2,$AW5,0)","v":{"v":0,"d":"0.00"}},{"$f":"IF($B5=3,$AW5,0)","v":{"v":0,"d":"0.00"}},{"$f":"IF($B5=4,$AW5,0)","v":{"v":0,"d":"0.00"}},{"$f":"IF($B5=5,$AW5,0)","v":{"v":0,"d":"0.00"}},{"$f":"IF($B5=6,$AW5,0)","v":{"v":0,"d":"0.00"}},0,{"$f":"G5*BD5","v":{"v":0,"d":"0.00"}},{"$f":"IF($B5=1,$BE5,0)","v":{"v":0,"d":"0.00"}},{"$f":"IF($B5=2,$BE5,0)","v":{"v":0,"d":"0.00"}},{"$f":"IF($B5=3,$BE5,0)","v":{"v":0,"d":"0.00"}},{"$f":"IF($B5=4,$BE5,0)","v":{"v":0,"d":"0.00"}},{"$f":"IF($B5=5,$BE5,0)","v":{"v":0,"d":"0.00"}},{"$f":"IF($B5=6,$BE5,0)","v":{"v":0,"d":"0.00"}},0,{"$f":"G5*BL5","v":{"v":0,"d":"0.00"}},{"$f":"IF($B5=1,$BM5,0)","v":{"v":0,"d":"0.00"}},{"$f":"IF($B5=2,$BM5,0)","v":{"v":0,"d":"0.00"}},{"$f":"IF($B5=3,$BM5,0)","v":{"v":0,"d":"0.00"}},{"$f":"IF($B5=4,$BM5,0)","v":{"v":0,"d":"0.00"}},{"$f":"IF($B5=5,$BM5,0)","v":{"v":0,"d":"0.00"}},{"$f":"IF($B5=6,$BM5,0)","v":{"v":0,"d":"0.00"}},0,{"$f":"G5*BT5","v":{"v":0,"d":"0.00"}},{"$f":"IF($B5=1,$BU5,0)","v":{"v":0,"d":"0.00"}},{"$f":"IF($B5=2,$BU5,0)","v":{"v":0,"d":"0.00"}},{"$f":"IF($B5=3,$BU5,0)","v":{"v":0,"d":"0.00"}},{"$f":"IF($B5=4,$BU5,0)","v":{"v":0,"d":"0.00"}},{"$f":"IF($B5=5,$BU5,0)","v":{"v":0,"d":"0.00"}},{"$f":"IF($B5=6,$BU5,0)","v":{"v":0,"d":"0.00"}},0,{"$f":"G5*CB5","v":{"v":0,"d":"0.00"}},{"$f":"IF($B5=1,$CC5,0)","v":{"v":0,"d":"0.00"}},{"$f":"IF($B5=2,$CC5,0)","v":{"v":0,"d":"0.00"}},{"$f":"IF($B5=3,$CC5,0)","v":{"v":0,"d":"0.00"}},{"$f":"IF($B5=4,$CC5,0)","v":{"v":0,"d":"0.00"}},{"$f":"IF($B5=5,$CC5,0)","v":{"v":0,"d":"0.00"}},{"$f":"IF($B5=6,$CC5,0)","v":{"v":0,"d":"0.00"}},0,{"$f":"G5*CJ5","v":{"v":0,"d":"0.00"}},{"$f":"IF($B5=1,$CK5,0)","v":{"v":0,"d":"0.00"}},{"$f":"IF($B5=2,$CK5,0)","v":{"v":0,"d":"0.00"}},{"$f":"IF($B5=3,$CK5,0)","v":{"v":0,"d":"0.00"}},{"$f":"IF($B5=4,$CK5,0)","v":{"v":0,"d":"0.00"}},{"$f":"IF($B5=5,$CK5,0)","v":{"v":0,"d":"0.00"}},{"$f":"IF($B5=6,$CK5,0)","v":{"v":0,"d":"0.00"}}]
[{"$f":"IF(C5<>C6,C6,\"\")","v":""},{"$f":"IF(C5<>C6,_xlfn.DAYS(C6,C5)+B5,B5)","v":1},{"$f":"IF(D6>0,IF(D6<E5,C5+1,C5),C5)","v":"2009-03-09"},{"$f":"IF((E6+H6+P6+X6+AF6+AN6+AV6+BD6+BL6+BT6+CB6+CJ6)>0,E5,0)","v":"00:00:00"},null,{"$f":"E6-D6","v":"00:00:00"},{"$f":"IF(E6>0,HOUR(F6)+(MINUTE(F6)/60),0)","v":0},{"$f":"IF(H5>0,IF(P6+X6+AF6+AN6+AV6+BD6+BL6+BT6+CB6+CJ6=0,IF(E6>0,H5,0),0),0)","v":0},{"$f":"G6*H6","v":{"v":0,"d":"0.00"}},{"$f":"IF($B6=1,$I6,0)","v":{"v":0,"d":"0.00"}},{"$f":"IF($B6=2,$I6,0)","v":{"v":0,"d":"0.00"}},{"$f":"IF($B6=3,$I6,0)","v":{"v":0,"d":"0.00"}},{"$f":"IF($B6=4,$I6,0)","v":{"v":0,"d":"0.00"}},{"$f":"IF($B6=5,$I6,0)","v":{"v":0,"d":"0.00"}},{"$f":"IF($B6=6,$I6,0)","v":{"v":0,"d":"0.00"}},{"$f":"IF(P5>0,IF(H6+X6+AF6+AN6+AV6+BD6+BL6+BT6+CB6+CJ6=0,IF(E6>0,P5,0),0),0)","v":0},{"$f":"G6*P6","v":{"v":0,"d":"0.00"}},{"$f":"IF(B6=1,Q6,0)","v":{"v":0,"d":"0.00"}},{"$f":"IF(B6=2,Q6,0)","v":{"v":0,"d":"0.00"}},{"$f":"IF(B6=3,Q6,0)","v":{"v":0,"d":"0.00"}},{"$f":"IF(B6=4,Q6,0)","v":{"v":0,"d":"0.00"}},{"$f":"IF(B6=5,Q6,0)","v":{"v":0,"d":"0.00"}},{"$f":"IF(B6=6,Q6,0)","v":{"v":0,"d":"0.00"}},{"$f":"IF(X5>0,IF(H6+P6+AF6+AN6+AV6+BD6+BL6+BT6+CB6+CJ6=0,IF(E6>0,X5,0),0),0)","v":0},{"$f":"G6*X6","v":{"v":0,"d":"0.00"}},{"$f":"IF($B6=1,$Y6,0)","v":{"v":0,"d":"0.00"}},{"$f":"IF($B6=2,$Y6,0)","v":{"v":0,"d":"0.00"}},{"$f":"IF($B6=3,$Y6,0)","v":{"v":0,"d":"0.00"}},{"$f":"IF($B6=4,$Y6,0)","v":{"v":0,"d":"0.00"}},{"$f":"IF($B6=5,$Y6,0)","v":{"v":0,"d":"0.00"}},{"$f":"IF($B6=6,$Y6,0)","v":{"v":0,"d":"0.00"}},{"$f":"IF(AF5>0,IF(H6+P6+X6+AN6+AV6+BD6+BL6+BT6+CB6+CJ6=0,IF(E6>0,AF5,0),0),0)","v":0},{"$f":"G6*AF6","v":{"v":0,"d":"0.00"}},{"$f":"IF($B6=1,$AG6,0)","v":{"v":0,"d":"0.00"}},{"$f":"IF($B6=2,$AG6,0)","v":{"v":0,"d":"0.00"}},{"$f":"IF($B6=3,$AG6,0)","v":{"v":0,"d":"0.00"}},{"$f":"IF($B6=4,$AG6,0)","v":{"v":0,"d":"0.00"}},{"$f":"IF($B6=5,$AG6,0)","v":{"v":0,"d":"0.00"}},{"$f":"IF($B6=6,$AG6,0)","v":{"v":0,"d":"0.00"}},{"$f":"IF(AN5>0,IF(H6+P6+X6+AF6+AV6+BD6+BL6+BT6+CB6+CJ6=0,IF(E6>0,AN5,0),0),0)","v":0},{"$f":"G6*AN6","v":{"v":0,"d":"0.00"}},{"$f":"IF($B6=1,$AO6,0)","v":{"v":0,"d":"0.00"}},{"$f":"IF($B6=2,$AO6,0)","v":{"v":0,"d":"0.00"}},{"$f":"IF($B6=3,$AO6,0)","v":{"v":0,"d":"0.00"}},{"$f":"IF($B6=4,$AO6,0)","v":{"v":0,"d":"0.00"}},{"$f":"IF($B6=5,$AO6,0)","v":{"v":0,"d":"0.00"}},{"$f":"IF($B6=6,$AO6,0)","v":{"v":0,"d":"0.00"}},{"$f":"IF(AV5>0,IF(H6+P6+X6+AF6+AN6+BD6+BL6+BT6+CB6+CJ6=0,IF(E6>0,AV5,0),0),0)","v":0},{"$f":"G6*AV6","v":{"v":0,"d":"0.00"}},{"$f":"IF($B6=1,$AW6,0)","v":{"v":0,"d":"0.00"}},{"$f":"IF($B6=2,$AW6,0)","v":{"v":0,"d":"0.00"}},{"$f":"IF($B6=3,$AW6,0)","v":{"v":0,"d":"0.00"}},{"$f":"IF($B6=4,$AW6,0)","v":{"v":0,"d":"0.00"}},{"$f":"IF($B6=5,$AW6,0)","v":{"v":0,"d":"0.00"}},{"$f":"IF($B6=6,$AW6,0)","v":{"v":0,"d":"0.00"}},{"$f":"IF(BD5>0,IF(H6+P6+X6+AF6+AN6+AV6+BL6+BT6+CB6+CJ6=0,IF(E6>0,BD5,0),0),0)","v":0},{"$f":"G6*BD6","v":{"v":0,"d":"0.00"}},{"$f":"IF($B6=1,$BE6,0)","v":{"v":0,"d":"0.00"}},{"$f":"IF($B6=2,$BE6,0)","v":{"v":0,"d":"0.00"}},{"$f":"IF($B6=3,$BE6,0)","v":{"v":0,"d":"0.00"}},{"$f":"IF($B6=4,$BE6,0)","v":{"v":0,"d":"0.00"}},{"$f":"IF($B6=5,$BE6,0)","v":{"v":0,"d":"0.00"}},{"$f":"IF($B6=6,$BE6,0)","v":{"v":0,"d":"0.00"}},{"$f":"IF(BL5>0,IF(H6+P6+X6+AF6+AN6+AV6+BD6+BT6+CB6+CJ6=0,IF(E6>0,BL5,0),0),0)","v":0},{"$f":"G6*BL6","v":{"v":0,"d":"0.00"}},{"$f":"IF($B6=1,$BM6,0)","v":{"v":0,"d":"0.00"}},{"$f":"IF($B6=2,$BM6,0)","v":{"v":0,"d":"0.00"}},{"$f":"IF($B6=3,$BM6,0)","v":{"v":0,"d":"0.00"}},{"$f":"IF($B6=4,$BM6,0)","v":{"v":0,"d":"0.00"}},{"$f":"IF($B6=5,$BM6,0)","v":{"v":0,"d":"0.00"}},{"$f":"IF($B6=6,$BM6,0)","v":{"v":0,"d":"0.00"}},{"$f":"IF(BT5>0,IF(H6+P6+X6+AF6+AN6+AV6+BD6+BL6+CB6+CJ6=0,IF(E6>0,BT5,0),0),0)","v":0},{"$f":"G6*BT6","v":{"v":0,"d":"0.00"}},{"$f":"IF($B6=1,$BU6,0)","v":{"v":0,"d":"0.00"}},{"$f":"IF($B6=2,$BU6,0)","v":{"v":0,"d":"0.00"}},{"$f":"IF($B6=3,$BU6,0)","v":{"v":0,"d":"0.00"}},{"$f":"IF($B6=4,$BU6,0)","v":{"v":0,"d":"0.00"}},{"$f":"IF($B6=5,$BU6,0)","v":{"v":0,"d":"0.00"}},{"$f":"IF($B6=6,$BU6,0)","v":{"v":0,"d":"0.00"}},{"$f":"IF(CB5>0,IF(H6+P6+X6+AF6+AN6+AV6+BD6+BL6+BT6+CJ6=0,IF(E6>0,CB5,0),0),0)","v":0},{"$f":"G6*CB6","v":{"v":0,"d":"0.00"}},{"$f":"IF($B6=1,$CC6,0)","v":{"v":0,"d":"0.00"}},{"$f":"IF($B6=2,$CC6,0)","v":{"v":0,"d":"0.00"}},{"$f":"IF($B6=3,$CC6,0)","v":{"v":0,"d":"0.00"}},{"$f":"IF($B6=4,$CC6,0)","v":{"v":0,"d":"0.00"}},{"$f":"IF($B6=5,$CC6,0)","v":{"v":0,"d":"0.00"}},{"$f":"IF($B6=6,$CC6,0)","v":{"v":0,"d":"0.00"}},{"$f":"IF(CJ5>0,IF(H6+P6+X6+AF6+AN6+AV6+BD6+BL6+BT6+CB6=0,IF(E6>0,CJ5,0),0),0)","v":0},{"$f":"G6*CJ6","v":{"v":0,"d":"0.00"}},{"$f":"IF($B6=1,$CK6,0)","v":{"v":0,"d":"0.00"}},{"$f":"IF($B6=2,$CK6,0)","v":{"v":0,"d":"0.00"}},{"$f":"IF($B6=3,$CK6,0)","v":{"v":0,"d":"0.00"}},{"$f":"IF($B6=4,$CK6,0)","v":{"v":0,"d":"0.00"}},{"$f":"IF($B6=5,$CK6,0)","v":{"v":0,"d":"0.00"}},{"$f":"IF($B6=6,$CK6,0)","v":{"v":0,"d":"0.00"}}]
[{"$f":"IF(C6<>C7,C7,\"\")","v":""},{"$f":"IF(C6<>C7,_xlfn.DAYS(C7,C6)+B6,B6)","v":1},{"$f":"IF(D7>0,IF(D7<E6,C6+1,C6),C6)","v":"2009-03-09"},{"$f":"IF((E7+H7+P7+X7+AF7+AN7+AV7+BD7+BL7+BT7+CB7+CJ7)>0,E6,0)","v":"00:00:00"},null,{"$f":"E7-D7","v":"00:00:00"},{"$f":"IF(E7>0,HOUR(F7)+(MINUTE(F7)/60),0)","v":0},{"$f":"IF(H6>0,IF(P7+X7+AF7+AN7+AV7+BD7+BL7+BT7+CB7+CJ7=0,IF(E7>0,H6,0),0),0)","v":0},{"$f":"G7*H7","v":{"v":0,"d":"0.00"}},{"$f":"IF($B7=1,$I7,0)","v":{"v":0,"d":"0.00"}},{"$f":"IF($B7=2,$I7,0)","v":{"v":0,"d":"0.00"}},{"$f":"IF($B7=3,$I7,0)","v":{"v":0,"d":"0.00"}},{"$f":"IF($B7=4,$I7,0)","v":{"v":0,"d":"0.00"}},{"$f":"IF($B7=5,$I7,0)","v":{"v":0,"d":"0.00"}},{"$f":"IF($B7=6,$I7,0)","v":{"v":0,"d":"0.00"}},{"$f":"IF(P6>0,IF(H7+X7+AF7+AN7+AV7+BD7+BL7+BT7+CB7+CJ7=0,IF(E7>0,P6,0),0),0)","v":0},{"$f":"G7*P7","v":{"v":0,"d":"0.00"}},{"$f":"IF(B7=1,Q7,0)","v":{"v":0,"d":"0.00"}},{"$f":"IF(B7=2,Q7,0)","v":{"v":0,"d":"0.00"}},{"$f":"IF(B7=3,Q7,0)","v":{"v":0,"d":"0.00"}},{"$f":"IF(B7=4,Q7,0)","v":{"v":0,"d":"0.00"}},{"$f":"IF(B7=5,Q7,0)","v":{"v":0,"d":"0.00"}},{"$f":"IF(B7=6,Q7,0)","v":{"v":0,"d":"0.00"}},{"$f":"IF(X6>0,IF(H7+P7+AF7+AN7+AV7+BD7+BL7+BT7+CB7+CJ7=0,IF(E7>0,X6,0),0),0)","v":0},{"$f":"G7*X7","v":{"v":0,"d":"0.00"}},{"$f":"IF($B7=1,$Y7,0)","v":{"v":0,"d":"0.00"}},{"$f":"IF($B7=2,$Y7,0)","v":{"v":0,"d":"0.00"}},{"$f":"IF($B7=3,$Y7,0)","v":{"v":0,"d":"0.00"}},{"$f":"IF($B7=4,$Y7,0)","v":{"v":0,"d":"0.00"}},{"$f":"IF($B7=5,$Y7,0)","v":{"v":0,"d":"0.00"}},{"$f":"IF($B7=6,$Y7,0)","v":{"v":0,"d":"0.00"}},{"$f":"IF(AF6>0,IF(H7+P7+X7+AN7+AV7+BD7+BL7+BT7+CB7+CJ7=0,IF(E7>0,AF6,0),0),0)","v":0},{"$f":"G7*AF7","v":{"v":0,"d":"0.00"}},{"$f":"IF($B7=1,$AG7,0)","v":{"v":0,"d":"0.00"}},{"$f":"IF($B7=2,$AG7,0)","v":{"v":0,"d":"0.00"}},{"$f":"IF($B7=3,$AG7,0)","v":{"v":0,"d":"0.00"}},{"$f":"IF($B7=4,$AG7,0)","v":{"v":0,"d":"0.00"}},{"$f":"IF($B7=5,$AG7,0)","v":{"v":0,"d":"0.00"}},{"$f":"IF($B7=6,$AG7,0)","v":{"v":0,"d":"0.00"}},{"$f":"IF(AN6>0,IF(H7+P7+X7+AF7+AV7+BD7+BL7+BT7+CB7+CJ7=0,IF(E7>0,AN6,0),0),0)","v":0},{"$f":"G7*AN7","v":{"v":0,"d":"0.00"}},{"$f":"IF($B7=1,$AO7,0)","v":{"v":0,"d":"0.00"}},{"$f":"IF($B7=2,$AO7,0)","v":{"v":0,"d":"0.00"}},{"$f":"IF($B7=3,$AO7,0)","v":{"v":0,"d":"0.00"}},{"$f":"IF($B7=4,$AO7,0)","v":{"v":0,"d":"0.00"}},{"$f":"IF($B7=5,$AO7,0)","v":{"v":0,"d":"0.00"}},{"$f":"IF($B7=6,$AO7,0)","v":{"v":0,"d":"0.00"}},{"$f":"IF(AV6>0,IF(H7+P7+X7+AF7+AN7+BD7+BL7+BT7+CB7+CJ7=0,IF(E7>0,AV6,0),0),0)","v":0},{"$f":"G7*AV7","v":{"v":0,"d":"0.00"}},{"$f":"IF($B7=1,$AW7,0)","v":{"v":0,"d":"0.00"}},{"$f":"IF($B7=2,$AW7,0)","v":{"v":0,"d":"0.00"}},{"$f":"IF($B7=3,$AW7,0)","v":{"v":0,"d":"0.00"}},{"$f":"IF($B7=4,$AW7,0)","v":{"v":0,"d":"0.00"}},{"$f":"IF($B7=5,$AW7,0)","v":{"v":0,"d":"0.00"}},{"$f":"IF($B7=6,$AW7,0)","v":{"v":0,"d":"0.00"}},{"$f":"IF(BD6>0,IF(H7+P7+X7+AF7+AN7+AV7+BL7+BT7+CB7+CJ7=0,IF(E7>0,BD6,0),0),0)","v":0},{"$f":"G7*BD7","v":{"v":0,"d":"0.00"}},{"$f":"IF($B7=1,$BE7,0)","v":{"v":0,"d":"0.00"}},{"$f":"IF($B7=2,$BE7,0)","v":{"v":0,"d":"0.00"}},{"$f":"IF($B7=3,$BE7,0)","v":{"v":0,"d":"0.00"}},{"$f":"IF($B7=4,$BE7,0)","v":{"v":0,"d":"0.00"}},{"$f":"IF($B7=5,$BE7,0)","v":{"v":0,"d":"0.00"}},{"$f":"IF($B7=6,$BE7,0)","v":{"v":0,"d":"0.00"}},{"$f":"IF(BL6>0,IF(H7+P7+X7+AF7+AN7+AV7+BD7+BT7+CB7+CJ7=0,IF(E7>0,BL6,0),0),0)","v":0},{"$f":"G7*BL7","v":{"v":0,"d":"0.00"}},{"$f":"IF($B7=1,$BM7,0)","v":{"v":0,"d":"0.00"}},{"$f":"IF($B7=2,$BM7,0)","v":{"v":0,"d":"0.00"}},{"$f":"IF($B7=3,$BM7,0)","v":{"v":0,"d":"0.00"}},{"$f":"IF($B7=4,$BM7,0)","v":{"v":0,"d":"0.00"}},{"$f":"IF($B7=5,$BM7,0)","v":{"v":0,"d":"0.00"}},{"$f":"IF($B7=6,$BM7,0)","v":{"v":0,"d":"0.00"}},{"$f":"IF(BT6>0,IF(H7+P7+X7+AF7+AN7+AV7+BD7+BL7+CB7+CJ7=0,IF(E7>0,BT6,0),0),0)","v":0},{"$f":"G7*BT7","v":{"v":0,"d":"0.00"}},{"$f":"IF($B7=1,$BU7,0)","v":{"v":0,"d":"0.00"}},{"$f":"IF($B7=2,$BU7,0)","v":{"v":0,"d":"0.00"}},{"$f":"IF($B7=3,$BU7,0)","v":{"v":0,"d":"0.00"}},{"$f":"IF($B7=4,$BU7,0)","v":{"v":0,"d":"0.00"}},{"$f":"IF($B7=5,$BU7,0)","v":{"v":0,"d":"0.00"}},{"$f":"IF($B7=6,$BU7,0)","v":{"v":0,"d":"0.00"}},{"$f":"IF(CB6>0,IF(H7+P7+X7+AF7+AN7+AV7+BD7+BL7+BT7+CJ7=0,IF(E7>0,CB6,0),0),0)","v":0},{"$f":"G7*CB7","v":{"v":0,"d":"0.00"}},{"$f":"IF($B7=1,$CC7,0)","v":{"v":0,"d":"0.00"}},{"$f":"IF($B7=2,$CC7,0)","v":{"v":0,"d":"0.00"}},{"$f":"IF($B7=3,$CC7,0)","v":{"v":0,"d":"0.00"}},{"$f":"IF($B7=4,$CC7,0)","v":{"v":0,"d":"0.00"}},{"$f":"IF($B7=5,$CC7,0)","v":{"v":0,"d":"0.00"}},{"$f":"IF($B7=6,$CC7,0)","v":{"v":0,"d":"0.00"}},{"$f":"IF(CJ6>0,IF(H7+P7+X7+AF7+AN7+AV7+BD7+BL7+BT7+CB7=0,IF(E7>0,CJ6,0),0),0)","v":0},{"$f":"G7*CJ7","v":{"v":0,"d":"0.00"}},{"$f":"IF($B7=1,$CK7,0)","v":{"v":0,"d":"0.00"}},{"$f":"IF($B7=2,$CK7,0)","v":{"v":0,"d":"0.00"}},{"$f":"IF($B7=3,$CK7,0)","v":{"v":0,"d":"0.00"}},{"$f":"IF($B7=4,$CK7,0)","v":{"v":0,"d":"0.00"}},{"$f":"IF($B7=5,$CK7,0)","v":{"v":0,"d":"0.00"}},{"$f":"IF($B7=6,$CK7,0)","v":{"v":0,"d":"0.00"}}]
[{"$f":"IF(C7<>C8,C8,\"\")","v":""},{"$f":"IF(C7<>C8,_xlfn.DAYS(C8,C7)+B7,B7)","v":1},{"$f":"IF(D8>0,IF(D8<E7,C7+1,C7),C7)","v":"2009-03-09"},{"$f":"IF((E8+H8+P8+X8+AF8+AN8+AV8+BD8+BL8+BT8+CB8+CJ8)>0,E7,0)","v":"00:00:00"},null,{"$f":"E8-D8","v":"00:00:00"},{"$f":"IF(E8>0,HOUR(F8)+(MINUTE(F8)/60),0)","v":0},{"$f":"IF(H7>0,IF(P8+X8+AF8+AN8+AV8+BD8+BL8+BT8+CB8+CJ8=0,IF(E8>0,H7,0),0),0)","v":0},{"$f":"G8*H8","v":{"v":0,"d":"0.00"}},{"$f":"IF($B8=1,$I8,0)","v":{"v":0,"d":"0.00"}},{"$f":"IF($B8=2,$I8,0)","v":{"v":0,"d":"0.00"}},{"$f":"IF($B8=3,$I8,0)","v":{"v":0,"d":"0.00"}},{"$f":"IF($B8=4,$I8,0)","v":{"v":0,"d":"0.00"}},{"$f":"IF($B8=5,$I8,0)","v":{"v":0,"d":"0.00"}},{"$f":"IF($B8=6,$I8,0)","v":{"v":0,"d":"0.00"}},{"$f":"IF(P7>0,IF(H8+X8+AF8+AN8+AV8+BD8+BL8+BT8+CB8+CJ8=0,IF(E8>0,P7,0),0),0)","v":0},{"$f":"G8*P8","v":{"v":0,"d":"0.00"}},{"$f":"IF(B8=1,Q8,0)","v":{"v":0,"d":"0.00"}},{"$f":"IF(B8=2,Q8,0)","v":{"v":0,"d":"0.00"}},{"$f":"IF(B8=3,Q8,0)","v":{"v":0,"d":"0.00"}},{"$f":"IF(B8=4,Q8,0)","v":{"v":0,"d":"0.00"}},{"$f":"IF(B8=5,Q8,0)","v":{"v":0,"d":"0.00"}},{"$f":"IF(B8=6,Q8,0)","v":{"v":0,"d":"0.00"}},{"$f":"IF(X7>0,IF(H8+P8+AF8+AN8+AV8+BD8+BL8+BT8+CB8+CJ8=0,IF(E8>0,X7,0),0),0)","v":0},{"$f":"G8*X8","v":{"v":0,"d":"0.00"}},{"$f":"IF($B8=1,$Y8,0)","v":{"v":0,"d":"0.00"}},{"$f":"IF($B8=2,$Y8,0)","v":{"v":0,"d":"0.00"}},{"$f":"IF($B8=3,$Y8,0)","v":{"v":0,"d":"0.00"}},{"$f":"IF($B8=4,$Y8,0)","v":{"v":0,"d":"0.00"}},{"$f":"IF($B8=5,$Y8,0)","v":{"v":0,"d":"0.00"}},{"$f":"IF($B8=6,$Y8,0)","v":{"v":0,"d":"0.00"}},{"$f":"IF(AF7>0,IF(H8+P8+X8+AN8+AV8+BD8+BL8+BT8+CB8+CJ8=0,IF(E8>0,AF7,0),0),0)","v":0},{"$f":"G8*AF8","v":{"v":0,"d":"0.00"}},{"$f":"IF($B8=1,$AG8,0)","v":{"v":0,"d":"0.00"}},{"$f":"IF($B8=2,$AG8,0)","v":{"v":0,"d":"0.00"}},{"$f":"IF($B8=3,$AG8,0)","v":{"v":0,"d":"0.00"}},{"$f":"IF($B8=4,$AG8,0)","v":{"v":0,"d":"0.00"}},{"$f":"IF($B8=5,$AG8,0)","v":{"v":0,"d":"0.00"}},{"$f":"IF($B8=6,$AG8,0)","v":{"v":0,"d":"0.00"}},{"$f":"IF(AN7>0,IF(H8+P8+X8+AF8+AV8+BD8+BL8+BT8+CB8+CJ8=0,IF(E8>0,AN7,0),0),0)","v":0},{"$f":"G8*AN8","v":{"v":0,"d":"0.00"}},{"$f":"IF($B8=1,$AO8,0)","v":{"v":0,"d":"0.00"}},{"$f":"IF($B8=2,$AO8,0)","v":{"v":0,"d":"0.00"}},{"$f":"IF($B8=3,$AO8,0)","v":{"v":0,"d":"0.00"}},{"$f":"IF($B8=4,$AO8,0)","v":{"v":0,"d":"0.00"}},{"$f":"IF($B8=5,$AO8,0)","v":{"v":0,"d":"0.00"}},{"$f":"IF($B8=6,$AO8,0)","v":{"v":0,"d":"0.00"}},{"$f":"IF(AV7>0,IF(H8+P8+X8+AF8+AN8+BD8+BL8+BT8+CB8+CJ8=0,IF(E8>0,AV7,0),0),0)","v":0},{"$f":"G8*AV8","v":{"v":0,"d":"0.00"}},{"$f":"IF($B8=1,$AW8,0)","v":{"v":0,"d":"0.00"}},{"$f":"IF($B8=2,$AW8,0)","v":{"v":0,"d":"0.00"}},{"$f":"IF($B8=3,$AW8,0)","v":{"v":0,"d":"0.00"}},{"$f":"IF($B8=4,$AW8,0)","v":{"v":0,"d":"0.00"}},{"$f":"IF($B8=5,$AW8,0)","v":{"v":0,"d":"0.00"}},{"$f":"IF($B8=6,$AW8,0)","v":{"v":0,"d":"0.00"}},{"$f":"IF(BD7>0,IF(H8+P8+X8+AF8+AN8+AV8+BL8+BT8+CB8+CJ8=0,IF(E8>0,BD7,0),0),0)","v":0},{"$f":"G8*BD8","v":{"v":0,"d":"0.00"}},{"$f":"IF($B8=1,$BE8,0)","v":{"v":0,"d":"0.00"}},{"$f":"IF($B8=2,$BE8,0)","v":{"v":0,"d":"0.00"}},{"$f":"IF($B8=3,$BE8,0)","v":{"v":0,"d":"0.00"}},{"$f":"IF($B8=4,$BE8,0)","v":{"v":0,"d":"0.00"}},{"$f":"IF($B8=5,$BE8,0)","v":{"v":0,"d":"0.00"}},{"$f":"IF($B8=6,$BE8,0)","v":{"v":0,"d":"0.00"}},{"$f":"IF(BL7>0,IF(H8+P8+X8+AF8+AN8+AV8+BD8+BT8+CB8+CJ8=0,IF(E8>0,BL7,0),0),0)","v":0},{"$f":"G8*BL8","v":{"v":0,"d":"0.00"}},{"$f":"IF($B8=1,$BM8,0)","v":{"v":0,"d":"0.00"}},{"$f":"IF($B8=2,$BM8,0)","v":{"v":0,"d":"0.00"}},{"$f":"IF($B8=3,$BM8,0)","v":{"v":0,"d":"0.00"}},{"$f":"IF($B8=4,$BM8,0)","v":{"v":0,"d":"0.00"}},{"$f":"IF($B8=5,$BM8,0)","v":{"v":0,"d":"0.00"}},{"$f":"IF($B8=6,$BM8,0)","v":{"v":0,"d":"0.00"}},{"$f":"IF(BT7>0,IF(H8+P8+X8+AF8+AN8+AV8+BD8+BL8+CB8+CJ8=0,IF(E8>0,BT7,0),0),0)","v":0},{"$f":"G8*BT8","v":{"v":0,"d":"0.00"}},{"$f":"IF($B8=1,$BU8,0)","v":{"v":0,"d":"0.00"}},{"$f":"IF($B8=2,$BU8,0)","v":{"v":0,"d":"0.00"}},{"$f":"IF($B8=3,$BU8,0)","v":{"v":0,"d":"0.00"}},{"$f":"IF($B8=4,$BU8,0)","v":{"v":0,"d":"0.00"}},{"$f":"IF($B8=5,$BU8,0)","v":{"v":0,"d":"0.00"}},{"$f":"IF($B8=6,$BU8,0)","v":{"v":0,"d":"0.00"}},{"$f":"IF(CB7>0,IF(H8+P8+X8+AF8+AN8+AV8+BD8+BL8+BT8+CJ8=0,IF(E8>0,CB7,0),0),0)","v":0},{"$f":"G8*CB8","v":{"v":0,"d":"0.00"}},{"$f":"IF($B8=1,$CC8,0)","v":{"v":0,"d":"0.00"}},{"$f":"IF($B8=2,$CC8,0)","v":{"v":0,"d":"0.00"}},{"$f":"IF($B8=3,$CC8,0)","v":{"v":0,"d":"0.00"}},{"$f":"IF($B8=4,$CC8,0)","v":{"v":0,"d":"0.00"}},{"$f":"IF($B8=5,$CC8,0)","v":{"v":0,"d":"0.00"}},{"$f":"IF($B8=6,$CC8,0)","v":{"v":0,"d":"0.00"}},{"$f":"IF(CJ7>0,IF(H8+P8+X8+AF8+AN8+AV8+BD8+BL8+BT8+CB8=0,IF(E8>0,CJ7,0),0),0)","v":0},{"$f":"G8*CJ8","v":{"v":0,"d":"0.00"}},{"$f":"IF($B8=1,$CK8,0)","v":{"v":0,"d":"0.00"}},{"$f":"IF($B8=2,$CK8,0)","v":{"v":0,"d":"0.00"}},{"$f":"IF($B8=3,$CK8,0)","v":{"v":0,"d":"0.00"}},{"$f":"IF($B8=4,$CK8,0)","v":{"v":0,"d":"0.00"}},{"$f":"IF($B8=5,$CK8,0)","v":{"v":0,"d":"0.00"}},{"$f":"IF($B8=6,$CK8,0)","v":{"v":0,"d":"0.00"}}]
[{"$f":"IF(C8<>C9,C9,\"\")","v":""},{"$f":"IF(C8<>C9,_xlfn.DAYS(C9,C8)+B8,B8)","v":1},{"$f":"IF(D9>0,IF(D9<E8,C8+1,C8),C8)","v":"2009-03-09"},{"$f":"IF((E9+H9+P9+X9+AF9+AN9+AV9+BD9+BL9+BT9+CB9+CJ9)>0,E8,0)","v":"00:00:00"},null,{"$f":"E9-D9","v":"00:00:00"},{"$f":"IF(E9>0,HOUR(F9)+(MINUTE(F9)/60),0)","v":0},{"$f":"IF(H8>0,IF(P9+X9+AF9+AN9+AV9+BD9+BL9+BT9+CB9+CJ9=0,IF(E9>0,H8,0),0),0)","v":0},{"$f":"G9*H9","v":{"v":0,"d":"0.00"}},{"$f":"IF($B9=1,$I9,0)","v":{"v":0,"d":"0.00"}},{"$f":"IF($B9=2,$I9,0)","v":{"v":0,"d":"0.00"}},{"$f":"IF($B9=3,$I9,0)","v":{"v":0,"d":"0.00"}},{"$f":"IF($B9=4,$I9,0)","v":{"v":0,"d":"0.00"}},{"$f":"IF($B9=5,$I9,0)","v":{"v":0,"d":"0.00"}},{"$f":"IF($B9=6,$I9,0)","v":{"v":0,"d":"0.00"}},{"$f":"IF(P8>0,IF(H9+X9+AF9+AN9+AV9+BD9+BL9+BT9+CB9+CJ9=0,IF(E9>0,P8,0),0),0)","v":0},{"$f":"G9*P9","v":{"v":0,"d":"0.00"}},{"$f":"IF(B9=1,Q9,0)","v":{"v":0,"d":"0.00"}},{"$f":"IF(B9=2,Q9,0)","v":{"v":0,"d":"0.00"}},{"$f":"IF(B9=3,Q9,0)","v":{"v":0,"d":"0.00"}},{"$f":"IF(B9=4,Q9,0)","v":{"v":0,"d":"0.00"}},{"$f":"IF(B9=5,Q9,0)","v":{"v":0,"d":"0.00"}},{"$f":"IF(B9=6,Q9,0)","v":{"v":0,"d":"0.00"}},{"$f":"IF(X8>0,IF(H9+P9+AF9+AN9+AV9+BD9+BL9+BT9+CB9+CJ9=0,IF(E9>0,X8,0),0),0)","v":0},{"$f":"G9*X9","v":{"v":0,"d":"0.00"}},{"$f":"IF($B9=1,$Y9,0)","v":{"v":0,"d":"0.00"}},{"$f":"IF($B9=2,$Y9,0)","v":{"v":0,"d":"0.00"}},{"$f":"IF($B9=3,$Y9,0)","v":{"v":0,"d":"0.00"}},{"$f":"IF($B9=4,$Y9,0)","v":{"v":0,"d":"0.00"}},{"$f":"IF($B9=5,$Y9,0)","v":{"v":0,"d":"0.00"}},{"$f":"IF($B9=6,$Y9,0)","v":{"v":0,"d":"0.00"}},{"$f":"IF(AF8>0,IF(H9+P9+X9+AN9+AV9+BD9+BL9+BT9+CB9+CJ9=0,IF(E9>0,AF8,0),0),0)","v":0},{"$f":"G9*AF9","v":{"v":0,"d":"0.00"}},{"$f":"IF($B9=1,$AG9,0)","v":{"v":0,"d":"0.00"}},{"$f":"IF($B9=2,$AG9,0)","v":{"v":0,"d":"0.00"}},{"$f":"IF($B9=3,$AG9,0)","v":{"v":0,"d":"0.00"}},{"$f":"IF($B9=4,$AG9,0)","v":{"v":0,"d":"0.00"}},{"$f":"IF($B9=5,$AG9,0)","v":{"v":0,"d":"0.00"}},{"$f":"IF($B9=6,$AG9,0)","v":{"v":0,"d":"0.00"}},{"$f":"IF(AN8>0,IF(H9+P9+X9+AF9+AV9+BD9+BL9+BT9+CB9+CJ9=0,IF(E9>0,AN8,0),0),0)","v":0},{"$f":"G9*AN9","v":{"v":0,"d":"0.00"}},{"$f":"IF($B9=1,$AO9,0)","v":{"v":0,"d":"0.00"}},{"$f":"IF($B9=2,$AO9,0)","v":{"v":0,"d":"0.00"}},{"$f":"IF($B9=3,$AO9,0)","v":{"v":0,"d":"0.00"}},{"$f":"IF($B9=4,$AO9,0)","v":{"v":0,"d":"0.00"}},{"$f":"IF($B9=5,$AO9,0)","v":{"v":0,"d":"0.00"}},{"$f":"IF($B9=6,$AO9,0)","v":{"v":0,"d":"0.00"}},{"$f":"IF(AV8>0,IF(H9+P9+X9+AF9+AN9+BD9+BL9+BT9+CB9+CJ9=0,IF(E9>0,AV8,0),0),0)","v":0},{"$f":"G9*AV9","v":{"v":0,"d":"0.00"}},{"$f":"IF($B9=1,$AW9,0)","v":{"v":0,"d":"0.00"}},{"$f":"IF($B9=2,$AW9,0)","v":{"v":0,"d":"0.00"}},{"$f":"IF($B9=3,$AW9,0)","v":{"v":0,"d":"0.00"}},{"$f":"IF($B9=4,$AW9,0)","v":{"v":0,"d":"0.00"}},{"$f":"IF($B9=5,$AW9,0)","v":{"v":0,"d":"0.00"}},{"$f":"IF($B9=6,$AW9,0)","v":{"v":0,"d":"0.00"}},{"$f":"IF(BD8>0,IF(H9+P9+X9+AF9+AN9+AV9+BL9+BT9+CB9+CJ9=0,IF(E9>0,BD8,0),0),0)","v":0},{"$f":"G9*BD9","v":{"v":0,"d":"0.00"}},{"$f":"IF($B9=1,$BE9,0)","v":{"v":0,"d":"0.00"}},{"$f":"IF($B9=2,$BE9,0)","v":{"v":0,"d":"0.00"}},{"$f":"IF($B9=3,$BE9,0)","v":{"v":0,"d":"0.00"}},{"$f":"IF($B9=4,$BE9,0)","v":{"v":0,"d":"0.00"}},{"$f":"IF($B9=5,$BE9,0)","v":{"v":0,"d":"0.00"}},{"$f":"IF($B9=6,$BE9,0)","v":{"v":0,"d":"0.00"}},{"$f":"IF(BL8>0,IF(H9+P9+X9+AF9+AN9+AV9+BD9+BT9+CB9+CJ9=0,IF(E9>0,BL8,0),0),0)","v":0},{"$f":"G9*BL9","v":{"v":0,"d":"0.00"}},{"$f":"IF($B9=1,$BM9,0)","v":{"v":0,"d":"0.00"}},{"$f":"IF($B9=2,$BM9,0)","v":{"v":0,"d":"0.00"}},{"$f":"IF($B9=3,$BM9,0)","v":{"v":0,"d":"0.00"}},{"$f":"IF($B9=4,$BM9,0)","v":{"v":0,"d":"0.00"}},{"$f":"IF($B9=5,$BM9,0)","v":{"v":0,"d":"0.00"}},{"$f":"IF($B9=6,$BM9,0)","v":{"v":0,"d":"0.00"}},{"$f":"IF(BT8>0,IF(H9+P9+X9+AF9+AN9+AV9+BD9+BL9+CB9+CJ9=0,IF(E9>0,BT8,0),0),0)","v":0},{"$f":"G9*BT9","v":{"v":0,"d":"0.00"}},{"$f":"IF($B9=1,$BU9,0)","v":{"v":0,"d":"0.00"}},{"$f":"IF($B9=2,$BU9,0)","v":{"v":0,"d":"0.00"}},{"$f":"IF($B9=3,$BU9,0)","v":{"v":0,"d":"0.00"}},{"$f":"IF($B9=4,$BU9,0)","v":{"v":0,"d":"0.00"}},{"$f":"IF($B9=5,$BU9,0)","v":{"v":0,"d":"0.00"}},{"$f":"IF($B9=6,$BU9,0)","v":{"v":0,"d":"0.00"}},{"$f":"IF(CB8>0,IF(H9+P9+X9+AF9+AN9+AV9+BD9+BL9+BT9+CJ9=0,IF(E9>0,CB8,0),0),0)","v":0},{"$f":"G9*CB9","v":{"v":0,"d":"0.00"}},{"$f":"IF($B9=1,$CC9,0)","v":{"v":0,"d":"0.00"}},{"$f":"IF($B9=2,$CC9,0)","v":{"v":0,"d":"0.00"}},{"$f":"IF($B9=3,$CC9,0)","v":{"v":0,"d":"0.00"}},{"$f":"IF($B9=4,$CC9,0)","v":{"v":0,"d":"0.00"}},{"$f":"IF($B9=5,$CC9,0)","v":{"v":0,"d":"0.00"}},{"$f":"IF($B9=6,$CC9,0)","v":{"v":0,"d":"0.00"}},{"$f":"IF(CJ8>0,IF(H9+P9+X9+AF9+AN9+AV9+BD9+BL9+BT9+CB9=0,IF(E9>0,CJ8,0),0),0)","v":0},{"$f":"G9*CJ9","v":{"v":0,"d":"0.00"}},{"$f":"IF($B9=1,$CK9,0)","v":{"v":0,"d":"0.00"}},{"$f":"IF($B9=2,$CK9,0)","v":{"v":0,"d":"0.00"}},{"$f":"IF($B9=3,$CK9,0)","v":{"v":0,"d":"0.00"}},{"$f":"IF($B9=4,$CK9,0)","v":{"v":0,"d":"0.00"}},{"$f":"IF($B9=5,$CK9,0)","v":{"v":0,"d":"0.00"}},{"$f":"IF($B9=6,$CK9,0)","v":{"v":0,"d":"0.00"}}]
[{"$f":"IF(C9<>C10,C10,\"\")","v":""},{"$f":"IF(C9<>C10,_xlfn.DAYS(C10,C9)+B9,B9)","v":1},{"$f":"IF(D10>0,IF(D10<E9,C9+1,C9),C9)","v":"2009-03-09"},{"$f":"IF((E10+H10+P10+X10+AF10+AN10+AV10+BD10+BL10+BT10+CB10+CJ10)>0,E9,0)","v":"00:00:00"},null,{"$f":"E10-D10","v":"00:00:00"},{"$f":"IF(E10>0,HOUR(F10)+(MINUTE(F10)/60),0)","v":0},{"$f":"IF(H9>0,IF(P10+X10+AF10+AN10+AV10+BD10+BL10+BT10+CB10+CJ10=0,IF(E10>0,H9,0),0),0)","v":0},{"$f":"G10*H10","v":{"v":0,"d":"0.00"}},{"$f":"IF($B10=1,$I10,0)","v":{"v":0,"d":"0.00"}},{"$f":"IF($B10=2,$I10,0)","v":{"v":0,"d":"0.00"}},{"$f":"IF($B10=3,$I10,0)","v":{"v":0,"d":"0.00"}},{"$f":"IF($B10=4,$I10,0)","v":{"v":0,"d":"0.00"}},{"$f":"IF($B10=5,$I10,0)","v":{"v":0,"d":"0.00"}},{"$f":"IF($B10=6,$I10,0)","v":{"v":0,"d":"0.00"}},{"$f":"IF(P9>0,IF(H10+X10+AF10+AN10+AV10+BD10+BL10+BT10+CB10+CJ10=0,IF(E10>0,P9,0),0),0)","v":0},{"$f":"G10*P10","v":{"v":0,"d":"0.00"}},{"$f":"IF(B10=1,Q10,0)","v":{"v":0,"d":"0.00"}},{"$f":"IF(B10=2,Q10,0)","v":{"v":0,"d":"0.00"}},{"$f":"IF(B10=3,Q10,0)","v":{"v":0,"d":"0.00"}},{"$f":"IF(B10=4,Q10,0)","v":{"v":0,"d":"0.00"}},{"$f":"IF(B10=5,Q10,0)","v":{"v":0,"d":"0.00"}},{"$f":"IF(B10=6,Q10,0)","v":{"v":0,"d":"0.00"}},{"$f":"IF(X9>0,IF(H10+P10+AF10+AN10+AV10+BD10+BL10+BT10+CB10+CJ10=0,IF(E10>0,X9,0),0),0)","v":0},{"$f":"G10*X10","v":{"v":0,"d":"0.00"}},{"$f":"IF($B10=1,$Y10,0)","v":{"v":0,"d":"0.00"}},{"$f":"IF($B10=2,$Y10,0)","v":{"v":0,"d":"0.00"}},{"$f":"IF($B10=3,$Y10,0)","v":{"v":0,"d":"0.00"}},{"$f":"IF($B10=4,$Y10,0)","v":{"v":0,"d":"0.00"}},{"$f":"IF($B10=5,$Y10,0)","v":{"v":0,"d":"0.00"}},{"$f":"IF($B10=6,$Y10,0)","v":{"v":0,"d":"0.00"}},{"$f":"IF(AF9>0,IF(H10+P10+X10+AN10+AV10+BD10+BL10+BT10+CB10+CJ10=0,IF(E10>0,AF9,0),0),0)","v":0},{"$f":"G10*AF10","v":{"v":0,"d":"0.00"}},{"$f":"IF($B10=1,$AG10,0)","v":{"v":0,"d":"0.00"}},{"$f":"IF($B10=2,$AG10,0)","v":{"v":0,"d":"0.00"}},{"$f":"IF($B10=3,$AG10,0)","v":{"v":0,"d":"0.00"}},{"$f":"IF($B10=4,$AG10,0)","v":{"v":0,"d":"0.00"}},{"$f":"IF($B10=5,$AG10,0)","v":{"v":0,"d":"0.00"}},{"$f":"IF($B10=6,$AG10,0)","v":{"v":0,"d":"0.00"}},{"$f":"IF(AN9>0,IF(H10+P10+X10+AF10+AV10+BD10+BL10+BT10+CB10+CJ10=0,IF(E10>0,AN9,0),0),0)","v":0},{"$f":"G10*AN10","v":{"v":0,"d":"0.00"}},{"$f":"IF($B10=1,$AO10,0)","v":{"v":0,"d":"0.00"}},{"$f":"IF($B10=2,$AO10,0)","v":{"v":0,"d":"0.00"}},{"$f":"IF($B10=3,$AO10,0)","v":{"v":0,"d":"0.00"}},{"$f":"IF($B10=4,$AO10,0)","v":{"v":0,"d":"0.00"}},{"$f":"IF($B10=5,$AO10,0)","v":{"v":0,"d":"0.00"}},{"$f":"IF($B10=6,$AO10,0)","v":{"v":0,"d":"0.00"}},{"$f":"IF(AV9>0,IF(H10+P10+X10+AF10+AN10+BD10+BL10+BT10+CB10+CJ10=0,IF(E10>0,AV9,0),0),0)","v":0},{"$f":"G10*AV10","v":{"v":0,"d":"0.00"}},{"$f":"IF($B10=1,$AW10,0)","v":{"v":0,"d":"0.00"}},{"$f":"IF($B10=2,$AW10,0)","v":{"v":0,"d":"0.00"}},{"$f":"IF($B10=3,$AW10,0)","v":{"v":0,"d":"0.00"}},{"$f":"IF($B10=4,$AW10,0)","v":{"v":0,"d":"0.00"}},{"$f":"IF($B10=5,$AW10,0)","v":{"v":0,"d":"0.00"}},{"$f":"IF($B10=6,$AW10,0)","v":{"v":0,"d":"0.00"}},{"$f":"IF(BD9>0,IF(H10+P10+X10+AF10+AN10+AV10+BL10+BT10+CB10+CJ10=0,IF(E10>0,BD9,0),0),0)","v":0},{"$f":"G10*BD10","v":{"v":0,"d":"0.00"}},{"$f":"IF($B10=1,$BE10,0)","v":{"v":0,"d":"0.00"}},{"$f":"IF($B10=2,$BE10,0)","v":{"v":0,"d":"0.00"}},{"$f":"IF($B10=3,$BE10,0)","v":{"v":0,"d":"0.00"}},{"$f":"IF($B10=4,$BE10,0)","v":{"v":0,"d":"0.00"}},{"$f":"IF($B10=5,$BE10,0)","v":{"v":0,"d":"0.00"}},{"$f":"IF($B10=6,$BE10,0)","v":{"v":0,"d":"0.00"}},{"$f":"IF(BL9>0,IF(H10+P10+X10+AF10+AN10+AV10+BD10+BT10+CB10+CJ10=0,IF(E10>0,BL9,0),0),0)","v":0},{"$f":"G10*BL10","v":{"v":0,"d":"0.00"}},{"$f":"IF($B10=1,$BM10,0)","v":{"v":0,"d":"0.00"}},{"$f":"IF($B10=2,$BM10,0)","v":{"v":0,"d":"0.00"}},{"$f":"IF($B10=3,$BM10,0)","v":{"v":0,"d":"0.00"}},{"$f":"IF($B10=4,$BM10,0)","v":{"v":0,"d":"0.00"}},{"$f":"IF($B10=5,$BM10,0)","v":{"v":0,"d":"0.00"}},{"$f":"IF($B10=6,$BM10,0)","v":{"v":0,"d":"0.00"}},{"$f":"IF(BT9>0,IF(H10+P10+X10+AF10+AN10+AV10+BD10+BL10+CB10+CJ10=0,IF(E10>0,BT9,0),0),0)","v":0},{"$f":"G10*BT10","v":{"v":0,"d":"0.00"}},{"$f":"IF($B10=1,$BU10,0)","v":{"v":0,"d":"0.00"}},{"$f":"IF($B10=2,$BU10,0)","v":{"v":0,"d":"0.00"}},{"$f":"IF($B10=3,$BU10,0)","v":{"v":0,"d":"0.00"}},{"$f":"IF($B10=4,$BU10,0)","v":{"v":0,"d":"0.00"}},{"$f":"IF($B10=5,$BU10,0)","v":{"v":0,"d":"0.00"}},{"$f":"IF($B10=6,$BU10,0)","v":{"v":0,"d":"0.00"}},{"$f":"IF(CB9>0,IF(H10+P10+X10+AF10+AN10+AV10+BD10+BL10+BT10+CJ10=0,IF(E10>0,CB9,0),0),0)","v":0},{"$f":"G10*CB10","v":{"v":0,"d":"0.00"}},{"$f":"IF($B10=1,$CC10,0)","v":{"v":0,"d":"0.00"}},{"$f":"IF($B10=2,$CC10,0)","v":{"v":0,"d":"0.00"}},{"$f":"IF($B10=3,$CC10,0)","v":{"v":0,"d":"0.00"}},{"$f":"IF($B10=4,$CC10,0)","v":{"v":0,"d":"0.00"}},{"$f":"IF($B10=5,$CC10,0)","v":{"v":0,"d":"0.00"}},{"$f":"IF($B10=6,$CC10,0)","v":{"v":0,"d":"0.00"}},{"$f":"IF(CJ9>0,IF(H10+P10+X10+AF10+AN10+AV10+BD10+BL10+BT10+CB10=0,IF(E10>0,CJ9,0),0),0)","v":0},{"$f":"G10*CJ10","v":{"v":0,"d":"0.00"}},{"$f":"IF($B10=1,$CK10,0)","v":{"v":0,"d":"0.00"}},{"$f":"IF($B10=2,$CK10,0)","v":{"v":0,"d":"0.00"}},{"$f":"IF($B10=3,$CK10,0)","v":{"v":0,"d":"0.00"}},{"$f":"IF($B10=4,$CK10,0)","v":{"v":0,"d":"0.00"}},{"$f":"IF($B10=5,$CK10,0)","v":{"v":0,"d":"0.00"}},{"$f":"IF($B10=6,$CK10,0)","v":{"v":0,"d":"0.00"}}]
[{"$f":"IF(C10<>C11,C11,\"\")","v":""},{"$f":"IF(C10<>C11,_xlfn.DAYS(C11,C10)+B10,B10)","v":1},{"$f":"IF(D11>0,IF(D11<E10,C10+1,C10),C10)","v":"2009-03-09"},{"$f":"IF((E11+H11+P11+X11+AF11+AN11+AV11+BD11+BL11+BT11+CB11+CJ11)>0,E10,0)","v":"00:00:00"},null,{"$f":"E11-D11","v":"00:00:00"},{"$f":"IF(E11>0,HOUR(F11)+(MINUTE(F11)/60),0)","v":0},{"$f":"IF(H10>0,IF(P11+X11+AF11+AN11+AV11+BD11+BL11+BT11+CB11+CJ11=0,IF(E11>0,H10,0),0),0)","v":0},{"$f":"G11*H11","v":{"v":0,"d":"0.00"}},{"$f":"IF($B11=1,$I11,0)","v":{"v":0,"d":"0.00"}},{"$f":"IF($B11=2,$I11,0)","v":{"v":0,"d":"0.00"}},{"$f":"IF($B11=3,$I11,0)","v":{"v":0,"d":"0.00"}},{"$f":"IF($B11=4,$I11,0)","v":{"v":0,"d":"0.00"}},{"$f":"IF($B11=5,$I11,0)","v":{"v":0,"d":"0.00"}},{"$f":"IF($B11=6,$I11,0)","v":{"v":0,"d":"0.00"}},{"$f":"IF(P10>0,IF(H11+X11+AF11+AN11+AV11+BD11+BL11+BT11+CB11+CJ11=0,IF(E11>0,P10,0),0),0)","v":0},{"$f":"G11*P11","v":{"v":0,"d":"0.00"}},{"$f":"IF(B11=1,Q11,0)","v":{"v":0,"d":"0.00"}},{"$f":"IF(B11=2,Q11,0)","v":{"v":0,"d":"0.00"}},{"$f":"IF(B11=3,Q11,0)","v":{"v":0,"d":"0.00"}},{"$f":"IF(B11=4,Q11,0)","v":{"v":0,"d":"0.00"}},{"$f":"IF(B11=5,Q11,0)","v":{"v":0,"d":"0.00"}},{"$f":"IF(B11=6,Q11,0)","v":{"v":0,"d":"0.00"}},{"$f":"IF(X10>0,IF(H11+P11+AF11+AN11+AV11+BD11+BL11+BT11+CB11+CJ11=0,IF(E11>0,X10,0),0),0)","v":0},{"$f":"G11*X11","v":{"v":0,"d":"0.00"}},{"$f":"IF($B11=1,$Y11,0)","v":{"v":0,"d":"0.00"}},{"$f":"IF($B11=2,$Y11,0)","v":{"v":0,"d":"0.00"}},{"$f":"IF($B11=3,$Y11,0)","v":{"v":0,"d":"0.00"}},{"$f":"IF($B11=4,$Y11,0)","v":{"v":0,"d":"0.00"}},{"$f":"IF($B11=5,$Y11,0)","v":{"v":0,"d":"0.00"}},{"$f":"IF($B11=6,$Y11,0)","v":{"v":0,"d":"0.00"}},{"$f":"IF(AF10>0,IF(H11+P11+X11+AN11+AV11+BD11+BL11+BT11+CB11+CJ11=0,IF(E11>0,AF10,0),0),0)","v":0},{"$f":"G11*AF11","v":{"v":0,"d":"0.00"}},{"$f":"IF($B11=1,$AG11,0)","v":{"v":0,"d":"0.00"}},{"$f":"IF($B11=2,$AG11,0)","v":{"v":0,"d":"0.00"}},{"$f":"IF($B11=3,$AG11,0)","v":{"v":0,"d":"0.00"}},{"$f":"IF($B11=4,$AG11,0)","v":{"v":0,"d":"0.00"}},{"$f":"IF($B11=5,$AG11,0)","v":{"v":0,"d":"0.00"}},{"$f":"IF($B11=6,$AG11,0)","v":{"v":0,"d":"0.00"}},{"$f":"IF(AN10>0,IF(H11+P11+X11+AF11+AV11+BD11+BL11+BT11+CB11+CJ11=0,IF(E11>0,AN10,0),0),0)","v":0},{"$f":"G11*AN11","v":{"v":0,"d":"0.00"}},{"$f":"IF($B11=1,$AO11,0)","v":{"v":0,"d":"0.00"}},{"$f":"IF($B11=2,$AO11,0)","v":{"v":0,"d":"0.00"}},{"$f":"IF($B11=3,$AO11,0)","v":{"v":0,"d":"0.00"}},{"$f":"IF($B11=4,$AO11,0)","v":{"v":0,"d":"0.00"}},{"$f":"IF($B11=5,$AO11,0)","v":{"v":0,"d":"0.00"}},{"$f":"IF($B11=6,$AO11,0)","v":{"v":0,"d":"0.00"}},{"$f":"IF(AV10>0,IF(H11+P11+X11+AF11+AN11+BD11+BL11+BT11+CB11+CJ11=0,IF(E11>0,AV10,0),0),0)","v":0},{"$f":"G11*AV11","v":{"v":0,"d":"0.00"}},{"$f":"IF($B11=1,$AW11,0)","v":{"v":0,"d":"0.00"}},{"$f":"IF($B11=2,$AW11,0)","v":{"v":0,"d":"0.00"}},{"$f":"IF($B11=3,$AW11,0)","v":{"v":0,"d":"0.00"}},{"$f":"IF($B11=4,$AW11,0)","v":{"v":0,"d":"0.00"}},{"$f":"IF($B11=5,$AW11,0)","v":{"v":0,"d":"0.00"}},{"$f":"IF($B11=6,$AW11,0)","v":{"v":0,"d":"0.00"}},{"$f":"IF(BD10>0,IF(H11+P11+X11+AF11+AN11+AV11+BL11+BT11+CB11+CJ11=0,IF(E11>0,BD10,0),0),0)","v":0},{"$f":"G11*BD11","v":{"v":0,"d":"0.00"}},{"$f":"IF($B11=1,$BE11,0)","v":{"v":0,"d":"0.00"}},{"$f":"IF($B11=2,$BE11,0)","v":{"v":0,"d":"0.00"}},{"$f":"IF($B11=3,$BE11,0)","v":{"v":0,"d":"0.00"}},{"$f":"IF($B11=4,$BE11,0)","v":{"v":0,"d":"0.00"}},{"$f":"IF($B11=5,$BE11,0)","v":{"v":0,"d":"0.00"}},{"$f":"IF($B11=6,$BE11,0)","v":{"v":0,"d":"0.00"}},{"$f":"IF(BL10>0,IF(H11+P11+X11+AF11+AN11+AV11+BD11+BT11+CB11+CJ11=0,IF(E11>0,BL10,0),0),0)","v":0},{"$f":"G11*BL11","v":{"v":0,"d":"0.00"}},{"$f":"IF($B11=1,$BM11,0)","v":{"v":0,"d":"0.00"}},{"$f":"IF($B11=2,$BM11,0)","v":{"v":0,"d":"0.00"}},{"$f":"IF($B11=3,$BM11,0)","v":{"v":0,"d":"0.00"}},{"$f":"IF($B11=4,$BM11,0)","v":{"v":0,"d":"0.00"}},{"$f":"IF($B11=5,$BM11,0)","v":{"v":0,"d":"0.00"}},{"$f":"IF($B11=6,$BM11,0)","v":{"v":0,"d":"0.00"}},{"$f":"IF(BT10>0,IF(H11+P11+X11+AF11+AN11+AV11+BD11+BL11+CB11+CJ11=0,IF(E11>0,BT10,0),0),0)","v":0},{"$f":"G11*BT11","v":{"v":0,"d":"0.00"}},{"$f":"IF($B11=1,$BU11,0)","v":{"v":0,"d":"0.00"}},{"$f":"IF($B11=2,$BU11,0)","v":{"v":0,"d":"0.00"}},{"$f":"IF($B11=3,$BU11,0)","v":{"v":0,"d":"0.00"}},{"$f":"IF($B11=4,$BU11,0)","v":{"v":0,"d":"0.00"}},{"$f":"IF($B11=5,$BU11,0)","v":{"v":0,"d":"0.00"}},{"$f":"IF($B11=6,$BU11,0)","v":{"v":0,"d":"0.00"}},{"$f":"IF(CB10>0,IF(H11+P11+X11+AF11+AN11+AV11+BD11+BL11+BT11+CJ11=0,IF(E11>0,CB10,0),0),0)","v":0},{"$f":"G11*CB11","v":{"v":0,"d":"0.00"}},{"$f":"IF($B11=1,$CC11,0)","v":{"v":0,"d":"0.00"}},{"$f":"IF($B11=2,$CC11,0)","v":{"v":0,"d":"0.00"}},{"$f":"IF($B11=3,$CC11,0)","v":{"v":0,"d":"0.00"}},{"$f":"IF($B11=4,$CC11,0)","v":{"v":0,"d":"0.00"}},{"$f":"IF($B11=5,$CC11,0)","v":{"v":0,"d":"0.00"}},{"$f":"IF($B11=6,$CC11,0)","v":{"v":0,"d":"0.00"}},{"$f":"IF(CJ10>0,IF(H11+P11+X11+AF11+AN11+AV11+BD11+BL11+BT11+CB11=0,IF(E11>0,CJ10,0),0),0)","v":0},{"$f":"G11*CJ11","v":{"v":0,"d":"0.00"}},{"$f":"IF($B11=1,$CK11,0)","v":{"v":0,"d":"0.00"}},{"$f":"IF($B11=2,$CK11,0)","v":{"v":0,"d":"0.00"}},{"$f":"IF($B11=3,$CK11,0)","v":{"v":0,"d":"0.00"}},{"$f":"IF($B11=4,$CK11,0)","v":{"v":0,"d":"0.00"}},{"$f":"IF($B11=5,$CK11,0)","v":{"v":0,"d":"0.00"}},{"$f":"IF($B11=6,$CK11,0)","v":{"v":0,"d":"0.00"}}]
[{"$f":"IF(C11<>C12,C12,\"\")","v":""},{"$f":"IF(C11<>C12,_xlfn.DAYS(C12,C11)+B11,B11)","v":1},{"$f":"IF(D12>0,IF(D12<E11,C11+1,C11),C11)","v":"2009-03-09"},{"$f":"IF((E12+H12+P12+X12+AF12+AN12+AV12+BD12+BL12+BT12+CB12+CJ12)>0,E11,0)","v":"00:00:00"},null,{"$f":"E12-D12","v":"00:00:00"},{"$f":"IF(E12>0,HOUR(F12)+(MINUTE(F12)/60),0)","v":0},{"$f":"IF(H11>0,IF(P12+X12+AF12+AN12+AV12+BD12+BL12+BT12+CB12+CJ12=0,IF(E12>0,H11,0),0),0)","v":0},{"$f":"G12*H12","v":{"v":0,"d":"0.00"}},{"$f":"IF($B12=1,$I12,0)","v":{"v":0,"d":"0.00"}},{"$f":"IF($B12=2,$I12,0)","v":{"v":0,"d":"0.00"}},{"$f":"IF($B12=3,$I12,0)","v":{"v":0,"d":"0.00"}},{"$f":"IF($B12=4,$I12,0)","v":{"v":0,"d":"0.00"}},{"$f":"IF($B12=5,$I12,0)","v":{"v":0,"d":"0.00"}},{"$f":"IF($B12=6,$I12,0)","v":{"v":0,"d":"0.00"}},{"$f":"IF(P11>0,IF(H12+X12+AF12+AN12+AV12+BD12+BL12+BT12+CB12+CJ12=0,IF(E12>0,P11,0),0),0)","v":0},{"$f":"G12*P12","v":{"v":0,"d":"0.00"}},{"$f":"IF(B12=1,Q12,0)","v":{"v":0,"d":"0.00"}},{"$f":"IF(B12=2,Q12,0)","v":{"v":0,"d":"0.00"}},{"$f":"IF(B12=3,Q12,0)","v":{"v":0,"d":"0.00"}},{"$f":"IF(B12=4,Q12,0)","v":{"v":0,"d":"0.00"}},{"$f":"IF(B12=5,Q12,0)","v":{"v":0,"d":"0.00"}},{"$f":"IF(B12=6,Q12,0)","v":{"v":0,"d":"0.00"}},{"$f":"IF(X11>0,IF(H12+P12+AF12+AN12+AV12+BD12+BL12+BT12+CB12+CJ12=0,IF(E12>0,X11,0),0),0)","v":0},{"$f":"G12*X12","v":{"v":0,"d":"0.00"}},{"$f":"IF($B12=1,$Y12,0)","v":{"v":0,"d":"0.00"}},{"$f":"IF($B12=2,$Y12,0)","v":{"v":0,"d":"0.00"}},{"$f":"IF($B12=3,$Y12,0)","v":{"v":0,"d":"0.00"}},{"$f":"IF($B12=4,$Y12,0)","v":{"v":0,"d":"0.00"}},{"$f":"IF($B12=5,$Y12,0)","v":{"v":0,"d":"0.00"}},{"$f":"IF($B12=6,$Y12,0)","v":{"v":0,"d":"0.00"}},{"$f":"IF(AF11>0,IF(H12+P12+X12+AN12+AV12+BD12+BL12+BT12+CB12+CJ12=0,IF(E12>0,AF11,0),0),0)","v":0},{"$f":"G12*AF12","v":{"v":0,"d":"0.00"}},{"$f":"IF($B12=1,$AG12,0)","v":{"v":0,"d":"0.00"}},{"$f":"IF($B12=2,$AG12,0)","v":{"v":0,"d":"0.00"}},{"$f":"IF($B12=3,$AG12,0)","v":{"v":0,"d":"0.00"}},{"$f":"IF($B12=4,$AG12,0)","v":{"v":0,"d":"0.00"}},{"$f":"IF($B12=5,$AG12,0)","v":{"v":0,"d":"0.00"}},{"$f":"IF($B12=6,$AG12,0)","v":{"v":0,"d":"0.00"}},{"$f":"IF(AN11>0,IF(H12+P12+X12+AF12+AV12+BD12+BL12+BT12+CB12+CJ12=0,IF(E12>0,AN11,0),0),0)","v":0},{"$f":"G12*AN12","v":{"v":0,"d":"0.00"}},{"$f":"IF($B12=1,$AO12,0)","v":{"v":0,"d":"0.00"}},{"$f":"IF($B12=2,$AO12,0)","v":{"v":0,"d":"0.00"}},{"$f":"IF($B12=3,$AO12,0)","v":{"v":0,"d":"0.00"}},{"$f":"IF($B12=4,$AO12,0)","v":{"v":0,"d":"0.00"}},{"$f":"IF($B12=5,$AO12,0)","v":{"v":0,"d":"0.00"}},{"$f":"IF($B12=6,$AO12,0)","v":{"v":0,"d":"0.00"}},{"$f":"IF(AV11>0,IF(H12+P12+X12+AF12+AN12+BD12+BL12+BT12+CB12+CJ12=0,IF(E12>0,AV11,0),0),0)","v":0},{"$f":"G12*AV12","v":{"v":0,"d":"0.00"}},{"$f":"IF($B12=1,$AW12,0)","v":{"v":0,"d":"0.00"}},{"$f":"IF($B12=2,$AW12,0)","v":{"v":0,"d":"0.00"}},{"$f":"IF($B12=3,$AW12,0)","v":{"v":0,"d":"0.00"}},{"$f":"IF($B12=4,$AW12,0)","v":{"v":0,"d":"0.00"}},{"$f":"IF($B12=5,$AW12,0)","v":{"v":0,"d":"0.00"}},{"$f":"IF($B12=6,$AW12,0)","v":{"v":0,"d":"0.00"}},{"$f":"IF(BD11>0,IF(H12+P12+X12+AF12+AN12+AV12+BL12+BT12+CB12+CJ12=0,IF(E12>0,BD11,0),0),0)","v":0},{"$f":"G12*BD12","v":{"v":0,"d":"0.00"}},{"$f":"IF($B12=1,$BE12,0)","v":{"v":0,"d":"0.00"}},{"$f":"IF($B12=2,$BE12,0)","v":{"v":0,"d":"0.00"}},{"$f":"IF($B12=3,$BE12,0)","v":{"v":0,"d":"0.00"}},{"$f":"IF($B12=4,$BE12,0)","v":{"v":0,"d":"0.00"}},{"$f":"IF($B12=5,$BE12,0)","v":{"v":0,"d":"0.00"}},{"$f":"IF($B12=6,$BE12,0)","v":{"v":0,"d":"0.00"}},{"$f":"IF(BL11>0,IF(H12+P12+X12+AF12+AN12+AV12+BD12+BT12+CB12+CJ12=0,IF(E12>0,BL11,0),0),0)","v":0},{"$f":"G12*BL12","v":{"v":0,"d":"0.00"}},{"$f":"IF($B12=1,$BM12,0)","v":{"v":0,"d":"0.00"}},{"$f":"IF($B12=2,$BM12,0)","v":{"v":0,"d":"0.00"}},{"$f":"IF($B12=3,$BM12,0)","v":{"v":0,"d":"0.00"}},{"$f":"IF($B12=4,$BM12,0)","v":{"v":0,"d":"0.00"}},{"$f":"IF($B12=5,$BM12,0)","v":{"v":0,"d":"0.00"}},{"$f":"IF($B12=6,$BM12,0)","v":{"v":0,"d":"0.00"}},{"$f":"IF(BT11>0,IF(H12+P12+X12+AF12+AN12+AV12+BD12+BL12+CB12+CJ12=0,IF(E12>0,BT11,0),0),0)","v":0},{"$f":"G12*BT12","v":{"v":0,"d":"0.00"}},{"$f":"IF($B12=1,$BU12,0)","v":{"v":0,"d":"0.00"}},{"$f":"IF($B12=2,$BU12,0)","v":{"v":0,"d":"0.00"}},{"$f":"IF($B12=3,$BU12,0)","v":{"v":0,"d":"0.00"}},{"$f":"IF($B12=4,$BU12,0)","v":{"v":0,"d":"0.00"}},{"$f":"IF($B12=5,$BU12,0)","v":{"v":0,"d":"0.00"}},{"$f":"IF($B12=6,$BU12,0)","v":{"v":0,"d":"0.00"}},{"$f":"IF(CB11>0,IF(H12+P12+X12+AF12+AN12+AV12+BD12+BL12+BT12+CJ12=0,IF(E12>0,CB11,0),0),0)","v":0},{"$f":"G12*CB12","v":{"v":0,"d":"0.00"}},{"$f":"IF($B12=1,$CC12,0)","v":{"v":0,"d":"0.00"}},{"$f":"IF($B12=2,$CC12,0)","v":{"v":0,"d":"0.00"}},{"$f":"IF($B12=3,$CC12,0)","v":{"v":0,"d":"0.00"}},{"$f":"IF($B12=4,$CC12,0)","v":{"v":0,"d":"0.00"}},{"$f":"IF($B12=5,$CC12,0)","v":{"v":0,"d":"0.00"}},{"$f":"IF($B12=6,$CC12,0)","v":{"v":0,"d":"0.00"}},{"$f":"IF(CJ11>0,IF(H12+P12+X12+AF12+AN12+AV12+BD12+BL12+BT12+CB12=0,IF(E12>0,CJ11,0),0),0)","v":0},{"$f":"G12*CJ12","v":{"v":0,"d":"0.00"}},{"$f":"IF($B12=1,$CK12,0)","v":{"v":0,"d":"0.00"}},{"$f":"IF($B12=2,$CK12,0)","v":{"v":0,"d":"0.00"}},{"$f":"IF($B12=3,$CK12,0)","v":{"v":0,"d":"0.00"}},{"$f":"IF($B12=4,$CK12,0)","v":{"v":0,"d":"0.00"}},{"$f":"IF($B12=5,$CK12,0)","v":{"v":0,"d":"0.00"}},{"$f":"IF($B12=6,$CK12,0)","v":{"v":0,"d":"0.00"}}]
[{"$f":"IF(C12<>C13,C13,\"\")","v":""},{"$f":"IF(C12<>C13,_xlfn.DAYS(C13,C12)+B12,B12)","v":1},{"$f":"IF(D13>0,IF(D13<E12,C12+1,C12),C12)","v":"2009-03-09"},{"$f":"IF((E13+H13+P13+X13+AF13+AN13+AV13+BD13+BL13+BT13+CB13+CJ13)>0,E12,0)","v":"00:00:00"},null,{"$f":"E13-D13","v":"00:00:00"},{"$f":"IF(E13>0,HOUR(F13)+(MINUTE(F13)/60),0)","v":0},{"$f":"IF(H12>0,IF(P13+X13+AF13+AN13+AV13+BD13+BL13+BT13+CB13+CJ13=0,IF(E13>0,H12,0),0),0)","v":0},{"$f":"G13*H13","v":{"v":0,"d":"0.00"}},{"$f":"IF($B13=1,$I13,0)","v":{"v":0,"d":"0.00"}},{"$f":"IF($B13=2,$I13,0)","v":{"v":0,"d":"0.00"}},{"$f":"IF($B13=3,$I13,0)","v":{"v":0,"d":"0.00"}},{"$f":"IF($B13=4,$I13,0)","v":{"v":0,"d":"0.00"}},{"$f":"IF($B13=5,$I13,0)","v":{"v":0,"d":"0.00"}},{"$f":"IF($B13=6,$I13,0)","v":{"v":0,"d":"0.00"}},{"$f":"IF(P12>0,IF(H13+X13+AF13+AN13+AV13+BD13+BL13+BT13+CB13+CJ13=0,IF(E13>0,P12,0),0),0)","v":0},{"$f":"G13*P13","v":{"v":0,"d":"0.00"}},{"$f":"IF(B13=1,Q13,0)","v":{"v":0,"d":"0.00"}},{"$f":"IF(B13=2,Q13,0)","v":{"v":0,"d":"0.00"}},{"$f":"IF(B13=3,Q13,0)","v":{"v":0,"d":"0.00"}},{"$f":"IF(B13=4,Q13,0)","v":{"v":0,"d":"0.00"}},{"$f":"IF(B13=5,Q13,0)","v":{"v":0,"d":"0.00"}},{"$f":"IF(B13=6,Q13,0)","v":{"v":0,"d":"0.00"}},{"$f":"IF(X12>0,IF(H13+P13+AF13+AN13+AV13+BD13+BL13+BT13+CB13+CJ13=0,IF(E13>0,X12,0),0),0)","v":0},{"$f":"G13*X13","v":{"v":0,"d":"0.00"}},{"$f":"IF($B13=1,$Y13,0)","v":{"v":0,"d":"0.00"}},{"$f":"IF($B13=2,$Y13,0)","v":{"v":0,"d":"0.00"}},{"$f":"IF($B13=3,$Y13,0)","v":{"v":0,"d":"0.00"}},{"$f":"IF($B13=4,$Y13,0)","v":{"v":0,"d":"0.00"}},{"$f":"IF($B13=5,$Y13,0)","v":{"v":0,"d":"0.00"}},{"$f":"IF($B13=6,$Y13,0)","v":{"v":0,"d":"0.00"}},{"$f":"IF(AF12>0,IF(H13+P13+X13+AN13+AV13+BD13+BL13+BT13+CB13+CJ13=0,IF(E13>0,AF12,0),0),0)","v":0},{"$f":"G13*AF13","v":{"v":0,"d":"0.00"}},{"$f":"IF($B13=1,$AG13,0)","v":{"v":0,"d":"0.00"}},{"$f":"IF($B13=2,$AG13,0)","v":{"v":0,"d":"0.00"}},{"$f":"IF($B13=3,$AG13,0)","v":{"v":0,"d":"0.00"}},{"$f":"IF($B13=4,$AG13,0)","v":{"v":0,"d":"0.00"}},{"$f":"IF($B13=5,$AG13,0)","v":{"v":0,"d":"0.00"}},{"$f":"IF($B13=6,$AG13,0)","v":{"v":0,"d":"0.00"}},{"$f":"IF(AN12>0,IF(H13+P13+X13+AF13+AV13+BD13+BL13+BT13+CB13+CJ13=0,IF(E13>0,AN12,0),0),0)","v":0},{"$f":"G13*AN13","v":{"v":0,"d":"0.00"}},{"$f":"IF($B13=1,$AO13,0)","v":{"v":0,"d":"0.00"}},{"$f":"IF($B13=2,$AO13,0)","v":{"v":0,"d":"0.00"}},{"$f":"IF($B13=3,$AO13,0)","v":{"v":0,"d":"0.00"}},{"$f":"IF($B13=4,$AO13,0)","v":{"v":0,"d":"0.00"}},{"$f":"IF($B13=5,$AO13,0)","v":{"v":0,"d":"0.00"}},{"$f":"IF($B13=6,$AO13,0)","v":{"v":0,"d":"0.00"}},{"$f":"IF(AV12>0,IF(H13+P13+X13+AF13+AN13+BD13+BL13+BT13+CB13+CJ13=0,IF(E13>0,AV12,0),0),0)","v":0},{"$f":"G13*AV13","v":{"v":0,"d":"0.00"}},{"$f":"IF($B13=1,$AW13,0)","v":{"v":0,"d":"0.00"}},{"$f":"IF($B13=2,$AW13,0)","v":{"v":0,"d":"0.00"}},{"$f":"IF($B13=3,$AW13,0)","v":{"v":0,"d":"0.00"}},{"$f":"IF($B13=4,$AW13,0)","v":{"v":0,"d":"0.00"}},{"$f":"IF($B13=5,$AW13,0)","v":{"v":0,"d":"0.00"}},{"$f":"IF($B13=6,$AW13,0)","v":{"v":0,"d":"0.00"}},{"$f":"IF(BD12>0,IF(H13+P13+X13+AF13+AN13+AV13+BL13+BT13+CB13+CJ13=0,IF(E13>0,BD12,0),0),0)","v":0},{"$f":"G13*BD13","v":{"v":0,"d":"0.00"}},{"$f":"IF($B13=1,$BE13,0)","v":{"v":0,"d":"0.00"}},{"$f":"IF($B13=2,$BE13,0)","v":{"v":0,"d":"0.00"}},{"$f":"IF($B13=3,$BE13,0)","v":{"v":0,"d":"0.00"}},{"$f":"IF($B13=4,$BE13,0)","v":{"v":0,"d":"0.00"}},{"$f":"IF($B13=5,$BE13,0)","v":{"v":0,"d":"0.00"}},{"$f":"IF($B13=6,$BE13,0)","v":{"v":0,"d":"0.00"}},{"$f":"IF(BL12>0,IF(H13+P13+X13+AF13+AN13+AV13+BD13+BT13+CB13+CJ13=0,IF(E13>0,BL12,0),0),0)","v":0},{"$f":"G13*BL13","v":{"v":0,"d":"0.00"}},{"$f":"IF($B13=1,$BM13,0)","v":{"v":0,"d":"0.00"}},{"$f":"IF($B13=2,$BM13,0)","v":{"v":0,"d":"0.00"}},{"$f":"IF($B13=3,$BM13,0)","v":{"v":0,"d":"0.00"}},{"$f":"IF($B13=4,$BM13,0)","v":{"v":0,"d":"0.00"}},{"$f":"IF($B13=5,$BM13,0)","v":{"v":0,"d":"0.00"}},{"$f":"IF($B13=6,$BM13,0)","v":{"v":0,"d":"0.00"}},{"$f":"IF(BT12>0,IF(H13+P13+X13+AF13+AN13+AV13+BD13+BL13+CB13+CJ13=0,IF(E13>0,BT12,0),0),0)","v":0},{"$f":"G13*BT13","v":{"v":0,"d":"0.00"}},{"$f":"IF($B13=1,$BU13,0)","v":{"v":0,"d":"0.00"}},{"$f":"IF($B13=2,$BU13,0)","v":{"v":0,"d":"0.00"}},{"$f":"IF($B13=3,$BU13,0)","v":{"v":0,"d":"0.00"}},{"$f":"IF($B13=4,$BU13,0)","v":{"v":0,"d":"0.00"}},{"$f":"IF($B13=5,$BU13,0)","v":{"v":0,"d":"0.00"}},{"$f":"IF($B13=6,$BU13,0)","v":{"v":0,"d":"0.00"}},{"$f":"IF(CB12>0,IF(H13+P13+X13+AF13+AN13+AV13+BD13+BL13+BT13+CJ13=0,IF(E13>0,CB12,0),0),0)","v":0},{"$f":"G13*CB13","v":{"v":0,"d":"0.00"}},{"$f":"IF($B13=1,$CC13,0)","v":{"v":0,"d":"0.00"}},{"$f":"IF($B13=2,$CC13,0)","v":{"v":0,"d":"0.00"}},{"$f":"IF($B13=3,$CC13,0)","v":{"v":0,"d":"0.00"}},{"$f":"IF($B13=4,$CC13,0)","v":{"v":0,"d":"0.00"}},{"$f":"IF($B13=5,$CC13,0)","v":{"v":0,"d":"0.00"}},{"$f":"IF($B13=6,$CC13,0)","v":{"v":0,"d":"0.00"}},{"$f":"IF(CJ12>0,IF(H13+P13+X13+AF13+AN13+AV13+BD13+BL13+BT13+CB13=0,IF(E13>0,CJ12,0),0),0)","v":0},{"$f":"G13*CJ13","v":{"v":0,"d":"0.00"}},{"$f":"IF($B13=1,$CK13,0)","v":{"v":0,"d":"0.00"}},{"$f":"IF($B13=2,$CK13,0)","v":{"v":0,"d":"0.00"}},{"$f":"IF($B13=3,$CK13,0)","v":{"v":0,"d":"0.00"}},{"$f":"IF($B13=4,$CK13,0)","v":{"v":0,"d":"0.00"}},{"$f":"IF($B13=5,$CK13,0)","v":{"v":0,"d":"0.00"}},{"$f":"IF($B13=6,$CK13,0)","v":{"v":0,"d":"0.00"}}]
[{"$f":"IF(C13<>C14,C14,\"\")","v":""},{"$f":"IF(C13<>C14,_xlfn.DAYS(C14,C13)+B13,B13)","v":1},{"$f":"IF(D14>0,IF(D14<E13,C13+1,C13),C13)","v":"2009-03-09"},{"$f":"IF((E14+H14+P14+X14+AF14+AN14+AV14+BD14+BL14+BT14+CB14+CJ14)>0,E13,0)","v":"00:00:00"},null,{"$f":"E14-D14","v":"00:00:00"},{"$f":"IF(E14>0,HOUR(F14)+(MINUTE(F14)/60),0)","v":0},{"$f":"IF(H13>0,IF(P14+X14+AF14+AN14+AV14+BD14+BL14+BT14+CB14+CJ14=0,IF(E14>0,H13,0),0),0)","v":0},{"$f":"G14*H14","v":{"v":0,"d":"0.00"}},{"$f":"IF($B14=1,$I14,0)","v":{"v":0,"d":"0.00"}},{"$f":"IF($B14=2,$I14,0)","v":{"v":0,"d":"0.00"}},{"$f":"IF($B14=3,$I14,0)","v":{"v":0,"d":"0.00"}},{"$f":"IF($B14=4,$I14,0)","v":{"v":0,"d":"0.00"}},{"$f":"IF($B14=5,$I14,0)","v":{"v":0,"d":"0.00"}},{"$f":"IF($B14=6,$I14,0)","v":{"v":0,"d":"0.00"}},{"$f":"IF(P13>0,IF(H14+X14+AF14+AN14+AV14+BD14+BL14+BT14+CB14+CJ14=0,IF(E14>0,P13,0),0),0)","v":0},{"$f":"G14*P14","v":{"v":0,"d":"0.00"}},{"$f":"IF(B14=1,Q14,0)","v":{"v":0,"d":"0.00"}},{"$f":"IF(B14=2,Q14,0)","v":{"v":0,"d":"0.00"}},{"$f":"IF(B14=3,Q14,0)","v":{"v":0,"d":"0.00"}},{"$f":"IF(B14=4,Q14,0)","v":{"v":0,"d":"0.00"}},{"$f":"IF(B14=5,Q14,0)","v":{"v":0,"d":"0.00"}},{"$f":"IF(B14=6,Q14,0)","v":{"v":0,"d":"0.00"}},{"$f":"IF(X13>0,IF(H14+P14+AF14+AN14+AV14+BD14+BL14+BT14+CB14+CJ14=0,IF(E14>0,X13,0),0),0)","v":0},{"$f":"G14*X14","v":{"v":0,"d":"0.00"}},{"$f":"IF($B14=1,$Y14,0)","v":{"v":0,"d":"0.00"}},{"$f":"IF($B14=2,$Y14,0)","v":{"v":0,"d":"0.00"}},{"$f":"IF($B14=3,$Y14,0)","v":{"v":0,"d":"0.00"}},{"$f":"IF($B14=4,$Y14,0)","v":{"v":0,"d":"0.00"}},{"$f":"IF($B14=5,$Y14,0)","v":{"v":0,"d":"0.00"}},{"$f":"IF($B14=6,$Y14,0)","v":{"v":0,"d":"0.00"}},{"$f":"IF(AF13>0,IF(H14+P14+X14+AN14+AV14+BD14+BL14+BT14+CB14+CJ14=0,IF(E14>0,AF13,0),0),0)","v":0},{"$f":"G14*AF14","v":{"v":0,"d":"0.00"}},{"$f":"IF($B14=1,$AG14,0)","v":{"v":0,"d":"0.00"}},{"$f":"IF($B14=2,$AG14,0)","v":{"v":0,"d":"0.00"}},{"$f":"IF($B14=3,$AG14,0)","v":{"v":0,"d":"0.00"}},{"$f":"IF($B14=4,$AG14,0)","v":{"v":0,"d":"0.00"}},{"$f":"IF($B14=5,$AG14,0)","v":{"v":0,"d":"0.00"}},{"$f":"IF($B14=6,$AG14,0)","v":{"v":0,"d":"0.00"}},{"$f":"IF(AN13>0,IF(H14+P14+X14+AF14+AV14+BD14+BL14+BT14+CB14+CJ14=0,IF(E14>0,AN13,0),0),0)","v":0},{"$f":"G14*AN14","v":{"v":0,"d":"0.00"}},{"$f":"IF($B14=1,$AO14,0)","v":{"v":0,"d":"0.00"}},{"$f":"IF($B14=2,$AO14,0)","v":{"v":0,"d":"0.00"}},{"$f":"IF($B14=3,$AO14,0)","v":{"v":0,"d":"0.00"}},{"$f":"IF($B14=4,$AO14,0)","v":{"v":0,"d":"0.00"}},{"$f":"IF($B14=5,$AO14,0)","v":{"v":0,"d":"0.00"}},{"$f":"IF($B14=6,$AO14,0)","v":{"v":0,"d":"0.00"}},{"$f":"IF(AV13>0,IF(H14+P14+X14+AF14+AN14+BD14+BL14+BT14+CB14+CJ14=0,IF(E14>0,AV13,0),0),0)","v":0},{"$f":"G14*AV14","v":{"v":0,"d":"0.00"}},{"$f":"IF($B14=1,$AW14,0)","v":{"v":0,"d":"0.00"}},{"$f":"IF($B14=2,$AW14,0)","v":{"v":0,"d":"0.00"}},{"$f":"IF($B14=3,$AW14,0)","v":{"v":0,"d":"0.00"}},{"$f":"IF($B14=4,$AW14,0)","v":{"v":0,"d":"0.00"}},{"$f":"IF($B14=5,$AW14,0)","v":{"v":0,"d":"0.00"}},{"$f":"IF($B14=6,$AW14,0)","v":{"v":0,"d":"0.00"}},{"$f":"IF(BD13>0,IF(H14+P14+X14+AF14+AN14+AV14+BL14+BT14+CB14+CJ14=0,IF(E14>0,BD13,0),0),0)","v":0},{"$f":"G14*BD14","v":{"v":0,"d":"0.00"}},{"$f":"IF($B14=1,$BE14,0)","v":{"v":0,"d":"0.00"}},{"$f":"IF($B14=2,$BE14,0)","v":{"v":0,"d":"0.00"}},{"$f":"IF($B14=3,$BE14,0)","v":{"v":0,"d":"0.00"}},{"$f":"IF($B14=4,$BE14,0)","v":{"v":0,"d":"0.00"}},{"$f":"IF($B14=5,$BE14,0)","v":{"v":0,"d":"0.00"}},{"$f":"IF($B14=6,$BE14,0)","v":{"v":0,"d":"0.00"}},{"$f":"IF(BL13>0,IF(H14+P14+X14+AF14+AN14+AV14+BD14+BT14+CB14+CJ14=0,IF(E14>0,BL13,0),0),0)","v":0},{"$f":"G14*BL14","v":{"v":0,"d":"0.00"}},{"$f":"IF($B14=1,$BM14,0)","v":{"v":0,"d":"0.00"}},{"$f":"IF($B14=2,$BM14,0)","v":{"v":0,"d":"0.00"}},{"$f":"IF($B14=3,$BM14,0)","v":{"v":0,"d":"0.00"}},{"$f":"IF($B14=4,$BM14,0)","v":{"v":0,"d":"0.00"}},{"$f":"IF($B14=5,$BM14,0)","v":{"v":0,"d":"0.00"}},{"$f":"IF($B14=6,$BM14,0)","v":{"v":0,"d":"0.00"}},{"$f":"IF(BT13>0,IF(H14+P14+X14+AF14+AN14+AV14+BD14+BL14+CB14+CJ14=0,IF(E14>0,BT13,0),0),0)","v":0},{"$f":"G14*BT14","v":{"v":0,"d":"0.00"}},{"$f":"IF($B14=1,$BU14,0)","v":{"v":0,"d":"0.00"}},{"$f":"IF($B14=2,$BU14,0)","v":{"v":0,"d":"0.00"}},{"$f":"IF($B14=3,$BU14,0)","v":{"v":0,"d":"0.00"}},{"$f":"IF($B14=4,$BU14,0)","v":{"v":0,"d":"0.00"}},{"$f":"IF($B14=5,$BU14,0)","v":{"v":0,"d":"0.00"}},{"$f":"IF($B14=6,$BU14,0)","v":{"v":0,"d":"0.00"}},{"$f":"IF(CB13>0,IF(H14+P14+X14+AF14+AN14+AV14+BD14+BL14+BT14+CJ14=0,IF(E14>0,CB13,0),0),0)","v":0},{"$f":"G14*CB14","v":{"v":0,"d":"0.00"}},{"$f":"IF($B14=1,$CC14,0)","v":{"v":0,"d":"0.00"}},{"$f":"IF($B14=2,$CC14,0)","v":{"v":0,"d":"0.00"}},{"$f":"IF($B14=3,$CC14,0)","v":{"v":0,"d":"0.00"}},{"$f":"IF($B14=4,$CC14,0)","v":{"v":0,"d":"0.00"}},{"$f":"IF($B14=5,$CC14,0)","v":{"v":0,"d":"0.00"}},{"$f":"IF($B14=6,$CC14,0)","v":{"v":0,"d":"0.00"}},{"$f":"IF(CJ13>0,IF(H14+P14+X14+AF14+AN14+AV14+BD14+BL14+BT14+CB14=0,IF(E14>0,CJ13,0),0),0)","v":0},{"$f":"G14*CJ14","v":{"v":0,"d":"0.00"}},{"$f":"IF($B14=1,$CK14,0)","v":{"v":0,"d":"0.00"}},{"$f":"IF($B14=2,$CK14,0)","v":{"v":0,"d":"0.00"}},{"$f":"IF($B14=3,$CK14,0)","v":{"v":0,"d":"0.00"}},{"$f":"IF($B14=4,$CK14,0)","v":{"v":0,"d":"0.00"}},{"$f":"IF($B14=5,$CK14,0)","v":{"v":0,"d":"0.00"}},{"$f":"IF($B14=6,$CK14,0)","v":{"v":0,"d":"0.00"}}]
[{"$f":"IF(C14<>C15,C15,\"\")","v":""},{"$f":"IF(C14<>C15,_xlfn.DAYS(C15,C14)+B14,B14)","v":1},{"$f":"IF(D15>0,IF(D15<E14,C14+1,C14),C14)","v":"2009-03-09"},{"$f":"IF((E15+H15+P15+X15+AF15+AN15+AV15+BD15+BL15+BT15+CB15+CJ15)>0,E14,0)","v":"00:00:00"},null,{"$f":"E15-D15","v":"00:00:00"},{"$f":"IF(E15>0,HOUR(F15)+(MINUTE(F15)/60),0)","v":0},{"$f":"IF(H14>0,IF(P15+X15+AF15+AN15+AV15+BD15+BL15+BT15+CB15+CJ15=0,IF(E15>0,H14,0),0),0)","v":0},{"$f":"G15*H15","v":{"v":0,"d":"0.00"}},{"$f":"IF($B15=1,$I15,0)","v":{"v":0,"d":"0.00"}},{"$f":"IF($B15=2,$I15,0)","v":{"v":0,"d":"0.00"}},{"$f":"IF($B15=3,$I15,0)","v":{"v":0,"d":"0.00"}},{"$f":"IF($B15=4,$I15,0)","v":{"v":0,"d":"0.00"}},{"$f":"IF($B15=5,$I15,0)","v":{"v":0,"d":"0.00"}},{"$f":"IF($B15=6,$I15,0)","v":{"v":0,"d":"0.00"}},{"$f":"IF(P14>0,IF(H15+X15+AF15+AN15+AV15+BD15+BL15+BT15+CB15+CJ15=0,IF(E15>0,P14,0),0),0)","v":0},{"$f":"G15*P15","v":{"v":0,"d":"0.00"}},{"$f":"IF(B15=1,Q15,0)","v":{"v":0,"d":"0.00"}},{"$f":"IF(B15=2,Q15,0)","v":{"v":0,"d":"0.00"}},{"$f":"IF(B15=3,Q15,0)","v":{"v":0,"d":"0.00"}},{"$f":"IF(B15=4,Q15,0)","v":{"v":0,"d":"0.00"}},{"$f":"IF(B15=5,Q15,0)","v":{"v":0,"d":"0.00"}},{"$f":"IF(B15=6,Q15,0)","v":{"v":0,"d":"0.00"}},{"$f":"IF(X14>0,IF(H15+P15+AF15+AN15+AV15+BD15+BL15+BT15+CB15+CJ15=0,IF(E15>0,X14,0),0),0)","v":0},{"$f":"G15*X15","v":{"v":0,"d":"0.00"}},{"$f":"IF($B15=1,$Y15,0)","v":{"v":0,"d":"0.00"}},{"$f":"IF($B15=2,$Y15,0)","v":{"v":0,"d":"0.00"}},{"$f":"IF($B15=3,$Y15,0)","v":{"v":0,"d":"0.00"}},{"$f":"IF($B15=4,$Y15,0)","v":{"v":0,"d":"0.00"}},{"$f":"IF($B15=5,$Y15,0)","v":{"v":0,"d":"0.00"}},{"$f":"IF($B15=6,$Y15,0)","v":{"v":0,"d":"0.00"}},{"$f":"IF(AF14>0,IF(H15+P15+X15+AN15+AV15+BD15+BL15+BT15+CB15+CJ15=0,IF(E15>0,AF14,0),0),0)","v":0},{"$f":"G15*AF15","v":{"v":0,"d":"0.00"}},{"$f":"IF($B15=1,$AG15,0)","v":{"v":0,"d":"0.00"}},{"$f":"IF($B15=2,$AG15,0)","v":{"v":0,"d":"0.00"}},{"$f":"IF($B15=3,$AG15,0)","v":{"v":0,"d":"0.00"}},{"$f":"IF($B15=4,$AG15,0)","v":{"v":0,"d":"0.00"}},{"$f":"IF($B15=5,$AG15,0)","v":{"v":0,"d":"0.00"}},{"$f":"IF($B15=6,$AG15,0)","v":{"v":0,"d":"0.00"}},{"$f":"IF(AN14>0,IF(H15+P15+X15+AF15+AV15+BD15+BL15+BT15+CB15+CJ15=0,IF(E15>0,AN14,0),0),0)","v":0},{"$f":"G15*AN15","v":{"v":0,"d":"0.00"}},{"$f":"IF($B15=1,$AO15,0)","v":{"v":0,"d":"0.00"}},{"$f":"IF($B15=2,$AO15,0)","v":{"v":0,"d":"0.00"}},{"$f":"IF($B15=3,$AO15,0)","v":{"v":0,"d":"0.00"}},{"$f":"IF($B15=4,$AO15,0)","v":{"v":0,"d":"0.00"}},{"$f":"IF($B15=5,$AO15,0)","v":{"v":0,"d":"0.00"}},{"$f":"IF($B15=6,$AO15,0)","v":{"v":0,"d":"0.00"}},{"$f":"IF(AV14>0,IF(H15+P15+X15+AF15+AN15+BD15+BL15+BT15+CB15+CJ15=0,IF(E15>0,AV14,0),0),0)","v":0},{"$f":"G15*AV15","v":{"v":0,"d":"0.00"}},{"$f":"IF($B15=1,$AW15,0)","v":{"v":0,"d":"0.00"}},{"$f":"IF($B15=2,$AW15,0)","v":{"v":0,"d":"0.00"}},{"$f":"IF($B15=3,$AW15,0)","v":{"v":0,"d":"0.00"}},{"$f":"IF($B15=4,$AW15,0)","v":{"v":0,"d":"0.00"}},{"$f":"IF($B15=5,$AW15,0)","v":{"v":0,"d":"0.00"}},{"$f":"IF($B15=6,$AW15,0)","v":{"v":0,"d":"0.00"}},{"$f":"IF(BD14>0,IF(H15+P15+X15+AF15+AN15+AV15+BL15+BT15+CB15+CJ15=0,IF(E15>0,BD14,0),0),0)","v":0},{"$f":"G15*BD15","v":{"v":0,"d":"0.00"}},{"$f":"IF($B15=1,$BE15,0)","v":{"v":0,"d":"0.00"}},{"$f":"IF($B15=2,$BE15,0)","v":{"v":0,"d":"0.00"}},{"$f":"IF($B15=3,$BE15,0)","v":{"v":0,"d":"0.00"}},{"$f":"IF($B15=4,$BE15,0)","v":{"v":0,"d":"0.00"}},{"$f":"IF($B15=5,$BE15,0)","v":{"v":0,"d":"0.00"}},{"$f":"IF($B15=6,$BE15,0)","v":{"v":0,"d":"0.00"}},{"$f":"IF(BL14>0,IF(H15+P15+X15+AF15+AN15+AV15+BD15+BT15+CB15+CJ15=0,IF(E15>0,BL14,0),0),0)","v":0},{"$f":"G15*BL15","v":{"v":0,"d":"0.00"}},{"$f":"IF($B15=1,$BM15,0)","v":{"v":0,"d":"0.00"}},{"$f":"IF($B15=2,$BM15,0)","v":{"v":0,"d":"0.00"}},{"$f":"IF($B15=3,$BM15,0)","v":{"v":0,"d":"0.00"}},{"$f":"IF($B15=4,$BM15,0)","v":{"v":0,"d":"0.00"}},{"$f":"IF($B15=5,$BM15,0)","v":{"v":0,"d":"0.00"}},{"$f":"IF($B15=6,$BM15,0)","v":{"v":0,"d":"0.00"}},{"$f":"IF(BT14>0,IF(H15+P15+X15+AF15+AN15+AV15+BD15+BL15+CB15+CJ15=0,IF(E15>0,BT14,0),0),0)","v":0},{"$f":"G15*BT15","v":{"v":0,"d":"0.00"}},{"$f":"IF($B15=1,$BU15,0)","v":{"v":0,"d":"0.00"}},{"$f":"IF($B15=2,$BU15,0)","v":{"v":0,"d":"0.00"}},{"$f":"IF($B15=3,$BU15,0)","v":{"v":0,"d":"0.00"}},{"$f":"IF($B15=4,$BU15,0)","v":{"v":0,"d":"0.00"}},{"$f":"IF($B15=5,$BU15,0)","v":{"v":0,"d":"0.00"}},{"$f":"IF($B15=6,$BU15,0)","v":{"v":0,"d":"0.00"}},{"$f":"IF(CB14>0,IF(H15+P15+X15+AF15+AN15+AV15+BD15+BL15+BT15+CJ15=0,IF(E15>0,CB14,0),0),0)","v":0},{"$f":"G15*CB15","v":{"v":0,"d":"0.00"}},{"$f":"IF($B15=1,$CC15,0)","v":{"v":0,"d":"0.00"}},{"$f":"IF($B15=2,$CC15,0)","v":{"v":0,"d":"0.00"}},{"$f":"IF($B15=3,$CC15,0)","v":{"v":0,"d":"0.00"}},{"$f":"IF($B15=4,$CC15,0)","v":{"v":0,"d":"0.00"}},{"$f":"IF($B15=5,$CC15,0)","v":{"v":0,"d":"0.00"}},{"$f":"IF($B15=6,$CC15,0)","v":{"v":0,"d":"0.00"}},{"$f":"IF(CJ14>0,IF(H15+P15+X15+AF15+AN15+AV15+BD15+BL15+BT15+CB15=0,IF(E15>0,CJ14,0),0),0)","v":0},{"$f":"G15*CJ15","v":{"v":0,"d":"0.00"}},{"$f":"IF($B15=1,$CK15,0)","v":{"v":0,"d":"0.00"}},{"$f":"IF($B15=2,$CK15,0)","v":{"v":0,"d":"0.00"}},{"$f":"IF($B15=3,$CK15,0)","v":{"v":0,"d":"0.00"}},{"$f":"IF($B15=4,$CK15,0)","v":{"v":0,"d":"0.00"}},{"$f":"IF($B15=5,$CK15,0)","v":{"v":0,"d":"0.00"}},{"$f":"IF($B15=6,$CK15,0)","v":{"v":0,"d":"0.00"}}]
[{"$f":"IF(C15<>C16,C16,\"\")","v":""},{"$f":"IF(C15<>C16,_xlfn.DAYS(C16,C15)+B15,B15)","v":1},{"$f":"IF(D16>0,IF(D16<E15,C15+1,C15),C15)","v":"2009-03-09"},{"$f":"IF((E16+H16+P16+X16+AF16+AN16+AV16+BD16+BL16+BT16+CB16+CJ16)>0,E15,0)","v":"00:00:00"},null,{"$f":"E16-D16","v":"00:00:00"},{"$f":"IF(E16>0,HOUR(F16)+(MINUTE(F16)/60),0)","v":0},{"$f":"IF(H15>0,IF(P16+X16+AF16+AN16+AV16+BD16+BL16+BT16+CB16+CJ16=0,IF(E16>0,H15,0),0),0)","v":0},{"$f":"G16*H16","v":{"v":0,"d":"0.00"}},{"$f":"IF($B16=1,$I16,0)","v":{"v":0,"d":"0.00"}},{"$f":"IF($B16=2,$I16,0)","v":{"v":0,"d":"0.00"}},{"$f":"IF($B16=3,$I16,0)","v":{"v":0,"d":"0.00"}},{"$f":"IF($B16=4,$I16,0)","v":{"v":0,"d":"0.00"}},{"$f":"IF($B16=5,$I16,0)","v":{"v":0,"d":"0.00"}},{"$f":"IF($B16=6,$I16,0)","v":{"v":0,"d":"0.00"}},{"$f":"IF(P15>0,IF(H16+X16+AF16+AN16+AV16+BD16+BL16+BT16+CB16+CJ16=0,IF(E16>0,P15,0),0),0)","v":0},{"$f":"G16*P16","v":{"v":0,"d":"0.00"}},{"$f":"IF(B16=1,Q16,0)","v":{"v":0,"d":"0.00"}},{"$f":"IF(B16=2,Q16,0)","v":{"v":0,"d":"0.00"}},{"$f":"IF(B16=3,Q16,0)","v":{"v":0,"d":"0.00"}},{"$f":"IF(B16=4,Q16,0)","v":{"v":0,"d":"0.00"}},{"$f":"IF(B16=5,Q16,0)","v":{"v":0,"d":"0.00"}},{"$f":"IF(B16=6,Q16,0)","v":{"v":0,"d":"0.00"}},{"$f":"IF(X15>0,IF(H16+P16+AF16+AN16+AV16+BD16+BL16+BT16+CB16+CJ16=0,IF(E16>0,X15,0),0),0)","v":0},{"$f":"G16*X16","v":{"v":0,"d":"0.00"}},{"$f":"IF($B16=1,$Y16,0)","v":{"v":0,"d":"0.00"}},{"$f":"IF($B16=2,$Y16,0)","v":{"v":0,"d":"0.00"}},{"$f":"IF($B16=3,$Y16,0)","v":{"v":0,"d":"0.00"}},{"$f":"IF($B16=4,$Y16,0)","v":{"v":0,"d":"0.00"}},{"$f":"IF($B16=5,$Y16,0)","v":{"v":0,"d":"0.00"}},{"$f":"IF($B16=6,$Y16,0)","v":{"v":0,"d":"0.00"}},{"$f":"IF(AF15>0,IF(H16+P16+X16+AN16+AV16+BD16+BL16+BT16+CB16+CJ16=0,IF(E16>0,AF15,0),0),0)","v":0},{"$f":"G16*AF16","v":{"v":0,"d":"0.00"}},{"$f":"IF($B16=1,$AG16,0)","v":{"v":0,"d":"0.00"}},{"$f":"IF($B16=2,$AG16,0)","v":{"v":0,"d":"0.00"}},{"$f":"IF($B16=3,$AG16,0)","v":{"v":0,"d":"0.00"}},{"$f":"IF($B16=4,$AG16,0)","v":{"v":0,"d":"0.00"}},{"$f":"IF($B16=5,$AG16,0)","v":{"v":0,"d":"0.00"}},{"$f":"IF($B16=6,$AG16,0)","v":{"v":0,"d":"0.00"}},{"$f":"IF(AN15>0,IF(H16+P16+X16+AF16+AV16+BD16+BL16+BT16+CB16+CJ16=0,IF(E16>0,AN15,0),0),0)","v":0},{"$f":"G16*AN16","v":{"v":0,"d":"0.00"}},{"$f":"IF($B16=1,$AO16,0)","v":{"v":0,"d":"0.00"}},{"$f":"IF($B16=2,$AO16,0)","v":{"v":0,"d":"0.00"}},{"$f":"IF($B16=3,$AO16,0)","v":{"v":0,"d":"0.00"}},{"$f":"IF($B16=4,$AO16,0)","v":{"v":0,"d":"0.00"}},{"$f":"IF($B16=5,$AO16,0)","v":{"v":0,"d":"0.00"}},{"$f":"IF($B16=6,$AO16,0)","v":{"v":0,"d":"0.00"}},{"$f":"IF(AV15>0,IF(H16+P16+X16+AF16+AN16+BD16+BL16+BT16+CB16+CJ16=0,IF(E16>0,AV15,0),0),0)","v":0},{"$f":"G16*AV16","v":{"v":0,"d":"0.00"}},{"$f":"IF($B16=1,$AW16,0)","v":{"v":0,"d":"0.00"}},{"$f":"IF($B16=2,$AW16,0)","v":{"v":0,"d":"0.00"}},{"$f":"IF($B16=3,$AW16,0)","v":{"v":0,"d":"0.00"}},{"$f":"IF($B16=4,$AW16,0)","v":{"v":0,"d":"0.00"}},{"$f":"IF($B16=5,$AW16,0)","v":{"v":0,"d":"0.00"}},{"$f":"IF($B16=6,$AW16,0)","v":{"v":0,"d":"0.00"}},{"$f":"IF(BD15>0,IF(H16+P16+X16+AF16+AN16+AV16+BL16+BT16+CB16+CJ16=0,IF(E16>0,BD15,0),0),0)","v":0},{"$f":"G16*BD16","v":{"v":0,"d":"0.00"}},{"$f":"IF($B16=1,$BE16,0)","v":{"v":0,"d":"0.00"}},{"$f":"IF($B16=2,$BE16,0)","v":{"v":0,"d":"0.00"}},{"$f":"IF($B16=3,$BE16,0)","v":{"v":0,"d":"0.00"}},{"$f":"IF($B16=4,$BE16,0)","v":{"v":0,"d":"0.00"}},{"$f":"IF($B16=5,$BE16,0)","v":{"v":0,"d":"0.00"}},{"$f":"IF($B16=6,$BE16,0)","v":{"v":0,"d":"0.00"}},{"$f":"IF(BL15>0,IF(H16+P16+X16+AF16+AN16+AV16+BD16+BT16+CB16+CJ16=0,IF(E16>0,BL15,0),0),0)","v":0},{"$f":"G16*BL16","v":{"v":0,"d":"0.00"}},{"$f":"IF($B16=1,$BM16,0)","v":{"v":0,"d":"0.00"}},{"$f":"IF($B16=2,$BM16,0)","v":{"v":0,"d":"0.00"}},{"$f":"IF($B16=3,$BM16,0)","v":{"v":0,"d":"0.00"}},{"$f":"IF($B16=4,$BM16,0)","v":{"v":0,"d":"0.00"}},{"$f":"IF($B16=5,$BM16,0)","v":{"v":0,"d":"0.00"}},{"$f":"IF($B16=6,$BM16,0)","v":{"v":0,"d":"0.00"}},{"$f":"IF(BT15>0,IF(H16+P16+X16+AF16+AN16+AV16+BD16+BL16+CB16+CJ16=0,IF(E16>0,BT15,0),0),0)","v":0},{"$f":"G16*BT16","v":{"v":0,"d":"0.00"}},{"$f":"IF($B16=1,$BU16,0)","v":{"v":0,"d":"0.00"}},{"$f":"IF($B16=2,$BU16,0)","v":{"v":0,"d":"0.00"}},{"$f":"IF($B16=3,$BU16,0)","v":{"v":0,"d":"0.00"}},{"$f":"IF($B16=4,$BU16,0)","v":{"v":0,"d":"0.00"}},{"$f":"IF($B16=5,$BU16,0)","v":{"v":0,"d":"0.00"}},{"$f":"IF($B16=6,$BU16,0)","v":{"v":0,"d":"0.00"}},{"$f":"IF(CB15>0,IF(H16+P16+X16+AF16+AN16+AV16+BD16+BL16+BT16+CJ16=0,IF(E16>0,CB15,0),0),0)","v":0},{"$f":"G16*CB16","v":{"v":0,"d":"0.00"}},{"$f":"IF($B16=1,$CC16,0)","v":{"v":0,"d":"0.00"}},{"$f":"IF($B16=2,$CC16,0)","v":{"v":0,"d":"0.00"}},{"$f":"IF($B16=3,$CC16,0)","v":{"v":0,"d":"0.00"}},{"$f":"IF($B16=4,$CC16,0)","v":{"v":0,"d":"0.00"}},{"$f":"IF($B16=5,$CC16,0)","v":{"v":0,"d":"0.00"}},{"$f":"IF($B16=6,$CC16,0)","v":{"v":0,"d":"0.00"}},{"$f":"IF(CJ15>0,IF(H16+P16+X16+AF16+AN16+AV16+BD16+BL16+BT16+CB16=0,IF(E16>0,CJ15,0),0),0)","v":0},{"$f":"G16*CJ16","v":{"v":0,"d":"0.00"}},{"$f":"IF($B16=1,$CK16,0)","v":{"v":0,"d":"0.00"}},{"$f":"IF($B16=2,$CK16,0)","v":{"v":0,"d":"0.00"}},{"$f":"IF($B16=3,$CK16,0)","v":{"v":0,"d":"0.00"}},{"$f":"IF($B16=4,$CK16,0)","v":{"v":0,"d":"0.00"}},{"$f":"IF($B16=5,$CK16,0)","v":{"v":0,"d":"0.00"}},{"$f":"IF($B16=6,$CK16,0)","v":{"v":0,"d":"0.00"}}]
[{"$f":"IF(C16<>C17,C17,\"\")","v":""},{"$f":"IF(C16<>C17,_xlfn.DAYS(C17,C16)+B16,B16)","v":1},{"$f":"IF(D17>0,IF(D17<E16,C16+1,C16),C16)","v":"2009-03-09"},{"$f":"IF((E17+H17+P17+X17+AF17+AN17+AV17+BD17+BL17+BT17+CB17+CJ17)>0,E16,0)","v":"00:00:00"},null,{"$f":"E17-D17","v":"00:00:00"},{"$f":"IF(E17>0,HOUR(F17)+(MINUTE(F17)/60),0)","v":0},{"$f":"IF(H16>0,IF(P17+X17+AF17+AN17+AV17+BD17+BL17+BT17+CB17+CJ17=0,IF(E17>0,H16,0),0),0)","v":0},{"$f":"G17*H17","v":{"v":0,"d":"0.00"}},{"$f":"IF($B17=1,$I17,0)","v":{"v":0,"d":"0.00"}},{"$f":"IF($B17=2,$I17,0)","v":{"v":0,"d":"0.00"}},{"$f":"IF($B17=3,$I17,0)","v":{"v":0,"d":"0.00"}},{"$f":"IF($B17=4,$I17,0)","v":{"v":0,"d":"0.00"}},{"$f":"IF($B17=5,$I17,0)","v":{"v":0,"d":"0.00"}},{"$f":"IF($B17=6,$I17,0)","v":{"v":0,"d":"0.00"}},{"$f":"IF(P16>0,IF(H17+X17+AF17+AN17+AV17+BD17+BL17+BT17+CB17+CJ17=0,IF(E17>0,P16,0),0),0)","v":0},{"$f":"G17*P17","v":{"v":0,"d":"0.00"}},{"$f":"IF(B17=1,Q17,0)","v":{"v":0,"d":"0.00"}},{"$f":"IF(B17=2,Q17,0)","v":{"v":0,"d":"0.00"}},{"$f":"IF(B17=3,Q17,0)","v":{"v":0,"d":"0.00"}},{"$f":"IF(B17=4,Q17,0)","v":{"v":0,"d":"0.00"}},{"$f":"IF(B17=5,Q17,0)","v":{"v":0,"d":"0.00"}},{"$f":"IF(B17=6,Q17,0)","v":{"v":0,"d":"0.00"}},{"$f":"IF(X16>0,IF(H17+P17+AF17+AN17+AV17+BD17+BL17+BT17+CB17+CJ17=0,IF(E17>0,X16,0),0),0)","v":0},{"$f":"G17*X17","v":{"v":0,"d":"0.00"}},{"$f":"IF($B17=1,$Y17,0)","v":{"v":0,"d":"0.00"}},{"$f":"IF($B17=2,$Y17,0)","v":{"v":0,"d":"0.00"}},{"$f":"IF($B17=3,$Y17,0)","v":{"v":0,"d":"0.00"}},{"$f":"IF($B17=4,$Y17,0)","v":{"v":0,"d":"0.00"}},{"$f":"IF($B17=5,$Y17,0)","v":{"v":0,"d":"0.00"}},{"$f":"IF($B17=6,$Y17,0)","v":{"v":0,"d":"0.00"}},{"$f":"IF(AF16>0,IF(H17+P17+X17+AN17+AV17+BD17+BL17+BT17+CB17+CJ17=0,IF(E17>0,AF16,0),0),0)","v":0},{"$f":"G17*AF17","v":{"v":0,"d":"0.00"}},{"$f":"IF($B17=1,$AG17,0)","v":{"v":0,"d":"0.00"}},{"$f":"IF($B17=2,$AG17,0)","v":{"v":0,"d":"0.00"}},{"$f":"IF($B17=3,$AG17,0)","v":{"v":0,"d":"0.00"}},{"$f":"IF($B17=4,$AG17,0)","v":{"v":0,"d":"0.00"}},{"$f":"IF($B17=5,$AG17,0)","v":{"v":0,"d":"0.00"}},{"$f":"IF($B17=6,$AG17,0)","v":{"v":0,"d":"0.00"}},{"$f":"IF(AN16>0,IF(H17+P17+X17+AF17+AV17+BD17+BL17+BT17+CB17+CJ17=0,IF(E17>0,AN16,0),0),0)","v":0},{"$f":"G17*AN17","v":{"v":0,"d":"0.00"}},{"$f":"IF($B17=1,$AO17,0)","v":{"v":0,"d":"0.00"}},{"$f":"IF($B17=2,$AO17,0)","v":{"v":0,"d":"0.00"}},{"$f":"IF($B17=3,$AO17,0)","v":{"v":0,"d":"0.00"}},{"$f":"IF($B17=4,$AO17,0)","v":{"v":0,"d":"0.00"}},{"$f":"IF($B17=5,$AO17,0)","v":{"v":0,"d":"0.00"}},{"$f":"IF($B17=6,$AO17,0)","v":{"v":0,"d":"0.00"}},{"$f":"IF(AV16>0,IF(H17+P17+X17+AF17+AN17+BD17+BL17+BT17+CB17+CJ17=0,IF(E17>0,AV16,0),0),0)","v":0},{"$f":"G17*AV17","v":{"v":0,"d":"0.00"}},{"$f":"IF($B17=1,$AW17,0)","v":{"v":0,"d":"0.00"}},{"$f":"IF($B17=2,$AW17,0)","v":{"v":0,"d":"0.00"}},{"$f":"IF($B17=3,$AW17,0)","v":{"v":0,"d":"0.00"}},{"$f":"IF($B17=4,$AW17,0)","v":{"v":0,"d":"0.00"}},{"$f":"IF($B17=5,$AW17,0)","v":{"v":0,"d":"0.00"}},{"$f":"IF($B17=6,$AW17,0)","v":{"v":0,"d":"0.00"}},{"$f":"IF(BD16>0,IF(H17+P17+X17+AF17+AN17+AV17+BL17+BT17+CB17+CJ17=0,IF(E17>0,BD16,0),0),0)","v":0},{"$f":"G17*BD17","v":{"v":0,"d":"0.00"}},{"$f":"IF($B17=1,$BE17,0)","v":{"v":0,"d":"0.00"}},{"$f":"IF($B17=2,$BE17,0)","v":{"v":0,"d":"0.00"}},{"$f":"IF($B17=3,$BE17,0)","v":{"v":0,"d":"0.00"}},{"$f":"IF($B17=4,$BE17,0)","v":{"v":0,"d":"0.00"}},{"$f":"IF($B17=5,$BE17,0)","v":{"v":0,"d":"0.00"}},{"$f":"IF($B17=6,$BE17,0)","v":{"v":0,"d":"0.00"}},{"$f":"IF(BL16>0,IF(H17+P17+X17+AF17+AN17+AV17+BD17+BT17+CB17+CJ17=0,IF(E17>0,BL16,0),0),0)","v":0},{"$f":"G17*BL17","v":{"v":0,"d":"0.00"}},{"$f":"IF($B17=1,$BM17,0)","v":{"v":0,"d":"0.00"}},{"$f":"IF($B17=2,$BM17,0)","v":{"v":0,"d":"0.00"}},{"$f":"IF($B17=3,$BM17,0)","v":{"v":0,"d":"0.00"}},{"$f":"IF($B17=4,$BM17,0)","v":{"v":0,"d":"0.00"}},{"$f":"IF($B17=5,$BM17,0)","v":{"v":0,"d":"0.00"}},{"$f":"IF($B17=6,$BM17,0)","v":{"v":0,"d":"0.00"}},{"$f":"IF(BT16>0,IF(H17+P17+X17+AF17+AN17+AV17+BD17+BL17+CB17+CJ17=0,IF(E17>0,BT16,0),0),0)","v":0},{"$f":"G17*BT17","v":{"v":0,"d":"0.00"}},{"$f":"IF($B17=1,$BU17,0)","v":{"v":0,"d":"0.00"}},{"$f":"IF($B17=2,$BU17,0)","v":{"v":0,"d":"0.00"}},{"$f":"IF($B17=3,$BU17,0)","v":{"v":0,"d":"0.00"}},{"$f":"IF($B17=4,$BU17,0)","v":{"v":0,"d":"0.00"}},{"$f":"IF($B17=5,$BU17,0)","v":{"v":0,"d":"0.00"}},{"$f":"IF($B17=6,$BU17,0)","v":{"v":0,"d":"0.00"}},{"$f":"IF(CB16>0,IF(H17+P17+X17+AF17+AN17+AV17+BD17+BL17+BT17+CJ17=0,IF(E17>0,CB16,0),0),0)","v":0},{"$f":"G17*CB17","v":{"v":0,"d":"0.00"}},{"$f":"IF($B17=1,$CC17,0)","v":{"v":0,"d":"0.00"}},{"$f":"IF($B17=2,$CC17,0)","v":{"v":0,"d":"0.00"}},{"$f":"IF($B17=3,$CC17,0)","v":{"v":0,"d":"0.00"}},{"$f":"IF($B17=4,$CC17,0)","v":{"v":0,"d":"0.00"}},{"$f":"IF($B17=5,$CC17,0)","v":{"v":0,"d":"0.00"}},{"$f":"IF($B17=6,$CC17,0)","v":{"v":0,"d":"0.00"}},{"$f":"IF(CJ16>0,IF(H17+P17+X17+AF17+AN17+AV17+BD17+BL17+BT17+CB17=0,IF(E17>0,CJ16,0),0),0)","v":0},{"$f":"G17*CJ17","v":{"v":0,"d":"0.00"}},{"$f":"IF($B17=1,$CK17,0)","v":{"v":0,"d":"0.00"}},{"$f":"IF($B17=2,$CK17,0)","v":{"v":0,"d":"0.00"}},{"$f":"IF($B17=3,$CK17,0)","v":{"v":0,"d":"0.00"}},{"$f":"IF($B17=4,$CK17,0)","v":{"v":0,"d":"0.00"}},{"$f":"IF($B17=5,$CK17,0)","v":{"v":0,"d":"0.00"}},{"$f":"IF($B17=6,$CK17,0)","v":{"v":0,"d":"0.00"}}]
[{"$f":"IF(C17<>C18,C18,\"\")","v":""},{"$f":"IF(C17<>C18,_xlfn.DAYS(C18,C17)+B17,B17)","v":1},{"$f":"IF(D18>0,IF(D18<E17,C17+1,C17),C17)","v":"2009-03-09"},{"$f":"IF((E18+H18+P18+X18+AF18+AN18+AV18+BD18+BL18+BT18+CB18+CJ18)>0,E17,0)","v":"00:00:00"},null,{"$f":"E18-D18","v":"00:00:00"},{"$f":"IF(E18>0,HOUR(F18)+(MINUTE(F18)/60),0)","v":0},{"$f":"IF(H17>0,IF(P18+X18+AF18+AN18+AV18+BD18+BL18+BT18+CB18+CJ18=0,IF(E18>0,H17,0),0),0)","v":0},{"$f":"G18*H18","v":{"v":0,"d":"0.00"}},{"$f":"IF($B18=1,$I18,0)","v":{"v":0,"d":"0.00"}},{"$f":"IF($B18=2,$I18,0)","v":{"v":0,"d":"0.00"}},{"$f":"IF($B18=3,$I18,0)","v":{"v":0,"d":"0.00"}},{"$f":"IF($B18=4,$I18,0)","v":{"v":0,"d":"0.00"}},{"$f":"IF($B18=5,$I18,0)","v":{"v":0,"d":"0.00"}},{"$f":"IF($B18=6,$I18,0)","v":{"v":0,"d":"0.00"}},{"$f":"IF(P17>0,IF(H18+X18+AF18+AN18+AV18+BD18+BL18+BT18+CB18+CJ18=0,IF(E18>0,P17,0),0),0)","v":0},{"$f":"G18*P18","v":{"v":0,"d":"0.00"}},{"$f":"IF(B18=1,Q18,0)","v":{"v":0,"d":"0.00"}},{"$f":"IF(B18=2,Q18,0)","v":{"v":0,"d":"0.00"}},{"$f":"IF(B18=3,Q18,0)","v":{"v":0,"d":"0.00"}},{"$f":"IF(B18=4,Q18,0)","v":{"v":0,"d":"0.00"}},{"$f":"IF(B18=5,Q18,0)","v":{"v":0,"d":"0.00"}},{"$f":"IF(B18=6,Q18,0)","v":{"v":0,"d":"0.00"}},{"$f":"IF(X17>0,IF(H18+P18+AF18+AN18+AV18+BD18+BL18+BT18+CB18+CJ18=0,IF(E18>0,X17,0),0),0)","v":0},{"$f":"G18*X18","v":{"v":0,"d":"0.00"}},{"$f":"IF($B18=1,$Y18,0)","v":{"v":0,"d":"0.00"}},{"$f":"IF($B18=2,$Y18,0)","v":{"v":0,"d":"0.00"}},{"$f":"IF($B18=3,$Y18,0)","v":{"v":0,"d":"0.00"}},{"$f":"IF($B18=4,$Y18,0)","v":{"v":0,"d":"0.00"}},{"$f":"IF($B18=5,$Y18,0)","v":{"v":0,"d":"0.00"}},{"$f":"IF($B18=6,$Y18,0)","v":{"v":0,"d":"0.00"}},{"$f":"IF(AF17>0,IF(H18+P18+X18+AN18+AV18+BD18+BL18+BT18+CB18+CJ18=0,IF(E18>0,AF17,0),0),0)","v":0},{"$f":"G18*AF18","v":{"v":0,"d":"0.00"}},{"$f":"IF($B18=1,$AG18,0)","v":{"v":0,"d":"0.00"}},{"$f":"IF($B18=2,$AG18,0)","v":{"v":0,"d":"0.00"}},{"$f":"IF($B18=3,$AG18,0)","v":{"v":0,"d":"0.00"}},{"$f":"IF($B18=4,$AG18,0)","v":{"v":0,"d":"0.00"}},{"$f":"IF($B18=5,$AG18,0)","v":{"v":0,"d":"0.00"}},{"$f":"IF($B18=6,$AG18,0)","v":{"v":0,"d":"0.00"}},{"$f":"IF(AN17>0,IF(H18+P18+X18+AF18+AV18+BD18+BL18+BT18+CB18+CJ18=0,IF(E18>0,AN17,0),0),0)","v":0},{"$f":"G18*AN18","v":{"v":0,"d":"0.00"}},{"$f":"IF($B18=1,$AO18,0)","v":{"v":0,"d":"0.00"}},{"$f":"IF($B18=2,$AO18,0)","v":{"v":0,"d":"0.00"}},{"$f":"IF($B18=3,$AO18,0)","v":{"v":0,"d":"0.00"}},{"$f":"IF($B18=4,$AO18,0)","v":{"v":0,"d":"0.00"}},{"$f":"IF($B18=5,$AO18,0)","v":{"v":0,"d":"0.00"}},{"$f":"IF($B18=6,$AO18,0)","v":{"v":0,"d":"0.00"}},{"$f":"IF(AV17>0,IF(H18+P18+X18+AF18+AN18+BD18+BL18+BT18+CB18+CJ18=0,IF(E18>0,AV17,0),0),0)","v":0},{"$f":"G18*AV18","v":{"v":0,"d":"0.00"}},{"$f":"IF($B18=1,$AW18,0)","v":{"v":0,"d":"0.00"}},{"$f":"IF($B18=2,$AW18,0)","v":{"v":0,"d":"0.00"}},{"$f":"IF($B18=3,$AW18,0)","v":{"v":0,"d":"0.00"}},{"$f":"IF($B18=4,$AW18,0)","v":{"v":0,"d":"0.00"}},{"$f":"IF($B18=5,$AW18,0)","v":{"v":0,"d":"0.00"}},{"$f":"IF($B18=6,$AW18,0)","v":{"v":0,"d":"0.00"}},{"$f":"IF(BD17>0,IF(H18+P18+X18+AF18+AN18+AV18+BL18+BT18+CB18+CJ18=0,IF(E18>0,BD17,0),0),0)","v":0},{"$f":"G18*BD18","v":{"v":0,"d":"0.00"}},{"$f":"IF($B18=1,$BE18,0)","v":{"v":0,"d":"0.00"}},{"$f":"IF($B18=2,$BE18,0)","v":{"v":0,"d":"0.00"}},{"$f":"IF($B18=3,$BE18,0)","v":{"v":0,"d":"0.00"}},{"$f":"IF($B18=4,$BE18,0)","v":{"v":0,"d":"0.00"}},{"$f":"IF($B18=5,$BE18,0)","v":{"v":0,"d":"0.00"}},{"$f":"IF($B18=6,$BE18,0)","v":{"v":0,"d":"0.00"}},{"$f":"IF(BL17>0,IF(H18+P18+X18+AF18+AN18+AV18+BD18+BT18+CB18+CJ18=0,IF(E18>0,BL17,0),0),0)","v":0},{"$f":"G18*BL18","v":{"v":0,"d":"0.00"}},{"$f":"IF($B18=1,$BM18,0)","v":{"v":0,"d":"0.00"}},{"$f":"IF($B18=2,$BM18,0)","v":{"v":0,"d":"0.00"}},{"$f":"IF($B18=3,$BM18,0)","v":{"v":0,"d":"0.00"}},{"$f":"IF($B18=4,$BM18,0)","v":{"v":0,"d":"0.00"}},{"$f":"IF($B18=5,$BM18,0)","v":{"v":0,"d":"0.00"}},{"$f":"IF($B18=6,$BM18,0)","v":{"v":0,"d":"0.00"}},{"$f":"IF(BT17>0,IF(H18+P18+X18+AF18+AN18+AV18+BD18+BL18+CB18+CJ18=0,IF(E18>0,BT17,0),0),0)","v":0},{"$f":"G18*BT18","v":{"v":0,"d":"0.00"}},{"$f":"IF($B18=1,$BU18,0)","v":{"v":0,"d":"0.00"}},{"$f":"IF($B18=2,$BU18,0)","v":{"v":0,"d":"0.00"}},{"$f":"IF($B18=3,$BU18,0)","v":{"v":0,"d":"0.00"}},{"$f":"IF($B18=4,$BU18,0)","v":{"v":0,"d":"0.00"}},{"$f":"IF($B18=5,$BU18,0)","v":{"v":0,"d":"0.00"}},{"$f":"IF($B18=6,$BU18,0)","v":{"v":0,"d":"0.00"}},{"$f":"IF(CB17>0,IF(H18+P18+X18+AF18+AN18+AV18+BD18+BL18+BT18+CJ18=0,IF(E18>0,CB17,0),0),0)","v":0},{"$f":"G18*CB18","v":{"v":0,"d":"0.00"}},{"$f":"IF($B18=1,$CC18,0)","v":{"v":0,"d":"0.00"}},{"$f":"IF($B18=2,$CC18,0)","v":{"v":0,"d":"0.00"}},{"$f":"IF($B18=3,$CC18,0)","v":{"v":0,"d":"0.00"}},{"$f":"IF($B18=4,$CC18,0)","v":{"v":0,"d":"0.00"}},{"$f":"IF($B18=5,$CC18,0)","v":{"v":0,"d":"0.00"}},{"$f":"IF($B18=6,$CC18,0)","v":{"v":0,"d":"0.00"}},{"$f":"IF(CJ17>0,IF(H18+P18+X18+AF18+AN18+AV18+BD18+BL18+BT18+CB18=0,IF(E18>0,CJ17,0),0),0)","v":0},{"$f":"G18*CJ18","v":{"v":0,"d":"0.00"}},{"$f":"IF($B18=1,$CK18,0)","v":{"v":0,"d":"0.00"}},{"$f":"IF($B18=2,$CK18,0)","v":{"v":0,"d":"0.00"}},{"$f":"IF($B18=3,$CK18,0)","v":{"v":0,"d":"0.00"}},{"$f":"IF($B18=4,$CK18,0)","v":{"v":0,"d":"0.00"}},{"$f":"IF($B18=5,$CK18,0)","v":{"v":0,"d":"0.00"}},{"$f":"IF($B18=6,$CK18,0)","v":{"v":0,"d":"0.00"}}]
[{"$f":"IF(C18<>C19,C19,\"\")","v":""},{"$f":"IF(C18<>C19,_xlfn.DAYS(C19,C18)+B18,B18)","v":1},{"$f":"IF(D19>0,IF(D19<E18,C18+1,C18),C18)","v":"2009-03-09"},{"$f":"IF((E19+H19+P19+X19+AF19+AN19+AV19+BD19+BL19+BT19+CB19+CJ19)>0,E18,0)","v":"00:00:00"},null,{"$f":"E19-D19","v":"00:00:00"},{"$f":"IF(E19>0,HOUR(F19)+(MINUTE(F19)/60),0)","v":0},{"$f":"IF(H18>0,IF(P19+X19+AF19+AN19+AV19+BD19+BL19+BT19+CB19+CJ19=0,IF(E19>0,H18,0),0),0)","v":0},{"$f":"G19*H19","v":{"v":0,"d":"0.00"}},{"$f":"IF($B19=1,$I19,0)","v":{"v":0,"d":"0.00"}},{"$f":"IF($B19=2,$I19,0)","v":{"v":0,"d":"0.00"}},{"$f":"IF($B19=3,$I19,0)","v":{"v":0,"d":"0.00"}},{"$f":"IF($B19=4,$I19,0)","v":{"v":0,"d":"0.00"}},{"$f":"IF($B19=5,$I19,0)","v":{"v":0,"d":"0.00"}},{"$f":"IF($B19=6,$I19,0)","v":{"v":0,"d":"0.00"}},{"$f":"IF(P18>0,IF(H19+X19+AF19+AN19+AV19+BD19+BL19+BT19+CB19+CJ19=0,IF(E19>0,P18,0),0),0)","v":0},{"$f":"G19*P19","v":{"v":0,"d":"0.00"}},{"$f":"IF(B19=1,Q19,0)","v":{"v":0,"d":"0.00"}},{"$f":"IF(B19=2,Q19,0)","v":{"v":0,"d":"0.00"}},{"$f":"IF(B19=3,Q19,0)","v":{"v":0,"d":"0.00"}},{"$f":"IF(B19=4,Q19,0)","v":{"v":0,"d":"0.00"}},{"$f":"IF(B19=5,Q19,0)","v":{"v":0,"d":"0.00"}},{"$f":"IF(B19=6,Q19,0)","v":{"v":0,"d":"0.00"}},{"$f":"IF(X18>0,IF(H19+P19+AF19+AN19+AV19+BD19+BL19+BT19+CB19+CJ19=0,IF(E19>0,X18,0),0),0)","v":0},{"$f":"G19*X19","v":{"v":0,"d":"0.00"}},{"$f":"IF($B19=1,$Y19,0)","v":{"v":0,"d":"0.00"}},{"$f":"IF($B19=2,$Y19,0)","v":{"v":0,"d":"0.00"}},{"$f":"IF($B19=3,$Y19,0)","v":{"v":0,"d":"0.00"}},{"$f":"IF($B19=4,$Y19,0)","v":{"v":0,"d":"0.00"}},{"$f":"IF($B19=5,$Y19,0)","v":{"v":0,"d":"0.00"}},{"$f":"IF($B19=6,$Y19,0)","v":{"v":0,"d":"0.00"}},{"$f":"IF(AF18>0,IF(H19+P19+X19+AN19+AV19+BD19+BL19+BT19+CB19+CJ19=0,IF(E19>0,AF18,0),0),0)","v":0},{"$f":"G19*AF19","v":{"v":0,"d":"0.00"}},{"$f":"IF($B19=1,$AG19,0)","v":{"v":0,"d":"0.00"}},{"$f":"IF($B19=2,$AG19,0)","v":{"v":0,"d":"0.00"}},{"$f":"IF($B19=3,$AG19,0)","v":{"v":0,"d":"0.00"}},{"$f":"IF($B19=4,$AG19,0)","v":{"v":0,"d":"0.00"}},{"$f":"IF($B19=5,$AG19,0)","v":{"v":0,"d":"0.00"}},{"$f":"IF($B19=6,$AG19,0)","v":{"v":0,"d":"0.00"}},{"$f":"IF(AN18>0,IF(H19+P19+X19+AF19+AV19+BD19+BL19+BT19+CB19+CJ19=0,IF(E19>0,AN18,0),0),0)","v":0},{"$f":"G19*AN19","v":{"v":0,"d":"0.00"}},{"$f":"IF($B19=1,$AO19,0)","v":{"v":0,"d":"0.00"}},{"$f":"IF($B19=2,$AO19,0)","v":{"v":0,"d":"0.00"}},{"$f":"IF($B19=3,$AO19,0)","v":{"v":0,"d":"0.00"}},{"$f":"IF($B19=4,$AO19,0)","v":{"v":0,"d":"0.00"}},{"$f":"IF($B19=5,$AO19,0)","v":{"v":0,"d":"0.00"}},{"$f":"IF($B19=6,$AO19,0)","v":{"v":0,"d":"0.00"}},{"$f":"IF(AV18>0,IF(H19+P19+X19+AF19+AN19+BD19+BL19+BT19+CB19+CJ19=0,IF(E19>0,AV18,0),0),0)","v":0},{"$f":"G19*AV19","v":{"v":0,"d":"0.00"}},{"$f":"IF($B19=1,$AW19,0)","v":{"v":0,"d":"0.00"}},{"$f":"IF($B19=2,$AW19,0)","v":{"v":0,"d":"0.00"}},{"$f":"IF($B19=3,$AW19,0)","v":{"v":0,"d":"0.00"}},{"$f":"IF($B19=4,$AW19,0)","v":{"v":0,"d":"0.00"}},{"$f":"IF($B19=5,$AW19,0)","v":{"v":0,"d":"0.00"}},{"$f":"IF($B19=6,$AW19,0)","v":{"v":0,"d":"0.00"}},{"$f":"IF(BD18>0,IF(H19+P19+X19+AF19+AN19+AV19+BL19+BT19+CB19+CJ19=0,IF(E19>0,BD18,0),0),0)","v":0},{"$f":"G19*BD19","v":{"v":0,"d":"0.00"}},{"$f":"IF($B19=1,$BE19,0)","v":{"v":0,"d":"0.00"}},{"$f":"IF($B19=2,$BE19,0)","v":{"v":0,"d":"0.00"}},{"$f":"IF($B19=3,$BE19,0)","v":{"v":0,"d":"0.00"}},{"$f":"IF($B19=4,$BE19,0)","v":{"v":0,"d":"0.00"}},{"$f":"IF($B19=5,$BE19,0)","v":{"v":0,"d":"0.00"}},{"$f":"IF($B19=6,$BE19,0)","v":{"v":0,"d":"0.00"}},{"$f":"IF(BL18>0,IF(H19+P19+X19+AF19+AN19+AV19+BD19+BT19+CB19+CJ19=0,IF(E19>0,BL18,0),0),0)","v":0},{"$f":"G19*BL19","v":{"v":0,"d":"0.00"}},{"$f":"IF($B19=1,$BM19,0)","v":{"v":0,"d":"0.00"}},{"$f":"IF($B19=2,$BM19,0)","v":{"v":0,"d":"0.00"}},{"$f":"IF($B19=3,$BM19,0)","v":{"v":0,"d":"0.00"}},{"$f":"IF($B19=4,$BM19,0)","v":{"v":0,"d":"0.00"}},{"$f":"IF($B19=5,$BM19,0)","v":{"v":0,"d":"0.00"}},{"$f":"IF($B19=6,$BM19,0)","v":{"v":0,"d":"0.00"}},{"$f":"IF(BT18>0,IF(H19+P19+X19+AF19+AN19+AV19+BD19+BL19+CB19+CJ19=0,IF(E19>0,BT18,0),0),0)","v":0},{"$f":"G19*BT19","v":{"v":0,"d":"0.00"}},{"$f":"IF($B19=1,$BU19,0)","v":{"v":0,"d":"0.00"}},{"$f":"IF($B19=2,$BU19,0)","v":{"v":0,"d":"0.00"}},{"$f":"IF($B19=3,$BU19,0)","v":{"v":0,"d":"0.00"}},{"$f":"IF($B19=4,$BU19,0)","v":{"v":0,"d":"0.00"}},{"$f":"IF($B19=5,$BU19,0)","v":{"v":0,"d":"0.00"}},{"$f":"IF($B19=6,$BU19,0)","v":{"v":0,"d":"0.00"}},{"$f":"IF(CB18>0,IF(H19+P19+X19+AF19+AN19+AV19+BD19+BL19+BT19+CJ19=0,IF(E19>0,CB18,0),0),0)","v":0},{"$f":"G19*CB19","v":{"v":0,"d":"0.00"}},{"$f":"IF($B19=1,$CC19,0)","v":{"v":0,"d":"0.00"}},{"$f":"IF($B19=2,$CC19,0)","v":{"v":0,"d":"0.00"}},{"$f":"IF($B19=3,$CC19,0)","v":{"v":0,"d":"0.00"}},{"$f":"IF($B19=4,$CC19,0)","v":{"v":0,"d":"0.00"}},{"$f":"IF($B19=5,$CC19,0)","v":{"v":0,"d":"0.00"}},{"$f":"IF($B19=6,$CC19,0)","v":{"v":0,"d":"0.00"}},{"$f":"IF(CJ18>0,IF(H19+P19+X19+AF19+AN19+AV19+BD19+BL19+BT19+CB19=0,IF(E19>0,CJ18,0),0),0)","v":0},{"$f":"G19*CJ19","v":{"v":0,"d":"0.00"}},{"$f":"IF($B19=1,$CK19,0)","v":{"v":0,"d":"0.00"}},{"$f":"IF($B19=2,$CK19,0)","v":{"v":0,"d":"0.00"}},{"$f":"IF($B19=3,$CK19,0)","v":{"v":0,"d":"0.00"}},{"$f":"IF($B19=4,$CK19,0)","v":{"v":0,"d":"0.00"}},{"$f":"IF($B19=5,$CK19,0)","v":{"v":0,"d":"0.00"}},{"$f":"IF($B19=6,$CK19,0)","v":{"v":0,"d":"0.00"}}]
[{"$f":"IF(C19<>C20,C20,\"\")","v":""},{"$f":"IF(C19<>C20,_xlfn.DAYS(C20,C19)+B19,B19)","v":1},{"$f":"IF(D20>0,IF(D20<E19,C19+1,C19),C19)","v":"2009-03-09"},{"$f":"IF((E20+H20+P20+X20+AF20+AN20+AV20+BD20+BL20+BT20+CB20+CJ20)>0,E19,0)","v":"00:00:00"},null,{"$f":"E20-D20","v":"00:00:00"},{"$f":"IF(E20>0,HOUR(F20)+(MINUTE(F20)/60),0)","v":0},{"$f":"IF(H19>0,IF(P20+X20+AF20+AN20+AV20+BD20+BL20+BT20+CB20+CJ20=0,IF(E20>0,H19,0),0),0)","v":0},{"$f":"G20*H20","v":{"v":0,"d":"0.00"}},{"$f":"IF($B20=1,$I20,0)","v":{"v":0,"d":"0.00"}},{"$f":"IF($B20=2,$I20,0)","v":{"v":0,"d":"0.00"}},{"$f":"IF($B20=3,$I20,0)","v":{"v":0,"d":"0.00"}},{"$f":"IF($B20=4,$I20,0)","v":{"v":0,"d":"0.00"}},{"$f":"IF($B20=5,$I20,0)","v":{"v":0,"d":"0.00"}},{"$f":"IF($B20=6,$I20,0)","v":{"v":0,"d":"0.00"}},{"$f":"IF(P19>0,IF(H20+X20+AF20+AN20+AV20+BD20+BL20+BT20+CB20+CJ20=0,IF(E20>0,P19,0),0),0)","v":0},{"$f":"G20*P20","v":{"v":0,"d":"0.00"}},{"$f":"IF(B20=1,Q20,0)","v":{"v":0,"d":"0.00"}},{"$f":"IF(B20=2,Q20,0)","v":{"v":0,"d":"0.00"}},{"$f":"IF(B20=3,Q20,0)","v":{"v":0,"d":"0.00"}},{"$f":"IF(B20=4,Q20,0)","v":{"v":0,"d":"0.00"}},{"$f":"IF(B20=5,Q20,0)","v":{"v":0,"d":"0.00"}},{"$f":"IF(B20=6,Q20,0)","v":{"v":0,"d":"0.00"}},{"$f":"IF(X19>0,IF(H20+P20+AF20+AN20+AV20+BD20+BL20+BT20+CB20+CJ20=0,IF(E20>0,X19,0),0),0)","v":0},{"$f":"G20*X20","v":{"v":0,"d":"0.00"}},{"$f":"IF($B20=1,$Y20,0)","v":{"v":0,"d":"0.00"}},{"$f":"IF($B20=2,$Y20,0)","v":{"v":0,"d":"0.00"}},{"$f":"IF($B20=3,$Y20,0)","v":{"v":0,"d":"0.00"}},{"$f":"IF($B20=4,$Y20,0)","v":{"v":0,"d":"0.00"}},{"$f":"IF($B20=5,$Y20,0)","v":{"v":0,"d":"0.00"}},{"$f":"IF($B20=6,$Y20,0)","v":{"v":0,"d":"0.00"}},{"$f":"IF(AF19>0,IF(H20+P20+X20+AN20+AV20+BD20+BL20+BT20+CB20+CJ20=0,IF(E20>0,AF19,0),0),0)","v":0},{"$f":"G20*AF20","v":{"v":0,"d":"0.00"}},{"$f":"IF($B20=1,$AG20,0)","v":{"v":0,"d":"0.00"}},{"$f":"IF($B20=2,$AG20,0)","v":{"v":0,"d":"0.00"}},{"$f":"IF($B20=3,$AG20,0)","v":{"v":0,"d":"0.00"}},{"$f":"IF($B20=4,$AG20,0)","v":{"v":0,"d":"0.00"}},{"$f":"IF($B20=5,$AG20,0)","v":{"v":0,"d":"0.00"}},{"$f":"IF($B20=6,$AG20,0)","v":{"v":0,"d":"0.00"}},{"$f":"IF(AN19>0,IF(H20+P20+X20+AF20+AV20+BD20+BL20+BT20+CB20+CJ20=0,IF(E20>0,AN19,0),0),0)","v":0},{"$f":"G20*AN20","v":{"v":0,"d":"0.00"}},{"$f":"IF($B20=1,$AO20,0)","v":{"v":0,"d":"0.00"}},{"$f":"IF($B20=2,$AO20,0)","v":{"v":0,"d":"0.00"}},{"$f":"IF($B20=3,$AO20,0)","v":{"v":0,"d":"0.00"}},{"$f":"IF($B20=4,$AO20,0)","v":{"v":0,"d":"0.00"}},{"$f":"IF($B20=5,$AO20,0)","v":{"v":0,"d":"0.00"}},{"$f":"IF($B20=6,$AO20,0)","v":{"v":0,"d":"0.00"}},{"$f":"IF(AV19>0,IF(H20+P20+X20+AF20+AN20+BD20+BL20+BT20+CB20+CJ20=0,IF(E20>0,AV19,0),0),0)","v":0},{"$f":"G20*AV20","v":{"v":0,"d":"0.00"}},{"$f":"IF($B20=1,$AW20,0)","v":{"v":0,"d":"0.00"}},{"$f":"IF($B20=2,$AW20,0)","v":{"v":0,"d":"0.00"}},{"$f":"IF($B20=3,$AW20,0)","v":{"v":0,"d":"0.00"}},{"$f":"IF($B20=4,$AW20,0)","v":{"v":0,"d":"0.00"}},{"$f":"IF($B20=5,$AW20,0)","v":{"v":0,"d":"0.00"}},{"$f":"IF($B20=6,$AW20,0)","v":{"v":0,"d":"0.00"}},{"$f":"IF(BD19>0,IF(H20+P20+X20+AF20+AN20+AV20+BL20+BT20+CB20+CJ20=0,IF(E20>0,BD19,0),0),0)","v":0},{"$f":"G20*BD20","v":{"v":0,"d":"0.00"}},{"$f":"IF($B20=1,$BE20,0)","v":{"v":0,"d":"0.00"}},{"$f":"IF($B20=2,$BE20,0)","v":{"v":0,"d":"0.00"}},{"$f":"IF($B20=3,$BE20,0)","v":{"v":0,"d":"0.00"}},{"$f":"IF($B20=4,$BE20,0)","v":{"v":0,"d":"0.00"}},{"$f":"IF($B20=5,$BE20,0)","v":{"v":0,"d":"0.00"}},{"$f":"IF($B20=6,$BE20,0)","v":{"v":0,"d":"0.00"}},{"$f":"IF(BL19>0,IF(H20+P20+X20+AF20+AN20+AV20+BD20+BT20+CB20+CJ20=0,IF(E20>0,BL19,0),0),0)","v":0},{"$f":"G20*BL20","v":{"v":0,"d":"0.00"}},{"$f":"IF($B20=1,$BM20,0)","v":{"v":0,"d":"0.00"}},{"$f":"IF($B20=2,$BM20,0)","v":{"v":0,"d":"0.00"}},{"$f":"IF($B20=3,$BM20,0)","v":{"v":0,"d":"0.00"}},{"$f":"IF($B20=4,$BM20,0)","v":{"v":0,"d":"0.00"}},{"$f":"IF($B20=5,$BM20,0)","v":{"v":0,"d":"0.00"}},{"$f":"IF($B20=6,$BM20,0)","v":{"v":0,"d":"0.00"}},{"$f":"IF(BT19>0,IF(H20+P20+X20+AF20+AN20+AV20+BD20+BL20+CB20+CJ20=0,IF(E20>0,BT19,0),0),0)","v":0},{"$f":"G20*BT20","v":{"v":0,"d":"0.00"}},{"$f":"IF($B20=1,$BU20,0)","v":{"v":0,"d":"0.00"}},{"$f":"IF($B20=2,$BU20,0)","v":{"v":0,"d":"0.00"}},{"$f":"IF($B20=3,$BU20,0)","v":{"v":0,"d":"0.00"}},{"$f":"IF($B20=4,$BU20,0)","v":{"v":0,"d":"0.00"}},{"$f":"IF($B20=5,$BU20,0)","v":{"v":0,"d":"0.00"}},{"$f":"IF($B20=6,$BU20,0)","v":{"v":0,"d":"0.00"}},{"$f":"IF(CB19>0,IF(H20+P20+X20+AF20+AN20+AV20+BD20+BL20+BT20+CJ20=0,IF(E20>0,CB19,0),0),0)","v":0},{"$f":"G20*CB20","v":{"v":0,"d":"0.00"}},{"$f":"IF($B20=1,$CC20,0)","v":{"v":0,"d":"0.00"}},{"$f":"IF($B20=2,$CC20,0)","v":{"v":0,"d":"0.00"}},{"$f":"IF($B20=3,$CC20,0)","v":{"v":0,"d":"0.00"}},{"$f":"IF($B20=4,$CC20,0)","v":{"v":0,"d":"0.00"}},{"$f":"IF($B20=5,$CC20,0)","v":{"v":0,"d":"0.00"}},{"$f":"IF($B20=6,$CC20,0)","v":{"v":0,"d":"0.00"}},{"$f":"IF(CJ19>0,IF(H20+P20+X20+AF20+AN20+AV20+BD20+BL20+BT20+CB20=0,IF(E20>0,CJ19,0),0),0)","v":0},{"$f":"G20*CJ20","v":{"v":0,"d":"0.00"}},{"$f":"IF($B20=1,$CK20,0)","v":{"v":0,"d":"0.00"}},{"$f":"IF($B20=2,$CK20,0)","v":{"v":0,"d":"0.00"}},{"$f":"IF($B20=3,$CK20,0)","v":{"v":0,"d":"0.00"}},{"$f":"IF($B20=4,$CK20,0)","v":{"v":0,"d":"0.00"}},{"$f":"IF($B20=5,$CK20,0)","v":{"v":0,"d":"0.00"}},{"$f":"IF($B20=6,$CK20,0)","v":{"v":0,"d":"0.00"}}]
[{"$f":"IF(C20<>C21,C21,\"\")","v":""},{"$f":"IF(C20<>C21,_xlfn.DAYS(C21,C20)+B20,B20)","v":1},{"$f":"IF(D21>0,IF(D21<E20,C20+1,C20),C20)","v":"2009-03-09"},{"$f":"IF((E21+H21+P21+X21+AF21+AN21+AV21+BD21+BL21+BT21+CB21+CJ21)>0,E20,0)","v":"00:00:00"},null,{"$f":"E21-D21","v":"00:00:00"},{"$f":"IF(E21>0,HOUR(F21)+(MINUTE(F21)/60),0)","v":0},{"$f":"IF(H20>0,IF(P21+X21+AF21+AN21+AV21+BD21+BL21+BT21+CB21+CJ21=0,IF(E21>0,H20,0),0),0)","v":0},{"$f":"G21*H21","v":{"v":0,"d":"0.00"}},{"$f":"IF($B21=1,$I21,0)","v":{"v":0,"d":"0.00"}},{"$f":"IF($B21=2,$I21,0)","v":{"v":0,"d":"0.00"}},{"$f":"IF($B21=3,$I21,0)","v":{"v":0,"d":"0.00"}},{"$f":"IF($B21=4,$I21,0)","v":{"v":0,"d":"0.00"}},{"$f":"IF($B21=5,$I21,0)","v":{"v":0,"d":"0.00"}},{"$f":"IF($B21=6,$I21,0)","v":{"v":0,"d":"0.00"}},{"$f":"IF(P20>0,IF(H21+X21+AF21+AN21+AV21+BD21+BL21+BT21+CB21+CJ21=0,IF(E21>0,P20,0),0),0)","v":0},{"$f":"G21*P21","v":{"v":0,"d":"0.00"}},{"$f":"IF(B21=1,Q21,0)","v":{"v":0,"d":"0.00"}},{"$f":"IF(B21=2,Q21,0)","v":{"v":0,"d":"0.00"}},{"$f":"IF(B21=3,Q21,0)","v":{"v":0,"d":"0.00"}},{"$f":"IF(B21=4,Q21,0)","v":{"v":0,"d":"0.00"}},{"$f":"IF(B21=5,Q21,0)","v":{"v":0,"d":"0.00"}},{"$f":"IF(B21=6,Q21,0)","v":{"v":0,"d":"0.00"}},{"$f":"IF(X20>0,IF(H21+P21+AF21+AN21+AV21+BD21+BL21+BT21+CB21+CJ21=0,IF(E21>0,X20,0),0),0)","v":0},{"$f":"G21*X21","v":{"v":0,"d":"0.00"}},{"$f":"IF($B21=1,$Y21,0)","v":{"v":0,"d":"0.00"}},{"$f":"IF($B21=2,$Y21,0)","v":{"v":0,"d":"0.00"}},{"$f":"IF($B21=3,$Y21,0)","v":{"v":0,"d":"0.00"}},{"$f":"IF($B21=4,$Y21,0)","v":{"v":0,"d":"0.00"}},{"$f":"IF($B21=5,$Y21,0)","v":{"v":0,"d":"0.00"}},{"$f":"IF($B21=6,$Y21,0)","v":{"v":0,"d":"0.00"}},{"$f":"IF(AF20>0,IF(H21+P21+X21+AN21+AV21+BD21+BL21+BT21+CB21+CJ21=0,IF(E21>0,AF20,0),0),0)","v":0},{"$f":"G21*AF21","v":{"v":0,"d":"0.00"}},{"$f":"IF($B21=1,$AG21,0)","v":{"v":0,"d":"0.00"}},{"$f":"IF($B21=2,$AG21,0)","v":{"v":0,"d":"0.00"}},{"$f":"IF($B21=3,$AG21,0)","v":{"v":0,"d":"0.00"}},{"$f":"IF($B21=4,$AG21,0)","v":{"v":0,"d":"0.00"}},{"$f":"IF($B21=5,$AG21,0)","v":{"v":0,"d":"0.00"}},{"$f":"IF($B21=6,$AG21,0)","v":{"v":0,"d":"0.00"}},{"$f":"IF(AN20>0,IF(H21+P21+X21+AF21+AV21+BD21+BL21+BT21+CB21+CJ21=0,IF(E21>0,AN20,0),0),0)","v":0},{"$f":"G21*AN21","v":{"v":0,"d":"0.00"}},{"$f":"IF($B21=1,$AO21,0)","v":{"v":0,"d":"0.00"}},{"$f":"IF($B21=2,$AO21,0)","v":{"v":0,"d":"0.00"}},{"$f":"IF($B21=3,$AO21,0)","v":{"v":0,"d":"0.00"}},{"$f":"IF($B21=4,$AO21,0)","v":{"v":0,"d":"0.00"}},{"$f":"IF($B21=5,$AO21,0)","v":{"v":0,"d":"0.00"}},{"$f":"IF($B21=6,$AO21,0)","v":{"v":0,"d":"0.00"}},{"$f":"IF(AV20>0,IF(H21+P21+X21+AF21+AN21+BD21+BL21+BT21+CB21+CJ21=0,IF(E21>0,AV20,0),0),0)","v":0},{"$f":"G21*AV21","v":{"v":0,"d":"0.00"}},{"$f":"IF($B21=1,$AW21,0)","v":{"v":0,"d":"0.00"}},{"$f":"IF($B21=2,$AW21,0)","v":{"v":0,"d":"0.00"}},{"$f":"IF($B21=3,$AW21,0)","v":{"v":0,"d":"0.00"}},{"$f":"IF($B21=4,$AW21,0)","v":{"v":0,"d":"0.00"}},{"$f":"IF($B21=5,$AW21,0)","v":{"v":0,"d":"0.00"}},{"$f":"IF($B21=6,$AW21,0)","v":{"v":0,"d":"0.00"}},{"$f":"IF(BD20>0,IF(H21+P21+X21+AF21+AN21+AV21+BL21+BT21+CB21+CJ21=0,IF(E21>0,BD20,0),0),0)","v":0},{"$f":"G21*BD21","v":{"v":0,"d":"0.00"}},{"$f":"IF($B21=1,$BE21,0)","v":{"v":0,"d":"0.00"}},{"$f":"IF($B21=2,$BE21,0)","v":{"v":0,"d":"0.00"}},{"$f":"IF($B21=3,$BE21,0)","v":{"v":0,"d":"0.00"}},{"$f":"IF($B21=4,$BE21,0)","v":{"v":0,"d":"0.00"}},{"$f":"IF($B21=5,$BE21,0)","v":{"v":0,"d":"0.00"}},{"$f":"IF($B21=6,$BE21,0)","v":{"v":0,"d":"0.00"}},{"$f":"IF(BL20>0,IF(H21+P21+X21+AF21+AN21+AV21+BD21+BT21+CB21+CJ21=0,IF(E21>0,BL20,0),0),0)","v":0},{"$f":"G21*BL21","v":{"v":0,"d":"0.00"}},{"$f":"IF($B21=1,$BM21,0)","v":{"v":0,"d":"0.00"}},{"$f":"IF($B21=2,$BM21,0)","v":{"v":0,"d":"0.00"}},{"$f":"IF($B21=3,$BM21,0)","v":{"v":0,"d":"0.00"}},{"$f":"IF($B21=4,$BM21,0)","v":{"v":0,"d":"0.00"}},{"$f":"IF($B21=5,$BM21,0)","v":{"v":0,"d":"0.00"}},{"$f":"IF($B21=6,$BM21,0)","v":{"v":0,"d":"0.00"}},{"$f":"IF(BT20>0,IF(H21+P21+X21+AF21+AN21+AV21+BD21+BL21+CB21+CJ21=0,IF(E21>0,BT20,0),0),0)","v":0},{"$f":"G21*BT21","v":{"v":0,"d":"0.00"}},{"$f":"IF($B21=1,$BU21,0)","v":{"v":0,"d":"0.00"}},{"$f":"IF($B21=2,$BU21,0)","v":{"v":0,"d":"0.00"}},{"$f":"IF($B21=3,$BU21,0)","v":{"v":0,"d":"0.00"}},{"$f":"IF($B21=4,$BU21,0)","v":{"v":0,"d":"0.00"}},{"$f":"IF($B21=5,$BU21,0)","v":{"v":0,"d":"0.00"}},{"$f":"IF($B21=6,$BU21,0)","v":{"v":0,"d":"0.00"}},{"$f":"IF(CB20>0,IF(H21+P21+X21+AF21+AN21+AV21+BD21+BL21+BT21+CJ21=0,IF(E21>0,CB20,0),0),0)","v":0},{"$f":"G21*CB21","v":{"v":0,"d":"0.00"}},{"$f":"IF($B21=1,$CC21,0)","v":{"v":0,"d":"0.00"}},{"$f":"IF($B21=2,$CC21,0)","v":{"v":0,"d":"0.00"}},{"$f":"IF($B21=3,$CC21,0)","v":{"v":0,"d":"0.00"}},{"$f":"IF($B21=4,$CC21,0)","v":{"v":0,"d":"0.00"}},{"$f":"IF($B21=5,$CC21,0)","v":{"v":0,"d":"0.00"}},{"$f":"IF($B21=6,$CC21,0)","v":{"v":0,"d":"0.00"}},{"$f":"IF(CJ20>0,IF(H21+P21+X21+AF21+AN21+AV21+BD21+BL21+BT21+CB21=0,IF(E21>0,CJ20,0),0),0)","v":0},{"$f":"G21*CJ21","v":{"v":0,"d":"0.00"}},{"$f":"IF($B21=1,$CK21,0)","v":{"v":0,"d":"0.00"}},{"$f":"IF($B21=2,$CK21,0)","v":{"v":0,"d":"0.00"}},{"$f":"IF($B21=3,$CK21,0)","v":{"v":0,"d":"0.00"}},{"$f":"IF($B21=4,$CK21,0)","v":{"v":0,"d":"0.00"}},{"$f":"IF($B21=5,$CK21,0)","v":{"v":0,"d":"0.00"}},{"$f":"IF($B21=6,$CK21,0)","v":{"v":0,"d":"0.00"}}]
[{"$f":"IF(C21<>C22,C22,\"\")","v":""},{"$f":"IF(C21<>C22,_xlfn.DAYS(C22,C21)+B21,B21)","v":1},{"$f":"IF(D22>0,IF(D22<E21,C21+1,C21),C21)","v":"2009-03-09"},{"$f":"IF((E22+H22+P22+X22+AF22+AN22+AV22+BD22+BL22+BT22+CB22+CJ22)>0,E21,0)","v":"00:00:00"},null,{"$f":"E22-D22","v":"00:00:00"},{"$f":"IF(E22>0,HOUR(F22)+(MINUTE(F22)/60),0)","v":0},{"$f":"IF(H21>0,IF(P22+X22+AF22+AN22+AV22+BD22+BL22+BT22+CB22+CJ22=0,IF(E22>0,H21,0),0),0)","v":0},{"$f":"G22*H22","v":{"v":0,"d":"0.00"}},{"$f":"IF($B22=1,$I22,0)","v":{"v":0,"d":"0.00"}},{"$f":"IF($B22=2,$I22,0)","v":{"v":0,"d":"0.00"}},{"$f":"IF($B22=3,$I22,0)","v":{"v":0,"d":"0.00"}},{"$f":"IF($B22=4,$I22,0)","v":{"v":0,"d":"0.00"}},{"$f":"IF($B22=5,$I22,0)","v":{"v":0,"d":"0.00"}},{"$f":"IF($B22=6,$I22,0)","v":{"v":0,"d":"0.00"}},{"$f":"IF(P21>0,IF(H22+X22+AF22+AN22+AV22+BD22+BL22+BT22+CB22+CJ22=0,IF(E22>0,P21,0),0),0)","v":0},{"$f":"G22*P22","v":{"v":0,"d":"0.00"}},{"$f":"IF(B22=1,Q22,0)","v":{"v":0,"d":"0.00"}},{"$f":"IF(B22=2,Q22,0)","v":{"v":0,"d":"0.00"}},{"$f":"IF(B22=3,Q22,0)","v":{"v":0,"d":"0.00"}},{"$f":"IF(B22=4,Q22,0)","v":{"v":0,"d":"0.00"}},{"$f":"IF(B22=5,Q22,0)","v":{"v":0,"d":"0.00"}},{"$f":"IF(B22=6,Q22,0)","v":{"v":0,"d":"0.00"}},{"$f":"IF(X21>0,IF(H22+P22+AF22+AN22+AV22+BD22+BL22+BT22+CB22+CJ22=0,IF(E22>0,X21,0),0),0)","v":0},{"$f":"G22*X22","v":{"v":0,"d":"0.00"}},{"$f":"IF($B22=1,$Y22,0)","v":{"v":0,"d":"0.00"}},{"$f":"IF($B22=2,$Y22,0)","v":{"v":0,"d":"0.00"}},{"$f":"IF($B22=3,$Y22,0)","v":{"v":0,"d":"0.00"}},{"$f":"IF($B22=4,$Y22,0)","v":{"v":0,"d":"0.00"}},{"$f":"IF($B22=5,$Y22,0)","v":{"v":0,"d":"0.00"}},{"$f":"IF($B22=6,$Y22,0)","v":{"v":0,"d":"0.00"}},{"$f":"IF(AF21>0,IF(H22+P22+X22+AN22+AV22+BD22+BL22+BT22+CB22+CJ22=0,IF(E22>0,AF21,0),0),0)","v":0},{"$f":"G22*AF22","v":{"v":0,"d":"0.00"}},{"$f":"IF($B22=1,$AG22,0)","v":{"v":0,"d":"0.00"}},{"$f":"IF($B22=2,$AG22,0)","v":{"v":0,"d":"0.00"}},{"$f":"IF($B22=3,$AG22,0)","v":{"v":0,"d":"0.00"}},{"$f":"IF($B22=4,$AG22,0)","v":{"v":0,"d":"0.00"}},{"$f":"IF($B22=5,$AG22,0)","v":{"v":0,"d":"0.00"}},{"$f":"IF($B22=6,$AG22,0)","v":{"v":0,"d":"0.00"}},{"$f":"IF(AN21>0,IF(H22+P22+X22+AF22+AV22+BD22+BL22+BT22+CB22+CJ22=0,IF(E22>0,AN21,0),0),0)","v":0},{"$f":"G22*AN22","v":{"v":0,"d":"0.00"}},{"$f":"IF($B22=1,$AO22,0)","v":{"v":0,"d":"0.00"}},{"$f":"IF($B22=2,$AO22,0)","v":{"v":0,"d":"0.00"}},{"$f":"IF($B22=3,$AO22,0)","v":{"v":0,"d":"0.00"}},{"$f":"IF($B22=4,$AO22,0)","v":{"v":0,"d":"0.00"}},{"$f":"IF($B22=5,$AO22,0)","v":{"v":0,"d":"0.00"}},{"$f":"IF($B22=6,$AO22,0)","v":{"v":0,"d":"0.00"}},{"$f":"IF(AV21>0,IF(H22+P22+X22+AF22+AN22+BD22+BL22+BT22+CB22+CJ22=0,IF(E22>0,AV21,0),0),0)","v":0},{"$f":"G22*AV22","v":{"v":0,"d":"0.00"}},{"$f":"IF($B22=1,$AW22,0)","v":{"v":0,"d":"0.00"}},{"$f":"IF($B22=2,$AW22,0)","v":{"v":0,"d":"0.00"}},{"$f":"IF($B22=3,$AW22,0)","v":{"v":0,"d":"0.00"}},{"$f":"IF($B22=4,$AW22,0)","v":{"v":0,"d":"0.00"}},{"$f":"IF($B22=5,$AW22,0)","v":{"v":0,"d":"0.00"}},{"$f":"IF($B22=6,$AW22,0)","v":{"v":0,"d":"0.00"}},{"$f":"IF(BD21>0,IF(H22+P22+X22+AF22+AN22+AV22+BL22+BT22+CB22+CJ22=0,IF(E22>0,BD21,0),0),0)","v":0},{"$f":"G22*BD22","v":{"v":0,"d":"0.00"}},{"$f":"IF($B22=1,$BE22,0)","v":{"v":0,"d":"0.00"}},{"$f":"IF($B22=2,$BE22,0)","v":{"v":0,"d":"0.00"}},{"$f":"IF($B22=3,$BE22,0)","v":{"v":0,"d":"0.00"}},{"$f":"IF($B22=4,$BE22,0)","v":{"v":0,"d":"0.00"}},{"$f":"IF($B22=5,$BE22,0)","v":{"v":0,"d":"0.00"}},{"$f":"IF($B22=6,$BE22,0)","v":{"v":0,"d":"0.00"}},{"$f":"IF(BL21>0,IF(H22+P22+X22+AF22+AN22+AV22+BD22+BT22+CB22+CJ22=0,IF(E22>0,BL21,0),0),0)","v":0},{"$f":"G22*BL22","v":{"v":0,"d":"0.00"}},{"$f":"IF($B22=1,$BM22,0)","v":{"v":0,"d":"0.00"}},{"$f":"IF($B22=2,$BM22,0)","v":{"v":0,"d":"0.00"}},{"$f":"IF($B22=3,$BM22,0)","v":{"v":0,"d":"0.00"}},{"$f":"IF($B22=4,$BM22,0)","v":{"v":0,"d":"0.00"}},{"$f":"IF($B22=5,$BM22,0)","v":{"v":0,"d":"0.00"}},{"$f":"IF($B22=6,$BM22,0)","v":{"v":0,"d":"0.00"}},{"$f":"IF(BT21>0,IF(H22+P22+X22+AF22+AN22+AV22+BD22+BL22+CB22+CJ22=0,IF(E22>0,BT21,0),0),0)","v":0},{"$f":"G22*BT22","v":{"v":0,"d":"0.00"}},{"$f":"IF($B22=1,$BU22,0)","v":{"v":0,"d":"0.00"}},{"$f":"IF($B22=2,$BU22,0)","v":{"v":0,"d":"0.00"}},{"$f":"IF($B22=3,$BU22,0)","v":{"v":0,"d":"0.00"}},{"$f":"IF($B22=4,$BU22,0)","v":{"v":0,"d":"0.00"}},{"$f":"IF($B22=5,$BU22,0)","v":{"v":0,"d":"0.00"}},{"$f":"IF($B22=6,$BU22,0)","v":{"v":0,"d":"0.00"}},{"$f":"IF(CB21>0,IF(H22+P22+X22+AF22+AN22+AV22+BD22+BL22+BT22+CJ22=0,IF(E22>0,CB21,0),0),0)","v":0},{"$f":"G22*CB22","v":{"v":0,"d":"0.00"}},{"$f":"IF($B22=1,$CC22,0)","v":{"v":0,"d":"0.00"}},{"$f":"IF($B22=2,$CC22,0)","v":{"v":0,"d":"0.00"}},{"$f":"IF($B22=3,$CC22,0)","v":{"v":0,"d":"0.00"}},{"$f":"IF($B22=4,$CC22,0)","v":{"v":0,"d":"0.00"}},{"$f":"IF($B22=5,$CC22,0)","v":{"v":0,"d":"0.00"}},{"$f":"IF($B22=6,$CC22,0)","v":{"v":0,"d":"0.00"}},{"$f":"IF(CJ21>0,IF(H22+P22+X22+AF22+AN22+AV22+BD22+BL22+BT22+CB22=0,IF(E22>0,CJ21,0),0),0)","v":0},{"$f":"G22*CJ22","v":{"v":0,"d":"0.00"}},{"$f":"IF($B22=1,$CK22,0)","v":{"v":0,"d":"0.00"}},{"$f":"IF($B22=2,$CK22,0)","v":{"v":0,"d":"0.00"}},{"$f":"IF($B22=3,$CK22,0)","v":{"v":0,"d":"0.00"}},{"$f":"IF($B22=4,$CK22,0)","v":{"v":0,"d":"0.00"}},{"$f":"IF($B22=5,$CK22,0)","v":{"v":0,"d":"0.00"}},{"$f":"IF($B22=6,$CK22,0)","v":{"v":0,"d":"0.00"}}]
[{"$f":"IF(C22<>C23,C23,\"\")","v":""},{"$f":"IF(C22<>C23,_xlfn.DAYS(C23,C22)+B22,B22)","v":1},{"$f":"IF(D23>0,IF(D23<E22,C22+1,C22),C22)","v":"2009-03-09"},{"$f":"IF((E23+H23+P23+X23+AF23+AN23+AV23+BD23+BL23+BT23+CB23+CJ23)>0,E22,0)","v":"00:00:00"},null,{"$f":"E23-D23","v":"00:00:00"},{"$f":"IF(E23>0,HOUR(F23)+(MINUTE(F23)/60),0)","v":0},{"$f":"IF(H22>0,IF(P23+X23+AF23+AN23+AV23+BD23+BL23+BT23+CB23+CJ23=0,IF(E23>0,H22,0),0),0)","v":0},{"$f":"G23*H23","v":{"v":0,"d":"0.00"}},{"$f":"IF($B23=1,$I23,0)","v":{"v":0,"d":"0.00"}},{"$f":"IF($B23=2,$I23,0)","v":{"v":0,"d":"0.00"}},{"$f":"IF($B23=3,$I23,0)","v":{"v":0,"d":"0.00"}},{"$f":"IF($B23=4,$I23,0)","v":{"v":0,"d":"0.00"}},{"$f":"IF($B23=5,$I23,0)","v":{"v":0,"d":"0.00"}},{"$f":"IF($B23=6,$I23,0)","v":{"v":0,"d":"0.00"}},{"$f":"IF(P22>0,IF(H23+X23+AF23+AN23+AV23+BD23+BL23+BT23+CB23+CJ23=0,IF(E23>0,P22,0),0),0)","v":0},{"$f":"G23*P23","v":{"v":0,"d":"0.00"}},{"$f":"IF(B23=1,Q23,0)","v":{"v":0,"d":"0.00"}},{"$f":"IF(B23=2,Q23,0)","v":{"v":0,"d":"0.00"}},{"$f":"IF(B23=3,Q23,0)","v":{"v":0,"d":"0.00"}},{"$f":"IF(B23=4,Q23,0)","v":{"v":0,"d":"0.00"}},{"$f":"IF(B23=5,Q23,0)","v":{"v":0,"d":"0.00"}},{"$f":"IF(B23=6,Q23,0)","v":{"v":0,"d":"0.00"}},{"$f":"IF(X22>0,IF(H23+P23+AF23+AN23+AV23+BD23+BL23+BT23+CB23+CJ23=0,IF(E23>0,X22,0),0),0)","v":0},{"$f":"G23*X23","v":{"v":0,"d":"0.00"}},{"$f":"IF($B23=1,$Y23,0)","v":{"v":0,"d":"0.00"}},{"$f":"IF($B23=2,$Y23,0)","v":{"v":0,"d":"0.00"}},{"$f":"IF($B23=3,$Y23,0)","v":{"v":0,"d":"0.00"}},{"$f":"IF($B23=4,$Y23,0)","v":{"v":0,"d":"0.00"}},{"$f":"IF($B23=5,$Y23,0)","v":{"v":0,"d":"0.00"}},{"$f":"IF($B23=6,$Y23,0)","v":{"v":0,"d":"0.00"}},{"$f":"IF(AF22>0,IF(H23+P23+X23+AN23+AV23+BD23+BL23+BT23+CB23+CJ23=0,IF(E23>0,AF22,0),0),0)","v":0},{"$f":"G23*AF23","v":{"v":0,"d":"0.00"}},{"$f":"IF($B23=1,$AG23,0)","v":{"v":0,"d":"0.00"}},{"$f":"IF($B23=2,$AG23,0)","v":{"v":0,"d":"0.00"}},{"$f":"IF($B23=3,$AG23,0)","v":{"v":0,"d":"0.00"}},{"$f":"IF($B23=4,$AG23,0)","v":{"v":0,"d":"0.00"}},{"$f":"IF($B23=5,$AG23,0)","v":{"v":0,"d":"0.00"}},{"$f":"IF($B23=6,$AG23,0)","v":{"v":0,"d":"0.00"}},{"$f":"IF(AN22>0,IF(H23+P23+X23+AF23+AV23+BD23+BL23+BT23+CB23+CJ23=0,IF(E23>0,AN22,0),0),0)","v":0},{"$f":"G23*AN23","v":{"v":0,"d":"0.00"}},{"$f":"IF($B23=1,$AO23,0)","v":{"v":0,"d":"0.00"}},{"$f":"IF($B23=2,$AO23,0)","v":{"v":0,"d":"0.00"}},{"$f":"IF($B23=3,$AO23,0)","v":{"v":0,"d":"0.00"}},{"$f":"IF($B23=4,$AO23,0)","v":{"v":0,"d":"0.00"}},{"$f":"IF($B23=5,$AO23,0)","v":{"v":0,"d":"0.00"}},{"$f":"IF($B23=6,$AO23,0)","v":{"v":0,"d":"0.00"}},{"$f":"IF(AV22>0,IF(H23+P23+X23+AF23+AN23+BD23+BL23+BT23+CB23+CJ23=0,IF(E23>0,AV22,0),0),0)","v":0},{"$f":"G23*AV23","v":{"v":0,"d":"0.00"}},{"$f":"IF($B23=1,$AW23,0)","v":{"v":0,"d":"0.00"}},{"$f":"IF($B23=2,$AW23,0)","v":{"v":0,"d":"0.00"}},{"$f":"IF($B23=3,$AW23,0)","v":{"v":0,"d":"0.00"}},{"$f":"IF($B23=4,$AW23,0)","v":{"v":0,"d":"0.00"}},{"$f":"IF($B23=5,$AW23,0)","v":{"v":0,"d":"0.00"}},{"$f":"IF($B23=6,$AW23,0)","v":{"v":0,"d":"0.00"}},{"$f":"IF(BD22>0,IF(H23+P23+X23+AF23+AN23+AV23+BL23+BT23+CB23+CJ23=0,IF(E23>0,BD22,0),0),0)","v":0},{"$f":"G23*BD23","v":{"v":0,"d":"0.00"}},{"$f":"IF($B23=1,$BE23,0)","v":{"v":0,"d":"0.00"}},{"$f":"IF($B23=2,$BE23,0)","v":{"v":0,"d":"0.00"}},{"$f":"IF($B23=3,$BE23,0)","v":{"v":0,"d":"0.00"}},{"$f":"IF($B23=4,$BE23,0)","v":{"v":0,"d":"0.00"}},{"$f":"IF($B23=5,$BE23,0)","v":{"v":0,"d":"0.00"}},{"$f":"IF($B23=6,$BE23,0)","v":{"v":0,"d":"0.00"}},{"$f":"IF(BL22>0,IF(H23+P23+X23+AF23+AN23+AV23+BD23+BT23+CB23+CJ23=0,IF(E23>0,BL22,0),0),0)","v":0},{"$f":"G23*BL23","v":{"v":0,"d":"0.00"}},{"$f":"IF($B23=1,$BM23,0)","v":{"v":0,"d":"0.00"}},{"$f":"IF($B23=2,$BM23,0)","v":{"v":0,"d":"0.00"}},{"$f":"IF($B23=3,$BM23,0)","v":{"v":0,"d":"0.00"}},{"$f":"IF($B23=4,$BM23,0)","v":{"v":0,"d":"0.00"}},{"$f":"IF($B23=5,$BM23,0)","v":{"v":0,"d":"0.00"}},{"$f":"IF($B23=6,$BM23,0)","v":{"v":0,"d":"0.00"}},{"$f":"IF(BT22>0,IF(H23+P23+X23+AF23+AN23+AV23+BD23+BL23+CB23+CJ23=0,IF(E23>0,BT22,0),0),0)","v":0},{"$f":"G23*BT23","v":{"v":0,"d":"0.00"}},{"$f":"IF($B23=1,$BU23,0)","v":{"v":0,"d":"0.00"}},{"$f":"IF($B23=2,$BU23,0)","v":{"v":0,"d":"0.00"}},{"$f":"IF($B23=3,$BU23,0)","v":{"v":0,"d":"0.00"}},{"$f":"IF($B23=4,$BU23,0)","v":{"v":0,"d":"0.00"}},{"$f":"IF($B23=5,$BU23,0)","v":{"v":0,"d":"0.00"}},{"$f":"IF($B23=6,$BU23,0)","v":{"v":0,"d":"0.00"}},{"$f":"IF(CB22>0,IF(H23+P23+X23+AF23+AN23+AV23+BD23+BL23+BT23+CJ23=0,IF(E23>0,CB22,0),0),0)","v":0},{"$f":"G23*CB23","v":{"v":0,"d":"0.00"}},{"$f":"IF($B23=1,$CC23,0)","v":{"v":0,"d":"0.00"}},{"$f":"IF($B23=2,$CC23,0)","v":{"v":0,"d":"0.00"}},{"$f":"IF($B23=3,$CC23,0)","v":{"v":0,"d":"0.00"}},{"$f":"IF($B23=4,$CC23,0)","v":{"v":0,"d":"0.00"}},{"$f":"IF($B23=5,$CC23,0)","v":{"v":0,"d":"0.00"}},{"$f":"IF($B23=6,$CC23,0)","v":{"v":0,"d":"0.00"}},{"$f":"IF(CJ22>0,IF(H23+P23+X23+AF23+AN23+AV23+BD23+BL23+BT23+CB23=0,IF(E23>0,CJ22,0),0),0)","v":0},{"$f":"G23*CJ23","v":{"v":0,"d":"0.00"}},{"$f":"IF($B23=1,$CK23,0)","v":{"v":0,"d":"0.00"}},{"$f":"IF($B23=2,$CK23,0)","v":{"v":0,"d":"0.00"}},{"$f":"IF($B23=3,$CK23,0)","v":{"v":0,"d":"0.00"}},{"$f":"IF($B23=4,$CK23,0)","v":{"v":0,"d":"0.00"}},{"$f":"IF($B23=5,$CK23,0)","v":{"v":0,"d":"0.00"}},{"$f":"IF($B23=6,$CK23,0)","v":{"v":0,"d":"0.00"}}]
[{"$f":"IF(C23<>C24,C24,\"\")","v":""},{"$f":"IF(C23<>C24,_xlfn.DAYS(C24,C23)+B23,B23)","v":1},{"$f":"IF(D24>0,IF(D24<E23,C23+1,C23),C23)","v":"2009-03-09"},{"$f":"IF((E24+H24+P24+X24+AF24+AN24+AV24+BD24+BL24+BT24+CB24+CJ24)>0,E23,0)","v":"00:00:00"},null,{"$f":"E24-D24","v":"00:00:00"},{"$f":"IF(E24>0,HOUR(F24)+(MINUTE(F24)/60),0)","v":0},{"$f":"IF(H23>0,IF(P24+X24+AF24+AN24+AV24+BD24+BL24+BT24+CB24+CJ24=0,IF(E24>0,H23,0),0),0)","v":0},{"$f":"G24*H24","v":{"v":0,"d":"0.00"}},{"$f":"IF($B24=1,$I24,0)","v":{"v":0,"d":"0.00"}},{"$f":"IF($B24=2,$I24,0)","v":{"v":0,"d":"0.00"}},{"$f":"IF($B24=3,$I24,0)","v":{"v":0,"d":"0.00"}},{"$f":"IF($B24=4,$I24,0)","v":{"v":0,"d":"0.00"}},{"$f":"IF($B24=5,$I24,0)","v":{"v":0,"d":"0.00"}},{"$f":"IF($B24=6,$I24,0)","v":{"v":0,"d":"0.00"}},{"$f":"IF(P23>0,IF(H24+X24+AF24+AN24+AV24+BD24+BL24+BT24+CB24+CJ24=0,IF(E24>0,P23,0),0),0)","v":0},{"$f":"G24*P24","v":{"v":0,"d":"0.00"}},{"$f":"IF(B24=1,Q24,0)","v":{"v":0,"d":"0.00"}},{"$f":"IF(B24=2,Q24,0)","v":{"v":0,"d":"0.00"}},{"$f":"IF(B24=3,Q24,0)","v":{"v":0,"d":"0.00"}},{"$f":"IF(B24=4,Q24,0)","v":{"v":0,"d":"0.00"}},{"$f":"IF(B24=5,Q24,0)","v":{"v":0,"d":"0.00"}},{"$f":"IF(B24=6,Q24,0)","v":{"v":0,"d":"0.00"}},{"$f":"IF(X23>0,IF(H24+P24+AF24+AN24+AV24+BD24+BL24+BT24+CB24+CJ24=0,IF(E24>0,X23,0),0),0)","v":0},{"$f":"G24*X24","v":{"v":0,"d":"0.00"}},{"$f":"IF($B24=1,$Y24,0)","v":{"v":0,"d":"0.00"}},{"$f":"IF($B24=2,$Y24,0)","v":{"v":0,"d":"0.00"}},{"$f":"IF($B24=3,$Y24,0)","v":{"v":0,"d":"0.00"}},{"$f":"IF($B24=4,$Y24,0)","v":{"v":0,"d":"0.00"}},{"$f":"IF($B24=5,$Y24,0)","v":{"v":0,"d":"0.00"}},{"$f":"IF($B24=6,$Y24,0)","v":{"v":0,"d":"0.00"}},{"$f":"IF(AF23>0,IF(H24+P24+X24+AN24+AV24+BD24+BL24+BT24+CB24+CJ24=0,IF(E24>0,AF23,0),0),0)","v":0},{"$f":"G24*AF24","v":{"v":0,"d":"0.00"}},{"$f":"IF($B24=1,$AG24,0)","v":{"v":0,"d":"0.00"}},{"$f":"IF($B24=2,$AG24,0)","v":{"v":0,"d":"0.00"}},{"$f":"IF($B24=3,$AG24,0)","v":{"v":0,"d":"0.00"}},{"$f":"IF($B24=4,$AG24,0)","v":{"v":0,"d":"0.00"}},{"$f":"IF($B24=5,$AG24,0)","v":{"v":0,"d":"0.00"}},{"$f":"IF($B24=6,$AG24,0)","v":{"v":0,"d":"0.00"}},{"$f":"IF(AN23>0,IF(H24+P24+X24+AF24+AV24+BD24+BL24+BT24+CB24+CJ24=0,IF(E24>0,AN23,0),0),0)","v":0},{"$f":"G24*AN24","v":{"v":0,"d":"0.00"}},{"$f":"IF($B24=1,$AO24,0)","v":{"v":0,"d":"0.00"}},{"$f":"IF($B24=2,$AO24,0)","v":{"v":0,"d":"0.00"}},{"$f":"IF($B24=3,$AO24,0)","v":{"v":0,"d":"0.00"}},{"$f":"IF($B24=4,$AO24,0)","v":{"v":0,"d":"0.00"}},{"$f":"IF($B24=5,$AO24,0)","v":{"v":0,"d":"0.00"}},{"$f":"IF($B24=6,$AO24,0)","v":{"v":0,"d":"0.00"}},{"$f":"IF(AV23>0,IF(H24+P24+X24+AF24+AN24+BD24+BL24+BT24+CB24+CJ24=0,IF(E24>0,AV23,0),0),0)","v":0},{"$f":"G24*AV24","v":{"v":0,"d":"0.00"}},{"$f":"IF($B24=1,$AW24,0)","v":{"v":0,"d":"0.00"}},{"$f":"IF($B24=2,$AW24,0)","v":{"v":0,"d":"0.00"}},{"$f":"IF($B24=3,$AW24,0)","v":{"v":0,"d":"0.00"}},{"$f":"IF($B24=4,$AW24,0)","v":{"v":0,"d":"0.00"}},{"$f":"IF($B24=5,$AW24,0)","v":{"v":0,"d":"0.00"}},{"$f":"IF($B24=6,$AW24,0)","v":{"v":0,"d":"0.00"}},{"$f":"IF(BD23>0,IF(H24+P24+X24+AF24+AN24+AV24+BL24+BT24+CB24+CJ24=0,IF(E24>0,BD23,0),0),0)","v":0},{"$f":"G24*BD24","v":{"v":0,"d":"0.00"}},{"$f":"IF($B24=1,$BE24,0)","v":{"v":0,"d":"0.00"}},{"$f":"IF($B24=2,$BE24,0)","v":{"v":0,"d":"0.00"}},{"$f":"IF($B24=3,$BE24,0)","v":{"v":0,"d":"0.00"}},{"$f":"IF($B24=4,$BE24,0)","v":{"v":0,"d":"0.00"}},{"$f":"IF($B24=5,$BE24,0)","v":{"v":0,"d":"0.00"}},{"$f":"IF($B24=6,$BE24,0)","v":{"v":0,"d":"0.00"}},{"$f":"IF(BL23>0,IF(H24+P24+X24+AF24+AN24+AV24+BD24+BT24+CB24+CJ24=0,IF(E24>0,BL23,0),0),0)","v":0},{"$f":"G24*BL24","v":{"v":0,"d":"0.00"}},{"$f":"IF($B24=1,$BM24,0)","v":{"v":0,"d":"0.00"}},{"$f":"IF($B24=2,$BM24,0)","v":{"v":0,"d":"0.00"}},{"$f":"IF($B24=3,$BM24,0)","v":{"v":0,"d":"0.00"}},{"$f":"IF($B24=4,$BM24,0)","v":{"v":0,"d":"0.00"}},{"$f":"IF($B24=5,$BM24,0)","v":{"v":0,"d":"0.00"}},{"$f":"IF($B24=6,$BM24,0)","v":{"v":0,"d":"0.00"}},{"$f":"IF(BT23>0,IF(H24+P24+X24+AF24+AN24+AV24+BD24+BL24+CB24+CJ24=0,IF(E24>0,BT23,0),0),0)","v":0},{"$f":"G24*BT24","v":{"v":0,"d":"0.00"}},{"$f":"IF($B24=1,$BU24,0)","v":{"v":0,"d":"0.00"}},{"$f":"IF($B24=2,$BU24,0)","v":{"v":0,"d":"0.00"}},{"$f":"IF($B24=3,$BU24,0)","v":{"v":0,"d":"0.00"}},{"$f":"IF($B24=4,$BU24,0)","v":{"v":0,"d":"0.00"}},{"$f":"IF($B24=5,$BU24,0)","v":{"v":0,"d":"0.00"}},{"$f":"IF($B24=6,$BU24,0)","v":{"v":0,"d":"0.00"}},{"$f":"IF(CB23>0,IF(H24+P24+X24+AF24+AN24+AV24+BD24+BL24+BT24+CJ24=0,IF(E24>0,CB23,0),0),0)","v":0},{"$f":"G24*CB24","v":{"v":0,"d":"0.00"}},{"$f":"IF($B24=1,$CC24,0)","v":{"v":0,"d":"0.00"}},{"$f":"IF($B24=2,$CC24,0)","v":{"v":0,"d":"0.00"}},{"$f":"IF($B24=3,$CC24,0)","v":{"v":0,"d":"0.00"}},{"$f":"IF($B24=4,$CC24,0)","v":{"v":0,"d":"0.00"}},{"$f":"IF($B24=5,$CC24,0)","v":{"v":0,"d":"0.00"}},{"$f":"IF($B24=6,$CC24,0)","v":{"v":0,"d":"0.00"}},{"$f":"IF(CJ23>0,IF(H24+P24+X24+AF24+AN24+AV24+BD24+BL24+BT24+CB24=0,IF(E24>0,CJ23,0),0),0)","v":0},{"$f":"G24*CJ24","v":{"v":0,"d":"0.00"}},{"$f":"IF($B24=1,$CK24,0)","v":{"v":0,"d":"0.00"}},{"$f":"IF($B24=2,$CK24,0)","v":{"v":0,"d":"0.00"}},{"$f":"IF($B24=3,$CK24,0)","v":{"v":0,"d":"0.00"}},{"$f":"IF($B24=4,$CK24,0)","v":{"v":0,"d":"0.00"}},{"$f":"IF($B24=5,$CK24,0)","v":{"v":0,"d":"0.00"}},{"$f":"IF($B24=6,$CK24,0)","v":{"v":0,"d":"0.00"}}]
[{"$f":"IF(C24<>C25,C25,\"\")","v":""},{"$f":"IF(C24<>C25,_xlfn.DAYS(C25,C24)+B24,B24)","v":1},{"$f":"IF(D25>0,IF(D25<E24,C24+1,C24),C24)","v":"2009-03-09"},{"$f":"IF((E25+H25+P25+X25+AF25+AN25+AV25+BD25+BL25+BT25+CB25+CJ25)>0,E24,0)","v":"00:00:00"},null,{"$f":"E25-D25","v":"00:00:00"},{"$f":"IF(E25>0,HOUR(F25)+(MINUTE(F25)/60),0)","v":0},{"$f":"IF(H24>0,IF(P25+X25+AF25+AN25+AV25+BD25+BL25+BT25+CB25+CJ25=0,IF(E25>0,H24,0),0),0)","v":0},{"$f":"G25*H25","v":{"v":0,"d":"0.00"}},{"$f":"IF($B25=1,$I25,0)","v":{"v":0,"d":"0.00"}},{"$f":"IF($B25=2,$I25,0)","v":{"v":0,"d":"0.00"}},{"$f":"IF($B25=3,$I25,0)","v":{"v":0,"d":"0.00"}},{"$f":"IF($B25=4,$I25,0)","v":{"v":0,"d":"0.00"}},{"$f":"IF($B25=5,$I25,0)","v":{"v":0,"d":"0.00"}},{"$f":"IF($B25=6,$I25,0)","v":{"v":0,"d":"0.00"}},{"$f":"IF(P24>0,IF(H25+X25+AF25+AN25+AV25+BD25+BL25+BT25+CB25+CJ25=0,IF(E25>0,P24,0),0),0)","v":0},{"$f":"G25*P25","v":{"v":0,"d":"0.00"}},{"$f":"IF(B25=1,Q25,0)","v":{"v":0,"d":"0.00"}},{"$f":"IF(B25=2,Q25,0)","v":{"v":0,"d":"0.00"}},{"$f":"IF(B25=3,Q25,0)","v":{"v":0,"d":"0.00"}},{"$f":"IF(B25=4,Q25,0)","v":{"v":0,"d":"0.00"}},{"$f":"IF(B25=5,Q25,0)","v":{"v":0,"d":"0.00"}},{"$f":"IF(B25=6,Q25,0)","v":{"v":0,"d":"0.00"}},{"$f":"IF(X24>0,IF(H25+P25+AF25+AN25+AV25+BD25+BL25+BT25+CB25+CJ25=0,IF(E25>0,X24,0),0),0)","v":0},{"$f":"G25*X25","v":{"v":0,"d":"0.00"}},{"$f":"IF($B25=1,$Y25,0)","v":{"v":0,"d":"0.00"}},{"$f":"IF($B25=2,$Y25,0)","v":{"v":0,"d":"0.00"}},{"$f":"IF($B25=3,$Y25,0)","v":{"v":0,"d":"0.00"}},{"$f":"IF($B25=4,$Y25,0)","v":{"v":0,"d":"0.00"}},{"$f":"IF($B25=5,$Y25,0)","v":{"v":0,"d":"0.00"}},{"$f":"IF($B25=6,$Y25,0)","v":{"v":0,"d":"0.00"}},{"$f":"IF(AF24>0,IF(H25+P25+X25+AN25+AV25+BD25+BL25+BT25+CB25+CJ25=0,IF(E25>0,AF24,0),0),0)","v":0},{"$f":"G25*AF25","v":{"v":0,"d":"0.00"}},{"$f":"IF($B25=1,$AG25,0)","v":{"v":0,"d":"0.00"}},{"$f":"IF($B25=2,$AG25,0)","v":{"v":0,"d":"0.00"}},{"$f":"IF($B25=3,$AG25,0)","v":{"v":0,"d":"0.00"}},{"$f":"IF($B25=4,$AG25,0)","v":{"v":0,"d":"0.00"}},{"$f":"IF($B25=5,$AG25,0)","v":{"v":0,"d":"0.00"}},{"$f":"IF($B25=6,$AG25,0)","v":{"v":0,"d":"0.00"}},{"$f":"IF(AN24>0,IF(H25+P25+X25+AF25+AV25+BD25+BL25+BT25+CB25+CJ25=0,IF(E25>0,AN24,0),0),0)","v":0},{"$f":"G25*AN25","v":{"v":0,"d":"0.00"}},{"$f":"IF($B25=1,$AO25,0)","v":{"v":0,"d":"0.00"}},{"$f":"IF($B25=2,$AO25,0)","v":{"v":0,"d":"0.00"}},{"$f":"IF($B25=3,$AO25,0)","v":{"v":0,"d":"0.00"}},{"$f":"IF($B25=4,$AO25,0)","v":{"v":0,"d":"0.00"}},{"$f":"IF($B25=5,$AO25,0)","v":{"v":0,"d":"0.00"}},{"$f":"IF($B25=6,$AO25,0)","v":{"v":0,"d":"0.00"}},{"$f":"IF(AV24>0,IF(H25+P25+X25+AF25+AN25+BD25+BL25+BT25+CB25+CJ25=0,IF(E25>0,AV24,0),0),0)","v":0},{"$f":"G25*AV25","v":{"v":0,"d":"0.00"}},{"$f":"IF($B25=1,$AW25,0)","v":{"v":0,"d":"0.00"}},{"$f":"IF($B25=2,$AW25,0)","v":{"v":0,"d":"0.00"}},{"$f":"IF($B25=3,$AW25,0)","v":{"v":0,"d":"0.00"}},{"$f":"IF($B25=4,$AW25,0)","v":{"v":0,"d":"0.00"}},{"$f":"IF($B25=5,$AW25,0)","v":{"v":0,"d":"0.00"}},{"$f":"IF($B25=6,$AW25,0)","v":{"v":0,"d":"0.00"}},{"$f":"IF(BD24>0,IF(H25+P25+X25+AF25+AN25+AV25+BL25+BT25+CB25+CJ25=0,IF(E25>0,BD24,0),0),0)","v":0},{"$f":"G25*BD25","v":{"v":0,"d":"0.00"}},{"$f":"IF($B25=1,$BE25,0)","v":{"v":0,"d":"0.00"}},{"$f":"IF($B25=2,$BE25,0)","v":{"v":0,"d":"0.00"}},{"$f":"IF($B25=3,$BE25,0)","v":{"v":0,"d":"0.00"}},{"$f":"IF($B25=4,$BE25,0)","v":{"v":0,"d":"0.00"}},{"$f":"IF($B25=5,$BE25,0)","v":{"v":0,"d":"0.00"}},{"$f":"IF($B25=6,$BE25,0)","v":{"v":0,"d":"0.00"}},{"$f":"IF(BL24>0,IF(H25+P25+X25+AF25+AN25+AV25+BD25+BT25+CB25+CJ25=0,IF(E25>0,BL24,0),0),0)","v":0},{"$f":"G25*BL25","v":{"v":0,"d":"0.00"}},{"$f":"IF($B25=1,$BM25,0)","v":{"v":0,"d":"0.00"}},{"$f":"IF($B25=2,$BM25,0)","v":{"v":0,"d":"0.00"}},{"$f":"IF($B25=3,$BM25,0)","v":{"v":0,"d":"0.00"}},{"$f":"IF($B25=4,$BM25,0)","v":{"v":0,"d":"0.00"}},{"$f":"IF($B25=5,$BM25,0)","v":{"v":0,"d":"0.00"}},{"$f":"IF($B25=6,$BM25,0)","v":{"v":0,"d":"0.00"}},{"$f":"IF(BT24>0,IF(H25+P25+X25+AF25+AN25+AV25+BD25+BL25+CB25+CJ25=0,IF(E25>0,BT24,0),0),0)","v":0},{"$f":"G25*BT25","v":{"v":0,"d":"0.00"}},{"$f":"IF($B25=1,$BU25,0)","v":{"v":0,"d":"0.00"}},{"$f":"IF($B25=2,$BU25,0)","v":{"v":0,"d":"0.00"}},{"$f":"IF($B25=3,$BU25,0)","v":{"v":0,"d":"0.00"}},{"$f":"IF($B25=4,$BU25,0)","v":{"v":0,"d":"0.00"}},{"$f":"IF($B25=5,$BU25,0)","v":{"v":0,"d":"0.00"}},{"$f":"IF($B25=6,$BU25,0)","v":{"v":0,"d":"0.00"}},{"$f":"IF(CB24>0,IF(H25+P25+X25+AF25+AN25+AV25+BD25+BL25+BT25+CJ25=0,IF(E25>0,CB24,0),0),0)","v":0},{"$f":"G25*CB25","v":{"v":0,"d":"0.00"}},{"$f":"IF($B25=1,$CC25,0)","v":{"v":0,"d":"0.00"}},{"$f":"IF($B25=2,$CC25,0)","v":{"v":0,"d":"0.00"}},{"$f":"IF($B25=3,$CC25,0)","v":{"v":0,"d":"0.00"}},{"$f":"IF($B25=4,$CC25,0)","v":{"v":0,"d":"0.00"}},{"$f":"IF($B25=5,$CC25,0)","v":{"v":0,"d":"0.00"}},{"$f":"IF($B25=6,$CC25,0)","v":{"v":0,"d":"0.00"}},{"$f":"IF(CJ24>0,IF(H25+P25+X25+AF25+AN25+AV25+BD25+BL25+BT25+CB25=0,IF(E25>0,CJ24,0),0),0)","v":0},{"$f":"G25*CJ25","v":{"v":0,"d":"0.00"}},{"$f":"IF($B25=1,$CK25,0)","v":{"v":0,"d":"0.00"}},{"$f":"IF($B25=2,$CK25,0)","v":{"v":0,"d":"0.00"}},{"$f":"IF($B25=3,$CK25,0)","v":{"v":0,"d":"0.00"}},{"$f":"IF($B25=4,$CK25,0)","v":{"v":0,"d":"0.00"}},{"$f":"IF($B25=5,$CK25,0)","v":{"v":0,"d":"0.00"}},{"$f":"IF($B25=6,$CK25,0)","v":{"v":0,"d":"0.00"}}]
[{"$f":"IF(C25<>C26,C26,\"\")","v":""},{"$f":"IF(C25<>C26,_xlfn.DAYS(C26,C25)+B25,B25)","v":1},{"$f":"IF(D26>0,IF(D26<E25,C25+1,C25),C25)","v":"2009-03-09"},{"$f":"IF((E26+H26+P26+X26+AF26+AN26+AV26+BD26+BL26+BT26+CB26+CJ26)>0,E25,0)","v":"00:00:00"},null,{"$f":"E26-D26","v":"00:00:00"},{"$f":"IF(E26>0,HOUR(F26)+(MINUTE(F26)/60),0)","v":0},{"$f":"IF(H25>0,IF(P26+X26+AF26+AN26+AV26+BD26+BL26+BT26+CB26+CJ26=0,IF(E26>0,H25,0),0),0)","v":0},{"$f":"G26*H26","v":{"v":0,"d":"0.00"}},{"$f":"IF($B26=1,$I26,0)","v":{"v":0,"d":"0.00"}},{"$f":"IF($B26=2,$I26,0)","v":{"v":0,"d":"0.00"}},{"$f":"IF($B26=3,$I26,0)","v":{"v":0,"d":"0.00"}},{"$f":"IF($B26=4,$I26,0)","v":{"v":0,"d":"0.00"}},{"$f":"IF($B26=5,$I26,0)","v":{"v":0,"d":"0.00"}},{"$f":"IF($B26=6,$I26,0)","v":{"v":0,"d":"0.00"}},{"$f":"IF(P25>0,IF(H26+X26+AF26+AN26+AV26+BD26+BL26+BT26+CB26+CJ26=0,IF(E26>0,P25,0),0),0)","v":0},{"$f":"G26*P26","v":{"v":0,"d":"0.00"}},{"$f":"IF(B26=1,Q26,0)","v":{"v":0,"d":"0.00"}},{"$f":"IF(B26=2,Q26,0)","v":{"v":0,"d":"0.00"}},{"$f":"IF(B26=3,Q26,0)","v":{"v":0,"d":"0.00"}},{"$f":"IF(B26=4,Q26,0)","v":{"v":0,"d":"0.00"}},{"$f":"IF(B26=5,Q26,0)","v":{"v":0,"d":"0.00"}},{"$f":"IF(B26=6,Q26,0)","v":{"v":0,"d":"0.00"}},{"$f":"IF(X25>0,IF(H26+P26+AF26+AN26+AV26+BD26+BL26+BT26+CB26+CJ26=0,IF(E26>0,X25,0),0),0)","v":0},{"$f":"G26*X26","v":{"v":0,"d":"0.00"}},{"$f":"IF($B26=1,$Y26,0)","v":{"v":0,"d":"0.00"}},{"$f":"IF($B26=2,$Y26,0)","v":{"v":0,"d":"0.00"}},{"$f":"IF($B26=3,$Y26,0)","v":{"v":0,"d":"0.00"}},{"$f":"IF($B26=4,$Y26,0)","v":{"v":0,"d":"0.00"}},{"$f":"IF($B26=5,$Y26,0)","v":{"v":0,"d":"0.00"}},{"$f":"IF($B26=6,$Y26,0)","v":{"v":0,"d":"0.00"}},{"$f":"IF(AF25>0,IF(H26+P26+X26+AN26+AV26+BD26+BL26+BT26+CB26+CJ26=0,IF(E26>0,AF25,0),0),0)","v":0},{"$f":"G26*AF26","v":{"v":0,"d":"0.00"}},{"$f":"IF($B26=1,$AG26,0)","v":{"v":0,"d":"0.00"}},{"$f":"IF($B26=2,$AG26,0)","v":{"v":0,"d":"0.00"}},{"$f":"IF($B26=3,$AG26,0)","v":{"v":0,"d":"0.00"}},{"$f":"IF($B26=4,$AG26,0)","v":{"v":0,"d":"0.00"}},{"$f":"IF($B26=5,$AG26,0)","v":{"v":0,"d":"0.00"}},{"$f":"IF($B26=6,$AG26,0)","v":{"v":0,"d":"0.00"}},{"$f":"IF(AN25>0,IF(H26+P26+X26+AF26+AV26+BD26+BL26+BT26+CB26+CJ26=0,IF(E26>0,AN25,0),0),0)","v":0},{"$f":"G26*AN26","v":{"v":0,"d":"0.00"}},{"$f":"IF($B26=1,$AO26,0)","v":{"v":0,"d":"0.00"}},{"$f":"IF($B26=2,$AO26,0)","v":{"v":0,"d":"0.00"}},{"$f":"IF($B26=3,$AO26,0)","v":{"v":0,"d":"0.00"}},{"$f":"IF($B26=4,$AO26,0)","v":{"v":0,"d":"0.00"}},{"$f":"IF($B26=5,$AO26,0)","v":{"v":0,"d":"0.00"}},{"$f":"IF($B26=6,$AO26,0)","v":{"v":0,"d":"0.00"}},{"$f":"IF(AV25>0,IF(H26+P26+X26+AF26+AN26+BD26+BL26+BT26+CB26+CJ26=0,IF(E26>0,AV25,0),0),0)","v":0},{"$f":"G26*AV26","v":{"v":0,"d":"0.00"}},{"$f":"IF($B26=1,$AW26,0)","v":{"v":0,"d":"0.00"}},{"$f":"IF($B26=2,$AW26,0)","v":{"v":0,"d":"0.00"}},{"$f":"IF($B26=3,$AW26,0)","v":{"v":0,"d":"0.00"}},{"$f":"IF($B26=4,$AW26,0)","v":{"v":0,"d":"0.00"}},{"$f":"IF($B26=5,$AW26,0)","v":{"v":0,"d":"0.00"}},{"$f":"IF($B26=6,$AW26,0)","v":{"v":0,"d":"0.00"}},{"$f":"IF(BD25>0,IF(H26+P26+X26+AF26+AN26+AV26+BL26+BT26+CB26+CJ26=0,IF(E26>0,BD25,0),0),0)","v":0},{"$f":"G26*BD26","v":{"v":0,"d":"0.00"}},{"$f":"IF($B26=1,$BE26,0)","v":{"v":0,"d":"0.00"}},{"$f":"IF($B26=2,$BE26,0)","v":{"v":0,"d":"0.00"}},{"$f":"IF($B26=3,$BE26,0)","v":{"v":0,"d":"0.00"}},{"$f":"IF($B26=4,$BE26,0)","v":{"v":0,"d":"0.00"}},{"$f":"IF($B26=5,$BE26,0)","v":{"v":0,"d":"0.00"}},{"$f":"IF($B26=6,$BE26,0)","v":{"v":0,"d":"0.00"}},{"$f":"IF(BL25>0,IF(H26+P26+X26+AF26+AN26+AV26+BD26+BT26+CB26+CJ26=0,IF(E26>0,BL25,0),0),0)","v":0},{"$f":"G26*BL26","v":{"v":0,"d":"0.00"}},{"$f":"IF($B26=1,$BM26,0)","v":{"v":0,"d":"0.00"}},{"$f":"IF($B26=2,$BM26,0)","v":{"v":0,"d":"0.00"}},{"$f":"IF($B26=3,$BM26,0)","v":{"v":0,"d":"0.00"}},{"$f":"IF($B26=4,$BM26,0)","v":{"v":0,"d":"0.00"}},{"$f":"IF($B26=5,$BM26,0)","v":{"v":0,"d":"0.00"}},{"$f":"IF($B26=6,$BM26,0)","v":{"v":0,"d":"0.00"}},{"$f":"IF(BT25>0,IF(H26+P26+X26+AF26+AN26+AV26+BD26+BL26+CB26+CJ26=0,IF(E26>0,BT25,0),0),0)","v":0},{"$f":"G26*BT26","v":{"v":0,"d":"0.00"}},{"$f":"IF($B26=1,$BU26,0)","v":{"v":0,"d":"0.00"}},{"$f":"IF($B26=2,$BU26,0)","v":{"v":0,"d":"0.00"}},{"$f":"IF($B26=3,$BU26,0)","v":{"v":0,"d":"0.00"}},{"$f":"IF($B26=4,$BU26,0)","v":{"v":0,"d":"0.00"}},{"$f":"IF($B26=5,$BU26,0)","v":{"v":0,"d":"0.00"}},{"$f":"IF($B26=6,$BU26,0)","v":{"v":0,"d":"0.00"}},{"$f":"IF(CB25>0,IF(H26+P26+X26+AF26+AN26+AV26+BD26+BL26+BT26+CJ26=0,IF(E26>0,CB25,0),0),0)","v":0},{"$f":"G26*CB26","v":{"v":0,"d":"0.00"}},{"$f":"IF($B26=1,$CC26,0)","v":{"v":0,"d":"0.00"}},{"$f":"IF($B26=2,$CC26,0)","v":{"v":0,"d":"0.00"}},{"$f":"IF($B26=3,$CC26,0)","v":{"v":0,"d":"0.00"}},{"$f":"IF($B26=4,$CC26,0)","v":{"v":0,"d":"0.00"}},{"$f":"IF($B26=5,$CC26,0)","v":{"v":0,"d":"0.00"}},{"$f":"IF($B26=6,$CC26,0)","v":{"v":0,"d":"0.00"}},{"$f":"IF(CJ25>0,IF(H26+P26+X26+AF26+AN26+AV26+BD26+BL26+BT26+CB26=0,IF(E26>0,CJ25,0),0),0)","v":0},{"$f":"G26*CJ26","v":{"v":0,"d":"0.00"}},{"$f":"IF($B26=1,$CK26,0)","v":{"v":0,"d":"0.00"}},{"$f":"IF($B26=2,$CK26,0)","v":{"v":0,"d":"0.00"}},{"$f":"IF($B26=3,$CK26,0)","v":{"v":0,"d":"0.00"}},{"$f":"IF($B26=4,$CK26,0)","v":{"v":0,"d":"0.00"}},{"$f":"IF($B26=5,$CK26,0)","v":{"v":0,"d":"0.00"}},{"$f":"IF($B26=6,$CK26,0)","v":{"v":0,"d":"0.00"}}]
[{"$f":"IF(C26<>C27,C27,\"\")","v":""},{"$f":"IF(C26<>C27,_xlfn.DAYS(C27,C26)+B26,B26)","v":1},{"$f":"IF(D27>0,IF(D27<E26,C26+1,C26),C26)","v":"2009-03-09"},{"$f":"IF((E27+H27+P27+X27+AF27+AN27+AV27+BD27+BL27+BT27+CB27+CJ27)>0,E26,0)","v":"00:00:00"},null,{"$f":"E27-D27","v":"00:00:00"},{"$f":"IF(E27>0,HOUR(F27)+(MINUTE(F27)/60),0)","v":0},{"$f":"IF(H26>0,IF(P27+X27+AF27+AN27+AV27+BD27+BL27+BT27+CB27+CJ27=0,IF(E27>0,H26,0),0),0)","v":0},{"$f":"G27*H27","v":{"v":0,"d":"0.00"}},{"$f":"IF($B27=1,$I27,0)","v":{"v":0,"d":"0.00"}},{"$f":"IF($B27=2,$I27,0)","v":{"v":0,"d":"0.00"}},{"$f":"IF($B27=3,$I27,0)","v":{"v":0,"d":"0.00"}},{"$f":"IF($B27=4,$I27,0)","v":{"v":0,"d":"0.00"}},{"$f":"IF($B27=5,$I27,0)","v":{"v":0,"d":"0.00"}},{"$f":"IF($B27=6,$I27,0)","v":{"v":0,"d":"0.00"}},{"$f":"IF(P26>0,IF(H27+X27+AF27+AN27+AV27+BD27+BL27+BT27+CB27+CJ27=0,IF(E27>0,P26,0),0),0)","v":0},{"$f":"G27*P27","v":{"v":0,"d":"0.00"}},{"$f":"IF(B27=1,Q27,0)","v":{"v":0,"d":"0.00"}},{"$f":"IF(B27=2,Q27,0)","v":{"v":0,"d":"0.00"}},{"$f":"IF(B27=3,Q27,0)","v":{"v":0,"d":"0.00"}},{"$f":"IF(B27=4,Q27,0)","v":{"v":0,"d":"0.00"}},{"$f":"IF(B27=5,Q27,0)","v":{"v":0,"d":"0.00"}},{"$f":"IF(B27=6,Q27,0)","v":{"v":0,"d":"0.00"}},{"$f":"IF(X26>0,IF(H27+P27+AF27+AN27+AV27+BD27+BL27+BT27+CB27+CJ27=0,IF(E27>0,X26,0),0),0)","v":0},{"$f":"G27*X27","v":{"v":0,"d":"0.00"}},{"$f":"IF($B27=1,$Y27,0)","v":{"v":0,"d":"0.00"}},{"$f":"IF($B27=2,$Y27,0)","v":{"v":0,"d":"0.00"}},{"$f":"IF($B27=3,$Y27,0)","v":{"v":0,"d":"0.00"}},{"$f":"IF($B27=4,$Y27,0)","v":{"v":0,"d":"0.00"}},{"$f":"IF($B27=5,$Y27,0)","v":{"v":0,"d":"0.00"}},{"$f":"IF($B27=6,$Y27,0)","v":{"v":0,"d":"0.00"}},{"$f":"IF(AF26>0,IF(H27+P27+X27+AN27+AV27+BD27+BL27+BT27+CB27+CJ27=0,IF(E27>0,AF26,0),0),0)","v":0},{"$f":"G27*AF27","v":{"v":0,"d":"0.00"}},{"$f":"IF($B27=1,$AG27,0)","v":{"v":0,"d":"0.00"}},{"$f":"IF($B27=2,$AG27,0)","v":{"v":0,"d":"0.00"}},{"$f":"IF($B27=3,$AG27,0)","v":{"v":0,"d":"0.00"}},{"$f":"IF($B27=4,$AG27,0)","v":{"v":0,"d":"0.00"}},{"$f":"IF($B27=5,$AG27,0)","v":{"v":0,"d":"0.00"}},{"$f":"IF($B27=6,$AG27,0)","v":{"v":0,"d":"0.00"}},{"$f":"IF(AN26>0,IF(H27+P27+X27+AF27+AV27+BD27+BL27+BT27+CB27+CJ27=0,IF(E27>0,AN26,0),0),0)","v":0},{"$f":"G27*AN27","v":{"v":0,"d":"0.00"}},{"$f":"IF($B27=1,$AO27,0)","v":{"v":0,"d":"0.00"}},{"$f":"IF($B27=2,$AO27,0)","v":{"v":0,"d":"0.00"}},{"$f":"IF($B27=3,$AO27,0)","v":{"v":0,"d":"0.00"}},{"$f":"IF($B27=4,$AO27,0)","v":{"v":0,"d":"0.00"}},{"$f":"IF($B27=5,$AO27,0)","v":{"v":0,"d":"0.00"}},{"$f":"IF($B27=6,$AO27,0)","v":{"v":0,"d":"0.00"}},{"$f":"IF(AV26>0,IF(H27+P27+X27+AF27+AN27+BD27+BL27+BT27+CB27+CJ27=0,IF(E27>0,AV26,0),0),0)","v":0},{"$f":"G27*AV27","v":{"v":0,"d":"0.00"}},{"$f":"IF($B27=1,$AW27,0)","v":{"v":0,"d":"0.00"}},{"$f":"IF($B27=2,$AW27,0)","v":{"v":0,"d":"0.00"}},{"$f":"IF($B27=3,$AW27,0)","v":{"v":0,"d":"0.00"}},{"$f":"IF($B27=4,$AW27,0)","v":{"v":0,"d":"0.00"}},{"$f":"IF($B27=5,$AW27,0)","v":{"v":0,"d":"0.00"}},{"$f":"IF($B27=6,$AW27,0)","v":{"v":0,"d":"0.00"}},{"$f":"IF(BD26>0,IF(H27+P27+X27+AF27+AN27+AV27+BL27+BT27+CB27+CJ27=0,IF(E27>0,BD26,0),0),0)","v":0},{"$f":"G27*BD27","v":{"v":0,"d":"0.00"}},{"$f":"IF($B27=1,$BE27,0)","v":{"v":0,"d":"0.00"}},{"$f":"IF($B27=2,$BE27,0)","v":{"v":0,"d":"0.00"}},{"$f":"IF($B27=3,$BE27,0)","v":{"v":0,"d":"0.00"}},{"$f":"IF($B27=4,$BE27,0)","v":{"v":0,"d":"0.00"}},{"$f":"IF($B27=5,$BE27,0)","v":{"v":0,"d":"0.00"}},{"$f":"IF($B27=6,$BE27,0)","v":{"v":0,"d":"0.00"}},{"$f":"IF(BL26>0,IF(H27+P27+X27+AF27+AN27+AV27+BD27+BT27+CB27+CJ27=0,IF(E27>0,BL26,0),0),0)","v":0},{"$f":"G27*BL27","v":{"v":0,"d":"0.00"}},{"$f":"IF($B27=1,$BM27,0)","v":{"v":0,"d":"0.00"}},{"$f":"IF($B27=2,$BM27,0)","v":{"v":0,"d":"0.00"}},{"$f":"IF($B27=3,$BM27,0)","v":{"v":0,"d":"0.00"}},{"$f":"IF($B27=4,$BM27,0)","v":{"v":0,"d":"0.00"}},{"$f":"IF($B27=5,$BM27,0)","v":{"v":0,"d":"0.00"}},{"$f":"IF($B27=6,$BM27,0)","v":{"v":0,"d":"0.00"}},{"$f":"IF(BT26>0,IF(H27+P27+X27+AF27+AN27+AV27+BD27+BL27+CB27+CJ27=0,IF(E27>0,BT26,0),0),0)","v":0},{"$f":"G27*BT27","v":{"v":0,"d":"0.00"}},{"$f":"IF($B27=1,$BU27,0)","v":{"v":0,"d":"0.00"}},{"$f":"IF($B27=2,$BU27,0)","v":{"v":0,"d":"0.00"}},{"$f":"IF($B27=3,$BU27,0)","v":{"v":0,"d":"0.00"}},{"$f":"IF($B27=4,$BU27,0)","v":{"v":0,"d":"0.00"}},{"$f":"IF($B27=5,$BU27,0)","v":{"v":0,"d":"0.00"}},{"$f":"IF($B27=6,$BU27,0)","v":{"v":0,"d":"0.00"}},{"$f":"IF(CB26>0,IF(H27+P27+X27+AF27+AN27+AV27+BD27+BL27+BT27+CJ27=0,IF(E27>0,CB26,0),0),0)","v":0},{"$f":"G27*CB27","v":{"v":0,"d":"0.00"}},{"$f":"IF($B27=1,$CC27,0)","v":{"v":0,"d":"0.00"}},{"$f":"IF($B27=2,$CC27,0)","v":{"v":0,"d":"0.00"}},{"$f":"IF($B27=3,$CC27,0)","v":{"v":0,"d":"0.00"}},{"$f":"IF($B27=4,$CC27,0)","v":{"v":0,"d":"0.00"}},{"$f":"IF($B27=5,$CC27,0)","v":{"v":0,"d":"0.00"}},{"$f":"IF($B27=6,$CC27,0)","v":{"v":0,"d":"0.00"}},{"$f":"IF(CJ26>0,IF(H27+P27+X27+AF27+AN27+AV27+BD27+BL27+BT27+CB27=0,IF(E27>0,CJ26,0),0),0)","v":0},{"$f":"G27*CJ27","v":{"v":0,"d":"0.00"}},{"$f":"IF($B27=1,$CK27,0)","v":{"v":0,"d":"0.00"}},{"$f":"IF($B27=2,$CK27,0)","v":{"v":0,"d":"0.00"}},{"$f":"IF($B27=3,$CK27,0)","v":{"v":0,"d":"0.00"}},{"$f":"IF($B27=4,$CK27,0)","v":{"v":0,"d":"0.00"}},{"$f":"IF($B27=5,$CK27,0)","v":{"v":0,"d":"0.00"}},{"$f":"IF($B27=6,$CK27,0)","v":{"v":0,"d":"0.00"}}]
[{"$f":"IF(C27<>C28,C28,\"\")","v":""},{"$f":"IF(C27<>C28,_xlfn.DAYS(C28,C27)+B27,B27)","v":1},{"$f":"IF(D28>0,IF(D28<E27,C27+1,C27),C27)","v":"2009-03-09"},{"$f":"IF((E28+H28+P28+X28+AF28+AN28+AV28+BD28+BL28+BT28+CB28+CJ28)>0,E27,0)","v":"00:00:00"},null,{"$f":"E28-D28","v":"00:00:00"},{"$f":"IF(E28>0,HOUR(F28)+(MINUTE(F28)/60),0)","v":0},{"$f":"IF(H27>0,IF(P28+X28+AF28+AN28+AV28+BD28+BL28+BT28+CB28+CJ28=0,IF(E28>0,H27,0),0),0)","v":0},{"$f":"G28*H28","v":{"v":0,"d":"0.00"}},{"$f":"IF($B28=1,$I28,0)","v":{"v":0,"d":"0.00"}},{"$f":"IF($B28=2,$I28,0)","v":{"v":0,"d":"0.00"}},{"$f":"IF($B28=3,$I28,0)","v":{"v":0,"d":"0.00"}},{"$f":"IF($B28=4,$I28,0)","v":{"v":0,"d":"0.00"}},{"$f":"IF($B28=5,$I28,0)","v":{"v":0,"d":"0.00"}},{"$f":"IF($B28=6,$I28,0)","v":{"v":0,"d":"0.00"}},{"$f":"IF(P27>0,IF(H28+X28+AF28+AN28+AV28+BD28+BL28+BT28+CB28+CJ28=0,IF(E28>0,P27,0),0),0)","v":0},{"$f":"G28*P28","v":{"v":0,"d":"0.00"}},{"$f":"IF(B28=1,Q28,0)","v":{"v":0,"d":"0.00"}},{"$f":"IF(B28=2,Q28,0)","v":{"v":0,"d":"0.00"}},{"$f":"IF(B28=3,Q28,0)","v":{"v":0,"d":"0.00"}},{"$f":"IF(B28=4,Q28,0)","v":{"v":0,"d":"0.00"}},{"$f":"IF(B28=5,Q28,0)","v":{"v":0,"d":"0.00"}},{"$f":"IF(B28=6,Q28,0)","v":{"v":0,"d":"0.00"}},{"$f":"IF(X27>0,IF(H28+P28+AF28+AN28+AV28+BD28+BL28+BT28+CB28+CJ28=0,IF(E28>0,X27,0),0),0)","v":0},{"$f":"G28*X28","v":{"v":0,"d":"0.00"}},{"$f":"IF($B28=1,$Y28,0)","v":{"v":0,"d":"0.00"}},{"$f":"IF($B28=2,$Y28,0)","v":{"v":0,"d":"0.00"}},{"$f":"IF($B28=3,$Y28,0)","v":{"v":0,"d":"0.00"}},{"$f":"IF($B28=4,$Y28,0)","v":{"v":0,"d":"0.00"}},{"$f":"IF($B28=5,$Y28,0)","v":{"v":0,"d":"0.00"}},{"$f":"IF($B28=6,$Y28,0)","v":{"v":0,"d":"0.00"}},{"$f":"IF(AF27>0,IF(H28+P28+X28+AN28+AV28+BD28+BL28+BT28+CB28+CJ28=0,IF(E28>0,AF27,0),0),0)","v":0},{"$f":"G28*AF28","v":{"v":0,"d":"0.00"}},{"$f":"IF($B28=1,$AG28,0)","v":{"v":0,"d":"0.00"}},{"$f":"IF($B28=2,$AG28,0)","v":{"v":0,"d":"0.00"}},{"$f":"IF($B28=3,$AG28,0)","v":{"v":0,"d":"0.00"}},{"$f":"IF($B28=4,$AG28,0)","v":{"v":0,"d":"0.00"}},{"$f":"IF($B28=5,$AG28,0)","v":{"v":0,"d":"0.00"}},{"$f":"IF($B28=6,$AG28,0)","v":{"v":0,"d":"0.00"}},{"$f":"IF(AN27>0,IF(H28+P28+X28+AF28+AV28+BD28+BL28+BT28+CB28+CJ28=0,IF(E28>0,AN27,0),0),0)","v":0},{"$f":"G28*AN28","v":{"v":0,"d":"0.00"}},{"$f":"IF($B28=1,$AO28,0)","v":{"v":0,"d":"0.00"}},{"$f":"IF($B28=2,$AO28,0)","v":{"v":0,"d":"0.00"}},{"$f":"IF($B28=3,$AO28,0)","v":{"v":0,"d":"0.00"}},{"$f":"IF($B28=4,$AO28,0)","v":{"v":0,"d":"0.00"}},{"$f":"IF($B28=5,$AO28,0)","v":{"v":0,"d":"0.00"}},{"$f":"IF($B28=6,$AO28,0)","v":{"v":0,"d":"0.00"}},{"$f":"IF(AV27>0,IF(H28+P28+X28+AF28+AN28+BD28+BL28+BT28+CB28+CJ28=0,IF(E28>0,AV27,0),0),0)","v":0},{"$f":"G28*AV28","v":{"v":0,"d":"0.00"}},{"$f":"IF($B28=1,$AW28,0)","v":{"v":0,"d":"0.00"}},{"$f":"IF($B28=2,$AW28,0)","v":{"v":0,"d":"0.00"}},{"$f":"IF($B28=3,$AW28,0)","v":{"v":0,"d":"0.00"}},{"$f":"IF($B28=4,$AW28,0)","v":{"v":0,"d":"0.00"}},{"$f":"IF($B28=5,$AW28,0)","v":{"v":0,"d":"0.00"}},{"$f":"IF($B28=6,$AW28,0)","v":{"v":0,"d":"0.00"}},{"$f":"IF(BD27>0,IF(H28+P28+X28+AF28+AN28+AV28+BL28+BT28+CB28+CJ28=0,IF(E28>0,BD27,0),0),0)","v":0},{"$f":"G28*BD28","v":{"v":0,"d":"0.00"}},{"$f":"IF($B28=1,$BE28,0)","v":{"v":0,"d":"0.00"}},{"$f":"IF($B28=2,$BE28,0)","v":{"v":0,"d":"0.00"}},{"$f":"IF($B28=3,$BE28,0)","v":{"v":0,"d":"0.00"}},{"$f":"IF($B28=4,$BE28,0)","v":{"v":0,"d":"0.00"}},{"$f":"IF($B28=5,$BE28,0)","v":{"v":0,"d":"0.00"}},{"$f":"IF($B28=6,$BE28,0)","v":{"v":0,"d":"0.00"}},{"$f":"IF(BL27>0,IF(H28+P28+X28+AF28+AN28+AV28+BD28+BT28+CB28+CJ28=0,IF(E28>0,BL27,0),0),0)","v":0},{"$f":"G28*BL28","v":{"v":0,"d":"0.00"}},{"$f":"IF($B28=1,$BM28,0)","v":{"v":0,"d":"0.00"}},{"$f":"IF($B28=2,$BM28,0)","v":{"v":0,"d":"0.00"}},{"$f":"IF($B28=3,$BM28,0)","v":{"v":0,"d":"0.00"}},{"$f":"IF($B28=4,$BM28,0)","v":{"v":0,"d":"0.00"}},{"$f":"IF($B28=5,$BM28,0)","v":{"v":0,"d":"0.00"}},{"$f":"IF($B28=6,$BM28,0)","v":{"v":0,"d":"0.00"}},{"$f":"IF(BT27>0,IF(H28+P28+X28+AF28+AN28+AV28+BD28+BL28+CB28+CJ28=0,IF(E28>0,BT27,0),0),0)","v":0},{"$f":"G28*BT28","v":{"v":0,"d":"0.00"}},{"$f":"IF($B28=1,$BU28,0)","v":{"v":0,"d":"0.00"}},{"$f":"IF($B28=2,$BU28,0)","v":{"v":0,"d":"0.00"}},{"$f":"IF($B28=3,$BU28,0)","v":{"v":0,"d":"0.00"}},{"$f":"IF($B28=4,$BU28,0)","v":{"v":0,"d":"0.00"}},{"$f":"IF($B28=5,$BU28,0)","v":{"v":0,"d":"0.00"}},{"$f":"IF($B28=6,$BU28,0)","v":{"v":0,"d":"0.00"}},{"$f":"IF(CB27>0,IF(H28+P28+X28+AF28+AN28+AV28+BD28+BL28+BT28+CJ28=0,IF(E28>0,CB27,0),0),0)","v":0},{"$f":"G28*CB28","v":{"v":0,"d":"0.00"}},{"$f":"IF($B28=1,$CC28,0)","v":{"v":0,"d":"0.00"}},{"$f":"IF($B28=2,$CC28,0)","v":{"v":0,"d":"0.00"}},{"$f":"IF($B28=3,$CC28,0)","v":{"v":0,"d":"0.00"}},{"$f":"IF($B28=4,$CC28,0)","v":{"v":0,"d":"0.00"}},{"$f":"IF($B28=5,$CC28,0)","v":{"v":0,"d":"0.00"}},{"$f":"IF($B28=6,$CC28,0)","v":{"v":0,"d":"0.00"}},{"$f":"IF(CJ27>0,IF(H28+P28+X28+AF28+AN28+AV28+BD28+BL28+BT28+CB28=0,IF(E28>0,CJ27,0),0),0)","v":0},{"$f":"G28*CJ28","v":{"v":0,"d":"0.00"}},{"$f":"IF($B28=1,$CK28,0)","v":{"v":0,"d":"0.00"}},{"$f":"IF($B28=2,$CK28,0)","v":{"v":0,"d":"0.00"}},{"$f":"IF($B28=3,$CK28,0)","v":{"v":0,"d":"0.00"}},{"$f":"IF($B28=4,$CK28,0)","v":{"v":0,"d":"0.00"}},{"$f":"IF($B28=5,$CK28,0)","v":{"v":0,"d":"0.00"}},{"$f":"IF($B28=6,$CK28,0)","v":{"v":0,"d":"0.00"}}]
[{"$f":"IF(C28<>C29,C29,\"\")","v":""},{"$f":"IF(C28<>C29,_xlfn.DAYS(C29,C28)+B28,B28)","v":1},{"$f":"IF(D29>0,IF(D29<E28,C28+1,C28),C28)","v":"2009-03-09"},{"$f":"IF((E29+H29+P29+X29+AF29+AN29+AV29+BD29+BL29+BT29+CB29+CJ29)>0,E28,0)","v":"00:00:00"},null,{"$f":"E29-D29","v":"00:00:00"},{"$f":"IF(E29>0,HOUR(F29)+(MINUTE(F29)/60),0)","v":0},{"$f":"IF(H28>0,IF(P29+X29+AF29+AN29+AV29+BD29+BL29+BT29+CB29+CJ29=0,IF(E29>0,H28,0),0),0)","v":0},{"$f":"G29*H29","v":{"v":0,"d":"0.00"}},{"$f":"IF($B29=1,$I29,0)","v":{"v":0,"d":"0.00"}},{"$f":"IF($B29=2,$I29,0)","v":{"v":0,"d":"0.00"}},{"$f":"IF($B29=3,$I29,0)","v":{"v":0,"d":"0.00"}},{"$f":"IF($B29=4,$I29,0)","v":{"v":0,"d":"0.00"}},{"$f":"IF($B29=5,$I29,0)","v":{"v":0,"d":"0.00"}},{"$f":"IF($B29=6,$I29,0)","v":{"v":0,"d":"0.00"}},{"$f":"IF(P28>0,IF(H29+X29+AF29+AN29+AV29+BD29+BL29+BT29+CB29+CJ29=0,IF(E29>0,P28,0),0),0)","v":0},{"$f":"G29*P29","v":{"v":0,"d":"0.00"}},{"$f":"IF(B29=1,Q29,0)","v":{"v":0,"d":"0.00"}},{"$f":"IF(B29=2,Q29,0)","v":{"v":0,"d":"0.00"}},{"$f":"IF(B29=3,Q29,0)","v":{"v":0,"d":"0.00"}},{"$f":"IF(B29=4,Q29,0)","v":{"v":0,"d":"0.00"}},{"$f":"IF(B29=5,Q29,0)","v":{"v":0,"d":"0.00"}},{"$f":"IF(B29=6,Q29,0)","v":{"v":0,"d":"0.00"}},{"$f":"IF(X28>0,IF(H29+P29+AF29+AN29+AV29+BD29+BL29+BT29+CB29+CJ29=0,IF(E29>0,X28,0),0),0)","v":0},{"$f":"G29*X29","v":{"v":0,"d":"0.00"}},{"$f":"IF($B29=1,$Y29,0)","v":{"v":0,"d":"0.00"}},{"$f":"IF($B29=2,$Y29,0)","v":{"v":0,"d":"0.00"}},{"$f":"IF($B29=3,$Y29,0)","v":{"v":0,"d":"0.00"}},{"$f":"IF($B29=4,$Y29,0)","v":{"v":0,"d":"0.00"}},{"$f":"IF($B29=5,$Y29,0)","v":{"v":0,"d":"0.00"}},{"$f":"IF($B29=6,$Y29,0)","v":{"v":0,"d":"0.00"}},{"$f":"IF(AF28>0,IF(H29+P29+X29+AN29+AV29+BD29+BL29+BT29+CB29+CJ29=0,IF(E29>0,AF28,0),0),0)","v":0},{"$f":"G29*AF29","v":{"v":0,"d":"0.00"}},{"$f":"IF($B29=1,$AG29,0)","v":{"v":0,"d":"0.00"}},{"$f":"IF($B29=2,$AG29,0)","v":{"v":0,"d":"0.00"}},{"$f":"IF($B29=3,$AG29,0)","v":{"v":0,"d":"0.00"}},{"$f":"IF($B29=4,$AG29,0)","v":{"v":0,"d":"0.00"}},{"$f":"IF($B29=5,$AG29,0)","v":{"v":0,"d":"0.00"}},{"$f":"IF($B29=6,$AG29,0)","v":{"v":0,"d":"0.00"}},{"$f":"IF(AN28>0,IF(H29+P29+X29+AF29+AV29+BD29+BL29+BT29+CB29+CJ29=0,IF(E29>0,AN28,0),0),0)","v":0},{"$f":"G29*AN29","v":{"v":0,"d":"0.00"}},{"$f":"IF($B29=1,$AO29,0)","v":{"v":0,"d":"0.00"}},{"$f":"IF($B29=2,$AO29,0)","v":{"v":0,"d":"0.00"}},{"$f":"IF($B29=3,$AO29,0)","v":{"v":0,"d":"0.00"}},{"$f":"IF($B29=4,$AO29,0)","v":{"v":0,"d":"0.00"}},{"$f":"IF($B29=5,$AO29,0)","v":{"v":0,"d":"0.00"}},{"$f":"IF($B29=6,$AO29,0)","v":{"v":0,"d":"0.00"}},{"$f":"IF(AV28>0,IF(H29+P29+X29+AF29+AN29+BD29+BL29+BT29+CB29+CJ29=0,IF(E29>0,AV28,0),0),0)","v":0},{"$f":"G29*AV29","v":{"v":0,"d":"0.00"}},{"$f":"IF($B29=1,$AW29,0)","v":{"v":0,"d":"0.00"}},{"$f":"IF($B29=2,$AW29,0)","v":{"v":0,"d":"0.00"}},{"$f":"IF($B29=3,$AW29,0)","v":{"v":0,"d":"0.00"}},{"$f":"IF($B29=4,$AW29,0)","v":{"v":0,"d":"0.00"}},{"$f":"IF($B29=5,$AW29,0)","v":{"v":0,"d":"0.00"}},{"$f":"IF($B29=6,$AW29,0)","v":{"v":0,"d":"0.00"}},{"$f":"IF(BD28>0,IF(H29+P29+X29+AF29+AN29+AV29+BL29+BT29+CB29+CJ29=0,IF(E29>0,BD28,0),0),0)","v":0},{"$f":"G29*BD29","v":{"v":0,"d":"0.00"}},{"$f":"IF($B29=1,$BE29,0)","v":{"v":0,"d":"0.00"}},{"$f":"IF($B29=2,$BE29,0)","v":{"v":0,"d":"0.00"}},{"$f":"IF($B29=3,$BE29,0)","v":{"v":0,"d":"0.00"}},{"$f":"IF($B29=4,$BE29,0)","v":{"v":0,"d":"0.00"}},{"$f":"IF($B29=5,$BE29,0)","v":{"v":0,"d":"0.00"}},{"$f":"IF($B29=6,$BE29,0)","v":{"v":0,"d":"0.00"}},{"$f":"IF(BL28>0,IF(H29+P29+X29+AF29+AN29+AV29+BD29+BT29+CB29+CJ29=0,IF(E29>0,BL28,0),0),0)","v":0},{"$f":"G29*BL29","v":{"v":0,"d":"0.00"}},{"$f":"IF($B29=1,$BM29,0)","v":{"v":0,"d":"0.00"}},{"$f":"IF($B29=2,$BM29,0)","v":{"v":0,"d":"0.00"}},{"$f":"IF($B29=3,$BM29,0)","v":{"v":0,"d":"0.00"}},{"$f":"IF($B29=4,$BM29,0)","v":{"v":0,"d":"0.00"}},{"$f":"IF($B29=5,$BM29,0)","v":{"v":0,"d":"0.00"}},{"$f":"IF($B29=6,$BM29,0)","v":{"v":0,"d":"0.00"}},{"$f":"IF(BT28>0,IF(H29+P29+X29+AF29+AN29+AV29+BD29+BL29+CB29+CJ29=0,IF(E29>0,BT28,0),0),0)","v":0},{"$f":"G29*BT29","v":{"v":0,"d":"0.00"}},{"$f":"IF($B29=1,$BU29,0)","v":{"v":0,"d":"0.00"}},{"$f":"IF($B29=2,$BU29,0)","v":{"v":0,"d":"0.00"}},{"$f":"IF($B29=3,$BU29,0)","v":{"v":0,"d":"0.00"}},{"$f":"IF($B29=4,$BU29,0)","v":{"v":0,"d":"0.00"}},{"$f":"IF($B29=5,$BU29,0)","v":{"v":0,"d":"0.00"}},{"$f":"IF($B29=6,$BU29,0)","v":{"v":0,"d":"0.00"}},{"$f":"IF(CB28>0,IF(H29+P29+X29+AF29+AN29+AV29+BD29+BL29+BT29+CJ29=0,IF(E29>0,CB28,0),0),0)","v":0},{"$f":"G29*CB29","v":{"v":0,"d":"0.00"}},{"$f":"IF($B29=1,$CC29,0)","v":{"v":0,"d":"0.00"}},{"$f":"IF($B29=2,$CC29,0)","v":{"v":0,"d":"0.00"}},{"$f":"IF($B29=3,$CC29,0)","v":{"v":0,"d":"0.00"}},{"$f":"IF($B29=4,$CC29,0)","v":{"v":0,"d":"0.00"}},{"$f":"IF($B29=5,$CC29,0)","v":{"v":0,"d":"0.00"}},{"$f":"IF($B29=6,$CC29,0)","v":{"v":0,"d":"0.00"}},{"$f":"IF(CJ28>0,IF(H29+P29+X29+AF29+AN29+AV29+BD29+BL29+BT29+CB29=0,IF(E29>0,CJ28,0),0),0)","v":0},{"$f":"G29*CJ29","v":{"v":0,"d":"0.00"}},{"$f":"IF($B29=1,$CK29,0)","v":{"v":0,"d":"0.00"}},{"$f":"IF($B29=2,$CK29,0)","v":{"v":0,"d":"0.00"}},{"$f":"IF($B29=3,$CK29,0)","v":{"v":0,"d":"0.00"}},{"$f":"IF($B29=4,$CK29,0)","v":{"v":0,"d":"0.00"}},{"$f":"IF($B29=5,$CK29,0)","v":{"v":0,"d":"0.00"}},{"$f":"IF($B29=6,$CK29,0)","v":{"v":0,"d":"0.00"}}]
[{"$f":"IF(C29<>C30,C30,\"\")","v":""},{"$f":"IF(C29<>C30,_xlfn.DAYS(C30,C29)+B29,B29)","v":1},{"$f":"IF(D30>0,IF(D30<E29,C29+1,C29),C29)","v":"2009-03-09"},{"$f":"IF((E30+H30+P30+X30+AF30+AN30+AV30+BD30+BL30+BT30+CB30+CJ30)>0,E29,0)","v":"00:00:00"},null,{"$f":"E30-D30","v":"00:00:00"},{"$f":"IF(E30>0,HOUR(F30)+(MINUTE(F30)/60),0)","v":0},{"$f":"IF(H29>0,IF(P30+X30+AF30+AN30+AV30+BD30+BL30+BT30+CB30+CJ30=0,IF(E30>0,H29,0),0),0)","v":0},{"$f":"G30*H30","v":{"v":0,"d":"0.00"}},{"$f":"IF($B30=1,$I30,0)","v":{"v":0,"d":"0.00"}},{"$f":"IF($B30=2,$I30,0)","v":{"v":0,"d":"0.00"}},{"$f":"IF($B30=3,$I30,0)","v":{"v":0,"d":"0.00"}},{"$f":"IF($B30=4,$I30,0)","v":{"v":0,"d":"0.00"}},{"$f":"IF($B30=5,$I30,0)","v":{"v":0,"d":"0.00"}},{"$f":"IF($B30=6,$I30,0)","v":{"v":0,"d":"0.00"}},{"$f":"IF(P29>0,IF(H30+X30+AF30+AN30+AV30+BD30+BL30+BT30+CB30+CJ30=0,IF(E30>0,P29,0),0),0)","v":0},{"$f":"G30*P30","v":{"v":0,"d":"0.00"}},{"$f":"IF(B30=1,Q30,0)","v":{"v":0,"d":"0.00"}},{"$f":"IF(B30=2,Q30,0)","v":{"v":0,"d":"0.00"}},{"$f":"IF(B30=3,Q30,0)","v":{"v":0,"d":"0.00"}},{"$f":"IF(B30=4,Q30,0)","v":{"v":0,"d":"0.00"}},{"$f":"IF(B30=5,Q30,0)","v":{"v":0,"d":"0.00"}},{"$f":"IF(B30=6,Q30,0)","v":{"v":0,"d":"0.00"}},{"$f":"IF(X29>0,IF(H30+P30+AF30+AN30+AV30+BD30+BL30+BT30+CB30+CJ30=0,IF(E30>0,X29,0),0),0)","v":0},{"$f":"G30*X30","v":{"v":0,"d":"0.00"}},{"$f":"IF($B30=1,$Y30,0)","v":{"v":0,"d":"0.00"}},{"$f":"IF($B30=2,$Y30,0)","v":{"v":0,"d":"0.00"}},{"$f":"IF($B30=3,$Y30,0)","v":{"v":0,"d":"0.00"}},{"$f":"IF($B30=4,$Y30,0)","v":{"v":0,"d":"0.00"}},{"$f":"IF($B30=5,$Y30,0)","v":{"v":0,"d":"0.00"}},{"$f":"IF($B30=6,$Y30,0)","v":{"v":0,"d":"0.00"}},{"$f":"IF(AF29>0,IF(H30+P30+X30+AN30+AV30+BD30+BL30+BT30+CB30+CJ30=0,IF(E30>0,AF29,0),0),0)","v":0},{"$f":"G30*AF30","v":{"v":0,"d":"0.00"}},{"$f":"IF($B30=1,$AG30,0)","v":{"v":0,"d":"0.00"}},{"$f":"IF($B30=2,$AG30,0)","v":{"v":0,"d":"0.00"}},{"$f":"IF($B30=3,$AG30,0)","v":{"v":0,"d":"0.00"}},{"$f":"IF($B30=4,$AG30,0)","v":{"v":0,"d":"0.00"}},{"$f":"IF($B30=5,$AG30,0)","v":{"v":0,"d":"0.00"}},{"$f":"IF($B30=6,$AG30,0)","v":{"v":0,"d":"0.00"}},{"$f":"IF(AN29>0,IF(H30+P30+X30+AF30+AV30+BD30+BL30+BT30+CB30+CJ30=0,IF(E30>0,AN29,0),0),0)","v":0},{"$f":"G30*AN30","v":{"v":0,"d":"0.00"}},{"$f":"IF($B30=1,$AO30,0)","v":{"v":0,"d":"0.00"}},{"$f":"IF($B30=2,$AO30,0)","v":{"v":0,"d":"0.00"}},{"$f":"IF($B30=3,$AO30,0)","v":{"v":0,"d":"0.00"}},{"$f":"IF($B30=4,$AO30,0)","v":{"v":0,"d":"0.00"}},{"$f":"IF($B30=5,$AO30,0)","v":{"v":0,"d":"0.00"}},{"$f":"IF($B30=6,$AO30,0)","v":{"v":0,"d":"0.00"}},{"$f":"IF(AV29>0,IF(H30+P30+X30+AF30+AN30+BD30+BL30+BT30+CB30+CJ30=0,IF(E30>0,AV29,0),0),0)","v":0},{"$f":"G30*AV30","v":{"v":0,"d":"0.00"}},{"$f":"IF($B30=1,$AW30,0)","v":{"v":0,"d":"0.00"}},{"$f":"IF($B30=2,$AW30,0)","v":{"v":0,"d":"0.00"}},{"$f":"IF($B30=3,$AW30,0)","v":{"v":0,"d":"0.00"}},{"$f":"IF($B30=4,$AW30,0)","v":{"v":0,"d":"0.00"}},{"$f":"IF($B30=5,$AW30,0)","v":{"v":0,"d":"0.00"}},{"$f":"IF($B30=6,$AW30,0)","v":{"v":0,"d":"0.00"}},{"$f":"IF(BD29>0,IF(H30+P30+X30+AF30+AN30+AV30+BL30+BT30+CB30+CJ30=0,IF(E30>0,BD29,0),0),0)","v":0},{"$f":"G30*BD30","v":{"v":0,"d":"0.00"}},{"$f":"IF($B30=1,$BE30,0)","v":{"v":0,"d":"0.00"}},{"$f":"IF($B30=2,$BE30,0)","v":{"v":0,"d":"0.00"}},{"$f":"IF($B30=3,$BE30,0)","v":{"v":0,"d":"0.00"}},{"$f":"IF($B30=4,$BE30,0)","v":{"v":0,"d":"0.00"}},{"$f":"IF($B30=5,$BE30,0)","v":{"v":0,"d":"0.00"}},{"$f":"IF($B30=6,$BE30,0)","v":{"v":0,"d":"0.00"}},{"$f":"IF(BL29>0,IF(H30+P30+X30+AF30+AN30+AV30+BD30+BT30+CB30+CJ30=0,IF(E30>0,BL29,0),0),0)","v":0},{"$f":"G30*BL30","v":{"v":0,"d":"0.00"}},{"$f":"IF($B30=1,$BM30,0)","v":{"v":0,"d":"0.00"}},{"$f":"IF($B30=2,$BM30,0)","v":{"v":0,"d":"0.00"}},{"$f":"IF($B30=3,$BM30,0)","v":{"v":0,"d":"0.00"}},{"$f":"IF($B30=4,$BM30,0)","v":{"v":0,"d":"0.00"}},{"$f":"IF($B30=5,$BM30,0)","v":{"v":0,"d":"0.00"}},{"$f":"IF($B30=6,$BM30,0)","v":{"v":0,"d":"0.00"}},{"$f":"IF(BT29>0,IF(H30+P30+X30+AF30+AN30+AV30+BD30+BL30+CB30+CJ30=0,IF(E30>0,BT29,0),0),0)","v":0},{"$f":"G30*BT30","v":{"v":0,"d":"0.00"}},{"$f":"IF($B30=1,$BU30,0)","v":{"v":0,"d":"0.00"}},{"$f":"IF($B30=2,$BU30,0)","v":{"v":0,"d":"0.00"}},{"$f":"IF($B30=3,$BU30,0)","v":{"v":0,"d":"0.00"}},{"$f":"IF($B30=4,$BU30,0)","v":{"v":0,"d":"0.00"}},{"$f":"IF($B30=5,$BU30,0)","v":{"v":0,"d":"0.00"}},{"$f":"IF($B30=6,$BU30,0)","v":{"v":0,"d":"0.00"}},{"$f":"IF(CB29>0,IF(H30+P30+X30+AF30+AN30+AV30+BD30+BL30+BT30+CJ30=0,IF(E30>0,CB29,0),0),0)","v":0},{"$f":"G30*CB30","v":{"v":0,"d":"0.00"}},{"$f":"IF($B30=1,$CC30,0)","v":{"v":0,"d":"0.00"}},{"$f":"IF($B30=2,$CC30,0)","v":{"v":0,"d":"0.00"}},{"$f":"IF($B30=3,$CC30,0)","v":{"v":0,"d":"0.00"}},{"$f":"IF($B30=4,$CC30,0)","v":{"v":0,"d":"0.00"}},{"$f":"IF($B30=5,$CC30,0)","v":{"v":0,"d":"0.00"}},{"$f":"IF($B30=6,$CC30,0)","v":{"v":0,"d":"0.00"}},{"$f":"IF(CJ29>0,IF(H30+P30+X30+AF30+AN30+AV30+BD30+BL30+BT30+CB30=0,IF(E30>0,CJ29,0),0),0)","v":0},{"$f":"G30*CJ30","v":{"v":0,"d":"0.00"}},{"$f":"IF($B30=1,$CK30,0)","v":{"v":0,"d":"0.00"}},{"$f":"IF($B30=2,$CK30,0)","v":{"v":0,"d":"0.00"}},{"$f":"IF($B30=3,$CK30,0)","v":{"v":0,"d":"0.00"}},{"$f":"IF($B30=4,$CK30,0)","v":{"v":0,"d":"0.00"}},{"$f":"IF($B30=5,$CK30,0)","v":{"v":0,"d":"0.00"}},{"$f":"IF($B30=6,$CK30,0)","v":{"v":0,"d":"0.00"}}]
[{"$f":"IF(C30<>C31,C31,\"\")","v":""},{"$f":"IF(C30<>C31,_xlfn.DAYS(C31,C30)+B30,B30)","v":1},{"$f":"IF(D31>0,IF(D31<E30,C30+1,C30),C30)","v":"2009-03-09"},{"$f":"IF((E31+H31+P31+X31+AF31+AN31+AV31+BD31+BL31+BT31+CB31+CJ31)>0,E30,0)","v":"00:00:00"},null,{"$f":"E31-D31","v":"00:00:00"},{"$f":"IF(E31>0,HOUR(F31)+(MINUTE(F31)/60),0)","v":0},{"$f":"IF(H30>0,IF(P31+X31+AF31+AN31+AV31+BD31+BL31+BT31+CB31+CJ31=0,IF(E31>0,H30,0),0),0)","v":0},{"$f":"G31*H31","v":{"v":0,"d":"0.00"}},{"$f":"IF($B31=1,$I31,0)","v":{"v":0,"d":"0.00"}},{"$f":"IF($B31=2,$I31,0)","v":{"v":0,"d":"0.00"}},{"$f":"IF($B31=3,$I31,0)","v":{"v":0,"d":"0.00"}},{"$f":"IF($B31=4,$I31,0)","v":{"v":0,"d":"0.00"}},{"$f":"IF($B31=5,$I31,0)","v":{"v":0,"d":"0.00"}},{"$f":"IF($B31=6,$I31,0)","v":{"v":0,"d":"0.00"}},{"$f":"IF(P30>0,IF(H31+X31+AF31+AN31+AV31+BD31+BL31+BT31+CB31+CJ31=0,IF(E31>0,P30,0),0),0)","v":0},{"$f":"G31*P31","v":{"v":0,"d":"0.00"}},{"$f":"IF(B31=1,Q31,0)","v":{"v":0,"d":"0.00"}},{"$f":"IF(B31=2,Q31,0)","v":{"v":0,"d":"0.00"}},{"$f":"IF(B31=3,Q31,0)","v":{"v":0,"d":"0.00"}},{"$f":"IF(B31=4,Q31,0)","v":{"v":0,"d":"0.00"}},{"$f":"IF(B31=5,Q31,0)","v":{"v":0,"d":"0.00"}},{"$f":"IF(B31=6,Q31,0)","v":{"v":0,"d":"0.00"}},{"$f":"IF(X30>0,IF(H31+P31+AF31+AN31+AV31+BD31+BL31+BT31+CB31+CJ31=0,IF(E31>0,X30,0),0),0)","v":0},{"$f":"G31*X31","v":{"v":0,"d":"0.00"}},{"$f":"IF($B31=1,$Y31,0)","v":{"v":0,"d":"0.00"}},{"$f":"IF($B31=2,$Y31,0)","v":{"v":0,"d":"0.00"}},{"$f":"IF($B31=3,$Y31,0)","v":{"v":0,"d":"0.00"}},{"$f":"IF($B31=4,$Y31,0)","v":{"v":0,"d":"0.00"}},{"$f":"IF($B31=5,$Y31,0)","v":{"v":0,"d":"0.00"}},{"$f":"IF($B31=6,$Y31,0)","v":{"v":0,"d":"0.00"}},{"$f":"IF(AF30>0,IF(H31+P31+X31+AN31+AV31+BD31+BL31+BT31+CB31+CJ31=0,IF(E31>0,AF30,0),0),0)","v":0},{"$f":"G31*AF31","v":{"v":0,"d":"0.00"}},{"$f":"IF($B31=1,$AG31,0)","v":{"v":0,"d":"0.00"}},{"$f":"IF($B31=2,$AG31,0)","v":{"v":0,"d":"0.00"}},{"$f":"IF($B31=3,$AG31,0)","v":{"v":0,"d":"0.00"}},{"$f":"IF($B31=4,$AG31,0)","v":{"v":0,"d":"0.00"}},{"$f":"IF($B31=5,$AG31,0)","v":{"v":0,"d":"0.00"}},{"$f":"IF($B31=6,$AG31,0)","v":{"v":0,"d":"0.00"}},{"$f":"IF(AN30>0,IF(H31+P31+X31+AF31+AV31+BD31+BL31+BT31+CB31+CJ31=0,IF(E31>0,AN30,0),0),0)","v":0},{"$f":"G31*AN31","v":{"v":0,"d":"0.00"}},{"$f":"IF($B31=1,$AO31,0)","v":{"v":0,"d":"0.00"}},{"$f":"IF($B31=2,$AO31,0)","v":{"v":0,"d":"0.00"}},{"$f":"IF($B31=3,$AO31,0)","v":{"v":0,"d":"0.00"}},{"$f":"IF($B31=4,$AO31,0)","v":{"v":0,"d":"0.00"}},{"$f":"IF($B31=5,$AO31,0)","v":{"v":0,"d":"0.00"}},{"$f":"IF($B31=6,$AO31,0)","v":{"v":0,"d":"0.00"}},{"$f":"IF(AV30>0,IF(H31+P31+X31+AF31+AN31+BD31+BL31+BT31+CB31+CJ31=0,IF(E31>0,AV30,0),0),0)","v":0},{"$f":"G31*AV31","v":{"v":0,"d":"0.00"}},{"$f":"IF($B31=1,$AW31,0)","v":{"v":0,"d":"0.00"}},{"$f":"IF($B31=2,$AW31,0)","v":{"v":0,"d":"0.00"}},{"$f":"IF($B31=3,$AW31,0)","v":{"v":0,"d":"0.00"}},{"$f":"IF($B31=4,$AW31,0)","v":{"v":0,"d":"0.00"}},{"$f":"IF($B31=5,$AW31,0)","v":{"v":0,"d":"0.00"}},{"$f":"IF($B31=6,$AW31,0)","v":{"v":0,"d":"0.00"}},{"$f":"IF(BD30>0,IF(H31+P31+X31+AF31+AN31+AV31+BL31+BT31+CB31+CJ31=0,IF(E31>0,BD30,0),0),0)","v":0},{"$f":"G31*BD31","v":{"v":0,"d":"0.00"}},{"$f":"IF($B31=1,$BE31,0)","v":{"v":0,"d":"0.00"}},{"$f":"IF($B31=2,$BE31,0)","v":{"v":0,"d":"0.00"}},{"$f":"IF($B31=3,$BE31,0)","v":{"v":0,"d":"0.00"}},{"$f":"IF($B31=4,$BE31,0)","v":{"v":0,"d":"0.00"}},{"$f":"IF($B31=5,$BE31,0)","v":{"v":0,"d":"0.00"}},{"$f":"IF($B31=6,$BE31,0)","v":{"v":0,"d":"0.00"}},{"$f":"IF(BL30>0,IF(H31+P31+X31+AF31+AN31+AV31+BD31+BT31+CB31+CJ31=0,IF(E31>0,BL30,0),0),0)","v":0},{"$f":"G31*BL31","v":{"v":0,"d":"0.00"}},{"$f":"IF($B31=1,$BM31,0)","v":{"v":0,"d":"0.00"}},{"$f":"IF($B31=2,$BM31,0)","v":{"v":0,"d":"0.00"}},{"$f":"IF($B31=3,$BM31,0)","v":{"v":0,"d":"0.00"}},{"$f":"IF($B31=4,$BM31,0)","v":{"v":0,"d":"0.00"}},{"$f":"IF($B31=5,$BM31,0)","v":{"v":0,"d":"0.00"}},{"$f":"IF($B31=6,$BM31,0)","v":{"v":0,"d":"0.00"}},{"$f":"IF(BT30>0,IF(H31+P31+X31+AF31+AN31+AV31+BD31+BL31+CB31+CJ31=0,IF(E31>0,BT30,0),0),0)","v":0},{"$f":"G31*BT31","v":{"v":0,"d":"0.00"}},{"$f":"IF($B31=1,$BU31,0)","v":{"v":0,"d":"0.00"}},{"$f":"IF($B31=2,$BU31,0)","v":{"v":0,"d":"0.00"}},{"$f":"IF($B31=3,$BU31,0)","v":{"v":0,"d":"0.00"}},{"$f":"IF($B31=4,$BU31,0)","v":{"v":0,"d":"0.00"}},{"$f":"IF($B31=5,$BU31,0)","v":{"v":0,"d":"0.00"}},{"$f":"IF($B31=6,$BU31,0)","v":{"v":0,"d":"0.00"}},{"$f":"IF(CB30>0,IF(H31+P31+X31+AF31+AN31+AV31+BD31+BL31+BT31+CJ31=0,IF(E31>0,CB30,0),0),0)","v":0},{"$f":"G31*CB31","v":{"v":0,"d":"0.00"}},{"$f":"IF($B31=1,$CC31,0)","v":{"v":0,"d":"0.00"}},{"$f":"IF($B31=2,$CC31,0)","v":{"v":0,"d":"0.00"}},{"$f":"IF($B31=3,$CC31,0)","v":{"v":0,"d":"0.00"}},{"$f":"IF($B31=4,$CC31,0)","v":{"v":0,"d":"0.00"}},{"$f":"IF($B31=5,$CC31,0)","v":{"v":0,"d":"0.00"}},{"$f":"IF($B31=6,$CC31,0)","v":{"v":0,"d":"0.00"}},{"$f":"IF(CJ30>0,IF(H31+P31+X31+AF31+AN31+AV31+BD31+BL31+BT31+CB31=0,IF(E31>0,CJ30,0),0),0)","v":0},{"$f":"G31*CJ31","v":{"v":0,"d":"0.00"}},{"$f":"IF($B31=1,$CK31,0)","v":{"v":0,"d":"0.00"}},{"$f":"IF($B31=2,$CK31,0)","v":{"v":0,"d":"0.00"}},{"$f":"IF($B31=3,$CK31,0)","v":{"v":0,"d":"0.00"}},{"$f":"IF($B31=4,$CK31,0)","v":{"v":0,"d":"0.00"}},{"$f":"IF($B31=5,$CK31,0)","v":{"v":0,"d":"0.00"}},{"$f":"IF($B31=6,$CK31,0)","v":{"v":0,"d":"0.00"}}]
[{"$f":"IF(C31<>C32,C32,\"\")","v":""},{"$f":"IF(C31<>C32,_xlfn.DAYS(C32,C31)+B31,B31)","v":1},{"$f":"IF(D32>0,IF(D32<E31,C31+1,C31),C31)","v":"2009-03-09"},{"$f":"IF((E32+H32+P32+X32+AF32+AN32+AV32+BD32+BL32+BT32+CB32+CJ32)>0,E31,0)","v":"00:00:00"},null,{"$f":"E32-D32","v":"00:00:00"},{"$f":"IF(E32>0,HOUR(F32)+(MINUTE(F32)/60),0)","v":0},{"$f":"IF(H31>0,IF(P32+X32+AF32+AN32+AV32+BD32+BL32+BT32+CB32+CJ32=0,IF(E32>0,H31,0),0),0)","v":0},{"$f":"G32*H32","v":{"v":0,"d":"0.00"}},{"$f":"IF($B32=1,$I32,0)","v":{"v":0,"d":"0.00"}},{"$f":"IF($B32=2,$I32,0)","v":{"v":0,"d":"0.00"}},{"$f":"IF($B32=3,$I32,0)","v":{"v":0,"d":"0.00"}},{"$f":"IF($B32=4,$I32,0)","v":{"v":0,"d":"0.00"}},{"$f":"IF($B32=5,$I32,0)","v":{"v":0,"d":"0.00"}},{"$f":"IF($B32=6,$I32,0)","v":{"v":0,"d":"0.00"}},{"$f":"IF(P31>0,IF(H32+X32+AF32+AN32+AV32+BD32+BL32+BT32+CB32+CJ32=0,IF(E32>0,P31,0),0),0)","v":0},{"$f":"G32*P32","v":{"v":0,"d":"0.00"}},{"$f":"IF(B32=1,Q32,0)","v":{"v":0,"d":"0.00"}},{"$f":"IF(B32=2,Q32,0)","v":{"v":0,"d":"0.00"}},{"$f":"IF(B32=3,Q32,0)","v":{"v":0,"d":"0.00"}},{"$f":"IF(B32=4,Q32,0)","v":{"v":0,"d":"0.00"}},{"$f":"IF(B32=5,Q32,0)","v":{"v":0,"d":"0.00"}},{"$f":"IF(B32=6,Q32,0)","v":{"v":0,"d":"0.00"}},{"$f":"IF(X31>0,IF(H32+P32+AF32+AN32+AV32+BD32+BL32+BT32+CB32+CJ32=0,IF(E32>0,X31,0),0),0)","v":0},{"$f":"G32*X32","v":{"v":0,"d":"0.00"}},{"$f":"IF($B32=1,$Y32,0)","v":{"v":0,"d":"0.00"}},{"$f":"IF($B32=2,$Y32,0)","v":{"v":0,"d":"0.00"}},{"$f":"IF($B32=3,$Y32,0)","v":{"v":0,"d":"0.00"}},{"$f":"IF($B32=4,$Y32,0)","v":{"v":0,"d":"0.00"}},{"$f":"IF($B32=5,$Y32,0)","v":{"v":0,"d":"0.00"}},{"$f":"IF($B32=6,$Y32,0)","v":{"v":0,"d":"0.00"}},{"$f":"IF(AF31>0,IF(H32+P32+X32+AN32+AV32+BD32+BL32+BT32+CB32+CJ32=0,IF(E32>0,AF31,0),0),0)","v":0},{"$f":"G32*AF32","v":{"v":0,"d":"0.00"}},{"$f":"IF($B32=1,$AG32,0)","v":{"v":0,"d":"0.00"}},{"$f":"IF($B32=2,$AG32,0)","v":{"v":0,"d":"0.00"}},{"$f":"IF($B32=3,$AG32,0)","v":{"v":0,"d":"0.00"}},{"$f":"IF($B32=4,$AG32,0)","v":{"v":0,"d":"0.00"}},{"$f":"IF($B32=5,$AG32,0)","v":{"v":0,"d":"0.00"}},{"$f":"IF($B32=6,$AG32,0)","v":{"v":0,"d":"0.00"}},{"$f":"IF(AN31>0,IF(H32+P32+X32+AF32+AV32+BD32+BL32+BT32+CB32+CJ32=0,IF(E32>0,AN31,0),0),0)","v":0},{"$f":"G32*AN32","v":{"v":0,"d":"0.00"}},{"$f":"IF($B32=1,$AO32,0)","v":{"v":0,"d":"0.00"}},{"$f":"IF($B32=2,$AO32,0)","v":{"v":0,"d":"0.00"}},{"$f":"IF($B32=3,$AO32,0)","v":{"v":0,"d":"0.00"}},{"$f":"IF($B32=4,$AO32,0)","v":{"v":0,"d":"0.00"}},{"$f":"IF($B32=5,$AO32,0)","v":{"v":0,"d":"0.00"}},{"$f":"IF($B32=6,$AO32,0)","v":{"v":0,"d":"0.00"}},{"$f":"IF(AV31>0,IF(H32+P32+X32+AF32+AN32+BD32+BL32+BT32+CB32+CJ32=0,IF(E32>0,AV31,0),0),0)","v":0},{"$f":"G32*AV32","v":{"v":0,"d":"0.00"}},{"$f":"IF($B32=1,$AW32,0)","v":{"v":0,"d":"0.00"}},{"$f":"IF($B32=2,$AW32,0)","v":{"v":0,"d":"0.00"}},{"$f":"IF($B32=3,$AW32,0)","v":{"v":0,"d":"0.00"}},{"$f":"IF($B32=4,$AW32,0)","v":{"v":0,"d":"0.00"}},{"$f":"IF($B32=5,$AW32,0)","v":{"v":0,"d":"0.00"}},{"$f":"IF($B32=6,$AW32,0)","v":{"v":0,"d":"0.00"}},{"$f":"IF(BD31>0,IF(H32+P32+X32+AF32+AN32+AV32+BL32+BT32+CB32+CJ32=0,IF(E32>0,BD31,0),0),0)","v":0},{"$f":"G32*BD32","v":{"v":0,"d":"0.00"}},{"$f":"IF($B32=1,$BE32,0)","v":{"v":0,"d":"0.00"}},{"$f":"IF($B32=2,$BE32,0)","v":{"v":0,"d":"0.00"}},{"$f":"IF($B32=3,$BE32,0)","v":{"v":0,"d":"0.00"}},{"$f":"IF($B32=4,$BE32,0)","v":{"v":0,"d":"0.00"}},{"$f":"IF($B32=5,$BE32,0)","v":{"v":0,"d":"0.00"}},{"$f":"IF($B32=6,$BE32,0)","v":{"v":0,"d":"0.00"}},{"$f":"IF(BL31>0,IF(H32+P32+X32+AF32+AN32+AV32+BD32+BT32+CB32+CJ32=0,IF(E32>0,BL31,0),0),0)","v":0},{"$f":"G32*BL32","v":{"v":0,"d":"0.00"}},{"$f":"IF($B32=1,$BM32,0)","v":{"v":0,"d":"0.00"}},{"$f":"IF($B32=2,$BM32,0)","v":{"v":0,"d":"0.00"}},{"$f":"IF($B32=3,$BM32,0)","v":{"v":0,"d":"0.00"}},{"$f":"IF($B32=4,$BM32,0)","v":{"v":0,"d":"0.00"}},{"$f":"IF($B32=5,$BM32,0)","v":{"v":0,"d":"0.00"}},{"$f":"IF($B32=6,$BM32,0)","v":{"v":0,"d":"0.00"}},{"$f":"IF(BT31>0,IF(H32+P32+X32+AF32+AN32+AV32+BD32+BL32+CB32+CJ32=0,IF(E32>0,BT31,0),0),0)","v":0},{"$f":"G32*BT32","v":{"v":0,"d":"0.00"}},{"$f":"IF($B32=1,$BU32,0)","v":{"v":0,"d":"0.00"}},{"$f":"IF($B32=2,$BU32,0)","v":{"v":0,"d":"0.00"}},{"$f":"IF($B32=3,$BU32,0)","v":{"v":0,"d":"0.00"}},{"$f":"IF($B32=4,$BU32,0)","v":{"v":0,"d":"0.00"}},{"$f":"IF($B32=5,$BU32,0)","v":{"v":0,"d":"0.00"}},{"$f":"IF($B32=6,$BU32,0)","v":{"v":0,"d":"0.00"}},{"$f":"IF(CB31>0,IF(H32+P32+X32+AF32+AN32+AV32+BD32+BL32+BT32+CJ32=0,IF(E32>0,CB31,0),0),0)","v":0},{"$f":"G32*CB32","v":{"v":0,"d":"0.00"}},{"$f":"IF($B32=1,$CC32,0)","v":{"v":0,"d":"0.00"}},{"$f":"IF($B32=2,$CC32,0)","v":{"v":0,"d":"0.00"}},{"$f":"IF($B32=3,$CC32,0)","v":{"v":0,"d":"0.00"}},{"$f":"IF($B32=4,$CC32,0)","v":{"v":0,"d":"0.00"}},{"$f":"IF($B32=5,$CC32,0)","v":{"v":0,"d":"0.00"}},{"$f":"IF($B32=6,$CC32,0)","v":{"v":0,"d":"0.00"}},{"$f":"IF(CJ31>0,IF(H32+P32+X32+AF32+AN32+AV32+BD32+BL32+BT32+CB32=0,IF(E32>0,CJ31,0),0),0)","v":0},{"$f":"G32*CJ32","v":{"v":0,"d":"0.00"}},{"$f":"IF($B32=1,$CK32,0)","v":{"v":0,"d":"0.00"}},{"$f":"IF($B32=2,$CK32,0)","v":{"v":0,"d":"0.00"}},{"$f":"IF($B32=3,$CK32,0)","v":{"v":0,"d":"0.00"}},{"$f":"IF($B32=4,$CK32,0)","v":{"v":0,"d":"0.00"}},{"$f":"IF($B32=5,$CK32,0)","v":{"v":0,"d":"0.00"}},{"$f":"IF($B32=6,$CK32,0)","v":{"v":0,"d":"0.00"}}]
[{"$f":"IF(C32<>C33,C33,\"\")","v":""},{"$f":"IF(C32<>C33,_xlfn.DAYS(C33,C32)+B32,B32)","v":1},{"$f":"IF(D33>0,IF(D33<E32,C32+1,C32),C32)","v":"2009-03-09"},{"$f":"IF((E33+H33+P33+X33+AF33+AN33+AV33+BD33+BL33+BT33+CB33+CJ33)>0,E32,0)","v":"00:00:00"},null,{"$f":"E33-D33","v":"00:00:00"},{"$f":"IF(E33>0,HOUR(F33)+(MINUTE(F33)/60),0)","v":0},{"$f":"IF(H32>0,IF(P33+X33+AF33+AN33+AV33+BD33+BL33+BT33+CB33+CJ33=0,IF(E33>0,H32,0),0),0)","v":0},{"$f":"G33*H33","v":{"v":0,"d":"0.00"}},{"$f":"IF($B33=1,$I33,0)","v":{"v":0,"d":"0.00"}},{"$f":"IF($B33=2,$I33,0)","v":{"v":0,"d":"0.00"}},{"$f":"IF($B33=3,$I33,0)","v":{"v":0,"d":"0.00"}},{"$f":"IF($B33=4,$I33,0)","v":{"v":0,"d":"0.00"}},{"$f":"IF($B33=5,$I33,0)","v":{"v":0,"d":"0.00"}},{"$f":"IF($B33=6,$I33,0)","v":{"v":0,"d":"0.00"}},{"$f":"IF(P32>0,IF(H33+X33+AF33+AN33+AV33+BD33+BL33+BT33+CB33+CJ33=0,IF(E33>0,P32,0),0),0)","v":0},{"$f":"G33*P33","v":{"v":0,"d":"0.00"}},{"$f":"IF(B33=1,Q33,0)","v":{"v":0,"d":"0.00"}},{"$f":"IF(B33=2,Q33,0)","v":{"v":0,"d":"0.00"}},{"$f":"IF(B33=3,Q33,0)","v":{"v":0,"d":"0.00"}},{"$f":"IF(B33=4,Q33,0)","v":{"v":0,"d":"0.00"}},{"$f":"IF(B33=5,Q33,0)","v":{"v":0,"d":"0.00"}},{"$f":"IF(B33=6,Q33,0)","v":{"v":0,"d":"0.00"}},{"$f":"IF(X32>0,IF(H33+P33+AF33+AN33+AV33+BD33+BL33+BT33+CB33+CJ33=0,IF(E33>0,X32,0),0),0)","v":0},{"$f":"G33*X33","v":{"v":0,"d":"0.00"}},{"$f":"IF($B33=1,$Y33,0)","v":{"v":0,"d":"0.00"}},{"$f":"IF($B33=2,$Y33,0)","v":{"v":0,"d":"0.00"}},{"$f":"IF($B33=3,$Y33,0)","v":{"v":0,"d":"0.00"}},{"$f":"IF($B33=4,$Y33,0)","v":{"v":0,"d":"0.00"}},{"$f":"IF($B33=5,$Y33,0)","v":{"v":0,"d":"0.00"}},{"$f":"IF($B33=6,$Y33,0)","v":{"v":0,"d":"0.00"}},{"$f":"IF(AF32>0,IF(H33+P33+X33+AN33+AV33+BD33+BL33+BT33+CB33+CJ33=0,IF(E33>0,AF32,0),0),0)","v":0},{"$f":"G33*AF33","v":{"v":0,"d":"0.00"}},{"$f":"IF($B33=1,$AG33,0)","v":{"v":0,"d":"0.00"}},{"$f":"IF($B33=2,$AG33,0)","v":{"v":0,"d":"0.00"}},{"$f":"IF($B33=3,$AG33,0)","v":{"v":0,"d":"0.00"}},{"$f":"IF($B33=4,$AG33,0)","v":{"v":0,"d":"0.00"}},{"$f":"IF($B33=5,$AG33,0)","v":{"v":0,"d":"0.00"}},{"$f":"IF($B33=6,$AG33,0)","v":{"v":0,"d":"0.00"}},{"$f":"IF(AN32>0,IF(H33+P33+X33+AF33+AV33+BD33+BL33+BT33+CB33+CJ33=0,IF(E33>0,AN32,0),0),0)","v":0},{"$f":"G33*AN33","v":{"v":0,"d":"0.00"}},{"$f":"IF($B33=1,$AO33,0)","v":{"v":0,"d":"0.00"}},{"$f":"IF($B33=2,$AO33,0)","v":{"v":0,"d":"0.00"}},{"$f":"IF($B33=3,$AO33,0)","v":{"v":0,"d":"0.00"}},{"$f":"IF($B33=4,$AO33,0)","v":{"v":0,"d":"0.00"}},{"$f":"IF($B33=5,$AO33,0)","v":{"v":0,"d":"0.00"}},{"$f":"IF($B33=6,$AO33,0)","v":{"v":0,"d":"0.00"}},{"$f":"IF(AV32>0,IF(H33+P33+X33+AF33+AN33+BD33+BL33+BT33+CB33+CJ33=0,IF(E33>0,AV32,0),0),0)","v":0},{"$f":"G33*AV33","v":{"v":0,"d":"0.00"}},{"$f":"IF($B33=1,$AW33,0)","v":{"v":0,"d":"0.00"}},{"$f":"IF($B33=2,$AW33,0)","v":{"v":0,"d":"0.00"}},{"$f":"IF($B33=3,$AW33,0)","v":{"v":0,"d":"0.00"}},{"$f":"IF($B33=4,$AW33,0)","v":{"v":0,"d":"0.00"}},{"$f":"IF($B33=5,$AW33,0)","v":{"v":0,"d":"0.00"}},{"$f":"IF($B33=6,$AW33,0)","v":{"v":0,"d":"0.00"}},{"$f":"IF(BD32>0,IF(H33+P33+X33+AF33+AN33+AV33+BL33+BT33+CB33+CJ33=0,IF(E33>0,BD32,0),0),0)","v":0},{"$f":"G33*BD33","v":{"v":0,"d":"0.00"}},{"$f":"IF($B33=1,$BE33,0)","v":{"v":0,"d":"0.00"}},{"$f":"IF($B33=2,$BE33,0)","v":{"v":0,"d":"0.00"}},{"$f":"IF($B33=3,$BE33,0)","v":{"v":0,"d":"0.00"}},{"$f":"IF($B33=4,$BE33,0)","v":{"v":0,"d":"0.00"}},{"$f":"IF($B33=5,$BE33,0)","v":{"v":0,"d":"0.00"}},{"$f":"IF($B33=6,$BE33,0)","v":{"v":0,"d":"0.00"}},{"$f":"IF(BL32>0,IF(H33+P33+X33+AF33+AN33+AV33+BD33+BT33+CB33+CJ33=0,IF(E33>0,BL32,0),0),0)","v":0},{"$f":"G33*BL33","v":{"v":0,"d":"0.00"}},{"$f":"IF($B33=1,$BM33,0)","v":{"v":0,"d":"0.00"}},{"$f":"IF($B33=2,$BM33,0)","v":{"v":0,"d":"0.00"}},{"$f":"IF($B33=3,$BM33,0)","v":{"v":0,"d":"0.00"}},{"$f":"IF($B33=4,$BM33,0)","v":{"v":0,"d":"0.00"}},{"$f":"IF($B33=5,$BM33,0)","v":{"v":0,"d":"0.00"}},{"$f":"IF($B33=6,$BM33,0)","v":{"v":0,"d":"0.00"}},{"$f":"IF(BT32>0,IF(H33+P33+X33+AF33+AN33+AV33+BD33+BL33+CB33+CJ33=0,IF(E33>0,BT32,0),0),0)","v":0},{"$f":"G33*BT33","v":{"v":0,"d":"0.00"}},{"$f":"IF($B33=1,$BU33,0)","v":{"v":0,"d":"0.00"}},{"$f":"IF($B33=2,$BU33,0)","v":{"v":0,"d":"0.00"}},{"$f":"IF($B33=3,$BU33,0)","v":{"v":0,"d":"0.00"}},{"$f":"IF($B33=4,$BU33,0)","v":{"v":0,"d":"0.00"}},{"$f":"IF($B33=5,$BU33,0)","v":{"v":0,"d":"0.00"}},{"$f":"IF($B33=6,$BU33,0)","v":{"v":0,"d":"0.00"}},{"$f":"IF(CB32>0,IF(H33+P33+X33+AF33+AN33+AV33+BD33+BL33+BT33+CJ33=0,IF(E33>0,CB32,0),0),0)","v":0},{"$f":"G33*CB33","v":{"v":0,"d":"0.00"}},{"$f":"IF($B33=1,$CC33,0)","v":{"v":0,"d":"0.00"}},{"$f":"IF($B33=2,$CC33,0)","v":{"v":0,"d":"0.00"}},{"$f":"IF($B33=3,$CC33,0)","v":{"v":0,"d":"0.00"}},{"$f":"IF($B33=4,$CC33,0)","v":{"v":0,"d":"0.00"}},{"$f":"IF($B33=5,$CC33,0)","v":{"v":0,"d":"0.00"}},{"$f":"IF($B33=6,$CC33,0)","v":{"v":0,"d":"0.00"}},{"$f":"IF(CJ32>0,IF(H33+P33+X33+AF33+AN33+AV33+BD33+BL33+BT33+CB33=0,IF(E33>0,CJ32,0),0),0)","v":0},{"$f":"G33*CJ33","v":{"v":0,"d":"0.00"}},{"$f":"IF($B33=1,$CK33,0)","v":{"v":0,"d":"0.00"}},{"$f":"IF($B33=2,$CK33,0)","v":{"v":0,"d":"0.00"}},{"$f":"IF($B33=3,$CK33,0)","v":{"v":0,"d":"0.00"}},{"$f":"IF($B33=4,$CK33,0)","v":{"v":0,"d":"0.00"}},{"$f":"IF($B33=5,$CK33,0)","v":{"v":0,"d":"0.00"}},{"$f":"IF($B33=6,$CK33,0)","v":{"v":0,"d":"0.00"}}]
[{"$f":"IF(C33<>C34,C34,\"\")","v":""},{"$f":"IF(C33<>C34,_xlfn.DAYS(C34,C33)+B33,B33)","v":1},{"$f":"IF(D34>0,IF(D34<E33,C33+1,C33),C33)","v":"2009-03-09"},{"$f":"IF((E34+H34+P34+X34+AF34+AN34+AV34+BD34+BL34+BT34+CB34+CJ34)>0,E33,0)","v":"00:00:00"},null,{"$f":"E34-D34","v":"00:00:00"},{"$f":"IF(E34>0,HOUR(F34)+(MINUTE(F34)/60),0)","v":0},{"$f":"IF(H33>0,IF(P34+X34+AF34+AN34+AV34+BD34+BL34+BT34+CB34+CJ34=0,IF(E34>0,H33,0),0),0)","v":0},{"$f":"G34*H34","v":{"v":0,"d":"0.00"}},{"$f":"IF($B34=1,$I34,0)","v":{"v":0,"d":"0.00"}},{"$f":"IF($B34=2,$I34,0)","v":{"v":0,"d":"0.00"}},{"$f":"IF($B34=3,$I34,0)","v":{"v":0,"d":"0.00"}},{"$f":"IF($B34=4,$I34,0)","v":{"v":0,"d":"0.00"}},{"$f":"IF($B34=5,$I34,0)","v":{"v":0,"d":"0.00"}},{"$f":"IF($B34=6,$I34,0)","v":{"v":0,"d":"0.00"}},{"$f":"IF(P33>0,IF(H34+X34+AF34+AN34+AV34+BD34+BL34+BT34+CB34+CJ34=0,IF(E34>0,P33,0),0),0)","v":0},{"$f":"G34*P34","v":{"v":0,"d":"0.00"}},{"$f":"IF(B34=1,Q34,0)","v":{"v":0,"d":"0.00"}},{"$f":"IF(B34=2,Q34,0)","v":{"v":0,"d":"0.00"}},{"$f":"IF(B34=3,Q34,0)","v":{"v":0,"d":"0.00"}},{"$f":"IF(B34=4,Q34,0)","v":{"v":0,"d":"0.00"}},{"$f":"IF(B34=5,Q34,0)","v":{"v":0,"d":"0.00"}},{"$f":"IF(B34=6,Q34,0)","v":{"v":0,"d":"0.00"}},{"$f":"IF(X33>0,IF(H34+P34+AF34+AN34+AV34+BD34+BL34+BT34+CB34+CJ34=0,IF(E34>0,X33,0),0),0)","v":0},{"$f":"G34*X34","v":{"v":0,"d":"0.00"}},{"$f":"IF($B34=1,$Y34,0)","v":{"v":0,"d":"0.00"}},{"$f":"IF($B34=2,$Y34,0)","v":{"v":0,"d":"0.00"}},{"$f":"IF($B34=3,$Y34,0)","v":{"v":0,"d":"0.00"}},{"$f":"IF($B34=4,$Y34,0)","v":{"v":0,"d":"0.00"}},{"$f":"IF($B34=5,$Y34,0)","v":{"v":0,"d":"0.00"}},{"$f":"IF($B34=6,$Y34,0)","v":{"v":0,"d":"0.00"}},{"$f":"IF(AF33>0,IF(H34+P34+X34+AN34+AV34+BD34+BL34+BT34+CB34+CJ34=0,IF(E34>0,AF33,0),0),0)","v":0},{"$f":"G34*AF34","v":{"v":0,"d":"0.00"}},{"$f":"IF($B34=1,$AG34,0)","v":{"v":0,"d":"0.00"}},{"$f":"IF($B34=2,$AG34,0)","v":{"v":0,"d":"0.00"}},{"$f":"IF($B34=3,$AG34,0)","v":{"v":0,"d":"0.00"}},{"$f":"IF($B34=4,$AG34,0)","v":{"v":0,"d":"0.00"}},{"$f":"IF($B34=5,$AG34,0)","v":{"v":0,"d":"0.00"}},{"$f":"IF($B34=6,$AG34,0)","v":{"v":0,"d":"0.00"}},{"$f":"IF(AN33>0,IF(H34+P34+X34+AF34+AV34+BD34+BL34+BT34+CB34+CJ34=0,IF(E34>0,AN33,0),0),0)","v":0},{"$f":"G34*AN34","v":{"v":0,"d":"0.00"}},{"$f":"IF($B34=1,$AO34,0)","v":{"v":0,"d":"0.00"}},{"$f":"IF($B34=2,$AO34,0)","v":{"v":0,"d":"0.00"}},{"$f":"IF($B34=3,$AO34,0)","v":{"v":0,"d":"0.00"}},{"$f":"IF($B34=4,$AO34,0)","v":{"v":0,"d":"0.00"}},{"$f":"IF($B34=5,$AO34,0)","v":{"v":0,"d":"0.00"}},{"$f":"IF($B34=6,$AO34,0)","v":{"v":0,"d":"0.00"}},{"$f":"IF(AV33>0,IF(H34+P34+X34+AF34+AN34+BD34+BL34+BT34+CB34+CJ34=0,IF(E34>0,AV33,0),0),0)","v":0},{"$f":"G34*AV34","v":{"v":0,"d":"0.00"}},{"$f":"IF($B34=1,$AW34,0)","v":{"v":0,"d":"0.00"}},{"$f":"IF($B34=2,$AW34,0)","v":{"v":0,"d":"0.00"}},{"$f":"IF($B34=3,$AW34,0)","v":{"v":0,"d":"0.00"}},{"$f":"IF($B34=4,$AW34,0)","v":{"v":0,"d":"0.00"}},{"$f":"IF($B34=5,$AW34,0)","v":{"v":0,"d":"0.00"}},{"$f":"IF($B34=6,$AW34,0)","v":{"v":0,"d":"0.00"}},{"$f":"IF(BD33>0,IF(H34+P34+X34+AF34+AN34+AV34+BL34+BT34+CB34+CJ34=0,IF(E34>0,BD33,0),0),0)","v":0},{"$f":"G34*BD34","v":{"v":0,"d":"0.00"}},{"$f":"IF($B34=1,$BE34,0)","v":{"v":0,"d":"0.00"}},{"$f":"IF($B34=2,$BE34,0)","v":{"v":0,"d":"0.00"}},{"$f":"IF($B34=3,$BE34,0)","v":{"v":0,"d":"0.00"}},{"$f":"IF($B34=4,$BE34,0)","v":{"v":0,"d":"0.00"}},{"$f":"IF($B34=5,$BE34,0)","v":{"v":0,"d":"0.00"}},{"$f":"IF($B34=6,$BE34,0)","v":{"v":0,"d":"0.00"}},{"$f":"IF(BL33>0,IF(H34+P34+X34+AF34+AN34+AV34+BD34+BT34+CB34+CJ34=0,IF(E34>0,BL33,0),0),0)","v":0},{"$f":"G34*BL34","v":{"v":0,"d":"0.00"}},{"$f":"IF($B34=1,$BM34,0)","v":{"v":0,"d":"0.00"}},{"$f":"IF($B34=2,$BM34,0)","v":{"v":0,"d":"0.00"}},{"$f":"IF($B34=3,$BM34,0)","v":{"v":0,"d":"0.00"}},{"$f":"IF($B34=4,$BM34,0)","v":{"v":0,"d":"0.00"}},{"$f":"IF($B34=5,$BM34,0)","v":{"v":0,"d":"0.00"}},{"$f":"IF($B34=6,$BM34,0)","v":{"v":0,"d":"0.00"}},{"$f":"IF(BT33>0,IF(H34+P34+X34+AF34+AN34+AV34+BD34+BL34+CB34+CJ34=0,IF(E34>0,BT33,0),0),0)","v":0},{"$f":"G34*BT34","v":{"v":0,"d":"0.00"}},{"$f":"IF($B34=1,$BU34,0)","v":{"v":0,"d":"0.00"}},{"$f":"IF($B34=2,$BU34,0)","v":{"v":0,"d":"0.00"}},{"$f":"IF($B34=3,$BU34,0)","v":{"v":0,"d":"0.00"}},{"$f":"IF($B34=4,$BU34,0)","v":{"v":0,"d":"0.00"}},{"$f":"IF($B34=5,$BU34,0)","v":{"v":0,"d":"0.00"}},{"$f":"IF($B34=6,$BU34,0)","v":{"v":0,"d":"0.00"}},{"$f":"IF(CB33>0,IF(H34+P34+X34+AF34+AN34+AV34+BD34+BL34+BT34+CJ34=0,IF(E34>0,CB33,0),0),0)","v":0},{"$f":"G34*CB34","v":{"v":0,"d":"0.00"}},{"$f":"IF($B34=1,$CC34,0)","v":{"v":0,"d":"0.00"}},{"$f":"IF($B34=2,$CC34,0)","v":{"v":0,"d":"0.00"}},{"$f":"IF($B34=3,$CC34,0)","v":{"v":0,"d":"0.00"}},{"$f":"IF($B34=4,$CC34,0)","v":{"v":0,"d":"0.00"}},{"$f":"IF($B34=5,$CC34,0)","v":{"v":0,"d":"0.00"}},{"$f":"IF($B34=6,$CC34,0)","v":{"v":0,"d":"0.00"}},{"$f":"IF(CJ33>0,IF(H34+P34+X34+AF34+AN34+AV34+BD34+BL34+BT34+CB34=0,IF(E34>0,CJ33,0),0),0)","v":0},{"$f":"G34*CJ34","v":{"v":0,"d":"0.00"}},{"$f":"IF($B34=1,$CK34,0)","v":{"v":0,"d":"0.00"}},{"$f":"IF($B34=2,$CK34,0)","v":{"v":0,"d":"0.00"}},{"$f":"IF($B34=3,$CK34,0)","v":{"v":0,"d":"0.00"}},{"$f":"IF($B34=4,$CK34,0)","v":{"v":0,"d":"0.00"}},{"$f":"IF($B34=5,$CK34,0)","v":{"v":0,"d":"0.00"}},{"$f":"IF($B34=6,$CK34,0)","v":{"v":0,"d":"0.00"}}]
[{"$f":"IF(C34<>C35,C35,\"\")","v":""},{"$f":"IF(C34<>C35,_xlfn.DAYS(C35,C34)+B34,B34)","v":1},{"$f":"IF(D35>0,IF(D35<E34,C34+1,C34),C34)","v":"2009-03-09"},{"$f":"IF((E35+H35+P35+X35+AF35+AN35+AV35+BD35+BL35+BT35+CB35+CJ35)>0,E34,0)","v":"00:00:00"},null,{"$f":"E35-D35","v":"00:00:00"},{"$f":"IF(E35>0,HOUR(F35)+(MINUTE(F35)/60),0)","v":0},{"$f":"IF(H34>0,IF(P35+X35+AF35+AN35+AV35+BD35+BL35+BT35+CB35+CJ35=0,IF(E35>0,H34,0),0),0)","v":0},{"$f":"G35*H35","v":{"v":0,"d":"0.00"}},{"$f":"IF($B35=1,$I35,0)","v":{"v":0,"d":"0.00"}},{"$f":"IF($B35=2,$I35,0)","v":{"v":0,"d":"0.00"}},{"$f":"IF($B35=3,$I35,0)","v":{"v":0,"d":"0.00"}},{"$f":"IF($B35=4,$I35,0)","v":{"v":0,"d":"0.00"}},{"$f":"IF($B35=5,$I35,0)","v":{"v":0,"d":"0.00"}},{"$f":"IF($B35=6,$I35,0)","v":{"v":0,"d":"0.00"}},{"$f":"IF(P34>0,IF(H35+X35+AF35+AN35+AV35+BD35+BL35+BT35+CB35+CJ35=0,IF(E35>0,P34,0),0),0)","v":0},{"$f":"G35*P35","v":{"v":0,"d":"0.00"}},{"$f":"IF(B35=1,Q35,0)","v":{"v":0,"d":"0.00"}},{"$f":"IF(B35=2,Q35,0)","v":{"v":0,"d":"0.00"}},{"$f":"IF(B35=3,Q35,0)","v":{"v":0,"d":"0.00"}},{"$f":"IF(B35=4,Q35,0)","v":{"v":0,"d":"0.00"}},{"$f":"IF(B35=5,Q35,0)","v":{"v":0,"d":"0.00"}},{"$f":"IF(B35=6,Q35,0)","v":{"v":0,"d":"0.00"}},{"$f":"IF(X34>0,IF(H35+P35+AF35+AN35+AV35+BD35+BL35+BT35+CB35+CJ35=0,IF(E35>0,X34,0),0),0)","v":0},{"$f":"G35*X35","v":{"v":0,"d":"0.00"}},{"$f":"IF($B35=1,$Y35,0)","v":{"v":0,"d":"0.00"}},{"$f":"IF($B35=2,$Y35,0)","v":{"v":0,"d":"0.00"}},{"$f":"IF($B35=3,$Y35,0)","v":{"v":0,"d":"0.00"}},{"$f":"IF($B35=4,$Y35,0)","v":{"v":0,"d":"0.00"}},{"$f":"IF($B35=5,$Y35,0)","v":{"v":0,"d":"0.00"}},{"$f":"IF($B35=6,$Y35,0)","v":{"v":0,"d":"0.00"}},{"$f":"IF(AF34>0,IF(H35+P35+X35+AN35+AV35+BD35+BL35+BT35+CB35+CJ35=0,IF(E35>0,AF34,0),0),0)","v":0},{"$f":"G35*AF35","v":{"v":0,"d":"0.00"}},{"$f":"IF($B35=1,$AG35,0)","v":{"v":0,"d":"0.00"}},{"$f":"IF($B35=2,$AG35,0)","v":{"v":0,"d":"0.00"}},{"$f":"IF($B35=3,$AG35,0)","v":{"v":0,"d":"0.00"}},{"$f":"IF($B35=4,$AG35,0)","v":{"v":0,"d":"0.00"}},{"$f":"IF($B35=5,$AG35,0)","v":{"v":0,"d":"0.00"}},{"$f":"IF($B35=6,$AG35,0)","v":{"v":0,"d":"0.00"}},{"$f":"IF(AN34>0,IF(H35+P35+X35+AF35+AV35+BD35+BL35+BT35+CB35+CJ35=0,IF(E35>0,AN34,0),0),0)","v":0},{"$f":"G35*AN35","v":{"v":0,"d":"0.00"}},{"$f":"IF($B35=1,$AO35,0)","v":{"v":0,"d":"0.00"}},{"$f":"IF($B35=2,$AO35,0)","v":{"v":0,"d":"0.00"}},{"$f":"IF($B35=3,$AO35,0)","v":{"v":0,"d":"0.00"}},{"$f":"IF($B35=4,$AO35,0)","v":{"v":0,"d":"0.00"}},{"$f":"IF($B35=5,$AO35,0)","v":{"v":0,"d":"0.00"}},{"$f":"IF($B35=6,$AO35,0)","v":{"v":0,"d":"0.00"}},{"$f":"IF(AV34>0,IF(H35+P35+X35+AF35+AN35+BD35+BL35+BT35+CB35+CJ35=0,IF(E35>0,AV34,0),0),0)","v":0},{"$f":"G35*AV35","v":{"v":0,"d":"0.00"}},{"$f":"IF($B35=1,$AW35,0)","v":{"v":0,"d":"0.00"}},{"$f":"IF($B35=2,$AW35,0)","v":{"v":0,"d":"0.00"}},{"$f":"IF($B35=3,$AW35,0)","v":{"v":0,"d":"0.00"}},{"$f":"IF($B35=4,$AW35,0)","v":{"v":0,"d":"0.00"}},{"$f":"IF($B35=5,$AW35,0)","v":{"v":0,"d":"0.00"}},{"$f":"IF($B35=6,$AW35,0)","v":{"v":0,"d":"0.00"}},{"$f":"IF(BD34>0,IF(H35+P35+X35+AF35+AN35+AV35+BL35+BT35+CB35+CJ35=0,IF(E35>0,BD34,0),0),0)","v":0},{"$f":"G35*BD35","v":{"v":0,"d":"0.00"}},{"$f":"IF($B35=1,$BE35,0)","v":{"v":0,"d":"0.00"}},{"$f":"IF($B35=2,$BE35,0)","v":{"v":0,"d":"0.00"}},{"$f":"IF($B35=3,$BE35,0)","v":{"v":0,"d":"0.00"}},{"$f":"IF($B35=4,$BE35,0)","v":{"v":0,"d":"0.00"}},{"$f":"IF($B35=5,$BE35,0)","v":{"v":0,"d":"0.00"}},{"$f":"IF($B35=6,$BE35,0)","v":{"v":0,"d":"0.00"}},{"$f":"IF(BL34>0,IF(H35+P35+X35+AF35+AN35+AV35+BD35+BT35+CB35+CJ35=0,IF(E35>0,BL34,0),0),0)","v":0},{"$f":"G35*BL35","v":{"v":0,"d":"0.00"}},{"$f":"IF($B35=1,$BM35,0)","v":{"v":0,"d":"0.00"}},{"$f":"IF($B35=2,$BM35,0)","v":{"v":0,"d":"0.00"}},{"$f":"IF($B35=3,$BM35,0)","v":{"v":0,"d":"0.00"}},{"$f":"IF($B35=4,$BM35,0)","v":{"v":0,"d":"0.00"}},{"$f":"IF($B35=5,$BM35,0)","v":{"v":0,"d":"0.00"}},{"$f":"IF($B35=6,$BM35,0)","v":{"v":0,"d":"0.00"}},{"$f":"IF(BT34>0,IF(H35+P35+X35+AF35+AN35+AV35+BD35+BL35+CB35+CJ35=0,IF(E35>0,BT34,0),0),0)","v":0},{"$f":"G35*BT35","v":{"v":0,"d":"0.00"}},{"$f":"IF($B35=1,$BU35,0)","v":{"v":0,"d":"0.00"}},{"$f":"IF($B35=2,$BU35,0)","v":{"v":0,"d":"0.00"}},{"$f":"IF($B35=3,$BU35,0)","v":{"v":0,"d":"0.00"}},{"$f":"IF($B35=4,$BU35,0)","v":{"v":0,"d":"0.00"}},{"$f":"IF($B35=5,$BU35,0)","v":{"v":0,"d":"0.00"}},{"$f":"IF($B35=6,$BU35,0)","v":{"v":0,"d":"0.00"}},{"$f":"IF(CB34>0,IF(H35+P35+X35+AF35+AN35+AV35+BD35+BL35+BT35+CJ35=0,IF(E35>0,CB34,0),0),0)","v":0},{"$f":"G35*CB35","v":{"v":0,"d":"0.00"}},{"$f":"IF($B35=1,$CC35,0)","v":{"v":0,"d":"0.00"}},{"$f":"IF($B35=2,$CC35,0)","v":{"v":0,"d":"0.00"}},{"$f":"IF($B35=3,$CC35,0)","v":{"v":0,"d":"0.00"}},{"$f":"IF($B35=4,$CC35,0)","v":{"v":0,"d":"0.00"}},{"$f":"IF($B35=5,$CC35,0)","v":{"v":0,"d":"0.00"}},{"$f":"IF($B35=6,$CC35,0)","v":{"v":0,"d":"0.00"}},{"$f":"IF(CJ34>0,IF(H35+P35+X35+AF35+AN35+AV35+BD35+BL35+BT35+CB35=0,IF(E35>0,CJ34,0),0),0)","v":0},{"$f":"G35*CJ35","v":{"v":0,"d":"0.00"}},{"$f":"IF($B35=1,$CK35,0)","v":{"v":0,"d":"0.00"}},{"$f":"IF($B35=2,$CK35,0)","v":{"v":0,"d":"0.00"}},{"$f":"IF($B35=3,$CK35,0)","v":{"v":0,"d":"0.00"}},{"$f":"IF($B35=4,$CK35,0)","v":{"v":0,"d":"0.00"}},{"$f":"IF($B35=5,$CK35,0)","v":{"v":0,"d":"0.00"}},{"$f":"IF($B35=6,$CK35,0)","v":{"v":0,"d":"0.00"}}]
[{"$f":"IF(C35<>C36,C36,\"\")","v":""},{"$f":"IF(C35<>C36,_xlfn.DAYS(C36,C35)+B35,B35)","v":1},{"$f":"IF(D36>0,IF(D36<E35,C35+1,C35),C35)","v":"2009-03-09"},{"$f":"IF((E36+H36+P36+X36+AF36+AN36+AV36+BD36+BL36+BT36+CB36+CJ36)>0,E35,0)","v":"00:00:00"},null,{"$f":"E36-D36","v":"00:00:00"},{"$f":"IF(E36>0,HOUR(F36)+(MINUTE(F36)/60),0)","v":0},{"$f":"IF(H35>0,IF(P36+X36+AF36+AN36+AV36+BD36+BL36+BT36+CB36+CJ36=0,IF(E36>0,H35,0),0),0)","v":0},{"$f":"G36*H36","v":{"v":0,"d":"0.00"}},{"$f":"IF($B36=1,$I36,0)","v":{"v":0,"d":"0.00"}},{"$f":"IF($B36=2,$I36,0)","v":{"v":0,"d":"0.00"}},{"$f":"IF($B36=3,$I36,0)","v":{"v":0,"d":"0.00"}},{"$f":"IF($B36=4,$I36,0)","v":{"v":0,"d":"0.00"}},{"$f":"IF($B36=5,$I36,0)","v":{"v":0,"d":"0.00"}},{"$f":"IF($B36=6,$I36,0)","v":{"v":0,"d":"0.00"}},{"$f":"IF(P35>0,IF(H36+X36+AF36+AN36+AV36+BD36+BL36+BT36+CB36+CJ36=0,IF(E36>0,P35,0),0),0)","v":0},{"$f":"G36*P36","v":{"v":0,"d":"0.00"}},{"$f":"IF(B36=1,Q36,0)","v":{"v":0,"d":"0.00"}},{"$f":"IF(B36=2,Q36,0)","v":{"v":0,"d":"0.00"}},{"$f":"IF(B36=3,Q36,0)","v":{"v":0,"d":"0.00"}},{"$f":"IF(B36=4,Q36,0)","v":{"v":0,"d":"0.00"}},{"$f":"IF(B36=5,Q36,0)","v":{"v":0,"d":"0.00"}},{"$f":"IF(B36=6,Q36,0)","v":{"v":0,"d":"0.00"}},{"$f":"IF(X35>0,IF(H36+P36+AF36+AN36+AV36+BD36+BL36+BT36+CB36+CJ36=0,IF(E36>0,X35,0),0),0)","v":0},{"$f":"G36*X36","v":{"v":0,"d":"0.00"}},{"$f":"IF($B36=1,$Y36,0)","v":{"v":0,"d":"0.00"}},{"$f":"IF($B36=2,$Y36,0)","v":{"v":0,"d":"0.00"}},{"$f":"IF($B36=3,$Y36,0)","v":{"v":0,"d":"0.00"}},{"$f":"IF($B36=4,$Y36,0)","v":{"v":0,"d":"0.00"}},{"$f":"IF($B36=5,$Y36,0)","v":{"v":0,"d":"0.00"}},{"$f":"IF($B36=6,$Y36,0)","v":{"v":0,"d":"0.00"}},{"$f":"IF(AF35>0,IF(H36+P36+X36+AN36+AV36+BD36+BL36+BT36+CB36+CJ36=0,IF(E36>0,AF35,0),0),0)","v":0},{"$f":"G36*AF36","v":{"v":0,"d":"0.00"}},{"$f":"IF($B36=1,$AG36,0)","v":{"v":0,"d":"0.00"}},{"$f":"IF($B36=2,$AG36,0)","v":{"v":0,"d":"0.00"}},{"$f":"IF($B36=3,$AG36,0)","v":{"v":0,"d":"0.00"}},{"$f":"IF($B36=4,$AG36,0)","v":{"v":0,"d":"0.00"}},{"$f":"IF($B36=5,$AG36,0)","v":{"v":0,"d":"0.00"}},{"$f":"IF($B36=6,$AG36,0)","v":{"v":0,"d":"0.00"}},{"$f":"IF(AN35>0,IF(H36+P36+X36+AF36+AV36+BD36+BL36+BT36+CB36+CJ36=0,IF(E36>0,AN35,0),0),0)","v":0},{"$f":"G36*AN36","v":{"v":0,"d":"0.00"}},{"$f":"IF($B36=1,$AO36,0)","v":{"v":0,"d":"0.00"}},{"$f":"IF($B36=2,$AO36,0)","v":{"v":0,"d":"0.00"}},{"$f":"IF($B36=3,$AO36,0)","v":{"v":0,"d":"0.00"}},{"$f":"IF($B36=4,$AO36,0)","v":{"v":0,"d":"0.00"}},{"$f":"IF($B36=5,$AO36,0)","v":{"v":0,"d":"0.00"}},{"$f":"IF($B36=6,$AO36,0)","v":{"v":0,"d":"0.00"}},{"$f":"IF(AV35>0,IF(H36+P36+X36+AF36+AN36+BD36+BL36+BT36+CB36+CJ36=0,IF(E36>0,AV35,0),0),0)","v":0},{"$f":"G36*AV36","v":{"v":0,"d":"0.00"}},{"$f":"IF($B36=1,$AW36,0)","v":{"v":0,"d":"0.00"}},{"$f":"IF($B36=2,$AW36,0)","v":{"v":0,"d":"0.00"}},{"$f":"IF($B36=3,$AW36,0)","v":{"v":0,"d":"0.00"}},{"$f":"IF($B36=4,$AW36,0)","v":{"v":0,"d":"0.00"}},{"$f":"IF($B36=5,$AW36,0)","v":{"v":0,"d":"0.00"}},{"$f":"IF($B36=6,$AW36,0)","v":{"v":0,"d":"0.00"}},{"$f":"IF(BD35>0,IF(H36+P36+X36+AF36+AN36+AV36+BL36+BT36+CB36+CJ36=0,IF(E36>0,BD35,0),0),0)","v":0},{"$f":"G36*BD36","v":{"v":0,"d":"0.00"}},{"$f":"IF($B36=1,$BE36,0)","v":{"v":0,"d":"0.00"}},{"$f":"IF($B36=2,$BE36,0)","v":{"v":0,"d":"0.00"}},{"$f":"IF($B36=3,$BE36,0)","v":{"v":0,"d":"0.00"}},{"$f":"IF($B36=4,$BE36,0)","v":{"v":0,"d":"0.00"}},{"$f":"IF($B36=5,$BE36,0)","v":{"v":0,"d":"0.00"}},{"$f":"IF($B36=6,$BE36,0)","v":{"v":0,"d":"0.00"}},{"$f":"IF(BL35>0,IF(H36+P36+X36+AF36+AN36+AV36+BD36+BT36+CB36+CJ36=0,IF(E36>0,BL35,0),0),0)","v":0},{"$f":"G36*BL36","v":{"v":0,"d":"0.00"}},{"$f":"IF($B36=1,$BM36,0)","v":{"v":0,"d":"0.00"}},{"$f":"IF($B36=2,$BM36,0)","v":{"v":0,"d":"0.00"}},{"$f":"IF($B36=3,$BM36,0)","v":{"v":0,"d":"0.00"}},{"$f":"IF($B36=4,$BM36,0)","v":{"v":0,"d":"0.00"}},{"$f":"IF($B36=5,$BM36,0)","v":{"v":0,"d":"0.00"}},{"$f":"IF($B36=6,$BM36,0)","v":{"v":0,"d":"0.00"}},{"$f":"IF(BT35>0,IF(H36+P36+X36+AF36+AN36+AV36+BD36+BL36+CB36+CJ36=0,IF(E36>0,BT35,0),0),0)","v":0},{"$f":"G36*BT36","v":{"v":0,"d":"0.00"}},{"$f":"IF($B36=1,$BU36,0)","v":{"v":0,"d":"0.00"}},{"$f":"IF($B36=2,$BU36,0)","v":{"v":0,"d":"0.00"}},{"$f":"IF($B36=3,$BU36,0)","v":{"v":0,"d":"0.00"}},{"$f":"IF($B36=4,$BU36,0)","v":{"v":0,"d":"0.00"}},{"$f":"IF($B36=5,$BU36,0)","v":{"v":0,"d":"0.00"}},{"$f":"IF($B36=6,$BU36,0)","v":{"v":0,"d":"0.00"}},{"$f":"IF(CB35>0,IF(H36+P36+X36+AF36+AN36+AV36+BD36+BL36+BT36+CJ36=0,IF(E36>0,CB35,0),0),0)","v":0},{"$f":"G36*CB36","v":{"v":0,"d":"0.00"}},{"$f":"IF($B36=1,$CC36,0)","v":{"v":0,"d":"0.00"}},{"$f":"IF($B36=2,$CC36,0)","v":{"v":0,"d":"0.00"}},{"$f":"IF($B36=3,$CC36,0)","v":{"v":0,"d":"0.00"}},{"$f":"IF($B36=4,$CC36,0)","v":{"v":0,"d":"0.00"}},{"$f":"IF($B36=5,$CC36,0)","v":{"v":0,"d":"0.00"}},{"$f":"IF($B36=6,$CC36,0)","v":{"v":0,"d":"0.00"}},{"$f":"IF(CJ35>0,IF(H36+P36+X36+AF36+AN36+AV36+BD36+BL36+BT36+CB36=0,IF(E36>0,CJ35,0),0),0)","v":0},{"$f":"G36*CJ36","v":{"v":0,"d":"0.00"}},{"$f":"IF($B36=1,$CK36,0)","v":{"v":0,"d":"0.00"}},{"$f":"IF($B36=2,$CK36,0)","v":{"v":0,"d":"0.00"}},{"$f":"IF($B36=3,$CK36,0)","v":{"v":0,"d":"0.00"}},{"$f":"IF($B36=4,$CK36,0)","v":{"v":0,"d":"0.00"}},{"$f":"IF($B36=5,$CK36,0)","v":{"v":0,"d":"0.00"}},{"$f":"IF($B36=6,$CK36,0)","v":{"v":0,"d":"0.00"}}]
[{"$f":"IF(C36<>C37,C37,\"\")","v":""},{"$f":"IF(C36<>C37,_xlfn.DAYS(C37,C36)+B36,B36)","v":1},{"$f":"IF(D37>0,IF(D37<E36,C36+1,C36),C36)","v":"2009-03-09"},{"$f":"IF((E37+H37+P37+X37+AF37+AN37+AV37+BD37+BL37+BT37+CB37+CJ37)>0,E36,0)","v":"00:00:00"},null,{"$f":"E37-D37","v":"00:00:00"},{"$f":"IF(E37>0,HOUR(F37)+(MINUTE(F37)/60),0)","v":0},{"$f":"IF(H36>0,IF(P37+X37+AF37+AN37+AV37+BD37+BL37+BT37+CB37+CJ37=0,IF(E37>0,H36,0),0),0)","v":0},{"$f":"G37*H37","v":{"v":0,"d":"0.00"}},{"$f":"IF($B37=1,$I37,0)","v":{"v":0,"d":"0.00"}},{"$f":"IF($B37=2,$I37,0)","v":{"v":0,"d":"0.00"}},{"$f":"IF($B37=3,$I37,0)","v":{"v":0,"d":"0.00"}},{"$f":"IF($B37=4,$I37,0)","v":{"v":0,"d":"0.00"}},{"$f":"IF($B37=5,$I37,0)","v":{"v":0,"d":"0.00"}},{"$f":"IF($B37=6,$I37,0)","v":{"v":0,"d":"0.00"}},{"$f":"IF(P36>0,IF(H37+X37+AF37+AN37+AV37+BD37+BL37+BT37+CB37+CJ37=0,IF(E37>0,P36,0),0),0)","v":0},{"$f":"G37*P37","v":{"v":0,"d":"0.00"}},{"$f":"IF(B37=1,Q37,0)","v":{"v":0,"d":"0.00"}},{"$f":"IF(B37=2,Q37,0)","v":{"v":0,"d":"0.00"}},{"$f":"IF(B37=3,Q37,0)","v":{"v":0,"d":"0.00"}},{"$f":"IF(B37=4,Q37,0)","v":{"v":0,"d":"0.00"}},{"$f":"IF(B37=5,Q37,0)","v":{"v":0,"d":"0.00"}},{"$f":"IF(B37=6,Q37,0)","v":{"v":0,"d":"0.00"}},{"$f":"IF(X36>0,IF(H37+P37+AF37+AN37+AV37+BD37+BL37+BT37+CB37+CJ37=0,IF(E37>0,X36,0),0),0)","v":0},{"$f":"G37*X37","v":{"v":0,"d":"0.00"}},{"$f":"IF($B37=1,$Y37,0)","v":{"v":0,"d":"0.00"}},{"$f":"IF($B37=2,$Y37,0)","v":{"v":0,"d":"0.00"}},{"$f":"IF($B37=3,$Y37,0)","v":{"v":0,"d":"0.00"}},{"$f":"IF($B37=4,$Y37,0)","v":{"v":0,"d":"0.00"}},{"$f":"IF($B37=5,$Y37,0)","v":{"v":0,"d":"0.00"}},{"$f":"IF($B37=6,$Y37,0)","v":{"v":0,"d":"0.00"}},{"$f":"IF(AF36>0,IF(H37+P37+X37+AN37+AV37+BD37+BL37+BT37+CB37+CJ37=0,IF(E37>0,AF36,0),0),0)","v":0},{"$f":"G37*AF37","v":{"v":0,"d":"0.00"}},{"$f":"IF($B37=1,$AG37,0)","v":{"v":0,"d":"0.00"}},{"$f":"IF($B37=2,$AG37,0)","v":{"v":0,"d":"0.00"}},{"$f":"IF($B37=3,$AG37,0)","v":{"v":0,"d":"0.00"}},{"$f":"IF($B37=4,$AG37,0)","v":{"v":0,"d":"0.00"}},{"$f":"IF($B37=5,$AG37,0)","v":{"v":0,"d":"0.00"}},{"$f":"IF($B37=6,$AG37,0)","v":{"v":0,"d":"0.00"}},{"$f":"IF(AN36>0,IF(H37+P37+X37+AF37+AV37+BD37+BL37+BT37+CB37+CJ37=0,IF(E37>0,AN36,0),0),0)","v":0},{"$f":"G37*AN37","v":{"v":0,"d":"0.00"}},{"$f":"IF($B37=1,$AO37,0)","v":{"v":0,"d":"0.00"}},{"$f":"IF($B37=2,$AO37,0)","v":{"v":0,"d":"0.00"}},{"$f":"IF($B37=3,$AO37,0)","v":{"v":0,"d":"0.00"}},{"$f":"IF($B37=4,$AO37,0)","v":{"v":0,"d":"0.00"}},{"$f":"IF($B37=5,$AO37,0)","v":{"v":0,"d":"0.00"}},{"$f":"IF($B37=6,$AO37,0)","v":{"v":0,"d":"0.00"}},{"$f":"IF(AV36>0,IF(H37+P37+X37+AF37+AN37+BD37+BL37+BT37+CB37+CJ37=0,IF(E37>0,AV36,0),0),0)","v":0},{"$f":"G37*AV37","v":{"v":0,"d":"0.00"}},{"$f":"IF($B37=1,$AW37,0)","v":{"v":0,"d":"0.00"}},{"$f":"IF($B37=2,$AW37,0)","v":{"v":0,"d":"0.00"}},{"$f":"IF($B37=3,$AW37,0)","v":{"v":0,"d":"0.00"}},{"$f":"IF($B37=4,$AW37,0)","v":{"v":0,"d":"0.00"}},{"$f":"IF($B37=5,$AW37,0)","v":{"v":0,"d":"0.00"}},{"$f":"IF($B37=6,$AW37,0)","v":{"v":0,"d":"0.00"}},{"$f":"IF(BD36>0,IF(H37+P37+X37+AF37+AN37+AV37+BL37+BT37+CB37+CJ37=0,IF(E37>0,BD36,0),0),0)","v":0},{"$f":"G37*BD37","v":{"v":0,"d":"0.00"}},{"$f":"IF($B37=1,$BE37,0)","v":{"v":0,"d":"0.00"}},{"$f":"IF($B37=2,$BE37,0)","v":{"v":0,"d":"0.00"}},{"$f":"IF($B37=3,$BE37,0)","v":{"v":0,"d":"0.00"}},{"$f":"IF($B37=4,$BE37,0)","v":{"v":0,"d":"0.00"}},{"$f":"IF($B37=5,$BE37,0)","v":{"v":0,"d":"0.00"}},{"$f":"IF($B37=6,$BE37,0)","v":{"v":0,"d":"0.00"}},{"$f":"IF(BL36>0,IF(H37+P37+X37+AF37+AN37+AV37+BD37+BT37+CB37+CJ37=0,IF(E37>0,BL36,0),0),0)","v":0},{"$f":"G37*BL37","v":{"v":0,"d":"0.00"}},{"$f":"IF($B37=1,$BM37,0)","v":{"v":0,"d":"0.00"}},{"$f":"IF($B37=2,$BM37,0)","v":{"v":0,"d":"0.00"}},{"$f":"IF($B37=3,$BM37,0)","v":{"v":0,"d":"0.00"}},{"$f":"IF($B37=4,$BM37,0)","v":{"v":0,"d":"0.00"}},{"$f":"IF($B37=5,$BM37,0)","v":{"v":0,"d":"0.00"}},{"$f":"IF($B37=6,$BM37,0)","v":{"v":0,"d":"0.00"}},{"$f":"IF(BT36>0,IF(H37+P37+X37+AF37+AN37+AV37+BD37+BL37+CB37+CJ37=0,IF(E37>0,BT36,0),0),0)","v":0},{"$f":"G37*BT37","v":{"v":0,"d":"0.00"}},{"$f":"IF($B37=1,$BU37,0)","v":{"v":0,"d":"0.00"}},{"$f":"IF($B37=2,$BU37,0)","v":{"v":0,"d":"0.00"}},{"$f":"IF($B37=3,$BU37,0)","v":{"v":0,"d":"0.00"}},{"$f":"IF($B37=4,$BU37,0)","v":{"v":0,"d":"0.00"}},{"$f":"IF($B37=5,$BU37,0)","v":{"v":0,"d":"0.00"}},{"$f":"IF($B37=6,$BU37,0)","v":{"v":0,"d":"0.00"}},{"$f":"IF(CB36>0,IF(H37+P37+X37+AF37+AN37+AV37+BD37+BL37+BT37+CJ37=0,IF(E37>0,CB36,0),0),0)","v":0},{"$f":"G37*CB37","v":{"v":0,"d":"0.00"}},{"$f":"IF($B37=1,$CC37,0)","v":{"v":0,"d":"0.00"}},{"$f":"IF($B37=2,$CC37,0)","v":{"v":0,"d":"0.00"}},{"$f":"IF($B37=3,$CC37,0)","v":{"v":0,"d":"0.00"}},{"$f":"IF($B37=4,$CC37,0)","v":{"v":0,"d":"0.00"}},{"$f":"IF($B37=5,$CC37,0)","v":{"v":0,"d":"0.00"}},{"$f":"IF($B37=6,$CC37,0)","v":{"v":0,"d":"0.00"}},{"$f":"IF(CJ36>0,IF(H37+P37+X37+AF37+AN37+AV37+BD37+BL37+BT37+CB37=0,IF(E37>0,CJ36,0),0),0)","v":0},{"$f":"G37*CJ37","v":{"v":0,"d":"0.00"}},{"$f":"IF($B37=1,$CK37,0)","v":{"v":0,"d":"0.00"}},{"$f":"IF($B37=2,$CK37,0)","v":{"v":0,"d":"0.00"}},{"$f":"IF($B37=3,$CK37,0)","v":{"v":0,"d":"0.00"}},{"$f":"IF($B37=4,$CK37,0)","v":{"v":0,"d":"0.00"}},{"$f":"IF($B37=5,$CK37,0)","v":{"v":0,"d":"0.00"}},{"$f":"IF($B37=6,$CK37,0)","v":{"v":0,"d":"0.00"}}]
[{"$f":"IF(C37<>C38,C38,\"\")","v":""},{"$f":"IF(C37<>C38,_xlfn.DAYS(C38,C37)+B37,B37)","v":1},{"$f":"IF(D38>0,IF(D38<E37,C37+1,C37),C37)","v":"2009-03-09"},{"$f":"IF((E38+H38+P38+X38+AF38+AN38+AV38+BD38+BL38+BT38+CB38+CJ38)>0,E37,0)","v":"00:00:00"},null,{"$f":"E38-D38","v":"00:00:00"},{"$f":"IF(E38>0,HOUR(F38)+(MINUTE(F38)/60),0)","v":0},{"$f":"IF(H37>0,IF(P38+X38+AF38+AN38+AV38+BD38+BL38+BT38+CB38+CJ38=0,IF(E38>0,H37,0),0),0)","v":0},{"$f":"G38*H38","v":{"v":0,"d":"0.00"}},{"$f":"IF($B38=1,$I38,0)","v":{"v":0,"d":"0.00"}},{"$f":"IF($B38=2,$I38,0)","v":{"v":0,"d":"0.00"}},{"$f":"IF($B38=3,$I38,0)","v":{"v":0,"d":"0.00"}},{"$f":"IF($B38=4,$I38,0)","v":{"v":0,"d":"0.00"}},{"$f":"IF($B38=5,$I38,0)","v":{"v":0,"d":"0.00"}},{"$f":"IF($B38=6,$I38,0)","v":{"v":0,"d":"0.00"}},{"$f":"IF(P37>0,IF(H38+X38+AF38+AN38+AV38+BD38+BL38+BT38+CB38+CJ38=0,IF(E38>0,P37,0),0),0)","v":0},{"$f":"G38*P38","v":{"v":0,"d":"0.00"}},{"$f":"IF(B38=1,Q38,0)","v":{"v":0,"d":"0.00"}},{"$f":"IF(B38=2,Q38,0)","v":{"v":0,"d":"0.00"}},{"$f":"IF(B38=3,Q38,0)","v":{"v":0,"d":"0.00"}},{"$f":"IF(B38=4,Q38,0)","v":{"v":0,"d":"0.00"}},{"$f":"IF(B38=5,Q38,0)","v":{"v":0,"d":"0.00"}},{"$f":"IF(B38=6,Q38,0)","v":{"v":0,"d":"0.00"}},{"$f":"IF(X37>0,IF(H38+P38+AF38+AN38+AV38+BD38+BL38+BT38+CB38+CJ38=0,IF(E38>0,X37,0),0),0)","v":0},{"$f":"G38*X38","v":{"v":0,"d":"0.00"}},{"$f":"IF($B38=1,$Y38,0)","v":{"v":0,"d":"0.00"}},{"$f":"IF($B38=2,$Y38,0)","v":{"v":0,"d":"0.00"}},{"$f":"IF($B38=3,$Y38,0)","v":{"v":0,"d":"0.00"}},{"$f":"IF($B38=4,$Y38,0)","v":{"v":0,"d":"0.00"}},{"$f":"IF($B38=5,$Y38,0)","v":{"v":0,"d":"0.00"}},{"$f":"IF($B38=6,$Y38,0)","v":{"v":0,"d":"0.00"}},{"$f":"IF(AF37>0,IF(H38+P38+X38+AN38+AV38+BD38+BL38+BT38+CB38+CJ38=0,IF(E38>0,AF37,0),0),0)","v":0},{"$f":"G38*AF38","v":{"v":0,"d":"0.00"}},{"$f":"IF($B38=1,$AG38,0)","v":{"v":0,"d":"0.00"}},{"$f":"IF($B38=2,$AG38,0)","v":{"v":0,"d":"0.00"}},{"$f":"IF($B38=3,$AG38,0)","v":{"v":0,"d":"0.00"}},{"$f":"IF($B38=4,$AG38,0)","v":{"v":0,"d":"0.00"}},{"$f":"IF($B38=5,$AG38,0)","v":{"v":0,"d":"0.00"}},{"$f":"IF($B38=6,$AG38,0)","v":{"v":0,"d":"0.00"}},{"$f":"IF(AN37>0,IF(H38+P38+X38+AF38+AV38+BD38+BL38+BT38+CB38+CJ38=0,IF(E38>0,AN37,0),0),0)","v":0},{"$f":"G38*AN38","v":{"v":0,"d":"0.00"}},{"$f":"IF($B38=1,$AO38,0)","v":{"v":0,"d":"0.00"}},{"$f":"IF($B38=2,$AO38,0)","v":{"v":0,"d":"0.00"}},{"$f":"IF($B38=3,$AO38,0)","v":{"v":0,"d":"0.00"}},{"$f":"IF($B38=4,$AO38,0)","v":{"v":0,"d":"0.00"}},{"$f":"IF($B38=5,$AO38,0)","v":{"v":0,"d":"0.00"}},{"$f":"IF($B38=6,$AO38,0)","v":{"v":0,"d":"0.00"}},{"$f":"IF(AV37>0,IF(H38+P38+X38+AF38+AN38+BD38+BL38+BT38+CB38+CJ38=0,IF(E38>0,AV37,0),0),0)","v":0},{"$f":"G38*AV38","v":{"v":0,"d":"0.00"}},{"$f":"IF($B38=1,$AW38,0)","v":{"v":0,"d":"0.00"}},{"$f":"IF($B38=2,$AW38,0)","v":{"v":0,"d":"0.00"}},{"$f":"IF($B38=3,$AW38,0)","v":{"v":0,"d":"0.00"}},{"$f":"IF($B38=4,$AW38,0)","v":{"v":0,"d":"0.00"}},{"$f":"IF($B38=5,$AW38,0)","v":{"v":0,"d":"0.00"}},{"$f":"IF($B38=6,$AW38,0)","v":{"v":0,"d":"0.00"}},{"$f":"IF(BD37>0,IF(H38+P38+X38+AF38+AN38+AV38+BL38+BT38+CB38+CJ38=0,IF(E38>0,BD37,0),0),0)","v":0},{"$f":"G38*BD38","v":{"v":0,"d":"0.00"}},{"$f":"IF($B38=1,$BE38,0)","v":{"v":0,"d":"0.00"}},{"$f":"IF($B38=2,$BE38,0)","v":{"v":0,"d":"0.00"}},{"$f":"IF($B38=3,$BE38,0)","v":{"v":0,"d":"0.00"}},{"$f":"IF($B38=4,$BE38,0)","v":{"v":0,"d":"0.00"}},{"$f":"IF($B38=5,$BE38,0)","v":{"v":0,"d":"0.00"}},{"$f":"IF($B38=6,$BE38,0)","v":{"v":0,"d":"0.00"}},{"$f":"IF(BL37>0,IF(H38+P38+X38+AF38+AN38+AV38+BD38+BT38+CB38+CJ38=0,IF(E38>0,BL37,0),0),0)","v":0},{"$f":"G38*BL38","v":{"v":0,"d":"0.00"}},{"$f":"IF($B38=1,$BM38,0)","v":{"v":0,"d":"0.00"}},{"$f":"IF($B38=2,$BM38,0)","v":{"v":0,"d":"0.00"}},{"$f":"IF($B38=3,$BM38,0)","v":{"v":0,"d":"0.00"}},{"$f":"IF($B38=4,$BM38,0)","v":{"v":0,"d":"0.00"}},{"$f":"IF($B38=5,$BM38,0)","v":{"v":0,"d":"0.00"}},{"$f":"IF($B38=6,$BM38,0)","v":{"v":0,"d":"0.00"}},{"$f":"IF(BT37>0,IF(H38+P38+X38+AF38+AN38+AV38+BD38+BL38+CB38+CJ38=0,IF(E38>0,BT37,0),0),0)","v":0},{"$f":"G38*BT38","v":{"v":0,"d":"0.00"}},{"$f":"IF($B38=1,$BU38,0)","v":{"v":0,"d":"0.00"}},{"$f":"IF($B38=2,$BU38,0)","v":{"v":0,"d":"0.00"}},{"$f":"IF($B38=3,$BU38,0)","v":{"v":0,"d":"0.00"}},{"$f":"IF($B38=4,$BU38,0)","v":{"v":0,"d":"0.00"}},{"$f":"IF($B38=5,$BU38,0)","v":{"v":0,"d":"0.00"}},{"$f":"IF($B38=6,$BU38,0)","v":{"v":0,"d":"0.00"}},{"$f":"IF(CB37>0,IF(H38+P38+X38+AF38+AN38+AV38+BD38+BL38+BT38+CJ38=0,IF(E38>0,CB37,0),0),0)","v":0},{"$f":"G38*CB38","v":{"v":0,"d":"0.00"}},{"$f":"IF($B38=1,$CC38,0)","v":{"v":0,"d":"0.00"}},{"$f":"IF($B38=2,$CC38,0)","v":{"v":0,"d":"0.00"}},{"$f":"IF($B38=3,$CC38,0)","v":{"v":0,"d":"0.00"}},{"$f":"IF($B38=4,$CC38,0)","v":{"v":0,"d":"0.00"}},{"$f":"IF($B38=5,$CC38,0)","v":{"v":0,"d":"0.00"}},{"$f":"IF($B38=6,$CC38,0)","v":{"v":0,"d":"0.00"}},{"$f":"IF(CJ37>0,IF(H38+P38+X38+AF38+AN38+AV38+BD38+BL38+BT38+CB38=0,IF(E38>0,CJ37,0),0),0)","v":0},{"$f":"G38*CJ38","v":{"v":0,"d":"0.00"}},{"$f":"IF($B38=1,$CK38,0)","v":{"v":0,"d":"0.00"}},{"$f":"IF($B38=2,$CK38,0)","v":{"v":0,"d":"0.00"}},{"$f":"IF($B38=3,$CK38,0)","v":{"v":0,"d":"0.00"}},{"$f":"IF($B38=4,$CK38,0)","v":{"v":0,"d":"0.00"}},{"$f":"IF($B38=5,$CK38,0)","v":{"v":0,"d":"0.00"}},{"$f":"IF($B38=6,$CK38,0)","v":{"v":0,"d":"0.00"}}]
[{"$f":"IF(C38<>C39,C39,\"\")","v":""},{"$f":"IF(C38<>C39,_xlfn.DAYS(C39,C38)+B38,B38)","v":1},{"$f":"IF(D39>0,IF(D39<E38,C38+1,C38),C38)","v":"2009-03-09"},{"$f":"IF((E39+H39+P39+X39+AF39+AN39+AV39+BD39+BL39+BT39+CB39+CJ39)>0,E38,0)","v":"00:00:00"},null,{"$f":"E39-D39","v":"00:00:00"},{"$f":"IF(E39>0,HOUR(F39)+(MINUTE(F39)/60),0)","v":0},{"$f":"IF(H38>0,IF(P39+X39+AF39+AN39+AV39+BD39+BL39+BT39+CB39+CJ39=0,IF(E39>0,H38,0),0),0)","v":0},{"$f":"G39*H39","v":{"v":0,"d":"0.00"}},{"$f":"IF($B39=1,$I39,0)","v":{"v":0,"d":"0.00"}},{"$f":"IF($B39=2,$I39,0)","v":{"v":0,"d":"0.00"}},{"$f":"IF($B39=3,$I39,0)","v":{"v":0,"d":"0.00"}},{"$f":"IF($B39=4,$I39,0)","v":{"v":0,"d":"0.00"}},{"$f":"IF($B39=5,$I39,0)","v":{"v":0,"d":"0.00"}},{"$f":"IF($B39=6,$I39,0)","v":{"v":0,"d":"0.00"}},{"$f":"IF(P38>0,IF(H39+X39+AF39+AN39+AV39+BD39+BL39+BT39+CB39+CJ39=0,IF(E39>0,P38,0),0),0)","v":0},{"$f":"G39*P39","v":{"v":0,"d":"0.00"}},{"$f":"IF(B39=1,Q39,0)","v":{"v":0,"d":"0.00"}},{"$f":"IF(B39=2,Q39,0)","v":{"v":0,"d":"0.00"}},{"$f":"IF(B39=3,Q39,0)","v":{"v":0,"d":"0.00"}},{"$f":"IF(B39=4,Q39,0)","v":{"v":0,"d":"0.00"}},{"$f":"IF(B39=5,Q39,0)","v":{"v":0,"d":"0.00"}},{"$f":"IF(B39=6,Q39,0)","v":{"v":0,"d":"0.00"}},{"$f":"IF(X38>0,IF(H39+P39+AF39+AN39+AV39+BD39+BL39+BT39+CB39+CJ39=0,IF(E39>0,X38,0),0),0)","v":0},{"$f":"G39*X39","v":{"v":0,"d":"0.00"}},{"$f":"IF($B39=1,$Y39,0)","v":{"v":0,"d":"0.00"}},{"$f":"IF($B39=2,$Y39,0)","v":{"v":0,"d":"0.00"}},{"$f":"IF($B39=3,$Y39,0)","v":{"v":0,"d":"0.00"}},{"$f":"IF($B39=4,$Y39,0)","v":{"v":0,"d":"0.00"}},{"$f":"IF($B39=5,$Y39,0)","v":{"v":0,"d":"0.00"}},{"$f":"IF($B39=6,$Y39,0)","v":{"v":0,"d":"0.00"}},{"$f":"IF(AF38>0,IF(H39+P39+X39+AN39+AV39+BD39+BL39+BT39+CB39+CJ39=0,IF(E39>0,AF38,0),0),0)","v":0},{"$f":"G39*AF39","v":{"v":0,"d":"0.00"}},{"$f":"IF($B39=1,$AG39,0)","v":{"v":0,"d":"0.00"}},{"$f":"IF($B39=2,$AG39,0)","v":{"v":0,"d":"0.00"}},{"$f":"IF($B39=3,$AG39,0)","v":{"v":0,"d":"0.00"}},{"$f":"IF($B39=4,$AG39,0)","v":{"v":0,"d":"0.00"}},{"$f":"IF($B39=5,$AG39,0)","v":{"v":0,"d":"0.00"}},{"$f":"IF($B39=6,$AG39,0)","v":{"v":0,"d":"0.00"}},{"$f":"IF(AN38>0,IF(H39+P39+X39+AF39+AV39+BD39+BL39+BT39+CB39+CJ39=0,IF(E39>0,AN38,0),0),0)","v":0},{"$f":"G39*AN39","v":{"v":0,"d":"0.00"}},{"$f":"IF($B39=1,$AO39,0)","v":{"v":0,"d":"0.00"}},{"$f":"IF($B39=2,$AO39,0)","v":{"v":0,"d":"0.00"}},{"$f":"IF($B39=3,$AO39,0)","v":{"v":0,"d":"0.00"}},{"$f":"IF($B39=4,$AO39,0)","v":{"v":0,"d":"0.00"}},{"$f":"IF($B39=5,$AO39,0)","v":{"v":0,"d":"0.00"}},{"$f":"IF($B39=6,$AO39,0)","v":{"v":0,"d":"0.00"}},{"$f":"IF(AV38>0,IF(H39+P39+X39+AF39+AN39+BD39+BL39+BT39+CB39+CJ39=0,IF(E39>0,AV38,0),0),0)","v":0},{"$f":"G39*AV39","v":{"v":0,"d":"0.00"}},{"$f":"IF($B39=1,$AW39,0)","v":{"v":0,"d":"0.00"}},{"$f":"IF($B39=2,$AW39,0)","v":{"v":0,"d":"0.00"}},{"$f":"IF($B39=3,$AW39,0)","v":{"v":0,"d":"0.00"}},{"$f":"IF($B39=4,$AW39,0)","v":{"v":0,"d":"0.00"}},{"$f":"IF($B39=5,$AW39,0)","v":{"v":0,"d":"0.00"}},{"$f":"IF($B39=6,$AW39,0)","v":{"v":0,"d":"0.00"}},{"$f":"IF(BD38>0,IF(H39+P39+X39+AF39+AN39+AV39+BL39+BT39+CB39+CJ39=0,IF(E39>0,BD38,0),0),0)","v":0},{"$f":"G39*BD39","v":{"v":0,"d":"0.00"}},{"$f":"IF($B39=1,$BE39,0)","v":{"v":0,"d":"0.00"}},{"$f":"IF($B39=2,$BE39,0)","v":{"v":0,"d":"0.00"}},{"$f":"IF($B39=3,$BE39,0)","v":{"v":0,"d":"0.00"}},{"$f":"IF($B39=4,$BE39,0)","v":{"v":0,"d":"0.00"}},{"$f":"IF($B39=5,$BE39,0)","v":{"v":0,"d":"0.00"}},{"$f":"IF($B39=6,$BE39,0)","v":{"v":0,"d":"0.00"}},{"$f":"IF(BL38>0,IF(H39+P39+X39+AF39+AN39+AV39+BD39+BT39+CB39+CJ39=0,IF(E39>0,BL38,0),0),0)","v":0},{"$f":"G39*BL39","v":{"v":0,"d":"0.00"}},{"$f":"IF($B39=1,$BM39,0)","v":{"v":0,"d":"0.00"}},{"$f":"IF($B39=2,$BM39,0)","v":{"v":0,"d":"0.00"}},{"$f":"IF($B39=3,$BM39,0)","v":{"v":0,"d":"0.00"}},{"$f":"IF($B39=4,$BM39,0)","v":{"v":0,"d":"0.00"}},{"$f":"IF($B39=5,$BM39,0)","v":{"v":0,"d":"0.00"}},{"$f":"IF($B39=6,$BM39,0)","v":{"v":0,"d":"0.00"}},{"$f":"IF(BT38>0,IF(H39+P39+X39+AF39+AN39+AV39+BD39+BL39+CB39+CJ39=0,IF(E39>0,BT38,0),0),0)","v":0},{"$f":"G39*BT39","v":{"v":0,"d":"0.00"}},{"$f":"IF($B39=1,$BU39,0)","v":{"v":0,"d":"0.00"}},{"$f":"IF($B39=2,$BU39,0)","v":{"v":0,"d":"0.00"}},{"$f":"IF($B39=3,$BU39,0)","v":{"v":0,"d":"0.00"}},{"$f":"IF($B39=4,$BU39,0)","v":{"v":0,"d":"0.00"}},{"$f":"IF($B39=5,$BU39,0)","v":{"v":0,"d":"0.00"}},{"$f":"IF($B39=6,$BU39,0)","v":{"v":0,"d":"0.00"}},{"$f":"IF(CB38>0,IF(H39+P39+X39+AF39+AN39+AV39+BD39+BL39+BT39+CJ39=0,IF(E39>0,CB38,0),0),0)","v":0},{"$f":"G39*CB39","v":{"v":0,"d":"0.00"}},{"$f":"IF($B39=1,$CC39,0)","v":{"v":0,"d":"0.00"}},{"$f":"IF($B39=2,$CC39,0)","v":{"v":0,"d":"0.00"}},{"$f":"IF($B39=3,$CC39,0)","v":{"v":0,"d":"0.00"}},{"$f":"IF($B39=4,$CC39,0)","v":{"v":0,"d":"0.00"}},{"$f":"IF($B39=5,$CC39,0)","v":{"v":0,"d":"0.00"}},{"$f":"IF($B39=6,$CC39,0)","v":{"v":0,"d":"0.00"}},{"$f":"IF(CJ38>0,IF(H39+P39+X39+AF39+AN39+AV39+BD39+BL39+BT39+CB39=0,IF(E39>0,CJ38,0),0),0)","v":0},{"$f":"G39*CJ39","v":{"v":0,"d":"0.00"}},{"$f":"IF($B39=1,$CK39,0)","v":{"v":0,"d":"0.00"}},{"$f":"IF($B39=2,$CK39,0)","v":{"v":0,"d":"0.00"}},{"$f":"IF($B39=3,$CK39,0)","v":{"v":0,"d":"0.00"}},{"$f":"IF($B39=4,$CK39,0)","v":{"v":0,"d":"0.00"}},{"$f":"IF($B39=5,$CK39,0)","v":{"v":0,"d":"0.00"}},{"$f":"IF($B39=6,$CK39,0)","v":{"v":0,"d":"0.00"}}]
[{"$f":"IF(C39<>C40,C40,\"\")","v":""},{"$f":"IF(C39<>C40,_xlfn.DAYS(C40,C39)+B39,B39)","v":1},{"$f":"IF(D40>0,IF(D40<E39,C39+1,C39),C39)","v":"2009-03-09"},{"$f":"IF((E40+H40+P40+X40+AF40+AN40+AV40+BD40+BL40+BT40+CB40+CJ40)>0,E39,0)","v":"00:00:00"},null,{"$f":"E40-D40","v":"00:00:00"},{"$f":"IF(E40>0,HOUR(F40)+(MINUTE(F40)/60),0)","v":0},{"$f":"IF(H39>0,IF(P40+X40+AF40+AN40+AV40+BD40+BL40+BT40+CB40+CJ40=0,IF(E40>0,H39,0),0),0)","v":0},{"$f":"G40*H40","v":{"v":0,"d":"0.00"}},{"$f":"IF($B40=1,$I40,0)","v":{"v":0,"d":"0.00"}},{"$f":"IF($B40=2,$I40,0)","v":{"v":0,"d":"0.00"}},{"$f":"IF($B40=3,$I40,0)","v":{"v":0,"d":"0.00"}},{"$f":"IF($B40=4,$I40,0)","v":{"v":0,"d":"0.00"}},{"$f":"IF($B40=5,$I40,0)","v":{"v":0,"d":"0.00"}},{"$f":"IF($B40=6,$I40,0)","v":{"v":0,"d":"0.00"}},{"$f":"IF(P39>0,IF(H40+X40+AF40+AN40+AV40+BD40+BL40+BT40+CB40+CJ40=0,IF(E40>0,P39,0),0),0)","v":0},{"$f":"G40*P40","v":{"v":0,"d":"0.00"}},{"$f":"IF(B40=1,Q40,0)","v":{"v":0,"d":"0.00"}},{"$f":"IF(B40=2,Q40,0)","v":{"v":0,"d":"0.00"}},{"$f":"IF(B40=3,Q40,0)","v":{"v":0,"d":"0.00"}},{"$f":"IF(B40=4,Q40,0)","v":{"v":0,"d":"0.00"}},{"$f":"IF(B40=5,Q40,0)","v":{"v":0,"d":"0.00"}},{"$f":"IF(B40=6,Q40,0)","v":{"v":0,"d":"0.00"}},{"$f":"IF(X39>0,IF(H40+P40+AF40+AN40+AV40+BD40+BL40+BT40+CB40+CJ40=0,IF(E40>0,X39,0),0),0)","v":0},{"$f":"G40*X40","v":{"v":0,"d":"0.00"}},{"$f":"IF($B40=1,$Y40,0)","v":{"v":0,"d":"0.00"}},{"$f":"IF($B40=2,$Y40,0)","v":{"v":0,"d":"0.00"}},{"$f":"IF($B40=3,$Y40,0)","v":{"v":0,"d":"0.00"}},{"$f":"IF($B40=4,$Y40,0)","v":{"v":0,"d":"0.00"}},{"$f":"IF($B40=5,$Y40,0)","v":{"v":0,"d":"0.00"}},{"$f":"IF($B40=6,$Y40,0)","v":{"v":0,"d":"0.00"}},{"$f":"IF(AF39>0,IF(H40+P40+X40+AN40+AV40+BD40+BL40+BT40+CB40+CJ40=0,IF(E40>0,AF39,0),0),0)","v":0},{"$f":"G40*AF40","v":{"v":0,"d":"0.00"}},{"$f":"IF($B40=1,$AG40,0)","v":{"v":0,"d":"0.00"}},{"$f":"IF($B40=2,$AG40,0)","v":{"v":0,"d":"0.00"}},{"$f":"IF($B40=3,$AG40,0)","v":{"v":0,"d":"0.00"}},{"$f":"IF($B40=4,$AG40,0)","v":{"v":0,"d":"0.00"}},{"$f":"IF($B40=5,$AG40,0)","v":{"v":0,"d":"0.00"}},{"$f":"IF($B40=6,$AG40,0)","v":{"v":0,"d":"0.00"}},{"$f":"IF(AN39>0,IF(H40+P40+X40+AF40+AV40+BD40+BL40+BT40+CB40+CJ40=0,IF(E40>0,AN39,0),0),0)","v":0},{"$f":"G40*AN40","v":{"v":0,"d":"0.00"}},{"$f":"IF($B40=1,$AO40,0)","v":{"v":0,"d":"0.00"}},{"$f":"IF($B40=2,$AO40,0)","v":{"v":0,"d":"0.00"}},{"$f":"IF($B40=3,$AO40,0)","v":{"v":0,"d":"0.00"}},{"$f":"IF($B40=4,$AO40,0)","v":{"v":0,"d":"0.00"}},{"$f":"IF($B40=5,$AO40,0)","v":{"v":0,"d":"0.00"}},{"$f":"IF($B40=6,$AO40,0)","v":{"v":0,"d":"0.00"}},{"$f":"IF(AV39>0,IF(H40+P40+X40+AF40+AN40+BD40+BL40+BT40+CB40+CJ40=0,IF(E40>0,AV39,0),0),0)","v":0},{"$f":"G40*AV40","v":{"v":0,"d":"0.00"}},{"$f":"IF($B40=1,$AW40,0)","v":{"v":0,"d":"0.00"}},{"$f":"IF($B40=2,$AW40,0)","v":{"v":0,"d":"0.00"}},{"$f":"IF($B40=3,$AW40,0)","v":{"v":0,"d":"0.00"}},{"$f":"IF($B40=4,$AW40,0)","v":{"v":0,"d":"0.00"}},{"$f":"IF($B40=5,$AW40,0)","v":{"v":0,"d":"0.00"}},{"$f":"IF($B40=6,$AW40,0)","v":{"v":0,"d":"0.00"}},{"$f":"IF(BD39>0,IF(H40+P40+X40+AF40+AN40+AV40+BL40+BT40+CB40+CJ40=0,IF(E40>0,BD39,0),0),0)","v":0},{"$f":"G40*BD40","v":{"v":0,"d":"0.00"}},{"$f":"IF($B40=1,$BE40,0)","v":{"v":0,"d":"0.00"}},{"$f":"IF($B40=2,$BE40,0)","v":{"v":0,"d":"0.00"}},{"$f":"IF($B40=3,$BE40,0)","v":{"v":0,"d":"0.00"}},{"$f":"IF($B40=4,$BE40,0)","v":{"v":0,"d":"0.00"}},{"$f":"IF($B40=5,$BE40,0)","v":{"v":0,"d":"0.00"}},{"$f":"IF($B40=6,$BE40,0)","v":{"v":0,"d":"0.00"}},{"$f":"IF(BL39>0,IF(H40+P40+X40+AF40+AN40+AV40+BD40+BT40+CB40+CJ40=0,IF(E40>0,BL39,0),0),0)","v":0},{"$f":"G40*BL40","v":{"v":0,"d":"0.00"}},{"$f":"IF($B40=1,$BM40,0)","v":{"v":0,"d":"0.00"}},{"$f":"IF($B40=2,$BM40,0)","v":{"v":0,"d":"0.00"}},{"$f":"IF($B40=3,$BM40,0)","v":{"v":0,"d":"0.00"}},{"$f":"IF($B40=4,$BM40,0)","v":{"v":0,"d":"0.00"}},{"$f":"IF($B40=5,$BM40,0)","v":{"v":0,"d":"0.00"}},{"$f":"IF($B40=6,$BM40,0)","v":{"v":0,"d":"0.00"}},{"$f":"IF(BT39>0,IF(H40+P40+X40+AF40+AN40+AV40+BD40+BL40+CB40+CJ40=0,IF(E40>0,BT39,0),0),0)","v":0},{"$f":"G40*BT40","v":{"v":0,"d":"0.00"}},{"$f":"IF($B40=1,$BU40,0)","v":{"v":0,"d":"0.00"}},{"$f":"IF($B40=2,$BU40,0)","v":{"v":0,"d":"0.00"}},{"$f":"IF($B40=3,$BU40,0)","v":{"v":0,"d":"0.00"}},{"$f":"IF($B40=4,$BU40,0)","v":{"v":0,"d":"0.00"}},{"$f":"IF($B40=5,$BU40,0)","v":{"v":0,"d":"0.00"}},{"$f":"IF($B40=6,$BU40,0)","v":{"v":0,"d":"0.00"}},{"$f":"IF(CB39>0,IF(H40+P40+X40+AF40+AN40+AV40+BD40+BL40+BT40+CJ40=0,IF(E40>0,CB39,0),0),0)","v":0},{"$f":"G40*CB40","v":{"v":0,"d":"0.00"}},{"$f":"IF($B40=1,$CC40,0)","v":{"v":0,"d":"0.00"}},{"$f":"IF($B40=2,$CC40,0)","v":{"v":0,"d":"0.00"}},{"$f":"IF($B40=3,$CC40,0)","v":{"v":0,"d":"0.00"}},{"$f":"IF($B40=4,$CC40,0)","v":{"v":0,"d":"0.00"}},{"$f":"IF($B40=5,$CC40,0)","v":{"v":0,"d":"0.00"}},{"$f":"IF($B40=6,$CC40,0)","v":{"v":0,"d":"0.00"}},{"$f":"IF(CJ39>0,IF(H40+P40+X40+AF40+AN40+AV40+BD40+BL40+BT40+CB40=0,IF(E40>0,CJ39,0),0),0)","v":0},{"$f":"G40*CJ40","v":{"v":0,"d":"0.00"}},{"$f":"IF($B40=1,$CK40,0)","v":{"v":0,"d":"0.00"}},{"$f":"IF($B40=2,$CK40,0)","v":{"v":0,"d":"0.00"}},{"$f":"IF($B40=3,$CK40,0)","v":{"v":0,"d":"0.00"}},{"$f":"IF($B40=4,$CK40,0)","v":{"v":0,"d":"0.00"}},{"$f":"IF($B40=5,$CK40,0)","v":{"v":0,"d":"0.00"}},{"$f":"IF($B40=6,$CK40,0)","v":{"v":0,"d":"0.00"}}]
[{"$f":"IF(C40<>C41,C41,\"\")","v":""},{"$f":"IF(C40<>C41,_xlfn.DAYS(C41,C40)+B40,B40)","v":1},{"$f":"IF(D41>0,IF(D41<E40,C40+1,C40),C40)","v":"2009-03-09"},{"$f":"IF((E41+H41+P41+X41+AF41+AN41+AV41+BD41+BL41+BT41+CB41+CJ41)>0,E40,0)","v":"00:00:00"},null,{"$f":"E41-D41","v":"00:00:00"},{"$f":"IF(E41>0,HOUR(F41)+(MINUTE(F41)/60),0)","v":0},{"$f":"IF(H40>0,IF(P41+X41+AF41+AN41+AV41+BD41+BL41+BT41+CB41+CJ41=0,IF(E41>0,H40,0),0),0)","v":0},{"$f":"G41*H41","v":{"v":0,"d":"0.00"}},{"$f":"IF($B41=1,$I41,0)","v":{"v":0,"d":"0.00"}},{"$f":"IF($B41=2,$I41,0)","v":{"v":0,"d":"0.00"}},{"$f":"IF($B41=3,$I41,0)","v":{"v":0,"d":"0.00"}},{"$f":"IF($B41=4,$I41,0)","v":{"v":0,"d":"0.00"}},{"$f":"IF($B41=5,$I41,0)","v":{"v":0,"d":"0.00"}},{"$f":"IF($B41=6,$I41,0)","v":{"v":0,"d":"0.00"}},{"$f":"IF(P40>0,IF(H41+X41+AF41+AN41+AV41+BD41+BL41+BT41+CB41+CJ41=0,IF(E41>0,P40,0),0),0)","v":0},{"$f":"G41*P41","v":{"v":0,"d":"0.00"}},{"$f":"IF(B41=1,Q41,0)","v":{"v":0,"d":"0.00"}},{"$f":"IF(B41=2,Q41,0)","v":{"v":0,"d":"0.00"}},{"$f":"IF(B41=3,Q41,0)","v":{"v":0,"d":"0.00"}},{"$f":"IF(B41=4,Q41,0)","v":{"v":0,"d":"0.00"}},{"$f":"IF(B41=5,Q41,0)","v":{"v":0,"d":"0.00"}},{"$f":"IF(B41=6,Q41,0)","v":{"v":0,"d":"0.00"}},{"$f":"IF(X40>0,IF(H41+P41+AF41+AN41+AV41+BD41+BL41+BT41+CB41+CJ41=0,IF(E41>0,X40,0),0),0)","v":0},{"$f":"G41*X41","v":{"v":0,"d":"0.00"}},{"$f":"IF($B41=1,$Y41,0)","v":{"v":0,"d":"0.00"}},{"$f":"IF($B41=2,$Y41,0)","v":{"v":0,"d":"0.00"}},{"$f":"IF($B41=3,$Y41,0)","v":{"v":0,"d":"0.00"}},{"$f":"IF($B41=4,$Y41,0)","v":{"v":0,"d":"0.00"}},{"$f":"IF($B41=5,$Y41,0)","v":{"v":0,"d":"0.00"}},{"$f":"IF($B41=6,$Y41,0)","v":{"v":0,"d":"0.00"}},{"$f":"IF(AF40>0,IF(H41+P41+X41+AN41+AV41+BD41+BL41+BT41+CB41+CJ41=0,IF(E41>0,AF40,0),0),0)","v":0},{"$f":"G41*AF41","v":{"v":0,"d":"0.00"}},{"$f":"IF($B41=1,$AG41,0)","v":{"v":0,"d":"0.00"}},{"$f":"IF($B41=2,$AG41,0)","v":{"v":0,"d":"0.00"}},{"$f":"IF($B41=3,$AG41,0)","v":{"v":0,"d":"0.00"}},{"$f":"IF($B41=4,$AG41,0)","v":{"v":0,"d":"0.00"}},{"$f":"IF($B41=5,$AG41,0)","v":{"v":0,"d":"0.00"}},{"$f":"IF($B41=6,$AG41,0)","v":{"v":0,"d":"0.00"}},{"$f":"IF(AN40>0,IF(H41+P41+X41+AF41+AV41+BD41+BL41+BT41+CB41+CJ41=0,IF(E41>0,AN40,0),0),0)","v":0},{"$f":"G41*AN41","v":{"v":0,"d":"0.00"}},{"$f":"IF($B41=1,$AO41,0)","v":{"v":0,"d":"0.00"}},{"$f":"IF($B41=2,$AO41,0)","v":{"v":0,"d":"0.00"}},{"$f":"IF($B41=3,$AO41,0)","v":{"v":0,"d":"0.00"}},{"$f":"IF($B41=4,$AO41,0)","v":{"v":0,"d":"0.00"}},{"$f":"IF($B41=5,$AO41,0)","v":{"v":0,"d":"0.00"}},{"$f":"IF($B41=6,$AO41,0)","v":{"v":0,"d":"0.00"}},{"$f":"IF(AV40>0,IF(H41+P41+X41+AF41+AN41+BD41+BL41+BT41+CB41+CJ41=0,IF(E41>0,AV40,0),0),0)","v":0},{"$f":"G41*AV41","v":{"v":0,"d":"0.00"}},{"$f":"IF($B41=1,$AW41,0)","v":{"v":0,"d":"0.00"}},{"$f":"IF($B41=2,$AW41,0)","v":{"v":0,"d":"0.00"}},{"$f":"IF($B41=3,$AW41,0)","v":{"v":0,"d":"0.00"}},{"$f":"IF($B41=4,$AW41,0)","v":{"v":0,"d":"0.00"}},{"$f":"IF($B41=5,$AW41,0)","v":{"v":0,"d":"0.00"}},{"$f":"IF($B41=6,$AW41,0)","v":{"v":0,"d":"0.00"}},{"$f":"IF(BD40>0,IF(H41+P41+X41+AF41+AN41+AV41+BL41+BT41+CB41+CJ41=0,IF(E41>0,BD40,0),0),0)","v":0},{"$f":"G41*BD41","v":{"v":0,"d":"0.00"}},{"$f":"IF($B41=1,$BE41,0)","v":{"v":0,"d":"0.00"}},{"$f":"IF($B41=2,$BE41,0)","v":{"v":0,"d":"0.00"}},{"$f":"IF($B41=3,$BE41,0)","v":{"v":0,"d":"0.00"}},{"$f":"IF($B41=4,$BE41,0)","v":{"v":0,"d":"0.00"}},{"$f":"IF($B41=5,$BE41,0)","v":{"v":0,"d":"0.00"}},{"$f":"IF($B41=6,$BE41,0)","v":{"v":0,"d":"0.00"}},{"$f":"IF(BL40>0,IF(H41+P41+X41+AF41+AN41+AV41+BD41+BT41+CB41+CJ41=0,IF(E41>0,BL40,0),0),0)","v":0},{"$f":"G41*BL41","v":{"v":0,"d":"0.00"}},{"$f":"IF($B41=1,$BM41,0)","v":{"v":0,"d":"0.00"}},{"$f":"IF($B41=2,$BM41,0)","v":{"v":0,"d":"0.00"}},{"$f":"IF($B41=3,$BM41,0)","v":{"v":0,"d":"0.00"}},{"$f":"IF($B41=4,$BM41,0)","v":{"v":0,"d":"0.00"}},{"$f":"IF($B41=5,$BM41,0)","v":{"v":0,"d":"0.00"}},{"$f":"IF($B41=6,$BM41,0)","v":{"v":0,"d":"0.00"}},{"$f":"IF(BT40>0,IF(H41+P41+X41+AF41+AN41+AV41+BD41+BL41+CB41+CJ41=0,IF(E41>0,BT40,0),0),0)","v":0},{"$f":"G41*BT41","v":{"v":0,"d":"0.00"}},{"$f":"IF($B41=1,$BU41,0)","v":{"v":0,"d":"0.00"}},{"$f":"IF($B41=2,$BU41,0)","v":{"v":0,"d":"0.00"}},{"$f":"IF($B41=3,$BU41,0)","v":{"v":0,"d":"0.00"}},{"$f":"IF($B41=4,$BU41,0)","v":{"v":0,"d":"0.00"}},{"$f":"IF($B41=5,$BU41,0)","v":{"v":0,"d":"0.00"}},{"$f":"IF($B41=6,$BU41,0)","v":{"v":0,"d":"0.00"}},{"$f":"IF(CB40>0,IF(H41+P41+X41+AF41+AN41+AV41+BD41+BL41+BT41+CJ41=0,IF(E41>0,CB40,0),0),0)","v":0},{"$f":"G41*CB41","v":{"v":0,"d":"0.00"}},{"$f":"IF($B41=1,$CC41,0)","v":{"v":0,"d":"0.00"}},{"$f":"IF($B41=2,$CC41,0)","v":{"v":0,"d":"0.00"}},{"$f":"IF($B41=3,$CC41,0)","v":{"v":0,"d":"0.00"}},{"$f":"IF($B41=4,$CC41,0)","v":{"v":0,"d":"0.00"}},{"$f":"IF($B41=5,$CC41,0)","v":{"v":0,"d":"0.00"}},{"$f":"IF($B41=6,$CC41,0)","v":{"v":0,"d":"0.00"}},{"$f":"IF(CJ40>0,IF(H41+P41+X41+AF41+AN41+AV41+BD41+BL41+BT41+CB41=0,IF(E41>0,CJ40,0),0),0)","v":0},{"$f":"G41*CJ41","v":{"v":0,"d":"0.00"}},{"$f":"IF($B41=1,$CK41,0)","v":{"v":0,"d":"0.00"}},{"$f":"IF($B41=2,$CK41,0)","v":{"v":0,"d":"0.00"}},{"$f":"IF($B41=3,$CK41,0)","v":{"v":0,"d":"0.00"}},{"$f":"IF($B41=4,$CK41,0)","v":{"v":0,"d":"0.00"}},{"$f":"IF($B41=5,$CK41,0)","v":{"v":0,"d":"0.00"}},{"$f":"IF($B41=6,$CK41,0)","v":{"v":0,"d":"0.00"}}]
["Totals",{"$nulls":5},{"$f":"SUM(G5:G41)","v":0},{"$f":"SUM(I5:I41)","v":{"v":0,"d":"0.00"}},null,{"$f":"SUM(J5:J41)","v":{"v":0,"d":"0.00"}},{"$f":"SUM(K5:K41)","v":{"v":0,"d":"0.00"}},{"$f":"SUM(L5:L41)","v":{"v":0,"d":"0.00"}},{"$f":"SUM(M5:M41)","v":{"v":0,"d":"0.00"}},{"$f":"SUM(N5:N41)","v":{"v":0,"d":"0.00"}},{"$f":"SUM(O5:O41)","v":{"v":0,"d":"0.00"}},{"$f":"SUM(Q5:Q41)","v":{"v":0,"d":"0.00"}},null,{"$f":"SUM(R5:R41)","v":{"v":0,"d":"0.00"}},{"$f":"SUM(S5:S41)","v":{"v":0,"d":"0.00"}},{"$f":"SUM(T5:T41)","v":{"v":0,"d":"0.00"}},{"$f":"SUM(U5:U41)","v":{"v":0,"d":"0.00"}},{"$f":"SUM(V5:V41)","v":{"v":0,"d":"0.00"}},{"$f":"SUM(W5:W41)","v":{"v":0,"d":"0.00"}},{"$f":"SUM(Y5:Y41)","v":{"v":0,"d":"0.00"}},null,{"$f":"SUM(Z5:Z41)","v":{"v":0,"d":"0.00"}},{"$f":"SUM(AA5:AA41)","v":{"v":0,"d":"0.00"}},{"$f":"SUM(AB5:AB41)","v":{"v":0,"d":"0.00"}},{"$f":"SUM(AC5:AC41)","v":{"v":0,"d":"0.00"}},{"$f":"SUM(AD5:AD41)","v":{"v":0,"d":"0.00"}},{"$f":"SUM(AE5:AE41)","v":{"v":0,"d":"0.00"}},{"$f":"SUM(AG5:AG41)","v":{"v":0,"d":"0.00"}},null,{"$f":"SUM(AH5:AH41)","v":{"v":0,"d":"0.00"}},{"$f":"SUM(AI5:AI41)","v":{"v":0,"d":"0.00"}},{"$f":"SUM(AJ5:AJ41)","v":{"v":0,"d":"0.00"}},{"$f":"SUM(AK5:AK41)","v":{"v":0,"d":"0.00"}},{"$f":"SUM(AL5:AL41)","v":{"v":0,"d":"0.00"}},{"$f":"SUM(AM5:AM41)","v":{"v":0,"d":"0.00"}},{"$f":"SUM(AO5:AO41)","v":{"v":0,"d":"0.00"}},null,{"$f":"SUM(AP5:AP41)","v":{"v":0,"d":"0.00"}},{"$f":"SUM(AQ5:AQ41)","v":{"v":0,"d":"0.00"}},{"$f":"SUM(AR5:AR41)","v":{"v":0,"d":"0.00"}},{"$f":"SUM(AS5:AS41)","v":{"v":0,"d":"0.00"}},{"$f":"SUM(AT5:AT41)","v":{"v":0,"d":"0.00"}},{"$f":"SUM(AU5:AU41)","v":{"v":0,"d":"0.00"}},{"$f":"SUM(AW5:AW41)","v":{"v":0,"d":"0.00"}},null,{"$f":"SUM(AX5:AX41)","v":{"v":0,"d":"0.00"}},{"$f":"SUM(AY5:AY41)","v":{"v":0,"d":"0.00"}},{"$f":"SUM(AZ5:AZ41)","v":{"v":0,"d":"0.00"}},{"$f":"SUM(BA5:BA41)","v":{"v":0,"d":"0.00"}},{"$f":"SUM(BB5:BB41)","v":{"v":0,"d":"0.00"}},{"$f":"SUM(BC5:BC41)","v":{"v":0,"d":"0.00"}},{"$f":"SUM(BE5:BE41)","v":{"v":0,"d":"0.00"}},null,{"$f":"SUM(BF5:BF41)","v":{"v":0,"d":"0.00"}},{"$f":"SUM(BG5:BG41)","v":{"v":0,"d":"0.00"}},{"$f":"SUM(BH5:BH41)","v":{"v":0,"d":"0.00"}},{"$f":"SUM(BI5:BI41)","v":{"v":0,"d":"0.00"}},{"$f":"SUM(BJ5:BJ41)","v":{"v":0,"d":"0.00"}},{"$f":"SUM(BK5:BK41)","v":{"v":0,"d":"0.00"}},{"$f":"SUM(BM5:BM41)","v":{"v":0,"d":"0.00"}},null,{"$f":"SUM(BN5:BN41)","v":{"v":0,"d":"0.00"}},{"$f":"SUM(BO5:BO41)","v":{"v":0,"d":"0.00"}},{"$f":"SUM(BP5:BP41)","v":{"v":0,"d":"0.00"}},{"$f":"SUM(BQ5:BQ41)","v":{"v":0,"d":"0.00"}},{"$f":"SUM(BR5:BR41)","v":{"v":0,"d":"0.00"}},{"$f":"SUM(BS5:BS41)","v":{"v":0,"d":"0.00"}},{"$f":"SUM(BU5:BU41)","v":{"v":0,"d":"0.00"}},null,{"$f":"SUM(BV5:BV41)","v":{"v":0,"d":"0.00"}},{"$f":"SUM(BW5:BW41)","v":{"v":0,"d":"0.00"}},{"$f":"SUM(BX5:BX41)","v":{"v":0,"d":"0.00"}},{"$f":"SUM(BY5:BY41)","v":{"v":0,"d":"0.00"}},{"$f":"SUM(BZ5:BZ41)","v":{"v":0,"d":"0.00"}},{"$f":"SUM(CA5:CA41)","v":{"v":0,"d":"0.00"}},{"$f":"SUM(CC5:CC41)","v":{"v":0,"d":"0.00"}},null,{"$f":"SUM(CD5:CD41)","v":{"v":0,"d":"0.00"}},{"$f":"SUM(CE5:CE41)","v":{"v":0,"d":"0.00"}},{"$f":"SUM(CF5:CF41)","v":{"v":0,"d":"0.00"}},{"$f":"SUM(CG5:CG41)","v":{"v":0,"d":"0.00"}},{"$f":"SUM(CH5:CH41)","v":{"v":0,"d":"0.00"}},{"$f":"SUM(CI5:CI41)","v":{"v":0,"d":"0.00"}},{"$f":"SUM(CK5:CK41)","v":{"v":0,"d":"0.00"}},null,{"$f":"SUM(CL5:CL41)","v":0},{"$f":"SUM(CM5:CM41)","v":0},{"$f":"SUM(CN5:CN41)","v":0},{"$f":"SUM(CO5:CO41)","v":0},{"$f":"SUM(CP5:CP41)","v":0},{"$f":"SUM(CQ5:CQ41)","v":0}]
[{"$nulls":23},{"$f":"A5","v":"2009-03-09"},{"$nulls":7},{"$f":"X43+1","v":"2009-03-10"},{"$nulls":7},{"$f":"AF43+1","v":"2009-03-11"},{"$nulls":7},{"$f":"AN43+1","v":"2009-03-12"},{"$nulls":7},{"$f":"AV43+1","v":"2009-03-13"}]
[{"$f":"'Week 5'!$A44","v":"T1"},null,null,{"$f":"'Week 5'!$D44","v":"Task 1"},{"$nulls":19},{"$f":"J42","v":0},{"$nulls":7},{"$f":"K42","v":0},{"$nulls":7},{"$f":"L42","v":0},{"$nulls":7},{"$f":"M42","v":0},{"$nulls":7},{"$f":"N42","v":0},{"$nulls":7},{"$f":"O42","v":0},{"$nulls":15},{"$f":"H42","v":0}]
[{"$f":"'Week 5'!$A45","v":2},null,null,{"$f":"'Week 5'!$D45","v":"2"},{"$nulls":19},{"$f":"R42","v":0},{"$nulls":7},{"$f":"S42","v":0},{"$nulls":7},{"$f":"T42","v":0},{"$nulls":7},{"$f":"U42","v":0},{"$nulls":7},{"$f":"V42","v":0},{"$nulls":7},{"$f":"W42","v":0},{"$nulls":15},{"$f":"P42","v":0}]
[{"$f":"'Week 5'!$A46","v":3},null,null,{"$f":"'Week 5'!$D46","v":"3"},{"$nulls":19},{"$f":"Z42","v":0},{"$nulls":7},{"$f":"AA42","v":0},{"$nulls":7},{"$f":"AB42","v":0},{"$nulls":7},{"$f":"AC42","v":0},{"$nulls":7},{"$f":"AD42","v":0},{"$nulls":7},{"$f":"AE42","v":0},{"$nulls":15},{"$f":"X42","v":0}]
[{"$f":"'Week 5'!$A47","v":4},null,null,{"$f":"'Week 5'!$D47","v":"4"},{"$nulls":19},{"$f":"AH42","v":0},{"$nulls":7},{"$f":"AI42","v":0},{"$nulls":7},{"$f":"AJ42","v":0},{"$nulls":7},{"$f":"AK42","v":0},{"$nulls":7},{"$f":"AL42","v":0},{"$nulls":7},{"$f":"AM42","v":0},{"$nulls":15},{"$f":"AF42","v":0}]
[{"$f":"'Week 5'!$A48","v":5},null,null,{"$f":"'Week 5'!$D48","v":"5"},{"$nulls":19},{"$f":"AP42","v":0},{"$nulls":7},{"$f":"AQ42","v":0},{"$nulls":7},{"$f":"AR42","v":0},{"$nulls":7},{"$f":"AS42","v":0},{"$nulls":7},{"$f":"AT42","v":0},{"$nulls":7},{"$f":"AU42","v":0},{"$nulls":15},{"$f":"AN42","v":0}]
[{"$f":"'Week 5'!$A49","v":6},null,null,{"$f":"'Week 5'!$D49","v":"6"},{"$nulls":19},{"$f":"AX42","v":0},{"$nulls":7},{"$f":"AY42","v":0},{"$nulls":7},{"$f":"AZ42","v":0},{"$nulls":7},{"$f":"BA42","v":0},{"$nulls":7},{"$f":"BB42","v":0},{"$nulls":7},{"$f":"BC42","v":0},{"$nulls":15},{"$f":"AV42","v":0}]
[{"$f":"'Week 5'!$A50","v":7},null,null,{"$f":"'Week 5'!$D50","v":7},{"$nulls":19},{"$f":"BF42","v":0},{"$nulls":7},{"$f":"BG42","v":0},{"$nulls":7},{"$f":"BH42","v":0},{"$nulls":7},{"$f":"BI42","v":0},{"$nulls":7},{"$f":"BJ42","v":0},{"$nulls":7},{"$f":"BK42","v":0},{"$nulls":15},{"$f":"BD42","v":0}]
[{"$f":"'Week 5'!$A51","v":8},null,null,{"$f":"'Week 5'!$D51","v":8},{"$nulls":19},{"$f":"BN42","v":0},{"$nulls":7},{"$f":"BO42","v":0},{"$nulls":7},{"$f":"BP42","v":0},{"$nulls":7},{"$f":"BQ42","v":0},{"$nulls":7},{"$f":"BR42","v":0},{"$nulls":7},{"$f":"BS42","v":0},{"$nulls":15},{"$f":"BL42","v":0}]
[{"$f":"'Week 5'!$A52","v":9},null,null,{"$f":"'Week 5'!$D52","v":9},{"$nulls":19},{"$f":"BV42","v":0},{"$nulls":7},{"$f":"BW42","v":0},{"$nulls":7},{"$f":"BX42","v":0},{"$nulls":7},{"$f":"BY42","v":0},{"$nulls":7},{"$f":"BZ42","v":0},{"$nulls":7},{"$f":"CA42","v":0},{"$nulls":15},{"$f":"BT42","v":0}]
[{"$f":"'Week 5'!$A53","v":10},null,null,{"$f":"'Week 5'!$D53","v":10},{"$nulls":19},{"$f":"CD42","v":0},{"$nulls":7},{"$f":"CE42","v":0},{"$nulls":7},{"$f":"CF42","v":0},{"$nulls":7},{"$f":"CG42","v":0},{"$nulls":7},{"$f":"CH42","v":0},{"$nulls":7},{"$f":"CI42","v":0},{"$nulls":15},{"$f":"CB42","v":0}]
[{"$f":"'Week 5'!$A54","v":11},null,null,{"$f":"'Week 5'!$D54","v":11},{"$nulls":19},{"$f":"CL42","v":0},{"$nulls":7},{"$f":"CM42","v":0},{"$nulls":7},{"$f":"CN42","v":0},{"$nulls":7},{"$f":"CO42","v":0},{"$nulls":7},{"$f":"CP42","v":0},{"$nulls":7},{"$f":"CQ42","v":0},{"$nulls":15},{"$f":"CJ42","v":0}]
["Totals",{"$nulls":22},{"$f":"SUM(X44:X54)","v":0},{"$nulls":7},{"$f":"SUM(AF44:AF54)","v":0},{"$nulls":7},{"$f":"SUM(AN44:AN54)","v":0},{"$nulls":7},{"$f":"SUM(AV44:AV54)","v":0},{"$nulls":7},{"$f":"SUM(BD44:BD54)","v":0},{"$nulls":23},{"$f":"SUM(CB44:CB54)","v":0}]